Workbook

Sheet Totaal blad
A1: Annex 7.1 Aanbiedingsbegroting
A3: Naam gegadigde
A4: Datum
A6: Tabblad 1, totaal ten behoeve van bepalen meest economisch aanbieding (prijs)
A7: Tabblad 2, prijzen voor de eerste 5 jaar
A8: Tabblad 3, prijzen voor de 3 optie jaren
A10: - Alle GROENE cellen dienen door inschrijver te worden ingevuld;
A11: - Deze aanbiedingsbegroting dient rechtsgeldig te worden ondertekend;
A12: - Er mogen geen negatieve bedragen en/of percentages worden ingevuld;
A13: - De door inschrijver ingevulde bedragen zijn zonder enig voorbehoud opgegeven;
A14: - De door inschrijver ingevulde bedragen zijn excl. BTW en conform de ProRail Inkoopvoorwaarden 2017 v2.3;
A15: - De opgegeven vergoeding voor de validatiekosten mogen niet hoger zijn dan 200.000 euro;
... A36: - Winst en Risico.
E38: Rekenfactor
A39: Totaal bedrag deelopdracht vast | D39: ='Categorie A'!I70 -> 0 | E39: 5 | F39: =E39*D39 -> 0
A40: Totaal bedrag deelopdracht optioneel | D40: ='Categorie B'!I72 -> 0 | E40: 3 | F40: =D40*E40 -> 0
A41: Validatiekosten confrom Annex 5 met een maximum van 200.000 Euro | E41: 1 | F41: =D41*E41 -> 0
A42: Inschrijfsom over te nemen op het inschrijfformulier | F42: =F39+F40+F41 -> 0
F43: prijspeil 2026
A45: Handtekening

Sheet Categorie A
A1: AANBIEDINGSFORMAT
A2: Contract
A3: ='Totaal blad'!B3 -> 0
A4: ='Totaal blad'!A7 -> Tabblad 2, prijzen voor de eerste 5 jaar
A6: Totaal aantal kilometers, aantal meetdagen, jaarlijks afstemmen ProRail/Gegadigde. Bij inschrijving uitgaan van de opgave zoals opgenomen in deze bladen.
A7: Opgave gegadigde, basis voor verrekening/offerte deelopdrachten.
A10: Treinmetingen
A11: Actief meten in kilometers met het meetvoertuig | B11: 14022 | C11: Kilometers | D11: waarvan | E11: =B11 -> 14022 | F11: km Baan
E12: 9363 | F12: km Bovenleiding
A14: tabel 1 | D14: organisatie | E14: inzetkosten | I14: totaal
A15: Meetdagen meetvoertuig/trein | B15: totaal aantal meetdagen per jaar | D15: per meetdag | E15: per meetdag | I15: inzetkosten
A16: Meetvoertuig * | B16: 85 | I16: =D16+E16 -> 0
A17: Sub totalen | I17: =B16*I16 -> 0
A18: tabel 2 | G18: tabel 3
A19: systemen actief tijdens meetrit | G19: Uitwerken en rapporteren meetgegevens
D20: verzamelen gegevens
B21: productnummer | C21: aantal meetdagen | D21: per meetdag ** | E21: totaal prijs | G21: totaal aantal km | H21: prijs per km *** | I21: totaal prijs
A22: Bovenleiding
A23: rijdraadligging | B23: 1 | C23: =B16 -> 85 | E23: =D23*C23 -> 0 | G23: =E12 -> 9363 | I23: =H23*G23 -> 0
A24: pantograafcontact | B24: 2 | C24: 42 | E24: =D24*C24 -> 0 | G24: =E12/2 -> 4681.5 | I24: =H24*G24 -> 0
A25: rijdraad dikte | B25: 3 | C25: 42 | E25: =D25*C25 -> 0 | G25: =E12/2 -> 4681.5 | I25: =H25*G25 -> 0
A26: Baan
A27: Spoor geometrie | B27: 4 | C27: =B16 -> 85 | E27: =D27*C27 -> 0 | G27: =E11 -> 14022 | I27: =H27*G27 -> 0
A28: spoorstaaf dwarsprofiel | B28: 5 | C28: =B16 -> 85 | E28: =D28*C28 -> 0 | G28: =E11 -> 14022 | I28: =H28*G28 -> 0
A29: spoorstaaf langsprofiel | B29: 6 | C29: 85 | E29: =D29*C29 -> 0 | G29: =E11 -> 14022 | I29: =H29*G29 -> 0
A30: Spoorgeometrie Kortegolf | B30: 7 | C30: 85 | E30: =D30*C30 -> 0 | G30: =E11 -> 14022 | I30: =H30*G30 -> 0
A31: Beelden
A32: spoorstaaf oppervlakte | B32: 8 | C32: =B16 -> 85 | E32: =D32*C32 -> 0 | G32: =E11 -> 14022 | I32: =H32*G32 -> 0
A33: baan | B33: 9 | C33: 85 | E33: =D33*C33 -> 0 | G33: =E11 -> 14022 | I33: =H33*G33 -> 0
A34: bovenleiding | B34: 10 | C34: 85 | E34: =D34*C34 -> 0 | G34: =E12 -> 9363 | I34: =H34*G34 -> 0
A37: Sub totalen | E37: =SUM(E23:E34) -> 0 | I37: =SUM(I23:I34) -> 0
A38: Totaal kosten metingen | I38: =I37+E37+I17 -> 0
A39: * Meetdag/Inzet meetvoertuig, ALL-Inn prijs, inclusief meetsystemen , personeel ten behoeve van rijden meettrein, voorbereiding, plannen, brandstof, transporten e.d.
A40: ** In de tabel 'systemen actief' dient gegadigde alle kosten op te nemen die nodig zijn om gegevens te verzamelen tijdens de meetrit.
A41: *** In de tabel " Uitwerken en rapporteren meetgegevens' dient gegadigde alle kosten op te nemen die nodig zijn de gegevens vanuit de meetrit te analyseren te verwerken en te rapporteren aan ProRail.
A43: Tabel 4
A44: Prijzen per kilometer ten behoeve van afrekenen, na valide en door Prorail geaccepteerde meetdata. Voorwaarde: alle data ( activiteit 1 t/m 11) voor het betreffende spoordeel is geleverd.
B45: productnummer | H45: ten behoeve van afrekenen
A46: Bovenleiding | C46: kilometers | D46: kosten meettrein | E46: kosten meeting | F46: kosten uitwerking | G46: Totaal | H46: prijs per kilometer
C47: =SUM(C48:C59) -> 112221 | D47: =I17 -> 0 | E47: =E37 -> 0 | F47: =I37 -> 0 | G47: =SUM(D47:F47) -> 0
...

Sheet Categorie B
A1: AANBIEDINGSFORMAT
A2: Contract
A3: ='Totaal blad'!B3 -> 0
A4: ='Totaal blad'!A8 -> Tabblad 3, prijzen voor de 3 optie jaren
A6: Totaal aantal kilometers, aantal meetdagen, jaarlijks afstemmen ProRail/Gegadigde. Bij inschrijving uitgaan van de opgave zoals opgenomen in deze bladen.
A7: LET OP INGEVULDE BEDRAGEN/TARIEVEN MOGEN MAXIMAAL 50% LAGER ZIJN DAN DE GEBRUIKTE TARIEVEN IN TABBLAD A.
A8: Opgave gegadigde, basis voor verrekening/offerte deelopdrachten.
A11: Treinmetingen
A12: Actief meten in kilometers met het meetvoertuig | B12: 14022 | C12: Kilometers | D12: waarvan | E12: =B12 -> 14022 | F12: km Baan
E13: 9363 | F13: km Bovenleiding
A15: tabel 1 | D15: organisatie | E15: inzetkosten | I15: totaal
A16: Meetdagen meetvoertuig/trein | B16: totaal aantal meetdagen per jaar | D16: per meetdag | E16: per meetdag | I16: inzetkosten
A17: Meetvoertuig * | B17: 85 | I17: =D17+E17 -> 0
A18: Sub totalen | I18: =B17*I17 -> 0
A19: tabel 2 | G19: tabel 3
A20: systemen actief tijdens meetrit | G20: Uitwerken en rapporteren meetgegevens
D21: verzamelen gegevens
B22: productnummer | C22: aantal meetdagen | D22: per meetdag ** | E22: totaal prijs | G22: totaal aantal km | H22: prijs per km *** | I22: totaal prijs
A23: Bovenleiding
A24: rijdraadligging | B24: 1 | C24: =B17 -> 85 | E24: =D24*C24 -> 0 | G24: =E13 -> 9363 | I24: =H24*G24 -> 0
A25: pantograafcontact | B25: 2 | C25: 42 | E25: =D25*C25 -> 0 | G25: =E13/2 -> 4681.5 | I25: =H25*G25 -> 0
A26: rijdraad dikte | B26: 3 | C26: 42 | E26: =D26*C26 -> 0 | G26: =E13/2 -> 4681.5 | I26: =H26*G26 -> 0
A27: Baan
A28: Spoor geometrie | B28: 4 | C28: =B17 -> 85 | E28: =D28*C28 -> 0 | G28: =E12 -> 14022 | I28: =H28*G28 -> 0
A29: spoorstaaf dwarsprofiel | B29: 5 | C29: =B17 -> 85 | E29: =D29*C29 -> 0 | G29: =E12 -> 14022 | I29: =H29*G29 -> 0
A30: spoorstaaf langsprofiel | B30: 6 | C30: 85 | E30: =D30*C30 -> 0 | G30: =E12 -> 14022 | I30: =H30*G30 -> 0
A31: Spoorgeometrie Kortegolf | B31: 7 | C31: 85 | E31: =D31*C31 -> 0 | G31: =E12 -> 14022 | I31: =H31*G31 -> 0
A32: Beelden
A33: spoorstaaf oppervlakte | B33: 8 | C33: =B17 -> 85 | E33: =D33*C33 -> 0 | G33: =E12 -> 14022 | I33: =H33*G33 -> 0
A34: baan | B34: 9 | C34: 85 | E34: =D34*C34 -> 0 | G34: 7570 | I34: =H34*G34 -> 0
A35: bovenleiding | B35: 10 | C35: 85 | E35: =D35*C35 -> 0 | G35: =E13 -> 9363 | I35: =H35*G35 -> 0
A38: Sub totalen | E38: =SUM(E24:E35) -> 0 | I38: =SUM(I24:I35) -> 0
A39: Totaal kosten metingen | I39: =I38+E38+I18 -> 0
A40: * Meetdag/Inzet meetvoertuig, ALL-Inn prijs, inclusief meetsystemen , personeel ten behoeve van rijden meettrein, voorbereiding, plannen, brandstof, transporten e.d.
A41: ** In de tabel 'systemen actief' dient gegadigde alle kosten op te nemen die nodig zijn om gegevens te verzamelen tijdens de meetrit.
A42: *** In de tabel " Uitwerken en rapporteren meetgegevens' dient gegadigde alle kosten op te nemen die nodig zijn de gegevens vanuit de meetrit te analyseren te verwerken en te rapporteren aan ProRail.
A44: Tabel 4
A45: Prijzen per kilometer ten behoeve van afrekenen, na valide en door Prorail geaccepteerde meetdata. Voorwaarde: alle data ( activiteit 1 t/m 11) voor het betreffende spoordeel is geleverd.
B46: productnummer | H46: ten behoeve van afrekenen
A47: Bovenleiding | C47: kilometers | D47: kosten meettrein | E47: kosten meeting | F47: kosten uitwerking | G47: Totaal | H47: prijs per kilometer
...
