Workbook

Sheet Totaal blad
A1: Annex 7.1 Aanbiedingsbegroting
A3: Naam gegadigde
A4: Datum
A6: Tabblad 1, totaal ten behoeve van bepalen meest economisch aanbieding (prijs)
A7: Tabblad 2, prijzen voor de eerste 5 jaar
A8: Tabblad 3, prijzen voor de 3 optie jaren
A10: - Alle GROENE cellen dienen door inschrijver te worden ingevuld;
A11: - Deze aanbiedingsbegroting dient rechtsgeldig te worden ondertekend;
A12: - Er mogen geen negatieve bedragen en/of percentages worden ingevuld;
A13: - De door inschrijver ingevulde bedragen zijn zonder enig voorbehoud opgegeven;
A14: - De door inschrijver ingevulde bedragen zijn excl. BTW en conform de ProRail Inkoopvoorwaarden 2017 v2.3;
A15: - De opgegeven vergoeding voor de validatiekosten mogen niet hoger zijn dan 200.000 euro;
... A36: - Winst en Risico.
E38: Rekenfactor
A39: Totaal bedrag deelopdracht vast | D39: ='Categorie A'!I70 -> 0 | E39: 5 | F39: =E39*D39 -> 0
A40: Totaal bedrag deelopdracht optioneel | D40: ='Categorie B'!I72 -> 0 | E40: 3 | F40: =D40*E40 -> 0
A41: Validatiekosten confrom Annex 5 met een maximum van 200.000 Euro | E41: 1 | F41: =D41*E41 -> 0
A42: Inschrijfsom over te nemen op het inschrijfformulier | F42: =F39+F40+F41 -> 0
F43: prijspeil 2026
A45: Handtekening

Sheet Categorie A
A1: AANBIEDINGSFORMAT
A2: Contract
A3: ='Totaal blad'!B3 -> 0
A4: ='Totaal blad'!A7 -> Tabblad 2, prijzen voor de eerste 5 jaar
A6: Totaal aantal kilometers, aantal meetdagen, jaarlijks afstemmen ProRail/Gegadigde. Bij inschrijving uitgaan van de opgave zoals opgenomen in deze bladen.
A7: Opgave gegadigde, basis voor verrekening/offerte deelopdrachten.
A10: Treinmetingen
A11: Actief meten in kilometers met het meetvoertuig | B11: 14022 | C11: Kilometers | D11: waarvan | E11: =B11 -> 14022 | F11: km Baan
E12: 9363 | F12: km Bovenleiding
A14: tabel 1 | D14: organisatie | E14: inzetkosten | I14: totaal
A15: Meetdagen meetvoertuig/trein | B15: totaal aantal meetdagen per jaar | D15: per meetdag | E15: per meetdag | I15: inzetkosten
A16: Meetvoertuig * | B16: 85 | I16: =D16+E16 -> 0
A17: Sub totalen | I17: =B16*I16 -> 0
A18: tabel 2 | G18: tabel 3
A19: systemen actief tijdens meetrit | G19: Uitwerken en rapporteren meetgegevens
D20: verzamelen gegevens
B21: productnummer | C21: aantal meetdagen | D21: per meetdag ** | E21: totaal prijs | G21: totaal aantal km | H21: prijs per km *** | I21: totaal prijs
A22: Bovenleiding
A23: rijdraadligging | B23: 1 | C23: =B16 -> 85 | E23: =D23*C23 -> 0 | G23: =E12 -> 9363 | I23: =H23*G23 -> 0
A24: pantograafcontact | B24: 2 | C24: 42 | E24: =D24*C24 -> 0 | G24: =E12/2 -> 4681.5 | I24: =H24*G24 -> 0
A25: rijdraad dikte | B25: 3 | C25: 42 | E25: =D25*C25 -> 0 | G25: =E12/2 -> 4681.5 | I25: =H25*G25 -> 0
A26: Baan
A27: Spoor geometrie | B27: 4 | C27: =B16 -> 85 | E27: =D27*C27 -> 0 | G27: =E11 -> 14022 | I27: =H27*G27 -> 0
A28: spoorstaaf dwarsprofiel | B28: 5 | C28: =B16 -> 85 | E28: =D28*C28 -> 0 | G28: =E11 -> 14022 | I28: =H28*G28 -> 0
A29: spoorstaaf langsprofiel | B29: 6 | C29: 85 | E29: =D29*C29 -> 0 | G29: =E11 -> 14022 | I29: =H29*G29 -> 0
A30: Spoorgeometrie Kortegolf | B30: 7 | C30: 85 | E30: =D30*C30 -> 0 | G30: =E11 -> 14022 | I30: =H30*G30 -> 0
A31: Beelden
A32: spoorstaaf oppervlakte | B32: 8 | C32: =B16 -> 85 | E32: =D32*C32 -> 0 | G32: =E11 -> 14022 | I32: =H32*G32 -> 0
A33: baan | B33: 9 | C33: 85 | E33: =D33*C33 -> 0 | G33: =E11 -> 14022 | I33: =H33*G33 -> 0
A34: bovenleiding | B34: 10 | C34: 85 | E34: =D34*C34 -> 0 | G34: =E12 -> 9363 | I34: =H34*G34 -> 0
A37: Sub totalen | E37: =SUM(E23:E34) -> 0 | I37: =SUM(I23:I34) -> 0
A38: Totaal kosten metingen | I38: =I37+E37+I17 -> 0
A39: * Meetdag/Inzet meetvoertuig, ALL-Inn prijs, inclusief meetsystemen , personeel ten behoeve van rijden meettrein, voorbereiding, plannen, brandstof, transporten e.d.
A40: ** In de tabel 'systemen actief' dient gegadigde alle kosten op te nemen die nodig zijn om gegevens te verzamelen tijdens de meetrit.
A41: *** In de tabel " Uitwerken en rapporteren meetgegevens' dient gegadigde alle kosten op te nemen die nodig zijn de gegevens vanuit de meetrit te analyseren te verwerken en te rapporteren aan ProRail.
A43: Tabel 4
A44: Prijzen per kilometer ten behoeve van afrekenen, na valide en door Prorail geaccepteerde meetdata. Voorwaarde: alle data ( activiteit 1 t/m 11) voor het betreffende spoordeel is geleverd.
B45: productnummer | H45: ten behoeve van afrekenen
A46: Bovenleiding | C46: kilometers | D46: kosten meettrein | E46: kosten meeting | F46: kosten uitwerking | G46: Totaal | H46: prijs per kilometer
C47: =SUM(C48:C59) -> 112221 | D47: =I17 -> 0 | E47: =E37 -> 0 | F47: =I37 -> 0 | G47: =SUM(D47:F47) -> 0
A48: rijdraadligging | B48: 1 | C48: =G23 -> 9363 | D48: =($D$47/$C$47)*C48 -> 0 | E48: =E23 -> 0 | F48: =I23 -> 0 | G48: =SUM(D48:F48) -> 0 | H48: =G48/C48 -> 0
A49: pantograafcontact | B49: 2 | C49: =G24 -> 4681.5 | D49: =($D$47/$C$47)*C49 -> 0 | E49: =E24 -> 0 | F49: =I24 -> 0 | G49: =SUM(D49:F49) -> 0 | H49: =G49/C49 -> 0
A50: rijdraad dikte | B50: 3 | C50: =G25 -> 4681.5 | D50: =($D$47/$C$47)*C50 -> 0 | E50: =E25 -> 0 | F50: =I25 -> 0 | G50: =SUM(D50:F50) -> 0 | H50: =G50/C50 -> 0
A51: Baan
A52: Spoor geometrie | B52: 4 | C52: =G27 -> 14022 | D52: =($D$47/$C$47)*C52 -> 0 | E52: =E27 -> 0 | F52: =I27 -> 0 | G52: =SUM(D52:F52) -> 0 | H52: =G52/C52 -> 0
A53: spoorstaaf dwarsprofiel | B53: 5 | C53: =G28 -> 14022 | D53: =($D$47/$C$47)*C53 -> 0 | E53: =E28 -> 0 | F53: =I28 -> 0 | G53: =SUM(D53:F53) -> 0 | H53: =G53/C53 -> 0
A54: spoorstaaf langsprofiel | B54: 6 | C54: =G29 -> 14022 | D54: =($D$47/$C$47)*C54 -> 0 | E54: =E29 -> 0 | F54: =I29 -> 0 | G54: =SUM(D54:F54) -> 0 | H54: =G54/C54 -> 0
A55: Spoorgeometrie Korte golf | B55: 7 | C55: =G29 -> 14022 | D55: =($D$47/$C$47)*C55 -> 0 | E55: =E30 -> 0 | F55: =I30 -> 0 | G55: =SUM(D55:F55) -> 0 | H55: =G55/C55 -> 0
A56: Beelden
A57: spoorstaaf oppervlakte | B57: 8 | C57: =G32 -> 14022 | D57: =($D$47/$C$47)*C57 -> 0 | E57: =E32 -> 0 | F57: =I32 -> 0 | G57: =SUM(D57:F57) -> 0 | H57: =G57/C57 -> 0
A58: baan | B58: 9 | C58: =G33 -> 14022 | D58: =($D$47/$C$47)*C58 -> 0 | E58: =E33 -> 0 | F58: =I33 -> 0 | G58: =SUM(D58:F58) -> 0 | H58: =G58/C58 -> 0
A59: bovenleiding | B59: 10 | C59: =G34 -> 9363 | D59: =($D$47/$C$47)*C59 -> 0 | E59: =E34 -> 0 | F59: =I34 -> 0 | G59: =SUM(D59:F59) -> 0 | H59: =G59/C59 -> 0
A62: Ondersteuning
A63: tabel 5
G64: aantal uren | H64: tarief | I64: totaal prijs
A65: Ondersteuning op afroep confrom annex 10 (minimum tarief € 80,00 / maximum tarief € 140,00) | G65: 250 | I65: =H65*G65 -> 0
A66: Totaal kosten ondersteuning | I66: =SUM(I65:I65) -> 0
E70: Totaal bedrag deelopdracht Categorie A | I70: =I38+I66 -> 0
E71: Alle bedragen ALL-INN, directe kosten indirecte kosten AK/WR, exclusief BTW
B74: *

Sheet Categorie B
A1: AANBIEDINGSFORMAT
A2: Contract
A3: ='Totaal blad'!B3 -> 0
A4: ='Totaal blad'!A8 -> Tabblad 3, prijzen voor de 3 optie jaren
A6: Totaal aantal kilometers, aantal meetdagen, jaarlijks afstemmen ProRail/Gegadigde. Bij inschrijving uitgaan van de opgave zoals opgenomen in deze bladen.
A7: LET OP INGEVULDE BEDRAGEN/TARIEVEN MOGEN MAXIMAAL 50% LAGER ZIJN DAN DE GEBRUIKTE TARIEVEN IN TABBLAD A.
A8: Opgave gegadigde, basis voor verrekening/offerte deelopdrachten.
A11: Treinmetingen
A12: Actief meten in kilometers met het meetvoertuig | B12: 14022 | C12: Kilometers | D12: waarvan | E12: =B12 -> 14022 | F12: km Baan
E13: 9363 | F13: km Bovenleiding
A15: tabel 1 | D15: organisatie | E15: inzetkosten | I15: totaal
A16: Meetdagen meetvoertuig/trein | B16: totaal aantal meetdagen per jaar | D16: per meetdag | E16: per meetdag | I16: inzetkosten
A17: Meetvoertuig * | B17: 85 | I17: =D17+E17 -> 0
A18: Sub totalen | I18: =B17*I17 -> 0
A19: tabel 2 | G19: tabel 3
A20: systemen actief tijdens meetrit | G20: Uitwerken en rapporteren meetgegevens
D21: verzamelen gegevens
B22: productnummer | C22: aantal meetdagen | D22: per meetdag ** | E22: totaal prijs | G22: totaal aantal km | H22: prijs per km *** | I22: totaal prijs
A23: Bovenleiding
A24: rijdraadligging | B24: 1 | C24: =B17 -> 85 | E24: =D24*C24 -> 0 | G24: =E13 -> 9363 | I24: =H24*G24 -> 0
A25: pantograafcontact | B25: 2 | C25: 42 | E25: =D25*C25 -> 0 | G25: =E13/2 -> 4681.5 | I25: =H25*G25 -> 0
A26: rijdraad dikte | B26: 3 | C26: 42 | E26: =D26*C26 -> 0 | G26: =E13/2 -> 4681.5 | I26: =H26*G26 -> 0
A27: Baan
A28: Spoor geometrie | B28: 4 | C28: =B17 -> 85 | E28: =D28*C28 -> 0 | G28: =E12 -> 14022 | I28: =H28*G28 -> 0
A29: spoorstaaf dwarsprofiel | B29: 5 | C29: =B17 -> 85 | E29: =D29*C29 -> 0 | G29: =E12 -> 14022 | I29: =H29*G29 -> 0
A30: spoorstaaf langsprofiel | B30: 6 | C30: 85 | E30: =D30*C30 -> 0 | G30: =E12 -> 14022 | I30: =H30*G30 -> 0
A31: Spoorgeometrie Kortegolf | B31: 7 | C31: 85 | E31: =D31*C31 -> 0 | G31: =E12 -> 14022 | I31: =H31*G31 -> 0
A32: Beelden
A33: spoorstaaf oppervlakte | B33: 8 | C33: =B17 -> 85 | E33: =D33*C33 -> 0 | G33: =E12 -> 14022 | I33: =H33*G33 -> 0
A34: baan | B34: 9 | C34: 85 | E34: =D34*C34 -> 0 | G34: 7570 | I34: =H34*G34 -> 0
A35: bovenleiding | B35: 10 | C35: 85 | E35: =D35*C35 -> 0 | G35: =E13 -> 9363 | I35: =H35*G35 -> 0
A38: Sub totalen | E38: =SUM(E24:E35) -> 0 | I38: =SUM(I24:I35) -> 0
A39: Totaal kosten metingen | I39: =I38+E38+I18 -> 0
A40: * Meetdag/Inzet meetvoertuig, ALL-Inn prijs, inclusief meetsystemen , personeel ten behoeve van rijden meettrein, voorbereiding, plannen, brandstof, transporten e.d.
A41: ** In de tabel 'systemen actief' dient gegadigde alle kosten op te nemen die nodig zijn om gegevens te verzamelen tijdens de meetrit.
A42: *** In de tabel " Uitwerken en rapporteren meetgegevens' dient gegadigde alle kosten op te nemen die nodig zijn de gegevens vanuit de meetrit te analyseren te verwerken en te rapporteren aan ProRail.
A44: Tabel 4
A45: Prijzen per kilometer ten behoeve van afrekenen, na valide en door Prorail geaccepteerde meetdata. Voorwaarde: alle data ( activiteit 1 t/m 11) voor het betreffende spoordeel is geleverd.
B46: productnummer | H46: ten behoeve van afrekenen
A47: Bovenleiding | C47: kilometers | D47: kosten meettrein | E47: kosten meeting | F47: kosten uitwerking | G47: Totaal | H47: prijs per kilometer
C48: =SUM(C49:C60) -> 105769 | D48: =I18 -> 0 | E48: =E38 -> 0 | F48: =I38 -> 0 | G48: =SUM(D48:F48) -> 0
A49: rijdraadligging | B49: 1 | C49: =G24 -> 9363 | D49: =($D$48/$C$48)*C49 -> 0 | E49: =E24 -> 0 | F49: =I24 -> 0 | G49: =SUM(D49:F49) -> 0 | H49: =G49/C49 -> 0
A50: pantograafcontact | B50: 2 | C50: =G25 -> 4681.5 | D50: =($D$48/$C$48)*C50 -> 0 | E50: =E25 -> 0 | F50: =I25 -> 0 | G50: =SUM(D50:F50) -> 0 | H50: =G50/C50 -> 0
A51: rijdraad dikte | B51: 3 | C51: =G26 -> 4681.5 | D51: =($D$48/$C$48)*C51 -> 0 | E51: =E26 -> 0 | F51: =I26 -> 0 | G51: =SUM(D51:F51) -> 0 | H51: =G51/C51 -> 0
A52: Baan
A53: Spoor geometrie | B53: 4 | C53: =G28 -> 14022 | D53: =($D$48/$C$48)*C53 -> 0 | E53: =E28 -> 0 | F53: =I28 -> 0 | G53: =SUM(D53:F53) -> 0 | H53: =G53/C53 -> 0
A54: spoorstaaf dwarsprofiel | B54: 5 | C54: =G29 -> 14022 | D54: =($D$48/$C$48)*C54 -> 0 | E54: =E29 -> 0 | F54: =I29 -> 0 | G54: =SUM(D54:F54) -> 0 | H54: =G54/C54 -> 0
A55: spoorstaaf langsprofiel | B55: 6 | C55: =G30 -> 14022 | D55: =($D$48/$C$48)*C55 -> 0 | E55: =E30 -> 0 | F55: =I30 -> 0 | G55: =SUM(D55:F55) -> 0 | H55: =G55/C55 -> 0
A56: Spoorgeometrie Korte golf | B56: 7 | C56: =G30 -> 14022 | D56: =($D$48/$C$48)*C56 -> 0 | E56: =E31 -> 0 | F56: =I31 -> 0 | G56: =SUM(D56:F56) -> 0 | H56: =G56/C56 -> 0
A57: Beelden
A58: spoorstaaf oppervlakte | B58: 8 | C58: =G33 -> 14022 | D58: =($D$48/$C$48)*C58 -> 0 | E58: =E33 -> 0 | F58: =I33 -> 0 | G58: =SUM(D58:F58) -> 0 | H58: =G58/C58 -> 0
A59: baan | B59: 9 | C59: =G34 -> 7570 | D59: =($D$48/$C$48)*C59 -> 0 | E59: =E34 -> 0 | F59: =I34 -> 0 | G59: =SUM(D59:F59) -> 0 | H59: =G59/C59 -> 0
A60: bovenleiding | B60: 10 | C60: =G35 -> 9363 | D60: =($D$48/$C$48)*C60 -> 0 | E60: =E35 -> 0 | F60: =I35 -> 0 | G60: =SUM(D60:F60) -> 0 | H60: =G60/C60 -> 0
A63: Ondersteuning
A64: tabel 5
G65: aantal uren | H65: tarief | I65: totaal prijs
A66: Ondersteuning op afroep confrom annex 10 (minimum tarief € 80,00 / maximum tarief € 140,00) | G66: 250 | I66: =H66*G66 -> 0
A67: Totaal kosten ondersteuning | I67: =SUM(I66:I66) -> 0
E72: Totaal bedrag deelopdracht Categorie B | I72: =I39+I67 -> 0
E73: Alle bedragen ALL-INN, directe kosten indirecte kosten AK/WR, exclusief BTW
B76: *
