Workbook
Name SCORE: 'OPEN VRAGEN'!$C$1:$C$6

Sheet OPEN VRAGEN
A1: BEANTWOORDING VAN DE OPEN VRAGEN – GUNNINGSCRITERIA KWALITEIT TC26MD | C1: SCORE
A2: Naast de gestelde eisen uit deze aanbesteding is de Aanbestedende dienst op zoek naar een Opdrachtnemer, of beter een partner, die haar gedurende de periode van de Raamovereenkomst kan voorzien van veel toegevoegde waarde en advies. Hoe meer toegevoegde waarde een Inschrijver biedt, ten opzichte van wat er al vereist is, hoe hoger zij op dit onderdeel kwaliteit scoort. De waarden per score volgen uit bijlage 9 en worden bij gunnen op waarde in mindering gebracht op de inschrijfprijs. | C2: Uitmuntend
C3: Goed
A4: Gunningscriterium 1: Casus LLO – Inrichten van het offerte- en calculatieproces | C4: Voldoende
A5: Vraag 1.1: Procesinrichting | C5: Matig
A6: Zie bijlage 7 Gunningscriteria kwaliteit. | C6: Onvoldoende
A7: Vraag 1.2: Koppelingen en datastromen
A8: Zie bijlage 7 Gunningscriteria kwaliteit.
A9: Vraag 1.3: Schaalbaarheid, beheer en toekomstbestendigheid
A10: Zie bijlage 7 Gunningscriteria kwaliteit.
A11: Gunningscriterium 2: Borging van adoptie & duurzaam gebruik van de oplossing
A12: Vraag 2.1: Adoptiestrategie van Inschrijver
A13: Zie bijlage 7 Gunningscriteria kwaliteit.
A14: Vraag 2.2: Trainingsaanpak voor gebruikers én functioneel beheerders
A15: Zie bijlage 7 Gunningscriteria kwaliteit.
A16: Vraag 2.3: Borging zelfstandigheid beheerorganisatie
A17: Zie bijlage 7 Gunningscriteria kwaliteit.
A18: Vraag 2.4: Monitoring & continu verbeteren
... A49: Onvoldoende (1)

Sheet Beoordelaar 1
A1: Beoordelaar 1 – Projectleider | C1: INSCHRIJVER 1 | F1: INSCHRIJVER 2 | I1: INSCHRIJVER 3
A2: ='OPEN VRAGEN'!A4 -> Gunningscriterium 1: Casus LLO – Inrichten van het offerte- en calculatieproces
A3: ='OPEN VRAGEN'!A5 -> Vraag 1.1: Procesinrichting | C3: SCORE | F3: SCORE | I3: SCORE
A4: ='OPEN VRAGEN'!A6 -> Zie bijlage 7 Gunningscriteria kwaliteit. | C4: <MOTIVATIE> | F4: <MOTIVATIE> | I4: <MOTIVATIE>
A5: ='OPEN VRAGEN'!A7 -> Vraag 1.2: Koppelingen en datastromen | C5: SCORE | F5: SCORE | I5: SCORE
A6: ='OPEN VRAGEN'!A8 -> Zie bijlage 7 Gunningscriteria kwaliteit. | C6: <MOTIVATIE> | F6: <MOTIVATIE> | I6: <MOTIVATIE>
A7: ='OPEN VRAGEN'!A9 -> Vraag 1.3: Schaalbaarheid, beheer en toekomstbestendigheid | C7: SCORE | F7: SCORE | I7: SCORE
A8: ='OPEN VRAGEN'!A10 -> Zie bijlage 7 Gunningscriteria kwaliteit. | C8: <MOTIVATIE> | F8: <MOTIVATIE> | I8: <MOTIVATIE>
A9: ='OPEN VRAGEN'!A11 -> Gunningscriterium 2: Borging van adoptie & duurzaam gebruik van de oplossing
A10: ='OPEN VRAGEN'!A12 -> Vraag 2.1: Adoptiestrategie van Inschrijver | C10: SCORE | F10: SCORE | I10: SCORE
A11: ='OPEN VRAGEN'!A13 -> Zie bijlage 7 Gunningscriteria kwaliteit. | C11: <MOTIVATIE> | F11: <MOTIVATIE> | I11: <MOTIVATIE>
A12: ='OPEN VRAGEN'!A14 -> Vraag 2.2: Trainingsaanpak voor gebruikers én functioneel beheerders | C12: SCORE | F12: SCORE | I12: SCORE
A13: ='OPEN VRAGEN'!A15 -> Zie bijlage 7 Gunningscriteria kwaliteit. | C13: <MOTIVATIE> | F13: <MOTIVATIE> | I13: <MOTIVATIE>
A14: ='OPEN VRAGEN'!A16 -> Vraag 2.3: Borging zelfstandigheid beheerorganisatie | C14: SCORE | F14: SCORE | I14: SCORE
A15: ='OPEN VRAGEN'!A17 -> Zie bijlage 7 Gunningscriteria kwaliteit. | C15: <MOTIVATIE> | F15: <MOTIVATIE> | I15: <MOTIVATIE>
A16: ='OPEN VRAGEN'!A18 -> Vraag 2.4: Monitoring & continu verbeteren | C16: SCORE | F16: SCORE | I16: SCORE
A17: ='OPEN VRAGEN'!A19 -> Zie bijlage 7 Gunningscriteria kwaliteit. | C17: <MOTIVATIE> | F17: <MOTIVATIE> | I17: <MOTIVATIE>
A18: ='OPEN VRAGEN'!A20 -> Gunningscriterium 3: Casus: Ontwikkeling dashboards en rapportages
A19: ='OPEN VRAGEN'!A21 -> Vraag 3.1: Gefaseerde aanpak | C19: n.v.t. | F19: n.v.t. | I19: n.v.t.
A20: ='OPEN VRAGEN'!A22 -> Zie bijlage 7 Gunningscriteria kwaliteit. | C20: Deze rol beoordeelt dit gunningscriterium niet (§ 5.3 aanbestedingsdocument). | F20: Deze rol beoordeelt dit gunningscriterium niet (§ 5.3 aanbestedingsdocument). | I20: Deze rol beoordeelt dit gunningscriterium niet (§ 5.3 aanbestedingsdocument).
A21: ='OPEN VRAGEN'!A23 -> Vraag 3.2: Ontwerpkeuzes op hoofdlijnen | C21: n.v.t. | F21: n.v.t. | I21: n.v.t.
A22: ='OPEN VRAGEN'!A24 -> Zie bijlage 7 Gunningscriteria kwaliteit. | C22: Deze rol beoordeelt dit gunningscriterium niet (§ 5.3 aanbestedingsdocument). | F22: Deze rol beoordeelt dit gunningscriterium niet (§ 5.3 aanbestedingsdocument). | I22: Deze rol beoordeelt dit gunningscriterium niet (§ 5.3 aanbestedingsdocument).
A23: ='OPEN VRAGEN'!A25 -> Vraag 3.3: Vertrouwen in cijfers | C23: n.v.t. | F23: n.v.t. | I23: n.v.t.
A24: ='OPEN VRAGEN'!A26 -> Zie bijlage 7 Gunningscriteria kwaliteit. | C24: Deze rol beoordeelt dit gunningscriterium niet (§ 5.3 aanbestedingsdocument). | F24: Deze rol beoordeelt dit gunningscriterium niet (§ 5.3 aanbestedingsdocument). | I24: Deze rol beoordeelt dit gunningscriterium niet (§ 5.3 aanbestedingsdocument).
A25: ='OPEN VRAGEN'!A27 -> Vraag 3.4: Samenwerking en overdraagbaarheid | C25: n.v.t. | F25: n.v.t. | I25: n.v.t.
A26: ='OPEN VRAGEN'!A28 -> Zie bijlage 7 Gunningscriteria kwaliteit. | C26: Deze rol beoordeelt dit gunningscriterium niet (§ 5.3 aanbestedingsdocument). | F26: Deze rol beoordeelt dit gunningscriterium niet (§ 5.3 aanbestedingsdocument). | I26: Deze rol beoordeelt dit gunningscriterium niet (§ 5.3 aanbestedingsdocument).
A27: ='OPEN VRAGEN'!A29 -> Vraag 3.5: Proactieve advieswaarde en ondersteuning van datagedreven werken | C27: n.v.t. | F27: n.v.t. | I27: n.v.t.
A28: ='OPEN VRAGEN'!A30 -> Zie bijlage 7 Gunningscriteria kwaliteit. | C28: Deze rol beoordeelt dit gunningscriterium niet (§ 5.3 aanbestedingsdocument). | F28: Deze rol beoordeelt dit gunningscriterium niet (§ 5.3 aanbestedingsdocument). | I28: Deze rol beoordeelt dit gunningscriterium niet (§ 5.3 aanbestedingsdocument).
A29: ='OPEN VRAGEN'!A31 -> Gunningscriterium 4: Teamsamenstelling, continuïteit en samenwerking
A30: ='OPEN VRAGEN'!A32 -> Vraag 4.1: Teamsamenstelling, inzetbaarheid en capaciteit | C30: SCORE | F30: SCORE | I30: SCORE
A31: ='OPEN VRAGEN'!A33 -> Zie bijlage 7 Gunningscriteria kwaliteit. | C31: <MOTIVATIE> | F31: <MOTIVATIE> | I31: <MOTIVATIE>
A32: ='OPEN VRAGEN'!A34 -> Vraag 4.2: Afstemming en samenhang tussen projecten i.r.t. inrichting | C32: SCORE | F32: SCORE | I32: SCORE
A33: ='OPEN VRAGEN'!A35 -> Zie bijlage 7 Gunningscriteria kwaliteit. | C33: <MOTIVATIE> | F33: <MOTIVATIE> | I33: <MOTIVATIE>
A34: ='OPEN VRAGEN'!A36 -> Vraag 4.3: Ondersteuning na oplevering | C34: SCORE | F34: SCORE | I34: SCORE
A35: ='OPEN VRAGEN'!A37 -> Zie bijlage 7 Gunningscriteria kwaliteit. | C35: <MOTIVATIE> | F35: <MOTIVATIE> | I35: <MOTIVATIE>
A36: ='OPEN VRAGEN'!A38 -> Vraag 4.4: Kennisontwikkeling en kennisdeling | C36: SCORE | F36: SCORE | I36: SCORE
A37: ='OPEN VRAGEN'!A39 -> Zie bijlage 7 Gunningscriteria kwaliteit. | C37: <MOTIVATIE> | F37: <MOTIVATIE> | I37: <MOTIVATIE>
A38: ='OPEN VRAGEN'!A40 -> Gunningscriterium 5: Strategisch partnerschap
A39: ='OPEN VRAGEN'!A41 -> Vraag 5.1: Rol als strategisch partner | C39: SCORE | F39: SCORE | I39: SCORE
A40: ='OPEN VRAGEN'!A42 -> Zie bijlage 7 Gunningscriteria kwaliteit. | C40: <MOTIVATIE> | F40: <MOTIVATIE> | I40: <MOTIVATIE>

Sheet Beoordelaar 2
A1: Beoordelaar 2 – Materiedeskundige LLO, extern IV&ICT | C1: ='Beoordelaar 1'!C1 -> INSCHRIJVER 1 | F1: ='Beoordelaar 1'!F1 -> INSCHRIJVER 2 | I1: ='Beoordelaar 1'!I1 -> INSCHRIJVER 3
A2: ='OPEN VRAGEN'!A4 -> Gunningscriterium 1: Casus LLO – Inrichten van het offerte- en calculatieproces
A3: ='OPEN VRAGEN'!A5 -> Vraag 1.1: Procesinrichting | C3: SCORE | F3: SCORE | I3: SCORE
A4: ='OPEN VRAGEN'!A6 -> Zie bijlage 7 Gunningscriteria kwaliteit. | C4: <MOTIVATIE> | F4: <MOTIVATIE> | I4: <MOTIVATIE>
A5: ='OPEN VRAGEN'!A7 -> Vraag 1.2: Koppelingen en datastromen | C5: SCORE | F5: SCORE | I5: SCORE
A6: ='OPEN VRAGEN'!A8 -> Zie bijlage 7 Gunningscriteria kwaliteit. | C6: <MOTIVATIE> | F6: <MOTIVATIE> | I6: <MOTIVATIE>
A7: ='OPEN VRAGEN'!A9 -> Vraag 1.3: Schaalbaarheid, beheer en toekomstbestendigheid | C7: SCORE | F7: SCORE | I7: SCORE
A8: ='OPEN VRAGEN'!A10 -> Zie bijlage 7 Gunningscriteria kwaliteit. | C8: <MOTIVATIE> | F8: <MOTIVATIE> | I8: <MOTIVATIE>
A9: ='OPEN VRAGEN'!A11 -> Gunningscriterium 2: Borging van adoptie & duurzaam gebruik van de oplossing
A10: ='OPEN VRAGEN'!A12 -> Vraag 2.1: Adoptiestrategie van Inschrijver | C10: SCORE | F10: SCORE | I10: SCORE
A11: ='OPEN VRAGEN'!A13 -> Zie bijlage 7 Gunningscriteria kwaliteit. | C11: <MOTIVATIE> | F11: <MOTIVATIE> | I11: <MOTIVATIE>
A12: ='OPEN VRAGEN'!A14 -> Vraag 2.2: Trainingsaanpak voor gebruikers én functioneel beheerders | C12: SCORE | F12: SCORE | I12: SCORE
A13: ='OPEN VRAGEN'!A15 -> Zie bijlage 7 Gunningscriteria kwaliteit. | C13: <MOTIVATIE> | F13: <MOTIVATIE> | I13: <MOTIVATIE>
A14: ='OPEN VRAGEN'!A16 -> Vraag 2.3: Borging zelfstandigheid beheerorganisatie | C14: SCORE | F14: SCORE | I14: SCORE
A15: ='OPEN VRAGEN'!A17 -> Zie bijlage 7 Gunningscriteria kwaliteit. | C15: <MOTIVATIE> | F15: <MOTIVATIE> | I15: <MOTIVATIE>
A16: ='OPEN VRAGEN'!A18 -> Vraag 2.4: Monitoring & continu verbeteren | C16: SCORE | F16: SCORE | I16: SCORE
A17: ='OPEN VRAGEN'!A19 -> Zie bijlage 7 Gunningscriteria kwaliteit. | C17: <MOTIVATIE> | F17: <MOTIVATIE> | I17: <MOTIVATIE>
A18: ='OPEN VRAGEN'!A20 -> Gunningscriterium 3: Casus: Ontwikkeling dashboards en rapportages
A19: ='OPEN VRAGEN'!A21 -> Vraag 3.1: Gefaseerde aanpak | C19: n.v.t. | F19: n.v.t. | I19: n.v.t.
A20: ='OPEN VRAGEN'!A22 -> Zie bijlage 7 Gunningscriteria kwaliteit. | C20: Deze rol beoordeelt dit gunningscriterium niet (§ 5.3 aanbestedingsdocument). | F20: Deze rol beoordeelt dit gunningscriterium niet (§ 5.3 aanbestedingsdocument). | I20: Deze rol beoordeelt dit gunningscriterium niet (§ 5.3 aanbestedingsdocument).
A21: ='OPEN VRAGEN'!A23 -> Vraag 3.2: Ontwerpkeuzes op hoofdlijnen | C21: n.v.t. | F21: n.v.t. | I21: n.v.t.
A22: ='OPEN VRAGEN'!A24 -> Zie bijlage 7 Gunningscriteria kwaliteit. | C22: Deze rol beoordeelt dit gunningscriterium niet (§ 5.3 aanbestedingsdocument). | F22: Deze rol beoordeelt dit gunningscriterium niet (§ 5.3 aanbestedingsdocument). | I22: Deze rol beoordeelt dit gunningscriterium niet (§ 5.3 aanbestedingsdocument).
A23: ='OPEN VRAGEN'!A25 -> Vraag 3.3: Vertrouwen in cijfers | C23: n.v.t. | F23: n.v.t. | I23: n.v.t.
A24: ='OPEN VRAGEN'!A26 -> Zie bijlage 7 Gunningscriteria kwaliteit. | C24: Deze rol beoordeelt dit gunningscriterium niet (§ 5.3 aanbestedingsdocument). | F24: Deze rol beoordeelt dit gunningscriterium niet (§ 5.3 aanbestedingsdocument). | I24: Deze rol beoordeelt dit gunningscriterium niet (§ 5.3 aanbestedingsdocument).
A25: ='OPEN VRAGEN'!A27 -> Vraag 3.4: Samenwerking en overdraagbaarheid | C25: n.v.t. | F25: n.v.t. | I25: n.v.t.
A26: ='OPEN VRAGEN'!A28 -> Zie bijlage 7 Gunningscriteria kwaliteit. | C26: Deze rol beoordeelt dit gunningscriterium niet (§ 5.3 aanbestedingsdocument). | F26: Deze rol beoordeelt dit gunningscriterium niet (§ 5.3 aanbestedingsdocument). | I26: Deze rol beoordeelt dit gunningscriterium niet (§ 5.3 aanbestedingsdocument).
A27: ='OPEN VRAGEN'!A29 -> Vraag 3.5: Proactieve advieswaarde en ondersteuning van datagedreven werken | C27: n.v.t. | F27: n.v.t. | I27: n.v.t.
A28: ='OPEN VRAGEN'!A30 -> Zie bijlage 7 Gunningscriteria kwaliteit. | C28: Deze rol beoordeelt dit gunningscriterium niet (§ 5.3 aanbestedingsdocument). | F28: Deze rol beoordeelt dit gunningscriterium niet (§ 5.3 aanbestedingsdocument). | I28: Deze rol beoordeelt dit gunningscriterium niet (§ 5.3 aanbestedingsdocument).
A29: ='OPEN VRAGEN'!A31 -> Gunningscriterium 4: Teamsamenstelling, continuïteit en samenwerking
A30: ='OPEN VRAGEN'!A32 -> Vraag 4.1: Teamsamenstelling, inzetbaarheid en capaciteit | C30: SCORE | F30: SCORE | I30: SCORE
A31: ='OPEN VRAGEN'!A33 -> Zie bijlage 7 Gunningscriteria kwaliteit. | C31: <MOTIVATIE> | F31: <MOTIVATIE> | I31: <MOTIVATIE>
A32: ='OPEN VRAGEN'!A34 -> Vraag 4.2: Afstemming en samenhang tussen projecten i.r.t. inrichting | C32: SCORE | F32: SCORE | I32: SCORE
A33: ='OPEN VRAGEN'!A35 -> Zie bijlage 7 Gunningscriteria kwaliteit. | C33: <MOTIVATIE> | F33: <MOTIVATIE> | I33: <MOTIVATIE>
A34: ='OPEN VRAGEN'!A36 -> Vraag 4.3: Ondersteuning na oplevering | C34: SCORE | F34: SCORE | I34: SCORE
A35: ='OPEN VRAGEN'!A37 -> Zie bijlage 7 Gunningscriteria kwaliteit. | C35: <MOTIVATIE> | F35: <MOTIVATIE> | I35: <MOTIVATIE>
A36: ='OPEN VRAGEN'!A38 -> Vraag 4.4: Kennisontwikkeling en kennisdeling | C36: SCORE | F36: SCORE | I36: SCORE
A37: ='OPEN VRAGEN'!A39 -> Zie bijlage 7 Gunningscriteria kwaliteit. | C37: <MOTIVATIE> | F37: <MOTIVATIE> | I37: <MOTIVATIE>
A38: ='OPEN VRAGEN'!A40 -> Gunningscriterium 5: Strategisch partnerschap
A39: ='OPEN VRAGEN'!A41 -> Vraag 5.1: Rol als strategisch partner | C39: SCORE | F39: SCORE | I39: SCORE
A40: ='OPEN VRAGEN'!A42 -> Zie bijlage 7 Gunningscriteria kwaliteit. | C40: <MOTIVATIE> | F40: <MOTIVATIE> | I40: <MOTIVATIE>

Sheet Beoordelaar 3
A1: Beoordelaar 3 – Accountmanager bedrijfsopleidingen LLO, user CRM | C1: ='Beoordelaar 1'!C1 -> INSCHRIJVER 1 | F1: ='Beoordelaar 1'!F1 -> INSCHRIJVER 2 | I1: ='Beoordelaar 1'!I1 -> INSCHRIJVER 3
A2: ='OPEN VRAGEN'!A4 -> Gunningscriterium 1: Casus LLO – Inrichten van het offerte- en calculatieproces
A3: ='OPEN VRAGEN'!A5 -> Vraag 1.1: Procesinrichting | C3: SCORE | F3: SCORE | I3: SCORE
A4: ='OPEN VRAGEN'!A6 -> Zie bijlage 7 Gunningscriteria kwaliteit. | C4: <MOTIVATIE> | F4: <MOTIVATIE> | I4: <MOTIVATIE>
A5: ='OPEN VRAGEN'!A7 -> Vraag 1.2: Koppelingen en datastromen | C5: SCORE | F5: SCORE | I5: SCORE
A6: ='OPEN VRAGEN'!A8 -> Zie bijlage 7 Gunningscriteria kwaliteit. | C6: <MOTIVATIE> | F6: <MOTIVATIE> | I6: <MOTIVATIE>
A7: ='OPEN VRAGEN'!A9 -> Vraag 1.3: Schaalbaarheid, beheer en toekomstbestendigheid | C7: SCORE | F7: SCORE | I7: SCORE
A8: ='OPEN VRAGEN'!A10 -> Zie bijlage 7 Gunningscriteria kwaliteit. | C8: <MOTIVATIE> | F8: <MOTIVATIE> | I8: <MOTIVATIE>
A9: ='OPEN VRAGEN'!A11 -> Gunningscriterium 2: Borging van adoptie & duurzaam gebruik van de oplossing
A10: ='OPEN VRAGEN'!A12 -> Vraag 2.1: Adoptiestrategie van Inschrijver | C10: SCORE | F10: SCORE | I10: SCORE
A11: ='OPEN VRAGEN'!A13 -> Zie bijlage 7 Gunningscriteria kwaliteit. | C11: <MOTIVATIE> | F11: <MOTIVATIE> | I11: <MOTIVATIE>
A12: ='OPEN VRAGEN'!A14 -> Vraag 2.2: Trainingsaanpak voor gebruikers én functioneel beheerders | C12: SCORE | F12: SCORE | I12: SCORE
A13: ='OPEN VRAGEN'!A15 -> Zie bijlage 7 Gunningscriteria kwaliteit. | C13: <MOTIVATIE> | F13: <MOTIVATIE> | I13: <MOTIVATIE>
A14: ='OPEN VRAGEN'!A16 -> Vraag 2.3: Borging zelfstandigheid beheerorganisatie | C14: SCORE | F14: SCORE | I14: SCORE
A15: ='OPEN VRAGEN'!A17 -> Zie bijlage 7 Gunningscriteria kwaliteit. | C15: <MOTIVATIE> | F15: <MOTIVATIE> | I15: <MOTIVATIE>
A16: ='OPEN VRAGEN'!A18 -> Vraag 2.4: Monitoring & continu verbeteren | C16: SCORE | F16: SCORE | I16: SCORE
A17: ='OPEN VRAGEN'!A19 -> Zie bijlage 7 Gunningscriteria kwaliteit. | C17: <MOTIVATIE> | F17: <MOTIVATIE> | I17: <MOTIVATIE>
A18: ='OPEN VRAGEN'!A20 -> Gunningscriterium 3: Casus: Ontwikkeling dashboards en rapportages
A19: ='OPEN VRAGEN'!A21 -> Vraag 3.1: Gefaseerde aanpak | C19: n.v.t. | F19: n.v.t. | I19: n.v.t.
A20: ='OPEN VRAGEN'!A22 -> Zie bijlage 7 Gunningscriteria kwaliteit. | C20: Deze rol beoordeelt dit gunningscriterium niet (§ 5.3 aanbestedingsdocument). | F20: Deze rol beoordeelt dit gunningscriterium niet (§ 5.3 aanbestedingsdocument). | I20: Deze rol beoordeelt dit gunningscriterium niet (§ 5.3 aanbestedingsdocument).
A21: ='OPEN VRAGEN'!A23 -> Vraag 3.2: Ontwerpkeuzes op hoofdlijnen | C21: n.v.t. | F21: n.v.t. | I21: n.v.t.
A22: ='OPEN VRAGEN'!A24 -> Zie bijlage 7 Gunningscriteria kwaliteit. | C22: Deze rol beoordeelt dit gunningscriterium niet (§ 5.3 aanbestedingsdocument). | F22: Deze rol beoordeelt dit gunningscriterium niet (§ 5.3 aanbestedingsdocument). | I22: Deze rol beoordeelt dit gunningscriterium niet (§ 5.3 aanbestedingsdocument).
A23: ='OPEN VRAGEN'!A25 -> Vraag 3.3: Vertrouwen in cijfers | C23: n.v.t. | F23: n.v.t. | I23: n.v.t.
A24: ='OPEN VRAGEN'!A26 -> Zie bijlage 7 Gunningscriteria kwaliteit. | C24: Deze rol beoordeelt dit gunningscriterium niet (§ 5.3 aanbestedingsdocument). | F24: Deze rol beoordeelt dit gunningscriterium niet (§ 5.3 aanbestedingsdocument). | I24: Deze rol beoordeelt dit gunningscriterium niet (§ 5.3 aanbestedingsdocument).
A25: ='OPEN VRAGEN'!A27 -> Vraag 3.4: Samenwerking en overdraagbaarheid | C25: n.v.t. | F25: n.v.t. | I25: n.v.t.
A26: ='OPEN VRAGEN'!A28 -> Zie bijlage 7 Gunningscriteria kwaliteit. | C26: Deze rol beoordeelt dit gunningscriterium niet (§ 5.3 aanbestedingsdocument). | F26: Deze rol beoordeelt dit gunningscriterium niet (§ 5.3 aanbestedingsdocument). | I26: Deze rol beoordeelt dit gunningscriterium niet (§ 5.3 aanbestedingsdocument).
A27: ='OPEN VRAGEN'!A29 -> Vraag 3.5: Proactieve advieswaarde en ondersteuning van datagedreven werken | C27: n.v.t. | F27: n.v.t. | I27: n.v.t.
A28: ='OPEN VRAGEN'!A30 -> Zie bijlage 7 Gunningscriteria kwaliteit. | C28: Deze rol beoordeelt dit gunningscriterium niet (§ 5.3 aanbestedingsdocument). | F28: Deze rol beoordeelt dit gunningscriterium niet (§ 5.3 aanbestedingsdocument). | I28: Deze rol beoordeelt dit gunningscriterium niet (§ 5.3 aanbestedingsdocument).
A29: ='OPEN VRAGEN'!A31 -> Gunningscriterium 4: Teamsamenstelling, continuïteit en samenwerking
A30: ='OPEN VRAGEN'!A32 -> Vraag 4.1: Teamsamenstelling, inzetbaarheid en capaciteit | C30: SCORE | F30: SCORE | I30: SCORE
A31: ='OPEN VRAGEN'!A33 -> Zie bijlage 7 Gunningscriteria kwaliteit. | C31: <MOTIVATIE> | F31: <MOTIVATIE> | I31: <MOTIVATIE>
A32: ='OPEN VRAGEN'!A34 -> Vraag 4.2: Afstemming en samenhang tussen projecten i.r.t. inrichting | C32: SCORE | F32: SCORE | I32: SCORE
A33: ='OPEN VRAGEN'!A35 -> Zie bijlage 7 Gunningscriteria kwaliteit. | C33: <MOTIVATIE> | F33: <MOTIVATIE> | I33: <MOTIVATIE>
A34: ='OPEN VRAGEN'!A36 -> Vraag 4.3: Ondersteuning na oplevering | C34: SCORE | F34: SCORE | I34: SCORE
A35: ='OPEN VRAGEN'!A37 -> Zie bijlage 7 Gunningscriteria kwaliteit. | C35: <MOTIVATIE> | F35: <MOTIVATIE> | I35: <MOTIVATIE>
A36: ='OPEN VRAGEN'!A38 -> Vraag 4.4: Kennisontwikkeling en kennisdeling | C36: SCORE | F36: SCORE | I36: SCORE
A37: ='OPEN VRAGEN'!A39 -> Zie bijlage 7 Gunningscriteria kwaliteit. | C37: <MOTIVATIE> | F37: <MOTIVATIE> | I37: <MOTIVATIE>
A38: ='OPEN VRAGEN'!A40 -> Gunningscriterium 5: Strategisch partnerschap
A39: ='OPEN VRAGEN'!A41 -> Vraag 5.1: Rol als strategisch partner | C39: SCORE | F39: SCORE | I39: SCORE
A40: ='OPEN VRAGEN'!A42 -> Zie bijlage 7 Gunningscriteria kwaliteit. | C40: <MOTIVATIE> | F40: <MOTIVATIE> | I40: <MOTIVATIE>

Sheet Beoordelaar 4
A1: Beoordelaar 4 – Medewerker backoffice bedrijfsopleidingen / key user CRM | C1: ='Beoordelaar 1'!C1 -> INSCHRIJVER 1 | F1: ='Beoordelaar 1'!F1 -> INSCHRIJVER 2 | I1: ='Beoordelaar 1'!I1 -> INSCHRIJVER 3
A2: ='OPEN VRAGEN'!A4 -> Gunningscriterium 1: Casus LLO – Inrichten van het offerte- en calculatieproces
A3: ='OPEN VRAGEN'!A5 -> Vraag 1.1: Procesinrichting | C3: SCORE | F3: SCORE | I3: SCORE
A4: ='OPEN VRAGEN'!A6 -> Zie bijlage 7 Gunningscriteria kwaliteit. | C4: <MOTIVATIE> | F4: <MOTIVATIE> | I4: <MOTIVATIE>
A5: ='OPEN VRAGEN'!A7 -> Vraag 1.2: Koppelingen en datastromen | C5: SCORE | F5: SCORE | I5: SCORE
A6: ='OPEN VRAGEN'!A8 -> Zie bijlage 7 Gunningscriteria kwaliteit. | C6: <MOTIVATIE> | F6: <MOTIVATIE> | I6: <MOTIVATIE>
A7: ='OPEN VRAGEN'!A9 -> Vraag 1.3: Schaalbaarheid, beheer en toekomstbestendigheid | C7: SCORE | F7: SCORE | I7: SCORE
A8: ='OPEN VRAGEN'!A10 -> Zie bijlage 7 Gunningscriteria kwaliteit. | C8: <MOTIVATIE> | F8: <MOTIVATIE> | I8: <MOTIVATIE>
A9: ='OPEN VRAGEN'!A11 -> Gunningscriterium 2: Borging van adoptie & duurzaam gebruik van de oplossing
A10: ='OPEN VRAGEN'!A12 -> Vraag 2.1: Adoptiestrategie van Inschrijver | C10: SCORE | F10: SCORE | I10: SCORE
A11: ='OPEN VRAGEN'!A13 -> Zie bijlage 7 Gunningscriteria kwaliteit. | C11: <MOTIVATIE> | F11: <MOTIVATIE> | I11: <MOTIVATIE>
A12: ='OPEN VRAGEN'!A14 -> Vraag 2.2: Trainingsaanpak voor gebruikers én functioneel beheerders | C12: SCORE | F12: SCORE | I12: SCORE
A13: ='OPEN VRAGEN'!A15 -> Zie bijlage 7 Gunningscriteria kwaliteit. | C13: <MOTIVATIE> | F13: <MOTIVATIE> | I13: <MOTIVATIE>
A14: ='OPEN VRAGEN'!A16 -> Vraag 2.3: Borging zelfstandigheid beheerorganisatie | C14: SCORE | F14: SCORE | I14: SCORE
A15: ='OPEN VRAGEN'!A17 -> Zie bijlage 7 Gunningscriteria kwaliteit. | C15: <MOTIVATIE> | F15: <MOTIVATIE> | I15: <MOTIVATIE>
A16: ='OPEN VRAGEN'!A18 -> Vraag 2.4: Monitoring & continu verbeteren | C16: SCORE | F16: SCORE | I16: SCORE
A17: ='OPEN VRAGEN'!A19 -> Zie bijlage 7 Gunningscriteria kwaliteit. | C17: <MOTIVATIE> | F17: <MOTIVATIE> | I17: <MOTIVATIE>
A18: ='OPEN VRAGEN'!A20 -> Gunningscriterium 3: Casus: Ontwikkeling dashboards en rapportages
A19: ='OPEN VRAGEN'!A21 -> Vraag 3.1: Gefaseerde aanpak | C19: n.v.t. | F19: n.v.t. | I19: n.v.t.
A20: ='OPEN VRAGEN'!A22 -> Zie bijlage 7 Gunningscriteria kwaliteit. | C20: Deze rol beoordeelt dit gunningscriterium niet (§ 5.3 aanbestedingsdocument). | F20: Deze rol beoordeelt dit gunningscriterium niet (§ 5.3 aanbestedingsdocument). | I20: Deze rol beoordeelt dit gunningscriterium niet (§ 5.3 aanbestedingsdocument).
A21: ='OPEN VRAGEN'!A23 -> Vraag 3.2: Ontwerpkeuzes op hoofdlijnen | C21: n.v.t. | F21: n.v.t. | I21: n.v.t.
A22: ='OPEN VRAGEN'!A24 -> Zie bijlage 7 Gunningscriteria kwaliteit. | C22: Deze rol beoordeelt dit gunningscriterium niet (§ 5.3 aanbestedingsdocument). | F22: Deze rol beoordeelt dit gunningscriterium niet (§ 5.3 aanbestedingsdocument). | I22: Deze rol beoordeelt dit gunningscriterium niet (§ 5.3 aanbestedingsdocument).
A23: ='OPEN VRAGEN'!A25 -> Vraag 3.3: Vertrouwen in cijfers | C23: n.v.t. | F23: n.v.t. | I23: n.v.t.
A24: ='OPEN VRAGEN'!A26 -> Zie bijlage 7 Gunningscriteria kwaliteit. | C24: Deze rol beoordeelt dit gunningscriterium niet (§ 5.3 aanbestedingsdocument). | F24: Deze rol beoordeelt dit gunningscriterium niet (§ 5.3 aanbestedingsdocument). | I24: Deze rol beoordeelt dit gunningscriterium niet (§ 5.3 aanbestedingsdocument).
A25: ='OPEN VRAGEN'!A27 -> Vraag 3.4: Samenwerking en overdraagbaarheid | C25: n.v.t. | F25: n.v.t. | I25: n.v.t.
A26: ='OPEN VRAGEN'!A28 -> Zie bijlage 7 Gunningscriteria kwaliteit. | C26: Deze rol beoordeelt dit gunningscriterium niet (§ 5.3 aanbestedingsdocument). | F26: Deze rol beoordeelt dit gunningscriterium niet (§ 5.3 aanbestedingsdocument). | I26: Deze rol beoordeelt dit gunningscriterium niet (§ 5.3 aanbestedingsdocument).
A27: ='OPEN VRAGEN'!A29 -> Vraag 3.5: Proactieve advieswaarde en ondersteuning van datagedreven werken | C27: n.v.t. | F27: n.v.t. | I27: n.v.t.
A28: ='OPEN VRAGEN'!A30 -> Zie bijlage 7 Gunningscriteria kwaliteit. | C28: Deze rol beoordeelt dit gunningscriterium niet (§ 5.3 aanbestedingsdocument). | F28: Deze rol beoordeelt dit gunningscriterium niet (§ 5.3 aanbestedingsdocument). | I28: Deze rol beoordeelt dit gunningscriterium niet (§ 5.3 aanbestedingsdocument).
A29: ='OPEN VRAGEN'!A31 -> Gunningscriterium 4: Teamsamenstelling, continuïteit en samenwerking
A30: ='OPEN VRAGEN'!A32 -> Vraag 4.1: Teamsamenstelling, inzetbaarheid en capaciteit | C30: SCORE | F30: SCORE | I30: SCORE
A31: ='OPEN VRAGEN'!A33 -> Zie bijlage 7 Gunningscriteria kwaliteit. | C31: <MOTIVATIE> | F31: <MOTIVATIE> | I31: <MOTIVATIE>
A32: ='OPEN VRAGEN'!A34 -> Vraag 4.2: Afstemming en samenhang tussen projecten i.r.t. inrichting | C32: SCORE | F32: SCORE | I32: SCORE
A33: ='OPEN VRAGEN'!A35 -> Zie bijlage 7 Gunningscriteria kwaliteit. | C33: <MOTIVATIE> | F33: <MOTIVATIE> | I33: <MOTIVATIE>
A34: ='OPEN VRAGEN'!A36 -> Vraag 4.3: Ondersteuning na oplevering | C34: SCORE | F34: SCORE | I34: SCORE
A35: ='OPEN VRAGEN'!A37 -> Zie bijlage 7 Gunningscriteria kwaliteit. | C35: <MOTIVATIE> | F35: <MOTIVATIE> | I35: <MOTIVATIE>
A36: ='OPEN VRAGEN'!A38 -> Vraag 4.4: Kennisontwikkeling en kennisdeling | C36: SCORE | F36: SCORE | I36: SCORE
A37: ='OPEN VRAGEN'!A39 -> Zie bijlage 7 Gunningscriteria kwaliteit. | C37: <MOTIVATIE> | F37: <MOTIVATIE> | I37: <MOTIVATIE>
A38: ='OPEN VRAGEN'!A40 -> Gunningscriterium 5: Strategisch partnerschap
A39: ='OPEN VRAGEN'!A41 -> Vraag 5.1: Rol als strategisch partner | C39: SCORE | F39: SCORE | I39: SCORE
A40: ='OPEN VRAGEN'!A42 -> Zie bijlage 7 Gunningscriteria kwaliteit. | C40: <MOTIVATIE> | F40: <MOTIVATIE> | I40: <MOTIVATIE>

Sheet Beoordelaar 5
A1: Beoordelaar 5 – Programmamanager LLO | C1: INSCHRIJVER 1 | F1: INSCHRIJVER 2 | I1: INSCHRIJVER 3
A2: ='OPEN VRAGEN'!A4 -> Gunningscriterium 1: Casus LLO – Inrichten van het offerte- en calculatieproces
A3: ='OPEN VRAGEN'!A5 -> Vraag 1.1: Procesinrichting | C3: SCORE | F3: SCORE | I3: SCORE
A4: ='OPEN VRAGEN'!A6 -> Zie bijlage 7 Gunningscriteria kwaliteit. | C4: <MOTIVATIE> | F4: <MOTIVATIE> | I4: <MOTIVATIE>
A5: ='OPEN VRAGEN'!A7 -> Vraag 1.2: Koppelingen en datastromen | C5: SCORE | F5: SCORE | I5: SCORE
A6: ='OPEN VRAGEN'!A8 -> Zie bijlage 7 Gunningscriteria kwaliteit. | C6: <MOTIVATIE> | F6: <MOTIVATIE> | I6: <MOTIVATIE>
A7: ='OPEN VRAGEN'!A9 -> Vraag 1.3: Schaalbaarheid, beheer en toekomstbestendigheid | C7: SCORE | F7: SCORE | I7: SCORE
A8: ='OPEN VRAGEN'!A10 -> Zie bijlage 7 Gunningscriteria kwaliteit. | C8: <MOTIVATIE> | F8: <MOTIVATIE> | I8: <MOTIVATIE>
A9: ='OPEN VRAGEN'!A11 -> Gunningscriterium 2: Borging van adoptie & duurzaam gebruik van de oplossing
A10: ='OPEN VRAGEN'!A12 -> Vraag 2.1: Adoptiestrategie van Inschrijver | C10: SCORE | F10: SCORE | I10: SCORE
A11: ='OPEN VRAGEN'!A13 -> Zie bijlage 7 Gunningscriteria kwaliteit. | C11: <MOTIVATIE> | F11: <MOTIVATIE> | I11: <MOTIVATIE>
A12: ='OPEN VRAGEN'!A14 -> Vraag 2.2: Trainingsaanpak voor gebruikers én functioneel beheerders | C12: SCORE | F12: SCORE | I12: SCORE
A13: ='OPEN VRAGEN'!A15 -> Zie bijlage 7 Gunningscriteria kwaliteit. | C13: <MOTIVATIE> | F13: <MOTIVATIE> | I13: <MOTIVATIE>
A14: ='OPEN VRAGEN'!A16 -> Vraag 2.3: Borging zelfstandigheid beheerorganisatie | C14: SCORE | F14: SCORE | I14: SCORE
A15: ='OPEN VRAGEN'!A17 -> Zie bijlage 7 Gunningscriteria kwaliteit. | C15: <MOTIVATIE> | F15: <MOTIVATIE> | I15: <MOTIVATIE>
A16: ='OPEN VRAGEN'!A18 -> Vraag 2.4: Monitoring & continu verbeteren | C16: SCORE | F16: SCORE | I16: SCORE
A17: ='OPEN VRAGEN'!A19 -> Zie bijlage 7 Gunningscriteria kwaliteit. | C17: <MOTIVATIE> | F17: <MOTIVATIE> | I17: <MOTIVATIE>
A18: ='OPEN VRAGEN'!A20 -> Gunningscriterium 3: Casus: Ontwikkeling dashboards en rapportages
A19: ='OPEN VRAGEN'!A21 -> Vraag 3.1: Gefaseerde aanpak | C19: n.v.t. | F19: n.v.t. | I19: n.v.t.
A20: ='OPEN VRAGEN'!A22 -> Zie bijlage 7 Gunningscriteria kwaliteit. | C20: Deze rol beoordeelt dit gunningscriterium niet (§ 5.3 aanbestedingsdocument). | F20: Deze rol beoordeelt dit gunningscriterium niet (§ 5.3 aanbestedingsdocument). | I20: Deze rol beoordeelt dit gunningscriterium niet (§ 5.3 aanbestedingsdocument).
A21: ='OPEN VRAGEN'!A23 -> Vraag 3.2: Ontwerpkeuzes op hoofdlijnen | C21: n.v.t. | F21: n.v.t. | I21: n.v.t.
A22: ='OPEN VRAGEN'!A24 -> Zie bijlage 7 Gunningscriteria kwaliteit. | C22: Deze rol beoordeelt dit gunningscriterium niet (§ 5.3 aanbestedingsdocument). | F22: Deze rol beoordeelt dit gunningscriterium niet (§ 5.3 aanbestedingsdocument). | I22: Deze rol beoordeelt dit gunningscriterium niet (§ 5.3 aanbestedingsdocument).
A23: ='OPEN VRAGEN'!A25 -> Vraag 3.3: Vertrouwen in cijfers | C23: n.v.t. | F23: n.v.t. | I23: n.v.t.
A24: ='OPEN VRAGEN'!A26 -> Zie bijlage 7 Gunningscriteria kwaliteit. | C24: Deze rol beoordeelt dit gunningscriterium niet (§ 5.3 aanbestedingsdocument). | F24: Deze rol beoordeelt dit gunningscriterium niet (§ 5.3 aanbestedingsdocument). | I24: Deze rol beoordeelt dit gunningscriterium niet (§ 5.3 aanbestedingsdocument).
A25: ='OPEN VRAGEN'!A27 -> Vraag 3.4: Samenwerking en overdraagbaarheid | C25: n.v.t. | F25: n.v.t. | I25: n.v.t.
A26: ='OPEN VRAGEN'!A28 -> Zie bijlage 7 Gunningscriteria kwaliteit. | C26: Deze rol beoordeelt dit gunningscriterium niet (§ 5.3 aanbestedingsdocument). | F26: Deze rol beoordeelt dit gunningscriterium niet (§ 5.3 aanbestedingsdocument). | I26: Deze rol beoordeelt dit gunningscriterium niet (§ 5.3 aanbestedingsdocument).
A27: ='OPEN VRAGEN'!A29 -> Vraag 3.5: Proactieve advieswaarde en ondersteuning van datagedreven werken | C27: n.v.t. | F27: n.v.t. | I27: n.v.t.
A28: ='OPEN VRAGEN'!A30 -> Zie bijlage 7 Gunningscriteria kwaliteit. | C28: Deze rol beoordeelt dit gunningscriterium niet (§ 5.3 aanbestedingsdocument). | F28: Deze rol beoordeelt dit gunningscriterium niet (§ 5.3 aanbestedingsdocument). | I28: Deze rol beoordeelt dit gunningscriterium niet (§ 5.3 aanbestedingsdocument).
A29: ='OPEN VRAGEN'!A31 -> Gunningscriterium 4: Teamsamenstelling, continuïteit en samenwerking
A30: ='OPEN VRAGEN'!A32 -> Vraag 4.1: Teamsamenstelling, inzetbaarheid en capaciteit | C30: SCORE | F30: SCORE | I30: SCORE
A31: ='OPEN VRAGEN'!A33 -> Zie bijlage 7 Gunningscriteria kwaliteit. | C31: <MOTIVATIE> | F31: <MOTIVATIE> | I31: <MOTIVATIE>
A32: ='OPEN VRAGEN'!A34 -> Vraag 4.2: Afstemming en samenhang tussen projecten i.r.t. inrichting | C32: SCORE | F32: SCORE | I32: SCORE
A33: ='OPEN VRAGEN'!A35 -> Zie bijlage 7 Gunningscriteria kwaliteit. | C33: <MOTIVATIE> | F33: <MOTIVATIE> | I33: <MOTIVATIE>
A34: ='OPEN VRAGEN'!A36 -> Vraag 4.3: Ondersteuning na oplevering | C34: SCORE | F34: SCORE | I34: SCORE
A35: ='OPEN VRAGEN'!A37 -> Zie bijlage 7 Gunningscriteria kwaliteit. | C35: <MOTIVATIE> | F35: <MOTIVATIE> | I35: <MOTIVATIE>
A36: ='OPEN VRAGEN'!A38 -> Vraag 4.4: Kennisontwikkeling en kennisdeling | C36: SCORE | F36: SCORE | I36: SCORE
A37: ='OPEN VRAGEN'!A39 -> Zie bijlage 7 Gunningscriteria kwaliteit. | C37: <MOTIVATIE> | F37: <MOTIVATIE> | I37: <MOTIVATIE>
A38: ='OPEN VRAGEN'!A40 -> Gunningscriterium 5: Strategisch partnerschap
A39: ='OPEN VRAGEN'!A41 -> Vraag 5.1: Rol als strategisch partner | C39: SCORE | F39: SCORE | I39: SCORE
A40: ='OPEN VRAGEN'!A42 -> Zie bijlage 7 Gunningscriteria kwaliteit. | C40: <MOTIVATIE> | F40: <MOTIVATIE> | I40: <MOTIVATIE>

Sheet Beoordelaar 6
A1: Beoordelaar 6 – Functioneel beheerder | C1: ='Beoordelaar 1'!C1 -> INSCHRIJVER 1 | F1: ='Beoordelaar 1'!F1 -> INSCHRIJVER 2 | I1: ='Beoordelaar 1'!I1 -> INSCHRIJVER 3
A2: ='OPEN VRAGEN'!A4 -> Gunningscriterium 1: Casus LLO – Inrichten van het offerte- en calculatieproces
A3: ='OPEN VRAGEN'!A5 -> Vraag 1.1: Procesinrichting | C3: SCORE | F3: SCORE | I3: SCORE
A4: ='OPEN VRAGEN'!A6 -> Zie bijlage 7 Gunningscriteria kwaliteit. | C4: <MOTIVATIE> | F4: <MOTIVATIE> | I4: <MOTIVATIE>
A5: ='OPEN VRAGEN'!A7 -> Vraag 1.2: Koppelingen en datastromen | C5: SCORE | F5: SCORE | I5: SCORE
A6: ='OPEN VRAGEN'!A8 -> Zie bijlage 7 Gunningscriteria kwaliteit. | C6: <MOTIVATIE> | F6: <MOTIVATIE> | I6: <MOTIVATIE>
A7: ='OPEN VRAGEN'!A9 -> Vraag 1.3: Schaalbaarheid, beheer en toekomstbestendigheid | C7: SCORE | F7: SCORE | I7: SCORE
A8: ='OPEN VRAGEN'!A10 -> Zie bijlage 7 Gunningscriteria kwaliteit. | C8: <MOTIVATIE> | F8: <MOTIVATIE> | I8: <MOTIVATIE>
A9: ='OPEN VRAGEN'!A11 -> Gunningscriterium 2: Borging van adoptie & duurzaam gebruik van de oplossing
A10: ='OPEN VRAGEN'!A12 -> Vraag 2.1: Adoptiestrategie van Inschrijver | C10: SCORE | F10: SCORE | I10: SCORE
A11: ='OPEN VRAGEN'!A13 -> Zie bijlage 7 Gunningscriteria kwaliteit. | C11: <MOTIVATIE> | F11: <MOTIVATIE> | I11: <MOTIVATIE>
A12: ='OPEN VRAGEN'!A14 -> Vraag 2.2: Trainingsaanpak voor gebruikers én functioneel beheerders | C12: SCORE | F12: SCORE | I12: SCORE
A13: ='OPEN VRAGEN'!A15 -> Zie bijlage 7 Gunningscriteria kwaliteit. | C13: <MOTIVATIE> | F13: <MOTIVATIE> | I13: <MOTIVATIE>
A14: ='OPEN VRAGEN'!A16 -> Vraag 2.3: Borging zelfstandigheid beheerorganisatie | C14: SCORE | F14: SCORE | I14: SCORE
A15: ='OPEN VRAGEN'!A17 -> Zie bijlage 7 Gunningscriteria kwaliteit. | C15: <MOTIVATIE> | F15: <MOTIVATIE> | I15: <MOTIVATIE>
A16: ='OPEN VRAGEN'!A18 -> Vraag 2.4: Monitoring & continu verbeteren | C16: SCORE | F16: SCORE | I16: SCORE
A17: ='OPEN VRAGEN'!A19 -> Zie bijlage 7 Gunningscriteria kwaliteit. | C17: <MOTIVATIE> | F17: <MOTIVATIE> | I17: <MOTIVATIE>
A18: ='OPEN VRAGEN'!A20 -> Gunningscriterium 3: Casus: Ontwikkeling dashboards en rapportages
A19: ='OPEN VRAGEN'!A21 -> Vraag 3.1: Gefaseerde aanpak | C19: SCORE | F19: SCORE | I19: SCORE
A20: ='OPEN VRAGEN'!A22 -> Zie bijlage 7 Gunningscriteria kwaliteit. | C20: <MOTIVATIE> | F20: <MOTIVATIE> | I20: <MOTIVATIE>
A21: ='OPEN VRAGEN'!A23 -> Vraag 3.2: Ontwerpkeuzes op hoofdlijnen | C21: SCORE | F21: SCORE | I21: SCORE
A22: ='OPEN VRAGEN'!A24 -> Zie bijlage 7 Gunningscriteria kwaliteit. | C22: <MOTIVATIE> | F22: <MOTIVATIE> | I22: <MOTIVATIE>
A23: ='OPEN VRAGEN'!A25 -> Vraag 3.3: Vertrouwen in cijfers | C23: SCORE | F23: SCORE | I23: SCORE
A24: ='OPEN VRAGEN'!A26 -> Zie bijlage 7 Gunningscriteria kwaliteit. | C24: <MOTIVATIE> | F24: <MOTIVATIE> | I24: <MOTIVATIE>
A25: ='OPEN VRAGEN'!A27 -> Vraag 3.4: Samenwerking en overdraagbaarheid | C25: SCORE | F25: SCORE | I25: SCORE
A26: ='OPEN VRAGEN'!A28 -> Zie bijlage 7 Gunningscriteria kwaliteit. | C26: <MOTIVATIE> | F26: <MOTIVATIE> | I26: <MOTIVATIE>
A27: ='OPEN VRAGEN'!A29 -> Vraag 3.5: Proactieve advieswaarde en ondersteuning van datagedreven werken | C27: SCORE | F27: SCORE | I27: SCORE
A28: ='OPEN VRAGEN'!A30 -> Zie bijlage 7 Gunningscriteria kwaliteit. | C28: <MOTIVATIE> | F28: <MOTIVATIE> | I28: <MOTIVATIE>
A29: ='OPEN VRAGEN'!A31 -> Gunningscriterium 4: Teamsamenstelling, continuïteit en samenwerking
A30: ='OPEN VRAGEN'!A32 -> Vraag 4.1: Teamsamenstelling, inzetbaarheid en capaciteit | C30: SCORE | F30: SCORE | I30: SCORE
A31: ='OPEN VRAGEN'!A33 -> Zie bijlage 7 Gunningscriteria kwaliteit. | C31: <MOTIVATIE> | F31: <MOTIVATIE> | I31: <MOTIVATIE>
A32: ='OPEN VRAGEN'!A34 -> Vraag 4.2: Afstemming en samenhang tussen projecten i.r.t. inrichting | C32: SCORE | F32: SCORE | I32: SCORE
A33: ='OPEN VRAGEN'!A35 -> Zie bijlage 7 Gunningscriteria kwaliteit. | C33: <MOTIVATIE> | F33: <MOTIVATIE> | I33: <MOTIVATIE>
A34: ='OPEN VRAGEN'!A36 -> Vraag 4.3: Ondersteuning na oplevering | C34: SCORE | F34: SCORE | I34: SCORE
A35: ='OPEN VRAGEN'!A37 -> Zie bijlage 7 Gunningscriteria kwaliteit. | C35: <MOTIVATIE> | F35: <MOTIVATIE> | I35: <MOTIVATIE>
A36: ='OPEN VRAGEN'!A38 -> Vraag 4.4: Kennisontwikkeling en kennisdeling | C36: SCORE | F36: SCORE | I36: SCORE
A37: ='OPEN VRAGEN'!A39 -> Zie bijlage 7 Gunningscriteria kwaliteit. | C37: <MOTIVATIE> | F37: <MOTIVATIE> | I37: <MOTIVATIE>
A38: ='OPEN VRAGEN'!A40 -> Gunningscriterium 5: Strategisch partnerschap
A39: ='OPEN VRAGEN'!A41 -> Vraag 5.1: Rol als strategisch partner | C39: SCORE | F39: SCORE | I39: SCORE
A40: ='OPEN VRAGEN'!A42 -> Zie bijlage 7 Gunningscriteria kwaliteit. | C40: <MOTIVATIE> | F40: <MOTIVATIE> | I40: <MOTIVATIE>

Sheet Beoordelaar 7
A1: Beoordelaar 7 – Key user CRM Marketing en communicatie | C1: ='Beoordelaar 1'!C1 -> INSCHRIJVER 1 | F1: ='Beoordelaar 1'!F1 -> INSCHRIJVER 2 | I1: ='Beoordelaar 1'!I1 -> INSCHRIJVER 3
A2: ='OPEN VRAGEN'!A4 -> Gunningscriterium 1: Casus LLO – Inrichten van het offerte- en calculatieproces
A3: ='OPEN VRAGEN'!A5 -> Vraag 1.1: Procesinrichting | C3: n.v.t. | F3: n.v.t. | I3: n.v.t.
A4: ='OPEN VRAGEN'!A6 -> Zie bijlage 7 Gunningscriteria kwaliteit. | C4: Deze rol beoordeelt dit gunningscriterium niet (§ 5.3 aanbestedingsdocument). | F4: Deze rol beoordeelt dit gunningscriterium niet (§ 5.3 aanbestedingsdocument). | I4: Deze rol beoordeelt dit gunningscriterium niet (§ 5.3 aanbestedingsdocument).
A5: ='OPEN VRAGEN'!A7 -> Vraag 1.2: Koppelingen en datastromen | C5: n.v.t. | F5: n.v.t. | I5: n.v.t.
A6: ='OPEN VRAGEN'!A8 -> Zie bijlage 7 Gunningscriteria kwaliteit. | C6: Deze rol beoordeelt dit gunningscriterium niet (§ 5.3 aanbestedingsdocument). | F6: Deze rol beoordeelt dit gunningscriterium niet (§ 5.3 aanbestedingsdocument). | I6: Deze rol beoordeelt dit gunningscriterium niet (§ 5.3 aanbestedingsdocument).
A7: ='OPEN VRAGEN'!A9 -> Vraag 1.3: Schaalbaarheid, beheer en toekomstbestendigheid | C7: n.v.t. | F7: n.v.t. | I7: n.v.t.
A8: ='OPEN VRAGEN'!A10 -> Zie bijlage 7 Gunningscriteria kwaliteit. | C8: Deze rol beoordeelt dit gunningscriterium niet (§ 5.3 aanbestedingsdocument). | F8: Deze rol beoordeelt dit gunningscriterium niet (§ 5.3 aanbestedingsdocument). | I8: Deze rol beoordeelt dit gunningscriterium niet (§ 5.3 aanbestedingsdocument).
A9: ='OPEN VRAGEN'!A11 -> Gunningscriterium 2: Borging van adoptie & duurzaam gebruik van de oplossing
A10: ='OPEN VRAGEN'!A12 -> Vraag 2.1: Adoptiestrategie van Inschrijver | C10: SCORE | F10: SCORE | I10: SCORE
A11: ='OPEN VRAGEN'!A13 -> Zie bijlage 7 Gunningscriteria kwaliteit. | C11: <MOTIVATIE> | F11: <MOTIVATIE> | I11: <MOTIVATIE>
A12: ='OPEN VRAGEN'!A14 -> Vraag 2.2: Trainingsaanpak voor gebruikers én functioneel beheerders | C12: SCORE | F12: SCORE | I12: SCORE
A13: ='OPEN VRAGEN'!A15 -> Zie bijlage 7 Gunningscriteria kwaliteit. | C13: <MOTIVATIE> | F13: <MOTIVATIE> | I13: <MOTIVATIE>
A14: ='OPEN VRAGEN'!A16 -> Vraag 2.3: Borging zelfstandigheid beheerorganisatie | C14: SCORE | F14: SCORE | I14: SCORE
A15: ='OPEN VRAGEN'!A17 -> Zie bijlage 7 Gunningscriteria kwaliteit. | C15: <MOTIVATIE> | F15: <MOTIVATIE> | I15: <MOTIVATIE>
A16: ='OPEN VRAGEN'!A18 -> Vraag 2.4: Monitoring & continu verbeteren | C16: SCORE | F16: SCORE | I16: SCORE
A17: ='OPEN VRAGEN'!A19 -> Zie bijlage 7 Gunningscriteria kwaliteit. | C17: <MOTIVATIE> | F17: <MOTIVATIE> | I17: <MOTIVATIE>
A18: ='OPEN VRAGEN'!A20 -> Gunningscriterium 3: Casus: Ontwikkeling dashboards en rapportages
A19: ='OPEN VRAGEN'!A21 -> Vraag 3.1: Gefaseerde aanpak | C19: SCORE | F19: SCORE | I19: SCORE
A20: ='OPEN VRAGEN'!A22 -> Zie bijlage 7 Gunningscriteria kwaliteit. | C20: <MOTIVATIE> | F20: <MOTIVATIE> | I20: <MOTIVATIE>
A21: ='OPEN VRAGEN'!A23 -> Vraag 3.2: Ontwerpkeuzes op hoofdlijnen | C21: SCORE | F21: SCORE | I21: SCORE
A22: ='OPEN VRAGEN'!A24 -> Zie bijlage 7 Gunningscriteria kwaliteit. | C22: <MOTIVATIE> | F22: <MOTIVATIE> | I22: <MOTIVATIE>
A23: ='OPEN VRAGEN'!A25 -> Vraag 3.3: Vertrouwen in cijfers | C23: SCORE | F23: SCORE | I23: SCORE
A24: ='OPEN VRAGEN'!A26 -> Zie bijlage 7 Gunningscriteria kwaliteit. | C24: <MOTIVATIE> | F24: <MOTIVATIE> | I24: <MOTIVATIE>
A25: ='OPEN VRAGEN'!A27 -> Vraag 3.4: Samenwerking en overdraagbaarheid | C25: SCORE | F25: SCORE | I25: SCORE
A26: ='OPEN VRAGEN'!A28 -> Zie bijlage 7 Gunningscriteria kwaliteit. | C26: <MOTIVATIE> | F26: <MOTIVATIE> | I26: <MOTIVATIE>
A27: ='OPEN VRAGEN'!A29 -> Vraag 3.5: Proactieve advieswaarde en ondersteuning van datagedreven werken | C27: SCORE | F27: SCORE | I27: SCORE
A28: ='OPEN VRAGEN'!A30 -> Zie bijlage 7 Gunningscriteria kwaliteit. | C28: <MOTIVATIE> | F28: <MOTIVATIE> | I28: <MOTIVATIE>
A29: ='OPEN VRAGEN'!A31 -> Gunningscriterium 4: Teamsamenstelling, continuïteit en samenwerking
A30: ='OPEN VRAGEN'!A32 -> Vraag 4.1: Teamsamenstelling, inzetbaarheid en capaciteit | C30: SCORE | F30: SCORE | I30: SCORE
A31: ='OPEN VRAGEN'!A33 -> Zie bijlage 7 Gunningscriteria kwaliteit. | C31: <MOTIVATIE> | F31: <MOTIVATIE> | I31: <MOTIVATIE>
A32: ='OPEN VRAGEN'!A34 -> Vraag 4.2: Afstemming en samenhang tussen projecten i.r.t. inrichting | C32: SCORE | F32: SCORE | I32: SCORE
A33: ='OPEN VRAGEN'!A35 -> Zie bijlage 7 Gunningscriteria kwaliteit. | C33: <MOTIVATIE> | F33: <MOTIVATIE> | I33: <MOTIVATIE>
A34: ='OPEN VRAGEN'!A36 -> Vraag 4.3: Ondersteuning na oplevering | C34: SCORE | F34: SCORE | I34: SCORE
A35: ='OPEN VRAGEN'!A37 -> Zie bijlage 7 Gunningscriteria kwaliteit. | C35: <MOTIVATIE> | F35: <MOTIVATIE> | I35: <MOTIVATIE>
A36: ='OPEN VRAGEN'!A38 -> Vraag 4.4: Kennisontwikkeling en kennisdeling | C36: SCORE | F36: SCORE | I36: SCORE
A37: ='OPEN VRAGEN'!A39 -> Zie bijlage 7 Gunningscriteria kwaliteit. | C37: <MOTIVATIE> | F37: <MOTIVATIE> | I37: <MOTIVATIE>
A38: ='OPEN VRAGEN'!A40 -> Gunningscriterium 5: Strategisch partnerschap
A39: ='OPEN VRAGEN'!A41 -> Vraag 5.1: Rol als strategisch partner | C39: SCORE | F39: SCORE | I39: SCORE
A40: ='OPEN VRAGEN'!A42 -> Zie bijlage 7 Gunningscriteria kwaliteit. | C40: <MOTIVATIE> | F40: <MOTIVATIE> | I40: <MOTIVATIE>

Sheet Beoordelaar 8
A1: Beoordelaar 8 – User CRM Marketing en communicatie | C1: ='Beoordelaar 1'!C1 -> INSCHRIJVER 1 | F1: ='Beoordelaar 1'!F1 -> INSCHRIJVER 2 | I1: ='Beoordelaar 1'!I1 -> INSCHRIJVER 3
A2: ='OPEN VRAGEN'!A4 -> Gunningscriterium 1: Casus LLO – Inrichten van het offerte- en calculatieproces
A3: ='OPEN VRAGEN'!A5 -> Vraag 1.1: Procesinrichting | C3: n.v.t. | F3: n.v.t. | I3: n.v.t.
A4: ='OPEN VRAGEN'!A6 -> Zie bijlage 7 Gunningscriteria kwaliteit. | C4: Deze rol beoordeelt dit gunningscriterium niet (§ 5.3 aanbestedingsdocument). | F4: Deze rol beoordeelt dit gunningscriterium niet (§ 5.3 aanbestedingsdocument). | I4: Deze rol beoordeelt dit gunningscriterium niet (§ 5.3 aanbestedingsdocument).
A5: ='OPEN VRAGEN'!A7 -> Vraag 1.2: Koppelingen en datastromen | C5: n.v.t. | F5: n.v.t. | I5: n.v.t.
A6: ='OPEN VRAGEN'!A8 -> Zie bijlage 7 Gunningscriteria kwaliteit. | C6: Deze rol beoordeelt dit gunningscriterium niet (§ 5.3 aanbestedingsdocument). | F6: Deze rol beoordeelt dit gunningscriterium niet (§ 5.3 aanbestedingsdocument). | I6: Deze rol beoordeelt dit gunningscriterium niet (§ 5.3 aanbestedingsdocument).
A7: ='OPEN VRAGEN'!A9 -> Vraag 1.3: Schaalbaarheid, beheer en toekomstbestendigheid | C7: n.v.t. | F7: n.v.t. | I7: n.v.t.
A8: ='OPEN VRAGEN'!A10 -> Zie bijlage 7 Gunningscriteria kwaliteit. | C8: Deze rol beoordeelt dit gunningscriterium niet (§ 5.3 aanbestedingsdocument). | F8: Deze rol beoordeelt dit gunningscriterium niet (§ 5.3 aanbestedingsdocument). | I8: Deze rol beoordeelt dit gunningscriterium niet (§ 5.3 aanbestedingsdocument).
A9: ='OPEN VRAGEN'!A11 -> Gunningscriterium 2: Borging van adoptie & duurzaam gebruik van de oplossing
A10: ='OPEN VRAGEN'!A12 -> Vraag 2.1: Adoptiestrategie van Inschrijver | C10: SCORE | F10: SCORE | I10: SCORE
A11: ='OPEN VRAGEN'!A13 -> Zie bijlage 7 Gunningscriteria kwaliteit. | C11: <MOTIVATIE> | F11: <MOTIVATIE> | I11: <MOTIVATIE>
A12: ='OPEN VRAGEN'!A14 -> Vraag 2.2: Trainingsaanpak voor gebruikers én functioneel beheerders | C12: SCORE | F12: SCORE | I12: SCORE
A13: ='OPEN VRAGEN'!A15 -> Zie bijlage 7 Gunningscriteria kwaliteit. | C13: <MOTIVATIE> | F13: <MOTIVATIE> | I13: <MOTIVATIE>
A14: ='OPEN VRAGEN'!A16 -> Vraag 2.3: Borging zelfstandigheid beheerorganisatie | C14: SCORE | F14: SCORE | I14: SCORE
A15: ='OPEN VRAGEN'!A17 -> Zie bijlage 7 Gunningscriteria kwaliteit. | C15: <MOTIVATIE> | F15: <MOTIVATIE> | I15: <MOTIVATIE>
A16: ='OPEN VRAGEN'!A18 -> Vraag 2.4: Monitoring & continu verbeteren | C16: SCORE | F16: SCORE | I16: SCORE
A17: ='OPEN VRAGEN'!A19 -> Zie bijlage 7 Gunningscriteria kwaliteit. | C17: <MOTIVATIE> | F17: <MOTIVATIE> | I17: <MOTIVATIE>
A18: ='OPEN VRAGEN'!A20 -> Gunningscriterium 3: Casus: Ontwikkeling dashboards en rapportages
A19: ='OPEN VRAGEN'!A21 -> Vraag 3.1: Gefaseerde aanpak | C19: SCORE | F19: SCORE | I19: SCORE
A20: ='OPEN VRAGEN'!A22 -> Zie bijlage 7 Gunningscriteria kwaliteit. | C20: <MOTIVATIE> | F20: <MOTIVATIE> | I20: <MOTIVATIE>
A21: ='OPEN VRAGEN'!A23 -> Vraag 3.2: Ontwerpkeuzes op hoofdlijnen | C21: SCORE | F21: SCORE | I21: SCORE
A22: ='OPEN VRAGEN'!A24 -> Zie bijlage 7 Gunningscriteria kwaliteit. | C22: <MOTIVATIE> | F22: <MOTIVATIE> | I22: <MOTIVATIE>
A23: ='OPEN VRAGEN'!A25 -> Vraag 3.3: Vertrouwen in cijfers | C23: SCORE | F23: SCORE | I23: SCORE
A24: ='OPEN VRAGEN'!A26 -> Zie bijlage 7 Gunningscriteria kwaliteit. | C24: <MOTIVATIE> | F24: <MOTIVATIE> | I24: <MOTIVATIE>
A25: ='OPEN VRAGEN'!A27 -> Vraag 3.4: Samenwerking en overdraagbaarheid | C25: SCORE | F25: SCORE | I25: SCORE
A26: ='OPEN VRAGEN'!A28 -> Zie bijlage 7 Gunningscriteria kwaliteit. | C26: <MOTIVATIE> | F26: <MOTIVATIE> | I26: <MOTIVATIE>
A27: ='OPEN VRAGEN'!A29 -> Vraag 3.5: Proactieve advieswaarde en ondersteuning van datagedreven werken | C27: SCORE | F27: SCORE | I27: SCORE
A28: ='OPEN VRAGEN'!A30 -> Zie bijlage 7 Gunningscriteria kwaliteit. | C28: <MOTIVATIE> | F28: <MOTIVATIE> | I28: <MOTIVATIE>
A29: ='OPEN VRAGEN'!A31 -> Gunningscriterium 4: Teamsamenstelling, continuïteit en samenwerking
A30: ='OPEN VRAGEN'!A32 -> Vraag 4.1: Teamsamenstelling, inzetbaarheid en capaciteit | C30: SCORE | F30: SCORE | I30: SCORE
A31: ='OPEN VRAGEN'!A33 -> Zie bijlage 7 Gunningscriteria kwaliteit. | C31: <MOTIVATIE> | F31: <MOTIVATIE> | I31: <MOTIVATIE>
A32: ='OPEN VRAGEN'!A34 -> Vraag 4.2: Afstemming en samenhang tussen projecten i.r.t. inrichting | C32: SCORE | F32: SCORE | I32: SCORE
A33: ='OPEN VRAGEN'!A35 -> Zie bijlage 7 Gunningscriteria kwaliteit. | C33: <MOTIVATIE> | F33: <MOTIVATIE> | I33: <MOTIVATIE>
A34: ='OPEN VRAGEN'!A36 -> Vraag 4.3: Ondersteuning na oplevering | C34: SCORE | F34: SCORE | I34: SCORE
A35: ='OPEN VRAGEN'!A37 -> Zie bijlage 7 Gunningscriteria kwaliteit. | C35: <MOTIVATIE> | F35: <MOTIVATIE> | I35: <MOTIVATIE>
A36: ='OPEN VRAGEN'!A38 -> Vraag 4.4: Kennisontwikkeling en kennisdeling | C36: SCORE | F36: SCORE | I36: SCORE
A37: ='OPEN VRAGEN'!A39 -> Zie bijlage 7 Gunningscriteria kwaliteit. | C37: <MOTIVATIE> | F37: <MOTIVATIE> | I37: <MOTIVATIE>
A38: ='OPEN VRAGEN'!A40 -> Gunningscriterium 5: Strategisch partnerschap
A39: ='OPEN VRAGEN'!A41 -> Vraag 5.1: Rol als strategisch partner | C39: SCORE | F39: SCORE | I39: SCORE
A40: ='OPEN VRAGEN'!A42 -> Zie bijlage 7 Gunningscriteria kwaliteit. | C40: <MOTIVATIE> | F40: <MOTIVATIE> | I40: <MOTIVATIE>

Sheet Beoordelaar 9
A1: Beoordelaar 9 – Informatiemanager IV&ICT | C1: ='Beoordelaar 1'!C1 -> INSCHRIJVER 1 | F1: ='Beoordelaar 1'!F1 -> INSCHRIJVER 2 | I1: ='Beoordelaar 1'!I1 -> INSCHRIJVER 3
A2: ='OPEN VRAGEN'!A4 -> Gunningscriterium 1: Casus LLO – Inrichten van het offerte- en calculatieproces
A3: ='OPEN VRAGEN'!A5 -> Vraag 1.1: Procesinrichting | C3: n.v.t. | F3: n.v.t. | I3: n.v.t.
A4: ='OPEN VRAGEN'!A6 -> Zie bijlage 7 Gunningscriteria kwaliteit. | C4: Deze rol beoordeelt dit gunningscriterium niet (§ 5.3 aanbestedingsdocument). | F4: Deze rol beoordeelt dit gunningscriterium niet (§ 5.3 aanbestedingsdocument). | I4: Deze rol beoordeelt dit gunningscriterium niet (§ 5.3 aanbestedingsdocument).
A5: ='OPEN VRAGEN'!A7 -> Vraag 1.2: Koppelingen en datastromen | C5: n.v.t. | F5: n.v.t. | I5: n.v.t.
A6: ='OPEN VRAGEN'!A8 -> Zie bijlage 7 Gunningscriteria kwaliteit. | C6: Deze rol beoordeelt dit gunningscriterium niet (§ 5.3 aanbestedingsdocument). | F6: Deze rol beoordeelt dit gunningscriterium niet (§ 5.3 aanbestedingsdocument). | I6: Deze rol beoordeelt dit gunningscriterium niet (§ 5.3 aanbestedingsdocument).
A7: ='OPEN VRAGEN'!A9 -> Vraag 1.3: Schaalbaarheid, beheer en toekomstbestendigheid | C7: n.v.t. | F7: n.v.t. | I7: n.v.t.
A8: ='OPEN VRAGEN'!A10 -> Zie bijlage 7 Gunningscriteria kwaliteit. | C8: Deze rol beoordeelt dit gunningscriterium niet (§ 5.3 aanbestedingsdocument). | F8: Deze rol beoordeelt dit gunningscriterium niet (§ 5.3 aanbestedingsdocument). | I8: Deze rol beoordeelt dit gunningscriterium niet (§ 5.3 aanbestedingsdocument).
A9: ='OPEN VRAGEN'!A11 -> Gunningscriterium 2: Borging van adoptie & duurzaam gebruik van de oplossing
A10: ='OPEN VRAGEN'!A12 -> Vraag 2.1: Adoptiestrategie van Inschrijver | C10: SCORE | F10: SCORE | I10: SCORE
A11: ='OPEN VRAGEN'!A13 -> Zie bijlage 7 Gunningscriteria kwaliteit. | C11: <MOTIVATIE> | F11: <MOTIVATIE> | I11: <MOTIVATIE>
A12: ='OPEN VRAGEN'!A14 -> Vraag 2.2: Trainingsaanpak voor gebruikers én functioneel beheerders | C12: SCORE | F12: SCORE | I12: SCORE
A13: ='OPEN VRAGEN'!A15 -> Zie bijlage 7 Gunningscriteria kwaliteit. | C13: <MOTIVATIE> | F13: <MOTIVATIE> | I13: <MOTIVATIE>
A14: ='OPEN VRAGEN'!A16 -> Vraag 2.3: Borging zelfstandigheid beheerorganisatie | C14: SCORE | F14: SCORE | I14: SCORE
A15: ='OPEN VRAGEN'!A17 -> Zie bijlage 7 Gunningscriteria kwaliteit. | C15: <MOTIVATIE> | F15: <MOTIVATIE> | I15: <MOTIVATIE>
A16: ='OPEN VRAGEN'!A18 -> Vraag 2.4: Monitoring & continu verbeteren | C16: SCORE | F16: SCORE | I16: SCORE
A17: ='OPEN VRAGEN'!A19 -> Zie bijlage 7 Gunningscriteria kwaliteit. | C17: <MOTIVATIE> | F17: <MOTIVATIE> | I17: <MOTIVATIE>
A18: ='OPEN VRAGEN'!A20 -> Gunningscriterium 3: Casus: Ontwikkeling dashboards en rapportages
A19: ='OPEN VRAGEN'!A21 -> Vraag 3.1: Gefaseerde aanpak | C19: SCORE | F19: SCORE | I19: SCORE
A20: ='OPEN VRAGEN'!A22 -> Zie bijlage 7 Gunningscriteria kwaliteit. | C20: <MOTIVATIE> | F20: <MOTIVATIE> | I20: <MOTIVATIE>
A21: ='OPEN VRAGEN'!A23 -> Vraag 3.2: Ontwerpkeuzes op hoofdlijnen | C21: SCORE | F21: SCORE | I21: SCORE
A22: ='OPEN VRAGEN'!A24 -> Zie bijlage 7 Gunningscriteria kwaliteit. | C22: <MOTIVATIE> | F22: <MOTIVATIE> | I22: <MOTIVATIE>
A23: ='OPEN VRAGEN'!A25 -> Vraag 3.3: Vertrouwen in cijfers | C23: SCORE | F23: SCORE | I23: SCORE
A24: ='OPEN VRAGEN'!A26 -> Zie bijlage 7 Gunningscriteria kwaliteit. | C24: <MOTIVATIE> | F24: <MOTIVATIE> | I24: <MOTIVATIE>
A25: ='OPEN VRAGEN'!A27 -> Vraag 3.4: Samenwerking en overdraagbaarheid | C25: SCORE | F25: SCORE | I25: SCORE
A26: ='OPEN VRAGEN'!A28 -> Zie bijlage 7 Gunningscriteria kwaliteit. | C26: <MOTIVATIE> | F26: <MOTIVATIE> | I26: <MOTIVATIE>
A27: ='OPEN VRAGEN'!A29 -> Vraag 3.5: Proactieve advieswaarde en ondersteuning van datagedreven werken | C27: SCORE | F27: SCORE | I27: SCORE
A28: ='OPEN VRAGEN'!A30 -> Zie bijlage 7 Gunningscriteria kwaliteit. | C28: <MOTIVATIE> | F28: <MOTIVATIE> | I28: <MOTIVATIE>
A29: ='OPEN VRAGEN'!A31 -> Gunningscriterium 4: Teamsamenstelling, continuïteit en samenwerking
A30: ='OPEN VRAGEN'!A32 -> Vraag 4.1: Teamsamenstelling, inzetbaarheid en capaciteit | C30: SCORE | F30: SCORE | I30: SCORE
A31: ='OPEN VRAGEN'!A33 -> Zie bijlage 7 Gunningscriteria kwaliteit. | C31: <MOTIVATIE> | F31: <MOTIVATIE> | I31: <MOTIVATIE>
A32: ='OPEN VRAGEN'!A34 -> Vraag 4.2: Afstemming en samenhang tussen projecten i.r.t. inrichting | C32: SCORE | F32: SCORE | I32: SCORE
A33: ='OPEN VRAGEN'!A35 -> Zie bijlage 7 Gunningscriteria kwaliteit. | C33: <MOTIVATIE> | F33: <MOTIVATIE> | I33: <MOTIVATIE>
A34: ='OPEN VRAGEN'!A36 -> Vraag 4.3: Ondersteuning na oplevering | C34: SCORE | F34: SCORE | I34: SCORE
A35: ='OPEN VRAGEN'!A37 -> Zie bijlage 7 Gunningscriteria kwaliteit. | C35: <MOTIVATIE> | F35: <MOTIVATIE> | I35: <MOTIVATIE>
A36: ='OPEN VRAGEN'!A38 -> Vraag 4.4: Kennisontwikkeling en kennisdeling | C36: SCORE | F36: SCORE | I36: SCORE
A37: ='OPEN VRAGEN'!A39 -> Zie bijlage 7 Gunningscriteria kwaliteit. | C37: <MOTIVATIE> | F37: <MOTIVATIE> | I37: <MOTIVATIE>
A38: ='OPEN VRAGEN'!A40 -> Gunningscriterium 5: Strategisch partnerschap
A39: ='OPEN VRAGEN'!A41 -> Vraag 5.1: Rol als strategisch partner | C39: SCORE | F39: SCORE | I39: SCORE
A40: ='OPEN VRAGEN'!A42 -> Zie bijlage 7 Gunningscriteria kwaliteit. | C40: <MOTIVATIE> | F40: <MOTIVATIE> | I40: <MOTIVATIE>

Sheet Beoordelaar 10
A1: Beoordelaar 10 – Directeur Onderwijs & Organisatie-ontwikkeling | C1: ='Beoordelaar 1'!C1 -> INSCHRIJVER 1 | F1: ='Beoordelaar 1'!F1 -> INSCHRIJVER 2 | I1: ='Beoordelaar 1'!I1 -> INSCHRIJVER 3
A2: ='OPEN VRAGEN'!A4 -> Gunningscriterium 1: Casus LLO – Inrichten van het offerte- en calculatieproces
A3: ='OPEN VRAGEN'!A5 -> Vraag 1.1: Procesinrichting | C3: n.v.t. | F3: n.v.t. | I3: n.v.t.
A4: ='OPEN VRAGEN'!A6 -> Zie bijlage 7 Gunningscriteria kwaliteit. | C4: Deze rol beoordeelt dit gunningscriterium niet (§ 5.3 aanbestedingsdocument). | F4: Deze rol beoordeelt dit gunningscriterium niet (§ 5.3 aanbestedingsdocument). | I4: Deze rol beoordeelt dit gunningscriterium niet (§ 5.3 aanbestedingsdocument).
A5: ='OPEN VRAGEN'!A7 -> Vraag 1.2: Koppelingen en datastromen | C5: n.v.t. | F5: n.v.t. | I5: n.v.t.
A6: ='OPEN VRAGEN'!A8 -> Zie bijlage 7 Gunningscriteria kwaliteit. | C6: Deze rol beoordeelt dit gunningscriterium niet (§ 5.3 aanbestedingsdocument). | F6: Deze rol beoordeelt dit gunningscriterium niet (§ 5.3 aanbestedingsdocument). | I6: Deze rol beoordeelt dit gunningscriterium niet (§ 5.3 aanbestedingsdocument).
A7: ='OPEN VRAGEN'!A9 -> Vraag 1.3: Schaalbaarheid, beheer en toekomstbestendigheid | C7: n.v.t. | F7: n.v.t. | I7: n.v.t.
A8: ='OPEN VRAGEN'!A10 -> Zie bijlage 7 Gunningscriteria kwaliteit. | C8: Deze rol beoordeelt dit gunningscriterium niet (§ 5.3 aanbestedingsdocument). | F8: Deze rol beoordeelt dit gunningscriterium niet (§ 5.3 aanbestedingsdocument). | I8: Deze rol beoordeelt dit gunningscriterium niet (§ 5.3 aanbestedingsdocument).
A9: ='OPEN VRAGEN'!A11 -> Gunningscriterium 2: Borging van adoptie & duurzaam gebruik van de oplossing
A10: ='OPEN VRAGEN'!A12 -> Vraag 2.1: Adoptiestrategie van Inschrijver | C10: SCORE | F10: SCORE | I10: SCORE
A11: ='OPEN VRAGEN'!A13 -> Zie bijlage 7 Gunningscriteria kwaliteit. | C11: <MOTIVATIE> | F11: <MOTIVATIE> | I11: <MOTIVATIE>
A12: ='OPEN VRAGEN'!A14 -> Vraag 2.2: Trainingsaanpak voor gebruikers én functioneel beheerders | C12: SCORE | F12: SCORE | I12: SCORE
A13: ='OPEN VRAGEN'!A15 -> Zie bijlage 7 Gunningscriteria kwaliteit. | C13: <MOTIVATIE> | F13: <MOTIVATIE> | I13: <MOTIVATIE>
A14: ='OPEN VRAGEN'!A16 -> Vraag 2.3: Borging zelfstandigheid beheerorganisatie | C14: SCORE | F14: SCORE | I14: SCORE
A15: ='OPEN VRAGEN'!A17 -> Zie bijlage 7 Gunningscriteria kwaliteit. | C15: <MOTIVATIE> | F15: <MOTIVATIE> | I15: <MOTIVATIE>
A16: ='OPEN VRAGEN'!A18 -> Vraag 2.4: Monitoring & continu verbeteren | C16: SCORE | F16: SCORE | I16: SCORE
A17: ='OPEN VRAGEN'!A19 -> Zie bijlage 7 Gunningscriteria kwaliteit. | C17: <MOTIVATIE> | F17: <MOTIVATIE> | I17: <MOTIVATIE>
A18: ='OPEN VRAGEN'!A20 -> Gunningscriterium 3: Casus: Ontwikkeling dashboards en rapportages
A19: ='OPEN VRAGEN'!A21 -> Vraag 3.1: Gefaseerde aanpak | C19: SCORE | F19: SCORE | I19: SCORE
A20: ='OPEN VRAGEN'!A22 -> Zie bijlage 7 Gunningscriteria kwaliteit. | C20: <MOTIVATIE> | F20: <MOTIVATIE> | I20: <MOTIVATIE>
A21: ='OPEN VRAGEN'!A23 -> Vraag 3.2: Ontwerpkeuzes op hoofdlijnen | C21: SCORE | F21: SCORE | I21: SCORE
A22: ='OPEN VRAGEN'!A24 -> Zie bijlage 7 Gunningscriteria kwaliteit. | C22: <MOTIVATIE> | F22: <MOTIVATIE> | I22: <MOTIVATIE>
A23: ='OPEN VRAGEN'!A25 -> Vraag 3.3: Vertrouwen in cijfers | C23: SCORE | F23: SCORE | I23: SCORE
A24: ='OPEN VRAGEN'!A26 -> Zie bijlage 7 Gunningscriteria kwaliteit. | C24: <MOTIVATIE> | F24: <MOTIVATIE> | I24: <MOTIVATIE>
A25: ='OPEN VRAGEN'!A27 -> Vraag 3.4: Samenwerking en overdraagbaarheid | C25: SCORE | F25: SCORE | I25: SCORE
A26: ='OPEN VRAGEN'!A28 -> Zie bijlage 7 Gunningscriteria kwaliteit. | C26: <MOTIVATIE> | F26: <MOTIVATIE> | I26: <MOTIVATIE>
A27: ='OPEN VRAGEN'!A29 -> Vraag 3.5: Proactieve advieswaarde en ondersteuning van datagedreven werken | C27: SCORE | F27: SCORE | I27: SCORE
A28: ='OPEN VRAGEN'!A30 -> Zie bijlage 7 Gunningscriteria kwaliteit. | C28: <MOTIVATIE> | F28: <MOTIVATIE> | I28: <MOTIVATIE>
A29: ='OPEN VRAGEN'!A31 -> Gunningscriterium 4: Teamsamenstelling, continuïteit en samenwerking
A30: ='OPEN VRAGEN'!A32 -> Vraag 4.1: Teamsamenstelling, inzetbaarheid en capaciteit | C30: SCORE | F30: SCORE | I30: SCORE
A31: ='OPEN VRAGEN'!A33 -> Zie bijlage 7 Gunningscriteria kwaliteit. | C31: <MOTIVATIE> | F31: <MOTIVATIE> | I31: <MOTIVATIE>
A32: ='OPEN VRAGEN'!A34 -> Vraag 4.2: Afstemming en samenhang tussen projecten i.r.t. inrichting | C32: SCORE | F32: SCORE | I32: SCORE
A33: ='OPEN VRAGEN'!A35 -> Zie bijlage 7 Gunningscriteria kwaliteit. | C33: <MOTIVATIE> | F33: <MOTIVATIE> | I33: <MOTIVATIE>
A34: ='OPEN VRAGEN'!A36 -> Vraag 4.3: Ondersteuning na oplevering | C34: SCORE | F34: SCORE | I34: SCORE
A35: ='OPEN VRAGEN'!A37 -> Zie bijlage 7 Gunningscriteria kwaliteit. | C35: <MOTIVATIE> | F35: <MOTIVATIE> | I35: <MOTIVATIE>
A36: ='OPEN VRAGEN'!A38 -> Vraag 4.4: Kennisontwikkeling en kennisdeling | C36: SCORE | F36: SCORE | I36: SCORE
A37: ='OPEN VRAGEN'!A39 -> Zie bijlage 7 Gunningscriteria kwaliteit. | C37: <MOTIVATIE> | F37: <MOTIVATIE> | I37: <MOTIVATIE>
A38: ='OPEN VRAGEN'!A40 -> Gunningscriterium 5: Strategisch partnerschap
A39: ='OPEN VRAGEN'!A41 -> Vraag 5.1: Rol als strategisch partner | C39: SCORE | F39: SCORE | I39: SCORE
A40: ='OPEN VRAGEN'!A42 -> Zie bijlage 7 Gunningscriteria kwaliteit. | C40: <MOTIVATIE> | F40: <MOTIVATIE> | I40: <MOTIVATIE>

Sheet Consensus
A1: 1998 | D1: ='Beoordelaar 1'!C1 -> INSCHRIJVER 1 | G1: ='Beoordelaar 1'!F1 -> INSCHRIJVER 2 | J1: ='Beoordelaar 1'!I1 -> INSCHRIJVER 3
A2: Gunningscriterium / beoordelaar | D2: Score | E2: Motivatie consensus: | G2: Score | H2: Motivatie consensus: | J2: Score | K2: Motivatie consensus:
A3: ='OPEN VRAGEN'!A4 -> Gunningscriterium 1: Casus LLO – Inrichten van het offerte- en calculatieproces
A4: ='OPEN VRAGEN'!A5 -> Vraag 1.1: Procesinrichting | B4: ='Beoordelaar 1'!$A$1 -> Beoordelaar 1 – Projectleider | D4: ='Beoordelaar 1'!C3 -> SCORE | E4: <MOTIVATIE> | G4: ='Beoordelaar 1'!F3 -> SCORE | H4: <MOTIVATIE> | J4: ='Beoordelaar 1'!I3 -> SCORE | K4: <MOTIVATIE>
B5: ='Beoordelaar 2'!$A$1 -> Beoordelaar 2 – Materiedeskundige LLO, extern IV&ICT | D5: ='Beoordelaar 2'!C3 -> SCORE | G5: ='Beoordelaar 2'!F3 -> SCORE | J5: ='Beoordelaar 2'!I3 -> SCORE
B6: ='Beoordelaar 3'!$A$1 -> Beoordelaar 3 – Accountmanager bedrijfsopleidingen LLO, user CRM | D6: ='Beoordelaar 3'!C3 -> SCORE | G6: ='Beoordelaar 3'!F3 -> SCORE | J6: ='Beoordelaar 3'!I3 -> SCORE
B7: ='Beoordelaar 4'!$A$1 -> Beoordelaar 4 – Medewerker backoffice bedrijfsopleidingen / key user CRM | D7: ='Beoordelaar 4'!C3 -> SCORE | G7: ='Beoordelaar 4'!F3 -> SCORE | J7: ='Beoordelaar 4'!I3 -> SCORE
B8: ='Beoordelaar 5'!$A$1 -> Beoordelaar 5 – Programmamanager LLO | D8: ='Beoordelaar 5'!C3 -> SCORE | G8: ='Beoordelaar 5'!F3 -> SCORE | J8: ='Beoordelaar 5'!I3 -> SCORE
B9: ='Beoordelaar 6'!$A$1 -> Beoordelaar 6 – Functioneel beheerder | D9: ='Beoordelaar 6'!C3 -> SCORE | G9: ='Beoordelaar 6'!F3 -> SCORE | J9: ='Beoordelaar 6'!I3 -> SCORE
B10: ='Beoordelaar 7'!$A$1 -> Beoordelaar 7 – Key user CRM Marketing en communicatie | D10: n.v.t. | G10: n.v.t. | J10: n.v.t.
B11: ='Beoordelaar 8'!$A$1 -> Beoordelaar 8 – User CRM Marketing en communicatie | D11: n.v.t. | G11: n.v.t. | J11: n.v.t.
B12: ='Beoordelaar 9'!$A$1 -> Beoordelaar 9 – Informatiemanager IV&ICT | D12: n.v.t. | G12: n.v.t. | J12: n.v.t.
B13: ='Beoordelaar 10'!$A$1 -> Beoordelaar 10 – Directeur Onderwijs & Organisatie-ontwikkeling | D13: n.v.t. | G13: n.v.t. | J13: n.v.t.
A14: Consensus | D14: SCORE | G14: SCORE | J14: SCORE
A15: Waarde (bijlage 9) | D15: =IF(D14="Uitmuntend","€ 7.012,50",IF(D14="Goed","€ 5.610",IF(D14="Voldoende","€ 0",IF(D14="Matig","- € 7.012,50",IF(D14="Onvoldoende","-€ 28.050"," "))))) | G15: =IF(G14="Uitmuntend","€ 7.012,50",IF(G14="Goed","€ 5.610",IF(G14="Voldoende","€ 0",IF(G14="Matig","- € 7.012,50",IF(G14="Onvoldoende","-€ 28.050"," "))))) | J15: =IF(J14="Uitmuntend","€ 7.012,50",IF(J14="Goed","€ 5.610",IF(J14="Voldoende","€ 0",IF(J14="Matig","- € 7.012,50",IF(J14="Onvoldoende","-€ 28.050"," ")))))
A17: ='OPEN VRAGEN'!A7 -> Vraag 1.2: Koppelingen en datastromen | B17: ='Beoordelaar 1'!$A$1 -> Beoordelaar 1 – Projectleider | D17: ='Beoordelaar 1'!C5 -> SCORE | E17: <MOTIVATIE> | G17: ='Beoordelaar 1'!F5 -> SCORE | H17: <MOTIVATIE> | J17: ='Beoordelaar 1'!I5 -> SCORE | K17: <MOTIVATIE>
B18: ='Beoordelaar 2'!$A$1 -> Beoordelaar 2 – Materiedeskundige LLO, extern IV&ICT | D18: ='Beoordelaar 2'!C5 -> SCORE | G18: ='Beoordelaar 2'!F5 -> SCORE | J18: ='Beoordelaar 2'!I5 -> SCORE
B19: ='Beoordelaar 3'!$A$1 -> Beoordelaar 3 – Accountmanager bedrijfsopleidingen LLO, user CRM | D19: ='Beoordelaar 3'!C5 -> SCORE | G19: ='Beoordelaar 3'!F5 -> SCORE | J19: ='Beoordelaar 3'!I5 -> SCORE
B20: ='Beoordelaar 4'!$A$1 -> Beoordelaar 4 – Medewerker backoffice bedrijfsopleidingen / key user CRM | D20: ='Beoordelaar 4'!C5 -> SCORE | G20: ='Beoordelaar 4'!F5 -> SCORE | J20: ='Beoordelaar 4'!I5 -> SCORE
B21: ='Beoordelaar 5'!$A$1 -> Beoordelaar 5 – Programmamanager LLO | D21: ='Beoordelaar 5'!C5 -> SCORE | G21: ='Beoordelaar 5'!F5 -> SCORE | J21: ='Beoordelaar 5'!I5 -> SCORE
B22: ='Beoordelaar 6'!$A$1 -> Beoordelaar 6 – Functioneel beheerder | D22: ='Beoordelaar 6'!C5 -> SCORE | G22: ='Beoordelaar 6'!F5 -> SCORE | J22: ='Beoordelaar 6'!I5 -> SCORE
