Workbook
Name SCORE: 'OPEN VRAGEN'!$C$1:$C$6

Sheet OPEN VRAGEN
A1: BEANTWOORDING VAN DE OPEN VRAGEN – GUNNINGSCRITERIA KWALITEIT TC26MD | C1: SCORE
A2: Naast de gestelde eisen uit deze aanbesteding is de Aanbestedende dienst op zoek naar een Opdrachtnemer, of beter een partner, die haar gedurende de periode van de Raamovereenkomst kan voorzien van veel toegevoegde waarde en advies. Hoe meer toegevoegde waarde een Inschrijver biedt, ten opzichte van wat er al vereist is, hoe hoger zij op dit onderdeel kwaliteit scoort. De waarden per score volgen uit bijlage 9 en worden bij gunnen op waarde in mindering gebracht op de inschrijfprijs. | C2: Uitmuntend
C3: Goed
A4: Gunningscriterium 1: Casus LLO – Inrichten van het offerte- en calculatieproces | C4: Voldoende
A5: Vraag 1.1: Procesinrichting | C5: Matig
A6: Zie bijlage 7 Gunningscriteria kwaliteit. | C6: Onvoldoende
A7: Vraag 1.2: Koppelingen en datastromen
A8: Zie bijlage 7 Gunningscriteria kwaliteit.
A9: Vraag 1.3: Schaalbaarheid, beheer en toekomstbestendigheid
A10: Zie bijlage 7 Gunningscriteria kwaliteit.
A11: Gunningscriterium 2: Borging van adoptie & duurzaam gebruik van de oplossing
A12: Vraag 2.1: Adoptiestrategie van Inschrijver
A13: Zie bijlage 7 Gunningscriteria kwaliteit.
A14: Vraag 2.2: Trainingsaanpak voor gebruikers én functioneel beheerders
A15: Zie bijlage 7 Gunningscriteria kwaliteit.
A16: Vraag 2.3: Borging zelfstandigheid beheerorganisatie
A17: Zie bijlage 7 Gunningscriteria kwaliteit.
A18: Vraag 2.4: Monitoring & continu verbeteren
... A49: Onvoldoende (1)

Sheet Beoordelaar 1
A1: Beoordelaar 1 – Projectleider | C1: INSCHRIJVER 1 | F1: INSCHRIJVER 2 | I1: INSCHRIJVER 3
A2: ='OPEN VRAGEN'!A4 -> Gunningscriterium 1: Casus LLO – Inrichten van het offerte- en calculatieproces
A3: ='OPEN VRAGEN'!A5 -> Vraag 1.1: Procesinrichting | C3: SCORE | F3: SCORE | I3: SCORE
A4: ='OPEN VRAGEN'!A6 -> Zie bijlage 7 Gunningscriteria kwaliteit. | C4: <MOTIVATIE> | F4: <MOTIVATIE> | I4: <MOTIVATIE>
A5: ='OPEN VRAGEN'!A7 -> Vraag 1.2: Koppelingen en datastromen | C5: SCORE | F5: SCORE | I5: SCORE
A6: ='OPEN VRAGEN'!A8 -> Zie bijlage 7 Gunningscriteria kwaliteit. | C6: <MOTIVATIE> | F6: <MOTIVATIE> | I6: <MOTIVATIE>
A7: ='OPEN VRAGEN'!A9 -> Vraag 1.3: Schaalbaarheid, beheer en toekomstbestendigheid | C7: SCORE | F7: SCORE | I7: SCORE
A8: ='OPEN VRAGEN'!A10 -> Zie bijlage 7 Gunningscriteria kwaliteit. | C8: <MOTIVATIE> | F8: <MOTIVATIE> | I8: <MOTIVATIE>
A9: ='OPEN VRAGEN'!A11 -> Gunningscriterium 2: Borging van adoptie & duurzaam gebruik van de oplossing
A10: ='OPEN VRAGEN'!A12 -> Vraag 2.1: Adoptiestrategie van Inschrijver | C10: SCORE | F10: SCORE | I10: SCORE
A11: ='OPEN VRAGEN'!A13 -> Zie bijlage 7 Gunningscriteria kwaliteit. | C11: <MOTIVATIE> | F11: <MOTIVATIE> | I11: <MOTIVATIE>
A12: ='OPEN VRAGEN'!A14 -> Vraag 2.2: Trainingsaanpak voor gebruikers én functioneel beheerders | C12: SCORE | F12: SCORE | I12: SCORE
A13: ='OPEN VRAGEN'!A15 -> Zie bijlage 7 Gunningscriteria kwaliteit. | C13: <MOTIVATIE> | F13: <MOTIVATIE> | I13: <MOTIVATIE>
A14: ='OPEN VRAGEN'!A16 -> Vraag 2.3: Borging zelfstandigheid beheerorganisatie | C14: SCORE | F14: SCORE | I14: SCORE
A15: ='OPEN VRAGEN'!A17 -> Zie bijlage 7 Gunningscriteria kwaliteit. | C15: <MOTIVATIE> | F15: <MOTIVATIE> | I15: <MOTIVATIE>
A16: ='OPEN VRAGEN'!A18 -> Vraag 2.4: Monitoring & continu verbeteren | C16: SCORE | F16: SCORE | I16: SCORE
A17: ='OPEN VRAGEN'!A19 -> Zie bijlage 7 Gunningscriteria kwaliteit. | C17: <MOTIVATIE> | F17: <MOTIVATIE> | I17: <MOTIVATIE>
A18: ='OPEN VRAGEN'!A20 -> Gunningscriterium 3: Casus: Ontwikkeling dashboards en rapportages
A19: ='OPEN VRAGEN'!A21 -> Vraag 3.1: Gefaseerde aanpak | C19: n.v.t. | F19: n.v.t. | I19: n.v.t.
A20: ='OPEN VRAGEN'!A22 -> Zie bijlage 7 Gunningscriteria kwaliteit. | C20: Deze rol beoordeelt dit gunningscriterium niet (§ 5.3 aanbestedingsdocument). | F20: Deze rol beoordeelt dit gunningscriterium niet (§ 5.3 aanbestedingsdocument). | I20: Deze rol beoordeelt dit gunningscriterium niet (§ 5.3 aanbestedingsdocument).
A21: ='OPEN VRAGEN'!A23 -> Vraag 3.2: Ontwerpkeuzes op hoofdlijnen | C21: n.v.t. | F21: n.v.t. | I21: n.v.t.
A22: ='OPEN VRAGEN'!A24 -> Zie bijlage 7 Gunningscriteria kwaliteit. | C22: Deze rol beoordeelt dit gunningscriterium niet (§ 5.3 aanbestedingsdocument). | F22: Deze rol beoordeelt dit gunningscriterium niet (§ 5.3 aanbestedingsdocument). | I22: Deze rol beoordeelt dit gunningscriterium niet (§ 5.3 aanbestedingsdocument).
A23: ='OPEN VRAGEN'!A25 -> Vraag 3.3: Vertrouwen in cijfers | C23: n.v.t. | F23: n.v.t. | I23: n.v.t.
A24: ='OPEN VRAGEN'!A26 -> Zie bijlage 7 Gunningscriteria kwaliteit. | C24: Deze rol beoordeelt dit gunningscriterium niet (§ 5.3 aanbestedingsdocument). | F24: Deze rol beoordeelt dit gunningscriterium niet (§ 5.3 aanbestedingsdocument). | I24: Deze rol beoordeelt dit gunningscriterium niet (§ 5.3 aanbestedingsdocument).
A25: ='OPEN VRAGEN'!A27 -> Vraag 3.4: Samenwerking en overdraagbaarheid | C25: n.v.t. | F25: n.v.t. | I25: n.v.t.
A26: ='OPEN VRAGEN'!A28 -> Zie bijlage 7 Gunningscriteria kwaliteit. | C26: Deze rol beoordeelt dit gunningscriterium niet (§ 5.3 aanbestedingsdocument). | F26: Deze rol beoordeelt dit gunningscriterium niet (§ 5.3 aanbestedingsdocument). | I26: Deze rol beoordeelt dit gunningscriterium niet (§ 5.3 aanbestedingsdocument).
A27: ='OPEN VRAGEN'!A29 -> Vraag 3.5: Proactieve advieswaarde en ondersteuning van datagedreven werken | C27: n.v.t. | F27: n.v.t. | I27: n.v.t.
A28: ='OPEN VRAGEN'!A30 -> Zie bijlage 7 Gunningscriteria kwaliteit. | C28: Deze rol beoordeelt dit gunningscriterium niet (§ 5.3 aanbestedingsdocument). | F28: Deze rol beoordeelt dit gunningscriterium niet (§ 5.3 aanbestedingsdocument). | I28: Deze rol beoordeelt dit gunningscriterium niet (§ 5.3 aanbestedingsdocument).
A29: ='OPEN VRAGEN'!A31 -> Gunningscriterium 4: Teamsamenstelling, continuïteit en samenwerking
A30: ='OPEN VRAGEN'!A32 -> Vraag 4.1: Teamsamenstelling, inzetbaarheid en capaciteit | C30: SCORE | F30: SCORE | I30: SCORE
A31: ='OPEN VRAGEN'!A33 -> Zie bijlage 7 Gunningscriteria kwaliteit. | C31: <MOTIVATIE> | F31: <MOTIVATIE> | I31: <MOTIVATIE>
A32: ='OPEN VRAGEN'!A34 -> Vraag 4.2: Afstemming en samenhang tussen projecten i.r.t. inrichting | C32: SCORE | F32: SCORE | I32: SCORE
A33: ='OPEN VRAGEN'!A35 -> Zie bijlage 7 Gunningscriteria kwaliteit. | C33: <MOTIVATIE> | F33: <MOTIVATIE> | I33: <MOTIVATIE>
A34: ='OPEN VRAGEN'!A36 -> Vraag 4.3: Ondersteuning na oplevering | C34: SCORE | F34: SCORE | I34: SCORE
A35: ='OPEN VRAGEN'!A37 -> Zie bijlage 7 Gunningscriteria kwaliteit. | C35: <MOTIVATIE> | F35: <MOTIVATIE> | I35: <MOTIVATIE>
A36: ='OPEN VRAGEN'!A38 -> Vraag 4.4: Kennisontwikkeling en kennisdeling | C36: SCORE | F36: SCORE | I36: SCORE
A37: ='OPEN VRAGEN'!A39 -> Zie bijlage 7 Gunningscriteria kwaliteit. | C37: <MOTIVATIE> | F37: <MOTIVATIE> | I37: <MOTIVATIE>
A38: ='OPEN VRAGEN'!A40 -> Gunningscriterium 5: Strategisch partnerschap
A39: ='OPEN VRAGEN'!A41 -> Vraag 5.1: Rol als strategisch partner | C39: SCORE | F39: SCORE | I39: SCORE
A40: ='OPEN VRAGEN'!A42 -> Zie bijlage 7 Gunningscriteria kwaliteit. | C40: <MOTIVATIE> | F40: <MOTIVATIE> | I40: <MOTIVATIE>

Sheet Beoordelaar 2
A1: Beoordelaar 2 – Materiedeskundige LLO, extern IV&ICT | C1: ='Beoordelaar 1'!C1 -> INSCHRIJVER 1 | F1: ='Beoordelaar 1'!F1 -> INSCHRIJVER 2 | I1: ='Beoordelaar 1'!I1 -> INSCHRIJVER 3
A2: ='OPEN VRAGEN'!A4 -> Gunningscriterium 1: Casus LLO – Inrichten van het offerte- en calculatieproces
A3: ='OPEN VRAGEN'!A5 -> Vraag 1.1: Procesinrichting | C3: SCORE | F3: SCORE | I3: SCORE
A4: ='OPEN VRAGEN'!A6 -> Zie bijlage 7 Gunningscriteria kwaliteit. | C4: <MOTIVATIE> | F4: <MOTIVATIE> | I4: <MOTIVATIE>
A5: ='OPEN VRAGEN'!A7 -> Vraag 1.2: Koppelingen en datastromen | C5: SCORE | F5: SCORE | I5: SCORE
A6: ='OPEN VRAGEN'!A8 -> Zie bijlage 7 Gunningscriteria kwaliteit. | C6: <MOTIVATIE> | F6: <MOTIVATIE> | I6: <MOTIVATIE>
A7: ='OPEN VRAGEN'!A9 -> Vraag 1.3: Schaalbaarheid, beheer en toekomstbestendigheid | C7: SCORE | F7: SCORE | I7: SCORE
A8: ='OPEN VRAGEN'!A10 -> Zie bijlage 7 Gunningscriteria kwaliteit. | C8: <MOTIVATIE> | F8: <MOTIVATIE> | I8: <MOTIVATIE>
A9: ='OPEN VRAGEN'!A11 -> Gunningscriterium 2: Borging van adoptie & duurzaam gebruik van de oplossing
A10: ='OPEN VRAGEN'!A12 -> Vraag 2.1: Adoptiestrategie van Inschrijver | C10: SCORE | F10: SCORE | I10: SCORE
A11: ='OPEN VRAGEN'!A13 -> Zie bijlage 7 Gunningscriteria kwaliteit. | C11: <MOTIVATIE> | F11: <MOTIVATIE> | I11: <MOTIVATIE>
A12: ='OPEN VRAGEN'!A14 -> Vraag 2.2: Trainingsaanpak voor gebruikers én functioneel beheerders | C12: SCORE | F12: SCORE | I12: SCORE
A13: ='OPEN VRAGEN'!A15 -> Zie bijlage 7 Gunningscriteria kwaliteit. | C13: <MOTIVATIE> | F13: <MOTIVATIE> | I13: <MOTIVATIE>
A14: ='OPEN VRAGEN'!A16 -> Vraag 2.3: Borging zelfstandigheid beheerorganisatie | C14: SCORE | F14: SCORE | I14: SCORE
A15: ='OPEN VRAGEN'!A17 -> Zie bijlage 7 Gunningscriteria kwaliteit. | C15: <MOTIVATIE> | F15: <MOTIVATIE> | I15: <MOTIVATIE>
A16: ='OPEN VRAGEN'!A18 -> Vraag 2.4: Monitoring & continu verbeteren | C16: SCORE | F16: SCORE | I16: SCORE
A17: ='OPEN VRAGEN'!A19 -> Zie bijlage 7 Gunningscriteria kwaliteit. | C17: <MOTIVATIE> | F17: <MOTIVATIE> | I17: <MOTIVATIE>
A18: ='OPEN VRAGEN'!A20 -> Gunningscriterium 3: Casus: Ontwikkeling dashboards en rapportages
A19: ='OPEN VRAGEN'!A21 -> Vraag 3.1: Gefaseerde aanpak | C19: n.v.t. | F19: n.v.t. | I19: n.v.t.
A20: ='OPEN VRAGEN'!A22 -> Zie bijlage 7 Gunningscriteria kwaliteit. | C20: Deze rol beoordeelt dit gunningscriterium niet (§ 5.3 aanbestedingsdocument). | F20: Deze rol beoordeelt dit gunningscriterium niet (§ 5.3 aanbestedingsdocument). | I20: Deze rol beoordeelt dit gunningscriterium niet (§ 5.3 aanbestedingsdocument).
A21: ='OPEN VRAGEN'!A23 -> Vraag 3.2: Ontwerpkeuzes op hoofdlijnen | C21: n.v.t. | F21: n.v.t. | I21: n.v.t.
A22: ='OPEN VRAGEN'!A24 -> Zie bijlage 7 Gunningscriteria kwaliteit. | C22: Deze rol beoordeelt dit gunningscriterium niet (§ 5.3 aanbestedingsdocument). | F22: Deze rol beoordeelt dit gunningscriterium niet (§ 5.3 aanbestedingsdocument). | I22: Deze rol beoordeelt dit gunningscriterium niet (§ 5.3 aanbestedingsdocument).
A23: ='OPEN VRAGEN'!A25 -> Vraag 3.3: Vertrouwen in cijfers | C23: n.v.t. | F23: n.v.t. | I23: n.v.t.
A24: ='OPEN VRAGEN'!A26 -> Zie bijlage 7 Gunningscriteria kwaliteit. | C24: Deze rol beoordeelt dit gunningscriterium niet (§ 5.3 aanbestedingsdocument). | F24: Deze rol beoordeelt dit gunningscriterium niet (§ 5.3 aanbestedingsdocument). | I24: Deze rol beoordeelt dit gunningscriterium niet (§ 5.3 aanbestedingsdocument).
A25: ='OPEN VRAGEN'!A27 -> Vraag 3.4: Samenwerking en overdraagbaarheid | C25: n.v.t. | F25: n.v.t. | I25: n.v.t.
A26: ='OPEN VRAGEN'!A28 -> Zie bijlage 7 Gunningscriteria kwaliteit. | C26: Deze rol beoordeelt dit gunningscriterium niet (§ 5.3 aanbestedingsdocument). | F26: Deze rol beoordeelt dit gunningscriterium niet (§ 5.3 aanbestedingsdocument). | I26: Deze rol beoordeelt dit gunningscriterium niet (§ 5.3 aanbestedingsdocument).
A27: ='OPEN VRAGEN'!A29 -> Vraag 3.5: Proactieve advieswaarde en ondersteuning van datagedreven werken | C27: n.v.t. | F27: n.v.t. | I27: n.v.t.
A28: ='OPEN VRAGEN'!A30 -> Zie bijlage 7 Gunningscriteria kwaliteit. | C28: Deze rol beoordeelt dit gunningscriterium niet (§ 5.3 aanbestedingsdocument). | F28: Deze rol beoordeelt dit gunningscriterium niet (§ 5.3 aanbestedingsdocument). | I28: Deze rol beoordeelt dit gunningscriterium niet (§ 5.3 aanbestedingsdocument).
A29: ='OPEN VRAGEN'!A31 -> Gunningscriterium 4: Teamsamenstelling, continuïteit en samenwerking
A30: ='OPEN VRAGEN'!A32 -> Vraag 4.1: Teamsamenstelling, inzetbaarheid en capaciteit | C30: SCORE | F30: SCORE | I30: SCORE
A31: ='OPEN VRAGEN'!A33 -> Zie bijlage 7 Gunningscriteria kwaliteit. | C31: <MOTIVATIE> | F31: <MOTIVATIE> | I31: <MOTIVATIE>
A32: ='OPEN VRAGEN'!A34 -> Vraag 4.2: Afstemming en samenhang tussen projecten i.r.t. inrichting | C32: SCORE | F32: SCORE | I32: SCORE
A33: ='OPEN VRAGEN'!A35 -> Zie bijlage 7 Gunningscriteria kwaliteit. | C33: <MOTIVATIE> | F33: <MOTIVATIE> | I33: <MOTIVATIE>
A34: ='OPEN VRAGEN'!A36 -> Vraag 4.3: Ondersteuning na oplevering | C34: SCORE | F34: SCORE | I34: SCORE
A35: ='OPEN VRAGEN'!A37 -> Zie bijlage 7 Gunningscriteria kwaliteit. | C35: <MOTIVATIE> | F35: <MOTIVATIE> | I35: <MOTIVATIE>
A36: ='OPEN VRAGEN'!A38 -> Vraag 4.4: Kennisontwikkeling en kennisdeling | C36: SCORE | F36: SCORE | I36: SCORE
A37: ='OPEN VRAGEN'!A39 -> Zie bijlage 7 Gunningscriteria kwaliteit. | C37: <MOTIVATIE> | F37: <MOTIVATIE> | I37: <MOTIVATIE>
A38: ='OPEN VRAGEN'!A40 -> Gunningscriterium 5: Strategisch partnerschap
A39: ='OPEN VRAGEN'!A41 -> Vraag 5.1: Rol als strategisch partner | C39: SCORE | F39: SCORE | I39: SCORE
A40: ='OPEN VRAGEN'!A42 -> Zie bijlage 7 Gunningscriteria kwaliteit. | C40: <MOTIVATIE> | F40: <MOTIVATIE> | I40: <MOTIVATIE>

Sheet Beoordelaar 3
A1: Beoordelaar 3 – Accountmanager bedrijfsopleidingen LLO, user CRM | C1: ='Beoordelaar 1'!C1 -> INSCHRIJVER 1 | F1: ='Beoordelaar 1'!F1 -> INSCHRIJVER 2 | I1: ='Beoordelaar 1'!I1 -> INSCHRIJVER 3
A2: ='OPEN VRAGEN'!A4 -> Gunningscriterium 1: Casus LLO – Inrichten van het offerte- en calculatieproces
A3: ='OPEN VRAGEN'!A5 -> Vraag 1.1: Procesinrichting | C3: SCORE | F3: SCORE | I3: SCORE
A4: ='OPEN VRAGEN'!A6 -> Zie bijlage 7 Gunningscriteria kwaliteit. | C4: <MOTIVATIE> | F4: <MOTIVATIE> | I4: <MOTIVATIE>
A5: ='OPEN VRAGEN'!A7 -> Vraag 1.2: Koppelingen en datastromen | C5: SCORE | F5: SCORE | I5: SCORE
A6: ='OPEN VRAGEN'!A8 -> Zie bijlage 7 Gunningscriteria kwaliteit. | C6: <MOTIVATIE> | F6: <MOTIVATIE> | I6: <MOTIVATIE>
A7: ='OPEN VRAGEN'!A9 -> Vraag 1.3: Schaalbaarheid, beheer en toekomstbestendigheid | C7: SCORE | F7: SCORE | I7: SCORE
A8: ='OPEN VRAGEN'!A10 -> Zie bijlage 7 Gunningscriteria kwaliteit. | C8: <MOTIVATIE> | F8: <MOTIVATIE> | I8: <MOTIVATIE>
A9: ='OPEN VRAGEN'!A11 -> Gunningscriterium 2: Borging van adoptie & duurzaam gebruik van de oplossing
A10: ='OPEN VRAGEN'!A12 -> Vraag 2.1: Adoptiestrategie van Inschrijver | C10: SCORE | F10: SCORE | I10: SCORE
A11: ='OPEN VRAGEN'!A13 -> Zie bijlage 7 Gunningscriteria kwaliteit. | C11: <MOTIVATIE> | F11: <MOTIVATIE> | I11: <MOTIVATIE>
A12: ='OPEN VRAGEN'!A14 -> Vraag 2.2: Trainingsaanpak voor gebruikers én functioneel beheerders | C12: SCORE | F12: SCORE | I12: SCORE
A13: ='OPEN VRAGEN'!A15 -> Zie bijlage 7 Gunningscriteria kwaliteit. | C13: <MOTIVATIE> | F13: <MOTIVATIE> | I13: <MOTIVATIE>
A14: ='OPEN VRAGEN'!A16 -> Vraag 2.3: Borging zelfstandigheid beheerorganisatie | C14: SCORE | F14: SCORE | I14: SCORE
A15: ='OPEN VRAGEN'!A17 -> Zie bijlage 7 Gunningscriteria kwaliteit. | C15: <MOTIVATIE> | F15: <MOTIVATIE> | I15: <MOTIVATIE>
A16: ='OPEN VRAGEN'!A18 -> Vraag 2.4: Monitoring & continu verbeteren | C16: SCORE | F16: SCORE | I16: SCORE
A17: ='OPEN VRAGEN'!A19 -> Zie bijlage 7 Gunningscriteria kwaliteit. | C17: <MOTIVATIE> | F17: <MOTIVATIE> | I17: <MOTIVATIE>
A18: ='OPEN VRAGEN'!A20 -> Gunningscriterium 3: Casus: Ontwikkeling dashboards en rapportages
A19: ='OPEN VRAGEN'!A21 -> Vraag 3.1: Gefaseerde aanpak | C19: n.v.t. | F19: n.v.t. | I19: n.v.t.
A20: ='OPEN VRAGEN'!A22 -> Zie bijlage 7 Gunningscriteria kwaliteit. | C20: Deze rol beoordeelt dit gunningscriterium niet (§ 5.3 aanbestedingsdocument). | F20: Deze rol beoordeelt dit gunningscriterium niet (§ 5.3 aanbestedingsdocument). | I20: Deze rol beoordeelt dit gunningscriterium niet (§ 5.3 aanbestedingsdocument).
A21: ='OPEN VRAGEN'!A23 -> Vraag 3.2: Ontwerpkeuzes op hoofdlijnen | C21: n.v.t. | F21: n.v.t. | I21: n.v.t.
A22: ='OPEN VRAGEN'!A24 -> Zie bijlage 7 Gunningscriteria kwaliteit. | C22: Deze rol beoordeelt dit gunningscriterium niet (§ 5.3 aanbestedingsdocument). | F22: Deze rol beoordeelt dit gunningscriterium niet (§ 5.3 aanbestedingsdocument). | I22: Deze rol beoordeelt dit gunningscriterium niet (§ 5.3 aanbestedingsdocument).
A23: ='OPEN VRAGEN'!A25 -> Vraag 3.3: Vertrouwen in cijfers | C23: n.v.t. | F23: n.v.t. | I23: n.v.t.
A24: ='OPEN VRAGEN'!A26 -> Zie bijlage 7 Gunningscriteria kwaliteit. | C24: Deze rol beoordeelt dit gunningscriterium niet (§ 5.3 aanbestedingsdocument). | F24: Deze rol beoordeelt dit gunningscriterium niet (§ 5.3 aanbestedingsdocument). | I24: Deze rol beoordeelt dit gunningscriterium niet (§ 5.3 aanbestedingsdocument).
A25: ='OPEN VRAGEN'!A27 -> Vraag 3.4: Samenwerking en overdraagbaarheid | C25: n.v.t. | F25: n.v.t. | I25: n.v.t.
A26: ='OPEN VRAGEN'!A28 -> Zie bijlage 7 Gunningscriteria kwaliteit. | C26: Deze rol beoordeelt dit gunningscriterium niet (§ 5.3 aanbestedingsdocument). | F26: Deze rol beoordeelt dit gunningscriterium niet (§ 5.3 aanbestedingsdocument). | I26: Deze rol beoordeelt dit gunningscriterium niet (§ 5.3 aanbestedingsdocument).
A27: ='OPEN VRAGEN'!A29 -> Vraag 3.5: Proactieve advieswaarde en ondersteuning van datagedreven werken | C27: n.v.t. | F27: n.v.t. | I27: n.v.t.
A28: ='OPEN VRAGEN'!A30 -> Zie bijlage 7 Gunningscriteria kwaliteit. | C28: Deze rol beoordeelt dit gunningscriterium niet (§ 5.3 aanbestedingsdocument). | F28: Deze rol beoordeelt dit gunningscriterium niet (§ 5.3 aanbestedingsdocument). | I28: Deze rol beoordeelt dit gunningscriterium niet (§ 5.3 aanbestedingsdocument).
A29: ='OPEN VRAGEN'!A31 -> Gunningscriterium 4: Teamsamenstelling, continuïteit en samenwerking
A30: ='OPEN VRAGEN'!A32 -> Vraag 4.1: Teamsamenstelling, inzetbaarheid en capaciteit | C30: SCORE | F30: SCORE | I30: SCORE
A31: ='OPEN VRAGEN'!A33 -> Zie bijlage 7 Gunningscriteria kwaliteit. | C31: <MOTIVATIE> | F31: <MOTIVATIE> | I31: <MOTIVATIE>
A32: ='OPEN VRAGEN'!A34 -> Vraag 4.2: Afstemming en samenhang tussen projecten i.r.t. inrichting | C32: SCORE | F32: SCORE | I32: SCORE
A33: ='OPEN VRAGEN'!A35 -> Zie bijlage 7 Gunningscriteria kwaliteit. | C33: <MOTIVATIE> | F33: <MOTIVATIE> | I33: <MOTIVATIE>
A34: ='OPEN VRAGEN'!A36 -> Vraag 4.3: Ondersteuning na oplevering | C34: SCORE | F34: SCORE | I34: SCORE
A35: ='OPEN VRAGEN'!A37 -> Zie bijlage 7 Gunningscriteria kwaliteit. | C35: <MOTIVATIE> | F35: <MOTIVATIE> | I35: <MOTIVATIE>
A36: ='OPEN VRAGEN'!A38 -> Vraag 4.4: Kennisontwikkeling en kennisdeling | C36: SCORE | F36: SCORE | I36: SCORE
A37: ='OPEN VRAGEN'!A39 -> Zie bijlage 7 Gunningscriteria kwaliteit. | C37: <MOTIVATIE> | F37: <MOTIVATIE> | I37: <MOTIVATIE>
A38: ='OPEN VRAGEN'!A40 -> Gunningscriterium 5: Strategisch partnerschap
A39: ='OPEN VRAGEN'!A41 -> Vraag 5.1: Rol als strategisch partner | C39: SCORE | F39: SCORE | I39: SCORE
A40: ='OPEN VRAGEN'!A42 -> Zie bijlage 7 Gunningscriteria kwaliteit. | C40: <MOTIVATIE> | F40: <MOTIVATIE> | I40: <MOTIVATIE>

Sheet Beoordelaar 4
A1: Beoordelaar 4 – Medewerker backoffice bedrijfsopleidingen / key user CRM | C1: ='Beoordelaar 1'!C1 -> INSCHRIJVER 1 | F1: ='Beoordelaar 1'!F1 -> INSCHRIJVER 2 | I1: ='Beoordelaar 1'!I1 -> INSCHRIJVER 3
A2: ='OPEN VRAGEN'!A4 -> Gunningscriterium 1: Casus LLO – Inrichten van het offerte- en calculatieproces
A3: ='OPEN VRAGEN'!A5 -> Vraag 1.1: Procesinrichting | C3: SCORE | F3: SCORE | I3: SCORE
A4: ='OPEN VRAGEN'!A6 -> Zie bijlage 7 Gunningscriteria kwaliteit. | C4: <MOTIVATIE> | F4: <MOTIVATIE> | I4: <MOTIVATIE>
A5: ='OPEN VRAGEN'!A7 -> Vraag 1.2: Koppelingen en datastromen | C5: SCORE | F5: SCORE | I5: SCORE
A6: ='OPEN VRAGEN'!A8 -> Zie bijlage 7 Gunningscriteria kwaliteit. | C6: <MOTIVATIE> | F6: <MOTIVATIE> | I6: <MOTIVATIE>
A7: ='OPEN VRAGEN'!A9 -> Vraag 1.3: Schaalbaarheid, beheer en toekomstbestendigheid | C7: SCORE | F7: SCORE | I7: SCORE
A8: ='OPEN VRAGEN'!A10 -> Zie bijlage 7 Gunningscriteria kwaliteit. | C8: <MOTIVATIE> | F8: <MOTIVATIE> | I8: <MOTIVATIE>
A9: ='OPEN VRAGEN'!A11 -> Gunningscriterium 2: Borging van adoptie & duurzaam gebruik van de oplossing
A10: ='OPEN VRAGEN'!A12 -> Vraag 2.1: Adoptiestrategie van Inschrijver | C10: SCORE | F10: SCORE | I10: SCORE
A11: ='OPEN VRAGEN'!A13 -> Zie bijlage 7 Gunningscriteria kwaliteit. | C11: <MOTIVATIE> | F11: <MOTIVATIE> | I11: <MOTIVATIE>
A12: ='OPEN VRAGEN'!A14 -> Vraag 2.2: Trainingsaanpak voor gebruikers én functioneel beheerders | C12: SCORE | F12: SCORE | I12: SCORE
A13: ='OPEN VRAGEN'!A15 -> Zie bijlage 7 Gunningscriteria kwaliteit. | C13: <MOTIVATIE> | F13: <MOTIVATIE> | I13: <MOTIVATIE>
A14: ='OPEN VRAGEN'!A16 -> Vraag 2.3: Borging zelfstandigheid beheerorganisatie | C14: SCORE | F14: SCORE | I14: SCORE
A15: ='OPEN VRAGEN'!A17 -> Zie bijlage 7 Gunningscriteria kwaliteit. | C15: <MOTIVATIE> | F15: <MOTIVATIE> | I15: <MOTIVATIE>
A16: ='OPEN VRAGEN'!A18 -> Vraag 2.4: Monitoring & continu verbeteren | C16: SCORE | F16: SCORE | I16: SCORE
A17: ='OPEN VRAGEN'!A19 -> Zie bijlage 7 Gunningscriteria kwaliteit. | C17: <MOTIVATIE> | F17: <MOTIVATIE> | I17: <MOTIVATIE>
A18: ='OPEN VRAGEN'!A20 -> Gunningscriterium 3: Casus: Ontwikkeling dashboards en rapportages
A19: ='OPEN VRAGEN'!A21 -> Vraag 3.1: Gefaseerde aanpak | C19: n.v.t. | F19: n.v.t. | I19: n.v.t.
A20: ='OPEN VRAGEN'!A22 -> Zie bijlage 7 Gunningscriteria kwaliteit. | C20: Deze rol beoordeelt dit gunningscriterium niet (§ 5.3 aanbestedingsdocument). | F20: Deze rol beoordeelt dit gunningscriterium niet (§ 5.3 aanbestedingsdocument). | I20: Deze rol beoordeelt dit gunningscriterium niet (§ 5.3 aanbestedingsdocument).
A21: ='OPEN VRAGEN'!A23 -> Vraag 3.2: Ontwerpkeuzes op hoofdlijnen | C21: n.v.t. | F21: n.v.t. | I21: n.v.t.
A22: ='OPEN VRAGEN'!A24 -> Zie bijlage 7 Gunningscriteria kwaliteit. | C22: Deze rol beoordeelt dit gunningscriterium niet (§ 5.3 aanbestedingsdocument). | F22: Deze rol beoordeelt dit gunningscriterium niet (§ 5.3 aanbestedingsdocument). | I22: Deze rol beoordeelt dit gunningscriterium niet (§ 5.3 aanbestedingsdocument).
A23: ='OPEN VRAGEN'!A25 -> Vraag 3.3: Vertrouwen in cijfers | C23: n.v.t. | F23: n.v.t. | I23: n.v.t.
A24: ='OPEN VRAGEN'!A26 -> Zie bijlage 7 Gunningscriteria kwaliteit. | C24: Deze rol beoordeelt dit gunningscriterium niet (§ 5.3 aanbestedingsdocument). | F24: Deze rol beoordeelt dit gunningscriterium niet (§ 5.3 aanbestedingsdocument). | I24: Deze rol beoordeelt dit gunningscriterium niet (§ 5.3 aanbestedingsdocument).
A25: ='OPEN VRAGEN'!A27 -> Vraag 3.4: Samenwerking en overdraagbaarheid | C25: n.v.t. | F25: n.v.t. | I25: n.v.t.
A26: ='OPEN VRAGEN'!A28 -> Zie bijlage 7 Gunningscriteria kwaliteit. | C26: Deze rol beoordeelt dit gunningscriterium niet (§ 5.3 aanbestedingsdocument). | F26: Deze rol beoordeelt dit gunningscriterium niet (§ 5.3 aanbestedingsdocument). | I26: Deze rol beoordeelt dit gunningscriterium niet (§ 5.3 aanbestedingsdocument).
A27: ='OPEN VRAGEN'!A29 -> Vraag 3.5: Proactieve advieswaarde en ondersteuning van datagedreven werken | C27: n.v.t. | F27: n.v.t. | I27: n.v.t.
A28: ='OPEN VRAGEN'!A30 -> Zie bijlage 7 Gunningscriteria kwaliteit. | C28: Deze rol beoordeelt dit gunningscriterium niet (§ 5.3 aanbestedingsdocument). | F28: Deze rol beoordeelt dit gunningscriterium niet (§ 5.3 aanbestedingsdocument). | I28: Deze rol beoordeelt dit gunningscriterium niet (§ 5.3 aanbestedingsdocument).
A29: ='OPEN VRAGEN'!A31 -> Gunningscriterium 4: Teamsamenstelling, continuïteit en samenwerking
A30: ='OPEN VRAGEN'!A32 -> Vraag 4.1: Teamsamenstelling, inzetbaarheid en capaciteit | C30: SCORE | F30: SCORE | I30: SCORE
A31: ='OPEN VRAGEN'!A33 -> Zie bijlage 7 Gunningscriteria kwaliteit. | C31: <MOTIVATIE> | F31: <MOTIVATIE> | I31: <MOTIVATIE>
A32: ='OPEN VRAGEN'!A34 -> Vraag 4.2: Afstemming en samenhang tussen projecten i.r.t. inrichting | C32: SCORE | F32: SCORE | I32: SCORE
A33: ='OPEN VRAGEN'!A35 -> Zie bijlage 7 Gunningscriteria kwaliteit. | C33: <MOTIVATIE> | F33: <MOTIVATIE> | I33: <MOTIVATIE>
A34: ='OPEN VRAGEN'!A36 -> Vraag 4.3: Ondersteuning na oplevering | C34: SCORE | F34: SCORE | I34: SCORE
A35: ='OPEN VRAGEN'!A37 -> Zie bijlage 7 Gunningscriteria kwaliteit. | C35: <MOTIVATIE> | F35: <MOTIVATIE> | I35: <MOTIVATIE>
A36: ='OPEN VRAGEN'!A38 -> Vraag 4.4: Kennisontwikkeling en kennisdeling | C36: SCORE | F36: SCORE | I36: SCORE
A37: ='OPEN VRAGEN'!A39 -> Zie bijlage 7 Gunningscriteria kwaliteit. | C37: <MOTIVATIE> | F37: <MOTIVATIE> | I37: <MOTIVATIE>
A38: ='OPEN VRAGEN'!A40 -> Gunningscriterium 5: Strategisch partnerschap
A39: ='OPEN VRAGEN'!A41 -> Vraag 5.1: Rol als strategisch partner | C39: SCORE | F39: SCORE | I39: SCORE
A40: ='OPEN VRAGEN'!A42 -> Zie bijlage 7 Gunningscriteria kwaliteit. | C40: <MOTIVATIE> | F40: <MOTIVATIE> | I40: <MOTIVATIE>

Sheet Beoordelaar 5
A1: Beoordelaar 5 – Programmamanager LLO | C1: INSCHRIJVER 1 | F1: INSCHRIJVER 2 | I1: INSCHRIJVER 3
A2: ='OPEN VRAGEN'!A4 -> Gunningscriterium 1: Casus LLO – Inrichten van het offerte- en calculatieproces
A3: ='OPEN VRAGEN'!A5 -> Vraag 1.1: Procesinrichting | C3: SCORE | F3: SCORE | I3: SCORE
A4: ='OPEN VRAGEN'!A6 -> Zie bijlage 7 Gunningscriteria kwaliteit. | C4: <MOTIVATIE> | F4: <MOTIVATIE> | I4: <MOTIVATIE>
A5: ='OPEN VRAGEN'!A7 -> Vraag 1.2: Koppelingen en datastromen | C5: SCORE | F5: SCORE | I5: SCORE
A6: ='OPEN VRAGEN'!A8 -> Zie bijlage 7 Gunningscriteria kwaliteit. | C6: <MOTIVATIE> | F6: <MOTIVATIE> | I6: <MOTIVATIE>
A7: ='OPEN VRAGEN'!A9 -> Vraag 1.3: Schaalbaarheid, beheer en toekomstbestendigheid | C7: SCORE | F7: SCORE | I7: SCORE
A8: ='OPEN VRAGEN'!A10 -> Zie bijlage 7 Gunningscriteria kwaliteit. | C8: <MOTIVATIE> | F8: <MOTIVATIE> | I8: <MOTIVATIE>
A9: ='OPEN VRAGEN'!A11 -> Gunningscriterium 2: Borging van adoptie & duurzaam gebruik van de oplossing
A10: ='OPEN VRAGEN'!A12 -> Vraag 2.1: Adoptiestrategie van Inschrijver | C10: SCORE | F10: SCORE | I10: SCORE
A11: ='OPEN VRAGEN'!A13 -> Zie bijlage 7 Gunningscriteria kwaliteit. | C11: <MOTIVATIE> | F11: <MOTIVATIE> | I11: <MOTIVATIE>
A12: ='OPEN VRAGEN'!A14 -> Vraag 2.2: Trainingsaanpak voor gebruikers én functioneel beheerders | C12: SCORE | F12: SCORE | I12: SCORE
A13: ='OPEN VRAGEN'!A15 -> Zie bijlage 7 Gunningscriteria kwaliteit. | C13: <MOTIVATIE> | F13: <MOTIVATIE> | I13: <MOTIVATIE>
A14: ='OPEN VRAGEN'!A16 -> Vraag 2.3: Borging zelfstandigheid beheerorganisatie | C14: SCORE | F14: SCORE | I14: SCORE
A15: ='OPEN VRAGEN'!A17 -> Zie bijlage 7 Gunningscriteria kwaliteit. | C15: <MOTIVATIE> | F15: <MOTIVATIE> | I15: <MOTIVATIE>
A16: ='OPEN VRAGEN'!A18 -> Vraag 2.4: Monitoring & continu verbeteren | C16: SCORE | F16: SCORE | I16: SCORE
A17: ='OPEN VRAGEN'!A19 -> Zie bijlage 7 Gunningscriteria kwaliteit. | C17: <MOTIVATIE> | F17: <MOTIVATIE> | I17: <MOTIVATIE>
A18: ='OPEN VRAGEN'!A20 -> Gunningscriterium 3: Casus: Ontwikkeling dashboards en rapportages
A19: ='OPEN VRAGEN'!A21 -> Vraag 3.1: Gefaseerde aanpak | C19: n.v.t. | F19: n.v.t. | I19: n.v.t.
A20: ='OPEN VRAGEN'!A22 -> Zie bijlage 7 Gunningscriteria kwaliteit. | C20: Deze rol beoordeelt dit gunningscriterium niet (§ 5.3 aanbestedingsdocument). | F20: Deze rol beoordeelt dit gunningscriterium niet (§ 5.3 aanbestedingsdocument). | I20: Deze rol beoordeelt dit gunningscriterium niet (§ 5.3 aanbestedingsdocument).
A21: ='OPEN VRAGEN'!A23 -> Vraag 3.2: Ontwerpkeuzes op hoofdlijnen | C21: n.v.t. | F21: n.v.t. | I21: n.v.t.
A22: ='OPEN VRAGEN'!A24 -> Zie bijlage 7 Gunningscriteria kwaliteit. | C22: Deze rol beoordeelt dit gunningscriterium niet (§ 5.3 aanbestedingsdocument). | F22: Deze rol beoordeelt dit gunningscriterium niet (§ 5.3 aanbestedingsdocument). | I22: Deze rol beoordeelt dit gunningscriterium niet (§ 5.3 aanbestedingsdocument).
A23: ='OPEN VRAGEN'!A25 -> Vraag 3.3: Vertrouwen in cijfers | C23: n.v.t. | F23: n.v.t. | I23: n.v.t.
A24: ='OPEN VRAGEN'!A26 -> Zie bijlage 7 Gunningscriteria kwaliteit. | C24: Deze rol beoordeelt dit gunningscriterium niet (§ 5.3 aanbestedingsdocument). | F24: Deze rol beoordeelt dit gunningscriterium niet (§ 5.3 aanbestedingsdocument). | I24: Deze rol beoordeelt dit gunningscriterium niet (§ 5.3 aanbestedingsdocument).
A25: ='OPEN VRAGEN'!A27 -> Vraag 3.4: Samenwerking en overdraagbaarheid | C25: n.v.t. | F25: n.v.t. | I25: n.v.t.
A26: ='OPEN VRAGEN'!A28 -> Zie bijlage 7 Gunningscriteria kwaliteit. | C26: Deze rol beoordeelt dit gunningscriterium niet (§ 5.3 aanbestedingsdocument). | F26: Deze rol beoordeelt dit gunningscriterium niet (§ 5.3 aanbestedingsdocument). | I26: Deze rol beoordeelt dit gunningscriterium niet (§ 5.3 aanbestedingsdocument).
A27: ='OPEN VRAGEN'!A29 -> Vraag 3.5: Proactieve advieswaarde en ondersteuning van datagedreven werken | C27: n.v.t. | F27: n.v.t. | I27: n.v.t.
A28: ='OPEN VRAGEN'!A30 -> Zie bijlage 7 Gunningscriteria kwaliteit. | C28: Deze rol beoordeelt dit gunningscriterium niet (§ 5.3 aanbestedingsdocument). | F28: Deze rol beoordeelt dit gunningscriterium niet (§ 5.3 aanbestedingsdocument). | I28: Deze rol beoordeelt dit gunningscriterium niet (§ 5.3 aanbestedingsdocument).
A29: ='OPEN VRAGEN'!A31 -> Gunningscriterium 4: Teamsamenstelling, continuïteit en samenwerking
A30: ='OPEN VRAGEN'!A32 -> Vraag 4.1: Teamsamenstelling, inzetbaarheid en capaciteit | C30: SCORE | F30: SCORE | I30: SCORE
A31: ='OPEN VRAGEN'!A33 -> Zie bijlage 7 Gunningscriteria kwaliteit. | C31: <MOTIVATIE> | F31: <MOTIVATIE> | I31: <MOTIVATIE>
A32: ='OPEN VRAGEN'!A34 -> Vraag 4.2: Afstemming en samenhang tussen projecten i.r.t. inrichting | C32: SCORE | F32: SCORE | I32: SCORE
A33: ='OPEN VRAGEN'!A35 -> Zie bijlage 7 Gunningscriteria kwaliteit. | C33: <MOTIVATIE> | F33: <MOTIVATIE> | I33: <MOTIVATIE>
A34: ='OPEN VRAGEN'!A36 -> Vraag 4.3: Ondersteuning na oplevering | C34: SCORE | F34: SCORE | I34: SCORE
A35: ='OPEN VRAGEN'!A37 -> Zie bijlage 7 Gunningscriteria kwaliteit. | C35: <MOTIVATIE> | F35: <MOTIVATIE> | I35: <MOTIVATIE>
A36: ='OPEN VRAGEN'!A38 -> Vraag 4.4: Kennisontwikkeling en kennisdeling | C36: SCORE | F36: SCORE | I36: SCORE
A37: ='OPEN VRAGEN'!A39 -> Zie bijlage 7 Gunningscriteria kwaliteit. | C37: <MOTIVATIE> | F37: <MOTIVATIE> | I37: <MOTIVATIE>
A38: ='OPEN VRAGEN'!A40 -> Gunningscriterium 5: Strategisch partnerschap
A39: ='OPEN VRAGEN'!A41 -> Vraag 5.1: Rol als strategisch partner | C39: SCORE | F39: SCORE | I39: SCORE
A40: ='OPEN VRAGEN'!A42 -> Zie bijlage 7 Gunningscriteria kwaliteit. | C40: <MOTIVATIE> | F40: <MOTIVATIE> | I40: <MOTIVATIE>

Sheet Beoordelaar 6
A1: Beoordelaar 6 – Functioneel beheerder | C1: ='Beoordelaar 1'!C1 -> INSCHRIJVER 1 | F1: ='Beoordelaar 1'!F1 -> INSCHRIJVER 2 | I1: ='Beoordelaar 1'!I1 -> INSCHRIJVER 3
A2: ='OPEN VRAGEN'!A4 -> Gunningscriterium 1: Casus LLO – Inrichten van het offerte- en calculatieproces
A3: ='OPEN VRAGEN'!A5 -> Vraag 1.1: Procesinrichting | C3: SCORE | F3: SCORE | I3: SCORE
A4: ='OPEN VRAGEN'!A6 -> Zie bijlage 7 Gunningscriteria kwaliteit. | C4: <MOTIVATIE> | F4: <MOTIVATIE> | I4: <MOTIVATIE>
A5: ='OPEN VRAGEN'!A7 -> Vraag 1.2: Koppelingen en datastromen | C5: SCORE | F5: SCORE | I5: SCORE
A6: ='OPEN VRAGEN'!A8 -> Zie bijlage 7 Gunningscriteria kwaliteit. | C6: <MOTIVATIE> | F6: <MOTIVATIE> | I6: <MOTIVATIE>
A7: ='OPEN VRAGEN'!A9 -> Vraag 1.3: Schaalbaarheid, beheer en toekomstbestendigheid | C7: SCORE | F7: SCORE | I7: SCORE
A8: ='OPEN VRAGEN'!A10 -> Zie bijlage 7 Gunningscriteria kwaliteit. | C8: <MOTIVATIE> | F8: <MOTIVATIE> | I8: <MOTIVATIE>
A9: ='OPEN VRAGEN'!A11 -> Gunningscriterium 2: Borging van adoptie & duurzaam gebruik van de oplossing
A10: ='OPEN VRAGEN'!A12 -> Vraag 2.1: Adoptiestrategie van Inschrijver | C10: SCORE | F10: SCORE | I10: SCORE
A11: ='OPEN VRAGEN'!A13 -> Zie bijlage 7 Gunningscriteria kwaliteit. | C11: <MOTIVATIE> | F11: <MOTIVATIE> | I11: <MOTIVATIE>
A12: ='OPEN VRAGEN'!A14 -> Vraag 2.2: Trainingsaanpak voor gebruikers én functioneel beheerders | C12: SCORE | F12: SCORE | I12: SCORE
A13: ='OPEN VRAGEN'!A15 -> Zie bijlage 7 Gunningscriteria kwaliteit. | C13: <MOTIVATIE> | F13: <MOTIVATIE> | I13: <MOTIVATIE>
A14: ='OPEN VRAGEN'!A16 -> Vraag 2.3: Borging zelfstandigheid beheerorganisatie | C14: SCORE | F14: SCORE | I14: SCORE
A15: ='OPEN VRAGEN'!A17 -> Zie bijlage 7 Gunningscriteria kwaliteit. | C15: <MOTIVATIE> | F15: <MOTIVATIE> | I15: <MOTIVATIE>
A16: ='OPEN VRAGEN'!A18 -> Vraag 2.4: Monitoring & continu verbeteren | C16: SCORE | F16: SCORE | I16: SCORE
A17: ='OPEN VRAGEN'!A19 -> Zie bijlage 7 Gunningscriteria kwaliteit. | C17: <MOTIVATIE> | F17: <MOTIVATIE> | I17: <MOTIVATIE>
A18: ='OPEN VRAGEN'!A20 -> Gunningscriterium 3: Casus: Ontwikkeling dashboards en rapportages
A19: ='OPEN VRAGEN'!A21 -> Vraag 3.1: Gefaseerde aanpak | C19: SCORE | F19: SCORE | I19: SCORE
A20: ='OPEN VRAGEN'!A22 -> Zie bijlage 7 Gunningscriteria kwaliteit. | C20: <MOTIVATIE> | F20: <MOTIVATIE> | I20: <MOTIVATIE>
A21: ='OPEN VRAGEN'!A23 -> Vraag 3.2: Ontwerpkeuzes op hoofdlijnen | C21: SCORE | F21: SCORE | I21: SCORE
A22: ='OPEN VRAGEN'!A24 -> Zie bijlage 7 Gunningscriteria kwaliteit. | C22: <MOTIVATIE> | F22: <MOTIVATIE> | I22: <MOTIVATIE>
A23: ='OPEN VRAGEN'!A25 -> Vraag 3.3: Vertrouwen in cijfers | C23: SCORE | F23: SCORE | I23: SCORE
A24: ='OPEN VRAGEN'!A26 -> Zie bijlage 7 Gunningscriteria kwaliteit. | C24: <MOTIVATIE> | F24: <MOTIVATIE> | I24: <MOTIVATIE>
A25: ='OPEN VRAGEN'!A27 -> Vraag 3.4: Samenwerking en overdraagbaarheid | C25: SCORE | F25: SCORE | I25: SCORE
A26: ='OPEN VRAGEN'!A28 -> Zie bijlage 7 Gunningscriteria kwaliteit. | C26: <MOTIVATIE> | F26: <MOTIVATIE> | I26: <MOTIVATIE>
A27: ='OPEN VRAGEN'!A29 -> Vraag 3.5: Proactieve advieswaarde en ondersteuning van datagedreven werken | C27: SCORE | F27: SCORE | I27: SCORE
A28: ='OPEN VRAGEN'!A30 -> Zie bijlage 7 Gunningscriteria kwaliteit. | C28: <MOTIVATIE> | F28: <MOTIVATIE> | I28: <MOTIVATIE>
A29: ='OPEN VRAGEN'!A31 -> Gunningscriterium 4: Teamsamenstelling, continuïteit en samenwerking
A30: ='OPEN VRAGEN'!A32 -> Vraag 4.1: Teamsamenstelling, inzetbaarheid en capaciteit | C30: SCORE | F30: SCORE | I30: SCORE
A31: ='OPEN VRAGEN'!A33 -> Zie bijlage 7 Gunningscriteria kwaliteit. | C31: <MOTIVATIE> | F31: <MOTIVATIE> | I31: <MOTIVATIE>
A32: ='OPEN VRAGEN'!A34 -> Vraag 4.2: Afstemming en samenhang tussen projecten i.r.t. inrichting | C32: SCORE | F32: SCORE | I32: SCORE
A33: ='OPEN VRAGEN'!A35 -> Zie bijlage 7 Gunningscriteria kwaliteit. | C33: <MOTIVATIE> | F33: <MOTIVATIE> | I33: <MOTIVATIE>
A34: ='OPEN VRAGEN'!A36 -> Vraag 4.3: Ondersteuning na oplevering | C34: SCORE | F34: SCORE | I34: SCORE
A35: ='OPEN VRAGEN'!A37 -> Zie bijlage 7 Gunningscriteria kwaliteit. | C35: <MOTIVATIE> | F35: <MOTIVATIE> | I35: <MOTIVATIE>
A36: ='OPEN VRAGEN'!A38 -> Vraag 4.4: Kennisontwikkeling en kennisdeling | C36: SCORE | F36: SCORE | I36: SCORE
A37: ='OPEN VRAGEN'!A39 -> Zie bijlage 7 Gunningscriteria kwaliteit. | C37: <MOTIVATIE> | F37: <MOTIVATIE> | I37: <MOTIVATIE>
A38: ='OPEN VRAGEN'!A40 -> Gunningscriterium 5: Strategisch partnerschap
A39: ='OPEN VRAGEN'!A41 -> Vraag 5.1: Rol als strategisch partner | C39: SCORE | F39: SCORE | I39: SCORE
A40: ='OPEN VRAGEN'!A42 -> Zie bijlage 7 Gunningscriteria kwaliteit. | C40: <MOTIVATIE> | F40: <MOTIVATIE> | I40: <MOTIVATIE>

Sheet Beoordelaar 7
A1: Beoordelaar 7 – Key user CRM Marketing en communicatie | C1: ='Beoordelaar 1'!C1 -> INSCHRIJVER 1 | F1: ='Beoordelaar 1'!F1 -> INSCHRIJVER 2 | I1: ='Beoordelaar 1'!I1 -> INSCHRIJVER 3
A2: ='OPEN VRAGEN'!A4 -> Gunningscriterium 1: Casus LLO – Inrichten van het offerte- en calculatieproces
A3: ='OPEN VRAGEN'!A5 -> Vraag 1.1: Procesinrichting | C3: n.v.t. | F3: n.v.t. | I3: n.v.t.
A4: ='OPEN VRAGEN'!A6 -> Zie bijlage 7 Gunningscriteria kwaliteit. | C4: Deze rol beoordeelt dit gunningscriterium niet (§ 5.3 aanbestedingsdocument). | F4: Deze rol beoordeelt dit gunningscriterium niet (§ 5.3 aanbestedingsdocument). | I4: Deze rol beoordeelt dit gunningscriterium niet (§ 5.3 aanbestedingsdocument).
A5: ='OPEN VRAGEN'!A7 -> Vraag 1.2: Koppelingen en datastromen | C5: n.v.t. | F5: n.v.t. | I5: n.v.t.
A6: ='OPEN VRAGEN'!A8 -> Zie bijlage 7 Gunningscriteria kwaliteit. | C6: Deze rol beoordeelt dit gunningscriterium niet (§ 5.3 aanbestedingsdocument). | F6: Deze rol beoordeelt dit gunningscriterium niet (§ 5.3 aanbestedingsdocument). | I6: Deze rol beoordeelt dit gunningscriterium niet (§ 5.3 aanbestedingsdocument).
A7: ='OPEN VRAGEN'!A9 -> Vraag 1.3: Schaalbaarheid, beheer en toekomstbestendigheid | C7: n.v.t. | F7: n.v.t. | I7: n.v.t.
A8: ='OPEN VRAGEN'!A10 -> Zie bijlage 7 Gunningscriteria kwaliteit. | C8: Deze rol beoordeelt dit gunningscriterium niet (§ 5.3 aanbestedingsdocument). | F8: Deze rol beoordeelt dit gunningscriterium niet (§ 5.3 aanbestedingsdocument). | I8: Deze rol beoordeelt dit gunningscriterium niet (§ 5.3 aanbestedingsdocument).
A9: ='OPEN VRAGEN'!A11 -> Gunningscriterium 2: Borging van adoptie & duurzaam gebruik van de oplossing
A10: ='OPEN VRAGEN'!A12 -> Vraag 2.1: Adoptiestrategie van Inschrijver | C10: SCORE | F10: SCORE | I10: SCORE
A11: ='OPEN VRAGEN'!A13 -> Zie bijlage 7 Gunningscriteria kwaliteit. | C11: <MOTIVATIE> | F11: <MOTIVATIE> | I11: <MOTIVATIE>
A12: ='OPEN VRAGEN'!A14 -> Vraag 2.2: Trainingsaanpak voor gebruikers én functioneel beheerders | C12: SCORE | F12: SCORE | I12: SCORE
A13: ='OPEN VRAGEN'!A15 -> Zie bijlage 7 Gunningscriteria kwaliteit. | C13: <MOTIVATIE> | F13: <MOTIVATIE> | I13: <MOTIVATIE>
A14: ='OPEN VRAGEN'!A16 -> Vraag 2.3: Borging zelfstandigheid beheerorganisatie | C14: SCORE | F14: SCORE | I14: SCORE
A15: ='OPEN VRAGEN'!A17 -> Zie bijlage 7 Gunningscriteria kwaliteit. | C15: <MOTIVATIE> | F15: <MOTIVATIE> | I15: <MOTIVATIE>
A16: ='OPEN VRAGEN'!A18 -> Vraag 2.4: Monitoring & continu verbeteren | C16: SCORE | F16: SCORE | I16: SCORE
A17: ='OPEN VRAGEN'!A19 -> Zie bijlage 7 Gunningscriteria kwaliteit. | C17: <MOTIVATIE> | F17: <MOTIVATIE> | I17: <MOTIVATIE>
A18: ='OPEN VRAGEN'!A20 -> Gunningscriterium 3: Casus: Ontwikkeling dashboards en rapportages
A19: ='OPEN VRAGEN'!A21 -> Vraag 3.1: Gefaseerde aanpak | C19: SCORE | F19: SCORE | I19: SCORE
A20: ='OPEN VRAGEN'!A22 -> Zie bijlage 7 Gunningscriteria kwaliteit. | C20: <MOTIVATIE> | F20: <MOTIVATIE> | I20: <MOTIVATIE>
A21: ='OPEN VRAGEN'!A23 -> Vraag 3.2: Ontwerpkeuzes op hoofdlijnen | C21: SCORE | F21: SCORE | I21: SCORE
A22: ='OPEN VRAGEN'!A24 -> Zie bijlage 7 Gunningscriteria kwaliteit. | C22: <MOTIVATIE> | F22: <MOTIVATIE> | I22: <MOTIVATIE>
A23: ='OPEN VRAGEN'!A25 -> Vraag 3.3: Vertrouwen in cijfers | C23: SCORE | F23: SCORE | I23: SCORE
A24: ='OPEN VRAGEN'!A26 -> Zie bijlage 7 Gunningscriteria kwaliteit. | C24: <MOTIVATIE> | F24: <MOTIVATIE> | I24: <MOTIVATIE>
A25: ='OPEN VRAGEN'!A27 -> Vraag 3.4: Samenwerking en overdraagbaarheid | C25: SCORE | F25: SCORE | I25: SCORE
A26: ='OPEN VRAGEN'!A28 -> Zie bijlage 7 Gunningscriteria kwaliteit. | C26: <MOTIVATIE> | F26: <MOTIVATIE> | I26: <MOTIVATIE>
A27: ='OPEN VRAGEN'!A29 -> Vraag 3.5: Proactieve advieswaarde en ondersteuning van datagedreven werken | C27: SCORE | F27: SCORE | I27: SCORE
A28: ='OPEN VRAGEN'!A30 -> Zie bijlage 7 Gunningscriteria kwaliteit. | C28: <MOTIVATIE> | F28: <MOTIVATIE> | I28: <MOTIVATIE>
A29: ='OPEN VRAGEN'!A31 -> Gunningscriterium 4: Teamsamenstelling, continuïteit en samenwerking
A30: ='OPEN VRAGEN'!A32 -> Vraag 4.1: Teamsamenstelling, inzetbaarheid en capaciteit | C30: SCORE | F30: SCORE | I30: SCORE
A31: ='OPEN VRAGEN'!A33 -> Zie bijlage 7 Gunningscriteria kwaliteit. | C31: <MOTIVATIE> | F31: <MOTIVATIE> | I31: <MOTIVATIE>
A32: ='OPEN VRAGEN'!A34 -> Vraag 4.2: Afstemming en samenhang tussen projecten i.r.t. inrichting | C32: SCORE | F32: SCORE | I32: SCORE
A33: ='OPEN VRAGEN'!A35 -> Zie bijlage 7 Gunningscriteria kwaliteit. | C33: <MOTIVATIE> | F33: <MOTIVATIE> | I33: <MOTIVATIE>
A34: ='OPEN VRAGEN'!A36 -> Vraag 4.3: Ondersteuning na oplevering | C34: SCORE | F34: SCORE | I34: SCORE
A35: ='OPEN VRAGEN'!A37 -> Zie bijlage 7 Gunningscriteria kwaliteit. | C35: <MOTIVATIE> | F35: <MOTIVATIE> | I35: <MOTIVATIE>
A36: ='OPEN VRAGEN'!A38 -> Vraag 4.4: Kennisontwikkeling en kennisdeling | C36: SCORE | F36: SCORE | I36: SCORE
A37: ='OPEN VRAGEN'!A39 -> Zie bijlage 7 Gunningscriteria kwaliteit. | C37: <MOTIVATIE> | F37: <MOTIVATIE> | I37: <MOTIVATIE>
A38: ='OPEN VRAGEN'!A40 -> Gunningscriterium 5: Strategisch partnerschap
A39: ='OPEN VRAGEN'!A41 -> Vraag 5.1: Rol als strategisch partner | C39: SCORE | F39: SCORE | I39: SCORE
A40: ='OPEN VRAGEN'!A42 -> Zie bijlage 7 Gunningscriteria kwaliteit. | C40: <MOTIVATIE> | F40: <MOTIVATIE> | I40: <MOTIVATIE>

Sheet Beoordelaar 8
A1: Beoordelaar 8 – User CRM Marketing en communicatie | C1: ='Beoordelaar 1'!C1 -> INSCHRIJVER 1 | F1: ='Beoordelaar 1'!F1 -> INSCHRIJVER 2 | I1: ='Beoordelaar 1'!I1 -> INSCHRIJVER 3
A2: ='OPEN VRAGEN'!A4 -> Gunningscriterium 1: Casus LLO – Inrichten van het offerte- en calculatieproces
A3: ='OPEN VRAGEN'!A5 -> Vraag 1.1: Procesinrichting | C3: n.v.t. | F3: n.v.t. | I3: n.v.t.
A4: ='OPEN VRAGEN'!A6 -> Zie bijlage 7 Gunningscriteria kwaliteit. | C4: Deze rol beoordeelt dit gunningscriterium niet (§ 5.3 aanbestedingsdocument). | F4: Deze rol beoordeelt dit gunningscriterium niet (§ 5.3 aanbestedingsdocument). | I4: Deze rol beoordeelt dit gunningscriterium niet (§ 5.3 aanbestedingsdocument).
A5: ='OPEN VRAGEN'!A7 -> Vraag 1.2: Koppelingen en datastromen | C5: n.v.t. | F5: n.v.t. | I5: n.v.t.
A6: ='OPEN VRAGEN'!A8 -> Zie bijlage 7 Gunningscriteria kwaliteit. | C6: Deze rol beoordeelt dit gunningscriterium niet (§ 5.3 aanbestedingsdocument). | F6: Deze rol beoordeelt dit gunningscriterium niet (§ 5.3 aanbestedingsdocument). | I6: Deze rol beoordeelt dit gunningscriterium niet (§ 5.3 aanbestedingsdocument).
A7: ='OPEN VRAGEN'!A9 -> Vraag 1.3: Schaalbaarheid, beheer en toekomstbestendigheid | C7: n.v.t. | F7: n.v.t. | I7: n.v.t.
A8: ='OPEN VRAGEN'!A10 -> Zie bijlage 7 Gunningscriteria kwaliteit. | C8: Deze rol beoordeelt dit gunningscriterium niet (§ 5.3 aanbestedingsdocument). | F8: Deze rol beoordeelt dit gunningscriterium niet (§ 5.3 aanbestedingsdocument). | I8: Deze rol beoordeelt dit gunningscriterium niet (§ 5.3 aanbestedingsdocument).
A9: ='OPEN VRAGEN'!A11 -> Gunningscriterium 2: Borging van adoptie & duurzaam gebruik van de oplossing
A10: ='OPEN VRAGEN'!A12 -> Vraag 2.1: Adoptiestrategie van Inschrijver | C10: SCORE | F10: SCORE | I10: SCORE
A11: ='OPEN VRAGEN'!A13 -> Zie bijlage 7 Gunningscriteria kwaliteit. | C11: <MOTIVATIE> | F11: <MOTIVATIE> | I11: <MOTIVATIE>
A12: ='OPEN VRAGEN'!A14 -> Vraag 2.2: Trainingsaanpak voor gebruikers én functioneel beheerders | C12: SCORE | F12: SCORE | I12: SCORE
A13: ='OPEN VRAGEN'!A15 -> Zie bijlage 7 Gunningscriteria kwaliteit. | C13: <MOTIVATIE> | F13: <MOTIVATIE> | I13: <MOTIVATIE>
A14: ='OPEN VRAGEN'!A16 -> Vraag 2.3: Borging zelfstandigheid beheerorganisatie | C14: SCORE | F14: SCORE | I14: SCORE
A15: ='OPEN VRAGEN'!A17 -> Zie bijlage 7 Gunningscriteria kwaliteit. | C15: <MOTIVATIE> | F15: <MOTIVATIE> | I15: <MOTIVATIE>
A16: ='OPEN VRAGEN'!A18 -> Vraag 2.4: Monitoring & continu verbeteren | C16: SCORE | F16: SCORE | I16: SCORE
A17: ='OPEN VRAGEN'!A19 -> Zie bijlage 7 Gunningscriteria kwaliteit. | C17: <MOTIVATIE> | F17: <MOTIVATIE> | I17: <MOTIVATIE>
A18: ='OPEN VRAGEN'!A20 -> Gunningscriterium 3: Casus: Ontwikkeling dashboards en rapportages
A19: ='OPEN VRAGEN'!A21 -> Vraag 3.1: Gefaseerde aanpak | C19: SCORE | F19: SCORE | I19: SCORE
A20: ='OPEN VRAGEN'!A22 -> Zie bijlage 7 Gunningscriteria kwaliteit. | C20: <MOTIVATIE> | F20: <MOTIVATIE> | I20: <MOTIVATIE>
A21: ='OPEN VRAGEN'!A23 -> Vraag 3.2: Ontwerpkeuzes op hoofdlijnen | C21: SCORE | F21: SCORE | I21: SCORE
A22: ='OPEN VRAGEN'!A24 -> Zie bijlage 7 Gunningscriteria kwaliteit. | C22: <MOTIVATIE> | F22: <MOTIVATIE> | I22: <MOTIVATIE>
A23: ='OPEN VRAGEN'!A25 -> Vraag 3.3: Vertrouwen in cijfers | C23: SCORE | F23: SCORE | I23: SCORE
A24: ='OPEN VRAGEN'!A26 -> Zie bijlage 7 Gunningscriteria kwaliteit. | C24: <MOTIVATIE> | F24: <MOTIVATIE> | I24: <MOTIVATIE>
A25: ='OPEN VRAGEN'!A27 -> Vraag 3.4: Samenwerking en overdraagbaarheid | C25: SCORE | F25: SCORE | I25: SCORE
A26: ='OPEN VRAGEN'!A28 -> Zie bijlage 7 Gunningscriteria kwaliteit. | C26: <MOTIVATIE> | F26: <MOTIVATIE> | I26: <MOTIVATIE>
A27: ='OPEN VRAGEN'!A29 -> Vraag 3.5: Proactieve advieswaarde en ondersteuning van datagedreven werken | C27: SCORE | F27: SCORE | I27: SCORE
A28: ='OPEN VRAGEN'!A30 -> Zie bijlage 7 Gunningscriteria kwaliteit. | C28: <MOTIVATIE> | F28: <MOTIVATIE> | I28: <MOTIVATIE>
A29: ='OPEN VRAGEN'!A31 -> Gunningscriterium 4: Teamsamenstelling, continuïteit en samenwerking
A30: ='OPEN VRAGEN'!A32 -> Vraag 4.1: Teamsamenstelling, inzetbaarheid en capaciteit | C30: SCORE | F30: SCORE | I30: SCORE
A31: ='OPEN VRAGEN'!A33 -> Zie bijlage 7 Gunningscriteria kwaliteit. | C31: <MOTIVATIE> | F31: <MOTIVATIE> | I31: <MOTIVATIE>
A32: ='OPEN VRAGEN'!A34 -> Vraag 4.2: Afstemming en samenhang tussen projecten i.r.t. inrichting | C32: SCORE | F32: SCORE | I32: SCORE
A33: ='OPEN VRAGEN'!A35 -> Zie bijlage 7 Gunningscriteria kwaliteit. | C33: <MOTIVATIE> | F33: <MOTIVATIE> | I33: <MOTIVATIE>
A34: ='OPEN VRAGEN'!A36 -> Vraag 4.3: Ondersteuning na oplevering | C34: SCORE | F34: SCORE | I34: SCORE
A35: ='OPEN VRAGEN'!A37 -> Zie bijlage 7 Gunningscriteria kwaliteit. | C35: <MOTIVATIE> | F35: <MOTIVATIE> | I35: <MOTIVATIE>
A36: ='OPEN VRAGEN'!A38 -> Vraag 4.4: Kennisontwikkeling en kennisdeling | C36: SCORE | F36: SCORE | I36: SCORE
A37: ='OPEN VRAGEN'!A39 -> Zie bijlage 7 Gunningscriteria kwaliteit. | C37: <MOTIVATIE> | F37: <MOTIVATIE> | I37: <MOTIVATIE>
A38: ='OPEN VRAGEN'!A40 -> Gunningscriterium 5: Strategisch partnerschap
A39: ='OPEN VRAGEN'!A41 -> Vraag 5.1: Rol als strategisch partner | C39: SCORE | F39: SCORE | I39: SCORE
A40: ='OPEN VRAGEN'!A42 -> Zie bijlage 7 Gunningscriteria kwaliteit. | C40: <MOTIVATIE> | F40: <MOTIVATIE> | I40: <MOTIVATIE>

Sheet Beoordelaar 9
A1: Beoordelaar 9 – Informatiemanager IV&ICT | C1: ='Beoordelaar 1'!C1 -> INSCHRIJVER 1 | F1: ='Beoordelaar 1'!F1 -> INSCHRIJVER 2 | I1: ='Beoordelaar 1'!I1 -> INSCHRIJVER 3
A2: ='OPEN VRAGEN'!A4 -> Gunningscriterium 1: Casus LLO – Inrichten van het offerte- en calculatieproces
A3: ='OPEN VRAGEN'!A5 -> Vraag 1.1: Procesinrichting | C3: n.v.t. | F3: n.v.t. | I3: n.v.t.
A4: ='OPEN VRAGEN'!A6 -> Zie bijlage 7 Gunningscriteria kwaliteit. | C4: Deze rol beoordeelt dit gunningscriterium niet (§ 5.3 aanbestedingsdocument). | F4: Deze rol beoordeelt dit gunningscriterium niet (§ 5.3 aanbestedingsdocument). | I4: Deze rol beoordeelt dit gunningscriterium niet (§ 5.3 aanbestedingsdocument).
A5: ='OPEN VRAGEN'!A7 -> Vraag 1.2: Koppelingen en datastromen | C5: n.v.t. | F5: n.v.t. | I5: n.v.t.
A6: ='OPEN VRAGEN'!A8 -> Zie bijlage 7 Gunningscriteria kwaliteit. | C6: Deze rol beoordeelt dit gunningscriterium niet (§ 5.3 aanbestedingsdocument). | F6: Deze rol beoordeelt dit gunningscriterium niet (§ 5.3 aanbestedingsdocument). | I6: Deze rol beoordeelt dit gunningscriterium niet (§ 5.3 aanbestedingsdocument).
A7: ='OPEN VRAGEN'!A9 -> Vraag 1.3: Schaalbaarheid, beheer en toekomstbestendigheid | C7: n.v.t. | F7: n.v.t. | I7: n.v.t.
A8: ='OPEN VRAGEN'!A10 -> Zie bijlage 7 Gunningscriteria kwaliteit. | C8: Deze rol beoordeelt dit gunningscriterium niet (§ 5.3 aanbestedingsdocument). | F8: Deze rol beoordeelt dit gunningscriterium niet (§ 5.3 aanbestedingsdocument). | I8: Deze rol beoordeelt dit gunningscriterium niet (§ 5.3 aanbestedingsdocument).
A9: ='OPEN VRAGEN'!A11 -> Gunningscriterium 2: Borging van adoptie & duurzaam gebruik van de oplossing
A10: ='OPEN VRAGEN'!A12 -> Vraag 2.1: Adoptiestrategie van Inschrijver | C10: SCORE | F10: SCORE | I10: SCORE
A11: ='OPEN VRAGEN'!A13 -> Zie bijlage 7 Gunningscriteria kwaliteit. | C11: <MOTIVATIE> | F11: <MOTIVATIE> | I11: <MOTIVATIE>
A12: ='OPEN VRAGEN'!A14 -> Vraag 2.2: Trainingsaanpak voor gebruikers én functioneel beheerders | C12: SCORE | F12: SCORE | I12: SCORE
A13: ='OPEN VRAGEN'!A15 -> Zie bijlage 7 Gunningscriteria kwaliteit. | C13: <MOTIVATIE> | F13: <MOTIVATIE> | I13: <MOTIVATIE>
A14: ='OPEN VRAGEN'!A16 -> Vraag 2.3: Borging zelfstandigheid beheerorganisatie | C14: SCORE | F14: SCORE | I14: SCORE
A15: ='OPEN VRAGEN'!A17 -> Zie bijlage 7 Gunningscriteria kwaliteit. | C15: <MOTIVATIE> | F15: <MOTIVATIE> | I15: <MOTIVATIE>
A16: ='OPEN VRAGEN'!A18 -> Vraag 2.4: Monitoring & continu verbeteren | C16: SCORE | F16: SCORE | I16: SCORE
A17: ='OPEN VRAGEN'!A19 -> Zie bijlage 7 Gunningscriteria kwaliteit. | C17: <MOTIVATIE> | F17: <MOTIVATIE> | I17: <MOTIVATIE>
A18: ='OPEN VRAGEN'!A20 -> Gunningscriterium 3: Casus: Ontwikkeling dashboards en rapportages
A19: ='OPEN VRAGEN'!A21 -> Vraag 3.1: Gefaseerde aanpak | C19: SCORE | F19: SCORE | I19: SCORE
A20: ='OPEN VRAGEN'!A22 -> Zie bijlage 7 Gunningscriteria kwaliteit. | C20: <MOTIVATIE> | F20: <MOTIVATIE> | I20: <MOTIVATIE>
A21: ='OPEN VRAGEN'!A23 -> Vraag 3.2: Ontwerpkeuzes op hoofdlijnen | C21: SCORE | F21: SCORE | I21: SCORE
A22: ='OPEN VRAGEN'!A24 -> Zie bijlage 7 Gunningscriteria kwaliteit. | C22: <MOTIVATIE> | F22: <MOTIVATIE> | I22: <MOTIVATIE>
A23: ='OPEN VRAGEN'!A25 -> Vraag 3.3: Vertrouwen in cijfers | C23: SCORE | F23: SCORE | I23: SCORE
A24: ='OPEN VRAGEN'!A26 -> Zie bijlage 7 Gunningscriteria kwaliteit. | C24: <MOTIVATIE> | F24: <MOTIVATIE> | I24: <MOTIVATIE>
A25: ='OPEN VRAGEN'!A27 -> Vraag 3.4: Samenwerking en overdraagbaarheid | C25: SCORE | F25: SCORE | I25: SCORE
A26: ='OPEN VRAGEN'!A28 -> Zie bijlage 7 Gunningscriteria kwaliteit. | C26: <MOTIVATIE> | F26: <MOTIVATIE> | I26: <MOTIVATIE>
A27: ='OPEN VRAGEN'!A29 -> Vraag 3.5: Proactieve advieswaarde en ondersteuning van datagedreven werken | C27: SCORE | F27: SCORE | I27: SCORE
A28: ='OPEN VRAGEN'!A30 -> Zie bijlage 7 Gunningscriteria kwaliteit. | C28: <MOTIVATIE> | F28: <MOTIVATIE> | I28: <MOTIVATIE>
A29: ='OPEN VRAGEN'!A31 -> Gunningscriterium 4: Teamsamenstelling, continuïteit en samenwerking
A30: ='OPEN VRAGEN'!A32 -> Vraag 4.1: Teamsamenstelling, inzetbaarheid en capaciteit | C30: SCORE | F30: SCORE | I30: SCORE
A31: ='OPEN VRAGEN'!A33 -> Zie bijlage 7 Gunningscriteria kwaliteit. | C31: <MOTIVATIE> | F31: <MOTIVATIE> | I31: <MOTIVATIE>
A32: ='OPEN VRAGEN'!A34 -> Vraag 4.2: Afstemming en samenhang tussen projecten i.r.t. inrichting | C32: SCORE | F32: SCORE | I32: SCORE
A33: ='OPEN VRAGEN'!A35 -> Zie bijlage 7 Gunningscriteria kwaliteit. | C33: <MOTIVATIE> | F33: <MOTIVATIE> | I33: <MOTIVATIE>
A34: ='OPEN VRAGEN'!A36 -> Vraag 4.3: Ondersteuning na oplevering | C34: SCORE | F34: SCORE | I34: SCORE
A35: ='OPEN VRAGEN'!A37 -> Zie bijlage 7 Gunningscriteria kwaliteit. | C35: <MOTIVATIE> | F35: <MOTIVATIE> | I35: <MOTIVATIE>
A36: ='OPEN VRAGEN'!A38 -> Vraag 4.4: Kennisontwikkeling en kennisdeling | C36: SCORE | F36: SCORE | I36: SCORE
A37: ='OPEN VRAGEN'!A39 -> Zie bijlage 7 Gunningscriteria kwaliteit. | C37: <MOTIVATIE> | F37: <MOTIVATIE> | I37: <MOTIVATIE>
A38: ='OPEN VRAGEN'!A40 -> Gunningscriterium 5: Strategisch partnerschap
A39: ='OPEN VRAGEN'!A41 -> Vraag 5.1: Rol als strategisch partner | C39: SCORE | F39: SCORE | I39: SCORE
A40: ='OPEN VRAGEN'!A42 -> Zie bijlage 7 Gunningscriteria kwaliteit. | C40: <MOTIVATIE> | F40: <MOTIVATIE> | I40: <MOTIVATIE>

Sheet Beoordelaar 10
A1: Beoordelaar 10 – Directeur Onderwijs & Organisatie-ontwikkeling | C1: ='Beoordelaar 1'!C1 -> INSCHRIJVER 1 | F1: ='Beoordelaar 1'!F1 -> INSCHRIJVER 2 | I1: ='Beoordelaar 1'!I1 -> INSCHRIJVER 3
A2: ='OPEN VRAGEN'!A4 -> Gunningscriterium 1: Casus LLO – Inrichten van het offerte- en calculatieproces
A3: ='OPEN VRAGEN'!A5 -> Vraag 1.1: Procesinrichting | C3: n.v.t. | F3: n.v.t. | I3: n.v.t.
A4: ='OPEN VRAGEN'!A6 -> Zie bijlage 7 Gunningscriteria kwaliteit. | C4: Deze rol beoordeelt dit gunningscriterium niet (§ 5.3 aanbestedingsdocument). | F4: Deze rol beoordeelt dit gunningscriterium niet (§ 5.3 aanbestedingsdocument). | I4: Deze rol beoordeelt dit gunningscriterium niet (§ 5.3 aanbestedingsdocument).
A5: ='OPEN VRAGEN'!A7 -> Vraag 1.2: Koppelingen en datastromen | C5: n.v.t. | F5: n.v.t. | I5: n.v.t.
A6: ='OPEN VRAGEN'!A8 -> Zie bijlage 7 Gunningscriteria kwaliteit. | C6: Deze rol beoordeelt dit gunningscriterium niet (§ 5.3 aanbestedingsdocument). | F6: Deze rol beoordeelt dit gunningscriterium niet (§ 5.3 aanbestedingsdocument). | I6: Deze rol beoordeelt dit gunningscriterium niet (§ 5.3 aanbestedingsdocument).
A7: ='OPEN VRAGEN'!A9 -> Vraag 1.3: Schaalbaarheid, beheer en toekomstbestendigheid | C7: n.v.t. | F7: n.v.t. | I7: n.v.t.
A8: ='OPEN VRAGEN'!A10 -> Zie bijlage 7 Gunningscriteria kwaliteit. | C8: Deze rol beoordeelt dit gunningscriterium niet (§ 5.3 aanbestedingsdocument). | F8: Deze rol beoordeelt dit gunningscriterium niet (§ 5.3 aanbestedingsdocument). | I8: Deze rol beoordeelt dit gunningscriterium niet (§ 5.3 aanbestedingsdocument).
A9: ='OPEN VRAGEN'!A11 -> Gunningscriterium 2: Borging van adoptie & duurzaam gebruik van de oplossing
A10: ='OPEN VRAGEN'!A12 -> Vraag 2.1: Adoptiestrategie van Inschrijver | C10: SCORE | F10: SCORE | I10: SCORE
A11: ='OPEN VRAGEN'!A13 -> Zie bijlage 7 Gunningscriteria kwaliteit. | C11: <MOTIVATIE> | F11: <MOTIVATIE> | I11: <MOTIVATIE>
A12: ='OPEN VRAGEN'!A14 -> Vraag 2.2: Trainingsaanpak voor gebruikers én functioneel beheerders | C12: SCORE | F12: SCORE | I12: SCORE
A13: ='OPEN VRAGEN'!A15 -> Zie bijlage 7 Gunningscriteria kwaliteit. | C13: <MOTIVATIE> | F13: <MOTIVATIE> | I13: <MOTIVATIE>
A14: ='OPEN VRAGEN'!A16 -> Vraag 2.3: Borging zelfstandigheid beheerorganisatie | C14: SCORE | F14: SCORE | I14: SCORE
A15: ='OPEN VRAGEN'!A17 -> Zie bijlage 7 Gunningscriteria kwaliteit. | C15: <MOTIVATIE> | F15: <MOTIVATIE> | I15: <MOTIVATIE>
A16: ='OPEN VRAGEN'!A18 -> Vraag 2.4: Monitoring & continu verbeteren | C16: SCORE | F16: SCORE | I16: SCORE
A17: ='OPEN VRAGEN'!A19 -> Zie bijlage 7 Gunningscriteria kwaliteit. | C17: <MOTIVATIE> | F17: <MOTIVATIE> | I17: <MOTIVATIE>
A18: ='OPEN VRAGEN'!A20 -> Gunningscriterium 3: Casus: Ontwikkeling dashboards en rapportages
A19: ='OPEN VRAGEN'!A21 -> Vraag 3.1: Gefaseerde aanpak | C19: SCORE | F19: SCORE | I19: SCORE
A20: ='OPEN VRAGEN'!A22 -> Zie bijlage 7 Gunningscriteria kwaliteit. | C20: <MOTIVATIE> | F20: <MOTIVATIE> | I20: <MOTIVATIE>
A21: ='OPEN VRAGEN'!A23 -> Vraag 3.2: Ontwerpkeuzes op hoofdlijnen | C21: SCORE | F21: SCORE | I21: SCORE
A22: ='OPEN VRAGEN'!A24 -> Zie bijlage 7 Gunningscriteria kwaliteit. | C22: <MOTIVATIE> | F22: <MOTIVATIE> | I22: <MOTIVATIE>
A23: ='OPEN VRAGEN'!A25 -> Vraag 3.3: Vertrouwen in cijfers | C23: SCORE | F23: SCORE | I23: SCORE
A24: ='OPEN VRAGEN'!A26 -> Zie bijlage 7 Gunningscriteria kwaliteit. | C24: <MOTIVATIE> | F24: <MOTIVATIE> | I24: <MOTIVATIE>
A25: ='OPEN VRAGEN'!A27 -> Vraag 3.4: Samenwerking en overdraagbaarheid | C25: SCORE | F25: SCORE | I25: SCORE
A26: ='OPEN VRAGEN'!A28 -> Zie bijlage 7 Gunningscriteria kwaliteit. | C26: <MOTIVATIE> | F26: <MOTIVATIE> | I26: <MOTIVATIE>
A27: ='OPEN VRAGEN'!A29 -> Vraag 3.5: Proactieve advieswaarde en ondersteuning van datagedreven werken | C27: SCORE | F27: SCORE | I27: SCORE
A28: ='OPEN VRAGEN'!A30 -> Zie bijlage 7 Gunningscriteria kwaliteit. | C28: <MOTIVATIE> | F28: <MOTIVATIE> | I28: <MOTIVATIE>
A29: ='OPEN VRAGEN'!A31 -> Gunningscriterium 4: Teamsamenstelling, continuïteit en samenwerking
A30: ='OPEN VRAGEN'!A32 -> Vraag 4.1: Teamsamenstelling, inzetbaarheid en capaciteit | C30: SCORE | F30: SCORE | I30: SCORE
A31: ='OPEN VRAGEN'!A33 -> Zie bijlage 7 Gunningscriteria kwaliteit. | C31: <MOTIVATIE> | F31: <MOTIVATIE> | I31: <MOTIVATIE>
A32: ='OPEN VRAGEN'!A34 -> Vraag 4.2: Afstemming en samenhang tussen projecten i.r.t. inrichting | C32: SCORE | F32: SCORE | I32: SCORE
A33: ='OPEN VRAGEN'!A35 -> Zie bijlage 7 Gunningscriteria kwaliteit. | C33: <MOTIVATIE> | F33: <MOTIVATIE> | I33: <MOTIVATIE>
A34: ='OPEN VRAGEN'!A36 -> Vraag 4.3: Ondersteuning na oplevering | C34: SCORE | F34: SCORE | I34: SCORE
A35: ='OPEN VRAGEN'!A37 -> Zie bijlage 7 Gunningscriteria kwaliteit. | C35: <MOTIVATIE> | F35: <MOTIVATIE> | I35: <MOTIVATIE>
A36: ='OPEN VRAGEN'!A38 -> Vraag 4.4: Kennisontwikkeling en kennisdeling | C36: SCORE | F36: SCORE | I36: SCORE
A37: ='OPEN VRAGEN'!A39 -> Zie bijlage 7 Gunningscriteria kwaliteit. | C37: <MOTIVATIE> | F37: <MOTIVATIE> | I37: <MOTIVATIE>
A38: ='OPEN VRAGEN'!A40 -> Gunningscriterium 5: Strategisch partnerschap
A39: ='OPEN VRAGEN'!A41 -> Vraag 5.1: Rol als strategisch partner | C39: SCORE | F39: SCORE | I39: SCORE
A40: ='OPEN VRAGEN'!A42 -> Zie bijlage 7 Gunningscriteria kwaliteit. | C40: <MOTIVATIE> | F40: <MOTIVATIE> | I40: <MOTIVATIE>

Sheet Consensus
A1: 1998 | D1: ='Beoordelaar 1'!C1 -> INSCHRIJVER 1 | G1: ='Beoordelaar 1'!F1 -> INSCHRIJVER 2 | J1: ='Beoordelaar 1'!I1 -> INSCHRIJVER 3
A2: Gunningscriterium / beoordelaar | D2: Score | E2: Motivatie consensus: | G2: Score | H2: Motivatie consensus: | J2: Score | K2: Motivatie consensus:
A3: ='OPEN VRAGEN'!A4 -> Gunningscriterium 1: Casus LLO – Inrichten van het offerte- en calculatieproces
A4: ='OPEN VRAGEN'!A5 -> Vraag 1.1: Procesinrichting | B4: ='Beoordelaar 1'!$A$1 -> Beoordelaar 1 – Projectleider | D4: ='Beoordelaar 1'!C3 -> SCORE | E4: <MOTIVATIE> | G4: ='Beoordelaar 1'!F3 -> SCORE | H4: <MOTIVATIE> | J4: ='Beoordelaar 1'!I3 -> SCORE | K4: <MOTIVATIE>
B5: ='Beoordelaar 2'!$A$1 -> Beoordelaar 2 – Materiedeskundige LLO, extern IV&ICT | D5: ='Beoordelaar 2'!C3 -> SCORE | G5: ='Beoordelaar 2'!F3 -> SCORE | J5: ='Beoordelaar 2'!I3 -> SCORE
B6: ='Beoordelaar 3'!$A$1 -> Beoordelaar 3 – Accountmanager bedrijfsopleidingen LLO, user CRM | D6: ='Beoordelaar 3'!C3 -> SCORE | G6: ='Beoordelaar 3'!F3 -> SCORE | J6: ='Beoordelaar 3'!I3 -> SCORE
B7: ='Beoordelaar 4'!$A$1 -> Beoordelaar 4 – Medewerker backoffice bedrijfsopleidingen / key user CRM | D7: ='Beoordelaar 4'!C3 -> SCORE | G7: ='Beoordelaar 4'!F3 -> SCORE | J7: ='Beoordelaar 4'!I3 -> SCORE
B8: ='Beoordelaar 5'!$A$1 -> Beoordelaar 5 – Programmamanager LLO | D8: ='Beoordelaar 5'!C3 -> SCORE | G8: ='Beoordelaar 5'!F3 -> SCORE | J8: ='Beoordelaar 5'!I3 -> SCORE
B9: ='Beoordelaar 6'!$A$1 -> Beoordelaar 6 – Functioneel beheerder | D9: ='Beoordelaar 6'!C3 -> SCORE | G9: ='Beoordelaar 6'!F3 -> SCORE | J9: ='Beoordelaar 6'!I3 -> SCORE
B10: ='Beoordelaar 7'!$A$1 -> Beoordelaar 7 – Key user CRM Marketing en communicatie | D10: n.v.t. | G10: n.v.t. | J10: n.v.t.
B11: ='Beoordelaar 8'!$A$1 -> Beoordelaar 8 – User CRM Marketing en communicatie | D11: n.v.t. | G11: n.v.t. | J11: n.v.t.
B12: ='Beoordelaar 9'!$A$1 -> Beoordelaar 9 – Informatiemanager IV&ICT | D12: n.v.t. | G12: n.v.t. | J12: n.v.t.
B13: ='Beoordelaar 10'!$A$1 -> Beoordelaar 10 – Directeur Onderwijs & Organisatie-ontwikkeling | D13: n.v.t. | G13: n.v.t. | J13: n.v.t.
A14: Consensus | D14: SCORE | G14: SCORE | J14: SCORE
A15: Waarde (bijlage 9) | D15: =IF(D14="Uitmuntend","€ 7.012,50",IF(D14="Goed","€ 5.610",IF(D14="Voldoende","€ 0",IF(D14="Matig","- € 7.012,50",IF(D14="Onvoldoende","-€ 28.050"," "))))) | G15: =IF(G14="Uitmuntend","€ 7.012,50",IF(G14="Goed","€ 5.610",IF(G14="Voldoende","€ 0",IF(G14="Matig","- € 7.012,50",IF(G14="Onvoldoende","-€ 28.050"," "))))) | J15: =IF(J14="Uitmuntend","€ 7.012,50",IF(J14="Goed","€ 5.610",IF(J14="Voldoende","€ 0",IF(J14="Matig","- € 7.012,50",IF(J14="Onvoldoende","-€ 28.050"," ")))))
A17: ='OPEN VRAGEN'!A7 -> Vraag 1.2: Koppelingen en datastromen | B17: ='Beoordelaar 1'!$A$1 -> Beoordelaar 1 – Projectleider | D17: ='Beoordelaar 1'!C5 -> SCORE | E17: <MOTIVATIE> | G17: ='Beoordelaar 1'!F5 -> SCORE | H17: <MOTIVATIE> | J17: ='Beoordelaar 1'!I5 -> SCORE | K17: <MOTIVATIE>
B18: ='Beoordelaar 2'!$A$1 -> Beoordelaar 2 – Materiedeskundige LLO, extern IV&ICT | D18: ='Beoordelaar 2'!C5 -> SCORE | G18: ='Beoordelaar 2'!F5 -> SCORE | J18: ='Beoordelaar 2'!I5 -> SCORE
B19: ='Beoordelaar 3'!$A$1 -> Beoordelaar 3 – Accountmanager bedrijfsopleidingen LLO, user CRM | D19: ='Beoordelaar 3'!C5 -> SCORE | G19: ='Beoordelaar 3'!F5 -> SCORE | J19: ='Beoordelaar 3'!I5 -> SCORE
B20: ='Beoordelaar 4'!$A$1 -> Beoordelaar 4 – Medewerker backoffice bedrijfsopleidingen / key user CRM | D20: ='Beoordelaar 4'!C5 -> SCORE | G20: ='Beoordelaar 4'!F5 -> SCORE | J20: ='Beoordelaar 4'!I5 -> SCORE
B21: ='Beoordelaar 5'!$A$1 -> Beoordelaar 5 – Programmamanager LLO | D21: ='Beoordelaar 5'!C5 -> SCORE | G21: ='Beoordelaar 5'!F5 -> SCORE | J21: ='Beoordelaar 5'!I5 -> SCORE
B22: ='Beoordelaar 6'!$A$1 -> Beoordelaar 6 – Functioneel beheerder | D22: ='Beoordelaar 6'!C5 -> SCORE | G22: ='Beoordelaar 6'!F5 -> SCORE | J22: ='Beoordelaar 6'!I5 -> SCORE
B23: ='Beoordelaar 7'!$A$1 -> Beoordelaar 7 – Key user CRM Marketing en communicatie | D23: n.v.t. | G23: n.v.t. | J23: n.v.t.
B24: ='Beoordelaar 8'!$A$1 -> Beoordelaar 8 – User CRM Marketing en communicatie | D24: n.v.t. | G24: n.v.t. | J24: n.v.t.
B25: ='Beoordelaar 9'!$A$1 -> Beoordelaar 9 – Informatiemanager IV&ICT | D25: n.v.t. | G25: n.v.t. | J25: n.v.t.
B26: ='Beoordelaar 10'!$A$1 -> Beoordelaar 10 – Directeur Onderwijs & Organisatie-ontwikkeling | D26: n.v.t. | G26: n.v.t. | J26: n.v.t.
A27: Consensus | D27: SCORE | G27: SCORE | J27: SCORE
A28: Waarde (bijlage 9) | D28: =IF(D27="Uitmuntend","€ 7.225",IF(D27="Goed","€ 5.780",IF(D27="Voldoende","€ 0",IF(D27="Matig","- € 7.225",IF(D27="Onvoldoende","-€ 28.900"," "))))) | G28: =IF(G27="Uitmuntend","€ 7.225",IF(G27="Goed","€ 5.780",IF(G27="Voldoende","€ 0",IF(G27="Matig","- € 7.225",IF(G27="Onvoldoende","-€ 28.900"," "))))) | J28: =IF(J27="Uitmuntend","€ 7.225",IF(J27="Goed","€ 5.780",IF(J27="Voldoende","€ 0",IF(J27="Matig","- € 7.225",IF(J27="Onvoldoende","-€ 28.900"," ")))))
A30: ='OPEN VRAGEN'!A9 -> Vraag 1.3: Schaalbaarheid, beheer en toekomstbestendigheid | B30: ='Beoordelaar 1'!$A$1 -> Beoordelaar 1 – Projectleider | D30: ='Beoordelaar 1'!C7 -> SCORE | E30: <MOTIVATIE> | G30: ='Beoordelaar 1'!F7 -> SCORE | H30: <MOTIVATIE> | J30: ='Beoordelaar 1'!I7 -> SCORE | K30: <MOTIVATIE>
B31: ='Beoordelaar 2'!$A$1 -> Beoordelaar 2 – Materiedeskundige LLO, extern IV&ICT | D31: ='Beoordelaar 2'!C7 -> SCORE | G31: ='Beoordelaar 2'!F7 -> SCORE | J31: ='Beoordelaar 2'!I7 -> SCORE
B32: ='Beoordelaar 3'!$A$1 -> Beoordelaar 3 – Accountmanager bedrijfsopleidingen LLO, user CRM | D32: ='Beoordelaar 3'!C7 -> SCORE | G32: ='Beoordelaar 3'!F7 -> SCORE | J32: ='Beoordelaar 3'!I7 -> SCORE
B33: ='Beoordelaar 4'!$A$1 -> Beoordelaar 4 – Medewerker backoffice bedrijfsopleidingen / key user CRM | D33: ='Beoordelaar 4'!C7 -> SCORE | G33: ='Beoordelaar 4'!F7 -> SCORE | J33: ='Beoordelaar 4'!I7 -> SCORE
B34: ='Beoordelaar 5'!$A$1 -> Beoordelaar 5 – Programmamanager LLO | D34: ='Beoordelaar 5'!C7 -> SCORE | G34: ='Beoordelaar 5'!F7 -> SCORE | J34: ='Beoordelaar 5'!I7 -> SCORE
B35: ='Beoordelaar 6'!$A$1 -> Beoordelaar 6 – Functioneel beheerder | D35: ='Beoordelaar 6'!C7 -> SCORE | G35: ='Beoordelaar 6'!F7 -> SCORE | J35: ='Beoordelaar 6'!I7 -> SCORE
B36: ='Beoordelaar 7'!$A$1 -> Beoordelaar 7 – Key user CRM Marketing en communicatie | D36: n.v.t. | G36: n.v.t. | J36: n.v.t.
B37: ='Beoordelaar 8'!$A$1 -> Beoordelaar 8 – User CRM Marketing en communicatie | D37: n.v.t. | G37: n.v.t. | J37: n.v.t.
B38: ='Beoordelaar 9'!$A$1 -> Beoordelaar 9 – Informatiemanager IV&ICT | D38: n.v.t. | G38: n.v.t. | J38: n.v.t.
B39: ='Beoordelaar 10'!$A$1 -> Beoordelaar 10 – Directeur Onderwijs & Organisatie-ontwikkeling | D39: n.v.t. | G39: n.v.t. | J39: n.v.t.
A40: Consensus | D40: SCORE | G40: SCORE | J40: SCORE
A41: Waarde (bijlage 9) | D41: =IF(D40="Uitmuntend","€ 7.012,50",IF(D40="Goed","€ 5.610",IF(D40="Voldoende","€ 0",IF(D40="Matig","- € 7.012,50",IF(D40="Onvoldoende","-€ 28.050"," "))))) | G41: =IF(G40="Uitmuntend","€ 7.012,50",IF(G40="Goed","€ 5.610",IF(G40="Voldoende","€ 0",IF(G40="Matig","- € 7.012,50",IF(G40="Onvoldoende","-€ 28.050"," "))))) | J41: =IF(J40="Uitmuntend","€ 7.012,50",IF(J40="Goed","€ 5.610",IF(J40="Voldoende","€ 0",IF(J40="Matig","- € 7.012,50",IF(J40="Onvoldoende","-€ 28.050"," ")))))
A43: Subtotaal gunningscriterium 1: | D43: =SUM(D15+D28+D41) -> #VALUE! | G43: =SUM(G15+G28+G41) -> #VALUE! | J43: =SUM(J15+J28+J41) -> #VALUE!
A45: ='OPEN VRAGEN'!A11 -> Gunningscriterium 2: Borging van adoptie & duurzaam gebruik van de oplossing
A46: ='OPEN VRAGEN'!A12 -> Vraag 2.1: Adoptiestrategie van Inschrijver | B46: ='Beoordelaar 1'!$A$1 -> Beoordelaar 1 – Projectleider | D46: ='Beoordelaar 1'!C10 -> SCORE | E46: <MOTIVATIE> | G46: ='Beoordelaar 1'!F10 -> SCORE | H46: <MOTIVATIE> | J46: ='Beoordelaar 1'!I10 -> SCORE | K46: <MOTIVATIE>
B47: ='Beoordelaar 2'!$A$1 -> Beoordelaar 2 – Materiedeskundige LLO, extern IV&ICT | D47: ='Beoordelaar 2'!C10 -> SCORE | G47: ='Beoordelaar 2'!F10 -> SCORE | J47: ='Beoordelaar 2'!I10 -> SCORE
B48: ='Beoordelaar 3'!$A$1 -> Beoordelaar 3 – Accountmanager bedrijfsopleidingen LLO, user CRM | D48: ='Beoordelaar 3'!C10 -> SCORE | G48: ='Beoordelaar 3'!F10 -> SCORE | J48: ='Beoordelaar 3'!I10 -> SCORE
B49: ='Beoordelaar 4'!$A$1 -> Beoordelaar 4 – Medewerker backoffice bedrijfsopleidingen / key user CRM | D49: ='Beoordelaar 4'!C10 -> SCORE | G49: ='Beoordelaar 4'!F10 -> SCORE | J49: ='Beoordelaar 4'!I10 -> SCORE
B50: ='Beoordelaar 5'!$A$1 -> Beoordelaar 5 – Programmamanager LLO | D50: ='Beoordelaar 5'!C10 -> SCORE | G50: ='Beoordelaar 5'!F10 -> SCORE | J50: ='Beoordelaar 5'!I10 -> SCORE
B51: ='Beoordelaar 6'!$A$1 -> Beoordelaar 6 – Functioneel beheerder | D51: ='Beoordelaar 6'!C10 -> SCORE | G51: ='Beoordelaar 6'!F10 -> SCORE | J51: ='Beoordelaar 6'!I10 -> SCORE
B52: ='Beoordelaar 7'!$A$1 -> Beoordelaar 7 – Key user CRM Marketing en communicatie | D52: ='Beoordelaar 7'!C10 -> SCORE | G52: ='Beoordelaar 7'!F10 -> SCORE | J52: ='Beoordelaar 7'!I10 -> SCORE
B53: ='Beoordelaar 8'!$A$1 -> Beoordelaar 8 – User CRM Marketing en communicatie | D53: ='Beoordelaar 8'!C10 -> SCORE | G53: ='Beoordelaar 8'!F10 -> SCORE | J53: ='Beoordelaar 8'!I10 -> SCORE
B54: ='Beoordelaar 9'!$A$1 -> Beoordelaar 9 – Informatiemanager IV&ICT | D54: ='Beoordelaar 9'!C10 -> SCORE | G54: ='Beoordelaar 9'!F10 -> SCORE | J54: ='Beoordelaar 9'!I10 -> SCORE
B55: ='Beoordelaar 10'!$A$1 -> Beoordelaar 10 – Directeur Onderwijs & Organisatie-ontwikkeling | D55: ='Beoordelaar 10'!C10 -> SCORE | G55: ='Beoordelaar 10'!F10 -> SCORE | J55: ='Beoordelaar 10'!I10 -> SCORE
A56: Consensus | D56: SCORE | G56: SCORE | J56: SCORE
A57: Waarde (bijlage 9) | D57: =IF(D56="Uitmuntend","€ 5.100",IF(D56="Goed","€ 4.080",IF(D56="Voldoende","€ 0",IF(D56="Matig","- € 5.100",IF(D56="Onvoldoende","-€ 20.400"," "))))) | G57: =IF(G56="Uitmuntend","€ 5.100",IF(G56="Goed","€ 4.080",IF(G56="Voldoende","€ 0",IF(G56="Matig","- € 5.100",IF(G56="Onvoldoende","-€ 20.400"," "))))) | J57: =IF(J56="Uitmuntend","€ 5.100",IF(J56="Goed","€ 4.080",IF(J56="Voldoende","€ 0",IF(J56="Matig","- € 5.100",IF(J56="Onvoldoende","-€ 20.400"," ")))))
A59: ='OPEN VRAGEN'!A14 -> Vraag 2.2: Trainingsaanpak voor gebruikers én functioneel beheerders | B59: ='Beoordelaar 1'!$A$1 -> Beoordelaar 1 – Projectleider | D59: ='Beoordelaar 1'!C12 -> SCORE | E59: <MOTIVATIE> | G59: ='Beoordelaar 1'!F12 -> SCORE | H59: <MOTIVATIE> | J59: ='Beoordelaar 1'!I12 -> SCORE | K59: <MOTIVATIE>
B60: ='Beoordelaar 2'!$A$1 -> Beoordelaar 2 – Materiedeskundige LLO, extern IV&ICT | D60: ='Beoordelaar 2'!C12 -> SCORE | G60: ='Beoordelaar 2'!F12 -> SCORE | J60: ='Beoordelaar 2'!I12 -> SCORE
B61: ='Beoordelaar 3'!$A$1 -> Beoordelaar 3 – Accountmanager bedrijfsopleidingen LLO, user CRM | D61: ='Beoordelaar 3'!C12 -> SCORE | G61: ='Beoordelaar 3'!F12 -> SCORE | J61: ='Beoordelaar 3'!I12 -> SCORE
B62: ='Beoordelaar 4'!$A$1 -> Beoordelaar 4 – Medewerker backoffice bedrijfsopleidingen / key user CRM | D62: ='Beoordelaar 4'!C12 -> SCORE | G62: ='Beoordelaar 4'!F12 -> SCORE | J62: ='Beoordelaar 4'!I12 -> SCORE
B63: ='Beoordelaar 5'!$A$1 -> Beoordelaar 5 – Programmamanager LLO | D63: ='Beoordelaar 5'!C12 -> SCORE | G63: ='Beoordelaar 5'!F12 -> SCORE | J63: ='Beoordelaar 5'!I12 -> SCORE
B64: ='Beoordelaar 6'!$A$1 -> Beoordelaar 6 – Functioneel beheerder | D64: ='Beoordelaar 6'!C12 -> SCORE | G64: ='Beoordelaar 6'!F12 -> SCORE | J64: ='Beoordelaar 6'!I12 -> SCORE
B65: ='Beoordelaar 7'!$A$1 -> Beoordelaar 7 – Key user CRM Marketing en communicatie | D65: ='Beoordelaar 7'!C12 -> SCORE | G65: ='Beoordelaar 7'!F12 -> SCORE | J65: ='Beoordelaar 7'!I12 -> SCORE
B66: ='Beoordelaar 8'!$A$1 -> Beoordelaar 8 – User CRM Marketing en communicatie | D66: ='Beoordelaar 8'!C12 -> SCORE | G66: ='Beoordelaar 8'!F12 -> SCORE | J66: ='Beoordelaar 8'!I12 -> SCORE
B67: ='Beoordelaar 9'!$A$1 -> Beoordelaar 9 – Informatiemanager IV&ICT | D67: ='Beoordelaar 9'!C12 -> SCORE | G67: ='Beoordelaar 9'!F12 -> SCORE | J67: ='Beoordelaar 9'!I12 -> SCORE
B68: ='Beoordelaar 10'!$A$1 -> Beoordelaar 10 – Directeur Onderwijs & Organisatie-ontwikkeling | D68: ='Beoordelaar 10'!C12 -> SCORE | G68: ='Beoordelaar 10'!F12 -> SCORE | J68: ='Beoordelaar 10'!I12 -> SCORE
A69: Consensus | D69: SCORE | G69: SCORE | J69: SCORE
A70: Waarde (bijlage 9) | D70: =IF(D69="Uitmuntend","€ 3.400",IF(D69="Goed","€ 2.720",IF(D69="Voldoende","€ 0",IF(D69="Matig","- € 3.400",IF(D69="Onvoldoende","-€ 13.600"," "))))) | G70: =IF(G69="Uitmuntend","€ 3.400",IF(G69="Goed","€ 2.720",IF(G69="Voldoende","€ 0",IF(G69="Matig","- € 3.400",IF(G69="Onvoldoende","-€ 13.600"," "))))) | J70: =IF(J69="Uitmuntend","€ 3.400",IF(J69="Goed","€ 2.720",IF(J69="Voldoende","€ 0",IF(J69="Matig","- € 3.400",IF(J69="Onvoldoende","-€ 13.600"," ")))))
A72: ='OPEN VRAGEN'!A16 -> Vraag 2.3: Borging zelfstandigheid beheerorganisatie | B72: ='Beoordelaar 1'!$A$1 -> Beoordelaar 1 – Projectleider | D72: ='Beoordelaar 1'!C14 -> SCORE | E72: <MOTIVATIE> | G72: ='Beoordelaar 1'!F14 -> SCORE | H72: <MOTIVATIE> | J72: ='Beoordelaar 1'!I14 -> SCORE | K72: <MOTIVATIE>
B73: ='Beoordelaar 2'!$A$1 -> Beoordelaar 2 – Materiedeskundige LLO, extern IV&ICT | D73: ='Beoordelaar 2'!C14 -> SCORE | G73: ='Beoordelaar 2'!F14 -> SCORE | J73: ='Beoordelaar 2'!I14 -> SCORE
B74: ='Beoordelaar 3'!$A$1 -> Beoordelaar 3 – Accountmanager bedrijfsopleidingen LLO, user CRM | D74: ='Beoordelaar 3'!C14 -> SCORE | G74: ='Beoordelaar 3'!F14 -> SCORE | J74: ='Beoordelaar 3'!I14 -> SCORE
B75: ='Beoordelaar 4'!$A$1 -> Beoordelaar 4 – Medewerker backoffice bedrijfsopleidingen / key user CRM | D75: ='Beoordelaar 4'!C14 -> SCORE | G75: ='Beoordelaar 4'!F14 -> SCORE | J75: ='Beoordelaar 4'!I14 -> SCORE
B76: ='Beoordelaar 5'!$A$1 -> Beoordelaar 5 – Programmamanager LLO | D76: ='Beoordelaar 5'!C14 -> SCORE | G76: ='Beoordelaar 5'!F14 -> SCORE | J76: ='Beoordelaar 5'!I14 -> SCORE
B77: ='Beoordelaar 6'!$A$1 -> Beoordelaar 6 – Functioneel beheerder | D77: ='Beoordelaar 6'!C14 -> SCORE | G77: ='Beoordelaar 6'!F14 -> SCORE | J77: ='Beoordelaar 6'!I14 -> SCORE
B78: ='Beoordelaar 7'!$A$1 -> Beoordelaar 7 – Key user CRM Marketing en communicatie | D78: ='Beoordelaar 7'!C14 -> SCORE | G78: ='Beoordelaar 7'!F14 -> SCORE | J78: ='Beoordelaar 7'!I14 -> SCORE
B79: ='Beoordelaar 8'!$A$1 -> Beoordelaar 8 – User CRM Marketing en communicatie | D79: ='Beoordelaar 8'!C14 -> SCORE | G79: ='Beoordelaar 8'!F14 -> SCORE | J79: ='Beoordelaar 8'!I14 -> SCORE
B80: ='Beoordelaar 9'!$A$1 -> Beoordelaar 9 – Informatiemanager IV&ICT | D80: ='Beoordelaar 9'!C14 -> SCORE | G80: ='Beoordelaar 9'!F14 -> SCORE | J80: ='Beoordelaar 9'!I14 -> SCORE
B81: ='Beoordelaar 10'!$A$1 -> Beoordelaar 10 – Directeur Onderwijs & Organisatie-ontwikkeling | D81: ='Beoordelaar 10'!C14 -> SCORE | G81: ='Beoordelaar 10'!F14 -> SCORE | J81: ='Beoordelaar 10'!I14 -> SCORE
A82: Consensus | D82: SCORE | G82: SCORE | J82: SCORE
A83: Waarde (bijlage 9) | D83: =IF(D82="Uitmuntend","€ 5.100",IF(D82="Goed","€ 4.080",IF(D82="Voldoende","€ 0",IF(D82="Matig","- € 5.100",IF(D82="Onvoldoende","-€ 20.400"," "))))) | G83: =IF(G82="Uitmuntend","€ 5.100",IF(G82="Goed","€ 4.080",IF(G82="Voldoende","€ 0",IF(G82="Matig","- € 5.100",IF(G82="Onvoldoende","-€ 20.400"," "))))) | J83: =IF(J82="Uitmuntend","€ 5.100",IF(J82="Goed","€ 4.080",IF(J82="Voldoende","€ 0",IF(J82="Matig","- € 5.100",IF(J82="Onvoldoende","-€ 20.400"," ")))))
A85: ='OPEN VRAGEN'!A18 -> Vraag 2.4: Monitoring & continu verbeteren | B85: ='Beoordelaar 1'!$A$1 -> Beoordelaar 1 – Projectleider | D85: ='Beoordelaar 1'!C16 -> SCORE | E85: <MOTIVATIE> | G85: ='Beoordelaar 1'!F16 -> SCORE | H85: <MOTIVATIE> | J85: ='Beoordelaar 1'!I16 -> SCORE | K85: <MOTIVATIE>
B86: ='Beoordelaar 2'!$A$1 -> Beoordelaar 2 – Materiedeskundige LLO, extern IV&ICT | D86: ='Beoordelaar 2'!C16 -> SCORE | G86: ='Beoordelaar 2'!F16 -> SCORE | J86: ='Beoordelaar 2'!I16 -> SCORE
B87: ='Beoordelaar 3'!$A$1 -> Beoordelaar 3 – Accountmanager bedrijfsopleidingen LLO, user CRM | D87: ='Beoordelaar 3'!C16 -> SCORE | G87: ='Beoordelaar 3'!F16 -> SCORE | J87: ='Beoordelaar 3'!I16 -> SCORE
B88: ='Beoordelaar 4'!$A$1 -> Beoordelaar 4 – Medewerker backoffice bedrijfsopleidingen / key user CRM | D88: ='Beoordelaar 4'!C16 -> SCORE | G88: ='Beoordelaar 4'!F16 -> SCORE | J88: ='Beoordelaar 4'!I16 -> SCORE
B89: ='Beoordelaar 5'!$A$1 -> Beoordelaar 5 – Programmamanager LLO | D89: ='Beoordelaar 5'!C16 -> SCORE | G89: ='Beoordelaar 5'!F16 -> SCORE | J89: ='Beoordelaar 5'!I16 -> SCORE
B90: ='Beoordelaar 6'!$A$1 -> Beoordelaar 6 – Functioneel beheerder | D90: ='Beoordelaar 6'!C16 -> SCORE | G90: ='Beoordelaar 6'!F16 -> SCORE | J90: ='Beoordelaar 6'!I16 -> SCORE
B91: ='Beoordelaar 7'!$A$1 -> Beoordelaar 7 – Key user CRM Marketing en communicatie | D91: ='Beoordelaar 7'!C16 -> SCORE | G91: ='Beoordelaar 7'!F16 -> SCORE | J91: ='Beoordelaar 7'!I16 -> SCORE
B92: ='Beoordelaar 8'!$A$1 -> Beoordelaar 8 – User CRM Marketing en communicatie | D92: ='Beoordelaar 8'!C16 -> SCORE | G92: ='Beoordelaar 8'!F16 -> SCORE | J92: ='Beoordelaar 8'!I16 -> SCORE
B93: ='Beoordelaar 9'!$A$1 -> Beoordelaar 9 – Informatiemanager IV&ICT | D93: ='Beoordelaar 9'!C16 -> SCORE | G93: ='Beoordelaar 9'!F16 -> SCORE | J93: ='Beoordelaar 9'!I16 -> SCORE
B94: ='Beoordelaar 10'!$A$1 -> Beoordelaar 10 – Directeur Onderwijs & Organisatie-ontwikkeling | D94: ='Beoordelaar 10'!C16 -> SCORE | G94: ='Beoordelaar 10'!F16 -> SCORE | J94: ='Beoordelaar 10'!I16 -> SCORE
A95: Consensus | D95: SCORE | G95: SCORE | J95: SCORE
A96: Waarde (bijlage 9) | D96: =IF(D95="Uitmuntend","€ 3.400",IF(D95="Goed","€ 2.720",IF(D95="Voldoende","€ 0",IF(D95="Matig","- € 3.400",IF(D95="Onvoldoende","-€ 13.600"," "))))) | G96: =IF(G95="Uitmuntend","€ 3.400",IF(G95="Goed","€ 2.720",IF(G95="Voldoende","€ 0",IF(G95="Matig","- € 3.400",IF(G95="Onvoldoende","-€ 13.600"," "))))) | J96: =IF(J95="Uitmuntend","€ 3.400",IF(J95="Goed","€ 2.720",IF(J95="Voldoende","€ 0",IF(J95="Matig","- € 3.400",IF(J95="Onvoldoende","-€ 13.600"," ")))))
A98: Subtotaal gunningscriterium 2: | D98: =SUM(D57+D70+D83+D96) -> #VALUE! | G98: =SUM(G57+G70+G83+G96) -> #VALUE! | J98: =SUM(J57+J70+J83+J96) -> #VALUE!
A100: ='OPEN VRAGEN'!A20 -> Gunningscriterium 3: Casus: Ontwikkeling dashboards en rapportages
A101: ='OPEN VRAGEN'!A21 -> Vraag 3.1: Gefaseerde aanpak | B101: ='Beoordelaar 1'!$A$1 -> Beoordelaar 1 – Projectleider | D101: n.v.t. | E101: <MOTIVATIE> | G101: n.v.t. | H101: <MOTIVATIE> | J101: n.v.t. | K101: <MOTIVATIE>
B102: ='Beoordelaar 2'!$A$1 -> Beoordelaar 2 – Materiedeskundige LLO, extern IV&ICT | D102: n.v.t. | G102: n.v.t. | J102: n.v.t.
B103: ='Beoordelaar 3'!$A$1 -> Beoordelaar 3 – Accountmanager bedrijfsopleidingen LLO, user CRM | D103: n.v.t. | G103: n.v.t. | J103: n.v.t.
B104: ='Beoordelaar 4'!$A$1 -> Beoordelaar 4 – Medewerker backoffice bedrijfsopleidingen / key user CRM | D104: n.v.t. | G104: n.v.t. | J104: n.v.t.
B105: ='Beoordelaar 5'!$A$1 -> Beoordelaar 5 – Programmamanager LLO | D105: n.v.t. | G105: n.v.t. | J105: n.v.t.
B106: ='Beoordelaar 6'!$A$1 -> Beoordelaar 6 – Functioneel beheerder | D106: ='Beoordelaar 6'!C19 -> SCORE | G106: ='Beoordelaar 6'!F19 -> SCORE | J106: ='Beoordelaar 6'!I19 -> SCORE
B107: ='Beoordelaar 7'!$A$1 -> Beoordelaar 7 – Key user CRM Marketing en communicatie | D107: ='Beoordelaar 7'!C19 -> SCORE | G107: ='Beoordelaar 7'!F19 -> SCORE | J107: ='Beoordelaar 7'!I19 -> SCORE
B108: ='Beoordelaar 8'!$A$1 -> Beoordelaar 8 – User CRM Marketing en communicatie | D108: ='Beoordelaar 8'!C19 -> SCORE | G108: ='Beoordelaar 8'!F19 -> SCORE | J108: ='Beoordelaar 8'!I19 -> SCORE
B109: ='Beoordelaar 9'!$A$1 -> Beoordelaar 9 – Informatiemanager IV&ICT | D109: ='Beoordelaar 9'!C19 -> SCORE | G109: ='Beoordelaar 9'!F19 -> SCORE | J109: ='Beoordelaar 9'!I19 -> SCORE
...
