Workbook

Sheet Samenvatting en uitleg 
A1: Europese aanbesteding
A2: Matchingsapplicatie
A3: Kenmerk: | B3: 2025WI840
A4: (Prijzen exclusief BTW)
A8: Naam Inschrijver:
K9: =Invoerveld
A15: 1. Implementatie | K15: ='1. Implementatie '!C12 -> 0
A17: 2. Koppelingen | K17: ='2. Koppelingen'!D25 -> 0
A19: 3. Oplossing / Gebruiksrecht | K19: ='3. Gebruiksrecht (nieuw)'!G80 -> 0
A21: 4. Additionele werkzaamheden - Consultancy/doorontwikkeling | K21: ='4.Additionele werkzaamheden Con'!G4 -> 0
A23: 5. Additioneel | K23: ='5. Additioneel'!G6 -> 0
A26: Inschrijfprijs | K26: =K15+K17+K19+K21+K23 -> 0
A30: TOELICHTING:
A31: 1. U dient alle gevraagde gegevens in alle bladen in te vullen:
A32: Inschrijver dient verplicht en alleen de volgende velden in te vullen: geel
A33: De subtotalen worden automatisch berekend: groen
A34: 2. Deze bijlage en onderliggende werkbladen maken integraal onderdeel uit van de Inschrijvingsleidraad.
A35: 3. Alle genoemde prijzen dienen exclusief BTW te zijn en inclusief overige belastingen en/of heffingen.
A36: 4. Prijzen worden aangeboden in twee decimalen.
A37: 5. De prijsstelling dient een all-in tarief te zij | E37: n.
A38: 6. De prijsstelling dient reëel en marktconform te zijn.
A39: Het indienen van irreëele of manipulatieve prijzen leidt tot uitsluiting.
A40: De prijs voor ieder item is een op zichzelf beschouwd realistische prijs.
A41: Het vermoeden ontstaat dat er onrealistische prijzen worden opgegeven
A42: indien er bij een item sprake is van: negatieve prijzen,
A43: prijzen van 0 euro, prijzen onder de kostprijs,
A44: abnormaal lage prijzen of in de branche ongebruikelijke prijzen.
A45: 7. Eventueel genoemde aantallen, zijn fictief t.b.v. het berekenen van de inschrijfprijs.
A46: Hieraan kunnen geen enkele rechten worden ontleend.
A47: Organisatie:
A48: Datum:
A49: Naam:
... A61: Indien een inschrijver een licentiemodel niet gebonden aan aantallen (zoals een Enterprise-licentie) aanbiedt, dient het door inschrijver aangeboden totale jaarlijkse enterprise licentiebedrag te worden overgenomen naar een prijs per gebruiker binnen de eerste staffel. Deze omrekening is uitsluitend bedoeld om een objectieve vergelijking van de inschrijvingen mogelijk te maken. Tevens dient inschrijver in het prijsbladaan te geven of hij wel of niet een enterprise-bedrag aanbiedt. Inschrijver heeft dus de keuze tussen twee prijsmodellen: een staffelprijs per eenheid of een vaste enterprise prijs, ongeacht het aantal gebruikers. Dit betekent nadrukkelijk niet dat gedurende de uitvoering van de overeenkomst wordt overgestapt op een prijsmodel per gebruiker. Indien de inschrijver een Enterprise-licentiemodel aanbiedt, blijft dat licentiemodel gedurende de looptijd van de overeenkomst van toepassing. De vergelijkingwaarde dient uiteindelijk overeen te komen met de jaarlijkse bijdrage die voor het Enterprise-licentiemodel verschuldigd is. Voorbeeld Inschrijver hanteert een enterprise-licentieconstructie met een bedrag van € 100.000 per jaar. Inschrijver neemt de staffel van 1 tot 5.000 inwoners als uitgangspunt en rekent het enterprise-bedrag terug naar een prijs per inwoner. Bij 3.000 inwoners resulteert dit in een bedrag van € 33,33 per inwoner (€ 100.000 / 3.000). In het prijsinvulformulier wordt vervolgens € 33,33 per inwoner ingevuld. Op deze wijze wordt het totale licentiebedrag meegenomen in de prijsvergelijking. Voor de overige posten wordt een licentiebedrag van € 0 ingevuld. Hiermee komt een prijs per individuele gebruiker feitelijk te vervallen en wordt gedurende de contractuitvoering een enterprise-licentiemodel gehanteerd. Indien inschrijver werkt met een staffelbedrag, gaat opdrachtgever ervan uit dat het gehanteerde staffeltarief gedurende de looptijd van de overeenkomst niet wijzigt als gevolg van wijzigingen in het aantal gebruikers binnen de afgenomen staffel

Sheet 1. Implementatie 
B2: Implementatie/eenmalige kosten
B3: Alle activiteiten zoals opgenomen in de aanbestedingsdocumenten, inclusief het plan van aanpak behorende bij de gunningscriteria, die noodzakelijk zijn voor de implementatie en inrichting van de ICT-prestatie, zodanig dat dit na acceptatie door Opdrachtgever voldoet aan de gestelde eisen.
B4: Omschrijving / specificatie | C4: Totaal ex BTW
B5: Fase 0: Initiatiefase
B6: Fase 1: Inventarisatiefase
B7: Fase 2: Configuratie
B8: Fase 3: Koppelingen (dit betreft kosten die niet op tabblad 2, Koppelingen vermeld zijn)
B9: Fase 4: Testen
B10: Fase 5: Opleidingsfase
B11: Fase 6: Nazorg
B12: Subtotaal implementatie | C12: =SUM(C5:C11) -> 0

Sheet 2. Koppelingen
B2: Eenmalige kosten koppelingen
B3: Omschrijving / specificatie | C3: Prijs ex BTW
B4: Bij implementatie:
B5: Integratie met Single-Sign-On (SSO)
B6: KvK-koppeling
B7: Aansluiting op de landelijke VUM-uitwisselingsvoorziening
B8: Aansluiting gemeentelijke Datawarehouse (database-omgeving)
B11: Na implementatie/ optionele toekomstige koppelingen
B17: Subtotaal eenmalige kosten koppelingen | C17: =SUM(C5:C16) -> 0
B20: Structurele kosten koppelingen
B21: Omschrijving / specificatie | C21: Aantal jaren | D21: Prijs per jaar | E21: Prijs ex BTW
B22: Onderhoud koppelingen | C22: 4 | E22: =D22*C22 -> 0
B23: Subtotaal structurelekosten koppelingen | E23: =E22 -> 0
C25: Subtotaal Kostenkoppelingen | D25: =E23+C17 -> 0

Sheet 3. Gebruiksrecht (nieuw)
B1: Inschrijver dient hier verplicht aan te geven welk licentiemodel gehanteerd wordt (Let op, het is een dropdown menu)
B3: Gebruikersgebonden (staffelprijs per eenheid)
B4: Vaste enterprisebedrag (vast bedrag, ongeacht het aantal gebruikers)
B6: Indicatieve aantallen gebruiksrechten
C7: Jaar 1 | D7: Jaar 2 | E7: Jaar 3 | F7: Jaar 4
B8: Gebruikers met muteerrechten | C8: 60 | D8: 60 | E8: 60 | F8: 60
B9: Gebruikers met inzagerechten | C9: 15 | D9: 15 | E9: 15 | F9: 15
B10: Functioneel beheerder | C10: 5 | D10: 5 | E10: 5 | F10: 5
B13: Staffel Gebruiksrecht gebruikers met muteerrechten
C14: Prijs per gebruiker per jaar
B15: Grondslag
B16: Gebruiker
B17: Wij vragen u een staffelvolume in te vullen tot 150 Gebruikers
E20: Korting | H20: Prijs
E21: per staffel | F21: Aantal | H21: per Gebruiker
E22: over totaal aantal | F22: Gebruikers | H22: inclusief
B23: Staffel | C23: van | D23: tot en met | E23: cumulatief | F23: cumulatief | G23: Uitbreiding | H23: korting
B24: STAFFEL 1 / Enterprise | C24: 1 | F24: =IF(D24="","",D24) | G24: =F24 | H24: =C16 -> 0 | I24: over cumulatief aantal Gebruikers
B25: STAFFEL 2 | C25: =IF(D24="","",D24+1) | F25: =IF(D25="","",D25) | G25: =IF(F25="","",F25-F24) | H25: =IF(D25="","",$C$16*(1-E25)) | I25: over cumulatief aantal Gebruikers
B26: STAFFEL 3 | C26: =IF(D25="","",D25+1) | F26: =IF(D26="","",D26) | G26: =IF(F26="","",F26-F25) | H26: =IF(D26="","",$C$16*(1-E26)) | I26: over cumulatief aantal Gebruikers
B27: STAFFEL 4 | C27: =IF(D26="","",D26+1) | F27: =IF(D27="","",D27) | G27: =IF(F27="","",F27-F26) | H27: =IF(D27="","",$C$16*(1-E27)) | I27: over cumulatief aantal Gebruikers
B28: STAFFEL 5 | C28: =IF(D27="","",D27+1) | F28: =IF(D28="","",D28) | G28: =IF(F28="","",F28-F27) | H28: =IF(D28="","",$C$16*(1-E28)) | I28: over cumulatief aantal Gebruikers
B29: STAFFEL 6 | C29: =IF(D28="","",D28+1) | F29: =IF(D29="","",D29) | G29: =IF(F29="","",F29-F28) | H29: =IF(D29="","",$C$16*(1-E29)) | I29: over cumulatief aantal Gebruikers
B30: STAFFEL 7 | C30: =IF(D29="","",D29+1) | F30: =IF(D30="","",D30) | G30: =IF(F30="","",F30-F29) | H30: =IF(D30="","",$C$16*(1-E30)) | I30: over cumulatief aantal Gebruikers
B31: STAFFEL 8 | C31: =IF(D30="","",D30+1) | F31: =IF(D31="","",D31) | G31: =IF(F31="","",F31-F30) | H31: =IF(D31="","",$C$16*(1-E31)) | I31: over cumulatief aantal Gebruikers
B32: STAFFEL 9 | C32: =IF(D31="","",D31+1) | F32: =IF(D32="","",D32) | G32: =IF(F32="","",F32-F31) | H32: =IF(D32="","",$C$16*(1-E32)) | I32: over cumulatief aantal Gebruikers
B33: STAFFEL 10 | C33: =IF(D32="","",D32+1) | F33: =IF(D33="","",D33) | G33: =IF(F33="","",F33-F32) | H33: =IF(D33="","",$C$16*(1-E33)) | I33: over cumulatief aantal Gebruikers
B36: Staffel Gebruiksrecht gebruikers met inzagerechten
C37: Prijs per gebruiker
B38: Grondslag
B39: Gebruiker
B40: Wij vragen u een staffelvolume in te vullen tot 50 Gebruikers
E41: Korting | H41: Prijs
E42: per staffel | F42: Aantal | H42: per Gebruiker
E43: over totaal aantal | F43: Gebruikers | H43: inclusief
B44: Staffel | C44: van | D44: tot en met | E44: cumulatief | F44: cumulatief | G44: Uitbreiding | H44: korting
B45: STAFFEL 1 | C45: 1 | F45: =IF(D45="","",D45) | G45: =D45 -> 0 | H45: =C39 -> 0 | I45: over cumulatief aantal Gebruikers
B46: STAFFEL 2 | C46: =IF(D45="","",D45+1) | F46: =IF(D46="","",D46) | G46: =IF(D46="","",F46-F45) | H46: =IF($E46="","",$C$39*(1-$E46)) | I46: over cumulatief aantal Gebruikers
B47: STAFFEL 3 | C47: =IF(D46="","",D46+1) | F47: =IF(D47="","",D47) | G47: =IF(D47="","",F47-F46) | H47: =IF($E47="","",$C$39*(1-$E47)) | I47: over cumulatief aantal Gebruikers
B48: STAFFEL 4 | C48: =IF(D47="","",D47+1) | F48: =IF(D48="","",D48) | G48: =IF(D48="","",F48-F47) | H48: =IF($E48="","",$C$39*(1-$E48)) | I48: over cumulatief aantal Gebruikers
...

Sheet 4.Additionele werkzaamheden Con
B2: Additionele werkzaamheden - consultancy/doorontwikkeling
B3: Omschrijving / specificatie | E3: Aantal uren | F3: uurtarief
B4: Uurtarief Consultancy | E4: 500 | G4: =F4*E4 -> 0
B5: Subtotaal kosten doorontwikkeling | G5: =G4 -> 0

Sheet 5. Additioneel
B2: Additioneel
B3: Naam / Omschrijving | E3: Aantal Gebruikers (indicatief) | F3: Prijs X | G3: Totaal
B4: Basistraining (knoppencursus) | E4: 30 | G4: =E4*F4 -> 0
B5: Verdiepende cursus backend/functioneel beheer | E5: 10 | G5: =E5*F5 -> 0
B6: Subtotaal eenmalige kosten additioneel | G6: =SUM(G4:G5) -> 0
