Workbook
Name J_N: [1]Lijsten!$A$1:$A$3
Name J_N: [1]Lijsten!$A$1:$A$3

Sheet Inhoudsopgave
B2: Inhoudsopgave | C2: Afk.
B3: Functionele eisen | C3: FUNC
B4: Technische eisen | C4: TECH
B5: Eisen aan informatiebeveiliging, privacy en compliance | C5: SEC
B6: Eisen aan ontwikkeling en beheer | C6: ONT
B7: Eisen aan support en SLA | C7: SLA
B8: Algemene eisen | C8: ALG

Sheet Functionele eisen
A1: Voor Functionele eisen: zie Word-document "Functionele eisen"

Sheet Technische eisen
A1: Nr | B1: ID | C1: Eisen aan de techniek
A2: {=CELL("row",A2)-1} -> 1 | B2: =Inhoudsopgave!$C$4&"."&TEXT(Table6[[#This Row],[Nr]],"00") -> TECH.01 | C2: De dienstverlening en de webomgeving (zowel de productieomgeving als de acceptatieomgeving) biedt een recovery point objective van maximaal 1 kalenderdag en een recovery time objective van minder dan 1 kalenderdag. Dit is inclusief de IP-connectiviteit en publieke bereikbaarheid van de site(s).
A3: {=CELL("row",A3)-1} -> 2 | B3: =Inhoudsopgave!$C$4&"."&TEXT(Table6[[#This Row],[Nr]],"00") -> TECH.02 | C3: De leverancier dient ervoor te zorgen dat de omgeving van Nuffic is afgeschermd van andere klanten. Hierbij worden zowel de security als de prestaties niet beinvloed door diensten geleverd aan andere klanten.
A4: {=CELL("row",A4)-1} -> 3 | B4: =Inhoudsopgave!$C$4&"."&TEXT(Table6[[#This Row],[Nr]],"00") -> TECH.03 | C4: De sites dienen technisch beveiligd (“gehardened”) te zijn volgens best-practices voor webhosting, het gebruikte CMS, platform en de onderliggende infrastructuur.
A5: {=CELL("row",A5)-1} -> 4 | B5: =Inhoudsopgave!$C$4&"."&TEXT(Table6[[#This Row],[Nr]],"00") -> TECH.04 | C5: Alle Nuffic-websites dienen een score van 100% te behalen (en te behouden) via de test op internet.nl en een A+ score op SSLlabs.com
A6: {=CELL("row",A6)-1} -> 5 | B6: =Inhoudsopgave!$C$4&"."&TEXT(Table6[[#This Row],[Nr]],"00") -> TECH.05 | C6: Toegang tot het CMS en de websites voor beheerders en geautoriseerde Nuffic-medewerkers (@nuffic.nl of @erasmusplus.nl) is standaard voorzien van authenticatie via het Single Sign On systeem van Nuffic (Entra ID). Niet-Nuffic-medewerkers zullen gebruikmaken van Nuffics Entra External ID voor de accountregistratie, -identificatie en -authenticatie.
A7: {=CELL("row",A7)-1} -> 6 | B7: =Inhoudsopgave!$C$4&"."&TEXT(Table6[[#This Row],[Nr]],"00") -> TECH.06 | C7: Er dient altijd versleuteling plaats te vinden van authenticatie data en data transport conform cryptografische technieken die als veilig worden beschouwd door Forum Standaardisatie (https://www.forumstandaardisatie.nl/open-standaarden/verplicht). Wachtwoorden, API-keys e.d. mogen nooit onversleuteld worden opgeslagen.
A8: {=CELL("row",A8)-1} -> 7 | B8: =Inhoudsopgave!$C$4&"."&TEXT(Table6[[#This Row],[Nr]],"00") -> TECH.07 | C8: De dienstverlening voorziet in structurele back-ups van het CMS, de configuratie, de websites en bijbehorende data met bijbehorende restore procedure. Deze dient periodiek getest te worden in overleg met Nuffic.
A9: {=CELL("row",A9)-1} -> 8 | B9: =Inhoudsopgave!$C$4&"."&TEXT(Table6[[#This Row],[Nr]],"00") -> TECH.08 | C9: Activiteiten van systeembeheerders en -operators m.b.t. de Nuffic-websites en het CMS behoren te worden vastgelegd, de logbestanden behoren te worden beschermd tegen manipulatie en beschikbaar te zijn voor Nuffic ter beoordeling. Er dient minimaal 3 maanden aan loginformatie bewaard te worden in de omgeving van de leverancier.
A10: {=CELL("row",A10)-1} -> 9 | B10: =Inhoudsopgave!$C$4&"."&TEXT(Table6[[#This Row],[Nr]],"00") -> TECH.09 | C10: De dienstverlening voorziet in maatregelen waarbij kwaadaardig (netwerk)-verkeer richting de Nuffic websites wordt gedetecteerd, gemitigeerd (zoals IDS- en IPS-diensten) en per direct geclassificeerd met prioriteit urgent.
A11: {=CELL("row",A11)-1} -> 10 | B11: =Inhoudsopgave!$C$4&"."&TEXT(Table6[[#This Row],[Nr]],"00") -> TECH.10 | C11: Het verzenden van e-mails afkomstig van Nuffic-domeinen dient te geschieden via de M365 van Nuffic beveiligd met OAUTH2.
A12: 11 | B12: TECH.11 | C12: De websites moeten voldoen aan EN 301 549, de verplichte Europese toegankelijkheidsstandaard. Daaronder vallen onder meer WCAG 2.2 en PDF/UA.
A13: 12 | B13: TECH.12 | C13: De prestaties van de websites dienen een prestatiescore van tenminste 90% behalen getoetst met Pagespeed insights: https://pagespeed.web.dev. Dit dient na elke update en release te gebeuren voor zowel de mobiele als de desktop sites.
A14: 13 | B14: TECH.13 | C14: Domeinen die alleen voor redirects worden gebruikt moeten gebruikmaken van Letsencrypt voor het certificaat. Voor alle overige domeinen is het gebruik van onze CA verplicht. De leverancier dient zelf de certificaten op te vragen en tijdig te vernieuwen op basis van het ACME-protocol.
A15: 14 | B15: TECH.14 | C15: Het bestaande multisiteplatform wordt overgenomen en op voortgebouwd. Het gebruikte CMS is Drupal.

Sheet Eisen IB en privacy
A1: Nr | B1: ID | C1: Eisen aan de informatiebeveiliging, privacy en compliance
A2: {=CELL("row",A2)-1} -> 1 | B2: =Inhoudsopgave!$C$5&"."&TEXT(Table52[[#This Row],[Nr]],"00") -> SEC.01 | C2: Op gebied van informatiebeveiliging, hosting en beheer zijn door de Opdrachtnemer aantoonbaar beveiligingsmaatregelen genomen conform minimaal ISO 27001 of vergelijkbaar zoals beschreven in het Beschrijvend Document paragraaf 5.2.2..
A3: {=CELL("row",A3)-1} -> 2 | B3: =Inhoudsopgave!$C$5&"."&TEXT(Table52[[#This Row],[Nr]],"00") -> SEC.02 | C3: De leverancier voorziet Nuffic van informatie rondom geïmplementeerde beveiligingsmaatregelen zodat compliance aan de BIO2 (een verplichting van Nuffic) voor livegang kan worden voldaan.
A4: {=CELL("row",A4)-1} -> 3 | B4: =Inhoudsopgave!$C$5&"."&TEXT(Table52[[#This Row],[Nr]],"00") -> SEC.03 | C4: De aangeboden dienstverlening dient ondersteuning te bieden voor EntraID & Entra external ID voor iedereen met toegang tot het CMS.
A5: {=CELL("row",A5)-1} -> 4 | B5: =Inhoudsopgave!$C$5&"."&TEXT(Table52[[#This Row],[Nr]],"00") -> SEC.04 | C5: Opdrachtnemer beschermt informatie gedurende de gehele levenscyclus door middel van passende maatregelen voor gegevensoverdracht, opslag, verwijdering, cryptografie en beheer van opslagmedia. Er dient altijd versleuteling plaats te vinden van authenticatie data en data transport conform cryptografische technieken die als veilig worden beschouwd door Forum Standaardisatie (https://www.forumstandaardisatie.nl/open-standaarden/verplicht). Wachtwoorden, API-keys e.d. mogen nooit onversleuteld worden opgeslagen.
A6: {=CELL("row",A6)-1} -> 5 | B6: =Inhoudsopgave!$C$5&"."&TEXT(Table52[[#This Row],[Nr]],"00") -> SEC.05 | C6: Opdrachtnemer dient informatiebeveiligingsrisico's van leveranciers en onderaannemers te beheersen. Leveranciers die betrokken zijn bij de dienstverlening dienen contractueel te zijn gebonden aan passende informatiebeveiligings- en privacyverplichtingen.
A7: {=CELL("row",A7)-1} -> 6 | B7: =Inhoudsopgave!$C$5&"."&TEXT(Table52[[#This Row],[Nr]],"00") -> SEC.06 | C7: Opdrachtnemer dient back-ups uit te voeren van relevante gegevens en systemen. De herstelbaarheid van back-ups dient minimaal jaarlijks te worden getest. Dit moet worden aangetoond door middel van een testrapport of iets vergelijkbaars. Daarnaast dient een bedrijfscontinuïteits- en herstelplan beschikbaar te zijn.
A8: {=CELL("row",A8)-1} -> 7 | B8: =Inhoudsopgave!$C$5&"."&TEXT(Table52[[#This Row],[Nr]],"00") -> SEC.07 | C8: Opdrachtnemer beschikt over een proces voor het registreren, behandelen, onderzoeken en rapporteren van informatiebeveiligingsincidenten, inclusief rollen, verantwoordelijkheden, escalatieprocedures en forensische bewijsvoering.
A9: {=CELL("row",A9)-1} -> 8 | B9: =Inhoudsopgave!$C$5&"."&TEXT(Table52[[#This Row],[Nr]],"00") -> SEC.08 | C9: Opdrachtnemer monitort systemen, netwerken en applicaties op beveiligingsgebeurtenissen. Relevante loggegevens worden vastgelegd, beschermd, bewaard en geanalyseerd teneinde afwijkingen en incidenten tijdig te detecteren.
A10: {=CELL("row",A10)-1} -> 9 | B10: =Inhoudsopgave!$C$5&"."&TEXT(Table52[[#This Row],[Nr]],"00") -> SEC.09 | C10: Opdrachtnemer dient een proces te hebben ingericht voor het identificeren, beoordelen en verhelpen van kwetsbaarheden. Tevens dienen systemen te zijn beschermd tegen malware middels preventieve, detectieve en corrigerende maatregelen.
A11: {=CELL("row",A11)-1} -> 10 | B11: =Inhoudsopgave!$C$5&"."&TEXT(Table52[[#This Row],[Nr]],"00") -> SEC.10 | C11: Opdrachtnemer dient te beschikken over een formeel proces voor het melden, registreren, onderzoeken, afhandelen en evalueren van informatiebeveiligingsincidenten. Beveiligingsincidenten dienen uiterlijk binnen 24 uur na constatering aan opdrachtgever te worden gemeld.
A12: {=CELL("row",A12)-1} -> 11 | B12: =Inhoudsopgave!$C$5&"."&TEXT(Table52[[#This Row],[Nr]],"00") -> SEC.11 | C12: Alle onderdelen van het Systeem moeten afdoende zijn beveiligd tegen ongewenst(e) toegang, ongeautoriseerd gebruik, hackers, virussen (inclusief spyware, ransomware, malware), DDoS en misbruik. Documenten die vanuit het CMS zijn geüpload, dienen bij upload gescand te worden op malware en virussen. De gespecificeerde werking van het systeem mag hierdoor niet nadelig beïnvloed worden. Opdrachtnemer zorgt er voor dat getroffen voorzieningen up-to-date gehouden worden.
A13: {=CELL("row",A13)-1} -> 12 | B13: =Inhoudsopgave!$C$5&"."&TEXT(Table52[[#This Row],[Nr]],"00") -> SEC.12 | C13: Opdrachtnemer laat als onderdeel van de dienstverlening geleverde applicaties, diensten en/of websites periodiek (jaarlijks of frequenter) controleren op technische naleving van beveiligingsnormen en risico’s ten aanzien van de feitelijke veiligheid. (door bijvoorbeeld (geautomatiseerde) kwetsbaarheidsanalyses en/of penetratietesten. Bevindingen hoger dan "laag" geclassificeerd (CVSS 3.9 en hoger) dienen binnen een maand verholpen te zijn. Bevindingen die geclassificeerd zijn als "hoog" (CVSS 4.0 - 6.9) binnen een week en als "kritiek" binnen 24 uur. (Bewijs (Assurance rapport pvragen)
A14: 12 | B14: SEC.12 | C14: Opdrachtnemer biedt Nuffic de mogelijkheid om, in overleg, audits te doen of uit te laten voeren op alle vereisten zoals vermeld in de overeenkomst. Hieronder vallen ook audits op het functioneren van technische beveiligingsmaatregelen. Bevindingen vanuit audits waaruit niet naleving van de in de overeenkomst opgenomen eisen voor informatiebeveiliging & privacy blijkt dienen binnen een met Nuffic afgestemde termijn te worden verholpen.
A15: 13 | B15: SEC.13 | C15: Voordat de omgeving in productie wordt genomen dient er een technische audit/pen-test uitgevoerd te worden op de gehele omgeving (productie en acceptatie voor Nuffic). Nuffic kan hiervoor een externe partij inschakelen en uitvoering samen met de leverancier van het platform/de websites coördineren en afstemmen. Een assurance rapport van de leverancier kan ook voldoende zijn in overeenstemming met Nuffic.
A16: {=CELL("row",A16)-1} -> 15 | B16: =Inhoudsopgave!$C$5&"."&TEXT(Table52[[#This Row],[Nr]],"00") -> SEC.15 | C16: Opdrachtnemer voldoet aan relevante wet- en regelgeving, waaronder de AVG, en stelt de opdrachtgever in staat om naleving aan te tonen door middel van audits, assessments, rapportages of onafhankelijke verklaringen.
A17: {=CELL("row",A17)-1} -> 16 | B17: =Inhoudsopgave!$C$5&"."&TEXT(Table52[[#This Row],[Nr]],"00") -> SEC.16 | C17: Er dient bij Opdrachtnemer een Coordinated Vulnerability Disclosure (CVD) procedure ingericht en gepubliceerd te zijn.
A18: {=CELL("row",A18)-1} -> 17 | B18: =Inhoudsopgave!$C$5&"."&TEXT(Table52[[#This Row],[Nr]],"00") -> SEC.17 | C18: Opdrachtnemer dient bij het ontwerp, beheer en de ontwikkeling van websites en webformulieren de principes van Privacy by Design en Privacy by Default toe te passen, passend bij de privacy- en beveiligingsuitgangspunten van Nuffic.
A19: {=CELL("row",A19)-1} -> 18 | B19: =Inhoudsopgave!$C$5&"."&TEXT(Table52[[#This Row],[Nr]],"00") -> SEC.18 | C19: De opdrachtnemer behandelt alle persoonsgegevens die via websites en webformulieren worden verwerkt als vertrouwelijke informatie. Persoonsgegevens van minderjarigen, bijzondere persoonsgegevens en foto's of andere beeldopnamen van personen worden behandeld als persoonsgegevens met een verhoogd beschermingsniveau. Bij twijfel past de opdrachtnemer het hoogste beschermingsniveau toe. Dit uitgangspunt geldt ongeacht het ontbreken van een formeel classificatiemodel voor persoonsgegevens binnen Nuffic.
A20: {=CELL("row",A20)-1} -> 19 | B20: =Inhoudsopgave!$C$5&"."&TEXT(Table52[[#This Row],[Nr]],"00") -> SEC.19 | C20: De opdrachtnemer dient ervoor zorg te dragen dat persoonsgegevens die via webformulieren van Nuffic worden verzonden en opgeslagen adequaat zijn versleuteld conform actuele beveiligingsstandaarden.
A21: {=CELL("row",A21)-1} -> 20 | B21: =Inhoudsopgave!$C$5&"."&TEXT(Table52[[#This Row],[Nr]],"00") -> SEC.20 | C21: De opdrachtnemer dient Nuffic proactief te adviseren indien webformulieren onnodig persoonsgegevens verzamelen, niet voldoen aan het beginsel van gegevensminimalisatie of aanvullende privacy- of beveiligingsmaatregelen noodzakelijk zijn.
A22: {=CELL("row",A22)-1} -> 21 | B22: =Inhoudsopgave!$C$5&"."&TEXT(Table52[[#This Row],[Nr]],"00") -> SEC.21 | C22: Opdrachtnemer dient persoonsgegevens niet op te nemen in logbestanden, monitoringtools of foutmeldingen, tenzij dit noodzakelijk is voor beveiligings- of beheerdoeleinden.
A23: {=CELL("row",A23)-1} -> 22 | B23: =Inhoudsopgave!$C$5&"."&TEXT(Table52[[#This Row],[Nr]],"00") -> SEC.22 | C23: De opdrachtnemer dient, indien zij optreedt als verwerker in de zin van de AVG, voorafgaand aan de dienstverlening een verwerkersovereenkomst te sluiten met opdrachtgever. De verwerkersovereenkomst dient minimaal te voldoen aan de vereisten van artikel 28 AVG.
A24: {=CELL("row",A24)-1} -> 23 | B24: =Inhoudsopgave!$C$5&"."&TEXT(Table52[[#This Row],[Nr]],"00") -> SEC.23 | C24: De opdrachtnemer dient opdrachtgever vooraf te informeren over de inzet van subverwerkers die persoonsgegevens verwerken, alsmede over iedere verwerking van persoonsgegevens buiten de EU, en deze uitsluitend toe te passen na toestemming van Nuffic overeenkomstig de AVG en de tussen partijen gesloten verwerkersovereenkomst.
A25: {=CELL("row",A25)-1} -> 24 | B25: =Inhoudsopgave!$C$5&"."&TEXT(Table52[[#This Row],[Nr]],"00") -> SEC.24 | C25: Opdrachtnemer heeft een actieve signaleringsplicht ten aanzien van privacyrisico's. Opdrachtnemer adviseert Nuffic tijdig indien voorgenomen wijzigingen aan websites, webformulieren, trackingmechanismen, uploadfunctionaliteiten, AI-toepassingen of koppelingen met derden mogelijk leiden tot een DPIA-plicht, een verhoogd privacyrisico of aanvullende AVG-verplichtingen.
A26: {=CELL("row",A26)-1} -> 25 | B26: =Inhoudsopgave!$C$5&"."&TEXT(Table52[[#This Row],[Nr]],"00") -> SEC.25 | C26: Opdrachtnemer verleent desgevraagd volledige medewerking aan het uitvoeren, actualiseren en documenteren van een Data Protection Impact Assessment (DPIA) en verstrekt daarbij alle informatie die opdrachtgever Nuffic redelijkerwijs nodig heeft om te voldoen aan artikel 35 AVG.

Sheet Eisen Ontwikkeling en beheer
A1: Nr | B1: ID | C1: Eisen aan Ontwikkeling en beheer
A2: {=CELL("row",A2)-1} -> 1 | B2: ONT.01 | C2: Leverancier hanteert aantoonbaar best practices op gebied van veilige software ontwikkeling zoals geadviseerd onder de BIO (https://www.cip-overheid.nl/productcategorieën-en-worshops/producten/secure-software/#grip-op-ssd-de-methode) en NCSC (https://www.ncsc.nl/documenten/publicaties/2019/mei/01/beleids--en-beheersingsrichtlijnen-voor-de-ontwikkeling-van-veilige-software).
A3: {=CELL("row",A3)-1} -> 2 | B3: ONT.02 | C3: Leverancier heeft aantoonbaar maatregelen getroffen waarmee optreden van kwetsbaarheden zoals opgenomen in de meest recente OWASP top 10 (link) in de Nuffic-websites op zowel de acceptatie- als de productieomgeving wordt voorkomen.
A4: {=CELL("row",A4)-1} -> 3 | B4: ONT.03 | C4: De omgeving moet voorzien in een gescheiden ontwikkel-/test-, acceptatie- en productieomgeving. De verbinding richting de acceptatie- en productie-omgeving is sterk gereguleerd middels maatregelen voor toegangsbeheer.
A5: {=CELL("row",A5)-1} -> 4 | B5: ONT.04 | C5: Wijzigingen aan de website(s) en het platform worden uitgevoerd via een wederzijds geaccordeerd change management proces.
A6: {=CELL("row",A6)-1} -> 5 | B6: ONT.05 | C6: Onderdeel van de dienstverlening is het up-to-date houden van de omgeving en het CMS conform updates van de gebruikte software waarbij deze, conform een af te stemmen procedure, binnen uiterlijk een maand na uitkomen dienen te zijn geïnstalleerd. Patching in geval van ernstige kwetsbaarheden (waarbij Nuffic de NCSC.NL classificatie en adviezen volgt) dient uiterlijk binnen een week plaats te vinden.
A7: {=CELL("row",A7)-1} -> 6 | B7: ONT.06 | C7: Upgrades van systemen worden uitgevoerd conform separate wijzigingen en in afstemming met Nuffic. Er mogen alleen versies van software (inclusief componenten en modules) worden gebruikt die nog actief door de fabrikant of, in geval van Drupal de community, worden ondersteund, en voorzien worden van beveiligingsupdates.
A8: {=CELL("row",A8)-1} -> 7 | B8: ONT.07 | C8: Inschrijver levert, na gunning, een technisch ontwerp van de hostingomgeving, de inrichting van de Drupal-multisite en de bijbehorende databases en koppelingen. Hierin wordt naast de beschrijving van de technische architectuur en interne en externe koppelingen ook beschrijven hoe technische informatiebeveiligingsmaatregelen zijn geïmplementeerd, Inschrijver onderhoudt dit ontwerp gedurende de looptijd van het contract.

Sheet Eisen SLA
A1: Nr | B1: ID | C1: Eisen aan de SLA
A2: {=CELL("row",A2)-1} -> 1 | B2: =Inhoudsopgave!$C$7&"."&TEXT(Table2[[#This Row],[Nr]],"00") -> SLA.01 | C2: Leverancier ondertekent een geheimhoudingsverklaring met Nuffic.
A3: {=CELL("row",A3)-1} -> 2 | B3: =Inhoudsopgave!$C$7&"."&TEXT(Table2[[#This Row],[Nr]],"00") -> SLA.02 | C3: Service Level Agreements (SLA’s) voor de infrastructuur en de webomgeving met CMS kunnen in één of afzonderlijke documenten worden opgenomen. Mochten er in deze SLA’s verwijzingen naar aanvullende documenten, appendices of bijlagen zijn opgenomen dan dienen ook deze documenten door de leverancier altijd samen met de SLA’s ter beschikking te worden gesteld.
A4: {=CELL("row",A4)-1} -> 3 | B4: =Inhoudsopgave!$C$7&"."&TEXT(Table2[[#This Row],[Nr]],"00") -> SLA.03 | C4: Leverancier levert voor de hosting van de websites een uptime van minimaal 99,5% op jaarbasis en bewaakt 7*24 de bereikbaarheid en beschikbaarheid van de websites en het Drupal CMS.
A5: {=CELL("row",A5)-1} -> 4 | B5: =Inhoudsopgave!$C$7&"."&TEXT(Table2[[#This Row],[Nr]],"00") -> SLA.04 | C5: De dienstverlening voorziet minimaal in de processen incidentmanagement, changemanagement, problemmanagement en configuratiebeheer, preventief en proactief onderhoud en technisch beheer van de omgeving.
A6: {=CELL("row",A6)-1} -> 5 | B6: =Inhoudsopgave!$C$7&"."&TEXT(Table2[[#This Row],[Nr]],"00") -> SLA.05 | C6: Leverancier heeft een procedure om in geval van ernstige informatiebeveiligingsincidenten buiten het afgesproken service window ondersteuning te verlenen.
A7: {=CELL("row",A7)-1} -> 6 | B7: =Inhoudsopgave!$C$7&"."&TEXT(Table2[[#This Row],[Nr]],"00") -> SLA.06 | C7: Voorafgaand aan inproductiename komen Inschrijver en Opdrachtgever een SLA, DAP en exitprocedure overeen.
A8: {=CELL("row",A8)-1} -> 7 | B8: =Inhoudsopgave!$C$7&"."&TEXT(Table2[[#This Row],[Nr]],"00") -> SLA.07 | C8: De SLA bevat: • een procedure voor informatiebeveiligingsincidenten. • de manier waarop wijzigingen en updates van de dienstverlening en in de SLA vastgelegde regelingen, prestaties en rapportages worden beheerd. • Afspraken over de werkwijze bij het verlengen van de looptijd, het beëindigen van de SLA na afloop van de looptijd en afspraken over het voortijdig beëindigen ervan. • Identificatie van essentiële componenten. Hier wordt onder andere de essentiële hard- en software beschreven. Ook als deze geen onderdeel uitmaken van de dienst maar deze hier wel van afhankelijk is. • Vitale bedrijfsfuncties, processen en activiteiten van Nuffic die door de (ICT-)dienst ondersteund worden beschreven. • Beschrijving van de wijze hoe beveiligingsmaatregelen worden getoetst en gecontroleerd. Ook dient beschreven te zijn hoe de beveiligingsmaatregelen door de dienstleverancier te controleren zijn (bijvoorbeeld audits en penetratietests) en hoe het toezicht is geregeld. • Beschrijving van en afspraken m.b.t. de support. • Afspraken omtrent gestructureerd overleg. • Een overzicht van verantwoordelijken bij escalatie of calamiteiten op functieniveau. • De afspraken omtrent de werkwijze bij afwijkingen van dienstverlening ten opzichte van het afgesproken dienstenniveaus. • Afspraken rondom de periodieke beoordeling van de dienstverlening en het functioneren van de afgesproken informatiebeveiligingsmaatregelen. • De afspraken rondom het (laten) uitvoeren van audits, aanleveren van noodzakelijke informatie en criteria op basis waarvan audits uitgevoerd mogen worden. • Beschrijving van de inhoud en frequentie van de rapportage die door de leverancier wordt opgeleverd. • Beschrijving van de contractueel overeengekomen beschikbaarheid van de dienst. Dit is de eigenschap dat de dienst toegankelijk en bruikbaar is op het moment dat Nuffic gebruik wil maken van de dienst. • Beschrijving van en afspraken over de wijze hoe de beschikbaarheid en integriteit van de dienst (en onderliggende facilitaire en infrastructurele voorzieningen) zijn geborgd. • Afspraken over de snelheid waarmee de productieomgeving wordt hersteld of tot uitwijk wordt overgegaan. De mate waarin recovery mogelijk is, is deels afhankelijk van de gekozen back-upmethode. • Afspraken over specifieke beveiligingsmaatregelen. Voorbeelden hiervan zijn afspraken over back-up en restore, encryptie en sleutelbeheer, maatregelen bij schenden beveiligingsprocedures en aanspreekpunten bij informatiebeveiligingsincidenten. • De afspraken rondom de werkwijze voor identificatie, authenticatie en autorisatie van medewerkers van de leverancier die toegang (kunnen) hebben tot data van Nuffic. • De afspraken rondom de inzet van cryptografische technieken inclusief het sleutelbeheer en eventuele bijzonderheden hieromtrent. • De afspraken over de behandeling (detecteren, rapporteren, beoordelen, reageren op, omgaan met, en leren van) van informatiebeveiligingsincidenten inclusief de definitie hiervan en de afspraken over de melding ervan aan Nuffic binnen 24 uur na ontdekking. • De afspraken over logging en monitoring van de dienst en een beschrijving van de bijbehorende (on)mogelijkheden. • De afspraken over de werkwijze rondom applicatie-updates en -upgrades, de deployment naar productie en verantwoordelijkheden voor test- en acceptatie. • De afspraken rondom de werkwijze voor patch & kwetsbaarhedenbeheer.
A9: {=CELL("row",A9)-1} -> 8 | B9: =Inhoudsopgave!$C$7&"."&TEXT(Table2[[#This Row],[Nr]],"00") -> SLA.08 | C9: Inschrijver heeft een helpdeskfunctie beschikbaar op werkdagen tussen 08:30-17:30u. De helpdeskfunctie is gedurende deze periode telefonisch en via het ticketsysteem bereikbaar.
A10: {=CELL("row",A10)-1} -> 9 | B10: =Inhoudsopgave!$C$7&"."&TEXT(Table2[[#This Row],[Nr]],"00") -> SLA.09 | C10: Inschrijver maakt gebruik van een online ticketsysteem voor het registreren en afhandelen van incidenten, service equests, wijzigingen en vragen. Opdrachtgever krijgt toegang tot dit ticketsysteem voor het indienen van tickets.
A11: {=CELL("row",A11)-1} -> 10 | B11: =Inhoudsopgave!$C$7&"."&TEXT(Table2[[#This Row],[Nr]],"00") -> SLA.10 | C11: Servicelevels: Prioriteit 1 Urgent: responstijd 1 uur, oplostijd <8 uur Prioriteit 2 Hoog: responstijd 4 uur, oplostijd <16 uur Prioriteit 3 Normaal: responstijd 24 uur, oplostijd <40 uur
A12: {=CELL("row",A12)-1} -> 11 | B12: =Inhoudsopgave!$C$7&"."&TEXT(Table2[[#This Row],[Nr]],"00") -> SLA.11 | C12: Om de kwaliteit van de dienstverlening te waarborgen, zullen ten minste de volgende overleggen plaatsvinden tussen Nuffic en de dienstverlener (vast te leggen in de SLA en het DAP): • Strategisch overleg: 1x per jaar; • Tactisch/operationeel overleg: 1x per kwartaal;
A13: {=CELL("row",A13)-1} -> 12 | B13: =Inhoudsopgave!$C$7&"."&TEXT(Table2[[#This Row],[Nr]],"00") -> SLA.12 | C13: Maandelijks rapporteert Inschrijver schriftelijk aan Opdrachtgever. De rapportage bevat de volgende onderwerpen: • aantal meldingen (vragen, incidentsmeldingen, klachten) van vorige kalendermaand; • aantal afgesloten meldingen binnen/buiten de gestelde hersteltijd; • aantal openstaande meldingen; • beschikbaarheid, capaciteit en prestatie van de infrastructuur in de afgelopen periode; • ernstige afwijkingen van het overeengekomen serviceniveau, van welke aard dan ook; • lopende en komende ontwikkelingen (trends, belangrijke vervangingen, groot onderhoud, e.d .); • (beveiligings)incidenten en opvolging ervan; • compliance en het functioneren van de beveiligingsmaatregelen; • audits en uitgevoerde securitytests.
... A15: {=CELL("row",A15)-1} -> 14 | B15: =Inhoudsopgave!$C$7&"."&TEXT(Table2[[#This Row],[Nr]],"00") -> SLA.14 | C15: De beheerwerkzaamheden worden uitgevoerd op de locatie van Inschrijver.
A16: 15 | B16: =Inhoudsopgave!$C$7&"."&TEXT(Table2[[#This Row],[Nr]],"00") -> SLA.15 | C16: Inschrijver garandeert een oplostijd bij volledige onbeschikbaarheid van het systeem (hoogste prioriteit urgent) van maximaal 8 uur.
A17: {=CELL("row",A17)-1} -> 16 | B17: SLA.20 | C17: In de vaste maandelijkse kosten (niet-variabel maandbedrag, op te geven in het prijzenblad) zijn in ieder geval de onderstaande activiteiten/diensten inbegrepen: • Hosting, technisch beheer en monitoring (incl. hostingupdates, back-ups en monitoring van beschikbaarheid en performance); • Beheer en onderhoud Drupal (incl. minor Drupal-updates en security-updates); • Beheer en onderhoud maatwerkcomponenten en -koppelingen; • Incidentoplossing volgens de afgesproken kaders (reactie en oplostijd voor de verschillende categorieën); • Blijvend voldoen aan BIO compliance-eisen (bijv. oplossen van hoogrisico issues); • Communicatie, overleggen en rapportage volgens de vereiste overlegstructuren en -frequentie; • Up-to-date houden technische documentatie. • Certificaatbeheer

Sheet Algemene eisen
A1: Nr | B1: ID | C1: Algemene eisen
A2: {=CELL("row",A2)-1} -> 1 | B2: ALG.01 | C2: Inschrijver levert managementvertegenwoordiging voor deelname aan strategische overleggen.
A3: {=CELL("row",A3)-1} -> 2 | B3: ALG.02 | C3: Inschrijver garandeert dat er bij wisselingen in het vaste Nuffic-team geen invloed is op de continuïteit van de dienstverlening.
A4: {=CELL("row",A4)-1} -> 3 | B4: ALG.03 | C4: Bij wisselingen binnen het vaste Nuffic-team, worden inwerkuren niet doorberekend aan Nuffic.
A5: {=CELL("row",A5)-1} -> 4 | B5: ALG.04 | C5: Inschrijver dient één vast contactpersoon en één vast vervangend contactpersoon beschikbaar te stellen met wie Nuffic tijdens kantooruren contact kan opnemen. Nuffic verstaat onder kantooruren werkdagen tussen 08:30 en 17:30u. De contactpersoon van Inschrijver dient telefonisch en per e-mail beschikbaar te zijn voor het beantwoorden van vragen en voor het in behandeling nemen van een klacht.
A6: {=CELL("row",A6)-1} -> 5 | B6: ALG.05 | C6: Communicatie tussen Inschrijver en Nuffic vindt plaats in het Nederlands.
A7: {=CELL("row",A7)-1} -> 6 | B7: ALG.06 | C7: Facturatie vindt plaats volgens de afspraken in de overeenkomst, op basis van de planning opgegeven in de inschrijving en onder vermelding van een specificatie van gemaakte uren, de verrichte werkzaamheden en van het purchaseorder-nummer (aangeleverd door Nuffic).
A8: {=CELL("row",A8)-1} -> 7 | B8: ALG.07 | C8: Facturen worden digitaal, in PDF-format verstuurd aan facturen@nuffic.nl
A9: 8 | B9: ALG.08 | C9: Inschrijver is verplicht zich bij de uitvoering van haar werkzaamheden te houden aan relevante geldende wet- en regelgeving
