Workbook

Sheet Voorbewerking
A1: W&V
B2: Grootboekrekening | C2: Planning € | D2: Realisatie €
B3: Omzet totaal | C3: =+Omzet!E5 -> 11000000 | D3: =+Omzet!F5 -> 11000000
B5: Loonkosten | C5: =SUMIF(B$17:B$34,B5,D$17:D$34) -> 4300000 | D5: 4200000
B6: Inhuurkosten | C6: 700000 | D6: =SUMIF(B$17:B$34,B6,E$17:E$34) -> 700000
B7: Uitbestedingskosten | C7: =SUMIF(B$17:B$34,B7,D$17:D$34) -> 400000 | D7: =SUMIF(B$17:B$34,B7,E$17:E$34) -> 400000
B8: Facilitaire kosten | C8: =SUMIF(B$17:B$34,B8,D$17:D$34) -> 2000000 | D8: 1900000
B9: Automatiseringskosten | C9: =SUMIF(B$17:B$34,B9,D$17:D$34) -> 2000000 | D9: 2200000
B10: Overige bedrijfskosten | C10: =SUMIF(B$17:B$34,B10,D$17:D$34) -> 400000 | D10: =SUMIF(B$17:B$34,B10,E$17:E$34) -> 400000
B11: Kosten totaal | C11: =SUM(C5:C10) -> 9800000 | D11: =SUM(D5:D10) -> 9800000
B13: Resultaat | C13: =+C3-C11 -> 1200000 | D13: =+D3-D11 -> 1200000
A16: W&V naar kostenplaats en verdeelsleutels
B17: Kostensoort | C17: Kostenplaats | D17: Planning € | E17: Realisatie € | F17: fte | G17: headcount | H17: uren voorcalc | I17: uren verantwoord
B18: Loonkosten | C18: X | D18: 1200000 | E18: 1150000 | F18: 16 | G18: 20 | H18: =+F18*1000 -> 16000 | I18: 15500
B19: Inhuurkosten | C19: X | D19: 700000 | E19: 700000 | F19: 7 | G19: 7 | H19: =+F19*1200 -> 8400 | I19: 8400
B20: Overige bedrijfskosten | C20: X | D20: 300000 | E20: 300000
B22: Loonkosten | C22: Y | D22: 700000 | E22: 700000 | F22: 6 | G22: 8 | H22: =+F22*1000 -> 6000 | I22: 6300
B23: Overige bedrijfskosten | C23: Y | D23: 100000 | E23: 100000
B25: Loonkosten | C25: F | D25: 350000 | E25: 300000 | F25: 6 | G25: 6 | H25: =+F25*1000 -> 6000 | I25: 6000
B26: Facilitaire kosten | C26: F | D26: 2000000 | E26: 1900000
B28: Loonkosten | C28: P | D28: 450000 | E28: 400000 | F28: 5 | G28: 8 | H28: =+F28*1000 -> 5000 | I28: 5000
B29: Uitbestedingskosten | C29: P | D29: 400000 | E29: 400000
B31: Loonkosten | C31: I | D31: 1600000 | E31: 1650000 | F31: 15 | G31: 15 | H31: =+F31*1000 -> 15000 | I31: 15000
B32: Automatiseringskosten | C32: I | D32: 2000000 | E32: 2200000
B33: Automatiseringskosten correctie | C33: I | E33: =-Verdeelsleutels!B25-Verdeelsleutels!B26 -> -1100000
B34: Automatiseringskosten specifiek | C34: I | E34: =-E33 -> 1100000
D35: =SUM(D18:D34) -> 9800000 | E35: =SUM(E18:E34) -> 9800000 | F35: =SUM(F18:F34) -> 55 | G35: =SUM(G18:G34) -> 64 | H35: =SUM(H18:H34) -> 56400 | I35: =SUM(I18:I34) -> 56200
A38: Functies per kostenplaats en uurtarief
B39: Kostensoort | C39: Kostenplaats | D39: Functie | E39: budget voorcalc | F39: fte voorcalc | G39: uren voorcalc | H39: uurtarief voorcalc | I39: uren verantwoord | J39: controle | K39: uurkosten verantwoord
B40: Loonkosten | C40: X | D40: functie 01_I | E40: 500000 | F40: 5 | G40: =+F40*1000 -> 5000 | H40: =ROUND(E40/G40,2) -> 100 | I40: 5500 | J40: =SUMIFS(E$53:E$87,B$53:B$87,C40,C$53:C$87,D40)-I40 -> 0 | K40: =SUMIFS(G$53:G$87,B$53:B$87,C40,C$53:C$87,D40) -> 550000
B41: Loonkosten | C41: X | D41: functie 02_I | E41: 400000 | F41: 5 | G41: =+F41*1000 -> 5000 | H41: =ROUND(E41/G41,2) -> 80 | I41: 5000 | J41: =SUMIFS(E$53:E$87,B$53:B$87,C41,C$53:C$87,D41)-I41 -> 0 | K41: =SUMIFS(G$53:G$87,B$53:B$87,C41,C$53:C$87,D41) -> 400000
B42: Loonkosten | C42: X | D42: functie 03_I | E42: 300000 | F42: 6 | G42: =+F42*1000 -> 6000 | H42: =ROUND(E42/G42,2) -> 50 | I42: 5000 | J42: =SUMIFS(E$53:E$87,B$53:B$87,C42,C$53:C$87,D42)-I42 -> 0 | K42: =SUMIFS(G$53:G$87,B$53:B$87,C42,C$53:C$87,D42) -> 250000
B43: Loonkosten | C43: Y | D43: functie 01_I | E43: 400000 | F43: 3 | G43: =+F43*1000 -> 3000 | H43: =ROUND(E43/G43,2) -> 133.33 | I43: 3300 | J43: =SUMIFS(E$53:E$87,B$53:B$87,C43,C$53:C$87,D43)-I43 -> 0 | K43: =SUMIFS(G$53:G$87,B$53:B$87,C43,C$53:C$87,D43) -> 439989
B44: Loonkosten | C44: Y | D44: functie 02_I | E44: 300000 | F44: 3 | G44: =+F44*1000 -> 3000 | H44: =ROUND(E44/G44,2) -> 100 | I44: 3000 | J44: =SUMIFS(E$53:E$87,B$53:B$87,C44,C$53:C$87,D44)-I44 -> 0 | K44: =SUMIFS(G$53:G$87,B$53:B$87,C44,C$53:C$87,D44) -> 300000
B45: Loonkosten | C45: F | D45: functie 04_I | E45: 350000 | F45: 6 | G45: =+F45*1000 -> 6000 | H45: =ROUND(E45/G45,2) -> 58.33 | I45: 6000 | J45: =SUMIFS(E$53:E$87,B$53:B$87,C45,C$53:C$87,D45)-I45 -> 0 | K45: =SUMIFS(G$53:G$87,B$53:B$87,C45,C$53:C$87,D45) -> 349980
B46: Loonkosten | C46: P | D46: functie 05_I | E46: 450000 | F46: 5 | G46: =+F46*1000 -> 5000 | H46: =ROUND(E46/G46,2) -> 90 | I46: 5000 | J46: =SUMIFS(E$53:E$87,B$53:B$87,C46,C$53:C$87,D46)-I46 -> 0 | K46: =SUMIFS(G$53:G$87,B$53:B$87,C46,C$53:C$87,D46) -> 450000
B47: Loonkosten | C47: I | D47: functie 06_I | E47: 1600000 | F47: 15 | G47: =+F47*1000 -> 15000 | H47: =ROUND(E47/G47,2) -> 106.67 | I47: 15000 | J47: =SUMIFS(E$53:E$87,B$53:B$87,C47,C$53:C$87,D47)-I47 -> 0 | K47: =SUMIFS(G$53:G$87,B$53:B$87,C47,C$53:C$87,D47) -> 1600050
B48: Inhuurkosten | C48: X | D48: functie 03_E | E48: 700000 | F48: 7 | G48: 8400 | H48: =ROUND(E48/G48,2) -> 83.33 | I48: 8400 | J48: =SUMIFS(E$53:E$87,B$53:B$87,C48,C$53:C$87,D48)-I48 -> 0 | K48: =SUMIFS(G$53:G$87,B$53:B$87,C48,C$53:C$87,D48) -> 699972
E49: =SUM(E40:E48) -> 5000000 | F49: =SUM(F40:F48) -> 55 | G49: =SUM(G40:G48) -> 56400
A52: Activiteitsuren per functie
...

Sheet Verdeelsleutels
A1: Kostenplaats | B1: fte | C1: headcount | D1: werkplekken | E1: IT-werkplekken | F1: mob devices
A2: X | B2: =SUMIF(Voorbewerking!C17:C35,Verdeelsleutels!A2,Voorbewerking!F17:F35) -> 23 | C2: =SUMIF(Voorbewerking!C17:C35,Verdeelsleutels!A2,Voorbewerking!G17:G35) -> 27 | D2: 23 | E2: 27 | F2: 30
A3: Y | B3: =SUMIF(Voorbewerking!C18:C36,Verdeelsleutels!A3,Voorbewerking!F18:F36) -> 6 | C3: =SUMIF(Voorbewerking!C18:C36,Verdeelsleutels!A3,Voorbewerking!G18:G36) -> 8 | D3: 6 | E3: 8 | F3: 10
A4: F | B4: =SUMIF(Voorbewerking!C19:C37,Verdeelsleutels!A4,Voorbewerking!F19:F37) -> 6 | C4: =SUMIF(Voorbewerking!C19:C37,Verdeelsleutels!A4,Voorbewerking!G19:G37) -> 6 | D4: 4 | E4: 6 | F4: 6
A5: P | B5: =SUMIF(Voorbewerking!C20:C38,Verdeelsleutels!A5,Voorbewerking!F20:F38) -> 5 | C5: =SUMIF(Voorbewerking!C20:C38,Verdeelsleutels!A5,Voorbewerking!G20:G38) -> 8 | D5: 5 | E5: 8 | F5: 8
A6: I | B6: =SUMIF(Voorbewerking!C21:C39,Verdeelsleutels!A6,Voorbewerking!F21:F39) -> 15 | C6: =SUMIF(Voorbewerking!C21:C39,Verdeelsleutels!A6,Voorbewerking!G21:G39) -> 15 | D6: 12 | E6: 15 | F6: 20
B7: =SUM(B2:B6) -> 55 | C7: =SUM(C2:C6) -> 64 | D7: =SUM(D2:D6) -> 50 | E7: =SUM(E2:E6) -> 64 | F7: =SUM(F2:F6) -> 74
A9: Kostenplaats | B9: Functie | C9: fte | D9: uren verantwoord
A10: X | B10: functie 01_I | C10: =+Voorbewerking!F40 -> 5 | D10: =+Voorbewerking!I40 -> 5500
A11: X | B11: functie 02_I | C11: =+Voorbewerking!F41 -> 5 | D11: =+Voorbewerking!I41 -> 5000
A12: X | B12: functie 03_I | C12: =+Voorbewerking!F42 -> 6 | D12: =+Voorbewerking!I42 -> 5000
A13: Y | B13: functie 01_I | C13: =+Voorbewerking!F43 -> 3 | D13: =+Voorbewerking!I43 -> 3300
A14: Y | B14: functie 02_I | C14: =+Voorbewerking!F44 -> 3 | D14: =+Voorbewerking!I44 -> 3000
A15: X | B15: functie 03_E | C15: =+Voorbewerking!F48 -> 7 | D15: =+Voorbewerking!I48 -> 8400
C16: =SUM(C10:C15) -> 29 | D16: =SUM(D10:D15) -> 30200
A19: Kosten per IT-dienst - resultaat KAM
A20: IT-dienst | B20: kosten | C20: product I | D20: product II | E20: product III
A21: dienst_01 | B21: 900000 | C21: 0.5 | D21: 0.5
A22: dienst_02 | B22: 500000 | C22: 0.25 | D22: 0.75
A23: dienst_03 | B23: 1000000 | C23: 0.25 | D23: 0.25 | E23: 0.5
A24: dienst_04 | B24: 350000 | E24: 1
A25: dienst_werkplek | B25: 1000000
A26: dienst_mob devices | B26: 100000
A27: Totaal kosten KAM | B27: =SUM(B21:B26) -> 3850000
A29: Activiteit | C29: product I | D29: product II | E29: product III
A30: Activiteit I_01 | C30: 1
A31: Activiteit I_02 | C31: 1
A32: Activiteit I_03 | C32: 1
A33: Activiteit II_01 | D33: 1
A34: Activiteit II_02 | D34: 1
A35: Activiteit II_03 | D35: 1
A36: Activiteit III_01 | E36: 1
A38: Kostenplaats | C38: product I | D38: product II | E38: product III
A39: X | C39: =1/3 -> 0.33333333 | D39: =1/3 -> 0.33333333 | E39: =1/3 -> 0.33333333
A40: Y | C40: =1/2 -> 0.5 | D40: =1/2 -> 0.5

Sheet Omzet
B1: Aantal plan | C1: Aantal realisatie | D1: Tarief €/stuk | E1: Omzet plan | F1: Omzet realisatie
A2: Omzet prod I | B2: 4000 | C2: 3600 | D2: 1250 | E2: =+B2*D2 -> 5000000 | F2: =+C2*D2 -> 4500000
A3: Omzet prod II | B3: 1600 | C3: 1600 | D3: 2500 | E3: =+B3*D3 -> 4000000 | F3: =+C3*D3 -> 4000000
A4: Omzet prod III | B4: 8000 | C4: 10000 | D4: 250 | E4: =+B4*D4 -> 2000000 | F4: =+C4*D4 -> 2500000
A5: Omzet totaal | E5: =SUM(E2:E4) -> 11000000 | F5: =SUM(F2:F4) -> 11000000
A11: Product | B11: Activiteit | C11: Norm uur/stuk | D11: Aantal realisatie | E11: Uren verantwoord | F11: Controle
A12: I | B12: Activiteit I_01 | C12: 1 | D12: =+C$2 -> 3600 | E12: =+C12*D12 -> 3600 | F12: =SUMIF(Voorbewerking!D$53:D$85,Omzet!B12,Voorbewerking!E$53:E$85)-E12 -> 0
A13: I | B13: Activiteit I_02 | C13: 1.5 | D13: =+C$2 -> 3600 | E13: =+C13*D13 -> 5400 | F13: =SUMIF(Voorbewerking!D$53:D$85,Omzet!B13,Voorbewerking!E$53:E$85)-E13 -> 0
A14: I | B14: Activiteit I_03 | C14: 0.5 | D14: =+C$2 -> 3600 | E14: =+C14*D14 -> 1800 | F14: =SUMIF(Voorbewerking!D$53:D$85,Omzet!B14,Voorbewerking!E$53:E$85)-E14 -> 0
A16: II | B16: Activiteit II_01 | C16: 2 | D16: =+C$3 -> 1600 | E16: =+C16*D16 -> 3200 | F16: =SUMIF(Voorbewerking!D$53:D$85,Omzet!B16,Voorbewerking!E$53:E$85)-E16 -> 0
A17: II | B17: Activiteit II_02 | C17: 3 | D17: =+C$3 -> 1600 | E17: =+C17*D17 -> 4800 | F17: =SUMIF(Voorbewerking!D$53:D$85,Omzet!B17,Voorbewerking!E$53:E$85)-E17 -> 0
A18: II | B18: Activiteit II_03 | C18: 1 | D18: =+C$3 -> 1600 | E18: =+C18*D18 -> 1600 | F18: =SUMIF(Voorbewerking!D$53:D$85,Omzet!B18,Voorbewerking!E$53:E$85)-E18 -> 0
A20: III | B20: Activiteit III_01 | C20: 0.75 | D20: =+C$4 -> 10000 | E20: =+C20*D20 -> 7500 | F20: =SUMIF(Voorbewerking!D$53:D$85,Omzet!B20,Voorbewerking!E$53:E$85)-E20 -> 0
E21: =SUM(E12:E20) -> 27900 | F21: =SUM(F12:F20) -> 0

Sheet Kostenallocatie
BO1: Directe kosten
A2: L01 | B2: Kostensoort | C2: Kosten | E2: L02 | F2: Kostensoort | G2: Kostenplaats | H2: Kosten | J2: L03 | K2: Kostensoort | L2: Kostenplaats | M2: Kosten | N2: Verdeelsleutel | P2: L04 | Q2: IT-dienst | R2: Kostenplaats | S2: Kosten | T2: Verdeelsleutel | V2: L05 | W2: Kostensoort | X2: Kostenplaats | Y2: Kosten | Z2: Verdeelsleutel | AB2: L06C | AC2: IT-dienst | AD2: Kosten | AF2: L07 | AG2: Kostensoort | AH2: Kostenplaats | AI2: Kosten | AL2: L08C | AM2: Kostenplaats | AN2: Functie | AO2: Uurkosten | AP2: fte | AQ2: factor 1 | AR2: factor 2 | AS2: Facilitaire Services | AT2: P&O | AU2: IT-KAM IT-werkplekken | AV2: IT-KAM IT-mob devices | AW2: Kosten totaal | AX2: Uren verantwoord | AY2: Bruto uurtarief | BA2: L09 | BB2: kostenplaats | BC2: Functie | BD2: Activiteit | BE2: Uren verantwoord | BF2: Bruto uurtarief | BG2: Activiteitskosten | BN2: L11 | BO2: Product I | BP2: Product II | BQ2: Product III | BR2: Controle | BT2: L12 | BV2: Product I | BW2: Product II | BX2: Product III | BY2: Kadaster
B3: Loonkosten | C3: =+Voorbewerking!D5 -> 4200000 | F3: Loonkosten | G3: X | H3: =SUMIFS(Voorbewerking!E$17:E$35,Voorbewerking!B$17:B$35,Kostenallocatie!F3,Voorbewerking!C$17:C$35,Kostenallocatie!G3) -> 1150000 | L3: Facilitaire Services | R3: IT-KAR IT-werkplekken | X3: IT | AC3: dienst_01 | AD3: =+Y21 -> 1298368.1 | AG3: Loonkosten | AH3: X | AI3: =SUMIFS(H$2:H$29,F$2:F$29,AG3,G$2:G$29,AH3) -> 1150000 | AM3: X | AN3: functie 01_I | AO3: =SUMIFS(Voorbewerking!K$39:K$48,Voorbewerking!C$39:C$48,Kostenallocatie!AM3,Voorbewerking!D$39:D$48,Kostenallocatie!AN3) -> 550000 | AP3: =+Verdeelsleutels!C10 -> 5 | AQ3: =+AP3/AP$8 -> 0.2173913 | AR3: =+AP3/AP$9 -> 0.3125 | AS3: =+AQ3*AI$13 -> 268292.68 | AT3: =+AR3*AI$14 -> 135000 | AU3: =+AQ3*AI$15 -> 117391.3 | AV3: =+AQ3*AI$16 -> 10869.565 | AW3: =+AO3+AS3+AT3+AU3+AV3 -> 1081553.6 | AX3: =+Verdeelsleutels!D10 -> 5500 | AY3: =+AW3/AX3 -> 196.6461 | BB3: X | BC3: functie 01_I | BD3: Activiteit I_02 | BE3: =SUMIFS(Voorbewerking!E$53:E$87,Voorbewerking!B$53:B$87,Kostenallocatie!BB3,Voorbewerking!C$53:C$87,Kostenallocatie!BC3,Voorbewerking!D$53:D$87,Kostenallocatie!BD3) -> 3000 | BF3: =SUMIFS(AY$2:AY$14,AM$2:AM$14,BB3,AN$2:AN$14,BC3) -> 196.6461 | BG3: =+BE3*BF3 -> 589938.3 | BO3: =SUMIF(Verdeelsleutels!$A$20:$A$40,Kostenallocatie!$BD3,Verdeelsleutels!C$20:C$40)*$BG3 -> 589938.3 | BP3: =SUMIF(Verdeelsleutels!$A$20:$A$40,Kostenallocatie!$BD3,Verdeelsleutels!D$20:D$40)*$BG3 -> 0 | BQ3: =SUMIF(Verdeelsleutels!$A$20:$A$40,Kostenallocatie!$BD3,Verdeelsleutels!E$20:E$40)*$BG3 -> 0 | BR3: =SUM(BO3:BQ3)-BG3 -> 0 | BU3: Omzet | BV3: =+BO40 -> 4500000 | BW3: =+BP40 -> 4000000 | BX3: =+BQ40 -> 2500000 | BY3: =SUM(BV3:BX3) -> 11000000
B4: Loonkosten correctie | C4: =-SUM(Voorbewerking!K40:K47) -> -4340019 | F4: Loonkosten | G4: Y | H4: =SUMIFS(Voorbewerking!E$17:E$35,Voorbewerking!B$17:B$35,Kostenallocatie!F4,Voorbewerking!C$17:C$35,Kostenallocatie!G4) -> 700000 | K4: Loonkosten | L4: F | M4: =SUMIFS(H$2:H$29,F$2:F$29,K4,G$2:G$29,L4) -> 300000 | Q4: dienst_werkplek | S4: =+Verdeelsleutels!B25 -> 1000000 | W4: Loonkosten | X4: I | Y4: =SUMIFS(H$2:H$29,F$2:F$29,W4,G$2:G$29,X4) -> 1650000 | AC4: dienst_02 | AD4: =+Y22 -> 721315.59 | AG4: Loonkosten correctie | AH4: X | AI4: =SUMIFS(H$2:H$29,F$2:F$29,AG4,G$2:G$29,AH4) -> -1200000 | AM4: X | AN4: functie 02_I | AO4: =SUMIFS(Voorbewerking!K$39:K$48,Voorbewerking!C$39:C$48,Kostenallocatie!AM4,Voorbewerking!D$39:D$48,Kostenallocatie!AN4) -> 400000 | AP4: =+Verdeelsleutels!C11 -> 5 | AQ4: =+AP4/AP$8 -> 0.2173913 | AR4: =+AP4/AP$9 -> 0.3125 | AS4: =+AQ4*AI$13 -> 268292.68 | AT4: =+AR4*AI$14 -> 135000 | AU4: =+AQ4*AI$15 -> 117391.3 | AV4: =+AQ4*AI$16 -> 10869.565 | AW4: =+AO4+AS4+AT4+AU4+AV4 -> 931553.55 | AX4: =+Verdeelsleutels!D11 -> 5000 | AY4: =+AW4/AX4 -> 186.31071 | BB4: X | BC4: functie 01_I | BD4: Activiteit II_02 | BE4: =SUMIFS(Voorbewerking!E$53:E$87,Voorbewerking!B$53:B$87,Kostenallocatie!BB4,Voorbewerking!C$53:C$87,Kostenallocatie!BC4,Voorbewerking!D$53:D$87,Kostenallocatie!BD4) -> 1500 | BF4: =SUMIFS(AY$2:AY$14,AM$2:AM$14,BB4,AN$2:AN$14,BC4) -> 196.6461 | BG4: =+BE4*BF4 -> 294969.15 | BO4: =SUMIF(Verdeelsleutels!$A$20:$A$40,Kostenallocatie!$BD4,Verdeelsleutels!C$20:C$40)*$BG4 -> 0 | BP4: =SUMIF(Verdeelsleutels!$A$20:$A$40,Kostenallocatie!$BD4,Verdeelsleutels!D$20:D$40)*$BG4 -> 294969.15 | BQ4: =SUMIF(Verdeelsleutels!$A$20:$A$40,Kostenallocatie!$BD4,Verdeelsleutels!E$20:E$40)*$BG4 -> 0 | BR4: =SUM(BO4:BQ4)-BG4 -> 0
B5: Uren verantwoord op loonkosten | C5: =-C4 -> 4340019 | F5: Loonkosten | G5: F | H5: =SUMIFS(Voorbewerking!E$17:E$35,Voorbewerking!B$17:B$35,Kostenallocatie!F5,Voorbewerking!C$17:C$35,Kostenallocatie!G5) -> 300000 | K5: Loonkosten correctie | L5: F | M5: =SUMIFS(H$2:H$29,F$2:F$29,K5,G$2:G$29,L5) -> -349980 | S5: =SUM(S4) -> 1000000 | T5: IT-werkplekken | W5: Loonkosten correctie | X5: I | Y5: =SUMIFS(H$2:H$29,F$2:F$29,W5,G$2:G$29,X5) -> -1600050 | AC5: dienst_03 | AD5: =+Y23 -> 1442631.2 | AG5: Uren verantwoord op loonkosten | AH5: X | AI5: =SUMIFS(H$2:H$29,F$2:F$29,AG5,G$2:G$29,AH5) -> 1200000 | AM5: X | AN5: functie 03_I | AO5: =SUMIFS(Voorbewerking!K$39:K$48,Voorbewerking!C$39:C$48,Kostenallocatie!AM5,Voorbewerking!D$39:D$48,Kostenallocatie!AN5) -> 250000 | AP5: =+Verdeelsleutels!C12 -> 6 | AQ5: =+AP5/AP$8 -> 0.26086957 | AR5: =+AP5/AP$9 -> 0.375 | AS5: =+AQ5*AI$13 -> 321951.22 | AT5: =+AR5*AI$14 -> 162000 | AU5: =+AQ5*AI$15 -> 140869.57 | AV5: =+AQ5*AI$16 -> 13043.478 | AW5: =+AO5+AS5+AT5+AU5+AV5 -> 887864.26 | AX5: =+Verdeelsleutels!D12 -> 5000 | AY5: =+AW5/AX5 -> 177.57285 | BB5: X | BC5: functie 01_I | BD5: Activiteit II_03 | BE5: =SUMIFS(Voorbewerking!E$53:E$87,Voorbewerking!B$53:B$87,Kostenallocatie!BB5,Voorbewerking!C$53:C$87,Kostenallocatie!BC5,Voorbewerking!D$53:D$87,Kostenallocatie!BD5) -> 200 | BF5: =SUMIFS(AY$2:AY$14,AM$2:AM$14,BB5,AN$2:AN$14,BC5) -> 196.6461 | BG5: =+BE5*BF5 -> 39329.22 | BO5: =SUMIF(Verdeelsleutels!$A$20:$A$40,Kostenallocatie!$BD5,Verdeelsleutels!C$20:C$40)*$BG5 -> 0 | BP5: =SUMIF(Verdeelsleutels!$A$20:$A$40,Kostenallocatie!$BD5,Verdeelsleutels!D$20:D$40)*$BG5 -> 39329.22 | BQ5: =SUMIF(Verdeelsleutels!$A$20:$A$40,Kostenallocatie!$BD5,Verdeelsleutels!E$20:E$40)*$BG5 -> 0 | BR5: =SUM(BO5:BQ5)-BG5 -> 0 | BU5: Directe kosten | BV5: =+BO24 -> 3218722 | BW5: =+BP24 -> 3380025.7 | BX5: =+BQ24 -> 2453781 | BY5: =SUM(BV5:BX5) -> 9052528.7
B6: Inhuurkosten | C6: =+Voorbewerking!D6 -> 700000 | F6: Loonkosten | G6: P | H6: =SUMIFS(Voorbewerking!E$17:E$35,Voorbewerking!B$17:B$35,Kostenallocatie!F6,Voorbewerking!C$17:C$35,Kostenallocatie!G6) -> 400000 | K6: Uren verantwoord op loonkosten | L6: F | M6: =SUMIFS(H$2:H$29,F$2:F$29,K6,G$2:G$29,L6) -> 349980 | W6: Uren verantwoord op loonkosten | X6: I | Y6: =SUMIFS(H$2:H$29,F$2:F$29,W6,G$2:G$29,X6) -> 1600050 | AC6: dienst_04 | AD6: =+Y24 -> 504920.92 | AG6: Inhuurkosten | AH6: X | AI6: =SUMIFS(H$2:H$29,F$2:F$29,AG6,G$2:G$29,AH6) -> 700000 | AM6: X | AN6: functie 03_E | AO6: =SUMIFS(Voorbewerking!K$39:K$48,Voorbewerking!C$39:C$48,Kostenallocatie!AM6,Voorbewerking!D$39:D$48,Kostenallocatie!AN6) -> 699972 | AP6: =+Verdeelsleutels!C15 -> 7 | AQ6: =+AP6/AP$8 -> 0.30434783 | AS6: =+AQ6*AI$13 -> 375609.76 | AT6: =+AR6*AI$14 -> 0 | AU6: =+AQ6*AI$15 -> 164347.83 | AV6: =+AQ6*AI$16 -> 15217.391 | AW6: =+AO6+AS6+AT6+AU6+AV6 -> 1255147 | AX6: =+Verdeelsleutels!D15 -> 8400 | AY6: =+AW6/AX6 -> 149.42226 | BB6: X | BC6: functie 02_I | BD6: Activiteit I_02 | BE6: =SUMIFS(Voorbewerking!E$53:E$87,Voorbewerking!B$53:B$87,Kostenallocatie!BB6,Voorbewerking!C$53:C$87,Kostenallocatie!BC6,Voorbewerking!D$53:D$87,Kostenallocatie!BD6) -> 2400 | BF6: =SUMIFS(AY$2:AY$14,AM$2:AM$14,BB6,AN$2:AN$14,BC6) -> 186.31071 | BG6: =+BE6*BF6 -> 447145.71 | BO6: =SUMIF(Verdeelsleutels!$A$20:$A$40,Kostenallocatie!$BD6,Verdeelsleutels!C$20:C$40)*$BG6 -> 447145.71 | BP6: =SUMIF(Verdeelsleutels!$A$20:$A$40,Kostenallocatie!$BD6,Verdeelsleutels!D$20:D$40)*$BG6 -> 0 | BQ6: =SUMIF(Verdeelsleutels!$A$20:$A$40,Kostenallocatie!$BD6,Verdeelsleutels!E$20:E$40)*$BG6 -> 0 | BR6: =SUM(BO6:BQ6)-BG6 -> 0 | BU6: Indirecte kosten | BV6: =+BO36 -> 290869.23 | BW6: =+BP36 -> 305445.91 | BX6: =+BQ36 -> 151156.17 | BY6: =SUM(BV6:BX6) -> 747471.31
B7: Inhuurkosten correctie | C7: =-SUM(Voorbewerking!K48) -> -699972 | F7: Loonkosten | G7: I | H7: =SUMIFS(Voorbewerking!E$17:E$35,Voorbewerking!B$17:B$35,Kostenallocatie!F7,Voorbewerking!C$17:C$35,Kostenallocatie!G7) -> 1650000 | K7: Facilitaire kosten | L7: F | M7: =SUMIFS(H$2:H$29,F$2:F$29,K7,G$2:G$29,L7) -> 1900000 | Q7: Verdeling kosten o.b.v. IT-werkplekken | R7: X | S7: =+T7/T$10*S$5 -> 540000 | T7: =+Verdeelsleutels!E2 -> 27 | W7: Automatiseringskosten | X7: I | Y7: =SUMIFS(H$2:H$29,F$2:F$29,W7,G$2:G$29,X7) -> 2200000 | AD7: =SUM(AD3:AD6) -> 3967235.8 | AG7: Inhuurkosten correctie | AH7: X | AI7: =SUMIFS(H$2:H$29,F$2:F$29,AG7,G$2:G$29,AH7) -> -699972 | AN7: Totaal | AO7: =SUM(AO3:AO6) -> 1899972 | AS7: =SUM(AS3:AS6) -> 1234146.3 | AT7: =SUM(AT3:AT6) -> 432000 | AU7: =SUM(AU3:AU6) -> 540000 | AV7: =SUM(AV3:AV6) -> 50000 | AW7: =SUM(AW3:AW6) -> 4156118.3 | AX7: =SUM(AX3:AX6) -> 23900 | BB7: X | BC7: functie 02_I | BD7: Activiteit II_02 | BE7: =SUMIFS(Voorbewerking!E$53:E$87,Voorbewerking!B$53:B$87,Kostenallocatie!BB7,Voorbewerking!C$53:C$87,Kostenallocatie!BC7,Voorbewerking!D$53:D$87,Kostenallocatie!BD7) -> 800 | BF7: =SUMIFS(AY$2:AY$14,AM$2:AM$14,BB7,AN$2:AN$14,BC7) -> 186.31071 | BG7: =+BE7*BF7 -> 149048.57 | BO7: =SUMIF(Verdeelsleutels!$A$20:$A$40,Kostenallocatie!$BD7,Verdeelsleutels!C$20:C$40)*$BG7 -> 0 | BP7: =SUMIF(Verdeelsleutels!$A$20:$A$40,Kostenallocatie!$BD7,Verdeelsleutels!D$20:D$40)*$BG7 -> 149048.57 | BQ7: =SUMIF(Verdeelsleutels!$A$20:$A$40,Kostenallocatie!$BD7,Verdeelsleutels!E$20:E$40)*$BG7 -> 0 | BR7: =SUM(BO7:BQ7)-BG7 -> 0 | BU7: Totale kosten | BV7: =+BV5+BV6 -> 3509591.3 | BW7: =+BW5+BW6 -> 3685471.6 | BX7: =+BX5+BX6 -> 2604937.1 | BY7: =+BY5+BY6 -> 9800000
B8: Uren verantwoord op inhuurkosten | C8: =-C7 -> 699972 | F8: Loonkosten correctie | G8: X | H8: =-SUMIFS(Voorbewerking!K$39:K$48,Voorbewerking!B$39:B$48,LEFT(Kostenallocatie!F8,10),Voorbewerking!C$39:C$48,Kostenallocatie!G8) -> -1200000 | K8: Kosten totaal | L8: F | M8: =SUM(M4:M7) -> 2200000 | N8: Werkplekken | Q8: Verdeling kosten o.b.v. IT-werkplekken | R8: Y | S8: =+T8/T$10*S$5 -> 160000 | T8: =+Verdeelsleutels!E3 -> 8 | W8: Automatiseringskosten correctie | X8: I | Y8: =SUMIFS(H$2:H$29,F$2:F$29,W8,G$2:G$29,X8) -> -1100000 | AG8: Uren verantwoord op inhuurkosten | AH8: X | AI8: =SUMIFS(H$2:H$29,F$2:F$29,AG8,G$2:G$29,AH8) -> 699972 | AN8: aantal fte | AP8: =SUM(AP3:AP6) -> 23 | BB8: X | BC8: functie 02_I | BD8: Activiteit III_01 | BE8: =SUMIFS(Voorbewerking!E$53:E$87,Voorbewerking!B$53:B$87,Kostenallocatie!BB8,Voorbewerking!C$53:C$87,Kostenallocatie!BC8,Voorbewerking!D$53:D$87,Kostenallocatie!BD8) -> 1600 | BF8: =SUMIFS(AY$2:AY$14,AM$2:AM$14,BB8,AN$2:AN$14,BC8) -> 186.31071 | BG8: =+BE8*BF8 -> 298097.14 | BO8: =SUMIF(Verdeelsleutels!$A$20:$A$40,Kostenallocatie!$BD8,Verdeelsleutels!C$20:C$40)*$BG8 -> 0 | BP8: =SUMIF(Verdeelsleutels!$A$20:$A$40,Kostenallocatie!$BD8,Verdeelsleutels!D$20:D$40)*$BG8 -> 0 | BQ8: =SUMIF(Verdeelsleutels!$A$20:$A$40,Kostenallocatie!$BD8,Verdeelsleutels!E$20:E$40)*$BG8 -> 298097.14 | BR8: =SUM(BO8:BQ8)-BG8 -> 0
B9: Uitbestedingskosten | C9: =+Voorbewerking!D7 -> 400000 | F9: Loonkosten correctie | G9: Y | H9: =-SUMIFS(Voorbewerking!K$39:K$48,Voorbewerking!B$39:B$48,LEFT(Kostenallocatie!F9,10),Voorbewerking!C$39:C$48,Kostenallocatie!G9) -> -739989 | Q9: Verdeling kosten o.b.v. IT-werkplekken | R9: I | S9: =+T9/T$10*S$5 -> 300000 | T9: =+Verdeelsleutels!E6 -> 15 | W9: Kosten subtotaal | X9: I | Y9: =SUM(Y4:Y8) -> 2750000 | AG9: Overige bedrijfskosten | AH9: X | AI9: =SUMIFS(H$2:H$29,F$2:F$29,AG9,G$2:G$29,AH9) -> 300000 | AN9: aantal fte excl inhuur | AP9: =SUM(AP3:AP5) -> 16 | BB9: X | BC9: functie 03_E | BD9: Activiteit I_01 | BE9: =SUMIFS(Voorbewerking!E$53:E$87,Voorbewerking!B$53:B$87,Kostenallocatie!BB9,Voorbewerking!C$53:C$87,Kostenallocatie!BC9,Voorbewerking!D$53:D$87,Kostenallocatie!BD9) -> 2000 | BF9: =SUMIFS(AY$2:AY$14,AM$2:AM$14,BB9,AN$2:AN$14,BC9) -> 149.42226 | BG9: =+BE9*BF9 -> 298844.52 | BO9: =SUMIF(Verdeelsleutels!$A$20:$A$40,Kostenallocatie!$BD9,Verdeelsleutels!C$20:C$40)*$BG9 -> 298844.52 | BP9: =SUMIF(Verdeelsleutels!$A$20:$A$40,Kostenallocatie!$BD9,Verdeelsleutels!D$20:D$40)*$BG9 -> 0 | BQ9: =SUMIF(Verdeelsleutels!$A$20:$A$40,Kostenallocatie!$BD9,Verdeelsleutels!E$20:E$40)*$BG9 -> 0 | BR9: =SUM(BO9:BQ9)-BG9 -> 0 | BU9: Resultaat | BV9: =+BV3-BV7 -> 990408.74 | BW9: =+BW3-BW7 -> 314528.41 | BX9: =+BX3-BX7 -> -104937.15 | BY9: =+BY3-BY7 -> 1200000
B10: Facilitaire kosten | C10: =+Voorbewerking!D8 -> 1900000 | F10: Loonkosten correctie | G10: F | H10: =-SUMIFS(Voorbewerking!K$39:K$48,Voorbewerking!B$39:B$48,LEFT(Kostenallocatie!F10,10),Voorbewerking!C$39:C$48,Kostenallocatie!G10) -> -349980 | K10: Verdeling kosten o.b.v. werkplekken | L10: X | M10: =+N10/N$13*M$8 -> 1234146.3 | N10: =+Verdeelsleutels!D2 -> 23 | Q10: Totaal | S10: =SUM(S7:S9) -> 1000000 | T10: =SUM(T7:T9) -> 50 | AG10: Kosten subtotaal | AH10: X | AI10: =SUM(AI3:AI9) -> 2150000 | BB10: X | BC10: functie 03_E | BD10: Activiteit II_01 | BE10: =SUMIFS(Voorbewerking!E$53:E$87,Voorbewerking!B$53:B$87,Kostenallocatie!BB10,Voorbewerking!C$53:C$87,Kostenallocatie!BC10,Voorbewerking!D$53:D$87,Kostenallocatie!BD10) -> 1800 | BF10: =SUMIFS(AY$2:AY$14,AM$2:AM$14,BB10,AN$2:AN$14,BC10) -> 149.42226 | BG10: =+BE10*BF10 -> 268960.07 | BO10: =SUMIF(Verdeelsleutels!$A$20:$A$40,Kostenallocatie!$BD10,Verdeelsleutels!C$20:C$40)*$BG10 -> 0 | BP10: =SUMIF(Verdeelsleutels!$A$20:$A$40,Kostenallocatie!$BD10,Verdeelsleutels!D$20:D$40)*$BG10 -> 268960.07 | BQ10: =SUMIF(Verdeelsleutels!$A$20:$A$40,Kostenallocatie!$BD10,Verdeelsleutels!E$20:E$40)*$BG10 -> 0 | BR10: =SUM(BO10:BQ10)-BG10 -> 0
B11: Automatiseringskosten | C11: =+Voorbewerking!D9 -> 2200000 | F11: Loonkosten correctie | G11: P | H11: =-SUMIFS(Voorbewerking!K$39:K$48,Voorbewerking!B$39:B$48,LEFT(Kostenallocatie!F11,10),Voorbewerking!C$39:C$48,Kostenallocatie!G11) -> -450000 | K11: Verdeling kosten o.b.v. werkplekken | L11: Y | M11: =+N11/N$13*M$8 -> 321951.22 | N11: =+Verdeelsleutels!D3 -> 6 | W11: Toegerekende kosten | BB11: X | BC11: functie 03_E | BD11: Activiteit III_01 | BE11: =SUMIFS(Voorbewerking!E$53:E$87,Voorbewerking!B$53:B$87,Kostenallocatie!BB11,Voorbewerking!C$53:C$87,Kostenallocatie!BC11,Voorbewerking!D$53:D$87,Kostenallocatie!BD11) -> 4200 | BF11: =SUMIFS(AY$2:AY$14,AM$2:AM$14,BB11,AN$2:AN$14,BC11) -> 149.42226 | BG11: =+BE11*BF11 -> 627573.49 | BO11: =SUMIF(Verdeelsleutels!$A$20:$A$40,Kostenallocatie!$BD11,Verdeelsleutels!C$20:C$40)*$BG11 -> 0 | BP11: =SUMIF(Verdeelsleutels!$A$20:$A$40,Kostenallocatie!$BD11,Verdeelsleutels!D$20:D$40)*$BG11 -> 0 | BQ11: =SUMIF(Verdeelsleutels!$A$20:$A$40,Kostenallocatie!$BD11,Verdeelsleutels!E$20:E$40)*$BG11 -> 627573.49 | BR11: =SUM(BO11:BQ11)-BG11 -> 0
B12: Automatiseringskosten correctie | C12: =+Voorbewerking!E33 -> -1100000 | F12: Loonkosten correctie | G12: I | H12: =-SUMIFS(Voorbewerking!K$39:K$48,Voorbewerking!B$39:B$48,LEFT(Kostenallocatie!F12,10),Voorbewerking!C$39:C$48,Kostenallocatie!G12) -> -1600050 | K12: Verdeling kosten o.b.v. werkplekken | L12: I | M12: =+N12/N$13*M$8 -> 643902.44 | N12: =+Verdeelsleutels!D6 -> 12 | R12: IT-KAR mob devices | W12: Facilitaire Services | Y12: =+M12 -> 643902.44 | AG12: Toegerekende kosten | AJ12: Verdeelsleutel | AM12: Y | AN12: functie 01_I | AO12: =SUMIFS(Voorbewerking!K$39:K$48,Voorbewerking!C$39:C$48,Kostenallocatie!AM12,Voorbewerking!D$39:D$48,Kostenallocatie!AN12) -> 439989 | AP12: =+Verdeelsleutels!C13 -> 3 | AQ12: =+AP12/AP$15 -> 0.5 | AR12: =+AP12/AP$16 -> 0.5 | AS12: =+AQ12*AI$27 -> 160975.61 | AT12: =+AR12*AI$28 -> 64000 | AU12: =+AQ12*AI$29 -> 80000 | AV12: =+AQ12*AI$30 -> 8333.3333 | AW12: =+AO12+AS12+AT12+AU12+AV12 -> 753297.94 | AX12: =+Verdeelsleutels!D13 -> 3300 | AY12: =+AW12/AX12 -> 228.2721 | BB12: X | BC12: functie 03_I | BD12: Activiteit I_01 | BE12: =SUMIFS(Voorbewerking!E$53:E$87,Voorbewerking!B$53:B$87,Kostenallocatie!BB12,Voorbewerking!C$53:C$87,Kostenallocatie!BC12,Voorbewerking!D$53:D$87,Kostenallocatie!BD12) -> 1600 | BF12: =SUMIFS(AY$2:AY$14,AM$2:AM$14,BB12,AN$2:AN$14,BC12) -> 177.57285 | BG12: =+BE12*BF12 -> 284116.56 | BO12: =SUMIF(Verdeelsleutels!$A$20:$A$40,Kostenallocatie!$BD12,Verdeelsleutels!C$20:C$40)*$BG12 -> 284116.56 | BP12: =SUMIF(Verdeelsleutels!$A$20:$A$40,Kostenallocatie!$BD12,Verdeelsleutels!D$20:D$40)*$BG12 -> 0 | BQ12: =SUMIF(Verdeelsleutels!$A$20:$A$40,Kostenallocatie!$BD12,Verdeelsleutels!E$20:E$40)*$BG12 -> 0 | BR12: =SUM(BO12:BQ12)-BG12 -> 0
B13: Automatiseringskosten specifiek | C13: =+Voorbewerking!E34 -> 1100000 | F13: Uren verantwoord op loonkosten | G13: X | H13: =-H8 -> 1200000 | K13: Totaal | M13: =SUM(M10:M12) -> 2200000 | N13: =SUM(N10:N12) -> 41 | Q13: dienst_mob devices | S13: =+Verdeelsleutels!B26 -> 100000 | W13: P&O | Y13: =+M24 -> 240000 | AG13: Facilitaire Services | AI13: =+M10 -> 1234146.3 | AJ13: fte | AM13: Y | AN13: functie 02_I | AO13: =SUMIFS(Voorbewerking!K$39:K$48,Voorbewerking!C$39:C$48,Kostenallocatie!AM13,Voorbewerking!D$39:D$48,Kostenallocatie!AN13) -> 300000 | AP13: =+Verdeelsleutels!C14 -> 3 | AQ13: =+AP13/AP$15 -> 0.5 | AR13: =+AP13/AP$16 -> 0.5 | AS13: =+AQ13*AI$27 -> 160975.61 | AT13: =+AR13*AI$28 -> 64000 | AU13: =+AQ13*AI$29 -> 80000 | AV13: =+AQ13*AI$30 -> 8333.3333 | AW13: =+AO13+AS13+AT13+AU13+AV13 -> 613308.94 | AX13: =+Verdeelsleutels!D14 -> 3000 | AY13: =+AW13/AX13 -> 204.43631 | BB13: X | BC13: functie 03_I | BD13: Activiteit II_01 | BE13: =SUMIFS(Voorbewerking!E$53:E$87,Voorbewerking!B$53:B$87,Kostenallocatie!BB13,Voorbewerking!C$53:C$87,Kostenallocatie!BC13,Voorbewerking!D$53:D$87,Kostenallocatie!BD13) -> 1400 | BF13: =SUMIFS(AY$2:AY$14,AM$2:AM$14,BB13,AN$2:AN$14,BC13) -> 177.57285 | BG13: =+BE13*BF13 -> 248601.99 | BO13: =SUMIF(Verdeelsleutels!$A$20:$A$40,Kostenallocatie!$BD13,Verdeelsleutels!C$20:C$40)*$BG13 -> 0 | BP13: =SUMIF(Verdeelsleutels!$A$20:$A$40,Kostenallocatie!$BD13,Verdeelsleutels!D$20:D$40)*$BG13 -> 248601.99 | BQ13: =SUMIF(Verdeelsleutels!$A$20:$A$40,Kostenallocatie!$BD13,Verdeelsleutels!E$20:E$40)*$BG13 -> 0 | BR13: =SUM(BO13:BQ13)-BG13 -> 0
B14: Overige bedrijfskosten | C14: =+Voorbewerking!D10 -> 400000 | F14: Uren verantwoord op loonkosten | G14: Y | H14: =-H9 -> 739989 | S14: =SUM(S13) -> 100000 | T14: mob devices | W14: IT-KAM IT-werkplekken | Y14: =+S9 -> 300000 | AG14: P&O | AI14: =+M22 -> 432000 | AJ14: fte (inhuur niet) | AN14: Totaal | AO14: =SUM(AO12:AO13) -> 739989 | AS14: =SUM(AS12:AS13) -> 321951.22 | AT14: =SUM(AT12:AT13) -> 128000 | AU14: =SUM(AU12:AU13) -> 160000 | AV14: =SUM(AV12:AV13) -> 16666.667 | AW14: =SUM(AW12:AW13) -> 1366606.9 | AX14: =SUM(AX12:AX13) -> 6300 | BB14: X | BC14: functie 03_I | BD14: Activiteit III_01 | BE14: =SUMIFS(Voorbewerking!E$53:E$87,Voorbewerking!B$53:B$87,Kostenallocatie!BB14,Voorbewerking!C$53:C$87,Kostenallocatie!BC14,Voorbewerking!D$53:D$87,Kostenallocatie!BD14) -> 1700 | BF14: =SUMIFS(AY$2:AY$14,AM$2:AM$14,BB14,AN$2:AN$14,BC14) -> 177.57285 | BG14: =+BE14*BF14 -> 301873.85 | BO14: =SUMIF(Verdeelsleutels!$A$20:$A$40,Kostenallocatie!$BD14,Verdeelsleutels!C$20:C$40)*$BG14 -> 0 | BP14: =SUMIF(Verdeelsleutels!$A$20:$A$40,Kostenallocatie!$BD14,Verdeelsleutels!D$20:D$40)*$BG14 -> 0 | BQ14: =SUMIF(Verdeelsleutels!$A$20:$A$40,Kostenallocatie!$BD14,Verdeelsleutels!E$20:E$40)*$BG14 -> 301873.85 | BR14: =SUM(BO14:BQ14)-BG14 -> 0
B15: Kosten totaal | C15: =SUM(C3:C14) -> 9800000 | F15: Uren verantwoord op loonkosten | G15: F | H15: =-H10 -> 349980 | L15: P&O | W15: IT-KAM IT-mob devices | Y15: =+S18 -> 33333.333 | AG15: IT-KAR IT-werkplekken | AI15: =+S7 -> 540000 | AJ15: fte | AN15: aantal fte | AP15: =SUM(AP12:AP13) -> 6 | BB15: Y | BC15: functie 01_I | BD15: Activiteit I_03 | BE15: =SUMIFS(Voorbewerking!E$53:E$87,Voorbewerking!B$53:B$87,Kostenallocatie!BB15,Voorbewerking!C$53:C$87,Kostenallocatie!BC15,Voorbewerking!D$53:D$87,Kostenallocatie!BD15) -> 1700 | BF15: =SUMIFS(AY$2:AY$14,AM$2:AM$14,BB15,AN$2:AN$14,BC15) -> 228.2721 | BG15: =+BE15*BF15 -> 388062.58 | BO15: =SUMIF(Verdeelsleutels!$A$20:$A$40,Kostenallocatie!$BD15,Verdeelsleutels!C$20:C$40)*$BG15 -> 388062.58 | BP15: =SUMIF(Verdeelsleutels!$A$20:$A$40,Kostenallocatie!$BD15,Verdeelsleutels!D$20:D$40)*$BG15 -> 0 | BQ15: =SUMIF(Verdeelsleutels!$A$20:$A$40,Kostenallocatie!$BD15,Verdeelsleutels!E$20:E$40)*$BG15 -> 0 | BR15: =SUM(BO15:BQ15)-BG15 -> 0
F16: Uren verantwoord op loonkosten | G16: P | H16: =-H11 -> 450000 | K16: Loonkosten | L16: P | M16: =SUMIFS(H$2:H$29,F$2:F$29,K16,G$2:G$29,L16) -> 400000 | Q16: Verdeling kosten o.b.v. mob devices | R16: X | S16: =+T16/T$19*S$14 -> 50000 | T16: =+Verdeelsleutels!F2 -> 30 | W16: Kosten subtotaal | Y16: =SUM(Y12:Y15) -> 1217235.8 | AG16: IT-KAR IT-mob devices | AI16: =+S16 -> 50000 | AJ16: fte | AN16: aantal fte excl inhuur | AP16: =SUM(AP12:AP13) -> 6 | BB16: Y | BC16: functie 01_I | BD16: Activiteit II_03 | BE16: =SUMIFS(Voorbewerking!E$53:E$87,Voorbewerking!B$53:B$87,Kostenallocatie!BB16,Voorbewerking!C$53:C$87,Kostenallocatie!BC16,Voorbewerking!D$53:D$87,Kostenallocatie!BD16) -> 1300 | BF16: =SUMIFS(AY$2:AY$14,AM$2:AM$14,BB16,AN$2:AN$14,BC16) -> 228.2721 | BG16: =+BE16*BF16 -> 296753.74 | BO16: =SUMIF(Verdeelsleutels!$A$20:$A$40,Kostenallocatie!$BD16,Verdeelsleutels!C$20:C$40)*$BG16 -> 0 | BP16: =SUMIF(Verdeelsleutels!$A$20:$A$40,Kostenallocatie!$BD16,Verdeelsleutels!D$20:D$40)*$BG16 -> 296753.74 | BQ16: =SUMIF(Verdeelsleutels!$A$20:$A$40,Kostenallocatie!$BD16,Verdeelsleutels!E$20:E$40)*$BG16 -> 0 | BR16: =SUM(BO16:BQ16)-BG16 -> 0
F17: Uren verantwoord op loonkosten | G17: I | H17: =-H12 -> 1600050 | K17: Loonkosten correctie | L17: P | M17: =SUMIFS(H$2:H$29,F$2:F$29,K17,G$2:G$29,L17) -> -450000 | Q17: Verdeling kosten o.b.v. mob devices | R17: Y | S17: =+T17/T$19*S$14 -> 16666.667 | T17: =+Verdeelsleutels!F3 -> 10 | W17: Kosten totaal IT | Y17: =+Y9+Y16 -> 3967235.8 | Z17: KAM IT-diensten | AG17: Kosten subtotaal | AI17: =SUM(AI13:AI16) -> 2256146.3 | BB17: Y | BC17: functie 02_I | BD17: Activiteit II_02 | BE17: =SUMIFS(Voorbewerking!E$53:E$87,Voorbewerking!B$53:B$87,Kostenallocatie!BB17,Voorbewerking!C$53:C$87,Kostenallocatie!BC17,Voorbewerking!D$53:D$87,Kostenallocatie!BD17) -> 2500 | BF17: =SUMIFS(AY$2:AY$14,AM$2:AM$14,BB17,AN$2:AN$14,BC17) -> 204.43631 | BG17: =+BE17*BF17 -> 511090.79 | BO17: =SUMIF(Verdeelsleutels!$A$20:$A$40,Kostenallocatie!$BD17,Verdeelsleutels!C$20:C$40)*$BG17 -> 0 | BP17: =SUMIF(Verdeelsleutels!$A$20:$A$40,Kostenallocatie!$BD17,Verdeelsleutels!D$20:D$40)*$BG17 -> 511090.79 | BQ17: =SUMIF(Verdeelsleutels!$A$20:$A$40,Kostenallocatie!$BD17,Verdeelsleutels!E$20:E$40)*$BG17 -> 0 | BR17: =SUM(BO17:BQ17)-BG17 -> 0
F18: Inhuurkosten | G18: X | H18: =SUMIFS(Voorbewerking!E$17:E$35,Voorbewerking!B$17:B$35,Kostenallocatie!F18,Voorbewerking!C$17:C$35,Kostenallocatie!G18) -> 700000 | K18: Uren verantwoord op loonkosten | L18: P | M18: =SUMIFS(H$2:H$29,F$2:F$29,K18,G$2:G$29,L18) -> 450000 | Q18: Verdeling kosten o.b.v. mob devices | R18: I | S18: =+T18/T$19*S$14 -> 33333.333 | T18: =+Verdeelsleutels!F6 -> 20 | AG18: Kosten totaal X | AI18: =+AI10+AI17 -> 4406146.3 | BB18: Y | BC18: functie 02_I | BD18: Activiteit I_03 | BE18: =SUMIFS(Voorbewerking!E$53:E$87,Voorbewerking!B$53:B$87,Kostenallocatie!BB18,Voorbewerking!C$53:C$87,Kostenallocatie!BC18,Voorbewerking!D$53:D$87,Kostenallocatie!BD18) -> 100 | BF18: =SUMIFS(AY$2:AY$14,AM$2:AM$14,BB18,AN$2:AN$14,BC18) -> 204.43631 | BG18: =+BE18*BF18 -> 20443.631 | BO18: =SUMIF(Verdeelsleutels!$A$20:$A$40,Kostenallocatie!$BD18,Verdeelsleutels!C$20:C$40)*$BG18 -> 20443.631 | BP18: =SUMIF(Verdeelsleutels!$A$20:$A$40,Kostenallocatie!$BD18,Verdeelsleutels!D$20:D$40)*$BG18 -> 0 | BQ18: =SUMIF(Verdeelsleutels!$A$20:$A$40,Kostenallocatie!$BD18,Verdeelsleutels!E$20:E$40)*$BG18 -> 0 | BR18: =SUM(BO18:BQ18)-BG18 -> 0
F19: Inhuurkosten correctie | G19: X | H19: =-SUMIFS(Voorbewerking!K$39:K$48,Voorbewerking!B$39:B$48,LEFT(Kostenallocatie!F19,12),Voorbewerking!C$39:C$48,Kostenallocatie!G19) -> -699972 | K19: Uitbestedingskosten | L19: P | M19: =SUMIFS(H$2:H$29,F$2:F$29,K19,G$2:G$29,L19) -> 400000 | Q19: Totaal | S19: =SUM(S16:S18) -> 100000 | T19: =SUM(T16:T18) -> 60 | AL19: L08A | AM19: Kostenplaats | AN19: Kostensoort | AO19: Kosten | BB19: Y | BC19: functie 02_I | BD19: Activiteit II_03 | BE19: =SUMIFS(Voorbewerking!E$53:E$87,Voorbewerking!B$53:B$87,Kostenallocatie!BB19,Voorbewerking!C$53:C$87,Kostenallocatie!BC19,Voorbewerking!D$53:D$87,Kostenallocatie!BD19) -> 100 | BF19: =SUMIFS(AY$2:AY$14,AM$2:AM$14,BB19,AN$2:AN$14,BC19) -> 204.43631 | BG19: =+BE19*BF19 -> 20443.631 | BO19: =SUMIF(Verdeelsleutels!$A$20:$A$40,Kostenallocatie!$BD19,Verdeelsleutels!C$20:C$40)*$BG19 -> 0 | BP19: =SUMIF(Verdeelsleutels!$A$20:$A$40,Kostenallocatie!$BD19,Verdeelsleutels!D$20:D$40)*$BG19 -> 20443.631 | BQ19: =SUMIF(Verdeelsleutels!$A$20:$A$40,Kostenallocatie!$BD19,Verdeelsleutels!E$20:E$40)*$BG19 -> 0 | BR19: =SUM(BO19:BQ19)-BG19 -> 0
F20: Uren verantwoord op inhuurkosten | G20: X | H20: =-H19 -> 699972 | K20: Kosten totaal | L20: P | M20: =SUM(M16:M19) -> 800000 | N20: Headcount | X20: IT-dienst | AG20: Loonkosten | AH20: Y | AI20: =SUMIFS(H$2:H$29,F$2:F$29,AG20,G$2:G$29,AH20) -> 700000 | AM20: X | AN20: Loonkosten | AO20: =+AI3 -> 1150000 | BD20: dienst_01 | BG20: =+AO36 -> 1298368.1 | BO20: =SUMIF(Verdeelsleutels!$A$20:$A$40,Kostenallocatie!$BD20,Verdeelsleutels!C$20:C$40)*$BG20 -> 649184.04 | BP20: =SUMIF(Verdeelsleutels!$A$20:$A$40,Kostenallocatie!$BD20,Verdeelsleutels!D$20:D$40)*$BG20 -> 649184.04 | BQ20: =SUMIF(Verdeelsleutels!$A$20:$A$40,Kostenallocatie!$BD20,Verdeelsleutels!E$20:E$40)*$BG20 -> 0 | BR20: =SUM(BO20:BQ20)-BG20 -> 0
F21: Uitbestedingskosten | G21: P | H21: =SUMIFS(Voorbewerking!E$17:E$35,Voorbewerking!B$17:B$35,Kostenallocatie!F21,Voorbewerking!C$17:C$35,Kostenallocatie!G21) -> 400000 | W21: Verdeling IT-kosten o.b.v. KAR | X21: dienst_01 | Y21: =+Z21/Z$25*Y$17 -> 1298368.1 | Z21: =+Verdeelsleutels!B21 -> 900000 | AG21: Loonkosten correctie | AH21: Y | AI21: =SUMIFS(H$2:H$29,F$2:F$29,AG21,G$2:G$29,AH21) -> -739989 | AM21: X | AN21: Loonkosten correctie | AO21: =+AI4 -> -1200000 | BD21: dienst_02 | BG21: =+AO37 -> 721315.59 | BO21: =SUMIF(Verdeelsleutels!$A$20:$A$40,Kostenallocatie!$BD21,Verdeelsleutels!C$20:C$40)*$BG21 -> 180328.9 | BP21: =SUMIF(Verdeelsleutels!$A$20:$A$40,Kostenallocatie!$BD21,Verdeelsleutels!D$20:D$40)*$BG21 -> 540986.7 | BQ21: =SUMIF(Verdeelsleutels!$A$20:$A$40,Kostenallocatie!$BD21,Verdeelsleutels!E$20:E$40)*$BG21 -> 0 | BR21: =SUM(BO21:BQ21)-BG21 -> 0
F22: Facilitaire kosten | G22: F | H22: =SUMIFS(Voorbewerking!E$17:E$35,Voorbewerking!B$17:B$35,Kostenallocatie!F22,Voorbewerking!C$17:C$35,Kostenallocatie!G22) -> 1900000 | K22: Verdeling kosten o.b.v. headcount | L22: X | M22: =+N22/N$25*M$20 -> 432000 | N22: =+Verdeelsleutels!C2 -> 27 | W22: Verdeling IT-kosten o.b.v. KAR | X22: dienst_02 | Y22: =+Z22/Z$25*Y$17 -> 721315.59 | Z22: =+Verdeelsleutels!B22 -> 500000 | AG22: Uren verantwoord op loonkosten | AH22: Y | AI22: =SUMIFS(H$2:H$29,F$2:F$29,AG22,G$2:G$29,AH22) -> 739989 | AM22: X | AN22: Inhuurkosten | AO22: =+AI6 -> 700000 | BD22: dienst_03 | BG22: =+AO38 -> 1442631.2 | BO22: =SUMIF(Verdeelsleutels!$A$20:$A$40,Kostenallocatie!$BD22,Verdeelsleutels!C$20:C$40)*$BG22 -> 360657.8 | BP22: =SUMIF(Verdeelsleutels!$A$20:$A$40,Kostenallocatie!$BD22,Verdeelsleutels!D$20:D$40)*$BG22 -> 360657.8 | BQ22: =SUMIF(Verdeelsleutels!$A$20:$A$40,Kostenallocatie!$BD22,Verdeelsleutels!E$20:E$40)*$BG22 -> 721315.59 | BR22: =SUM(BO22:BQ22)-BG22 -> 0
F23: Automatiseringskosten | G23: I | H23: =SUMIFS(Voorbewerking!E$17:E$35,Voorbewerking!B$17:B$35,Kostenallocatie!F23,Voorbewerking!C$17:C$35,Kostenallocatie!G23) -> 2200000 | K23: Verdeling kosten o.b.v. headcount | L23: Y | M23: =+N23/N$25*M$20 -> 128000 | N23: =+Verdeelsleutels!C3 -> 8 | W23: Verdeling IT-kosten o.b.v. KAR | X23: dienst_03 | Y23: =+Z23/Z$25*Y$17 -> 1442631.2 | Z23: =+Verdeelsleutels!B23 -> 1000000 | AG23: Overige bedrijfskosten | AH23: Y | AI23: =SUMIFS(H$2:H$29,F$2:F$29,AG23,G$2:G$29,AH23) -> 100000 | AM23: X | AN23: Inhuurkosten correctie | AO23: =+AI7 -> -699972 | BD23: dienst_04 | BG23: =+AO39 -> 504920.92 | BO23: =SUMIF(Verdeelsleutels!$A$20:$A$40,Kostenallocatie!$BD23,Verdeelsleutels!C$20:C$40)*$BG23 -> 0 | BP23: =SUMIF(Verdeelsleutels!$A$20:$A$40,Kostenallocatie!$BD23,Verdeelsleutels!D$20:D$40)*$BG23 -> 0 | BQ23: =SUMIF(Verdeelsleutels!$A$20:$A$40,Kostenallocatie!$BD23,Verdeelsleutels!E$20:E$40)*$BG23 -> 504920.92 | BR23: =SUM(BO23:BQ23)-BG23 -> 0
F24: Automatiseringskosten correctie | G24: I | H24: =SUMIFS(Voorbewerking!E$17:E$35,Voorbewerking!B$17:B$35,Kostenallocatie!F24,Voorbewerking!C$17:C$35,Kostenallocatie!G24) -> -1100000 | K24: Verdeling kosten o.b.v. headcount | L24: I | M24: =+N24/N$25*M$20 -> 240000 | N24: =+Verdeelsleutels!C6 -> 15 | W24: Verdeling IT-kosten o.b.v. KAR | X24: dienst_04 | Y24: =+Z24/Z$25*Y$17 -> 504920.92 | Z24: =+Verdeelsleutels!B24 -> 350000 | AG24: Kosten subtotaal | AH24: Y | AI24: =SUM(AI20:AI23) -> 800000 | AM24: X | AN24: Overige bedrijfskosten | AO24: =+AI9 -> 300000 | BD24: Totaal kosten | BG24: =SUM(BG3:BG23) -> 9052528.7 | BO24: =SUM(BO3:BO23) -> 3218722 | BP24: =SUM(BP3:BP23) -> 3380025.7 | BQ24: =SUM(BQ3:BQ23) -> 2453781 | BR24: =SUM(BR3:BR23) -> 0
F25: Automatiseringskosten specifiek | G25: I | H25: =SUMIFS(Voorbewerking!E$17:E$35,Voorbewerking!B$17:B$35,Kostenallocatie!F25,Voorbewerking!C$17:C$35,Kostenallocatie!G25) -> 1100000 | K25: Totaal | M25: =SUM(M22:M24) -> 800000 | N25: =SUM(N22:N24) -> 50 | Y25: =SUM(Y21:Y24) -> 3967235.8 | Z25: =SUM(Z21:Z24) -> 2750000 | AM25: X | AN25: Totaal overige kosten | AO25: =SUM(AO20:AO24) -> 250028
F26: Overige bedrijfskosten | G26: X | H26: =SUMIFS(Voorbewerking!E$17:E$35,Voorbewerking!B$17:B$35,Kostenallocatie!F26,Voorbewerking!C$17:C$35,Kostenallocatie!G26) -> 300000 | AG26: Toegerekende kosten | BO26: Indirecte kosten
F27: Overige bedrijfskosten | G27: Y | H27: =SUMIFS(Voorbewerking!E$17:E$35,Voorbewerking!B$17:B$35,Kostenallocatie!F27,Voorbewerking!C$17:C$35,Kostenallocatie!G27) -> 100000 | AG27: Facilitaire Services | AI27: =+M11 -> 321951.22 | AJ27: fte | BA27: L10 | BB27: kostenplaats | BC27: Functie | BD27: Activiteit | BE27: Uren verantwoord | BF27: Bruto uurtarief | BG27: Activiteitskosten | BI27: Aandeel I | BJ27: Aandeel II | BK27: Aandeel III | BL27: Totaal | BO27: Product I | BP27: Product II | BQ27: Product III | BR27: Controle
F28: Kosten totaal | H28: =SUM(H3:H27) -> 9800000 | AG28: P&O | AI28: =+M23 -> 128000 | AJ28: fte (inhuur niet) | AM28: Kostenplaats | AN28: Kostensoort | AO28: Kosten | BB28: X | BC28: functie 01_I | BD28: Activiteiten indirect | BE28: =SUMIFS(Voorbewerking!E$53:E$87,Voorbewerking!B$53:B$87,Kostenallocatie!BB28,Voorbewerking!C$53:C$87,Kostenallocatie!BC28,Voorbewerking!D$53:D$87,Kostenallocatie!BD28) -> 800 | BF28: =SUMIFS(AY$2:AY$14,AM$2:AM$14,BB28,AN$2:AN$14,BC28) -> 196.6461 | BG28: =+BE28*BF28 -> 157316.88 | BI28: =SUMIF(Verdeelsleutels!$A$20:$A$40,Kostenallocatie!$BB28,Verdeelsleutels!C$20:C$40)*BO$24 -> 1072907.3 | BJ28: =SUMIF(Verdeelsleutels!$A$20:$A$40,Kostenallocatie!$BB28,Verdeelsleutels!D$20:D$40)*BP$24 -> 1126675.2 | BK28: =SUMIF(Verdeelsleutels!$A$20:$A$40,Kostenallocatie!$BB28,Verdeelsleutels!E$20:E$40)*BQ$24 -> 817926.99 | BL28: =SUM(BI28:BK28) -> 3017509.6 | BO28: =+BI28/$BL28*$BG28 -> 55935.676 | BP28: =+BJ28/$BL28*$BG28 -> 58738.847 | BQ28: =+BK28/$BL28*$BG28 -> 42642.358 | BR28: =SUM(BO28:BQ28)-BG28 -> 0
AG29: IT-KAR IT-werkplekken | AI29: =+S8 -> 160000 | AJ29: fte | AM29: Y | AN29: Loonkosten | AO29: =+AI20 -> 700000 | BB29: X | BC29: functie 02_I | BD29: Activiteiten indirect | BE29: =SUMIFS(Voorbewerking!E$53:E$87,Voorbewerking!B$53:B$87,Kostenallocatie!BB29,Voorbewerking!C$53:C$87,Kostenallocatie!BC29,Voorbewerking!D$53:D$87,Kostenallocatie!BD29) -> 200 | BF29: =SUMIFS(AY$2:AY$14,AM$2:AM$14,BB29,AN$2:AN$14,BC29) -> 186.31071 | BG29: =+BE29*BF29 -> 37262.142 | BI29: =SUMIF(Verdeelsleutels!$A$20:$A$40,Kostenallocatie!$BB29,Verdeelsleutels!C$20:C$40)*BO$24 -> 1072907.3 | BJ29: =SUMIF(Verdeelsleutels!$A$20:$A$40,Kostenallocatie!$BB29,Verdeelsleutels!D$20:D$40)*BP$24 -> 1126675.2 | BK29: =SUMIF(Verdeelsleutels!$A$20:$A$40,Kostenallocatie!$BB29,Verdeelsleutels!E$20:E$40)*BQ$24 -> 817926.99 | BL29: =SUM(BI29:BK29) -> 3017509.6 | BO29: =+BI29/$BL29*$BG29 -> 13248.948 | BP29: =+BJ29/$BL29*$BG29 -> 13912.908 | BQ29: =+BK29/$BL29*$BG29 -> 10100.287 | BR29: =SUM(BO29:BQ29)-BG29 -> 0
AG30: IT-KAR IT-mob devices | AI30: =+S17 -> 16666.667 | AJ30: fte | AM30: Y | AN30: Loonkosten correctie | AO30: =+AI21 -> -739989 | BB30: X | BC30: functie 03_I | BD30: Activiteiten indirect | BE30: =SUMIFS(Voorbewerking!E$53:E$87,Voorbewerking!B$53:B$87,Kostenallocatie!BB30,Voorbewerking!C$53:C$87,Kostenallocatie!BC30,Voorbewerking!D$53:D$87,Kostenallocatie!BD30) -> 300 | BF30: =SUMIFS(AY$2:AY$14,AM$2:AM$14,BB30,AN$2:AN$14,BC30) -> 177.57285 | BG30: =+BE30*BF30 -> 53271.856 | BI30: =SUMIF(Verdeelsleutels!$A$20:$A$40,Kostenallocatie!$BB30,Verdeelsleutels!C$20:C$40)*BO$24 -> 1072907.3 | BJ30: =SUMIF(Verdeelsleutels!$A$20:$A$40,Kostenallocatie!$BB30,Verdeelsleutels!D$20:D$40)*BP$24 -> 1126675.2 | BK30: =SUMIF(Verdeelsleutels!$A$20:$A$40,Kostenallocatie!$BB30,Verdeelsleutels!E$20:E$40)*BQ$24 -> 817926.99 | BL30: =SUM(BI30:BK30) -> 3017509.6 | BO30: =+BI30/$BL30*$BG30 -> 18941.37 | BP30: =+BJ30/$BL30*$BG30 -> 19890.601 | BQ30: =+BK30/$BL30*$BG30 -> 14439.884 | BR30: =SUM(BO30:BQ30)-BG30 -> 0
AG31: Kosten subtotaal | AI31: =SUM(AI27:AI30) -> 626617.89 | AM31: Y | AN31: Overige bedrijfskosten | AO31: =+AI23 -> 100000 | BB31: X | BC31: functie 03_E | BD31: Activiteiten indirect | BE31: =SUMIFS(Voorbewerking!E$53:E$87,Voorbewerking!B$53:B$87,Kostenallocatie!BB31,Voorbewerking!C$53:C$87,Kostenallocatie!BC31,Voorbewerking!D$53:D$87,Kostenallocatie!BD31) -> 400 | BF31: =SUMIFS(AY$2:AY$14,AM$2:AM$14,BB31,AN$2:AN$14,BC31) -> 149.42226 | BG31: =+BE31*BF31 -> 59768.903 | BI31: =SUMIF(Verdeelsleutels!$A$20:$A$40,Kostenallocatie!$BB31,Verdeelsleutels!C$20:C$40)*BO$24 -> 1072907.3 | BJ31: =SUMIF(Verdeelsleutels!$A$20:$A$40,Kostenallocatie!$BB31,Verdeelsleutels!D$20:D$40)*BP$24 -> 1126675.2 | BK31: =SUMIF(Verdeelsleutels!$A$20:$A$40,Kostenallocatie!$BB31,Verdeelsleutels!E$20:E$40)*BQ$24 -> 817926.99 | BL31: =SUM(BI31:BK31) -> 3017509.6 | BO31: =+BI31/$BL31*$BG31 -> 21251.464 | BP31: =+BJ31/$BL31*$BG31 -> 22316.464 | BQ31: =+BK31/$BL31*$BG31 -> 16200.976 | BR31: =SUM(BO31:BQ31)-BG31 -> 0
AG32: Kosten totaal X | AI32: =+AI24+AI31 -> 1426617.9 | AM32: Y | AN32: Totaal overige kosten | AO32: =SUM(AO29:AO31) -> 60011 | BB32: X | BD32: Totaal overige kosten | BG32: =+AO25 -> 250028 | BI32: =SUMIF(Verdeelsleutels!$A$20:$A$40,Kostenallocatie!$BB32,Verdeelsleutels!C$20:C$40)*BO$24 -> 1072907.3 | BJ32: =SUMIF(Verdeelsleutels!$A$20:$A$40,Kostenallocatie!$BB32,Verdeelsleutels!D$20:D$40)*BP$24 -> 1126675.2 | BK32: =SUMIF(Verdeelsleutels!$A$20:$A$40,Kostenallocatie!$BB32,Verdeelsleutels!E$20:E$40)*BQ$24 -> 817926.99 | BL32: =SUM(BI32:BK32) -> 3017509.6 | BO32: =+BI32/$BL32*$BG32 -> 88900.092 | BP32: =+BJ32/$BL32*$BG32 -> 93355.248 | BQ32: =+BK32/$BL32*$BG32 -> 67772.66 | BR32: =SUM(BO32:BQ32)-BG32 -> 0
BB33: Y | BC33: functie 01_I | BD33: Activiteiten indirect | BE33: =SUMIFS(Voorbewerking!E$53:E$87,Voorbewerking!B$53:B$87,Kostenallocatie!BB33,Voorbewerking!C$53:C$87,Kostenallocatie!BC33,Voorbewerking!D$53:D$87,Kostenallocatie!BD33) -> 300 | BF33: =SUMIFS(AY$2:AY$14,AM$2:AM$14,BB33,AN$2:AN$14,BC33) -> 228.2721 | BG33: =+BE33*BF33 -> 68481.631 | BI33: =SUMIF(Verdeelsleutels!$A$20:$A$40,Kostenallocatie!$BB33,Verdeelsleutels!C$20:C$40)*BO$24 -> 1609361 | BJ33: =SUMIF(Verdeelsleutels!$A$20:$A$40,Kostenallocatie!$BB33,Verdeelsleutels!D$20:D$40)*BP$24 -> 1690012.8 | BK33: =SUMIF(Verdeelsleutels!$A$20:$A$40,Kostenallocatie!$BB33,Verdeelsleutels!E$20:E$40)*BQ$24 -> 0 | BL33: =SUM(BI33:BK33) -> 3299373.9 | BO33: =+BI33/$BL33*$BG33 -> 33403.813 | BP33: =+BJ33/$BL33*$BG33 -> 35077.818 | BQ33: =+BK33/$BL33*$BG33 -> 0 | BR33: =SUM(BO33:BQ33)-BG33 -> 0
BB34: Y | BC34: functie 02_I | BD34: Activiteiten indirect | BE34: =SUMIFS(Voorbewerking!E$53:E$87,Voorbewerking!B$53:B$87,Kostenallocatie!BB34,Voorbewerking!C$53:C$87,Kostenallocatie!BC34,Voorbewerking!D$53:D$87,Kostenallocatie!BD34) -> 300 | BF34: =SUMIFS(AY$2:AY$14,AM$2:AM$14,BB34,AN$2:AN$14,BC34) -> 204.43631 | BG34: =+BE34*BF34 -> 61330.894 | BI34: =SUMIF(Verdeelsleutels!$A$20:$A$40,Kostenallocatie!$BB34,Verdeelsleutels!C$20:C$40)*BO$24 -> 1609361 | BJ34: =SUMIF(Verdeelsleutels!$A$20:$A$40,Kostenallocatie!$BB34,Verdeelsleutels!D$20:D$40)*BP$24 -> 1690012.8 | BK34: =SUMIF(Verdeelsleutels!$A$20:$A$40,Kostenallocatie!$BB34,Verdeelsleutels!E$20:E$40)*BQ$24 -> 0 | BL34: =SUM(BI34:BK34) -> 3299373.9 | BO34: =+BI34/$BL34*$BG34 -> 29915.843 | BP34: =+BJ34/$BL34*$BG34 -> 31415.051 | BQ34: =+BK34/$BL34*$BG34 -> 0 | BR34: =SUM(BO34:BQ34)-BG34 -> 0
AL35: L08E | AN35: IT-dienst | AO35: Kosten | BB35: Y | BD35: Totaal overige kosten | BG35: =+AO32 -> 60011 | BI35: =SUMIF(Verdeelsleutels!$A$20:$A$40,Kostenallocatie!$BB35,Verdeelsleutels!C$20:C$40)*BO$24 -> 1609361 | BJ35: =SUMIF(Verdeelsleutels!$A$20:$A$40,Kostenallocatie!$BB35,Verdeelsleutels!D$20:D$40)*BP$24 -> 1690012.8 | BK35: =SUMIF(Verdeelsleutels!$A$20:$A$40,Kostenallocatie!$BB35,Verdeelsleutels!E$20:E$40)*BQ$24 -> 0 | BL35: =SUM(BI35:BK35) -> 3299373.9 | BO35: =+BI35/$BL35*$BG35 -> 29272.028 | BP35: =+BJ35/$BL35*$BG35 -> 30738.972 | BQ35: =+BK35/$BL35*$BG35 -> 0 | BR35: =SUM(BO35:BQ35)-BG35 -> 0
AN36: dienst_01 | AO36: =+AD3 -> 1298368.1 | BD36: Totaal kosten | BG36: =SUM(BG28:BG35) -> 747471.31 | BO36: =SUM(BO28:BO35) -> 290869.23 | BP36: =SUM(BP28:BP35) -> 305445.91 | BQ36: =SUM(BQ28:BQ35) -> 151156.17 | BR36: =SUM(BR28:BR35) -> 0
AN37: dienst_02 | AO37: =+AD4 -> 721315.59
AN38: dienst_03 | AO38: =+AD5 -> 1442631.2 | BO38: Omzet
AN39: dienst_04 | AO39: =+AD6 -> 504920.92 | BO39: Product I | BP39: Product II | BQ39: Product III
AN40: Totaal IT-diensten | AO40: =SUM(AO36:AO39) -> 3967235.8 | BO40: =+Omzet!F2 -> 4500000 | BP40: =+Omzet!F3 -> 4000000 | BQ40: =+Omzet!F4 -> 2500000
...
