Workbook
Name Bouwaard: Data!$G$6:$G$10
Name CAD: Data!$I$6:$I$7
Name courtage: 'Verrekening Jaarpremie'!#REF!
Name Dagen: Table4[[#Headers],[Dagen]]
Name dagen_per_jaar: Table4[[#Headers],[Dagen per jaar]]
Name fin_sub: Table1[Financiele sub]
Name Interest: Data!$E$6:$E$21
Name Ja: Data!$E$24:$E$26
Name Landcode: Table6[Afkorting]
Name Landen: Table6[Land]
Name mut_datum: Table4[Mutatiedatum]
Name mut_soort: Table13[Soort mutatie]
Name Nee: Data!$G$24:$G$25
Name Relatie: Table1[Relatie]
Name Relatienummer: Table1[Relatienummer]
Name Taxatie: Data!$I$13:$I$15
Name verz_aandeel: Table14[Aandeel]
Name verz_maxrow: MAX(ROW(Verzekeraar))
Name verz_relatienummer: Table14[Relatienummer]
Name Verzekeraar: Table14[Verzekeraar]

Sheet Overzicht
B5: Stand Polis | F5: Algemeen
B7: Klant | C7: Verz. Waarde | F7: Polisnummer | G7: B0100133084-0
B8: Waterschapsbedrijf Limburg | C8: 54744600 | F8: NAB-nummer | G8: 629459208
B9: Gebouwen | C9: 32250500 | F9: Verzekeringnemer | G9: Waterschap Limburg
B10: Bedrijfsuitrusting | C10: 13031800 | F10: Behorende bij | G10: Nieuwe polis
B11: Installaties | C11: 9462300 | F11: Mutatiedatum | G11: 46266
B12: Waterschap Limburg | C12: 51599300 | F12: Periode van: | G12: 46023
B13: Gebouwen | C13: 19803100 | F13: Periode tot: | G13: 46388
B14: Bedrijfsuitrusting | C14: 6979000
B15: Bedrijfsuitrusting/inventaris | C15: 24797200
B16: Sloopwaarde-opruimingskosten | C16: 20000
B17: Eindtotalen | C17: 106343900

Sheet Specificatie
A7: Algemene gegevens | R7: Huidige waarde van interest | W7: Vorige waarde inc. Mutaties | X7: Gegevens vorige polis
A8: Verzekerde | B8: Certificaat | C8: Sub | D8: Verzekerde interest | E8: Bestemming | F8: Omschrijving | G8: Schadevergoedingstermijn | H8: Bouwaard | I8: Getaxeerd | J8: Taxateur | K8: Taxatiedatum | L8: Rapportnummer | M8: Geldigheid | N8: Adres | O8: Postcode | P8: Plaats | Q8: Land | R8: Vorkbedrag | S8: Premiegrondslag | T8: Indexverschil | U8: Verzekerde Waarde | V8: Index nieuw | W8: Mutaties | X8: Verz. Waarde Oud: | Y8: Index oud
A9: Waterschap Limburg | C9: 1 | D9: Gebouwen | E9: Met opslagruimte | F9: incl fundering | H9: Steen, harde dekking | I9: Ja | N9: Expeditiestraat 6 | O9: 5961 PX | P9: Horst | Q9: NLD | R9: 0 | S9: =IF(R9=0,U9,(U9+R9)/2) -> 6656000 | T9: =Table3[[#This Row],[Verzekerde Waarde]]-Table3[[#This Row],[Mutaties]] -> 0 | U9: =IF(V9=Y9,W9,ROUNDUP(W9/Y9*V9,-3)) -> 6656000 | V9: 138.1 | W9: =X9+SUMIF(Table4[Subnummer],Table3[[#This Row],[Sub]],Table4[Som mutaties]) -> 6656000 | X9: 6656000 | Y9: 138.1
A10: Waterschap Limburg | C10: 2 | D10: Bedrijfsuitrusting/inventaris | E10: Met opslagruimte | H10: Steen, harde dekking | I10: - | N10: Expeditiestraat 6 | O10: 5961 PX | P10: Horst | Q10: NLD | R10: 0 | S10: =IF(R10=0,U10,(U10+R10)/2) -> 11122000 | T10: =Table3[[#This Row],[Verzekerde Waarde]]-Table3[[#This Row],[Mutaties]] -> 0 | U10: =IF(V10=Y10,W10,ROUNDUP(W10/Y10*V10,-3)) -> 11122000 | V10: 133.4 | W10: =X10+SUMIF(Table4[Subnummer],Table3[[#This Row],[Sub]],Table4[Som mutaties]) -> 11122000 | X10: 11122000 | Y10: 133.4
A11: Waterschap Limburg | C11: 3 | D11: Bedrijfsuitrusting/inventaris | E11: Met huur in voormalig gemeentehuis | I11: - | N11: Raadhuisplein 1 | O11: 5944 AH | P11: Arcen | Q11: NLD | R11: 0 | S11: =IF(R11=0,U11,(U11+R11)/2) -> 49000 | T11: =Table3[[#This Row],[Verzekerde Waarde]]-Table3[[#This Row],[Mutaties]] -> 0 | U11: =IF(V11=Y11,W11,ROUNDUP(W11/Y11*V11,-3)) -> 49000 | V11: 133.4 | W11: =X11+SUMIF(Table4[Subnummer],Table3[[#This Row],[Sub]],Table4[Som mutaties]) -> 49000 | X11: 49000 | Y11: 133.4
A12: Waterschap Limburg | C12: 4 | D12: Gebouwen | E12: Restaurant en bewoning | F12: incl fundering | I12: Ja | N12: Grotestraat 11 | O12: 5855 AK | P12: Well Limburg | Q12: NLD | R12: 0 | S12: =IF(R12=0,U12,(U12+R12)/2) -> 1676000 | T12: =Table3[[#This Row],[Verzekerde Waarde]]-Table3[[#This Row],[Mutaties]] -> 0 | U12: =IF(V12=Y12,W12,ROUNDUP(W12/Y12*V12,-3)) -> 1676000 | V12: 138.1 | W12: =X12+SUMIF(Table4[Subnummer],Table3[[#This Row],[Sub]],Table4[Som mutaties]) -> 1676000 | X12: 1676000 | Y12: 138.1
A13: Waterschap Limburg | C13: 5 | D13: Sloopwaarde-opruimingskosten | I13: - | N13: Gelegen aan Broekhuizerweg (ongenummerd) | O13: 5900 AA | P13: Aarcen | Q13: NLD | R13: 0 | S13: =IF(R13=0,U13,(U13+R13)/2) -> 20000 | T13: =Table3[[#This Row],[Verzekerde Waarde]]-Table3[[#This Row],[Mutaties]] -> 0 | U13: =IF(V13=Y13,W13,ROUNDUP(W13/Y13*V13,-3)) -> 20000 | V13: 133.4 | W13: =X13+SUMIF(Table4[Subnummer],Table3[[#This Row],[Sub]],Table4[Som mutaties]) -> 20000 | X13: 20000 | Y13: 133.4
A14: Waterschap Limburg | C14: 6 | D14: Gebouwen | E14: Watergemalen | I14: - | N14: Op diverse locaties | O14: - | Q14: NLD | R14: 0 | S14: =IF(R14=0,U14,(U14+R14)/2) -> 196700 | T14: =Table3[[#This Row],[Verzekerde Waarde]]-Table3[[#This Row],[Mutaties]] -> 0 | U14: =IF(V14=Y14,W14,ROUNDUP(W14/Y14*V14,-3)) -> 196700 | V14: 138.1 | W14: =X14+SUMIF(Table4[Subnummer],Table3[[#This Row],[Sub]],Table4[Som mutaties]) -> 196700 | X14: 196700 | Y14: 138.1
A15: Waterschap Limburg | B15: =_xlfn.XLOOKUP(Table3[[#This Row],[Verzekerde]],Relatie,fin_sub) -> 0 | C15: 9 | D15: Gebouwen | E15: kantoor/laboratorium in de ruimste zin des woords | H15: Steen, harde dekking | I15: Ja | N15: Maria Theresialaan 99 | O15: 6043 CX | P15: Roermond | Q15: NLD | R15: 0 | S15: =IF(R15=0,U15,(U15+R15)/2) -> 32250500 | T15: =Table3[[#This Row],[Verzekerde Waarde]]-Table3[[#This Row],[Mutaties]] -> 0 | U15: =IF(V15=Y15,W15,ROUNDUP(W15/Y15*V15,-3)) -> 32250500 | V15: 138.1 | W15: =X15+SUMIF(Table4[Subnummer],Table3[[#This Row],[Sub]],Table4[Som mutaties]) -> 32250500 | X15: 32250500 | Y15: 138.1
A16: Waterschap Limburg | B16: =_xlfn.XLOOKUP(Table3[[#This Row],[Verzekerde]],Relatie,fin_sub) -> 0 | C16: 10 | D16: Bedrijfsuitrusting | F16: incl. computerapparatuur | H16: Steen, harde dekking | I16: Ja | N16: Maria Theresialaan 99 | O16: 6043 CX | P16: Roermond | Q16: NLD | R16: 0 | S16: =IF(R16=0,U16,(U16+R16)/2) -> 16008800 | T16: =Table3[[#This Row],[Verzekerde Waarde]]-Table3[[#This Row],[Mutaties]] -> 6979000 | U16: 16008800 | V16: 133.4 | W16: =X16+SUMIF(Table4[Subnummer],Table3[[#This Row],[Sub]],Table4[Som mutaties]) -> 9029800 | X16: 9029800 | Y16: 133.4
A17: Waterschap Limburg | B17: =_xlfn.XLOOKUP(Table3[[#This Row],[Verzekerde]],Relatie,fin_sub) -> 0 | C17: 11 | D17: Gebouwen | E17: Woningen en paardenstallen | H17: Steen, harde dekking | I17: Ja | N17: Kruisweg 48-50 | O17: 5944 EN | P17: Arcen | Q17: NLD | R17: 0 | S17: =IF(R17=0,U17,(U17+R17)/2) -> 979700 | T17: =Table3[[#This Row],[Verzekerde Waarde]]-Table3[[#This Row],[Mutaties]] -> 0 | U17: =IF(V17=Y17,W17,ROUNDUP(W17/Y17*V17,-3)) -> 979700 | V17: 138.1 | W17: =X17+SUMIF(Table4[Subnummer],Table3[[#This Row],[Sub]],Table4[Som mutaties]) -> 979700 | X17: 979700 | Y17: 138.1
A18: Waterschap Limburg | B18: =_xlfn.XLOOKUP(Table3[[#This Row],[Verzekerde]],Relatie,fin_sub) -> 0 | C18: 12 | D18: Bedrijfsuitrusting | H18: Steen, harde dekking | I18: Ja | N18: Maria Theresialaan 99 | O18: 6043 CX | P18: Roermond | Q18: NLD | R18: 0 | S18: =IF(R18=0,U18,(U18+R18)/2) -> 6979000 | T18: =Table3[[#This Row],[Verzekerde Waarde]]-Table3[[#This Row],[Mutaties]] -> 0 | U18: =IF(V18=Y18,W18,ROUNDUP(W18/Y18*V18,-3)) -> 6979000 | V18: 133.4 | W18: =X18+SUMIF(Table4[Subnummer],Table3[[#This Row],[Sub]],Table4[Som mutaties]) -> 6979000 | X18: 6979000 | Y18: 133.4
A19: Waterschap Limburg | B19: =_xlfn.XLOOKUP(Table3[[#This Row],[Verzekerde]],Relatie,fin_sub) -> 0 | C19: 13 | D19: Gebouwen | E19: ECI Centrale | F19: Incl. fundering | H19: Steen, harde dekking | I19: Ja | N19: Molenweg 56 | O19: 6041 KW | P19: Roermond | Q19: NLD | R19: 0 | S19: =IF(R19=0,U19,(U19+R19)/2) -> 2791000 | T19: =Table3[[#This Row],[Verzekerde Waarde]]-Table3[[#This Row],[Mutaties]] -> 0 | U19: =IF(V19=Y19,W19,ROUNDUP(W19/Y19*V19,-3)) -> 2791000 | V19: 138.1 | W19: =X19+SUMIF(Table4[Subnummer],Table3[[#This Row],[Sub]],Table4[Som mutaties]) -> 2791000 | X19: 2791000 | Y19: 138.1
A20: Waterschap Limburg | B20: =_xlfn.XLOOKUP(Table3[[#This Row],[Verzekerde]],Relatie,fin_sub) -> 0 | C20: 14 | D20: Gebouwen | E20: Loods voor de buitendienst | F20: Incl. fundering en zonnepanelen | H20: Steen, harde dekking | I20: Ja | N20: Rijksweg Noord 305 | O20: 6136 AC | P20: Sittard | Q20: NLD | R20: 0 | S20: =IF(R20=0,U20,(U20+R20)/2) -> 7436900 | T20: =Table3[[#This Row],[Verzekerde Waarde]]-Table3[[#This Row],[Mutaties]] -> 0 | U20: =IF(V20=Y20,W20,ROUNDUP(W20/Y20*V20,-3)) -> 7436900 | V20: 138.1 | W20: =X20+SUMIF(Table4[Subnummer],Table3[[#This Row],[Sub]],Table4[Som mutaties]) -> 7436900 | X20: 7436900 | Y20: 138.1
A21: Waterschap Limburg | B21: =_xlfn.XLOOKUP(Table3[[#This Row],[Verzekerde]],Relatie,fin_sub) -> 0 | C21: 15 | D21: Bedrijfsuitrusting/inventaris | F21: getaxeerd | H21: - | I21: Ja | N21: Rijksweg Noord 305 | O21: 6136 AC | P21: Sittard | Q21: NLD | R21: 0 | S21: =IF(R21=0,U21,(U21+R21)/2) -> 11368600 | T21: =Table3[[#This Row],[Verzekerde Waarde]]-Table3[[#This Row],[Mutaties]] -> 0 | U21: =IF(V21=Y21,W21,ROUNDUP(W21/Y21*V21,-3)) -> 11368600 | V21: 133.4 | W21: =X21+SUMIF(Table4[Subnummer],Table3[[#This Row],[Sub]],Table4[Som mutaties]) -> 11368600 | X21: 11368600 | Y21: 133.4
A22: Waterschap Limburg | B22: =_xlfn.XLOOKUP(Table3[[#This Row],[Verzekerde]],Relatie,fin_sub) -> 0 | C22: 16 | D22: Bedrijfsuitrusting/inventaris | F22: niet op vaste taxatie | H22: - | I22: - | N22: Rijksweg Noord 305 | O22: 6136 AC | P22: Sittard | Q22: NLD | R22: 0 | S22: =IF(R22=0,U22,(U22+R22)/2) -> 1476000 | T22: =Table3[[#This Row],[Verzekerde Waarde]]-Table3[[#This Row],[Mutaties]] -> 0 | U22: =IF(V22=Y22,W22,ROUNDUP(W22/Y22*V22,-3)) -> 1476000 | V22: 133.4 | W22: =X22+SUMIF(Table4[Subnummer],Table3[[#This Row],[Sub]],Table4[Som mutaties]) -> 1476000 | X22: 1476000 | Y22: 133.4
A23: Waterschap Limburg | B23: =_xlfn.XLOOKUP(Table3[[#This Row],[Verzekerde]],Relatie,fin_sub) -> 0 | C23: 17 | D23: Gebouwen | E23: Loods | F23: incl. fundering | H23: Steen, harde dekking | I23: Ja | N23: Brommelen 9 | P23: Nuth | Q23: NLD | R23: 0 | S23: =IF(R23=0,U23,(U23+R23)/2) -> 66800 | T23: =Table3[[#This Row],[Verzekerde Waarde]]-Table3[[#This Row],[Mutaties]] -> 0 | U23: =IF(V23=Y23,W23,ROUNDUP(W23/Y23*V23,-3)) -> 66800 | V23: 138.1 | W23: =X23+SUMIF(Table4[Subnummer],Table3[[#This Row],[Sub]],Table4[Som mutaties]) -> 66800 | X23: 66800 | Y23: 138.1
A24: Waterschap Limburg | B24: =_xlfn.XLOOKUP(Table3[[#This Row],[Verzekerde]],Relatie,fin_sub) -> 0 | C24: 18 | D24: Bedrijfsuitrusting/inventaris | E24: Kantoor en werkplaatsinventaris | H24: - | I24: Ja | N24: Brommelen 9 | P24: Nuth | Q24: NLD | R24: 0 | S24: =IF(R24=0,U24,(U24+R24)/2) -> 31600 | T24: =Table3[[#This Row],[Verzekerde Waarde]]-Table3[[#This Row],[Mutaties]] -> 0 | U24: =IF(V24=Y24,W24,ROUNDUP(W24/Y24*V24,-3)) -> 31600 | V24: 133.4 | W24: =X24+SUMIF(Table4[Subnummer],Table3[[#This Row],[Sub]],Table4[Som mutaties]) -> 31600 | X24: 31600 | Y24: 133.4
A25: Waterschap Limburg | B25: =_xlfn.XLOOKUP(Table3[[#This Row],[Verzekerde]],Relatie,fin_sub) -> 0 | C25: 19 | D25: Bedrijfsuitrusting/inventaris | E25: 5 containers met inhoud | H25: staal met stalen dekking | I25: - | N25: Knipstraat 45 | O25: 6321 AM | P25: Wijlre | Q25: NLD | R25: 0 | S25: =IF(R25=0,U25,(U25+R25)/2) -> 750000 | T25: =Table3[[#This Row],[Verzekerde Waarde]]-Table3[[#This Row],[Mutaties]] -> 0 | U25: =IF(V25=Y25,W25,ROUNDUP(W25/Y25*V25,-3)) -> 750000 | V25: 133.4 | W25: =X25+SUMIF(Table4[Subnummer],Table3[[#This Row],[Sub]],Table4[Som mutaties]) -> 750000 | X25: 750000 | Y25: 133.4
B26: =_xlfn.XLOOKUP(Table3[[#This Row],[Verzekerde]],Relatie,fin_sub) -> 0 | C26: 20 | D26: - | H26: - | I26: - | R26: 0 | S26: =IF(R26=0,U26,(U26+R26)/2) -> 0 | T26: =Table3[[#This Row],[Verzekerde Waarde]]-Table3[[#This Row],[Mutaties]] -> 0 | U26: =IF(V26=Y26,W26,ROUNDUP(W26/Y26*V26,-3)) -> 0 | W26: =X26+SUMIF(Table4[Subnummer],Table3[[#This Row],[Sub]],Table4[Som mutaties]) -> 0 | X26: 0
B27: =_xlfn.XLOOKUP(Table3[[#This Row],[Verzekerde]],Relatie,fin_sub) -> 0 | C27: 21 | D27: - | H27: - | I27: - | R27: 0 | S27: =IF(R27=0,U27,(U27+R27)/2) -> 0 | T27: =Table3[[#This Row],[Verzekerde Waarde]]-Table3[[#This Row],[Mutaties]] -> 0 | U27: =IF(V27=Y27,W27,ROUNDUP(W27/Y27*V27,-3)) -> 0 | W27: =X27+SUMIF(Table4[Subnummer],Table3[[#This Row],[Sub]],Table4[Som mutaties]) -> 0 | X27: 0
B28: =_xlfn.XLOOKUP(Table3[[#This Row],[Verzekerde]],Relatie,fin_sub) -> 0 | C28: 22 | D28: - | H28: - | I28: - | R28: 0 | S28: =IF(R28=0,U28,(U28+R28)/2) -> 0 | T28: =Table3[[#This Row],[Verzekerde Waarde]]-Table3[[#This Row],[Mutaties]] -> 0 | U28: =IF(V28=Y28,W28,ROUNDUP(W28/Y28*V28,-3)) -> 0 | W28: =X28+SUMIF(Table4[Subnummer],Table3[[#This Row],[Sub]],Table4[Som mutaties]) -> 0 | X28: 0
B29: =_xlfn.XLOOKUP(Table3[[#This Row],[Verzekerde]],Relatie,fin_sub) -> 0 | C29: 23 | D29: - | H29: - | I29: - | R29: 0 | S29: =IF(R29=0,U29,(U29+R29)/2) -> 0 | T29: =Table3[[#This Row],[Verzekerde Waarde]]-Table3[[#This Row],[Mutaties]] -> 0 | U29: =IF(V29=Y29,W29,ROUNDUP(W29/Y29*V29,-3)) -> 0 | W29: =X29+SUMIF(Table4[Subnummer],Table3[[#This Row],[Sub]],Table4[Som mutaties]) -> 0 | X29: 0
B30: =_xlfn.XLOOKUP(Table3[[#This Row],[Verzekerde]],Relatie,fin_sub) -> 0 | C30: 24 | D30: - | H30: - | I30: - | R30: 0 | S30: =IF(R30=0,U30,(U30+R30)/2) -> 0 | T30: =Table3[[#This Row],[Verzekerde Waarde]]-Table3[[#This Row],[Mutaties]] -> 0 | U30: =IF(V30=Y30,W30,ROUNDUP(W30/Y30*V30,-3)) -> 0 | W30: =X30+SUMIF(Table4[Subnummer],Table3[[#This Row],[Sub]],Table4[Som mutaties]) -> 0 | X30: 0
B31: =_xlfn.XLOOKUP(Table3[[#This Row],[Verzekerde]],Relatie,fin_sub) -> 0 | C31: 25 | D31: - | H31: - | I31: - | R31: 0 | S31: =IF(R31=0,U31,(U31+R31)/2) -> 0 | T31: =Table3[[#This Row],[Verzekerde Waarde]]-Table3[[#This Row],[Mutaties]] -> 0 | U31: =IF(V31=Y31,W31,ROUNDUP(W31/Y31*V31,-3)) -> 0 | W31: =X31+SUMIF(Table4[Subnummer],Table3[[#This Row],[Sub]],Table4[Som mutaties]) -> 0 | X31: 0
B32: =_xlfn.XLOOKUP(Table3[[#This Row],[Verzekerde]],Relatie,fin_sub) -> 0 | C32: 26 | D32: - | H32: - | I32: - | R32: 0 | S32: =IF(R32=0,U32,(U32+R32)/2) -> 0 | T32: =Table3[[#This Row],[Verzekerde Waarde]]-Table3[[#This Row],[Mutaties]] -> 0 | U32: =IF(V32=Y32,W32,ROUNDUP(W32/Y32*V32,-3)) -> 0 | W32: =X32+SUMIF(Table4[Subnummer],Table3[[#This Row],[Sub]],Table4[Som mutaties]) -> 0 | X32: 0
B33: =_xlfn.XLOOKUP(Table3[[#This Row],[Verzekerde]],Relatie,fin_sub) -> 0 | C33: 27 | D33: - | H33: - | I33: - | R33: 0 | S33: =IF(R33=0,U33,(U33+R33)/2) -> 0 | T33: =Table3[[#This Row],[Verzekerde Waarde]]-Table3[[#This Row],[Mutaties]] -> 0 | U33: =IF(V33=Y33,W33,ROUNDUP(W33/Y33*V33,-3)) -> 0 | W33: =X33+SUMIF(Table4[Subnummer],Table3[[#This Row],[Sub]],Table4[Som mutaties]) -> 0 | X33: 0
B34: =_xlfn.XLOOKUP(Table3[[#This Row],[Verzekerde]],Relatie,fin_sub) -> 0 | C34: 28 | D34: - | H34: - | I34: - | R34: 0 | S34: =IF(R34=0,U34,(U34+R34)/2) -> 0 | T34: =Table3[[#This Row],[Verzekerde Waarde]]-Table3[[#This Row],[Mutaties]] -> 0 | U34: =IF(V34=Y34,W34,ROUNDUP(W34/Y34*V34,-3)) -> 0 | W34: =X34+SUMIF(Table4[Subnummer],Table3[[#This Row],[Sub]],Table4[Som mutaties]) -> 0 | X34: 0
B35: =_xlfn.XLOOKUP(Table3[[#This Row],[Verzekerde]],Relatie,fin_sub) -> 0 | C35: 29 | D35: - | H35: - | I35: - | R35: 0 | S35: =IF(R35=0,U35,(U35+R35)/2) -> 0 | T35: =Table3[[#This Row],[Verzekerde Waarde]]-Table3[[#This Row],[Mutaties]] -> 0 | U35: =IF(V35=Y35,W35,ROUNDUP(W35/Y35*V35,-3)) -> 0 | W35: =X35+SUMIF(Table4[Subnummer],Table3[[#This Row],[Sub]],Table4[Som mutaties]) -> 0 | X35: 0
B36: =_xlfn.XLOOKUP(Table3[[#This Row],[Verzekerde]],Relatie,fin_sub) -> 0 | C36: 30 | D36: - | H36: - | I36: - | R36: 0 | S36: =IF(R36=0,U36,(U36+R36)/2) -> 0 | T36: =Table3[[#This Row],[Verzekerde Waarde]]-Table3[[#This Row],[Mutaties]] -> 0 | U36: =IF(V36=Y36,W36,ROUNDUP(W36/Y36*V36,-3)) -> 0 | W36: =X36+SUMIF(Table4[Subnummer],Table3[[#This Row],[Sub]],Table4[Som mutaties]) -> 0 | X36: 0
B37: =_xlfn.XLOOKUP(Table3[[#This Row],[Verzekerde]],Relatie,fin_sub) -> 0 | C37: 31 | D37: - | H37: - | I37: - | R37: 0 | S37: =IF(R37=0,U37,(U37+R37)/2) -> 0 | T37: =Table3[[#This Row],[Verzekerde Waarde]]-Table3[[#This Row],[Mutaties]] -> 0 | U37: =IF(V37=Y37,W37,ROUNDUP(W37/Y37*V37,-3)) -> 0 | W37: =X37+SUMIF(Table4[Subnummer],Table3[[#This Row],[Sub]],Table4[Som mutaties]) -> 0 | X37: 0
... B90: =_xlfn.XLOOKUP(Table3[[#This Row],[Verzekerde]],Relatie,fin_sub) -> 0 | C90: 84 | D90: - | H90: - | I90: - | R90: 0 | S90: =IF(R90=0,U90,(U90+R90)/2) -> 0 | T90: =Table3[[#This Row],[Verzekerde Waarde]]-Table3[[#This Row],[Mutaties]] -> 0 | U90: =IF(V90=Y90,W90,ROUNDUP(W90/Y90*V90,-3)) -> 0 | W90: =X90+SUMIF(Table4[Subnummer],Table3[[#This Row],[Sub]],Table4[Som mutaties]) -> 0 | X90: 0
B91: =_xlfn.XLOOKUP(Table3[[#This Row],[Verzekerde]],Relatie,fin_sub) -> 0 | C91: 85 | D91: - | H91: - | I91: - | R91: 0 | S91: =IF(R91=0,U91,(U91+R91)/2) -> 0 | T91: =Table3[[#This Row],[Verzekerde Waarde]]-Table3[[#This Row],[Mutaties]] -> 0 | U91: =IF(V91=Y91,W91,ROUNDUP(W91/Y91*V91,-3)) -> 0 | W91: =X91+SUMIF(Table4[Subnummer],Table3[[#This Row],[Sub]],Table4[Som mutaties]) -> 0
B92: =_xlfn.XLOOKUP(Table3[[#This Row],[Verzekerde]],Relatie,fin_sub) -> 0 | C92: 86 | D92: - | H92: - | I92: - | R92: 0 | S92: =IF(R92=0,U92,(U92+R92)/2) -> 0 | T92: =Table3[[#This Row],[Verzekerde Waarde]]-Table3[[#This Row],[Mutaties]] -> 0 | U92: =IF(V92=Y92,W92,ROUNDUP(W92/Y92*V92,-3)) -> 0 | W92: =X92+SUMIF(Table4[Subnummer],Table3[[#This Row],[Sub]],Table4[Som mutaties]) -> 0
B93: =_xlfn.XLOOKUP(Table3[[#This Row],[Verzekerde]],Relatie,fin_sub) -> 0 | C93: 87 | D93: - | H93: - | I93: - | R93: 0 | S93: =IF(R93=0,U93,(U93+R93)/2) -> 0 | T93: =Table3[[#This Row],[Verzekerde Waarde]]-Table3[[#This Row],[Mutaties]] -> 0 | U93: =IF(V93=Y93,W93,ROUNDUP(W93/Y93*V93,-3)) -> 0 | W93: =X93+SUMIF(Table4[Subnummer],Table3[[#This Row],[Sub]],Table4[Som mutaties]) -> 0
B94: =_xlfn.XLOOKUP(Table3[[#This Row],[Verzekerde]],Relatie,fin_sub) -> 0 | C94: 88 | D94: - | H94: - | I94: - | R94: 0 | S94: =IF(R94=0,U94,(U94+R94)/2) -> 0 | T94: =Table3[[#This Row],[Verzekerde Waarde]]-Table3[[#This Row],[Mutaties]] -> 0 | U94: =IF(V94=Y94,W94,ROUNDUP(W94/Y94*V94,-3)) -> 0 | W94: =X94+SUMIF(Table4[Subnummer],Table3[[#This Row],[Sub]],Table4[Som mutaties]) -> 0
B95: =_xlfn.XLOOKUP(Table3[[#This Row],[Verzekerde]],Relatie,fin_sub) -> 0 | C95: 89 | D95: - | H95: - | I95: - | R95: 0 | S95: =IF(R95=0,U95,(U95+R95)/2) -> 0 | T95: =Table3[[#This Row],[Verzekerde Waarde]]-Table3[[#This Row],[Mutaties]] -> 0 | U95: =IF(V95=Y95,W95,ROUNDUP(W95/Y95*V95,-3)) -> 0 | W95: =X95+SUMIF(Table4[Subnummer],Table3[[#This Row],[Sub]],Table4[Som mutaties]) -> 0
B96: =_xlfn.XLOOKUP(Table3[[#This Row],[Verzekerde]],Relatie,fin_sub) -> 0 | C96: 90 | D96: - | H96: - | I96: - | R96: 0 | S96: =IF(R96=0,U96,(U96+R96)/2) -> 0 | T96: =Table3[[#This Row],[Verzekerde Waarde]]-Table3[[#This Row],[Mutaties]] -> 0 | U96: =IF(V96=Y96,W96,ROUNDUP(W96/Y96*V96,-3)) -> 0 | W96: =X96+SUMIF(Table4[Subnummer],Table3[[#This Row],[Sub]],Table4[Som mutaties]) -> 0
B97: =_xlfn.XLOOKUP(Table3[[#This Row],[Verzekerde]],Relatie,fin_sub) -> 0 | C97: 91 | D97: - | H97: - | I97: - | R97: 0 | S97: =IF(R97=0,U97,(U97+R97)/2) -> 0 | T97: =Table3[[#This Row],[Verzekerde Waarde]]-Table3[[#This Row],[Mutaties]] -> 0 | U97: =IF(V97=Y97,W97,ROUNDUP(W97/Y97*V97,-3)) -> 0 | W97: =X97+SUMIF(Table4[Subnummer],Table3[[#This Row],[Sub]],Table4[Som mutaties]) -> 0
B98: =_xlfn.XLOOKUP(Table3[[#This Row],[Verzekerde]],Relatie,fin_sub) -> 0 | C98: 92 | D98: - | H98: - | I98: - | R98: 0 | S98: =IF(R98=0,U98,(U98+R98)/2) -> 0 | T98: =Table3[[#This Row],[Verzekerde Waarde]]-Table3[[#This Row],[Mutaties]] -> 0 | U98: =IF(V98=Y98,W98,ROUNDUP(W98/Y98*V98,-3)) -> 0 | W98: =X98+SUMIF(Table4[Subnummer],Table3[[#This Row],[Sub]],Table4[Som mutaties]) -> 0
...

Sheet Taxaties
A7: Sub | B7: Locatie | C7: Soort interest | D7: Taxateur | E7: Taxatiedatum | F7: Rapportnummer | G7: Geldigheid
A8: {=IFERROR(_xlfn._xlws.FILTER(Table3[Sub],Table3[Getaxeerd]="Ja"),"")} -> 1 | B8: {=IFERROR(_xlfn._xlws.FILTER(Table3[Adres],Table3[Getaxeerd]="Ja"),"")} -> Expeditiestraat 6 | C8: =IFERROR(_xlfn.XLOOKUP(Taxaties!$A8,Table3[Sub],Table3[Verzekerde interest]),"-") -> Gebouwen | D8: {=IFERROR(_xlfn._xlws.FILTER(Table3[Taxateur],Table3[Getaxeerd]="Ja"),"")} -> 0 | E8: {=IFERROR(_xlfn._xlws.FILTER(Table3[Taxatiedatum],Table3[Getaxeerd]="Ja"),"")} -> 0 | F8: {=IFERROR(_xlfn._xlws.FILTER(Table3[Rapportnummer],Table3[Getaxeerd]="Ja"),"")} -> 0 | G8: {=IFERROR(_xlfn._xlws.FILTER(Table3[Geldigheid],Table3[Getaxeerd]="Ja"),"")} -> 0
A9: 4 | B9: Grotestraat 11 | C9: =IFERROR(_xlfn.XLOOKUP(Taxaties!$A9,Table3[Sub],Table3[Verzekerde interest]),"-") -> Gebouwen | D9: 0 | E9: 0 | F9: 0 | G9: 0
A10: 9 | B10: Maria Theresialaan 99 | C10: =IFERROR(_xlfn.XLOOKUP(Taxaties!$A10,Table3[Sub],Table3[Verzekerde interest]),"-") -> Gebouwen | D10: 0 | E10: 0 | F10: 0 | G10: 0
A11: 10 | B11: Maria Theresialaan 99 | C11: =IFERROR(_xlfn.XLOOKUP(Taxaties!$A11,Table3[Sub],Table3[Verzekerde interest]),"-") -> Bedrijfsuitrusting | D11: 0 | E11: 0 | F11: 0 | G11: 0
A12: 11 | B12: Kruisweg 48-50 | C12: =IFERROR(_xlfn.XLOOKUP(Taxaties!$A12,Table3[Sub],Table3[Verzekerde interest]),"-") -> Gebouwen | D12: 0 | E12: 0 | F12: 0 | G12: 0
A13: 12 | B13: Maria Theresialaan 99 | C13: =IFERROR(_xlfn.XLOOKUP(Taxaties!$A13,Table3[Sub],Table3[Verzekerde interest]),"-") -> Bedrijfsuitrusting | D13: 0 | E13: 0 | F13: 0 | G13: 0
A14: 13 | B14: Molenweg 56 | C14: =IFERROR(_xlfn.XLOOKUP(Taxaties!$A14,Table3[Sub],Table3[Verzekerde interest]),"-") -> Gebouwen | D14: 0 | E14: 0 | F14: 0 | G14: 0
A15: 14 | B15: Rijksweg Noord 305 | C15: =IFERROR(_xlfn.XLOOKUP(Taxaties!$A15,Table3[Sub],Table3[Verzekerde interest]),"-") -> Gebouwen | D15: 0 | E15: 0 | F15: 0 | G15: 0
A16: 15 | B16: Rijksweg Noord 305 | C16: =IFERROR(_xlfn.XLOOKUP(Taxaties!$A16,Table3[Sub],Table3[Verzekerde interest]),"-") -> Bedrijfsuitrusting/inventaris | D16: 0 | E16: 0 | F16: 0 | G16: 0
A17: 17 | B17: Brommelen 9 | C17: =IFERROR(_xlfn.XLOOKUP(Taxaties!$A17,Table3[Sub],Table3[Verzekerde interest]),"-") -> Gebouwen | D17: 0 | E17: 0 | F17: 0 | G17: 0
A18: 18 | B18: Brommelen 9 | C18: =IFERROR(_xlfn.XLOOKUP(Taxaties!$A18,Table3[Sub],Table3[Verzekerde interest]),"-") -> Bedrijfsuitrusting/inventaris | D18: 0 | E18: 0 | F18: 0 | G18: 0
C19: =IFERROR(_xlfn.XLOOKUP(Taxaties!$A19,Table3[Sub],Table3[Verzekerde interest]),"-") -> -
C20: =IFERROR(_xlfn.XLOOKUP(Taxaties!$A20,Table3[Sub],Table3[Verzekerde interest]),"-") -> -
C21: =IFERROR(_xlfn.XLOOKUP(Taxaties!$A21,Table3[Sub],Table3[Verzekerde interest]),"-") -> -
C22: =IFERROR(_xlfn.XLOOKUP(Taxaties!$A22,Table3[Sub],Table3[Verzekerde interest]),"-") -> -
C23: =IFERROR(_xlfn.XLOOKUP(Taxaties!$A23,Table3[Sub],Table3[Verzekerde interest]),"-") -> -
C24: =IFERROR(_xlfn.XLOOKUP(Taxaties!$A24,Table3[Sub],Table3[Verzekerde interest]),"-") -> -
C25: =IFERROR(_xlfn.XLOOKUP(Taxaties!$A25,Table3[Sub],Table3[Verzekerde interest]),"-") -> -
C26: =IFERROR(_xlfn.XLOOKUP(Taxaties!$A26,Table3[Sub],Table3[Verzekerde interest]),"-") -> -
C27: =IFERROR(_xlfn.XLOOKUP(Taxaties!$A27,Table3[Sub],Table3[Verzekerde interest]),"-") -> -
C28: =IFERROR(_xlfn.XLOOKUP(Taxaties!$A28,Table3[Sub],Table3[Verzekerde interest]),"-") -> -
C29: =IFERROR(_xlfn.XLOOKUP(Taxaties!$A29,Table3[Sub],Table3[Verzekerde interest]),"-") -> -
C30: =IFERROR(_xlfn.XLOOKUP(Taxaties!$A30,Table3[Sub],Table3[Verzekerde interest]),"-") -> -
... C500: =IFERROR(_xlfn.XLOOKUP(Taxaties!$A500,Table3[Sub],Table3[Verzekerde interest]),"-") -> -

Sheet Mutaties
A7: Gegevens mutaties | P7: Promillages | Z7: Premieverrekening
P8: =IF(Data!$B$54=0,"",Data!$B$54) -> One Aon facility prop. pool NN | Q8: =IF(Data!$B$55=0,"",Data!$B$55) | R8: =IF(Data!$B$56=0,"",Data!$B$56) | S8: =IF(Data!$B$57=0,"",Data!$B$57) | T8: =IF(Data!$B$58=0,"",Data!$B$58) | U8: =IF(Data!$B$59=0,"",Data!$B$59) | V8: =IF(Data!$B$60=0,"",Data!$B$60) | W8: =IF(Data!$B$61=0,"",Data!$B$61) | X8: =IF(Data!$B$62=0,"",Data!$B$62) | Y8: =IF(Data!$B$63=0,"",Data!$B$63) | Z8: =IF(Data!$B$54=0,"",Data!$B$54) -> One Aon facility prop. pool NN | AA8: =IF(Data!$B$55=0,"",Data!$B$55) | AB8: =IF(Data!$B$56=0,"",Data!$B$56) | AC8: =IF(Data!$B$57=0,"",Data!$B$57) | AD8: =IF(Data!$B$58=0,"",Data!$B$58) | AE8: =IF(Data!$B$59=0,"",Data!$B$59) | AF8: =IF(Data!$B$60=0,"",Data!$B$60) | AG8: =IF(Data!$B$61=0,"",Data!$B$61) | AH8: =IF(Data!$B$62=0,"",Data!$B$62) | AI8: =IF(Data!$B$63=0,"",Data!$B$63)
A9: Klant | B9: Soort mutatie | C9: Certificaat | D9: Land | E9: Subnummer | F9: Oude waarde | G9: Nieuwe waarde | H9: Som mutaties | I9: Mutatiedatum | J9: Vervaldatum | K9: Dagen | L9: Dagen per jaar | M9: Sprake van CAD? | N9: Berekeningswijze | O9: Totaal | P9: Promillage 1 | Q9: Promillage 2 | R9: Promillage 3 | S9: Promillage 4 | T9: Promillage 5 | U9: Promillage 6 | V9: Promillage 7 | W9: Promillage 8 | X9: Promillage 9 | Y9: Promillage 10 | Z9: Premie 1 | AA9: Premie 2 | AB9: Premie 3 | AC9: Premie 4 | AD9: Premie 5 | AE9: Premie 6 | AF9: Premie 7 | AG9: Premie 8 | AH9: Premie 9 | AI9: Premie 10 | AJ9: Totaal | AK9: Boeking
A10: =IFERROR(_xlfn.XLOOKUP(E10,Table3[Sub],Table3[Verzekerde]),"-") -> - | C10: =IFERROR(_xlfn.XLOOKUP(Table4[[#This Row],[Subnummer]],Table3[Sub],Table3[Certificaat]),"-") -> - | D10: =IFERROR(_xlfn.XLOOKUP(E10,Specificatie!C$9:C$291,Specificatie!Q$9:Q$291),"") | E10: 0 | F10: =IFERROR(_xlfn.XLOOKUP(Table4[[#This Row],[Subnummer]],Table3[Sub],Table3[Verz. Waarde Oud:])+SUMIFS(Table4[Som mutaties],Table4[Subnummer],Table4[[#This Row],[Subnummer]],Table4[Mutatiedatum],"<"&Table4[[#This Row],[Mutatiedatum]]),0) -> 0 | G10: 0 | H10: =Table4[[#This Row],[Nieuwe waarde]]-Table4[[#This Row],[Oude waarde]] -> 0 | I10: 46266 | J10: 46388 | K10: =Table4[[#This Row],[Vervaldatum]]-Table4[[#This Row],[Mutatiedatum]] -> 122 | L10: 366 | M10: Nee | N10: Pro rata | O10: {=IFERROR(_xlfn.IFS(Table4[[#This Row],[Berekeningswijze]]="Pro rata",Table4[[#This Row],[Som mutaties]]*Table4[[#This Row],[Dagen]]/Table4[[#This Row],[Dagen per jaar]],Table4[[#This Row],[Berekeningswijze]]=0.5,Table4[[#This Row],[Som mutaties]]*0.5,Table4[[#This Row],[Berekeningswijze]]="Geen verrekening",0),"")} -> 0 | P10: =IFERROR(_xlfn.XLOOKUP(Table4[[#This Row],[Subnummer]],Table3[Sub],#REF!),0) -> 0 | Q10: =IFERROR(_xlfn.XLOOKUP(Table4[[#This Row],[Subnummer]],Table3[Sub],#REF!),0) -> 0 | R10: =IFERROR(_xlfn.XLOOKUP(Table4[[#This Row],[Subnummer]],Table3[Sub],#REF!),0) -> 0 | S10: =IFERROR(_xlfn.XLOOKUP(Table4[[#This Row],[Subnummer]],Table3[Sub],#REF!),0) -> 0 | T10: =IFERROR(_xlfn.XLOOKUP(Table4[[#This Row],[Subnummer]],Table3[Sub],#REF!),0) -> 0 | U10: =IFERROR(_xlfn.XLOOKUP(Table4[[#This Row],[Subnummer]],Table3[Sub],#REF!),0) -> 0 | V10: =IFERROR(_xlfn.XLOOKUP(Table4[[#This Row],[Subnummer]],Table3[Sub],#REF!),0) -> 0 | W10: =IFERROR(_xlfn.XLOOKUP(Table4[[#This Row],[Subnummer]],Table3[Sub],#REF!),0) -> 0 | ... Y10: =IFERROR(_xlfn.XLOOKUP(Table4[[#This Row],[Subnummer]],Table3[Sub],#REF!),0) -> 0 | Z10: =IFERROR(ROUND($O10*P10/1000*_xlfn.XLOOKUP(Z$8,Verzekeraar,verz_aandeel),2),0) -> 0 | AA10: =IFERROR(ROUND($O10*Q10/1000*_xlfn.XLOOKUP(AA$8,Verzekeraar,verz_aandeel),2),0) -> 0 | AB10: =IFERROR(ROUND($O10*R10/1000*_xlfn.XLOOKUP(AB$8,Verzekeraar,verz_aandeel),2),0) -> 0 | AC10: =IFERROR(ROUND($O10*S10/1000*_xlfn.XLOOKUP(AC$8,Verzekeraar,verz_aandeel),2),0) -> 0 | AD10: =IFERROR(ROUND($O10*T10/1000*_xlfn.XLOOKUP(AD$8,Verzekeraar,verz_aandeel),2),0) -> 0 | AE10: =IFERROR(ROUND($O10*U10/1000*_xlfn.XLOOKUP(AE$8,Verzekeraar,verz_aandeel),2),0) -> 0 | AF10: =IFERROR(ROUND($O10*V10/1000*_xlfn.XLOOKUP(AF$8,Verzekeraar,verz_aandeel),2),0) -> 0 | AG10: =IFERROR(ROUND($O10*W10/1000*_xlfn.XLOOKUP(AG$8,Verzekeraar,verz_aandeel),2),0) -> 0 | ... AI10: =IFERROR(ROUND($O10*Y10/1000*_xlfn.XLOOKUP(AI$8,Verzekeraar,verz_aandeel),2),0) -> 0 | AJ10: =SUM(Z10:AI10) -> 0 | AK10: {=_xlfn.IFS(AJ10=0,"Nihil",AJ10>0,"Suppletie",AJ10<0,"Restitutie")} -> Nihil
A11: =IFERROR(_xlfn.XLOOKUP(E11,Table3[Sub],Table3[Verzekerde]),"-") -> - | C11: =IFERROR(_xlfn.XLOOKUP(Table4[[#This Row],[Subnummer]],Table3[Sub],Table3[Certificaat]),"-") -> - | D11: =IFERROR(_xlfn.XLOOKUP(E11,Specificatie!C$9:C$291,Specificatie!Q$9:Q$291),"") | E11: 0 | F11: =IFERROR(_xlfn.XLOOKUP(Table4[[#This Row],[Subnummer]],Table3[Sub],Table3[Verz. Waarde Oud:])+SUMIFS(Table4[Som mutaties],Table4[Subnummer],Table4[[#This Row],[Subnummer]],Table4[Mutatiedatum],"<"&Table4[[#This Row],[Mutatiedatum]]),0) -> 0 | G11: 0 | H11: =Table4[[#This Row],[Nieuwe waarde]]-Table4[[#This Row],[Oude waarde]] -> 0 | I11: 46266 | J11: 46388 | K11: =Table4[[#This Row],[Vervaldatum]]-Table4[[#This Row],[Mutatiedatum]] -> 122 | L11: 366 | M11: Nee | N11: Pro rata | O11: {=IFERROR(_xlfn.IFS(Table4[[#This Row],[Berekeningswijze]]="Pro rata",Table4[[#This Row],[Som mutaties]]*Table4[[#This Row],[Dagen]]/Table4[[#This Row],[Dagen per jaar]],Table4[[#This Row],[Berekeningswijze]]=0.5,Table4[[#This Row],[Som mutaties]]*0.5,Table4[[#This Row],[Berekeningswijze]]="Geen verrekening",0),"")} -> 0 | P11: =IFERROR(_xlfn.XLOOKUP(Table4[[#This Row],[Subnummer]],Table3[Sub],#REF!),0) -> 0 | Q11: =IFERROR(_xlfn.XLOOKUP(Table4[[#This Row],[Subnummer]],Table3[Sub],#REF!),0) -> 0 | R11: =IFERROR(_xlfn.XLOOKUP(Table4[[#This Row],[Subnummer]],Table3[Sub],#REF!),0) -> 0 | S11: =IFERROR(_xlfn.XLOOKUP(Table4[[#This Row],[Subnummer]],Table3[Sub],#REF!),0) -> 0 | T11: =IFERROR(_xlfn.XLOOKUP(Table4[[#This Row],[Subnummer]],Table3[Sub],#REF!),0) -> 0 | U11: =IFERROR(_xlfn.XLOOKUP(Table4[[#This Row],[Subnummer]],Table3[Sub],#REF!),0) -> 0 | V11: =IFERROR(_xlfn.XLOOKUP(Table4[[#This Row],[Subnummer]],Table3[Sub],#REF!),0) -> 0 | W11: =IFERROR(_xlfn.XLOOKUP(Table4[[#This Row],[Subnummer]],Table3[Sub],#REF!),0) -> 0 | ... Y11: =IFERROR(_xlfn.XLOOKUP(Table4[[#This Row],[Subnummer]],Table3[Sub],#REF!),0) -> 0 | Z11: =IFERROR(ROUND($O11*P11/1000*_xlfn.XLOOKUP(Z$8,Verzekeraar,verz_aandeel),2),0) -> 0 | AA11: =IFERROR(ROUND($O11*Q11/1000*_xlfn.XLOOKUP(AA$8,Verzekeraar,verz_aandeel),2),0) -> 0 | AB11: =IFERROR(ROUND($O11*R11/1000*_xlfn.XLOOKUP(AB$8,Verzekeraar,verz_aandeel),2),0) -> 0 | AC11: =IFERROR(ROUND($O11*S11/1000*_xlfn.XLOOKUP(AC$8,Verzekeraar,verz_aandeel),2),0) -> 0 | AD11: =IFERROR(ROUND($O11*T11/1000*_xlfn.XLOOKUP(AD$8,Verzekeraar,verz_aandeel),2),0) -> 0 | AE11: =IFERROR(ROUND($O11*U11/1000*_xlfn.XLOOKUP(AE$8,Verzekeraar,verz_aandeel),2),0) -> 0 | AF11: =IFERROR(ROUND($O11*V11/1000*_xlfn.XLOOKUP(AF$8,Verzekeraar,verz_aandeel),2),0) -> 0 | AG11: =IFERROR(ROUND($O11*W11/1000*_xlfn.XLOOKUP(AG$8,Verzekeraar,verz_aandeel),2),0) -> 0 | ... AI11: =IFERROR(ROUND($O11*Y11/1000*_xlfn.XLOOKUP(AI$8,Verzekeraar,verz_aandeel),2),0) -> 0 | AJ11: =SUM(Z11:AI11) -> 0 | AK11: {=_xlfn.IFS(AJ11=0,"Nihil",AJ11>0,"Suppletie",AJ11<0,"Restitutie")} -> Nihil
A12: =IFERROR(_xlfn.XLOOKUP(E12,Table3[Sub],Table3[Verzekerde]),"-") -> - | C12: =IFERROR(_xlfn.XLOOKUP(Table4[[#This Row],[Subnummer]],Table3[Sub],Table3[Certificaat]),"-") -> - | D12: =IFERROR(_xlfn.XLOOKUP(E12,Specificatie!C$9:C$291,Specificatie!Q$9:Q$291),"") | E12: 0 | F12: =IFERROR(_xlfn.XLOOKUP(Table4[[#This Row],[Subnummer]],Table3[Sub],Table3[Verz. Waarde Oud:])+SUMIFS(Table4[Som mutaties],Table4[Subnummer],Table4[[#This Row],[Subnummer]],Table4[Mutatiedatum],"<"&Table4[[#This Row],[Mutatiedatum]]),0) -> 0 | G12: 0 | H12: =Table4[[#This Row],[Nieuwe waarde]]-Table4[[#This Row],[Oude waarde]] -> 0 | I12: 46266 | J12: 46388 | K12: =Table4[[#This Row],[Vervaldatum]]-Table4[[#This Row],[Mutatiedatum]] -> 122 | L12: 366 | M12: Nee | N12: Pro rata | O12: {=IFERROR(_xlfn.IFS(Table4[[#This Row],[Berekeningswijze]]="Pro rata",Table4[[#This Row],[Som mutaties]]*Table4[[#This Row],[Dagen]]/Table4[[#This Row],[Dagen per jaar]],Table4[[#This Row],[Berekeningswijze]]=0.5,Table4[[#This Row],[Som mutaties]]*0.5,Table4[[#This Row],[Berekeningswijze]]="Geen verrekening",0),"")} -> 0 | P12: =IFERROR(_xlfn.XLOOKUP(Table4[[#This Row],[Subnummer]],Table3[Sub],#REF!),0) -> 0 | Q12: =IFERROR(_xlfn.XLOOKUP(Table4[[#This Row],[Subnummer]],Table3[Sub],#REF!),0) -> 0 | R12: =IFERROR(_xlfn.XLOOKUP(Table4[[#This Row],[Subnummer]],Table3[Sub],#REF!),0) -> 0 | S12: =IFERROR(_xlfn.XLOOKUP(Table4[[#This Row],[Subnummer]],Table3[Sub],#REF!),0) -> 0 | T12: =IFERROR(_xlfn.XLOOKUP(Table4[[#This Row],[Subnummer]],Table3[Sub],#REF!),0) -> 0 | U12: =IFERROR(_xlfn.XLOOKUP(Table4[[#This Row],[Subnummer]],Table3[Sub],#REF!),0) -> 0 | V12: =IFERROR(_xlfn.XLOOKUP(Table4[[#This Row],[Subnummer]],Table3[Sub],#REF!),0) -> 0 | W12: =IFERROR(_xlfn.XLOOKUP(Table4[[#This Row],[Subnummer]],Table3[Sub],#REF!),0) -> 0 | ... Y12: =IFERROR(_xlfn.XLOOKUP(Table4[[#This Row],[Subnummer]],Table3[Sub],#REF!),0) -> 0 | Z12: =IFERROR(ROUND($O12*P12/1000*_xlfn.XLOOKUP(Z$8,Verzekeraar,verz_aandeel),2),0) -> 0 | AA12: =IFERROR(ROUND($O12*Q12/1000*_xlfn.XLOOKUP(AA$8,Verzekeraar,verz_aandeel),2),0) -> 0 | AB12: =IFERROR(ROUND($O12*R12/1000*_xlfn.XLOOKUP(AB$8,Verzekeraar,verz_aandeel),2),0) -> 0 | AC12: =IFERROR(ROUND($O12*S12/1000*_xlfn.XLOOKUP(AC$8,Verzekeraar,verz_aandeel),2),0) -> 0 | AD12: =IFERROR(ROUND($O12*T12/1000*_xlfn.XLOOKUP(AD$8,Verzekeraar,verz_aandeel),2),0) -> 0 | AE12: =IFERROR(ROUND($O12*U12/1000*_xlfn.XLOOKUP(AE$8,Verzekeraar,verz_aandeel),2),0) -> 0 | AF12: =IFERROR(ROUND($O12*V12/1000*_xlfn.XLOOKUP(AF$8,Verzekeraar,verz_aandeel),2),0) -> 0 | AG12: =IFERROR(ROUND($O12*W12/1000*_xlfn.XLOOKUP(AG$8,Verzekeraar,verz_aandeel),2),0) -> 0 | ... AI12: =IFERROR(ROUND($O12*Y12/1000*_xlfn.XLOOKUP(AI$8,Verzekeraar,verz_aandeel),2),0) -> 0 | AJ12: =SUM(Z12:AI12) -> 0 | AK12: {=_xlfn.IFS(AJ12=0,"Nihil",AJ12>0,"Suppletie",AJ12<0,"Restitutie")} -> Nihil
A13: =IFERROR(_xlfn.XLOOKUP(E13,Table3[Sub],Table3[Verzekerde]),"-") -> - | C13: =IFERROR(_xlfn.XLOOKUP(Table4[[#This Row],[Subnummer]],Table3[Sub],Table3[Certificaat]),"-") -> - | D13: =IFERROR(_xlfn.XLOOKUP(E13,Specificatie!C$9:C$291,Specificatie!Q$9:Q$291),"") | E13: 0 | F13: =IFERROR(_xlfn.XLOOKUP(Table4[[#This Row],[Subnummer]],Table3[Sub],Table3[Verz. Waarde Oud:])+SUMIFS(Table4[Som mutaties],Table4[Subnummer],Table4[[#This Row],[Subnummer]],Table4[Mutatiedatum],"<"&Table4[[#This Row],[Mutatiedatum]]),0) -> 0 | G13: 0 | H13: =Table4[[#This Row],[Nieuwe waarde]]-Table4[[#This Row],[Oude waarde]] -> 0 | I13: 46266 | J13: 46388 | K13: =Table4[[#This Row],[Vervaldatum]]-Table4[[#This Row],[Mutatiedatum]] -> 122 | L13: 366 | M13: Nee | N13: Pro rata | O13: {=IFERROR(_xlfn.IFS(Table4[[#This Row],[Berekeningswijze]]="Pro rata",Table4[[#This Row],[Som mutaties]]*Table4[[#This Row],[Dagen]]/Table4[[#This Row],[Dagen per jaar]],Table4[[#This Row],[Berekeningswijze]]=0.5,Table4[[#This Row],[Som mutaties]]*0.5,Table4[[#This Row],[Berekeningswijze]]="Geen verrekening",0),"")} -> 0 | P13: =IFERROR(_xlfn.XLOOKUP(Table4[[#This Row],[Subnummer]],Table3[Sub],#REF!),0) -> 0 | Q13: =IFERROR(_xlfn.XLOOKUP(Table4[[#This Row],[Subnummer]],Table3[Sub],#REF!),0) -> 0 | R13: =IFERROR(_xlfn.XLOOKUP(Table4[[#This Row],[Subnummer]],Table3[Sub],#REF!),0) -> 0 | S13: =IFERROR(_xlfn.XLOOKUP(Table4[[#This Row],[Subnummer]],Table3[Sub],#REF!),0) -> 0 | T13: =IFERROR(_xlfn.XLOOKUP(Table4[[#This Row],[Subnummer]],Table3[Sub],#REF!),0) -> 0 | U13: =IFERROR(_xlfn.XLOOKUP(Table4[[#This Row],[Subnummer]],Table3[Sub],#REF!),0) -> 0 | V13: =IFERROR(_xlfn.XLOOKUP(Table4[[#This Row],[Subnummer]],Table3[Sub],#REF!),0) -> 0 | W13: =IFERROR(_xlfn.XLOOKUP(Table4[[#This Row],[Subnummer]],Table3[Sub],#REF!),0) -> 0 | ... Y13: =IFERROR(_xlfn.XLOOKUP(Table4[[#This Row],[Subnummer]],Table3[Sub],#REF!),0) -> 0 | Z13: =IFERROR(ROUND($O13*P13/1000*_xlfn.XLOOKUP(Z$8,Verzekeraar,verz_aandeel),2),0) -> 0 | AA13: =IFERROR(ROUND($O13*Q13/1000*_xlfn.XLOOKUP(AA$8,Verzekeraar,verz_aandeel),2),0) -> 0 | AB13: =IFERROR(ROUND($O13*R13/1000*_xlfn.XLOOKUP(AB$8,Verzekeraar,verz_aandeel),2),0) -> 0 | AC13: =IFERROR(ROUND($O13*S13/1000*_xlfn.XLOOKUP(AC$8,Verzekeraar,verz_aandeel),2),0) -> 0 | AD13: =IFERROR(ROUND($O13*T13/1000*_xlfn.XLOOKUP(AD$8,Verzekeraar,verz_aandeel),2),0) -> 0 | AE13: =IFERROR(ROUND($O13*U13/1000*_xlfn.XLOOKUP(AE$8,Verzekeraar,verz_aandeel),2),0) -> 0 | AF13: =IFERROR(ROUND($O13*V13/1000*_xlfn.XLOOKUP(AF$8,Verzekeraar,verz_aandeel),2),0) -> 0 | AG13: =IFERROR(ROUND($O13*W13/1000*_xlfn.XLOOKUP(AG$8,Verzekeraar,verz_aandeel),2),0) -> 0 | ... AI13: =IFERROR(ROUND($O13*Y13/1000*_xlfn.XLOOKUP(AI$8,Verzekeraar,verz_aandeel),2),0) -> 0 | AJ13: =SUM(Z13:AI13) -> 0 | AK13: {=_xlfn.IFS(AJ13=0,"Nihil",AJ13>0,"Suppletie",AJ13<0,"Restitutie")} -> Nihil
A14: =IFERROR(_xlfn.XLOOKUP(E14,Table3[Sub],Table3[Verzekerde]),"-") -> - | C14: =IFERROR(_xlfn.XLOOKUP(Table4[[#This Row],[Subnummer]],Table3[Sub],Table3[Certificaat]),"-") -> - | D14: =IFERROR(_xlfn.XLOOKUP(E14,Specificatie!C$9:C$291,Specificatie!Q$9:Q$291),"") | E14: 0 | F14: =IFERROR(_xlfn.XLOOKUP(Table4[[#This Row],[Subnummer]],Table3[Sub],Table3[Verz. Waarde Oud:])+SUMIFS(Table4[Som mutaties],Table4[Subnummer],Table4[[#This Row],[Subnummer]],Table4[Mutatiedatum],"<"&Table4[[#This Row],[Mutatiedatum]]),0) -> 0 | G14: 0 | H14: =Table4[[#This Row],[Nieuwe waarde]]-Table4[[#This Row],[Oude waarde]] -> 0 | I14: 46266 | J14: 46388 | K14: =Table4[[#This Row],[Vervaldatum]]-Table4[[#This Row],[Mutatiedatum]] -> 122 | L14: 366 | M14: Nee | N14: Pro rata | O14: {=IFERROR(_xlfn.IFS(Table4[[#This Row],[Berekeningswijze]]="Pro rata",Table4[[#This Row],[Som mutaties]]*Table4[[#This Row],[Dagen]]/Table4[[#This Row],[Dagen per jaar]],Table4[[#This Row],[Berekeningswijze]]=0.5,Table4[[#This Row],[Som mutaties]]*0.5,Table4[[#This Row],[Berekeningswijze]]="Geen verrekening",0),"")} -> 0 | P14: =IFERROR(_xlfn.XLOOKUP(Table4[[#This Row],[Subnummer]],Table3[Sub],#REF!),0) -> 0 | Q14: =IFERROR(_xlfn.XLOOKUP(Table4[[#This Row],[Subnummer]],Table3[Sub],#REF!),0) -> 0 | R14: =IFERROR(_xlfn.XLOOKUP(Table4[[#This Row],[Subnummer]],Table3[Sub],#REF!),0) -> 0 | S14: =IFERROR(_xlfn.XLOOKUP(Table4[[#This Row],[Subnummer]],Table3[Sub],#REF!),0) -> 0 | T14: =IFERROR(_xlfn.XLOOKUP(Table4[[#This Row],[Subnummer]],Table3[Sub],#REF!),0) -> 0 | U14: =IFERROR(_xlfn.XLOOKUP(Table4[[#This Row],[Subnummer]],Table3[Sub],#REF!),0) -> 0 | V14: =IFERROR(_xlfn.XLOOKUP(Table4[[#This Row],[Subnummer]],Table3[Sub],#REF!),0) -> 0 | W14: =IFERROR(_xlfn.XLOOKUP(Table4[[#This Row],[Subnummer]],Table3[Sub],#REF!),0) -> 0 | ... Y14: =IFERROR(_xlfn.XLOOKUP(Table4[[#This Row],[Subnummer]],Table3[Sub],#REF!),0) -> 0 | Z14: =IFERROR(ROUND($O14*P14/1000*_xlfn.XLOOKUP(Z$8,Verzekeraar,verz_aandeel),2),0) -> 0 | AA14: =IFERROR(ROUND($O14*Q14/1000*_xlfn.XLOOKUP(AA$8,Verzekeraar,verz_aandeel),2),0) -> 0 | AB14: =IFERROR(ROUND($O14*R14/1000*_xlfn.XLOOKUP(AB$8,Verzekeraar,verz_aandeel),2),0) -> 0 | AC14: =IFERROR(ROUND($O14*S14/1000*_xlfn.XLOOKUP(AC$8,Verzekeraar,verz_aandeel),2),0) -> 0 | AD14: =IFERROR(ROUND($O14*T14/1000*_xlfn.XLOOKUP(AD$8,Verzekeraar,verz_aandeel),2),0) -> 0 | AE14: =IFERROR(ROUND($O14*U14/1000*_xlfn.XLOOKUP(AE$8,Verzekeraar,verz_aandeel),2),0) -> 0 | AF14: =IFERROR(ROUND($O14*V14/1000*_xlfn.XLOOKUP(AF$8,Verzekeraar,verz_aandeel),2),0) -> 0 | AG14: =IFERROR(ROUND($O14*W14/1000*_xlfn.XLOOKUP(AG$8,Verzekeraar,verz_aandeel),2),0) -> 0 | ... AI14: =IFERROR(ROUND($O14*Y14/1000*_xlfn.XLOOKUP(AI$8,Verzekeraar,verz_aandeel),2),0) -> 0 | AJ14: =SUM(Z14:AI14) -> 0 | AK14: {=_xlfn.IFS(AJ14=0,"Nihil",AJ14>0,"Suppletie",AJ14<0,"Restitutie")} -> Nihil
A15: =IFERROR(_xlfn.XLOOKUP(E15,Table3[Sub],Table3[Verzekerde]),"-") -> - | C15: =IFERROR(_xlfn.XLOOKUP(Table4[[#This Row],[Subnummer]],Table3[Sub],Table3[Certificaat]),"-") -> - | D15: =IFERROR(_xlfn.XLOOKUP(E15,Specificatie!C$9:C$291,Specificatie!Q$9:Q$291),"") | E15: 0 | F15: =IFERROR(_xlfn.XLOOKUP(Table4[[#This Row],[Subnummer]],Table3[Sub],Table3[Verz. Waarde Oud:])+SUMIFS(Table4[Som mutaties],Table4[Subnummer],Table4[[#This Row],[Subnummer]],Table4[Mutatiedatum],"<"&Table4[[#This Row],[Mutatiedatum]]),0) -> 0 | G15: 0 | H15: =Table4[[#This Row],[Nieuwe waarde]]-Table4[[#This Row],[Oude waarde]] -> 0 | I15: 46266 | J15: 46388 | K15: =Table4[[#This Row],[Vervaldatum]]-Table4[[#This Row],[Mutatiedatum]] -> 122 | L15: 366 | M15: Nee | N15: Pro rata | O15: {=IFERROR(_xlfn.IFS(Table4[[#This Row],[Berekeningswijze]]="Pro rata",Table4[[#This Row],[Som mutaties]]*Table4[[#This Row],[Dagen]]/Table4[[#This Row],[Dagen per jaar]],Table4[[#This Row],[Berekeningswijze]]=0.5,Table4[[#This Row],[Som mutaties]]*0.5,Table4[[#This Row],[Berekeningswijze]]="Geen verrekening",0),"")} -> 0 | P15: =IFERROR(_xlfn.XLOOKUP(Table4[[#This Row],[Subnummer]],Table3[Sub],#REF!),0) -> 0 | Q15: =IFERROR(_xlfn.XLOOKUP(Table4[[#This Row],[Subnummer]],Table3[Sub],#REF!),0) -> 0 | R15: =IFERROR(_xlfn.XLOOKUP(Table4[[#This Row],[Subnummer]],Table3[Sub],#REF!),0) -> 0 | S15: =IFERROR(_xlfn.XLOOKUP(Table4[[#This Row],[Subnummer]],Table3[Sub],#REF!),0) -> 0 | T15: =IFERROR(_xlfn.XLOOKUP(Table4[[#This Row],[Subnummer]],Table3[Sub],#REF!),0) -> 0 | U15: =IFERROR(_xlfn.XLOOKUP(Table4[[#This Row],[Subnummer]],Table3[Sub],#REF!),0) -> 0 | V15: =IFERROR(_xlfn.XLOOKUP(Table4[[#This Row],[Subnummer]],Table3[Sub],#REF!),0) -> 0 | W15: =IFERROR(_xlfn.XLOOKUP(Table4[[#This Row],[Subnummer]],Table3[Sub],#REF!),0) -> 0 | ... Y15: =IFERROR(_xlfn.XLOOKUP(Table4[[#This Row],[Subnummer]],Table3[Sub],#REF!),0) -> 0 | Z15: =IFERROR(ROUND($O15*P15/1000*_xlfn.XLOOKUP(Z$8,Verzekeraar,verz_aandeel),2),0) -> 0 | AA15: =IFERROR(ROUND($O15*Q15/1000*_xlfn.XLOOKUP(AA$8,Verzekeraar,verz_aandeel),2),0) -> 0 | AB15: =IFERROR(ROUND($O15*R15/1000*_xlfn.XLOOKUP(AB$8,Verzekeraar,verz_aandeel),2),0) -> 0 | AC15: =IFERROR(ROUND($O15*S15/1000*_xlfn.XLOOKUP(AC$8,Verzekeraar,verz_aandeel),2),0) -> 0 | AD15: =IFERROR(ROUND($O15*T15/1000*_xlfn.XLOOKUP(AD$8,Verzekeraar,verz_aandeel),2),0) -> 0 | AE15: =IFERROR(ROUND($O15*U15/1000*_xlfn.XLOOKUP(AE$8,Verzekeraar,verz_aandeel),2),0) -> 0 | AF15: =IFERROR(ROUND($O15*V15/1000*_xlfn.XLOOKUP(AF$8,Verzekeraar,verz_aandeel),2),0) -> 0 | AG15: =IFERROR(ROUND($O15*W15/1000*_xlfn.XLOOKUP(AG$8,Verzekeraar,verz_aandeel),2),0) -> 0 | ... AI15: =IFERROR(ROUND($O15*Y15/1000*_xlfn.XLOOKUP(AI$8,Verzekeraar,verz_aandeel),2),0) -> 0 | AJ15: =SUM(Z15:AI15) -> 0 | AK15: {=_xlfn.IFS(AJ15=0,"Nihil",AJ15>0,"Suppletie",AJ15<0,"Restitutie")} -> Nihil
A16: =IFERROR(_xlfn.XLOOKUP(E16,Table3[Sub],Table3[Verzekerde]),"-") -> - | C16: =IFERROR(_xlfn.XLOOKUP(Table4[[#This Row],[Subnummer]],Table3[Sub],Table3[Certificaat]),"-") -> - | D16: =IFERROR(_xlfn.XLOOKUP(E16,Specificatie!C$9:C$291,Specificatie!Q$9:Q$291),"") | E16: 0 | F16: =IFERROR(_xlfn.XLOOKUP(Table4[[#This Row],[Subnummer]],Table3[Sub],Table3[Verz. Waarde Oud:])+SUMIFS(Table4[Som mutaties],Table4[Subnummer],Table4[[#This Row],[Subnummer]],Table4[Mutatiedatum],"<"&Table4[[#This Row],[Mutatiedatum]]),0) -> 0 | G16: 0 | H16: =Table4[[#This Row],[Nieuwe waarde]]-Table4[[#This Row],[Oude waarde]] -> 0 | I16: 46266 | J16: 46388 | K16: =Table4[[#This Row],[Vervaldatum]]-Table4[[#This Row],[Mutatiedatum]] -> 122 | L16: 366 | M16: Nee | N16: Pro rata | O16: {=IFERROR(_xlfn.IFS(Table4[[#This Row],[Berekeningswijze]]="Pro rata",Table4[[#This Row],[Som mutaties]]*Table4[[#This Row],[Dagen]]/Table4[[#This Row],[Dagen per jaar]],Table4[[#This Row],[Berekeningswijze]]=0.5,Table4[[#This Row],[Som mutaties]]*0.5,Table4[[#This Row],[Berekeningswijze]]="Geen verrekening",0),"")} -> 0 | P16: =IFERROR(_xlfn.XLOOKUP(Table4[[#This Row],[Subnummer]],Table3[Sub],#REF!),0) -> 0 | Q16: =IFERROR(_xlfn.XLOOKUP(Table4[[#This Row],[Subnummer]],Table3[Sub],#REF!),0) -> 0 | R16: =IFERROR(_xlfn.XLOOKUP(Table4[[#This Row],[Subnummer]],Table3[Sub],#REF!),0) -> 0 | S16: =IFERROR(_xlfn.XLOOKUP(Table4[[#This Row],[Subnummer]],Table3[Sub],#REF!),0) -> 0 | T16: =IFERROR(_xlfn.XLOOKUP(Table4[[#This Row],[Subnummer]],Table3[Sub],#REF!),0) -> 0 | U16: =IFERROR(_xlfn.XLOOKUP(Table4[[#This Row],[Subnummer]],Table3[Sub],#REF!),0) -> 0 | V16: =IFERROR(_xlfn.XLOOKUP(Table4[[#This Row],[Subnummer]],Table3[Sub],#REF!),0) -> 0 | W16: =IFERROR(_xlfn.XLOOKUP(Table4[[#This Row],[Subnummer]],Table3[Sub],#REF!),0) -> 0 | ... Y16: =IFERROR(_xlfn.XLOOKUP(Table4[[#This Row],[Subnummer]],Table3[Sub],#REF!),0) -> 0 | Z16: =IFERROR(ROUND($O16*P16/1000*_xlfn.XLOOKUP(Z$8,Verzekeraar,verz_aandeel),2),0) -> 0 | AA16: =IFERROR(ROUND($O16*Q16/1000*_xlfn.XLOOKUP(AA$8,Verzekeraar,verz_aandeel),2),0) -> 0 | AB16: =IFERROR(ROUND($O16*R16/1000*_xlfn.XLOOKUP(AB$8,Verzekeraar,verz_aandeel),2),0) -> 0 | AC16: =IFERROR(ROUND($O16*S16/1000*_xlfn.XLOOKUP(AC$8,Verzekeraar,verz_aandeel),2),0) -> 0 | AD16: =IFERROR(ROUND($O16*T16/1000*_xlfn.XLOOKUP(AD$8,Verzekeraar,verz_aandeel),2),0) -> 0 | AE16: =IFERROR(ROUND($O16*U16/1000*_xlfn.XLOOKUP(AE$8,Verzekeraar,verz_aandeel),2),0) -> 0 | AF16: =IFERROR(ROUND($O16*V16/1000*_xlfn.XLOOKUP(AF$8,Verzekeraar,verz_aandeel),2),0) -> 0 | AG16: =IFERROR(ROUND($O16*W16/1000*_xlfn.XLOOKUP(AG$8,Verzekeraar,verz_aandeel),2),0) -> 0 | ... AI16: =IFERROR(ROUND($O16*Y16/1000*_xlfn.XLOOKUP(AI$8,Verzekeraar,verz_aandeel),2),0) -> 0 | AJ16: =SUM(Z16:AI16) -> 0 | AK16: {=_xlfn.IFS(AJ16=0,"Nihil",AJ16>0,"Suppletie",AJ16<0,"Restitutie")} -> Nihil
A17: =IFERROR(_xlfn.XLOOKUP(E17,Table3[Sub],Table3[Verzekerde]),"-") -> - | C17: =IFERROR(_xlfn.XLOOKUP(Table4[[#This Row],[Subnummer]],Table3[Sub],Table3[Certificaat]),"-") -> - | D17: =IFERROR(_xlfn.XLOOKUP(E17,Specificatie!C$9:C$291,Specificatie!Q$9:Q$291),"") | E17: 0 | F17: =IFERROR(_xlfn.XLOOKUP(Table4[[#This Row],[Subnummer]],Table3[Sub],Table3[Verz. Waarde Oud:])+SUMIFS(Table4[Som mutaties],Table4[Subnummer],Table4[[#This Row],[Subnummer]],Table4[Mutatiedatum],"<"&Table4[[#This Row],[Mutatiedatum]]),0) -> 0 | G17: 0 | H17: =Table4[[#This Row],[Nieuwe waarde]]-Table4[[#This Row],[Oude waarde]] -> 0 | I17: 46266 | J17: 46388 | K17: =Table4[[#This Row],[Vervaldatum]]-Table4[[#This Row],[Mutatiedatum]] -> 122 | L17: 366 | M17: Nee | N17: Pro rata | O17: {=IFERROR(_xlfn.IFS(Table4[[#This Row],[Berekeningswijze]]="Pro rata",Table4[[#This Row],[Som mutaties]]*Table4[[#This Row],[Dagen]]/Table4[[#This Row],[Dagen per jaar]],Table4[[#This Row],[Berekeningswijze]]=0.5,Table4[[#This Row],[Som mutaties]]*0.5,Table4[[#This Row],[Berekeningswijze]]="Geen verrekening",0),"")} -> 0 | P17: =IFERROR(_xlfn.XLOOKUP(Table4[[#This Row],[Subnummer]],Table3[Sub],#REF!),0) -> 0 | Q17: =IFERROR(_xlfn.XLOOKUP(Table4[[#This Row],[Subnummer]],Table3[Sub],#REF!),0) -> 0 | R17: =IFERROR(_xlfn.XLOOKUP(Table4[[#This Row],[Subnummer]],Table3[Sub],#REF!),0) -> 0 | S17: =IFERROR(_xlfn.XLOOKUP(Table4[[#This Row],[Subnummer]],Table3[Sub],#REF!),0) -> 0 | T17: =IFERROR(_xlfn.XLOOKUP(Table4[[#This Row],[Subnummer]],Table3[Sub],#REF!),0) -> 0 | U17: =IFERROR(_xlfn.XLOOKUP(Table4[[#This Row],[Subnummer]],Table3[Sub],#REF!),0) -> 0 | V17: =IFERROR(_xlfn.XLOOKUP(Table4[[#This Row],[Subnummer]],Table3[Sub],#REF!),0) -> 0 | W17: =IFERROR(_xlfn.XLOOKUP(Table4[[#This Row],[Subnummer]],Table3[Sub],#REF!),0) -> 0 | ... Y17: =IFERROR(_xlfn.XLOOKUP(Table4[[#This Row],[Subnummer]],Table3[Sub],#REF!),0) -> 0 | Z17: =IFERROR(ROUND($O17*P17/1000*_xlfn.XLOOKUP(Z$8,Verzekeraar,verz_aandeel),2),0) -> 0 | AA17: =IFERROR(ROUND($O17*Q17/1000*_xlfn.XLOOKUP(AA$8,Verzekeraar,verz_aandeel),2),0) -> 0 | AB17: =IFERROR(ROUND($O17*R17/1000*_xlfn.XLOOKUP(AB$8,Verzekeraar,verz_aandeel),2),0) -> 0 | AC17: =IFERROR(ROUND($O17*S17/1000*_xlfn.XLOOKUP(AC$8,Verzekeraar,verz_aandeel),2),0) -> 0 | AD17: =IFERROR(ROUND($O17*T17/1000*_xlfn.XLOOKUP(AD$8,Verzekeraar,verz_aandeel),2),0) -> 0 | AE17: =IFERROR(ROUND($O17*U17/1000*_xlfn.XLOOKUP(AE$8,Verzekeraar,verz_aandeel),2),0) -> 0 | AF17: =IFERROR(ROUND($O17*V17/1000*_xlfn.XLOOKUP(AF$8,Verzekeraar,verz_aandeel),2),0) -> 0 | AG17: =IFERROR(ROUND($O17*W17/1000*_xlfn.XLOOKUP(AG$8,Verzekeraar,verz_aandeel),2),0) -> 0 | ... AI17: =IFERROR(ROUND($O17*Y17/1000*_xlfn.XLOOKUP(AI$8,Verzekeraar,verz_aandeel),2),0) -> 0 | AJ17: =SUM(Z17:AI17) -> 0 | AK17: {=_xlfn.IFS(AJ17=0,"Nihil",AJ17>0,"Suppletie",AJ17<0,"Restitutie")} -> Nihil
A18: =IFERROR(_xlfn.XLOOKUP(E18,Table3[Sub],Table3[Verzekerde]),"-") -> - | C18: =IFERROR(_xlfn.XLOOKUP(Table4[[#This Row],[Subnummer]],Table3[Sub],Table3[Certificaat]),"-") -> - | D18: =IFERROR(_xlfn.XLOOKUP(E18,Specificatie!C$9:C$291,Specificatie!Q$9:Q$291),"") | E18: 0 | F18: =IFERROR(_xlfn.XLOOKUP(Table4[[#This Row],[Subnummer]],Table3[Sub],Table3[Verz. Waarde Oud:])+SUMIFS(Table4[Som mutaties],Table4[Subnummer],Table4[[#This Row],[Subnummer]],Table4[Mutatiedatum],"<"&Table4[[#This Row],[Mutatiedatum]]),0) -> 0 | G18: 0 | H18: =Table4[[#This Row],[Nieuwe waarde]]-Table4[[#This Row],[Oude waarde]] -> 0 | I18: 46266 | J18: 46388 | K18: =Table4[[#This Row],[Vervaldatum]]-Table4[[#This Row],[Mutatiedatum]] -> 122 | L18: 366 | M18: Nee | N18: Pro rata | O18: {=IFERROR(_xlfn.IFS(Table4[[#This Row],[Berekeningswijze]]="Pro rata",Table4[[#This Row],[Som mutaties]]*Table4[[#This Row],[Dagen]]/Table4[[#This Row],[Dagen per jaar]],Table4[[#This Row],[Berekeningswijze]]=0.5,Table4[[#This Row],[Som mutaties]]*0.5,Table4[[#This Row],[Berekeningswijze]]="Geen verrekening",0),"")} -> 0 | P18: =IFERROR(_xlfn.XLOOKUP(Table4[[#This Row],[Subnummer]],Table3[Sub],#REF!),0) -> 0 | Q18: =IFERROR(_xlfn.XLOOKUP(Table4[[#This Row],[Subnummer]],Table3[Sub],#REF!),0) -> 0 | R18: =IFERROR(_xlfn.XLOOKUP(Table4[[#This Row],[Subnummer]],Table3[Sub],#REF!),0) -> 0 | S18: =IFERROR(_xlfn.XLOOKUP(Table4[[#This Row],[Subnummer]],Table3[Sub],#REF!),0) -> 0 | T18: =IFERROR(_xlfn.XLOOKUP(Table4[[#This Row],[Subnummer]],Table3[Sub],#REF!),0) -> 0 | U18: =IFERROR(_xlfn.XLOOKUP(Table4[[#This Row],[Subnummer]],Table3[Sub],#REF!),0) -> 0 | V18: =IFERROR(_xlfn.XLOOKUP(Table4[[#This Row],[Subnummer]],Table3[Sub],#REF!),0) -> 0 | W18: =IFERROR(_xlfn.XLOOKUP(Table4[[#This Row],[Subnummer]],Table3[Sub],#REF!),0) -> 0 | ... Y18: =IFERROR(_xlfn.XLOOKUP(Table4[[#This Row],[Subnummer]],Table3[Sub],#REF!),0) -> 0 | Z18: =IFERROR(ROUND($O18*P18/1000*_xlfn.XLOOKUP(Z$8,Verzekeraar,verz_aandeel),2),0) -> 0 | AA18: =IFERROR(ROUND($O18*Q18/1000*_xlfn.XLOOKUP(AA$8,Verzekeraar,verz_aandeel),2),0) -> 0 | AB18: =IFERROR(ROUND($O18*R18/1000*_xlfn.XLOOKUP(AB$8,Verzekeraar,verz_aandeel),2),0) -> 0 | AC18: =IFERROR(ROUND($O18*S18/1000*_xlfn.XLOOKUP(AC$8,Verzekeraar,verz_aandeel),2),0) -> 0 | AD18: =IFERROR(ROUND($O18*T18/1000*_xlfn.XLOOKUP(AD$8,Verzekeraar,verz_aandeel),2),0) -> 0 | AE18: =IFERROR(ROUND($O18*U18/1000*_xlfn.XLOOKUP(AE$8,Verzekeraar,verz_aandeel),2),0) -> 0 | AF18: =IFERROR(ROUND($O18*V18/1000*_xlfn.XLOOKUP(AF$8,Verzekeraar,verz_aandeel),2),0) -> 0 | AG18: =IFERROR(ROUND($O18*W18/1000*_xlfn.XLOOKUP(AG$8,Verzekeraar,verz_aandeel),2),0) -> 0 | ... AI18: =IFERROR(ROUND($O18*Y18/1000*_xlfn.XLOOKUP(AI$8,Verzekeraar,verz_aandeel),2),0) -> 0 | AJ18: =SUM(Z18:AI18) -> 0 | AK18: {=_xlfn.IFS(AJ18=0,"Nihil",AJ18>0,"Suppletie",AJ18<0,"Restitutie")} -> Nihil
A19: =IFERROR(_xlfn.XLOOKUP(E19,Table3[Sub],Table3[Verzekerde]),"-") -> - | C19: =IFERROR(_xlfn.XLOOKUP(Table4[[#This Row],[Subnummer]],Table3[Sub],Table3[Certificaat]),"-") -> - | D19: =IFERROR(_xlfn.XLOOKUP(E19,Specificatie!C$9:C$291,Specificatie!Q$9:Q$291),"") | E19: 0 | F19: =IFERROR(_xlfn.XLOOKUP(Table4[[#This Row],[Subnummer]],Table3[Sub],Table3[Verz. Waarde Oud:])+SUMIFS(Table4[Som mutaties],Table4[Subnummer],Table4[[#This Row],[Subnummer]],Table4[Mutatiedatum],"<"&Table4[[#This Row],[Mutatiedatum]]),0) -> 0 | G19: 0 | H19: =Table4[[#This Row],[Nieuwe waarde]]-Table4[[#This Row],[Oude waarde]] -> 0 | I19: 46266 | J19: 46388 | K19: =Table4[[#This Row],[Vervaldatum]]-Table4[[#This Row],[Mutatiedatum]] -> 122 | L19: 366 | M19: Nee | N19: Pro rata | O19: {=IFERROR(_xlfn.IFS(Table4[[#This Row],[Berekeningswijze]]="Pro rata",Table4[[#This Row],[Som mutaties]]*Table4[[#This Row],[Dagen]]/Table4[[#This Row],[Dagen per jaar]],Table4[[#This Row],[Berekeningswijze]]=0.5,Table4[[#This Row],[Som mutaties]]*0.5,Table4[[#This Row],[Berekeningswijze]]="Geen verrekening",0),"")} -> 0 | P19: =IFERROR(_xlfn.XLOOKUP(Table4[[#This Row],[Subnummer]],Table3[Sub],#REF!),0) -> 0 | Q19: =IFERROR(_xlfn.XLOOKUP(Table4[[#This Row],[Subnummer]],Table3[Sub],#REF!),0) -> 0 | R19: =IFERROR(_xlfn.XLOOKUP(Table4[[#This Row],[Subnummer]],Table3[Sub],#REF!),0) -> 0 | S19: =IFERROR(_xlfn.XLOOKUP(Table4[[#This Row],[Subnummer]],Table3[Sub],#REF!),0) -> 0 | T19: =IFERROR(_xlfn.XLOOKUP(Table4[[#This Row],[Subnummer]],Table3[Sub],#REF!),0) -> 0 | U19: =IFERROR(_xlfn.XLOOKUP(Table4[[#This Row],[Subnummer]],Table3[Sub],#REF!),0) -> 0 | V19: =IFERROR(_xlfn.XLOOKUP(Table4[[#This Row],[Subnummer]],Table3[Sub],#REF!),0) -> 0 | W19: =IFERROR(_xlfn.XLOOKUP(Table4[[#This Row],[Subnummer]],Table3[Sub],#REF!),0) -> 0 | ... Y19: =IFERROR(_xlfn.XLOOKUP(Table4[[#This Row],[Subnummer]],Table3[Sub],#REF!),0) -> 0 | Z19: =IFERROR(ROUND($O19*P19/1000*_xlfn.XLOOKUP(Z$8,Verzekeraar,verz_aandeel),2),0) -> 0 | AA19: =IFERROR(ROUND($O19*Q19/1000*_xlfn.XLOOKUP(AA$8,Verzekeraar,verz_aandeel),2),0) -> 0 | AB19: =IFERROR(ROUND($O19*R19/1000*_xlfn.XLOOKUP(AB$8,Verzekeraar,verz_aandeel),2),0) -> 0 | AC19: =IFERROR(ROUND($O19*S19/1000*_xlfn.XLOOKUP(AC$8,Verzekeraar,verz_aandeel),2),0) -> 0 | AD19: =IFERROR(ROUND($O19*T19/1000*_xlfn.XLOOKUP(AD$8,Verzekeraar,verz_aandeel),2),0) -> 0 | AE19: =IFERROR(ROUND($O19*U19/1000*_xlfn.XLOOKUP(AE$8,Verzekeraar,verz_aandeel),2),0) -> 0 | AF19: =IFERROR(ROUND($O19*V19/1000*_xlfn.XLOOKUP(AF$8,Verzekeraar,verz_aandeel),2),0) -> 0 | AG19: =IFERROR(ROUND($O19*W19/1000*_xlfn.XLOOKUP(AG$8,Verzekeraar,verz_aandeel),2),0) -> 0 | ... AI19: =IFERROR(ROUND($O19*Y19/1000*_xlfn.XLOOKUP(AI$8,Verzekeraar,verz_aandeel),2),0) -> 0 | AJ19: =SUM(Z19:AI19) -> 0 | AK19: {=_xlfn.IFS(AJ19=0,"Nihil",AJ19>0,"Suppletie",AJ19<0,"Restitutie")} -> Nihil
A20: =IFERROR(_xlfn.XLOOKUP(E20,Table3[Sub],Table3[Verzekerde]),"-") -> - | C20: =IFERROR(_xlfn.XLOOKUP(Table4[[#This Row],[Subnummer]],Table3[Sub],Table3[Certificaat]),"-") -> - | D20: =IFERROR(_xlfn.XLOOKUP(E20,Specificatie!C$9:C$291,Specificatie!Q$9:Q$291),"") | E20: 0 | F20: =IFERROR(_xlfn.XLOOKUP(Table4[[#This Row],[Subnummer]],Table3[Sub],Table3[Verz. Waarde Oud:])+SUMIFS(Table4[Som mutaties],Table4[Subnummer],Table4[[#This Row],[Subnummer]],Table4[Mutatiedatum],"<"&Table4[[#This Row],[Mutatiedatum]]),0) -> 0 | G20: 0 | H20: =Table4[[#This Row],[Nieuwe waarde]]-Table4[[#This Row],[Oude waarde]] -> 0 | I20: 46266 | J20: 46388 | K20: =Table4[[#This Row],[Vervaldatum]]-Table4[[#This Row],[Mutatiedatum]] -> 122 | L20: 366 | M20: Nee | N20: Pro rata | O20: {=IFERROR(_xlfn.IFS(Table4[[#This Row],[Berekeningswijze]]="Pro rata",Table4[[#This Row],[Som mutaties]]*Table4[[#This Row],[Dagen]]/Table4[[#This Row],[Dagen per jaar]],Table4[[#This Row],[Berekeningswijze]]=0.5,Table4[[#This Row],[Som mutaties]]*0.5,Table4[[#This Row],[Berekeningswijze]]="Geen verrekening",0),"")} -> 0 | P20: =IFERROR(_xlfn.XLOOKUP(Table4[[#This Row],[Subnummer]],Table3[Sub],#REF!),0) -> 0 | Q20: =IFERROR(_xlfn.XLOOKUP(Table4[[#This Row],[Subnummer]],Table3[Sub],#REF!),0) -> 0 | R20: =IFERROR(_xlfn.XLOOKUP(Table4[[#This Row],[Subnummer]],Table3[Sub],#REF!),0) -> 0 | S20: =IFERROR(_xlfn.XLOOKUP(Table4[[#This Row],[Subnummer]],Table3[Sub],#REF!),0) -> 0 | T20: =IFERROR(_xlfn.XLOOKUP(Table4[[#This Row],[Subnummer]],Table3[Sub],#REF!),0) -> 0 | U20: =IFERROR(_xlfn.XLOOKUP(Table4[[#This Row],[Subnummer]],Table3[Sub],#REF!),0) -> 0 | V20: =IFERROR(_xlfn.XLOOKUP(Table4[[#This Row],[Subnummer]],Table3[Sub],#REF!),0) -> 0 | W20: =IFERROR(_xlfn.XLOOKUP(Table4[[#This Row],[Subnummer]],Table3[Sub],#REF!),0) -> 0 | ... Y20: =IFERROR(_xlfn.XLOOKUP(Table4[[#This Row],[Subnummer]],Table3[Sub],#REF!),0) -> 0 | Z20: =IFERROR(ROUND($O20*P20/1000*_xlfn.XLOOKUP(Z$8,Verzekeraar,verz_aandeel),2),0) -> 0 | AA20: =IFERROR(ROUND($O20*Q20/1000*_xlfn.XLOOKUP(AA$8,Verzekeraar,verz_aandeel),2),0) -> 0 | AB20: =IFERROR(ROUND($O20*R20/1000*_xlfn.XLOOKUP(AB$8,Verzekeraar,verz_aandeel),2),0) -> 0 | AC20: =IFERROR(ROUND($O20*S20/1000*_xlfn.XLOOKUP(AC$8,Verzekeraar,verz_aandeel),2),0) -> 0 | AD20: =IFERROR(ROUND($O20*T20/1000*_xlfn.XLOOKUP(AD$8,Verzekeraar,verz_aandeel),2),0) -> 0 | AE20: =IFERROR(ROUND($O20*U20/1000*_xlfn.XLOOKUP(AE$8,Verzekeraar,verz_aandeel),2),0) -> 0 | AF20: =IFERROR(ROUND($O20*V20/1000*_xlfn.XLOOKUP(AF$8,Verzekeraar,verz_aandeel),2),0) -> 0 | AG20: =IFERROR(ROUND($O20*W20/1000*_xlfn.XLOOKUP(AG$8,Verzekeraar,verz_aandeel),2),0) -> 0 | ... AI20: =IFERROR(ROUND($O20*Y20/1000*_xlfn.XLOOKUP(AI$8,Verzekeraar,verz_aandeel),2),0) -> 0 | AJ20: =SUM(Z20:AI20) -> 0 | AK20: {=_xlfn.IFS(AJ20=0,"Nihil",AJ20>0,"Suppletie",AJ20<0,"Restitutie")} -> Nihil
A21: =IFERROR(_xlfn.XLOOKUP(E21,Table3[Sub],Table3[Verzekerde]),"-") -> - | C21: =IFERROR(_xlfn.XLOOKUP(Table4[[#This Row],[Subnummer]],Table3[Sub],Table3[Certificaat]),"-") -> - | D21: =IFERROR(_xlfn.XLOOKUP(E21,Specificatie!C$9:C$291,Specificatie!Q$9:Q$291),"") | E21: 0 | F21: =IFERROR(_xlfn.XLOOKUP(Table4[[#This Row],[Subnummer]],Table3[Sub],Table3[Verz. Waarde Oud:])+SUMIFS(Table4[Som mutaties],Table4[Subnummer],Table4[[#This Row],[Subnummer]],Table4[Mutatiedatum],"<"&Table4[[#This Row],[Mutatiedatum]]),0) -> 0 | G21: 0 | H21: =Table4[[#This Row],[Nieuwe waarde]]-Table4[[#This Row],[Oude waarde]] -> 0 | I21: 46266 | J21: 46388 | K21: =Table4[[#This Row],[Vervaldatum]]-Table4[[#This Row],[Mutatiedatum]] -> 122 | L21: 366 | M21: Nee | N21: Pro rata | O21: {=IFERROR(_xlfn.IFS(Table4[[#This Row],[Berekeningswijze]]="Pro rata",Table4[[#This Row],[Som mutaties]]*Table4[[#This Row],[Dagen]]/Table4[[#This Row],[Dagen per jaar]],Table4[[#This Row],[Berekeningswijze]]=0.5,Table4[[#This Row],[Som mutaties]]*0.5,Table4[[#This Row],[Berekeningswijze]]="Geen verrekening",0),"")} -> 0 | P21: =IFERROR(_xlfn.XLOOKUP(Table4[[#This Row],[Subnummer]],Table3[Sub],#REF!),0) -> 0 | Q21: =IFERROR(_xlfn.XLOOKUP(Table4[[#This Row],[Subnummer]],Table3[Sub],#REF!),0) -> 0 | R21: =IFERROR(_xlfn.XLOOKUP(Table4[[#This Row],[Subnummer]],Table3[Sub],#REF!),0) -> 0 | S21: =IFERROR(_xlfn.XLOOKUP(Table4[[#This Row],[Subnummer]],Table3[Sub],#REF!),0) -> 0 | T21: =IFERROR(_xlfn.XLOOKUP(Table4[[#This Row],[Subnummer]],Table3[Sub],#REF!),0) -> 0 | U21: =IFERROR(_xlfn.XLOOKUP(Table4[[#This Row],[Subnummer]],Table3[Sub],#REF!),0) -> 0 | V21: =IFERROR(_xlfn.XLOOKUP(Table4[[#This Row],[Subnummer]],Table3[Sub],#REF!),0) -> 0 | W21: =IFERROR(_xlfn.XLOOKUP(Table4[[#This Row],[Subnummer]],Table3[Sub],#REF!),0) -> 0 | ... Y21: =IFERROR(_xlfn.XLOOKUP(Table4[[#This Row],[Subnummer]],Table3[Sub],#REF!),0) -> 0 | Z21: =IFERROR(ROUND($O21*P21/1000*_xlfn.XLOOKUP(Z$8,Verzekeraar,verz_aandeel),2),0) -> 0 | AA21: =IFERROR(ROUND($O21*Q21/1000*_xlfn.XLOOKUP(AA$8,Verzekeraar,verz_aandeel),2),0) -> 0 | AB21: =IFERROR(ROUND($O21*R21/1000*_xlfn.XLOOKUP(AB$8,Verzekeraar,verz_aandeel),2),0) -> 0 | AC21: =IFERROR(ROUND($O21*S21/1000*_xlfn.XLOOKUP(AC$8,Verzekeraar,verz_aandeel),2),0) -> 0 | AD21: =IFERROR(ROUND($O21*T21/1000*_xlfn.XLOOKUP(AD$8,Verzekeraar,verz_aandeel),2),0) -> 0 | AE21: =IFERROR(ROUND($O21*U21/1000*_xlfn.XLOOKUP(AE$8,Verzekeraar,verz_aandeel),2),0) -> 0 | AF21: =IFERROR(ROUND($O21*V21/1000*_xlfn.XLOOKUP(AF$8,Verzekeraar,verz_aandeel),2),0) -> 0 | AG21: =IFERROR(ROUND($O21*W21/1000*_xlfn.XLOOKUP(AG$8,Verzekeraar,verz_aandeel),2),0) -> 0 | ... AI21: =IFERROR(ROUND($O21*Y21/1000*_xlfn.XLOOKUP(AI$8,Verzekeraar,verz_aandeel),2),0) -> 0 | AJ21: =SUM(Z21:AI21) -> 0 | AK21: {=_xlfn.IFS(AJ21=0,"Nihil",AJ21>0,"Suppletie",AJ21<0,"Restitutie")} -> Nihil
