Workbook
Name _Toc233614100: 'Regie en afroep'!#REF!
Name _Toc256089721: 'Regie en afroep'!#REF!
Name arbeidsprestatie: Prestatiefactoren!#REF!
Name arbeidsprestatie: Prestatiefactoren!#REF!
Name freq: 'Opleverstaat dagelijks'!#REF!
Name freq: 'Opleverstaat dagelijks'!#REF!
Name OLE_LINK9: 'Regie en afroep'!#REF!
Name programma: #REF!
Name R_Code: Prestatiefactoren!#REF!
Name R_Code: Prestatiefactoren!#REF!
Name Vl_Code: Prestatiefactoren!#REF!
Name Vl_Code: Prestatiefactoren!#REF!
Name vloer: 'Opleverstaat dagelijks'!#REF!
Name vloer: 'Opleverstaat dagelijks'!#REF!
Name wk: 'Opleverstaat dagelijks'!#REF!
Name wk: 'Opleverstaat dagelijks'!#REF!

Sheet Overnamegegevens
B1: Geboorte- datum | C1: Datum in dienst | D1: Branche datum | E1: Soort contract | F1: Aantal uur op object per week | G1: > 1,5 jaar op object? | H1: Functie | I1: Functiecode | J1: Loongroep | K1: Basis-uurloon | L1: OT Dienstjaren | M1: VET toeslag | N1: Pers. Toeslag | O1: Reiskosten op basis van CAO | P1: Reiskosten boven CAO voor 31-12-2007 afgesproken | Q1: In het bezit van basisvak-diploma? Ja/Nee | R1: Locatie
A2: 1 | B2: niet aangeleverd | C2: 44562 | D2: 43710 | E2: Onbepaalde tijd | F2: niet aangeleverd | G2: Ja | H2: Mdw alg schoonmaakonderhoud I | I2: GR1 | J2: 4 | K2: 17.05 | L2: n.v.t. | M2: n.v.t. | N2: n.v.t. | O2: Ja | P2: n.v.t | Q2: Ja | R2: Novalis College
A3: 2 | B3: niet aangeleverd | C3: 44562 | D3: 44390 | E3: Onbepaalde tijd | F3: niet aangeleverd | G3: Ja | H3: Mdw alg schoonmaakonderhoud I | I3: GR1 | J3: 4 | K3: 17.05 | L3: n.v.t. | M3: n.v.t. | N3: n.v.t. | O3: Ja | P3: n.v.t | Q3: Ja | R3: Novalis College
A4: 3 | B4: niet aangeleverd | C4: 44562 | D4: 44454 | E4: Onbepaalde tijd | F4: niet aangeleverd | G4: Ja | H4: Mdw alg schoonmaakonderhoud I | I4: GR1 | J4: 4 | K4: 17.05 | L4: n.v.t. | M4: n.v.t. | N4: n.v.t. | O4: Ja | P4: n.v.t | Q4: Ja | R4: Novalis College

Sheet Opleverstaat dagelijks
A1: Opleverstaat schoonmaak
A2: Element | B2: Onderdeel | C2: Reinheidsniveau | D2: Acceptabel
D3: (dagelijks toegestane afwijking)
A4: Inventaris :
A5: Algemeen | C5: Alle inventarisonderdelen dienen vrij te zijn van: stickers, lijmresten en kauwgom.
A6: Alarmsensoren | B6: Geheel | C6: Stof-, vlek-, aanslag en streepvrij | D6: Geen zichtbare spinrag, geen stofvorming en kleine zichtbare vlekken max. 3 stuks
A7: Aanrechtblad | B7: Geheel buitenzijde | C7: Stof-, vlek-, aanslag en streepvrij | D7: Lichte stofvorming, enkele vingertasten en zichtbare vlekken max. 1 tot 3 st.
A8: Audiovisuele middelen | B8: Geheel buitenzijde | C8: Stof-, vlek-, aanslag en streepvrij | D8: Lichte stofvorming bovenzijde
A9: Afvalbak/prullenbak | B9: Inhoud, plastic zak | C9: Inhoud geleegd, schone plastic zak aanwezig. Afwezigheid van fruitvliegjes | D9: Lichte stofvorming, enkele vinger tasten of kleine zichtbare vlekken max 3 tot 7 st.
A10: Afvalbak/prullenbak | B10: Geheel | C10: Stof-, vlek-, aanslag en streepvrij. Afwezigheid van fruitvliegjes. | D10: Lichte stofvorming, enkele vinger tasten of kleine zichtbare vlekken max 3 tot 7 st.
A11: Afval | B11: Geheel | C11: Afgevoerd naar containers
A12: Balie | B12: Geheel buitenzijde | C12: Stof-, vlek-, aanslag en streepvrij | D12: Enkele vinger tasten of kleine zichtbare vlekken max 1 tot 3 st.
A13: Brandblusapparatuur | B13: Geheel buitenzijde | C13: Stof-, vlek-, aanslag en streepvrij | D13: Lichte stofvorming
A14: Bureau/Tafel/Incl. onderlegger | B14: Geheel buitenzijde | C14: Stof-, vlek-, aanslag en streepvrij | D14: Enkele vinger tasten of kleine zichtbare vlekken, max. 3 tot 7 st.
A15: Bureaulamp | B15: Geheel buitenzijde | C15: Stof-, vlek-, aanslag en streepvrij | D15: Enkele vinger tasten of kleine zichtbare vlekken, max. 3 tot 7 st., lichte stofvorming op voetlamp
A16: Kapstok/Garderoberek | B16: Geheel | C16: Stof-, vlek-, aanslag en streepvrij | D16: Lichte stofvorming, enkele vinger tasten en zichtbare vlekken max. 1 tot 3 st.
A17: Kast hoog | B17: Geheel buitenzijde | C17: Stof-, vlek-, aanslag en streepvrij | D17: Lichte stofvorming bovenzijde, enkele vinger tasten of kleine zichtbare vlekken max 3 tot 7 st.
A18: Kast laag/Ladenblok | B18: Geheel buitenzijde | C18: Stof-, vlek-, aanslag en streepvrij | D18: Enkele vinger tasten of kleine zichtbare vlekken, max. 3 tot 7 st
A19: Lampen | B19: Geheel | C19: Stof-, vlek-, aanslag en streepvrij | D19: Enkele vinger tasten of kleine zichtbare vlekken, max. 3 tot 7 st., lichte stofvorming op voetlamp
A20: Locker | B20: Geheel buitenzijde | C20: Stof-, vlek-, aanslag en streepvrij | D20: Enkele vinger tasten of kleine zichtbare vlekken, max. 3 tot 7 st
A21: Papierbak | B21: Inhoud | C21: Inhoud geleegd, stof en vlekvrij
A22: Papierbak | B22: Geheel | C22: Stof-, vlek-, aanslag en streepvrij | D22: Lichte stofvorming bovenzijde, enkele vinger tasten of kleine zichtbare vlekken max 3 tot 7 st.
A23: PC, incl. toebehoren | B23: Geheel buitenzijde | C23: Stof-, vlek-, aanslag en streepvrij | D23: Lichte stofvorming bovenzijde, enkele vinger tasten en kleine zichtbare vlekken max. 1 tot 3 st.
A24: Plantenbak | B24: Geheel buitenzijde | C24: Stof-, vlek-, aanslag en streepvrij | D24: Enkele vinger tasten of kleine zichtbare vlekken max. 3 tot 7 st., enkele schopstrepen max. 3 tot 7 st.
A25: Plinten/kabelgoten | B25: Geheel buitenzijde | C25: Stof-, vlek-, aanslag en streepvrij | D25: Lichte stofvorming bovenzijde, enkele vinger tasten of zichtbare vlekken max 7 tot 10 st., enkele schopstrepen max. 3 tot 7 st
A26: Printer/copier | B26: Geheel buitenzijde | C26: Stof-, vlek-, aanslag en streepvrij | D26: Lichte stofvorming bovenzijde, enkele vinger tasten en kleine zichtbare vlekken max. 1 tot 3 st.
A27: Stoel/bank/kruk | B27: Geheel | C27: Stof-, vlek-, aanslag en streepvrij | D27: Licht stofvorming in naden, enkele vinger tasten of kleine zichtbare vlekken max. 3 tot 7 st. op achterzijde leuning
A28: Telefoon | B28: Geheel | C28: Stof-, vlek-, aanslag en streepvrij | D28: Lichte stofvorming bovenzijde, enkele vinger tasten of kleine zichtbare vlekken max 3 tot 7 st.
A29: Vitrinekast | B29: Geheel buitenzijde | C29: Stof-, vlek-, aanslag en streepvrij | D29: Lichte stofvorming bovenzijde, enkele vinger tasten of kleine zichtbare vlekken max 3 tot 7 st.
A30: Whiteboard/Schoolbord/Krijtrichel | B30: Geheel | C30: Stof-, vlek-, aanslag en streepvrij | D30: Lichte stofvorming bovenzijde, enkele vinger tasten of kleine zichtbare vlekken max 3 tot 7 st.
A31: Element | B31: Onderdeel | C31: Reinheidsniveau | D31: Acceptabel
D32: (dagelijks toegestane afwijking)
A33: Bouwdelen :
A34: Algemeen | C34: Alle bouwdelen dienen vrij te zijn van: stickers, lijmresten en kauwgom.
A35: Deur/deurglas | B35: Geheel | C35: Stof-, vlek-, aanslag en streepvrij | D35: Enkele vinger tasten of kleine zichtbare vlekken max. 7 tot 10 stuks, enkele schopstrepen max. 1 tot 3 st.
A36: Separatieglas | B36: Geheel | C36: Stof-, vlek-, aanslag en streepvrij | D36: Enkele vinger tasten of kleine zichtbare vlekken max. 3 tot 7 st.
A37: Kabelgoot | B37: Geheel buitenzijde | C37: Stof-, vlek-, aanslag en streepvrij | D37: Lichte stofvorming bovenzijde, enkele vinger tasten of zichtbare vlekken max 7 tot 10 st., enkele schopstrepen max. 3 tot 7 st.
A38: Kapstok/Garderoberek | B38: Geheel | C38: Stof-, vlek-, aanslag en streepvrij | D38: Lichte stofvorming, enkele vinger tasten en zichtbare vlekken max. 1 tot 3 st.
A39: Lift | B39: Geheel | C39: Stof-, vlek-, aanslag en streepvrij | D39: Enkele vinger tasten of kleine zichtbare vlekken max. 7 tot 10 stuks, enkele schopstrepen max. 1 tot 3 st.
A40: Lichtknop/contact/ | B40: Geheel | C40: Stof-, vlek-, aanslag en streepvrij | D40: Lichte stofvorming bovenzijde, enkele vinger tasten of kleine zichtbare vlekken max 1 tot 3 st.
A41: Plafond | B41: Geheel | C41: Stof-, vlek-, aanslag en streepvrij | D41: Geen zichtbare spinrag, lichte stofvorming en kleine zichtbare vlekken max. 3 stuks
A42: Plafond rooster | B42: Geheel buitenzijde | C42: Stof-, vlek-, aanslag en streepvrij | D42: Lichte stofvorming
A43: Radiator/convectorkast/paneel | B43: Geheel buitenzijde | C43: Stof-, vlek-, aanslag en streepvrij | D43: Lichte stofvorming bovenzijde, enkele vinger tasten of kleine zichtbare vlekken max 3 tot 7 st.
A44: Randen | B44: Geheel | C44: Stof-, vlek-, aanslag en streepvrij | D44: Enkele vinger tasten of kleine zichtbare vlekken max. 1 tot 3 st., enkele schopstrepen max. 1 tot 3 st
A45: Richels | B45: Geheel | C45: Stof-, vlek-, aanslag en streepvrij | D45: Lichte stofvorming, enkele vinger tasten of kleine zichtbare vlekken max. 3 tot 7 st., enkele schopstrepen max. 3 tot 7 st.
A46: Trapleuning / balustrade | B46: Geheel | C46: Stof-, vlek-, aanslag en streepvrij | D46: Lichte stofvorming bovenzijde, enkele vinger tasten of kleine zichtbare vlekken max 1 tot 3 st
... A52: Element | B52: Onderdeel | C52: Reinheidsniveau | D52: Acceptabel
D53: (dagelijks toegestane afwijking)
A54: Sanitaire elementen:
A55: Algemeen | C55: Alle sanitaire elementen dienen vrij te zijn van: stickers, lijmresten, kauwgom, zeepresten en huidvetten.
A56: Aut. handdoek/zeep/lucht | B56: Geheel | C56: Stof-, vlek-, aanslag en streepvrij en bijgevuld | D56: Lichte stofvorming bovenzijde, enkele vinger tasten of zichtbare vlekken max. 3 tot 7 st.
A57: Borstel- en borstelhouder | B57: Geheel | C57: Stof-, vlek-, aanslag en streepvrij | D57: Lichte stofvorming bovenzijde, enkele vinger tasten of zichtbare vlekken max. 7 tot 10 st
A58: Doorspoelinstallatie | B58: Geheel | C58: Stof-, vlek-, aanslag en streepvrij | D58: Enkele vinger tasten of zichtbare vlekken max. 1 tot 3 st.
A59: Doorspoelinstallatie | B59: Geheel | C59: Kalkvrij
A60: Handgreep/steun | B60: Geheel | C60: Stof-, vlek-, aanslag en streepvrij | D60: Enkele vinger tasten of zichtbare vlekken max. 1 tot 3 st.
A61: Hygienebox | B61: Geheel | C61: Stof-, vlek-, aanslag en streepvrij | D61: Lichte stofvorming bovenzijde, enkele vinger tasten of kleine zichtbare vlekken max 3 tot 7 st.
A62: Schaam-tussenschot | B62: Geheel | C62: Stof-, vlek-, aanslag en streepvrij | D62: Enkele vinger tasten of zichtbare vlekken max. 1 tot 3 st.
A63: Schaam-tussenschot | B63: Geheel | C63: Kalkvrij
A64: Spiegel | B64: Geheel | C64: Stof-, vlek-, aanslag en streepvrij | D64: Enkele vinger tasten of kleine zichtbare vlekken, max. 1 tot 3 st. Enkele waterdruppels toegestaan.
A65: Spiegel | B65: Geheel | C65: Kalkvrij
A66: Toiletpot-bril/Urinoir/Doorspoelinst. | B66: Geheel | C66: Stof-, vlek-, aanslag en streepvrij | D66: Enkele zichtbare vlekken max. 3 tot 7 st.
A67: Toiletpot-bril/Urinoir/Doorspoelinst. | B67: Geheel | C67: Kalkvrij
A68: Toiletrolhouder | B68: Geheel | C68: Stof-, vlek-, aanslag en streepvrij | D68: Lichte stofvorming bovenzijde, enkele vinger tasten of zichtbare vlekken max. 7 tot 10 st.
A69: Wand sanitair/Planchet | B69: Geheel | C69: Stof-, vlek-, aanslag en streepvrij | D69: Enkele vinger tasten of kleine zichtbare vlekken max. 3 tot 7 st., enkele schopstrepen max. 3 tot 7 st.
A70: Wand sanitair/Planchet | B70: Geheel | C70: Kalkvrij
A71: Wastafel | B71: Geheel | C71: Stof-, vlek-, aanslag en streepvrij. Geen zeepresten | D71: Enkele vinger tasten of kleine zichtbare vlekken max. 3 tot 7 st.
A72: Wastafel | B72: Geheel | C72: Kalkvrij
A73: Element | B73: Onderdeel | C73: Reinheidsniveau | D73: Acceptabel
D74: (dagelijks toegestane afwijking)
A75: Vloer :
A76: Algemeen | C76: Alle vloeren dienen vrij te zijn van stickers, lijmresten en kauwgom
A77: Harde vloeren (steen / pvc)
A78: Bureaukamers | B78: Geheel | C78: Grofvuil-, stof-, vlek-, aanslag en streepvrij. Geen schopstrepen | D78: Geen losliggend en/of zichtbaar vuil en enkele zichtbare vlekken max 8 st
A79: Leslokalen | B79: Geheel | C79: Grofvuil-, stof-, vlek-, aanslag en streepvrij. Geen schopstrepen | D79: Geen losliggend en/of zichtbaar vuil en enkele zichtbare vlekken max 8 st
A80: Verkeersruimte | B80: Geheel | C80: Grofvuil-, stof-, vlek-, aanslag en streepvrij. Geen schopstrepen | D80: Geen losliggend en/of zichtbaar vuil en enkele zichtbare vlekken max 10 st.
A81: Sanitaire ruimten | B81: Geheel | C81: Grofvuil-, stof-, vlek-, aanslag en streepvrij. Geen schopstrepen | D81: Geen losliggend en/of zichtbaar vuil en enkele zichtbare vlekken max 1 st.
A82: Sport ruimten | B82: Geheel | C82: Grofvuil-, stof-, vlek-, aanslag en streepvrij. Geen schopstrepen | D82: Geen losliggend en/of zichtbaar vuil en enkele zichtbare vlekken max 1 st.
A83: Linoleum
A84: Bureaukamers | B84: Geheel | C84: Grofvuil-, stof-, vlek-, aanslag en streepvrij. Geen schopstrepen | D84: Geen losliggend en/of zichtbaar vuil en enkele zichtbare vlekken max 8 st
A85: Leslokalen | B85: Geheel | C85: Grofvuil-, stof-, vlek-, aanslag en streepvrij. Geen schopstrepen | D85: Geen losliggend en/of zichtbaar vuil en enkele zichtbare vlekken max 8 st
A86: Verkeersruimte | B86: Geheel | C86: Grofvuil-, stof-, vlek-, aanslag en streepvrij. Geen schopstrepen | D86: Geen losliggend en/of zichtbaar vuil en enkele zichtbare vlekken max 10 st.
A87: Sanitaire ruimten | B87: Geheel | C87: Grofvuil-, stof-, vlek-, aanslag en streepvrij. Geen schopstrepen | D87: Geen losliggend en/of zichtbaar vuil en enkele zichtbare vlekken max 1 st.
A88: Sport ruimten | B88: Geheel | C88: Grofvuil-, stof-, vlek-, aanslag en streepvrij. Geen schopstrepen | D88: Geen losliggend en/of zichtbaar vuil en enkele zichtbare vlekken max 1 st.
A89: Tapijt
A90: Bureaukamers | B90: Geheel | C90: Grofvuil-, stof-, vlekvrij | D90: Geen losliggend en/of zichtbaar vuil en enkele zichtbare vlekken max 8 st
A91: Leslokalen | B91: Geheel | C91: Grofvuil-, stof-, vlekvrij | D91: Geen losliggend en/of zichtbaar vuil en enkele zichtbare vlekken max 8 st
A92: Verkeersruimte | B92: Geheel | C92: Grofvuil-, stof-, vlekvrij | D92: Geen losliggend en/of zichtbaar vuil en enkele zichtbare vlekken max 10 st.

Sheet Werkprogramma periodiek
A1: Opleverstaat schoonmaak periodiek (tijdens vakanties uitvoeren) 2 x per jaar
A2: Element | B2: Onderdeel | C2: Handeling
A3: Inventaris :
A4: Aanrechtblad | B4: Geheel buitenzijde | C4: vochtig afnemen
A5: Afvalbak/prullenbak | B5: Geheel buitenzijde | C5: vochtig afnemen
A6: Balie | B6: Geheel buitenzijde | C6: vochtig afnemen
A7: Brandblusapparatuur | B7: Geheel buitenzijde | C7: vochtig afnemen
A8: Bureau/Tafel/Incl. onderlegger | B8: Geheel buitenzijde | C8: vochtig afnemen
A9: Bureaulamp | B9: Geheel buitenzijde | C9: vochtig afnemen
A10: Kapstok/Garderoberek | B10: Geheel | C10: vochtig afnemen
A11: Kast hoog | B11: Geheel buitenzijde | C11: vochtig afnemen
A12: Kast laag/Ladenblok | B12: Geheel buitenzijde | C12: vochtig afnemen
A13: Lampen | B13: Geheel | C13: vochtig afnemen
A14: Locker | B14: Geheel buitenzijde | C14: vochtig afnemen
A15: Papierbak | B15: Geheel buitenzijde | C15: vochtig afnemen
... A28: Verlichtingsarmatuur en buizen > 2.00 m | B28: Geheel buitenzijde | C28: vochtig afnemen
A29: Sanitaire elementen:
A30: Doorspoelinstallatie | B30: Geheel | C30: vochtig afnemen
A31: Handgreep/steun | B31: Geheel | C31: vochtig afnemen
A32: Schaam-tussenschot | B32: Geheel | C32: vochtig afnemen
A33: Spiegel | B33: Geheel | C33: vochtig afnemen
A34: Toiletpot-bril/Urinoir/Doorspoelinst. | B34: Geheel | C34: vochtig afnemen
A35: Toiletrolhouder | B35: Geheel | C35: vochtig afnemen
A36: Toiletborstel/-houder | B36: Geheel | C36: vochtig afnemen
A37: Wand sanitair/Planchet | B37: Geheel | C37: vochtig afnemen
A38: Wastafel | B38: Geheel | C38: vochtig afnemen
A39: Sanitaire ruimte | B39: Geheel | C39: Diepreiniging volgens programma
A40: Vloer :
A41: Harde vloeren (steen / pvc) | B41: Geheel | C41: periodiek vloeronderhoud conform afspraak
A42: Linoleum | B42: Geheel | C42: periodiek vloeronderhoud conform afspraak
A43: Tapijt | B43: Geheel | C43: periodiek vloeronderhoud conform afspraak

Sheet Werkprogramma dieptereiniging
A1: Handelingen dieptereiniging 2 x per jaar
A3: Toiletpot
A4: verwijderen van vervuiling in spoelranden, afvoersluitingen en restant van de binnenzijde van het toilet
A5: reinigen van het toilet aan de buitenzijde | B5: reinigen van het toilet aan de buitenzijde | C5: reinigen van het toilet aan de buitenzijde
A6: bevestiging en aansluiting op het afvoersysteem controleren; waar nodig vernieuwen van pluggen en schroeven en afdichten van onregelmatige aansluiting op de afvoer | B6: bevestiging en aansluiting op het afvoersysteem controleren; waar nodig vernieuwen van pluggen en schroeven en afdichten van onregelmatige aansluiting op de afvoer | C6: bevestiging en aansluiting op het afvoersysteem controleren; waar nodig vernieuwen van pluggen en schroeven en afdichten van onregelmatige aansluiting op de afvoer
A7: de toiletbril ontdoen van aanslag, demonteren van een bril met brugstuk (teneinde het vuil eronder te verwijderen) en weer monteren | B7: de toiletbril ontdoen van aanslag, demonteren van een bril met brugstuk (teneinde het vuil eronder te verwijderen) en weer monteren | C7: de toiletbril ontdoen van aanslag, demonteren van een bril met brugstuk (teneinde het vuil eronder te verwijderen) en weer monteren
A8: binnen- en buitenzijde van de stortbak ontdoen van aanslag en vuil (gietijzer alleen buitenzijde) | B8: binnen- en buitenzijde van de stortbak ontdoen van aanslag en vuil (gietijzer alleen buitenzijde) | C8: binnen- en buitenzijde van de stortbak ontdoen van aanslag en vuil (gietijzer alleen buitenzijde)
A9: stortbak controleren op het functioneren van het mechanisme, het waterniveau en de bevestiging ervan | B9: stortbak controleren op het functioneren van het mechanisme, het waterniveau en de bevestiging ervan | C9: stortbak controleren op het functioneren van het mechanisme, het waterniveau en de bevestiging ervan
A10: stopkraan van de stortbak ontkalken en controleren op goede werking | B10: stopkraan van de stortbak ontkalken en controleren op goede werking | C10: stopkraan van de stortbak ontkalken en controleren op goede werking
A11: valpijp ontdoen van aanslag en controleren op losse of defecte bevestigingsbeugels en op de aansluiting van het toilet | B11: valpijp ontdoen van aanslag en controleren op losse of defecte bevestigingsbeugels en op de aansluiting van het toilet | C11: valpijp ontdoen van aanslag en controleren op losse of defecte bevestigingsbeugels en op de aansluiting van het toilet
A12: bij een inbouwstortbak de voorplaat reinigen, het waterniveau controleren en eventueel opnieuw afstellen | B12: bij een inbouwstortbak de voorplaat reinigen, het waterniveau controleren en eventueel opnieuw afstellen | C12: bij een inbouwstortbak de voorplaat reinigen, het waterniveau controleren en eventueel opnieuw afstellen
A13: de drukspoeler controleren op goede werking en ontdoen van aanslag op de buitenzijde | B13: de drukspoeler controleren op goede werking en ontdoen van aanslag op de buitenzijde | C13: de drukspoeler controleren op goede werking en ontdoen van aanslag op de buitenzijde
A14: spoelpijp ontdoen van aanslag en controleren op losse of defecte bevestigingsbeugels op de aansluiting van de pot en op lekkage | B14: spoelpijp ontdoen van aanslag en controleren op losse of defecte bevestigingsbeugels op de aansluiting van de pot en op lekkage | C14: spoelpijp ontdoen van aanslag en controleren op losse of defecte bevestigingsbeugels op de aansluiting van de pot en op lekkage
A16: Urinoir
A17: verwijderen van organische en anorganische vervuiling in spoelranden en afvoeraansluitingen en restant van de binnenzijde van de pot | B17: verwijderen van organische en anorganische vervuiling in spoelranden en afvoeraansluitingen en restant van de binnenzijde van de pot | C17: verwijderen van organische en anorganische vervuiling in spoelranden en afvoeraansluitingen en restant van de binnenzijde van de pot
A18: reinigen van de buitenzijde van het urinoir | B18: reinigen van de buitenzijde van het urinoir | C18: reinigen van de buitenzijde van het urinoir
A19: bevestiging en aansluiting op het afvoersysteem controleren en afdichten van onregelmatige aansluiting op de afvoer | B19: bevestiging en aansluiting op het afvoersysteem controleren en afdichten van onregelmatige aansluiting op de afvoer | C19: bevestiging en aansluiting op het afvoersysteem controleren en afdichten van onregelmatige aansluiting op de afvoer
A20: de drukspoeler controleren op goede werking en ontdoen van aanslag op de buitenzijde | B20: de drukspoeler controleren op goede werking en ontdoen van aanslag op de buitenzijde | C20: de drukspoeler controleren op goede werking en ontdoen van aanslag op de buitenzijde
A21: bij wandurinoirs controleren op bevestigingen en afsluitingen op vloerpijp en afvoer | B21: bij wandurinoirs controleren op bevestigingen en afsluitingen op vloerpijp en afvoer | C21: bij wandurinoirs controleren op bevestigingen en afsluitingen op vloerpijp en afvoer
A22: verwijderen van vervuiling van schaamschotten | B22: verwijderen van vervuiling van schaamschotten | C22: verwijderen van vervuiling van schaamschotten
A23: schaamschotten controleren op bevestiging | B23: schaamschotten controleren op bevestiging | C23: schaamschotten controleren op bevestiging
A25: Wastafel
A26: verwijderen van organische en anorganische vervuiling op de binnen- en buitenzijde | B26: verwijderen van organische en anorganische vervuiling op de binnen- en buitenzijde | C26: verwijderen van organische en anorganische vervuiling op de binnen- en buitenzijde
A27: kranen ontkalken en controleren op functioneren en eventuele rubbers vervangen | B27: kranen ontkalken en controleren op functioneren en eventuele rubbers vervangen | C27: kranen ontkalken en controleren op functioneren en eventuele rubbers vervangen
A28: perlators demonteren en ontkalken en eventueel vervangen | B28: perlators demonteren en ontkalken en eventueel vervangen | C28: perlators demonteren en ontkalken en eventueel vervangen
A29: sifon in- en uitwendig reinigen, zonodig nieuwe pakkingring aanbrengen | B29: sifon in- en uitwendig reinigen, zonodig nieuwe pakkingring aanbrengen | C29: sifon in- en uitwendig reinigen, zonodig nieuwe pakkingring aanbrengen
A30: spiegels reinigen | B30: spiegels reinigen | C30: spiegels reinigen
A32: Algemeen
A33: Volledig (diep)reinigen van de deur (beide zijden), (tegel-)wanden, vloeren en putjes (in- en uitwendig) | B33: reinigen van de deur (beide zijden), tegelwanden en vloeren | C33: reinigen van de deur (beide zijden), tegelwanden en vloeren
A34: De gehele vloer en alle wanden reinigen met stoomreiniging bv fantomat

Sheet Tariefsopbouw
A1: Tariefsopbouw
A2: Alle groen gearceerde velden dienen ingevuld te worden, overige cellen mogen niet gewijzigd worden | G2: Indexatie
H3: 2028 | J3: 2029 | L3: 2030 | N3: 2031 | P3: 2032
A4: Loon: | C4: Gemiddeld brutoloon | D4: % van de prod. uren | E4: € | G4: Soort indexatie | H4: Percentage | I4: Tarief excl btw | J4: Percentage | K4: Tarief excl btw | L4: Percentage | M4: Tarief excl btw | N4: Percentage | O4: Tarief excl btw | P4: Percentage | Q4: Tarief excl btw
A5: Over te nemen personeel | C5: 0 | D5: 0 | E5: =C5*D5 -> 0
A6: Schoonmaakmedewerker | C6: 0 | D6: 0 | E6: =C6*D6 -> 0
C7: 0 | D7: 0 | E7: =C7*D7 -> 0
A8: Meewerkend leidinggevende | C8: 0 | D8: 0 | E8: =C8*D8 -> 0
A9: Totale berekende productieve ureninzet (contractjaar 1) | D9: =SUM(D5:D8) -> 0 | E9: =IF(SUM($D$5:$D$8)=100%,SUM(E5:E8)," GEEN 100%") -> GEEN 100%
A10: Totaal geindexeerd uurloon | E10: =SUM(E9:E9) -> 0 | G10: CAO | I10: =(E10*H10)+E10 -> 0 | J10: 0 | K10: =(I10*J10)+I10 -> 0 | L10: 0 | M10: =(K10*L10)+K10 -> 0 | N10: 0 | O10: =(M10*N10)+M10 -> 0 | P10: 0 | Q10: =(O10*P10)+O10 -> 0
A12: Loonkosten: | D12: % v.h. loon | E12: €
A13: Vakantiedagen, -toeslag, feestdagen | D13: 0 | E13: =SUM($E$10*D13) -> 0 | G13: CBS DPI | I13: =(E13*H13)+E13 -> 0 | K13: =(I13*J13)+I13 -> 0 | M13: =(K13*L13)+K13 -> 0 | O13: =(M13*N13)+M13 -> 0 | Q13: =(O13*P13)+O13 -> 0
A14: Eindejaarsuitkering | D14: 0 | E14: =SUM($E$10*D14) -> 0 | G14: CBS DPI | I14: =(E14*H14)+E14 -> 0 | K14: =(I14*J14)+I14 -> 0 | M14: =(K14*L14)+K14 -> 0 | O14: =(M14*N14)+M14 -> 0 | Q14: =(O14*P14)+O14 -> 0
A15: Suppletie ziekengeld | D15: 0 | E15: =SUM($E$10*D15) -> 0 | G15: CBS DPI | I15: =(E15*H15)+E15 -> 0 | K15: =(I15*J15)+I15 -> 0 | M15: =(K15*L15)+K15 -> 0 | O15: =(M15*N15)+M15 -> 0 | Q15: =(O15*P15)+O15 -> 0
A16: Sociale lasten | D16: 0 | E16: =SUM($E$10*D16) -> 0 | G16: CBS DPI | I16: =(E16*H16)+E16 -> 0 | K16: =(I16*J16)+I16 -> 0 | M16: =(K16*L16)+K16 -> 0 | O16: =(M16*N16)+M16 -> 0 | Q16: =(O16*P16)+O16 -> 0
A17: Overige loonkosten | D17: 0 | E17: =SUM($E$10*D17) -> 0 | G17: CBS DPI | I17: =(E17*H17)+E17 -> 0 | K17: =(I17*J17)+I17 -> 0 | M17: =(K17*L17)+K17 -> 0 | O17: =(M17*N17)+M17 -> 0 | Q17: =(O17*P17)+O17 -> 0
A18: Subtotaal Loonkosten | E18: =SUM(E13:E17) -> 0 | I18: =SUM(I13:I17) -> 0 | K18: =SUM(K13:K17) -> 0 | M18: =SUM(M13:M17) -> 0 | O18: =SUM(O13:O17) -> 0 | Q18: =SUM(Q13:Q17) -> 0
A20: Directe kosten: | D20: % v.h. loon incl. loonkosten | E20: €
A21: Materialen | D21: =E21/$E$35 -> #DIV/0! | E21: 0 | G21: CBS DPI | I21: =(E21*H21)+E21 -> 0 | K21: =(I21*J21)+I21 -> 0 | M21: =(K21*L21)+K21 -> 0 | O21: =(M21*N21)+M21 -> 0 | Q21: =(O21*P21)+O21 -> 0
A22: Middelen | D22: =E22/$E$35 -> #DIV/0! | E22: 0 | G22: CBS DPI | I22: =(E22*H22)+E22 -> 0 | K22: =(I22*J22)+I22 -> 0 | M22: =(K22*L22)+K22 -> 0 | O22: =(M22*N22)+M22 -> 0 | Q22: =(O22*P22)+O22 -> 0
A23: Afschrijving machines | D23: =E23/$E$35 -> #DIV/0! | E23: 0 | G23: CBS DPI | I23: =(E23*H23)+E23 -> 0 | K23: =(I23*J23)+I23 -> 0 | M23: =(K23*L23)+K23 -> 0 | O23: =(M23*N23)+M23 -> 0 | Q23: =(O23*P23)+O23 -> 0
A24: Directe leiding | D24: 0 | E24: =D24*$E$10 -> 0 | G24: CAO | I24: =(E24*H24)+E24 -> 0 | K24: =(I24*J24)+I24 -> 0 | M24: =(K24*L24)+K24 -> 0 | O24: =(M24*N24)+M24 -> 0 | Q24: =(O24*P24)+O24 -> 0
A25: Overige directe kosten | D25: =E25/$E$35 -> #DIV/0! | E25: 0 | G25: CBS DPI | I25: =(E25*H25)+E25 -> 0 | K25: =(I25*J25)+I25 -> 0 | M25: =(K25*L25)+K25 -> 0 | O25: =(M25*N25)+M25 -> 0 | Q25: =(O25*P25)+O25 -> 0
A26: Subtotaal Directe kosten | E26: =SUM(E21:E25) -> 0 | I26: =SUM(I21:I25) -> 0 | K26: =SUM(K21:K25) -> 0 | M26: =SUM(M21:M25) -> 0 | O26: =SUM(O21:O25) -> 0 | Q26: =SUM(Q21:Q25) -> 0
A28: Indirecte kosten: | D28: % v.h. loon incl. loonkosten | E28: €
A29: Indirecte leiding | D29: 0 | E29: =D29*($E$18+$E$10) -> 0 | G29: CBS DPI | I29: =(E29*H29)+E29 -> 0 | K29: =(I29*J29)+I29 -> 0 | M29: =(K29*L29)+K29 -> 0 | O29: =(M29*N29)+M29 -> 0 | Q29: =(O29*P29)+O29 -> 0
A30: Overheadkosten | D30: =E30/$E$35 -> #DIV/0! | E30: 0 | G30: CBS DPI | I30: =(E30*H30)+E30 -> 0 | K30: =(I30*J30)+I30 -> 0 | M30: =(K30*L30)+K30 -> 0 | O30: =(M30*N30)+M30 -> 0 | Q30: =(O30*P30)+O30 -> 0
A31: Overige indirecte kosten | D31: =E31/$E$35 -> #DIV/0! | E31: 0 | G31: CBS DPI | I31: =(E31*H31)+E31 -> 0 | K31: =(I31*J31)+I31 -> 0 | M31: =(K31*L31)+K31 -> 0 | O31: =(M31*N31)+M31 -> 0 | Q31: =(O31*P31)+O31 -> 0
A32: Winst en risico | D32: =E32/$E$35 -> #DIV/0! | E32: 0 | G32: CBS DPI | I32: =(E32*H32)+E32 -> 0 | K32: =(I32*J32)+I32 -> 0 | M32: =(K32*L32)+K32 -> 0 | O32: =(M32*N32)+M32 -> 0 | Q32: =(O32*P32)+O32 -> 0
A33: Subtotaal Indirecte kosten | E33: =SUM(E29:E32) -> 0 | I33: =SUM(I29:I32) -> 0 | K33: =SUM(K29:K32) -> 0 | M33: =SUM(M29:M32) -> 0 | O33: =SUM(O29:O32) -> 0 | Q33: =SUM(Q29:Q32) -> 0
A35: Tarief | E35: =E33+E26+E18+E10 -> 0 | I35: =I33+I26+I18+I10 -> 0 | K35: =K33+K26+K18+K10 -> 0 | M35: =M33+M26+M18+M10 -> 0 | O35: =O33+O26+O18+O10 -> 0 | Q35: =Q33+Q26+Q18+Q10 -> 0
A37: Rekentarieven | C37: % opslag op loonkosten | D37: Tarief excl. 21% BTW | E37: Tarief incl. 21% BTW | H37: Gemiddelde indexering | I37: =(I35/E35)-100% -> #DIV/0! | K37: =(K35/I35)-100% -> #DIV/0! | M37: =(M35/K35)-100% -> #DIV/0! | O37: =(O35/M35)-100% -> #DIV/0! | Q37: =(Q35/O35)-100% -> #DIV/0!
A38: Standaard | B38: ma. t/m vr. 6:00 - 21:30 uur | C38: 0 | D38: =+E35 -> 0 | E38: =D38*121% -> 0 | I38: =(D38*$I$37)+D38 -> #DIV/0! | K38: =(I38*$K$37)+I38 -> #DIV/0! | M38: =(K38*$M$37)+K38 -> #DIV/0! | O38: =(M38*$O$37)+M38 -> #DIV/0! | Q38: =(O38*$Q$37)+O38 -> #DIV/0!
A39: Ochtend/avond | B39: ma. t/m vr. 21:30 - 6:00 uur | C39: 0.3 | D39: =SUM($E$10,$E$18,$E$26,$E$33)+(C39*($E$18+$E$10)) -> 0 | E39: =D39*121% -> 0 | I39: =(D39*$I$37)+D39 -> #DIV/0! | K39: =(I39*$K$37)+I39 -> #DIV/0! | M39: =(K39*$M$37)+K39 -> #DIV/0! | O39: =(M39*$O$37)+M39 -> #DIV/0! | Q39: =(O39*$Q$37)+O39 -> #DIV/0!
A40: Weekend | B40: vr. 21:30 t/m ma. 6:00 uur | C40: 0.5 | D40: =SUM($E$10,$E$18,$E$26,$E$33)+(C40*($E$18+$E$10)) -> 0 | E40: =D40*121% -> 0 | I40: =(D40*$I$37)+D40 -> #DIV/0! | K40: =(I40*$K$37)+I40 -> #DIV/0! | M40: =(K40*$M$37)+K40 -> #DIV/0! | O40: =(M40*$O$37)+M40 -> #DIV/0! | Q40: =(O40*$Q$37)+O40 -> #DIV/0!
A41: Feestdag | B41: Erkende feestdagen | C41: 1.5 | D41: =SUM($E$10,$E$18,$E$26,$E$33)+(C41*($E$18+$E$10)) -> 0 | E41: =D41*121% -> 0 | I41: =(D41*$I$37)+D41 -> #DIV/0! | K41: =(I41*$K$37)+I41 -> #DIV/0! | M41: =(K41*$M$37)+K41 -> #DIV/0! | O41: =(M41*$O$37)+M41 -> #DIV/0! | Q41: =(O41*$Q$37)+O41 -> #DIV/0!

Sheet Prestatiefactoren
A1: Prestatie
A2: Alle groen gearceerde velden dienen ingevuld te worden, overige cellen mogen niet gewijzigd worden
A5: Aanpassing standaardnorm schoonmaakonderhoud o.b.v. locatie
A6: Code | B6: Locatie | C6: Aanpassing norm | D6: Adres | E6: Postcode | F6: Plaats
A7: 1 | B7: Hoofdgebouw | C7: 1 | D7: Sterrenlaan 16 | E7: 5631 KA | F7: Eindhoven
A8: 2 | B8: Paviljoen Nova | C8: 1 | D8: Sterrenlaan 16 | E8: 5631 KA | F8: Eindhoven
A10: Standaardnorm schoonmaakonderhoud per ruimtegroep / werkprogramma
A11: Code | B11: Ruimte omschrijving | C11: Norm (5w) | D11: Inspectiecategorie
A12: 1 | B12: Magazijnen/bergingen | C12: 0 | D12: V (Verkeersruimte)
A13: 2 | B13: Kantoren | C13: 0 | D13: B (Bureauruimte)
A14: 3 | B14: Reproruimte | C14: 0 | D14: V (Verkeersruimte)
A15: 4 | B15: Vergader/spreekkamers | C15: 0 | D15: B (Bureauruimte)
A16: 5 | B16: Sanitair | C16: 0 | D16: S (Sanitair)
A17: 6 | B17: Gangen/hallen | C17: 0 | D17: V (Verkeersruimte)
A18: 7 | B18: Entree | C18: 0 | D18: V (Verkeersruimte)
A19: 8 | B19: Mediatheek / OLC | C19: 0 | D19: L (Lesruimte)
A20: 9 | B20: Publieksruimte | C20: 0 | D20: V (Verkeersruimte)
A21: 10 | B21: Trappenhuizen/lift | C21: 0 | D21: V (Verkeersruimte)
A22: 11 | B22: Kooklokaal/leskeuken | C22: 0 | D22: L (Lesruimte)
A23: 12 | B23: Kantine | C23: 0 | D23: V (Verkeersruimte)
... A30: 19 | B30: Kleedruimten | C30: 0 | D30: V (Verkeersruimte)
A31: 20 | B31: Niet in onderhoud
A33: Aanpassing standaardnorm schoonmaakonderhoud o.b.v. vloersoort
A34: Code | B34: Naam | C34: Aanpassing norm | D34: Vloersoort omschrijving
A35: L | B35: Lino | C35: 1 | D35: Vloerafwerkingen met beschermlaag, zoals linoleum, marmoleum e.d.
A36: T | B36: Tapijt | C36: 1 | D36: Textiele vloerafwerking, zoals tapijt, schoonloopmat, flotex e.d.
A37: S | B37: Steen | C37: 1 | D37: Harde vloeren zonder zonder extra behandeling, zoals steen, beton e.d.
A38: P | B38: PVC | C38: 1 | D38: Vloeren zonder beschermlaag, die wel behandeling nodig hebben, zoals pvc e.d.
A39: H | B39: Hout | C39: 1 | D39: Vloeren zonder beschermlaag, die wel behandeling nodig hebben
A41: Aanpassing standaardnorm o.b.v. frequentie
A42: Code | B42: Frequentie omschrijving | C42: Aanpassing norm
A43: 10w | B43: 5 x per week met naloop | C43: 1
A44: 5w | B44: 5 x per week | C44: 1
A45: 4w | B45: 4 x per week | C45: 1
A46: 3w | B46: 3 x per week | C46: 1
A47: 2,5w | B47: 2,5 x per week (om-de-dag) | C47: 1
A48: 2w | B48: 2 x per week | C48: 1
A49: 1w | B49: 1 x per week | C49: 1
A50: 2ww | B50: 2 x per weekend | C50: 1
A51: 1ww | B51: 1 x per weekend | C51: 1
A52: 1m | B52: 1 x per maand | C52: 1

Sheet Ruimtestaat
A1: Ruimtestaat | R1: Ruimtestaat
S3: Werkdagen | Y3: Weekenddagen | AE3: Totaal (werkdagen + weekenddagen
A4: Code | B4: Locatie | C4: Adres | D4: Postcode | E4: Plaats | F4: Gebouw gedeelte | G4: Etage | H4: Ruimte- nummer | I4: Ruimte omschrijving | J4: Ruimte code | K4: Ruimtesoort | L4: Vloer code | M4: Vloer afwerking | N4: Oppervlak (netto) | O4: Oppervlakte n.i.o. | P4: Inspectie categorie | Q4: Opmerking | R4: Aantal weken/jr | S4: Frequentie werkdagen | T4: Uitvoeringen werkdagen | U4: Norm (m2/uur) werkdagen | V4: Prest. (m2 /jaar) werkdagen | W4: uren / jaar werkdagen | X4: kosten / jaar werkdagen | Y4: Frequentie weekend | Z4: Uitvoeringen weekend | AA4: Norm (m2/uur) weekend | AB4: Prest. (m2 /jaar) weekend | AC4: uren / jaar weekend | AD4: kosten / jaar weekend | AE4: Prest. (m2 /jaar) | AF4: uren / jaar | AG4: kosten / jaar
A5: 1 | B5: =VLOOKUP(Ruimtestaat[[#This Row],[Code]],Locaties[#All],2,FALSE) -> Hoofdgebouw | C5: =VLOOKUP(Ruimtestaat[[#This Row],[Code]],Locaties[#All],4,FALSE) -> Sterrenlaan 16 | D5: =VLOOKUP(Ruimtestaat[[#This Row],[Code]],Locaties[#All],5,FALSE) -> 5631 KA | E5: =VLOOKUP(Ruimtestaat[[#This Row],[Code]],Locaties[#All],6,FALSE) -> Eindhoven | G5: BG | H5: 0.01 | I5: Hoofdentree | J5: 7 | K5: =VLOOKUP(J5,Ruimtegroepen[],2,FALSE) -> Entree | L5: T | M5: schoonloopmat | N5: 9 | P5: =LEFT(VLOOKUP(Ruimtestaat[[#This Row],[Ruimte code]],Ruimtegroepen[#All],4,1),2) -> V | R5: 40 | S5: 5w | T5: =IF(R5>0,IF(RIGHT(Ruimtestaat[[#This Row],[Frequentie werkdagen]],1)="w",VALUE(LEFT(Ruimtestaat[[#This Row],[Frequentie werkdagen]],(LEN(Ruimtestaat[[#This Row],[Frequentie werkdagen]])-1))*Ruimtestaat[[#This Row],[Aantal weken/jr]]),IF(RIGHT(Ruimtestaat[[#This Row],[Frequentie werkdagen]],1)="m",VALUE(LEFT(Ruimtestaat[[#This Row],[Frequentie werkdagen]],LEN(Ruimtestaat[[#This Row],[Frequentie werkdagen]])-1)*12),VALUE(LEFT(Ruimtestaat[[#This Row],[Frequentie werkdagen]],(LEN(Ruimtestaat[[#This Row],[Frequentie werkdagen]])-1))))),0) -> 200 | U5: =IF(T5>0,VLOOKUP($J5,Ruimtegroepen[],3,FALSE)*VLOOKUP($L5,Vloersoorten[],3,FALSE)*VLOOKUP($S5,Frequenties[],3,FALSE)*VLOOKUP($A5,Locaties[],3,FALSE),0) -> 0 | V5: =Ruimtestaat[[#This Row],[Uitvoeringen werkdagen]]*Ruimtestaat[[#This Row],[Oppervlak (netto)]] -> 1800 | W5: =IF(U5>0,Ruimtestaat[[#This Row],[Prest. (m2 /jaar) werkdagen]]/Ruimtestaat[[#This Row],[Norm (m2/uur) werkdagen]],0) -> 0 | X5: =Ruimtestaat[[#This Row],[uren / jaar werkdagen]]*Tariefsopbouw!$E$35 -> 0 | Z5: =IF(Ruimtestaat[[#This Row],[Frequentie weekend]]>0,VALUE(LEFT(Y5,1))*R5,0) -> 0 | AA5: =IF($Z5>0,VLOOKUP($J5,Ruimtegroepen[],3,FALSE)*VLOOKUP($L5,Vloersoorten[],3,FALSE)*VLOOKUP($Y5,Frequenties[],3,FALSE)*VLOOKUP(#REF!,Locaties[],3,FALSE),0) -> 0 | AB5: =Ruimtestaat[[#This Row],[Uitvoeringen weekend]]*Ruimtestaat[[#This Row],[Oppervlak (netto)]] -> 0 | AC5: =IF(AB5>0,Ruimtestaat[[#This Row],[Prest. (m2 /jaar) weekend]]/Ruimtestaat[[#This Row],[Norm (m2/uur) weekend]],0) -> 0 | AD5: =Ruimtestaat[[#This Row],[uren / jaar weekend]]*Tariefsopbouw!$D$40 -> 0 | AE5: =Ruimtestaat[[#This Row],[Prest. (m2 /jaar) weekend]]+Ruimtestaat[[#This Row],[Prest. (m2 /jaar) werkdagen]] -> 1800 | AF5: =Ruimtestaat[[#This Row],[uren / jaar weekend]]+Ruimtestaat[[#This Row],[uren / jaar werkdagen]] -> 0 | AG5: =Ruimtestaat[[#This Row],[kosten / jaar weekend]]+Ruimtestaat[[#This Row],[kosten / jaar werkdagen]] -> 0
A6: 1 | B6: =VLOOKUP(Ruimtestaat[[#This Row],[Code]],Locaties[#All],2,FALSE) -> Hoofdgebouw | C6: =VLOOKUP(Ruimtestaat[[#This Row],[Code]],Locaties[#All],4,FALSE) -> Sterrenlaan 16 | D6: =VLOOKUP(Ruimtestaat[[#This Row],[Code]],Locaties[#All],5,FALSE) -> 5631 KA | E6: =VLOOKUP(Ruimtestaat[[#This Row],[Code]],Locaties[#All],6,FALSE) -> Eindhoven | G6: BG | H6: 0.02 | I6: Verkeersruimte | J6: 6 | K6: =VLOOKUP(J6,Ruimtegroepen[],2,FALSE) -> Gangen/hallen | L6: L | M6: Linoleum | N6: 119 | P6: =LEFT(VLOOKUP(Ruimtestaat[[#This Row],[Ruimte code]],Ruimtegroepen[#All],4,1),2) -> V | R6: 40 | S6: 5w | T6: =IF(R6>0,IF(RIGHT(Ruimtestaat[[#This Row],[Frequentie werkdagen]],1)="w",VALUE(LEFT(Ruimtestaat[[#This Row],[Frequentie werkdagen]],(LEN(Ruimtestaat[[#This Row],[Frequentie werkdagen]])-1))*Ruimtestaat[[#This Row],[Aantal weken/jr]]),IF(RIGHT(Ruimtestaat[[#This Row],[Frequentie werkdagen]],1)="m",VALUE(LEFT(Ruimtestaat[[#This Row],[Frequentie werkdagen]],LEN(Ruimtestaat[[#This Row],[Frequentie werkdagen]])-1)*12),VALUE(LEFT(Ruimtestaat[[#This Row],[Frequentie werkdagen]],(LEN(Ruimtestaat[[#This Row],[Frequentie werkdagen]])-1))))),0) -> 200 | U6: =IF(T6>0,VLOOKUP($J6,Ruimtegroepen[],3,FALSE)*VLOOKUP($L6,Vloersoorten[],3,FALSE)*VLOOKUP($S6,Frequenties[],3,FALSE)*VLOOKUP($A6,Locaties[],3,FALSE),0) -> 0 | V6: =Ruimtestaat[[#This Row],[Uitvoeringen werkdagen]]*Ruimtestaat[[#This Row],[Oppervlak (netto)]] -> 23800 | W6: =IF(U6>0,Ruimtestaat[[#This Row],[Prest. (m2 /jaar) werkdagen]]/Ruimtestaat[[#This Row],[Norm (m2/uur) werkdagen]],0) -> 0 | X6: =Ruimtestaat[[#This Row],[uren / jaar werkdagen]]*Tariefsopbouw!$E$35 -> 0 | Z6: =IF(Ruimtestaat[[#This Row],[Frequentie weekend]]>0,VALUE(LEFT(Y6,1))*R6,0) -> 0 | AA6: =IF($Z6>0,VLOOKUP($J6,Ruimtegroepen[],3,FALSE)*VLOOKUP($L6,Vloersoorten[],3,FALSE)*VLOOKUP($Y6,Frequenties[],3,FALSE)*VLOOKUP($A1,Locaties[],3,FALSE),0) -> 0 | AB6: =Ruimtestaat[[#This Row],[Uitvoeringen weekend]]*Ruimtestaat[[#This Row],[Oppervlak (netto)]] -> 0 | AC6: =IF(AB6>0,Ruimtestaat[[#This Row],[Prest. (m2 /jaar) weekend]]/Ruimtestaat[[#This Row],[Norm (m2/uur) weekend]],0) -> 0 | AD6: =Ruimtestaat[[#This Row],[uren / jaar weekend]]*Tariefsopbouw!$D$40 -> 0 | AE6: =Ruimtestaat[[#This Row],[Prest. (m2 /jaar) weekend]]+Ruimtestaat[[#This Row],[Prest. (m2 /jaar) werkdagen]] -> 23800 | AF6: =Ruimtestaat[[#This Row],[uren / jaar weekend]]+Ruimtestaat[[#This Row],[uren / jaar werkdagen]] -> 0 | AG6: =Ruimtestaat[[#This Row],[kosten / jaar weekend]]+Ruimtestaat[[#This Row],[kosten / jaar werkdagen]] -> 0
A7: 1 | B7: =VLOOKUP(Ruimtestaat[[#This Row],[Code]],Locaties[#All],2,FALSE) -> Hoofdgebouw | C7: =VLOOKUP(Ruimtestaat[[#This Row],[Code]],Locaties[#All],4,FALSE) -> Sterrenlaan 16 | D7: =VLOOKUP(Ruimtestaat[[#This Row],[Code]],Locaties[#All],5,FALSE) -> 5631 KA | E7: =VLOOKUP(Ruimtestaat[[#This Row],[Code]],Locaties[#All],6,FALSE) -> Eindhoven | G7: BG | H7: 0.02A | I7: Centraal Trappenhuis | J7: 10 | K7: =VLOOKUP(J7,Ruimtegroepen[],2,FALSE) -> Trappenhuizen/lift | L7: H | M7: Hout | N7: 11 | P7: =LEFT(VLOOKUP(Ruimtestaat[[#This Row],[Ruimte code]],Ruimtegroepen[#All],4,1),2) -> V | R7: 40 | S7: 5w | T7: =IF(R7>0,IF(RIGHT(Ruimtestaat[[#This Row],[Frequentie werkdagen]],1)="w",VALUE(LEFT(Ruimtestaat[[#This Row],[Frequentie werkdagen]],(LEN(Ruimtestaat[[#This Row],[Frequentie werkdagen]])-1))*Ruimtestaat[[#This Row],[Aantal weken/jr]]),IF(RIGHT(Ruimtestaat[[#This Row],[Frequentie werkdagen]],1)="m",VALUE(LEFT(Ruimtestaat[[#This Row],[Frequentie werkdagen]],LEN(Ruimtestaat[[#This Row],[Frequentie werkdagen]])-1)*12),VALUE(LEFT(Ruimtestaat[[#This Row],[Frequentie werkdagen]],(LEN(Ruimtestaat[[#This Row],[Frequentie werkdagen]])-1))))),0) -> 200 | U7: =IF(T7>0,VLOOKUP($J7,Ruimtegroepen[],3,FALSE)*VLOOKUP($L7,Vloersoorten[],3,FALSE)*VLOOKUP($S7,Frequenties[],3,FALSE)*VLOOKUP($A7,Locaties[],3,FALSE),0) -> 0 | V7: =Ruimtestaat[[#This Row],[Uitvoeringen werkdagen]]*Ruimtestaat[[#This Row],[Oppervlak (netto)]] -> 2200 | W7: =IF(U7>0,Ruimtestaat[[#This Row],[Prest. (m2 /jaar) werkdagen]]/Ruimtestaat[[#This Row],[Norm (m2/uur) werkdagen]],0) -> 0 | X7: =Ruimtestaat[[#This Row],[uren / jaar werkdagen]]*Tariefsopbouw!$E$35 -> 0 | Z7: =IF(Ruimtestaat[[#This Row],[Frequentie weekend]]>0,VALUE(LEFT(Y7,1))*R7,0) -> 0 | AA7: =IF($Z7>0,VLOOKUP($J7,Ruimtegroepen[],3,FALSE)*VLOOKUP($L7,Vloersoorten[],3,FALSE)*VLOOKUP($Y7,Frequenties[],3,FALSE)*VLOOKUP($A2,Locaties[],3,FALSE),0) -> 0 | AB7: =Ruimtestaat[[#This Row],[Uitvoeringen weekend]]*Ruimtestaat[[#This Row],[Oppervlak (netto)]] -> 0 | AC7: =IF(AB7>0,Ruimtestaat[[#This Row],[Prest. (m2 /jaar) weekend]]/Ruimtestaat[[#This Row],[Norm (m2/uur) weekend]],0) -> 0 | AD7: =Ruimtestaat[[#This Row],[uren / jaar weekend]]*Tariefsopbouw!$D$40 -> 0 | AE7: =Ruimtestaat[[#This Row],[Prest. (m2 /jaar) weekend]]+Ruimtestaat[[#This Row],[Prest. (m2 /jaar) werkdagen]] -> 2200 | AF7: =Ruimtestaat[[#This Row],[uren / jaar weekend]]+Ruimtestaat[[#This Row],[uren / jaar werkdagen]] -> 0 | AG7: =Ruimtestaat[[#This Row],[kosten / jaar weekend]]+Ruimtestaat[[#This Row],[kosten / jaar werkdagen]] -> 0
A8: 1 | B8: =VLOOKUP(Ruimtestaat[[#This Row],[Code]],Locaties[#All],2,FALSE) -> Hoofdgebouw | C8: =VLOOKUP(Ruimtestaat[[#This Row],[Code]],Locaties[#All],4,FALSE) -> Sterrenlaan 16 | D8: =VLOOKUP(Ruimtestaat[[#This Row],[Code]],Locaties[#All],5,FALSE) -> 5631 KA | E8: =VLOOKUP(Ruimtestaat[[#This Row],[Code]],Locaties[#All],6,FALSE) -> Eindhoven | G8: BG | H8: 0.03 | I8: Gang naar toiletgroep | J8: 6 | K8: =VLOOKUP(J8,Ruimtegroepen[],2,FALSE) -> Gangen/hallen | L8: L | M8: Linoleum | N8: 7 | P8: =LEFT(VLOOKUP(Ruimtestaat[[#This Row],[Ruimte code]],Ruimtegroepen[#All],4,1),2) -> V | R8: 40 | S8: 5w | T8: =IF(R8>0,IF(RIGHT(Ruimtestaat[[#This Row],[Frequentie werkdagen]],1)="w",VALUE(LEFT(Ruimtestaat[[#This Row],[Frequentie werkdagen]],(LEN(Ruimtestaat[[#This Row],[Frequentie werkdagen]])-1))*Ruimtestaat[[#This Row],[Aantal weken/jr]]),IF(RIGHT(Ruimtestaat[[#This Row],[Frequentie werkdagen]],1)="m",VALUE(LEFT(Ruimtestaat[[#This Row],[Frequentie werkdagen]],LEN(Ruimtestaat[[#This Row],[Frequentie werkdagen]])-1)*12),VALUE(LEFT(Ruimtestaat[[#This Row],[Frequentie werkdagen]],(LEN(Ruimtestaat[[#This Row],[Frequentie werkdagen]])-1))))),0) -> 200 | U8: =IF(T8>0,VLOOKUP($J8,Ruimtegroepen[],3,FALSE)*VLOOKUP($L8,Vloersoorten[],3,FALSE)*VLOOKUP($S8,Frequenties[],3,FALSE)*VLOOKUP($A8,Locaties[],3,FALSE),0) -> 0 | V8: =Ruimtestaat[[#This Row],[Uitvoeringen werkdagen]]*Ruimtestaat[[#This Row],[Oppervlak (netto)]] -> 1400 | W8: =IF(U8>0,Ruimtestaat[[#This Row],[Prest. (m2 /jaar) werkdagen]]/Ruimtestaat[[#This Row],[Norm (m2/uur) werkdagen]],0) -> 0 | X8: =Ruimtestaat[[#This Row],[uren / jaar werkdagen]]*Tariefsopbouw!$E$35 -> 0 | Z8: =IF(Ruimtestaat[[#This Row],[Frequentie weekend]]>0,VALUE(LEFT(Y8,1))*R8,0) -> 0 | AA8: =IF($Z8>0,VLOOKUP($J8,Ruimtegroepen[],3,FALSE)*VLOOKUP($L8,Vloersoorten[],3,FALSE)*VLOOKUP($Y8,Frequenties[],3,FALSE)*VLOOKUP($A3,Locaties[],3,FALSE),0) -> 0 | AB8: =Ruimtestaat[[#This Row],[Uitvoeringen weekend]]*Ruimtestaat[[#This Row],[Oppervlak (netto)]] -> 0 | AC8: =IF(AB8>0,Ruimtestaat[[#This Row],[Prest. (m2 /jaar) weekend]]/Ruimtestaat[[#This Row],[Norm (m2/uur) weekend]],0) -> 0 | AD8: =Ruimtestaat[[#This Row],[uren / jaar weekend]]*Tariefsopbouw!$D$40 -> 0 | AE8: =Ruimtestaat[[#This Row],[Prest. (m2 /jaar) weekend]]+Ruimtestaat[[#This Row],[Prest. (m2 /jaar) werkdagen]] -> 1400 | AF8: =Ruimtestaat[[#This Row],[uren / jaar weekend]]+Ruimtestaat[[#This Row],[uren / jaar werkdagen]] -> 0 | AG8: =Ruimtestaat[[#This Row],[kosten / jaar weekend]]+Ruimtestaat[[#This Row],[kosten / jaar werkdagen]] -> 0
A9: 1 | B9: =VLOOKUP(Ruimtestaat[[#This Row],[Code]],Locaties[#All],2,FALSE) -> Hoofdgebouw | C9: =VLOOKUP(Ruimtestaat[[#This Row],[Code]],Locaties[#All],4,FALSE) -> Sterrenlaan 16 | D9: =VLOOKUP(Ruimtestaat[[#This Row],[Code]],Locaties[#All],5,FALSE) -> 5631 KA | E9: =VLOOKUP(Ruimtestaat[[#This Row],[Code]],Locaties[#All],6,FALSE) -> Eindhoven | G9: BG | H9: 0.04 | I9: Toiletgroep jongens | J9: 5 | K9: =VLOOKUP(J9,Ruimtegroepen[],2,FALSE) -> Sanitair | L9: S | M9: Tegels | N9: 12 | P9: =LEFT(VLOOKUP(Ruimtestaat[[#This Row],[Ruimte code]],Ruimtegroepen[#All],4,1),2) -> S | R9: 42 | S9: 5w | T9: =IF(R9>0,IF(RIGHT(Ruimtestaat[[#This Row],[Frequentie werkdagen]],1)="w",VALUE(LEFT(Ruimtestaat[[#This Row],[Frequentie werkdagen]],(LEN(Ruimtestaat[[#This Row],[Frequentie werkdagen]])-1))*Ruimtestaat[[#This Row],[Aantal weken/jr]]),IF(RIGHT(Ruimtestaat[[#This Row],[Frequentie werkdagen]],1)="m",VALUE(LEFT(Ruimtestaat[[#This Row],[Frequentie werkdagen]],LEN(Ruimtestaat[[#This Row],[Frequentie werkdagen]])-1)*12),VALUE(LEFT(Ruimtestaat[[#This Row],[Frequentie werkdagen]],(LEN(Ruimtestaat[[#This Row],[Frequentie werkdagen]])-1))))),0) -> 210 | U9: =IF(T9>0,VLOOKUP($J9,Ruimtegroepen[],3,FALSE)*VLOOKUP($L9,Vloersoorten[],3,FALSE)*VLOOKUP($S9,Frequenties[],3,FALSE)*VLOOKUP($A9,Locaties[],3,FALSE),0) -> 0 | V9: =Ruimtestaat[[#This Row],[Uitvoeringen werkdagen]]*Ruimtestaat[[#This Row],[Oppervlak (netto)]] -> 2520 | W9: =IF(U9>0,Ruimtestaat[[#This Row],[Prest. (m2 /jaar) werkdagen]]/Ruimtestaat[[#This Row],[Norm (m2/uur) werkdagen]],0) -> 0 | X9: =Ruimtestaat[[#This Row],[uren / jaar werkdagen]]*Tariefsopbouw!$E$35 -> 0 | Z9: =IF(Ruimtestaat[[#This Row],[Frequentie weekend]]>0,VALUE(LEFT(Y9,1))*R9,0) -> 0 | AA9: =IF($Z9>0,VLOOKUP($J9,Ruimtegroepen[],3,FALSE)*VLOOKUP($L9,Vloersoorten[],3,FALSE)*VLOOKUP($Y9,Frequenties[],3,FALSE)*VLOOKUP($A4,Locaties[],3,FALSE),0) -> 0 | AB9: =Ruimtestaat[[#This Row],[Uitvoeringen weekend]]*Ruimtestaat[[#This Row],[Oppervlak (netto)]] -> 0 | AC9: =IF(AB9>0,Ruimtestaat[[#This Row],[Prest. (m2 /jaar) weekend]]/Ruimtestaat[[#This Row],[Norm (m2/uur) weekend]],0) -> 0 | AD9: =Ruimtestaat[[#This Row],[uren / jaar weekend]]*Tariefsopbouw!$D$40 -> 0 | AE9: =Ruimtestaat[[#This Row],[Prest. (m2 /jaar) weekend]]+Ruimtestaat[[#This Row],[Prest. (m2 /jaar) werkdagen]] -> 2520 | AF9: =Ruimtestaat[[#This Row],[uren / jaar weekend]]+Ruimtestaat[[#This Row],[uren / jaar werkdagen]] -> 0 | AG9: =Ruimtestaat[[#This Row],[kosten / jaar weekend]]+Ruimtestaat[[#This Row],[kosten / jaar werkdagen]] -> 0
A10: 1 | B10: =VLOOKUP(Ruimtestaat[[#This Row],[Code]],Locaties[#All],2,FALSE) -> Hoofdgebouw | C10: =VLOOKUP(Ruimtestaat[[#This Row],[Code]],Locaties[#All],4,FALSE) -> Sterrenlaan 16 | D10: =VLOOKUP(Ruimtestaat[[#This Row],[Code]],Locaties[#All],5,FALSE) -> 5631 KA | E10: =VLOOKUP(Ruimtestaat[[#This Row],[Code]],Locaties[#All],6,FALSE) -> Eindhoven | G10: BG | H10: 0.05 | I10: Toiletgroep meisjes | J10: 5 | K10: =VLOOKUP(J10,Ruimtegroepen[],2,FALSE) -> Sanitair | L10: S | M10: Tegels | N10: 13 | P10: =LEFT(VLOOKUP(Ruimtestaat[[#This Row],[Ruimte code]],Ruimtegroepen[#All],4,1),2) -> S | R10: 42 | S10: 5w | T10: =IF(R10>0,IF(RIGHT(Ruimtestaat[[#This Row],[Frequentie werkdagen]],1)="w",VALUE(LEFT(Ruimtestaat[[#This Row],[Frequentie werkdagen]],(LEN(Ruimtestaat[[#This Row],[Frequentie werkdagen]])-1))*Ruimtestaat[[#This Row],[Aantal weken/jr]]),IF(RIGHT(Ruimtestaat[[#This Row],[Frequentie werkdagen]],1)="m",VALUE(LEFT(Ruimtestaat[[#This Row],[Frequentie werkdagen]],LEN(Ruimtestaat[[#This Row],[Frequentie werkdagen]])-1)*12),VALUE(LEFT(Ruimtestaat[[#This Row],[Frequentie werkdagen]],(LEN(Ruimtestaat[[#This Row],[Frequentie werkdagen]])-1))))),0) -> 210 | U10: =IF(T10>0,VLOOKUP($J10,Ruimtegroepen[],3,FALSE)*VLOOKUP($L10,Vloersoorten[],3,FALSE)*VLOOKUP($S10,Frequenties[],3,FALSE)*VLOOKUP($A10,Locaties[],3,FALSE),0) -> 0 | V10: =Ruimtestaat[[#This Row],[Uitvoeringen werkdagen]]*Ruimtestaat[[#This Row],[Oppervlak (netto)]] -> 2730 | W10: =IF(U10>0,Ruimtestaat[[#This Row],[Prest. (m2 /jaar) werkdagen]]/Ruimtestaat[[#This Row],[Norm (m2/uur) werkdagen]],0) -> 0 | X10: =Ruimtestaat[[#This Row],[uren / jaar werkdagen]]*Tariefsopbouw!$E$35 -> 0 | Z10: =IF(Ruimtestaat[[#This Row],[Frequentie weekend]]>0,VALUE(LEFT(Y10,1))*R10,0) -> 0 | AA10: =IF($Z10>0,VLOOKUP($J10,Ruimtegroepen[],3,FALSE)*VLOOKUP($L10,Vloersoorten[],3,FALSE)*VLOOKUP($Y10,Frequenties[],3,FALSE)*VLOOKUP($A6,Locaties[],3,FALSE),0) -> 0 | AB10: =Ruimtestaat[[#This Row],[Uitvoeringen weekend]]*Ruimtestaat[[#This Row],[Oppervlak (netto)]] -> 0 | AC10: =IF(AB10>0,Ruimtestaat[[#This Row],[Prest. (m2 /jaar) weekend]]/Ruimtestaat[[#This Row],[Norm (m2/uur) weekend]],0) -> 0 | AD10: =Ruimtestaat[[#This Row],[uren / jaar weekend]]*Tariefsopbouw!$D$40 -> 0 | AE10: =Ruimtestaat[[#This Row],[Prest. (m2 /jaar) weekend]]+Ruimtestaat[[#This Row],[Prest. (m2 /jaar) werkdagen]] -> 2730 | AF10: =Ruimtestaat[[#This Row],[uren / jaar weekend]]+Ruimtestaat[[#This Row],[uren / jaar werkdagen]] -> 0 | AG10: =Ruimtestaat[[#This Row],[kosten / jaar weekend]]+Ruimtestaat[[#This Row],[kosten / jaar werkdagen]] -> 0
A11: 1 | B11: =VLOOKUP(Ruimtestaat[[#This Row],[Code]],Locaties[#All],2,FALSE) -> Hoofdgebouw | C11: =VLOOKUP(Ruimtestaat[[#This Row],[Code]],Locaties[#All],4,FALSE) -> Sterrenlaan 16 | D11: =VLOOKUP(Ruimtestaat[[#This Row],[Code]],Locaties[#All],5,FALSE) -> 5631 KA | E11: =VLOOKUP(Ruimtestaat[[#This Row],[Code]],Locaties[#All],6,FALSE) -> Eindhoven | G11: BG | H11: 0.06 | I11: Werkkast | J11: 20 | K11: =VLOOKUP(J11,Ruimtegroepen[],2,FALSE) -> Niet in onderhoud | O11: 2 | P11: =LEFT(VLOOKUP(Ruimtestaat[[#This Row],[Ruimte code]],Ruimtegroepen[#All],4,1),2) | T11: =IF(R11>0,IF(RIGHT(Ruimtestaat[[#This Row],[Frequentie werkdagen]],1)="w",VALUE(LEFT(Ruimtestaat[[#This Row],[Frequentie werkdagen]],(LEN(Ruimtestaat[[#This Row],[Frequentie werkdagen]])-1))*Ruimtestaat[[#This Row],[Aantal weken/jr]]),IF(RIGHT(Ruimtestaat[[#This Row],[Frequentie werkdagen]],1)="m",VALUE(LEFT(Ruimtestaat[[#This Row],[Frequentie werkdagen]],LEN(Ruimtestaat[[#This Row],[Frequentie werkdagen]])-1)*12),VALUE(LEFT(Ruimtestaat[[#This Row],[Frequentie werkdagen]],(LEN(Ruimtestaat[[#This Row],[Frequentie werkdagen]])-1))))),0) -> 0 | U11: =IF(T11>0,VLOOKUP($J11,Ruimtegroepen[],3,FALSE)*VLOOKUP($L11,Vloersoorten[],3,FALSE)*VLOOKUP($S11,Frequenties[],3,FALSE)*VLOOKUP($A11,Locaties[],3,FALSE),0) -> 0 | V11: =Ruimtestaat[[#This Row],[Uitvoeringen werkdagen]]*Ruimtestaat[[#This Row],[Oppervlak (netto)]] -> 0 | W11: =IF(U11>0,Ruimtestaat[[#This Row],[Prest. (m2 /jaar) werkdagen]]/Ruimtestaat[[#This Row],[Norm (m2/uur) werkdagen]],0) -> 0 | X11: =Ruimtestaat[[#This Row],[uren / jaar werkdagen]]*Tariefsopbouw!$E$35 -> 0 | Z11: =IF(Ruimtestaat[[#This Row],[Frequentie weekend]]>0,VALUE(LEFT(Y11,1))*R11,0) -> 0 | AA11: =IF($Z11>0,VLOOKUP($J11,Ruimtegroepen[],3,FALSE)*VLOOKUP($L11,Vloersoorten[],3,FALSE)*VLOOKUP($Y11,Frequenties[],3,FALSE)*VLOOKUP($A7,Locaties[],3,FALSE),0) -> 0 | AB11: =Ruimtestaat[[#This Row],[Uitvoeringen weekend]]*Ruimtestaat[[#This Row],[Oppervlak (netto)]] -> 0 | AC11: =IF(AB11>0,Ruimtestaat[[#This Row],[Prest. (m2 /jaar) weekend]]/Ruimtestaat[[#This Row],[Norm (m2/uur) weekend]],0) -> 0 | AD11: =Ruimtestaat[[#This Row],[uren / jaar weekend]]*Tariefsopbouw!$D$40 -> 0 | AE11: =Ruimtestaat[[#This Row],[Prest. (m2 /jaar) weekend]]+Ruimtestaat[[#This Row],[Prest. (m2 /jaar) werkdagen]] -> 0 | AF11: =Ruimtestaat[[#This Row],[uren / jaar weekend]]+Ruimtestaat[[#This Row],[uren / jaar werkdagen]] -> 0 | AG11: =Ruimtestaat[[#This Row],[kosten / jaar weekend]]+Ruimtestaat[[#This Row],[kosten / jaar werkdagen]] -> 0
A12: 1 | B12: =VLOOKUP(Ruimtestaat[[#This Row],[Code]],Locaties[#All],2,FALSE) -> Hoofdgebouw | C12: =VLOOKUP(Ruimtestaat[[#This Row],[Code]],Locaties[#All],4,FALSE) -> Sterrenlaan 16 | D12: =VLOOKUP(Ruimtestaat[[#This Row],[Code]],Locaties[#All],5,FALSE) -> 5631 KA | E12: =VLOOKUP(Ruimtestaat[[#This Row],[Code]],Locaties[#All],6,FALSE) -> Eindhoven | G12: BG | H12: 0.07 | I12: Lift | J12: 10 | K12: =VLOOKUP(J12,Ruimtegroepen[],2,FALSE) -> Trappenhuizen/lift | L12: P | M12: Rubber | N12: 2 | P12: =LEFT(VLOOKUP(Ruimtestaat[[#This Row],[Ruimte code]],Ruimtegroepen[#All],4,1),2) -> V | R12: 40 | S12: 5w | T12: =IF(R12>0,IF(RIGHT(Ruimtestaat[[#This Row],[Frequentie werkdagen]],1)="w",VALUE(LEFT(Ruimtestaat[[#This Row],[Frequentie werkdagen]],(LEN(Ruimtestaat[[#This Row],[Frequentie werkdagen]])-1))*Ruimtestaat[[#This Row],[Aantal weken/jr]]),IF(RIGHT(Ruimtestaat[[#This Row],[Frequentie werkdagen]],1)="m",VALUE(LEFT(Ruimtestaat[[#This Row],[Frequentie werkdagen]],LEN(Ruimtestaat[[#This Row],[Frequentie werkdagen]])-1)*12),VALUE(LEFT(Ruimtestaat[[#This Row],[Frequentie werkdagen]],(LEN(Ruimtestaat[[#This Row],[Frequentie werkdagen]])-1))))),0) -> 200 | U12: =IF(T12>0,VLOOKUP($J12,Ruimtegroepen[],3,FALSE)*VLOOKUP($L12,Vloersoorten[],3,FALSE)*VLOOKUP($S12,Frequenties[],3,FALSE)*VLOOKUP($A12,Locaties[],3,FALSE),0) -> 0 | V12: =Ruimtestaat[[#This Row],[Uitvoeringen werkdagen]]*Ruimtestaat[[#This Row],[Oppervlak (netto)]] -> 400 | W12: =IF(U12>0,Ruimtestaat[[#This Row],[Prest. (m2 /jaar) werkdagen]]/Ruimtestaat[[#This Row],[Norm (m2/uur) werkdagen]],0) -> 0 | X12: =Ruimtestaat[[#This Row],[uren / jaar werkdagen]]*Tariefsopbouw!$E$35 -> 0 | Z12: =IF(Ruimtestaat[[#This Row],[Frequentie weekend]]>0,VALUE(LEFT(Y12,1))*R12,0) -> 0 | AA12: =IF($Z12>0,VLOOKUP($J12,Ruimtegroepen[],3,FALSE)*VLOOKUP($L12,Vloersoorten[],3,FALSE)*VLOOKUP($Y12,Frequenties[],3,FALSE)*VLOOKUP($A8,Locaties[],3,FALSE),0) -> 0 | AB12: =Ruimtestaat[[#This Row],[Uitvoeringen weekend]]*Ruimtestaat[[#This Row],[Oppervlak (netto)]] -> 0 | AC12: =IF(AB12>0,Ruimtestaat[[#This Row],[Prest. (m2 /jaar) weekend]]/Ruimtestaat[[#This Row],[Norm (m2/uur) weekend]],0) -> 0 | AD12: =Ruimtestaat[[#This Row],[uren / jaar weekend]]*Tariefsopbouw!$D$40 -> 0 | AE12: =Ruimtestaat[[#This Row],[Prest. (m2 /jaar) weekend]]+Ruimtestaat[[#This Row],[Prest. (m2 /jaar) werkdagen]] -> 400 | AF12: =Ruimtestaat[[#This Row],[uren / jaar weekend]]+Ruimtestaat[[#This Row],[uren / jaar werkdagen]] -> 0 | AG12: =Ruimtestaat[[#This Row],[kosten / jaar weekend]]+Ruimtestaat[[#This Row],[kosten / jaar werkdagen]] -> 0
A13: 1 | B13: =VLOOKUP(Ruimtestaat[[#This Row],[Code]],Locaties[#All],2,FALSE) -> Hoofdgebouw | C13: =VLOOKUP(Ruimtestaat[[#This Row],[Code]],Locaties[#All],4,FALSE) -> Sterrenlaan 16 | D13: =VLOOKUP(Ruimtestaat[[#This Row],[Code]],Locaties[#All],5,FALSE) -> 5631 KA | E13: =VLOOKUP(Ruimtestaat[[#This Row],[Code]],Locaties[#All],6,FALSE) -> Eindhoven | G13: BG | H13: 0.08 | I13: Verkeersruimte | J13: 6 | K13: =VLOOKUP(J13,Ruimtegroepen[],2,FALSE) -> Gangen/hallen | L13: L | M13: Linoleum | N13: 160 | P13: =LEFT(VLOOKUP(Ruimtestaat[[#This Row],[Ruimte code]],Ruimtegroepen[#All],4,1),2) -> V | R13: 40 | S13: 5w | T13: =IF(R13>0,IF(RIGHT(Ruimtestaat[[#This Row],[Frequentie werkdagen]],1)="w",VALUE(LEFT(Ruimtestaat[[#This Row],[Frequentie werkdagen]],(LEN(Ruimtestaat[[#This Row],[Frequentie werkdagen]])-1))*Ruimtestaat[[#This Row],[Aantal weken/jr]]),IF(RIGHT(Ruimtestaat[[#This Row],[Frequentie werkdagen]],1)="m",VALUE(LEFT(Ruimtestaat[[#This Row],[Frequentie werkdagen]],LEN(Ruimtestaat[[#This Row],[Frequentie werkdagen]])-1)*12),VALUE(LEFT(Ruimtestaat[[#This Row],[Frequentie werkdagen]],(LEN(Ruimtestaat[[#This Row],[Frequentie werkdagen]])-1))))),0) -> 200 | U13: =IF(T13>0,VLOOKUP($J13,Ruimtegroepen[],3,FALSE)*VLOOKUP($L13,Vloersoorten[],3,FALSE)*VLOOKUP($S13,Frequenties[],3,FALSE)*VLOOKUP($A13,Locaties[],3,FALSE),0) -> 0 | V13: =Ruimtestaat[[#This Row],[Uitvoeringen werkdagen]]*Ruimtestaat[[#This Row],[Oppervlak (netto)]] -> 32000 | W13: =IF(U13>0,Ruimtestaat[[#This Row],[Prest. (m2 /jaar) werkdagen]]/Ruimtestaat[[#This Row],[Norm (m2/uur) werkdagen]],0) -> 0 | X13: =Ruimtestaat[[#This Row],[uren / jaar werkdagen]]*Tariefsopbouw!$E$35 -> 0 | Z13: =IF(Ruimtestaat[[#This Row],[Frequentie weekend]]>0,VALUE(LEFT(Y13,1))*R13,0) -> 0 | AA13: =IF($Z13>0,VLOOKUP($J13,Ruimtegroepen[],3,FALSE)*VLOOKUP($L13,Vloersoorten[],3,FALSE)*VLOOKUP($Y13,Frequenties[],3,FALSE)*VLOOKUP($A9,Locaties[],3,FALSE),0) -> 0 | AB13: =Ruimtestaat[[#This Row],[Uitvoeringen weekend]]*Ruimtestaat[[#This Row],[Oppervlak (netto)]] -> 0 | AC13: =IF(AB13>0,Ruimtestaat[[#This Row],[Prest. (m2 /jaar) weekend]]/Ruimtestaat[[#This Row],[Norm (m2/uur) weekend]],0) -> 0 | AD13: =Ruimtestaat[[#This Row],[uren / jaar weekend]]*Tariefsopbouw!$D$40 -> 0 | AE13: =Ruimtestaat[[#This Row],[Prest. (m2 /jaar) weekend]]+Ruimtestaat[[#This Row],[Prest. (m2 /jaar) werkdagen]] -> 32000 | AF13: =Ruimtestaat[[#This Row],[uren / jaar weekend]]+Ruimtestaat[[#This Row],[uren / jaar werkdagen]] -> 0 | AG13: =Ruimtestaat[[#This Row],[kosten / jaar weekend]]+Ruimtestaat[[#This Row],[kosten / jaar werkdagen]] -> 0
A14: 1 | B14: =VLOOKUP(Ruimtestaat[[#This Row],[Code]],Locaties[#All],2,FALSE) -> Hoofdgebouw | C14: =VLOOKUP(Ruimtestaat[[#This Row],[Code]],Locaties[#All],4,FALSE) -> Sterrenlaan 16 | D14: =VLOOKUP(Ruimtestaat[[#This Row],[Code]],Locaties[#All],5,FALSE) -> 5631 KA | E14: =VLOOKUP(Ruimtestaat[[#This Row],[Code]],Locaties[#All],6,FALSE) -> Eindhoven | G14: BG | H14: 0.09 | I14: Trappenhuis | J14: 10 | K14: =VLOOKUP(J14,Ruimtegroepen[],2,FALSE) -> Trappenhuizen/lift | L14: T | M14: Tapijt | N14: 21 | P14: =LEFT(VLOOKUP(Ruimtestaat[[#This Row],[Ruimte code]],Ruimtegroepen[#All],4,1),2) -> V | R14: 40 | S14: 5w | T14: =IF(R14>0,IF(RIGHT(Ruimtestaat[[#This Row],[Frequentie werkdagen]],1)="w",VALUE(LEFT(Ruimtestaat[[#This Row],[Frequentie werkdagen]],(LEN(Ruimtestaat[[#This Row],[Frequentie werkdagen]])-1))*Ruimtestaat[[#This Row],[Aantal weken/jr]]),IF(RIGHT(Ruimtestaat[[#This Row],[Frequentie werkdagen]],1)="m",VALUE(LEFT(Ruimtestaat[[#This Row],[Frequentie werkdagen]],LEN(Ruimtestaat[[#This Row],[Frequentie werkdagen]])-1)*12),VALUE(LEFT(Ruimtestaat[[#This Row],[Frequentie werkdagen]],(LEN(Ruimtestaat[[#This Row],[Frequentie werkdagen]])-1))))),0) -> 200 | U14: =IF(T14>0,VLOOKUP($J14,Ruimtegroepen[],3,FALSE)*VLOOKUP($L14,Vloersoorten[],3,FALSE)*VLOOKUP($S14,Frequenties[],3,FALSE)*VLOOKUP($A14,Locaties[],3,FALSE),0) -> 0 | V14: =Ruimtestaat[[#This Row],[Uitvoeringen werkdagen]]*Ruimtestaat[[#This Row],[Oppervlak (netto)]] -> 4200 | W14: =IF(U14>0,Ruimtestaat[[#This Row],[Prest. (m2 /jaar) werkdagen]]/Ruimtestaat[[#This Row],[Norm (m2/uur) werkdagen]],0) -> 0 | X14: =Ruimtestaat[[#This Row],[uren / jaar werkdagen]]*Tariefsopbouw!$E$35 -> 0 | Z14: =IF(Ruimtestaat[[#This Row],[Frequentie weekend]]>0,VALUE(LEFT(Y14,1))*R14,0) -> 0 | AA14: =IF($Z14>0,VLOOKUP($J14,Ruimtegroepen[],3,FALSE)*VLOOKUP($L14,Vloersoorten[],3,FALSE)*VLOOKUP($Y14,Frequenties[],3,FALSE)*VLOOKUP($A10,Locaties[],3,FALSE),0) -> 0 | AB14: =Ruimtestaat[[#This Row],[Uitvoeringen weekend]]*Ruimtestaat[[#This Row],[Oppervlak (netto)]] -> 0 | AC14: =IF(AB14>0,Ruimtestaat[[#This Row],[Prest. (m2 /jaar) weekend]]/Ruimtestaat[[#This Row],[Norm (m2/uur) weekend]],0) -> 0 | AD14: =Ruimtestaat[[#This Row],[uren / jaar weekend]]*Tariefsopbouw!$D$40 -> 0 | AE14: =Ruimtestaat[[#This Row],[Prest. (m2 /jaar) weekend]]+Ruimtestaat[[#This Row],[Prest. (m2 /jaar) werkdagen]] -> 4200 | AF14: =Ruimtestaat[[#This Row],[uren / jaar weekend]]+Ruimtestaat[[#This Row],[uren / jaar werkdagen]] -> 0 | AG14: =Ruimtestaat[[#This Row],[kosten / jaar weekend]]+Ruimtestaat[[#This Row],[kosten / jaar werkdagen]] -> 0
A15: 1 | B15: =VLOOKUP(Ruimtestaat[[#This Row],[Code]],Locaties[#All],2,FALSE) -> Hoofdgebouw | C15: =VLOOKUP(Ruimtestaat[[#This Row],[Code]],Locaties[#All],4,FALSE) -> Sterrenlaan 16 | D15: =VLOOKUP(Ruimtestaat[[#This Row],[Code]],Locaties[#All],5,FALSE) -> 5631 KA | E15: =VLOOKUP(Ruimtestaat[[#This Row],[Code]],Locaties[#All],6,FALSE) -> Eindhoven | G15: BG | H15: 0.09A | I15: Trap | J15: 10 | K15: =VLOOKUP(J15,Ruimtegroepen[],2,FALSE) -> Trappenhuizen/lift | L15: H | M15: hout | N15: 5 | P15: =LEFT(VLOOKUP(Ruimtestaat[[#This Row],[Ruimte code]],Ruimtegroepen[#All],4,1),2) -> V | R15: 40 | S15: 5w | T15: =IF(R15>0,IF(RIGHT(Ruimtestaat[[#This Row],[Frequentie werkdagen]],1)="w",VALUE(LEFT(Ruimtestaat[[#This Row],[Frequentie werkdagen]],(LEN(Ruimtestaat[[#This Row],[Frequentie werkdagen]])-1))*Ruimtestaat[[#This Row],[Aantal weken/jr]]),IF(RIGHT(Ruimtestaat[[#This Row],[Frequentie werkdagen]],1)="m",VALUE(LEFT(Ruimtestaat[[#This Row],[Frequentie werkdagen]],LEN(Ruimtestaat[[#This Row],[Frequentie werkdagen]])-1)*12),VALUE(LEFT(Ruimtestaat[[#This Row],[Frequentie werkdagen]],(LEN(Ruimtestaat[[#This Row],[Frequentie werkdagen]])-1))))),0) -> 200 | U15: =IF(T15>0,VLOOKUP($J15,Ruimtegroepen[],3,FALSE)*VLOOKUP($L15,Vloersoorten[],3,FALSE)*VLOOKUP($S15,Frequenties[],3,FALSE)*VLOOKUP($A15,Locaties[],3,FALSE),0) -> 0 | V15: =Ruimtestaat[[#This Row],[Uitvoeringen werkdagen]]*Ruimtestaat[[#This Row],[Oppervlak (netto)]] -> 1000 | W15: =IF(U15>0,Ruimtestaat[[#This Row],[Prest. (m2 /jaar) werkdagen]]/Ruimtestaat[[#This Row],[Norm (m2/uur) werkdagen]],0) -> 0 | X15: =Ruimtestaat[[#This Row],[uren / jaar werkdagen]]*Tariefsopbouw!$E$35 -> 0 | Z15: =IF(Ruimtestaat[[#This Row],[Frequentie weekend]]>0,VALUE(LEFT(Y15,1))*R15,0) -> 0 | AA15: =IF($Z15>0,VLOOKUP($J15,Ruimtegroepen[],3,FALSE)*VLOOKUP($L15,Vloersoorten[],3,FALSE)*VLOOKUP($Y15,Frequenties[],3,FALSE)*VLOOKUP($A11,Locaties[],3,FALSE),0) -> 0 | AB15: =Ruimtestaat[[#This Row],[Uitvoeringen weekend]]*Ruimtestaat[[#This Row],[Oppervlak (netto)]] -> 0 | AC15: =IF(AB15>0,Ruimtestaat[[#This Row],[Prest. (m2 /jaar) weekend]]/Ruimtestaat[[#This Row],[Norm (m2/uur) weekend]],0) -> 0 | AD15: =Ruimtestaat[[#This Row],[uren / jaar weekend]]*Tariefsopbouw!$D$40 -> 0 | AE15: =Ruimtestaat[[#This Row],[Prest. (m2 /jaar) weekend]]+Ruimtestaat[[#This Row],[Prest. (m2 /jaar) werkdagen]] -> 1000 | AF15: =Ruimtestaat[[#This Row],[uren / jaar weekend]]+Ruimtestaat[[#This Row],[uren / jaar werkdagen]] -> 0 | AG15: =Ruimtestaat[[#This Row],[kosten / jaar weekend]]+Ruimtestaat[[#This Row],[kosten / jaar werkdagen]] -> 0
A16: 1 | B16: =VLOOKUP(Ruimtestaat[[#This Row],[Code]],Locaties[#All],2,FALSE) -> Hoofdgebouw | C16: =VLOOKUP(Ruimtestaat[[#This Row],[Code]],Locaties[#All],4,FALSE) -> Sterrenlaan 16 | D16: =VLOOKUP(Ruimtestaat[[#This Row],[Code]],Locaties[#All],5,FALSE) -> 5631 KA | E16: =VLOOKUP(Ruimtestaat[[#This Row],[Code]],Locaties[#All],6,FALSE) -> Eindhoven | G16: BG | H16: 0.10 | I16: Trappenhuis | J16: 10 | K16: =VLOOKUP(J16,Ruimtegroepen[],2,FALSE) -> Trappenhuizen/lift | L16: T | M16: Tapijt | N16: 28 | P16: =LEFT(VLOOKUP(Ruimtestaat[[#This Row],[Ruimte code]],Ruimtegroepen[#All],4,1),2) -> V | R16: 40 | S16: 5w | T16: =IF(R16>0,IF(RIGHT(Ruimtestaat[[#This Row],[Frequentie werkdagen]],1)="w",VALUE(LEFT(Ruimtestaat[[#This Row],[Frequentie werkdagen]],(LEN(Ruimtestaat[[#This Row],[Frequentie werkdagen]])-1))*Ruimtestaat[[#This Row],[Aantal weken/jr]]),IF(RIGHT(Ruimtestaat[[#This Row],[Frequentie werkdagen]],1)="m",VALUE(LEFT(Ruimtestaat[[#This Row],[Frequentie werkdagen]],LEN(Ruimtestaat[[#This Row],[Frequentie werkdagen]])-1)*12),VALUE(LEFT(Ruimtestaat[[#This Row],[Frequentie werkdagen]],(LEN(Ruimtestaat[[#This Row],[Frequentie werkdagen]])-1))))),0) -> 200 | U16: =IF(T16>0,VLOOKUP($J16,Ruimtegroepen[],3,FALSE)*VLOOKUP($L16,Vloersoorten[],3,FALSE)*VLOOKUP($S16,Frequenties[],3,FALSE)*VLOOKUP($A16,Locaties[],3,FALSE),0) -> 0 | V16: =Ruimtestaat[[#This Row],[Uitvoeringen werkdagen]]*Ruimtestaat[[#This Row],[Oppervlak (netto)]] -> 5600 | W16: =IF(U16>0,Ruimtestaat[[#This Row],[Prest. (m2 /jaar) werkdagen]]/Ruimtestaat[[#This Row],[Norm (m2/uur) werkdagen]],0) -> 0 | X16: =Ruimtestaat[[#This Row],[uren / jaar werkdagen]]*Tariefsopbouw!$E$35 -> 0 | Z16: =IF(Ruimtestaat[[#This Row],[Frequentie weekend]]>0,VALUE(LEFT(Y16,1))*R16,0) -> 0 | AA16: =IF($Z16>0,VLOOKUP($J16,Ruimtegroepen[],3,FALSE)*VLOOKUP($L16,Vloersoorten[],3,FALSE)*VLOOKUP($Y16,Frequenties[],3,FALSE)*VLOOKUP($A12,Locaties[],3,FALSE),0) -> 0 | AB16: =Ruimtestaat[[#This Row],[Uitvoeringen weekend]]*Ruimtestaat[[#This Row],[Oppervlak (netto)]] -> 0 | AC16: =IF(AB16>0,Ruimtestaat[[#This Row],[Prest. (m2 /jaar) weekend]]/Ruimtestaat[[#This Row],[Norm (m2/uur) weekend]],0) -> 0 | AD16: =Ruimtestaat[[#This Row],[uren / jaar weekend]]*Tariefsopbouw!$D$40 -> 0 | AE16: =Ruimtestaat[[#This Row],[Prest. (m2 /jaar) weekend]]+Ruimtestaat[[#This Row],[Prest. (m2 /jaar) werkdagen]] -> 5600 | AF16: =Ruimtestaat[[#This Row],[uren / jaar weekend]]+Ruimtestaat[[#This Row],[uren / jaar werkdagen]] -> 0 | AG16: =Ruimtestaat[[#This Row],[kosten / jaar weekend]]+Ruimtestaat[[#This Row],[kosten / jaar werkdagen]] -> 0
A17: 1 | B17: =VLOOKUP(Ruimtestaat[[#This Row],[Code]],Locaties[#All],2,FALSE) -> Hoofdgebouw | C17: =VLOOKUP(Ruimtestaat[[#This Row],[Code]],Locaties[#All],4,FALSE) -> Sterrenlaan 16 | D17: =VLOOKUP(Ruimtestaat[[#This Row],[Code]],Locaties[#All],5,FALSE) -> 5631 KA | E17: =VLOOKUP(Ruimtestaat[[#This Row],[Code]],Locaties[#All],6,FALSE) -> Eindhoven | G17: BG | H17: 0.10A | I17: Trap | J17: 10 | K17: =VLOOKUP(J17,Ruimtegroepen[],2,FALSE) -> Trappenhuizen/lift | L17: H | M17: Hout | N17: 5 | P17: =LEFT(VLOOKUP(Ruimtestaat[[#This Row],[Ruimte code]],Ruimtegroepen[#All],4,1),2) -> V | R17: 40 | S17: 5w | T17: =IF(R17>0,IF(RIGHT(Ruimtestaat[[#This Row],[Frequentie werkdagen]],1)="w",VALUE(LEFT(Ruimtestaat[[#This Row],[Frequentie werkdagen]],(LEN(Ruimtestaat[[#This Row],[Frequentie werkdagen]])-1))*Ruimtestaat[[#This Row],[Aantal weken/jr]]),IF(RIGHT(Ruimtestaat[[#This Row],[Frequentie werkdagen]],1)="m",VALUE(LEFT(Ruimtestaat[[#This Row],[Frequentie werkdagen]],LEN(Ruimtestaat[[#This Row],[Frequentie werkdagen]])-1)*12),VALUE(LEFT(Ruimtestaat[[#This Row],[Frequentie werkdagen]],(LEN(Ruimtestaat[[#This Row],[Frequentie werkdagen]])-1))))),0) -> 200 | U17: =IF(T17>0,VLOOKUP($J17,Ruimtegroepen[],3,FALSE)*VLOOKUP($L17,Vloersoorten[],3,FALSE)*VLOOKUP($S17,Frequenties[],3,FALSE)*VLOOKUP($A17,Locaties[],3,FALSE),0) -> 0 | V17: =Ruimtestaat[[#This Row],[Uitvoeringen werkdagen]]*Ruimtestaat[[#This Row],[Oppervlak (netto)]] -> 1000 | W17: =IF(U17>0,Ruimtestaat[[#This Row],[Prest. (m2 /jaar) werkdagen]]/Ruimtestaat[[#This Row],[Norm (m2/uur) werkdagen]],0) -> 0 | X17: =Ruimtestaat[[#This Row],[uren / jaar werkdagen]]*Tariefsopbouw!$E$35 -> 0 | Z17: =IF(Ruimtestaat[[#This Row],[Frequentie weekend]]>0,VALUE(LEFT(Y17,1))*R17,0) -> 0 | AA17: =IF($Z17>0,VLOOKUP($J17,Ruimtegroepen[],3,FALSE)*VLOOKUP($L17,Vloersoorten[],3,FALSE)*VLOOKUP($Y17,Frequenties[],3,FALSE)*VLOOKUP($A13,Locaties[],3,FALSE),0) -> 0 | AB17: =Ruimtestaat[[#This Row],[Uitvoeringen weekend]]*Ruimtestaat[[#This Row],[Oppervlak (netto)]] -> 0 | AC17: =IF(AB17>0,Ruimtestaat[[#This Row],[Prest. (m2 /jaar) weekend]]/Ruimtestaat[[#This Row],[Norm (m2/uur) weekend]],0) -> 0 | AD17: =Ruimtestaat[[#This Row],[uren / jaar weekend]]*Tariefsopbouw!$D$40 -> 0 | AE17: =Ruimtestaat[[#This Row],[Prest. (m2 /jaar) weekend]]+Ruimtestaat[[#This Row],[Prest. (m2 /jaar) werkdagen]] -> 1000 | AF17: =Ruimtestaat[[#This Row],[uren / jaar weekend]]+Ruimtestaat[[#This Row],[uren / jaar werkdagen]] -> 0 | AG17: =Ruimtestaat[[#This Row],[kosten / jaar weekend]]+Ruimtestaat[[#This Row],[kosten / jaar werkdagen]] -> 0
A18: 1 | B18: =VLOOKUP(Ruimtestaat[[#This Row],[Code]],Locaties[#All],2,FALSE) -> Hoofdgebouw | C18: =VLOOKUP(Ruimtestaat[[#This Row],[Code]],Locaties[#All],4,FALSE) -> Sterrenlaan 16 | D18: =VLOOKUP(Ruimtestaat[[#This Row],[Code]],Locaties[#All],5,FALSE) -> 5631 KA | E18: =VLOOKUP(Ruimtestaat[[#This Row],[Code]],Locaties[#All],6,FALSE) -> Eindhoven | G18: BG | H18: 0.11 | I18: Zij-entree | J18: 7 | K18: =VLOOKUP(J18,Ruimtegroepen[],2,FALSE) -> Entree | L18: T | M18: schoonloopmat | N18: 6 | P18: =LEFT(VLOOKUP(Ruimtestaat[[#This Row],[Ruimte code]],Ruimtegroepen[#All],4,1),2) -> V | R18: 40 | S18: 5w | T18: =IF(R18>0,IF(RIGHT(Ruimtestaat[[#This Row],[Frequentie werkdagen]],1)="w",VALUE(LEFT(Ruimtestaat[[#This Row],[Frequentie werkdagen]],(LEN(Ruimtestaat[[#This Row],[Frequentie werkdagen]])-1))*Ruimtestaat[[#This Row],[Aantal weken/jr]]),IF(RIGHT(Ruimtestaat[[#This Row],[Frequentie werkdagen]],1)="m",VALUE(LEFT(Ruimtestaat[[#This Row],[Frequentie werkdagen]],LEN(Ruimtestaat[[#This Row],[Frequentie werkdagen]])-1)*12),VALUE(LEFT(Ruimtestaat[[#This Row],[Frequentie werkdagen]],(LEN(Ruimtestaat[[#This Row],[Frequentie werkdagen]])-1))))),0) -> 200 | U18: =IF(T18>0,VLOOKUP($J18,Ruimtegroepen[],3,FALSE)*VLOOKUP($L18,Vloersoorten[],3,FALSE)*VLOOKUP($S18,Frequenties[],3,FALSE)*VLOOKUP($A18,Locaties[],3,FALSE),0) -> 0 | V18: =Ruimtestaat[[#This Row],[Uitvoeringen werkdagen]]*Ruimtestaat[[#This Row],[Oppervlak (netto)]] -> 1200 | W18: =IF(U18>0,Ruimtestaat[[#This Row],[Prest. (m2 /jaar) werkdagen]]/Ruimtestaat[[#This Row],[Norm (m2/uur) werkdagen]],0) -> 0 | X18: =Ruimtestaat[[#This Row],[uren / jaar werkdagen]]*Tariefsopbouw!$E$35 -> 0 | Z18: =IF(Ruimtestaat[[#This Row],[Frequentie weekend]]>0,VALUE(LEFT(Y18,1))*R18,0) -> 0 | AA18: =IF($Z18>0,VLOOKUP($J18,Ruimtegroepen[],3,FALSE)*VLOOKUP($L18,Vloersoorten[],3,FALSE)*VLOOKUP($Y18,Frequenties[],3,FALSE)*VLOOKUP($A14,Locaties[],3,FALSE),0) -> 0 | AB18: =Ruimtestaat[[#This Row],[Uitvoeringen weekend]]*Ruimtestaat[[#This Row],[Oppervlak (netto)]] -> 0 | AC18: =IF(AB18>0,Ruimtestaat[[#This Row],[Prest. (m2 /jaar) weekend]]/Ruimtestaat[[#This Row],[Norm (m2/uur) weekend]],0) -> 0 | AD18: =Ruimtestaat[[#This Row],[uren / jaar weekend]]*Tariefsopbouw!$D$40 -> 0 | AE18: =Ruimtestaat[[#This Row],[Prest. (m2 /jaar) weekend]]+Ruimtestaat[[#This Row],[Prest. (m2 /jaar) werkdagen]] -> 1200 | AF18: =Ruimtestaat[[#This Row],[uren / jaar weekend]]+Ruimtestaat[[#This Row],[uren / jaar werkdagen]] -> 0 | AG18: =Ruimtestaat[[#This Row],[kosten / jaar weekend]]+Ruimtestaat[[#This Row],[kosten / jaar werkdagen]] -> 0
A19: 1 | B19: =VLOOKUP(Ruimtestaat[[#This Row],[Code]],Locaties[#All],2,FALSE) -> Hoofdgebouw | C19: =VLOOKUP(Ruimtestaat[[#This Row],[Code]],Locaties[#All],4,FALSE) -> Sterrenlaan 16 | D19: =VLOOKUP(Ruimtestaat[[#This Row],[Code]],Locaties[#All],5,FALSE) -> 5631 KA | E19: =VLOOKUP(Ruimtestaat[[#This Row],[Code]],Locaties[#All],6,FALSE) -> Eindhoven | G19: BG | H19: 0.12 | I19: Verkeersruimte | J19: 6 | K19: =VLOOKUP(J19,Ruimtegroepen[],2,FALSE) -> Gangen/hallen | L19: L | M19: Linoleum | N19: 102 | P19: =LEFT(VLOOKUP(Ruimtestaat[[#This Row],[Ruimte code]],Ruimtegroepen[#All],4,1),2) -> V | R19: 40 | S19: 5w | T19: =IF(R19>0,IF(RIGHT(Ruimtestaat[[#This Row],[Frequentie werkdagen]],1)="w",VALUE(LEFT(Ruimtestaat[[#This Row],[Frequentie werkdagen]],(LEN(Ruimtestaat[[#This Row],[Frequentie werkdagen]])-1))*Ruimtestaat[[#This Row],[Aantal weken/jr]]),IF(RIGHT(Ruimtestaat[[#This Row],[Frequentie werkdagen]],1)="m",VALUE(LEFT(Ruimtestaat[[#This Row],[Frequentie werkdagen]],LEN(Ruimtestaat[[#This Row],[Frequentie werkdagen]])-1)*12),VALUE(LEFT(Ruimtestaat[[#This Row],[Frequentie werkdagen]],(LEN(Ruimtestaat[[#This Row],[Frequentie werkdagen]])-1))))),0) -> 200 | U19: =IF(T19>0,VLOOKUP($J19,Ruimtegroepen[],3,FALSE)*VLOOKUP($L19,Vloersoorten[],3,FALSE)*VLOOKUP($S19,Frequenties[],3,FALSE)*VLOOKUP($A19,Locaties[],3,FALSE),0) -> 0 | V19: =Ruimtestaat[[#This Row],[Uitvoeringen werkdagen]]*Ruimtestaat[[#This Row],[Oppervlak (netto)]] -> 20400 | W19: =IF(U19>0,Ruimtestaat[[#This Row],[Prest. (m2 /jaar) werkdagen]]/Ruimtestaat[[#This Row],[Norm (m2/uur) werkdagen]],0) -> 0 | X19: =Ruimtestaat[[#This Row],[uren / jaar werkdagen]]*Tariefsopbouw!$E$35 -> 0 | Z19: =IF(Ruimtestaat[[#This Row],[Frequentie weekend]]>0,VALUE(LEFT(Y19,1))*R19,0) -> 0 | AA19: =IF($Z19>0,VLOOKUP($J19,Ruimtegroepen[],3,FALSE)*VLOOKUP($L19,Vloersoorten[],3,FALSE)*VLOOKUP($Y19,Frequenties[],3,FALSE)*VLOOKUP($A15,Locaties[],3,FALSE),0) -> 0 | AB19: =Ruimtestaat[[#This Row],[Uitvoeringen weekend]]*Ruimtestaat[[#This Row],[Oppervlak (netto)]] -> 0 | AC19: =IF(AB19>0,Ruimtestaat[[#This Row],[Prest. (m2 /jaar) weekend]]/Ruimtestaat[[#This Row],[Norm (m2/uur) weekend]],0) -> 0 | AD19: =Ruimtestaat[[#This Row],[uren / jaar weekend]]*Tariefsopbouw!$D$40 -> 0 | AE19: =Ruimtestaat[[#This Row],[Prest. (m2 /jaar) weekend]]+Ruimtestaat[[#This Row],[Prest. (m2 /jaar) werkdagen]] -> 20400 | AF19: =Ruimtestaat[[#This Row],[uren / jaar weekend]]+Ruimtestaat[[#This Row],[uren / jaar werkdagen]] -> 0 | AG19: =Ruimtestaat[[#This Row],[kosten / jaar weekend]]+Ruimtestaat[[#This Row],[kosten / jaar werkdagen]] -> 0
A20: 1 | B20: =VLOOKUP(Ruimtestaat[[#This Row],[Code]],Locaties[#All],2,FALSE) -> Hoofdgebouw | C20: =VLOOKUP(Ruimtestaat[[#This Row],[Code]],Locaties[#All],4,FALSE) -> Sterrenlaan 16 | D20: =VLOOKUP(Ruimtestaat[[#This Row],[Code]],Locaties[#All],5,FALSE) -> 5631 KA | E20: =VLOOKUP(Ruimtestaat[[#This Row],[Code]],Locaties[#All],6,FALSE) -> Eindhoven | G20: BG | H20: 0.13 | I20: Keuken | J20: 15 | K20: =VLOOKUP(J20,Ruimtegroepen[],2,FALSE) -> Keuken/pantry | L20: S | M20: Tegels | N20: 27 | P20: =LEFT(VLOOKUP(Ruimtestaat[[#This Row],[Ruimte code]],Ruimtegroepen[#All],4,1),2) -> V | R20: 40 | S20: 5w | T20: =IF(R20>0,IF(RIGHT(Ruimtestaat[[#This Row],[Frequentie werkdagen]],1)="w",VALUE(LEFT(Ruimtestaat[[#This Row],[Frequentie werkdagen]],(LEN(Ruimtestaat[[#This Row],[Frequentie werkdagen]])-1))*Ruimtestaat[[#This Row],[Aantal weken/jr]]),IF(RIGHT(Ruimtestaat[[#This Row],[Frequentie werkdagen]],1)="m",VALUE(LEFT(Ruimtestaat[[#This Row],[Frequentie werkdagen]],LEN(Ruimtestaat[[#This Row],[Frequentie werkdagen]])-1)*12),VALUE(LEFT(Ruimtestaat[[#This Row],[Frequentie werkdagen]],(LEN(Ruimtestaat[[#This Row],[Frequentie werkdagen]])-1))))),0) -> 200 | U20: =IF(T20>0,VLOOKUP($J20,Ruimtegroepen[],3,FALSE)*VLOOKUP($L20,Vloersoorten[],3,FALSE)*VLOOKUP($S20,Frequenties[],3,FALSE)*VLOOKUP($A20,Locaties[],3,FALSE),0) -> 0 | V20: =Ruimtestaat[[#This Row],[Uitvoeringen werkdagen]]*Ruimtestaat[[#This Row],[Oppervlak (netto)]] -> 5400 | W20: =IF(U20>0,Ruimtestaat[[#This Row],[Prest. (m2 /jaar) werkdagen]]/Ruimtestaat[[#This Row],[Norm (m2/uur) werkdagen]],0) -> 0 | X20: =Ruimtestaat[[#This Row],[uren / jaar werkdagen]]*Tariefsopbouw!$E$35 -> 0 | Z20: =IF(Ruimtestaat[[#This Row],[Frequentie weekend]]>0,VALUE(LEFT(Y20,1))*R20,0) -> 0 | AA20: =IF($Z20>0,VLOOKUP($J20,Ruimtegroepen[],3,FALSE)*VLOOKUP($L20,Vloersoorten[],3,FALSE)*VLOOKUP($Y20,Frequenties[],3,FALSE)*VLOOKUP($A16,Locaties[],3,FALSE),0) -> 0 | AB20: =Ruimtestaat[[#This Row],[Uitvoeringen weekend]]*Ruimtestaat[[#This Row],[Oppervlak (netto)]] -> 0 | AC20: =IF(AB20>0,Ruimtestaat[[#This Row],[Prest. (m2 /jaar) weekend]]/Ruimtestaat[[#This Row],[Norm (m2/uur) weekend]],0) -> 0 | AD20: =Ruimtestaat[[#This Row],[uren / jaar weekend]]*Tariefsopbouw!$D$40 -> 0 | AE20: =Ruimtestaat[[#This Row],[Prest. (m2 /jaar) weekend]]+Ruimtestaat[[#This Row],[Prest. (m2 /jaar) werkdagen]] -> 5400 | AF20: =Ruimtestaat[[#This Row],[uren / jaar weekend]]+Ruimtestaat[[#This Row],[uren / jaar werkdagen]] -> 0 | AG20: =Ruimtestaat[[#This Row],[kosten / jaar weekend]]+Ruimtestaat[[#This Row],[kosten / jaar werkdagen]] -> 0
A21: 1 | B21: =VLOOKUP(Ruimtestaat[[#This Row],[Code]],Locaties[#All],2,FALSE) -> Hoofdgebouw | C21: =VLOOKUP(Ruimtestaat[[#This Row],[Code]],Locaties[#All],4,FALSE) -> Sterrenlaan 16 | D21: =VLOOKUP(Ruimtestaat[[#This Row],[Code]],Locaties[#All],5,FALSE) -> 5631 KA | E21: =VLOOKUP(Ruimtestaat[[#This Row],[Code]],Locaties[#All],6,FALSE) -> Eindhoven | G21: BG | H21: 0.14 | I21: Opslag/werkkast | J21: 20 | K21: =VLOOKUP(J21,Ruimtegroepen[],2,FALSE) -> Niet in onderhoud | L21: L | M21: Linoleum | O21: 4 | P21: =LEFT(VLOOKUP(Ruimtestaat[[#This Row],[Ruimte code]],Ruimtegroepen[#All],4,1),2) | T21: =IF(R21>0,IF(RIGHT(Ruimtestaat[[#This Row],[Frequentie werkdagen]],1)="w",VALUE(LEFT(Ruimtestaat[[#This Row],[Frequentie werkdagen]],(LEN(Ruimtestaat[[#This Row],[Frequentie werkdagen]])-1))*Ruimtestaat[[#This Row],[Aantal weken/jr]]),IF(RIGHT(Ruimtestaat[[#This Row],[Frequentie werkdagen]],1)="m",VALUE(LEFT(Ruimtestaat[[#This Row],[Frequentie werkdagen]],LEN(Ruimtestaat[[#This Row],[Frequentie werkdagen]])-1)*12),VALUE(LEFT(Ruimtestaat[[#This Row],[Frequentie werkdagen]],(LEN(Ruimtestaat[[#This Row],[Frequentie werkdagen]])-1))))),0) -> 0 | U21: =IF(T21>0,VLOOKUP($J21,Ruimtegroepen[],3,FALSE)*VLOOKUP($L21,Vloersoorten[],3,FALSE)*VLOOKUP($S21,Frequenties[],3,FALSE)*VLOOKUP($A21,Locaties[],3,FALSE),0) -> 0 | V21: =Ruimtestaat[[#This Row],[Uitvoeringen werkdagen]]*Ruimtestaat[[#This Row],[Oppervlak (netto)]] -> 0 | W21: =IF(U21>0,Ruimtestaat[[#This Row],[Prest. (m2 /jaar) werkdagen]]/Ruimtestaat[[#This Row],[Norm (m2/uur) werkdagen]],0) -> 0 | X21: =Ruimtestaat[[#This Row],[uren / jaar werkdagen]]*Tariefsopbouw!$E$35 -> 0 | Z21: =IF(Ruimtestaat[[#This Row],[Frequentie weekend]]>0,VALUE(LEFT(Y21,1))*R21,0) -> 0 | AA21: =IF($Z21>0,VLOOKUP($J21,Ruimtegroepen[],3,FALSE)*VLOOKUP($L21,Vloersoorten[],3,FALSE)*VLOOKUP($Y21,Frequenties[],3,FALSE)*VLOOKUP($A16,Locaties[],3,FALSE),0) -> 0 | AB21: =Ruimtestaat[[#This Row],[Uitvoeringen weekend]]*Ruimtestaat[[#This Row],[Oppervlak (netto)]] -> 0 | AC21: =IF(AB21>0,Ruimtestaat[[#This Row],[Prest. (m2 /jaar) weekend]]/Ruimtestaat[[#This Row],[Norm (m2/uur) weekend]],0) -> 0 | AD21: =Ruimtestaat[[#This Row],[uren / jaar weekend]]*Tariefsopbouw!$D$40 -> 0 | AE21: =Ruimtestaat[[#This Row],[Prest. (m2 /jaar) weekend]]+Ruimtestaat[[#This Row],[Prest. (m2 /jaar) werkdagen]] -> 0 | AF21: =Ruimtestaat[[#This Row],[uren / jaar weekend]]+Ruimtestaat[[#This Row],[uren / jaar werkdagen]] -> 0 | AG21: =Ruimtestaat[[#This Row],[kosten / jaar weekend]]+Ruimtestaat[[#This Row],[kosten / jaar werkdagen]] -> 0
A22: 1 | B22: =VLOOKUP(Ruimtestaat[[#This Row],[Code]],Locaties[#All],2,FALSE) -> Hoofdgebouw | C22: =VLOOKUP(Ruimtestaat[[#This Row],[Code]],Locaties[#All],4,FALSE) -> Sterrenlaan 16 | D22: =VLOOKUP(Ruimtestaat[[#This Row],[Code]],Locaties[#All],5,FALSE) -> 5631 KA | E22: =VLOOKUP(Ruimtestaat[[#This Row],[Code]],Locaties[#All],6,FALSE) -> Eindhoven | G22: BG | H22: 0.15 | I22: Technische ruimte | J22: 20 | K22: =VLOOKUP(J22,Ruimtegroepen[],2,FALSE) -> Niet in onderhoud | L22: S | M22: steen | P22: =LEFT(VLOOKUP(Ruimtestaat[[#This Row],[Ruimte code]],Ruimtegroepen[#All],4,1),2) | T22: =IF(R22>0,IF(RIGHT(Ruimtestaat[[#This Row],[Frequentie werkdagen]],1)="w",VALUE(LEFT(Ruimtestaat[[#This Row],[Frequentie werkdagen]],(LEN(Ruimtestaat[[#This Row],[Frequentie werkdagen]])-1))*Ruimtestaat[[#This Row],[Aantal weken/jr]]),IF(RIGHT(Ruimtestaat[[#This Row],[Frequentie werkdagen]],1)="m",VALUE(LEFT(Ruimtestaat[[#This Row],[Frequentie werkdagen]],LEN(Ruimtestaat[[#This Row],[Frequentie werkdagen]])-1)*12),VALUE(LEFT(Ruimtestaat[[#This Row],[Frequentie werkdagen]],(LEN(Ruimtestaat[[#This Row],[Frequentie werkdagen]])-1))))),0) -> 0 | U22: =IF(T22>0,VLOOKUP($J22,Ruimtegroepen[],3,FALSE)*VLOOKUP($L22,Vloersoorten[],3,FALSE)*VLOOKUP($S22,Frequenties[],3,FALSE)*VLOOKUP($A22,Locaties[],3,FALSE),0) -> 0 | V22: =Ruimtestaat[[#This Row],[Uitvoeringen werkdagen]]*Ruimtestaat[[#This Row],[Oppervlak (netto)]] -> 0 | W22: =IF(U22>0,Ruimtestaat[[#This Row],[Prest. (m2 /jaar) werkdagen]]/Ruimtestaat[[#This Row],[Norm (m2/uur) werkdagen]],0) -> 0 | X22: =Ruimtestaat[[#This Row],[uren / jaar werkdagen]]*Tariefsopbouw!$E$35 -> 0 | Z22: =IF(Ruimtestaat[[#This Row],[Frequentie weekend]]>0,VALUE(LEFT(Y22,1))*R22,0) -> 0 | AA22: =IF($Z22>0,VLOOKUP($J22,Ruimtegroepen[],3,FALSE)*VLOOKUP($L22,Vloersoorten[],3,FALSE)*VLOOKUP($Y22,Frequenties[],3,FALSE)*VLOOKUP($A17,Locaties[],3,FALSE),0) -> 0 | AB22: =Ruimtestaat[[#This Row],[Uitvoeringen weekend]]*Ruimtestaat[[#This Row],[Oppervlak (netto)]] -> 0 | AC22: =IF(AB22>0,Ruimtestaat[[#This Row],[Prest. (m2 /jaar) weekend]]/Ruimtestaat[[#This Row],[Norm (m2/uur) weekend]],0) -> 0 | AD22: =Ruimtestaat[[#This Row],[uren / jaar weekend]]*Tariefsopbouw!$D$40 -> 0 | AE22: =Ruimtestaat[[#This Row],[Prest. (m2 /jaar) weekend]]+Ruimtestaat[[#This Row],[Prest. (m2 /jaar) werkdagen]] -> 0 | AF22: =Ruimtestaat[[#This Row],[uren / jaar weekend]]+Ruimtestaat[[#This Row],[uren / jaar werkdagen]] -> 0 | AG22: =Ruimtestaat[[#This Row],[kosten / jaar weekend]]+Ruimtestaat[[#This Row],[kosten / jaar werkdagen]] -> 0
A23: 1 | B23: =VLOOKUP(Ruimtestaat[[#This Row],[Code]],Locaties[#All],2,FALSE) -> Hoofdgebouw | C23: =VLOOKUP(Ruimtestaat[[#This Row],[Code]],Locaties[#All],4,FALSE) -> Sterrenlaan 16 | D23: =VLOOKUP(Ruimtestaat[[#This Row],[Code]],Locaties[#All],5,FALSE) -> 5631 KA | E23: =VLOOKUP(Ruimtestaat[[#This Row],[Code]],Locaties[#All],6,FALSE) -> Eindhoven | G23: BG | H23: 0.16 | I23: Euritmie | J23: 18 | K23: =VLOOKUP(J23,Ruimtegroepen[],2,FALSE) -> Gymzaal | L23: H | M23: Bamboe | N23: 107 | P23: =LEFT(VLOOKUP(Ruimtestaat[[#This Row],[Ruimte code]],Ruimtegroepen[#All],4,1),2) -> Sp | R23: 40 | S23: 5w | T23: =IF(R23>0,IF(RIGHT(Ruimtestaat[[#This Row],[Frequentie werkdagen]],1)="w",VALUE(LEFT(Ruimtestaat[[#This Row],[Frequentie werkdagen]],(LEN(Ruimtestaat[[#This Row],[Frequentie werkdagen]])-1))*Ruimtestaat[[#This Row],[Aantal weken/jr]]),IF(RIGHT(Ruimtestaat[[#This Row],[Frequentie werkdagen]],1)="m",VALUE(LEFT(Ruimtestaat[[#This Row],[Frequentie werkdagen]],LEN(Ruimtestaat[[#This Row],[Frequentie werkdagen]])-1)*12),VALUE(LEFT(Ruimtestaat[[#This Row],[Frequentie werkdagen]],(LEN(Ruimtestaat[[#This Row],[Frequentie werkdagen]])-1))))),0) -> 200 | U23: =IF(T23>0,VLOOKUP($J23,Ruimtegroepen[],3,FALSE)*VLOOKUP($L23,Vloersoorten[],3,FALSE)*VLOOKUP($S23,Frequenties[],3,FALSE)*VLOOKUP($A23,Locaties[],3,FALSE),0) -> 0 | V23: =Ruimtestaat[[#This Row],[Uitvoeringen werkdagen]]*Ruimtestaat[[#This Row],[Oppervlak (netto)]] -> 21400 | W23: =IF(U23>0,Ruimtestaat[[#This Row],[Prest. (m2 /jaar) werkdagen]]/Ruimtestaat[[#This Row],[Norm (m2/uur) werkdagen]],0) -> 0 | X23: =Ruimtestaat[[#This Row],[uren / jaar werkdagen]]*Tariefsopbouw!$E$35 -> 0 | Z23: =IF(Ruimtestaat[[#This Row],[Frequentie weekend]]>0,VALUE(LEFT(Y23,1))*R23,0) -> 0 | AA23: =IF($Z23>0,VLOOKUP($J23,Ruimtegroepen[],3,FALSE)*VLOOKUP($L23,Vloersoorten[],3,FALSE)*VLOOKUP($Y23,Frequenties[],3,FALSE)*VLOOKUP($A18,Locaties[],3,FALSE),0) -> 0 | AB23: =Ruimtestaat[[#This Row],[Uitvoeringen weekend]]*Ruimtestaat[[#This Row],[Oppervlak (netto)]] -> 0 | AC23: =IF(AB23>0,Ruimtestaat[[#This Row],[Prest. (m2 /jaar) weekend]]/Ruimtestaat[[#This Row],[Norm (m2/uur) weekend]],0) -> 0 | AD23: =Ruimtestaat[[#This Row],[uren / jaar weekend]]*Tariefsopbouw!$D$40 -> 0 | AE23: =Ruimtestaat[[#This Row],[Prest. (m2 /jaar) weekend]]+Ruimtestaat[[#This Row],[Prest. (m2 /jaar) werkdagen]] -> 21400 | AF23: =Ruimtestaat[[#This Row],[uren / jaar weekend]]+Ruimtestaat[[#This Row],[uren / jaar werkdagen]] -> 0 | AG23: =Ruimtestaat[[#This Row],[kosten / jaar weekend]]+Ruimtestaat[[#This Row],[kosten / jaar werkdagen]] -> 0
A24: 1 | B24: =VLOOKUP(Ruimtestaat[[#This Row],[Code]],Locaties[#All],2,FALSE) -> Hoofdgebouw | C24: =VLOOKUP(Ruimtestaat[[#This Row],[Code]],Locaties[#All],4,FALSE) -> Sterrenlaan 16 | D24: =VLOOKUP(Ruimtestaat[[#This Row],[Code]],Locaties[#All],5,FALSE) -> 5631 KA | E24: =VLOOKUP(Ruimtestaat[[#This Row],[Code]],Locaties[#All],6,FALSE) -> Eindhoven | G24: BG | H24: 0.17 | I24: Repro | J24: 3 | K24: =VLOOKUP(J24,Ruimtegroepen[],2,FALSE) -> Reproruimte | L24: L | M24: Linoleum | N24: 56 | P24: =LEFT(VLOOKUP(Ruimtestaat[[#This Row],[Ruimte code]],Ruimtegroepen[#All],4,1),2) -> V | R24: 40 | S24: 3w | T24: =IF(R24>0,IF(RIGHT(Ruimtestaat[[#This Row],[Frequentie werkdagen]],1)="w",VALUE(LEFT(Ruimtestaat[[#This Row],[Frequentie werkdagen]],(LEN(Ruimtestaat[[#This Row],[Frequentie werkdagen]])-1))*Ruimtestaat[[#This Row],[Aantal weken/jr]]),IF(RIGHT(Ruimtestaat[[#This Row],[Frequentie werkdagen]],1)="m",VALUE(LEFT(Ruimtestaat[[#This Row],[Frequentie werkdagen]],LEN(Ruimtestaat[[#This Row],[Frequentie werkdagen]])-1)*12),VALUE(LEFT(Ruimtestaat[[#This Row],[Frequentie werkdagen]],(LEN(Ruimtestaat[[#This Row],[Frequentie werkdagen]])-1))))),0) -> 120 | U24: =IF(T24>0,VLOOKUP($J24,Ruimtegroepen[],3,FALSE)*VLOOKUP($L24,Vloersoorten[],3,FALSE)*VLOOKUP($S24,Frequenties[],3,FALSE)*VLOOKUP($A24,Locaties[],3,FALSE),0) -> 0 | V24: =Ruimtestaat[[#This Row],[Uitvoeringen werkdagen]]*Ruimtestaat[[#This Row],[Oppervlak (netto)]] -> 6720 | W24: =IF(U24>0,Ruimtestaat[[#This Row],[Prest. (m2 /jaar) werkdagen]]/Ruimtestaat[[#This Row],[Norm (m2/uur) werkdagen]],0) -> 0 | X24: =Ruimtestaat[[#This Row],[uren / jaar werkdagen]]*Tariefsopbouw!$E$35 -> 0 | Z24: =IF(Ruimtestaat[[#This Row],[Frequentie weekend]]>0,VALUE(LEFT(Y24,1))*R24,0) -> 0 | AA24: =IF($Z24>0,VLOOKUP($J24,Ruimtegroepen[],3,FALSE)*VLOOKUP($L24,Vloersoorten[],3,FALSE)*VLOOKUP($Y24,Frequenties[],3,FALSE)*VLOOKUP($A19,Locaties[],3,FALSE),0) -> 0 | AB24: =Ruimtestaat[[#This Row],[Uitvoeringen weekend]]*Ruimtestaat[[#This Row],[Oppervlak (netto)]] -> 0 | AC24: =IF(AB24>0,Ruimtestaat[[#This Row],[Prest. (m2 /jaar) weekend]]/Ruimtestaat[[#This Row],[Norm (m2/uur) weekend]],0) -> 0 | AD24: =Ruimtestaat[[#This Row],[uren / jaar weekend]]*Tariefsopbouw!$D$40 -> 0 | AE24: =Ruimtestaat[[#This Row],[Prest. (m2 /jaar) weekend]]+Ruimtestaat[[#This Row],[Prest. (m2 /jaar) werkdagen]] -> 6720 | AF24: =Ruimtestaat[[#This Row],[uren / jaar weekend]]+Ruimtestaat[[#This Row],[uren / jaar werkdagen]] -> 0 | AG24: =Ruimtestaat[[#This Row],[kosten / jaar weekend]]+Ruimtestaat[[#This Row],[kosten / jaar werkdagen]] -> 0
A25: 1 | B25: =VLOOKUP(Ruimtestaat[[#This Row],[Code]],Locaties[#All],2,FALSE) -> Hoofdgebouw | C25: =VLOOKUP(Ruimtestaat[[#This Row],[Code]],Locaties[#All],4,FALSE) -> Sterrenlaan 16 | D25: =VLOOKUP(Ruimtestaat[[#This Row],[Code]],Locaties[#All],5,FALSE) -> 5631 KA | E25: =VLOOKUP(Ruimtestaat[[#This Row],[Code]],Locaties[#All],6,FALSE) -> Eindhoven | G25: BG | H25: 0.18 | I25: Toneelopslag | J25: 20 | K25: =VLOOKUP(J25,Ruimtegroepen[],2,FALSE) -> Niet in onderhoud | L25: L | M25: Linoleum | O25: 33 | P25: =LEFT(VLOOKUP(Ruimtestaat[[#This Row],[Ruimte code]],Ruimtegroepen[#All],4,1),2) | T25: =IF(R25>0,IF(RIGHT(Ruimtestaat[[#This Row],[Frequentie werkdagen]],1)="w",VALUE(LEFT(Ruimtestaat[[#This Row],[Frequentie werkdagen]],(LEN(Ruimtestaat[[#This Row],[Frequentie werkdagen]])-1))*Ruimtestaat[[#This Row],[Aantal weken/jr]]),IF(RIGHT(Ruimtestaat[[#This Row],[Frequentie werkdagen]],1)="m",VALUE(LEFT(Ruimtestaat[[#This Row],[Frequentie werkdagen]],LEN(Ruimtestaat[[#This Row],[Frequentie werkdagen]])-1)*12),VALUE(LEFT(Ruimtestaat[[#This Row],[Frequentie werkdagen]],(LEN(Ruimtestaat[[#This Row],[Frequentie werkdagen]])-1))))),0) -> 0 | U25: =IF(T25>0,VLOOKUP($J25,Ruimtegroepen[],3,FALSE)*VLOOKUP($L25,Vloersoorten[],3,FALSE)*VLOOKUP($S25,Frequenties[],3,FALSE)*VLOOKUP($A25,Locaties[],3,FALSE),0) -> 0 | V25: =Ruimtestaat[[#This Row],[Uitvoeringen werkdagen]]*Ruimtestaat[[#This Row],[Oppervlak (netto)]] -> 0 | W25: =IF(U25>0,Ruimtestaat[[#This Row],[Prest. (m2 /jaar) werkdagen]]/Ruimtestaat[[#This Row],[Norm (m2/uur) werkdagen]],0) -> 0 | X25: =Ruimtestaat[[#This Row],[uren / jaar werkdagen]]*Tariefsopbouw!$E$35 -> 0 | Z25: =IF(Ruimtestaat[[#This Row],[Frequentie weekend]]>0,VALUE(LEFT(Y25,1))*R25,0) -> 0 | AA25: =IF($Z25>0,VLOOKUP($J25,Ruimtegroepen[],3,FALSE)*VLOOKUP($L25,Vloersoorten[],3,FALSE)*VLOOKUP($Y25,Frequenties[],3,FALSE)*VLOOKUP($A21,Locaties[],3,FALSE),0) -> 0 | AB25: =Ruimtestaat[[#This Row],[Uitvoeringen weekend]]*Ruimtestaat[[#This Row],[Oppervlak (netto)]] -> 0 | AC25: =IF(AB25>0,Ruimtestaat[[#This Row],[Prest. (m2 /jaar) weekend]]/Ruimtestaat[[#This Row],[Norm (m2/uur) weekend]],0) -> 0 | AD25: =Ruimtestaat[[#This Row],[uren / jaar weekend]]*Tariefsopbouw!$D$40 -> 0 | AE25: =Ruimtestaat[[#This Row],[Prest. (m2 /jaar) weekend]]+Ruimtestaat[[#This Row],[Prest. (m2 /jaar) werkdagen]] -> 0 | AF25: =Ruimtestaat[[#This Row],[uren / jaar weekend]]+Ruimtestaat[[#This Row],[uren / jaar werkdagen]] -> 0 | AG25: =Ruimtestaat[[#This Row],[kosten / jaar weekend]]+Ruimtestaat[[#This Row],[kosten / jaar werkdagen]] -> 0
A26: 1 | B26: =VLOOKUP(Ruimtestaat[[#This Row],[Code]],Locaties[#All],2,FALSE) -> Hoofdgebouw | C26: =VLOOKUP(Ruimtestaat[[#This Row],[Code]],Locaties[#All],4,FALSE) -> Sterrenlaan 16 | D26: =VLOOKUP(Ruimtestaat[[#This Row],[Code]],Locaties[#All],5,FALSE) -> 5631 KA | E26: =VLOOKUP(Ruimtestaat[[#This Row],[Code]],Locaties[#All],6,FALSE) -> Eindhoven | G26: BG | H26: 0.19 | I26: Verkeersruimte | J26: 6 | K26: =VLOOKUP(J26,Ruimtegroepen[],2,FALSE) -> Gangen/hallen | L26: L | M26: Linoleum | N26: 52 | P26: =LEFT(VLOOKUP(Ruimtestaat[[#This Row],[Ruimte code]],Ruimtegroepen[#All],4,1),2) -> V | R26: 40 | S26: 5w | T26: =IF(R26>0,IF(RIGHT(Ruimtestaat[[#This Row],[Frequentie werkdagen]],1)="w",VALUE(LEFT(Ruimtestaat[[#This Row],[Frequentie werkdagen]],(LEN(Ruimtestaat[[#This Row],[Frequentie werkdagen]])-1))*Ruimtestaat[[#This Row],[Aantal weken/jr]]),IF(RIGHT(Ruimtestaat[[#This Row],[Frequentie werkdagen]],1)="m",VALUE(LEFT(Ruimtestaat[[#This Row],[Frequentie werkdagen]],LEN(Ruimtestaat[[#This Row],[Frequentie werkdagen]])-1)*12),VALUE(LEFT(Ruimtestaat[[#This Row],[Frequentie werkdagen]],(LEN(Ruimtestaat[[#This Row],[Frequentie werkdagen]])-1))))),0) -> 200 | U26: =IF(T26>0,VLOOKUP($J26,Ruimtegroepen[],3,FALSE)*VLOOKUP($L26,Vloersoorten[],3,FALSE)*VLOOKUP($S26,Frequenties[],3,FALSE)*VLOOKUP($A26,Locaties[],3,FALSE),0) -> 0 | V26: =Ruimtestaat[[#This Row],[Uitvoeringen werkdagen]]*Ruimtestaat[[#This Row],[Oppervlak (netto)]] -> 10400 | W26: =IF(U26>0,Ruimtestaat[[#This Row],[Prest. (m2 /jaar) werkdagen]]/Ruimtestaat[[#This Row],[Norm (m2/uur) werkdagen]],0) -> 0 | X26: =Ruimtestaat[[#This Row],[uren / jaar werkdagen]]*Tariefsopbouw!$E$35 -> 0 | Z26: =IF(Ruimtestaat[[#This Row],[Frequentie weekend]]>0,VALUE(LEFT(Y26,1))*R26,0) -> 0 | AA26: =IF($Z26>0,VLOOKUP($J26,Ruimtegroepen[],3,FALSE)*VLOOKUP($L26,Vloersoorten[],3,FALSE)*VLOOKUP($Y26,Frequenties[],3,FALSE)*VLOOKUP($A22,Locaties[],3,FALSE),0) -> 0 | AB26: =Ruimtestaat[[#This Row],[Uitvoeringen weekend]]*Ruimtestaat[[#This Row],[Oppervlak (netto)]] -> 0 | AC26: =IF(AB26>0,Ruimtestaat[[#This Row],[Prest. (m2 /jaar) weekend]]/Ruimtestaat[[#This Row],[Norm (m2/uur) weekend]],0) -> 0 | AD26: =Ruimtestaat[[#This Row],[uren / jaar weekend]]*Tariefsopbouw!$D$40 -> 0 | AE26: =Ruimtestaat[[#This Row],[Prest. (m2 /jaar) weekend]]+Ruimtestaat[[#This Row],[Prest. (m2 /jaar) werkdagen]] -> 10400 | AF26: =Ruimtestaat[[#This Row],[uren / jaar weekend]]+Ruimtestaat[[#This Row],[uren / jaar werkdagen]] -> 0 | AG26: =Ruimtestaat[[#This Row],[kosten / jaar weekend]]+Ruimtestaat[[#This Row],[kosten / jaar werkdagen]] -> 0
A27: 1 | B27: =VLOOKUP(Ruimtestaat[[#This Row],[Code]],Locaties[#All],2,FALSE) -> Hoofdgebouw | C27: =VLOOKUP(Ruimtestaat[[#This Row],[Code]],Locaties[#All],4,FALSE) -> Sterrenlaan 16 | D27: =VLOOKUP(Ruimtestaat[[#This Row],[Code]],Locaties[#All],5,FALSE) -> 5631 KA | E27: =VLOOKUP(Ruimtestaat[[#This Row],[Code]],Locaties[#All],6,FALSE) -> Eindhoven | G27: BG | H27: 0.20 | I27: Kantoor administratie | J27: 2 | K27: =VLOOKUP(J27,Ruimtegroepen[],2,FALSE) -> Kantoren | L27: L | M27: Linoleum | N27: 25 | P27: =LEFT(VLOOKUP(Ruimtestaat[[#This Row],[Ruimte code]],Ruimtegroepen[#All],4,1),2) -> B | R27: 40 | S27: 2w | T27: =IF(R27>0,IF(RIGHT(Ruimtestaat[[#This Row],[Frequentie werkdagen]],1)="w",VALUE(LEFT(Ruimtestaat[[#This Row],[Frequentie werkdagen]],(LEN(Ruimtestaat[[#This Row],[Frequentie werkdagen]])-1))*Ruimtestaat[[#This Row],[Aantal weken/jr]]),IF(RIGHT(Ruimtestaat[[#This Row],[Frequentie werkdagen]],1)="m",VALUE(LEFT(Ruimtestaat[[#This Row],[Frequentie werkdagen]],LEN(Ruimtestaat[[#This Row],[Frequentie werkdagen]])-1)*12),VALUE(LEFT(Ruimtestaat[[#This Row],[Frequentie werkdagen]],(LEN(Ruimtestaat[[#This Row],[Frequentie werkdagen]])-1))))),0) -> 80 | U27: =IF(T27>0,VLOOKUP($J27,Ruimtegroepen[],3,FALSE)*VLOOKUP($L27,Vloersoorten[],3,FALSE)*VLOOKUP($S27,Frequenties[],3,FALSE)*VLOOKUP($A27,Locaties[],3,FALSE),0) -> 0 | V27: =Ruimtestaat[[#This Row],[Uitvoeringen werkdagen]]*Ruimtestaat[[#This Row],[Oppervlak (netto)]] -> 2000 | W27: =IF(U27>0,Ruimtestaat[[#This Row],[Prest. (m2 /jaar) werkdagen]]/Ruimtestaat[[#This Row],[Norm (m2/uur) werkdagen]],0) -> 0 | X27: =Ruimtestaat[[#This Row],[uren / jaar werkdagen]]*Tariefsopbouw!$E$35 -> 0 | Z27: =IF(Ruimtestaat[[#This Row],[Frequentie weekend]]>0,VALUE(LEFT(Y27,1))*R27,0) -> 0 | AA27: =IF($Z27>0,VLOOKUP($J27,Ruimtegroepen[],3,FALSE)*VLOOKUP($L27,Vloersoorten[],3,FALSE)*VLOOKUP($Y27,Frequenties[],3,FALSE)*VLOOKUP($A23,Locaties[],3,FALSE),0) -> 0 | AB27: =Ruimtestaat[[#This Row],[Uitvoeringen weekend]]*Ruimtestaat[[#This Row],[Oppervlak (netto)]] -> 0 | AC27: =IF(AB27>0,Ruimtestaat[[#This Row],[Prest. (m2 /jaar) weekend]]/Ruimtestaat[[#This Row],[Norm (m2/uur) weekend]],0) -> 0 | AD27: =Ruimtestaat[[#This Row],[uren / jaar weekend]]*Tariefsopbouw!$D$40 -> 0 | AE27: =Ruimtestaat[[#This Row],[Prest. (m2 /jaar) weekend]]+Ruimtestaat[[#This Row],[Prest. (m2 /jaar) werkdagen]] -> 2000 | AF27: =Ruimtestaat[[#This Row],[uren / jaar weekend]]+Ruimtestaat[[#This Row],[uren / jaar werkdagen]] -> 0 | AG27: =Ruimtestaat[[#This Row],[kosten / jaar weekend]]+Ruimtestaat[[#This Row],[kosten / jaar werkdagen]] -> 0
A28: 1 | B28: =VLOOKUP(Ruimtestaat[[#This Row],[Code]],Locaties[#All],2,FALSE) -> Hoofdgebouw | C28: =VLOOKUP(Ruimtestaat[[#This Row],[Code]],Locaties[#All],4,FALSE) -> Sterrenlaan 16 | D28: =VLOOKUP(Ruimtestaat[[#This Row],[Code]],Locaties[#All],5,FALSE) -> 5631 KA | E28: =VLOOKUP(Ruimtestaat[[#This Row],[Code]],Locaties[#All],6,FALSE) -> Eindhoven | G28: BG | H28: 0.21 | I28: Kantoor rector | J28: 2 | K28: =VLOOKUP(J28,Ruimtegroepen[],2,FALSE) -> Kantoren | L28: L | M28: Linoleum | N28: 17 | P28: =LEFT(VLOOKUP(Ruimtestaat[[#This Row],[Ruimte code]],Ruimtegroepen[#All],4,1),2) -> B | R28: 40 | S28: 2w | T28: =IF(R28>0,IF(RIGHT(Ruimtestaat[[#This Row],[Frequentie werkdagen]],1)="w",VALUE(LEFT(Ruimtestaat[[#This Row],[Frequentie werkdagen]],(LEN(Ruimtestaat[[#This Row],[Frequentie werkdagen]])-1))*Ruimtestaat[[#This Row],[Aantal weken/jr]]),IF(RIGHT(Ruimtestaat[[#This Row],[Frequentie werkdagen]],1)="m",VALUE(LEFT(Ruimtestaat[[#This Row],[Frequentie werkdagen]],LEN(Ruimtestaat[[#This Row],[Frequentie werkdagen]])-1)*12),VALUE(LEFT(Ruimtestaat[[#This Row],[Frequentie werkdagen]],(LEN(Ruimtestaat[[#This Row],[Frequentie werkdagen]])-1))))),0) -> 80 | U28: =IF(T28>0,VLOOKUP($J28,Ruimtegroepen[],3,FALSE)*VLOOKUP($L28,Vloersoorten[],3,FALSE)*VLOOKUP($S28,Frequenties[],3,FALSE)*VLOOKUP($A28,Locaties[],3,FALSE),0) -> 0 | V28: =Ruimtestaat[[#This Row],[Uitvoeringen werkdagen]]*Ruimtestaat[[#This Row],[Oppervlak (netto)]] -> 1360 | W28: =IF(U28>0,Ruimtestaat[[#This Row],[Prest. (m2 /jaar) werkdagen]]/Ruimtestaat[[#This Row],[Norm (m2/uur) werkdagen]],0) -> 0 | X28: =Ruimtestaat[[#This Row],[uren / jaar werkdagen]]*Tariefsopbouw!$E$35 -> 0 | Z28: =IF(Ruimtestaat[[#This Row],[Frequentie weekend]]>0,VALUE(LEFT(Y28,1))*R28,0) -> 0 | AA28: =IF($Z28>0,VLOOKUP($J28,Ruimtegroepen[],3,FALSE)*VLOOKUP($L28,Vloersoorten[],3,FALSE)*VLOOKUP($Y28,Frequenties[],3,FALSE)*VLOOKUP($A24,Locaties[],3,FALSE),0) -> 0 | AB28: =Ruimtestaat[[#This Row],[Uitvoeringen weekend]]*Ruimtestaat[[#This Row],[Oppervlak (netto)]] -> 0 | AC28: =IF(AB28>0,Ruimtestaat[[#This Row],[Prest. (m2 /jaar) weekend]]/Ruimtestaat[[#This Row],[Norm (m2/uur) weekend]],0) -> 0 | AD28: =Ruimtestaat[[#This Row],[uren / jaar weekend]]*Tariefsopbouw!$D$40 -> 0 | AE28: =Ruimtestaat[[#This Row],[Prest. (m2 /jaar) weekend]]+Ruimtestaat[[#This Row],[Prest. (m2 /jaar) werkdagen]] -> 1360 | AF28: =Ruimtestaat[[#This Row],[uren / jaar weekend]]+Ruimtestaat[[#This Row],[uren / jaar werkdagen]] -> 0 | AG28: =Ruimtestaat[[#This Row],[kosten / jaar weekend]]+Ruimtestaat[[#This Row],[kosten / jaar werkdagen]] -> 0
A29: 1 | B29: =VLOOKUP(Ruimtestaat[[#This Row],[Code]],Locaties[#All],2,FALSE) -> Hoofdgebouw | C29: =VLOOKUP(Ruimtestaat[[#This Row],[Code]],Locaties[#All],4,FALSE) -> Sterrenlaan 16 | D29: =VLOOKUP(Ruimtestaat[[#This Row],[Code]],Locaties[#All],5,FALSE) -> 5631 KA | E29: =VLOOKUP(Ruimtestaat[[#This Row],[Code]],Locaties[#All],6,FALSE) -> Eindhoven | G29: BG | H29: 0.22 | I29: Miva toilet | J29: 5 | K29: =VLOOKUP(J29,Ruimtegroepen[],2,FALSE) -> Sanitair | L29: S | M29: Tegels | N29: 5 | P29: =LEFT(VLOOKUP(Ruimtestaat[[#This Row],[Ruimte code]],Ruimtegroepen[#All],4,1),2) -> S | R29: 42 | S29: 5w | T29: =IF(R29>0,IF(RIGHT(Ruimtestaat[[#This Row],[Frequentie werkdagen]],1)="w",VALUE(LEFT(Ruimtestaat[[#This Row],[Frequentie werkdagen]],(LEN(Ruimtestaat[[#This Row],[Frequentie werkdagen]])-1))*Ruimtestaat[[#This Row],[Aantal weken/jr]]),IF(RIGHT(Ruimtestaat[[#This Row],[Frequentie werkdagen]],1)="m",VALUE(LEFT(Ruimtestaat[[#This Row],[Frequentie werkdagen]],LEN(Ruimtestaat[[#This Row],[Frequentie werkdagen]])-1)*12),VALUE(LEFT(Ruimtestaat[[#This Row],[Frequentie werkdagen]],(LEN(Ruimtestaat[[#This Row],[Frequentie werkdagen]])-1))))),0) -> 210 | U29: =IF(T29>0,VLOOKUP($J29,Ruimtegroepen[],3,FALSE)*VLOOKUP($L29,Vloersoorten[],3,FALSE)*VLOOKUP($S29,Frequenties[],3,FALSE)*VLOOKUP($A29,Locaties[],3,FALSE),0) -> 0 | V29: =Ruimtestaat[[#This Row],[Uitvoeringen werkdagen]]*Ruimtestaat[[#This Row],[Oppervlak (netto)]] -> 1050 | W29: =IF(U29>0,Ruimtestaat[[#This Row],[Prest. (m2 /jaar) werkdagen]]/Ruimtestaat[[#This Row],[Norm (m2/uur) werkdagen]],0) -> 0 | X29: =Ruimtestaat[[#This Row],[uren / jaar werkdagen]]*Tariefsopbouw!$E$35 -> 0 | Z29: =IF(Ruimtestaat[[#This Row],[Frequentie weekend]]>0,VALUE(LEFT(Y29,1))*R29,0) -> 0 | AA29: =IF($Z29>0,VLOOKUP($J29,Ruimtegroepen[],3,FALSE)*VLOOKUP($L29,Vloersoorten[],3,FALSE)*VLOOKUP($Y29,Frequenties[],3,FALSE)*VLOOKUP($A25,Locaties[],3,FALSE),0) -> 0 | AB29: =Ruimtestaat[[#This Row],[Uitvoeringen weekend]]*Ruimtestaat[[#This Row],[Oppervlak (netto)]] -> 0 | AC29: =IF(AB29>0,Ruimtestaat[[#This Row],[Prest. (m2 /jaar) weekend]]/Ruimtestaat[[#This Row],[Norm (m2/uur) weekend]],0) -> 0 | AD29: =Ruimtestaat[[#This Row],[uren / jaar weekend]]*Tariefsopbouw!$D$40 -> 0 | AE29: =Ruimtestaat[[#This Row],[Prest. (m2 /jaar) weekend]]+Ruimtestaat[[#This Row],[Prest. (m2 /jaar) werkdagen]] -> 1050 | AF29: =Ruimtestaat[[#This Row],[uren / jaar weekend]]+Ruimtestaat[[#This Row],[uren / jaar werkdagen]] -> 0 | AG29: =Ruimtestaat[[#This Row],[kosten / jaar weekend]]+Ruimtestaat[[#This Row],[kosten / jaar werkdagen]] -> 0
A30: 1 | B30: =VLOOKUP(Ruimtestaat[[#This Row],[Code]],Locaties[#All],2,FALSE) -> Hoofdgebouw | C30: =VLOOKUP(Ruimtestaat[[#This Row],[Code]],Locaties[#All],4,FALSE) -> Sterrenlaan 16 | D30: =VLOOKUP(Ruimtestaat[[#This Row],[Code]],Locaties[#All],5,FALSE) -> 5631 KA | E30: =VLOOKUP(Ruimtestaat[[#This Row],[Code]],Locaties[#All],6,FALSE) -> Eindhoven | G30: BG | H30: 0.23 | I30: Technische ruimte | J30: 20 | K30: =VLOOKUP(J30,Ruimtegroepen[],2,FALSE) -> Niet in onderhoud | L30: S | M30: steen | P30: =LEFT(VLOOKUP(Ruimtestaat[[#This Row],[Ruimte code]],Ruimtegroepen[#All],4,1),2) | T30: =IF(R30>0,IF(RIGHT(Ruimtestaat[[#This Row],[Frequentie werkdagen]],1)="w",VALUE(LEFT(Ruimtestaat[[#This Row],[Frequentie werkdagen]],(LEN(Ruimtestaat[[#This Row],[Frequentie werkdagen]])-1))*Ruimtestaat[[#This Row],[Aantal weken/jr]]),IF(RIGHT(Ruimtestaat[[#This Row],[Frequentie werkdagen]],1)="m",VALUE(LEFT(Ruimtestaat[[#This Row],[Frequentie werkdagen]],LEN(Ruimtestaat[[#This Row],[Frequentie werkdagen]])-1)*12),VALUE(LEFT(Ruimtestaat[[#This Row],[Frequentie werkdagen]],(LEN(Ruimtestaat[[#This Row],[Frequentie werkdagen]])-1))))),0) -> 0 | U30: =IF(T30>0,VLOOKUP($J30,Ruimtegroepen[],3,FALSE)*VLOOKUP($L30,Vloersoorten[],3,FALSE)*VLOOKUP($S30,Frequenties[],3,FALSE)*VLOOKUP($A30,Locaties[],3,FALSE),0) -> 0 | V30: =Ruimtestaat[[#This Row],[Uitvoeringen werkdagen]]*Ruimtestaat[[#This Row],[Oppervlak (netto)]] -> 0 | W30: =IF(U30>0,Ruimtestaat[[#This Row],[Prest. (m2 /jaar) werkdagen]]/Ruimtestaat[[#This Row],[Norm (m2/uur) werkdagen]],0) -> 0 | X30: =Ruimtestaat[[#This Row],[uren / jaar werkdagen]]*Tariefsopbouw!$E$35 -> 0 | Z30: =IF(Ruimtestaat[[#This Row],[Frequentie weekend]]>0,VALUE(LEFT(Y30,1))*R30,0) -> 0 | AA30: =IF($Z30>0,VLOOKUP($J30,Ruimtegroepen[],3,FALSE)*VLOOKUP($L30,Vloersoorten[],3,FALSE)*VLOOKUP($Y30,Frequenties[],3,FALSE)*VLOOKUP($A25,Locaties[],3,FALSE),0) -> 0 | AB30: =Ruimtestaat[[#This Row],[Uitvoeringen weekend]]*Ruimtestaat[[#This Row],[Oppervlak (netto)]] -> 0 | AC30: =IF(AB30>0,Ruimtestaat[[#This Row],[Prest. (m2 /jaar) weekend]]/Ruimtestaat[[#This Row],[Norm (m2/uur) weekend]],0) -> 0 | AD30: =Ruimtestaat[[#This Row],[uren / jaar weekend]]*Tariefsopbouw!$D$40 -> 0 | AE30: =Ruimtestaat[[#This Row],[Prest. (m2 /jaar) weekend]]+Ruimtestaat[[#This Row],[Prest. (m2 /jaar) werkdagen]] -> 0 | AF30: =Ruimtestaat[[#This Row],[uren / jaar weekend]]+Ruimtestaat[[#This Row],[uren / jaar werkdagen]] -> 0 | AG30: =Ruimtestaat[[#This Row],[kosten / jaar weekend]]+Ruimtestaat[[#This Row],[kosten / jaar werkdagen]] -> 0
A31: 1 | B31: =VLOOKUP(Ruimtestaat[[#This Row],[Code]],Locaties[#All],2,FALSE) -> Hoofdgebouw | C31: =VLOOKUP(Ruimtestaat[[#This Row],[Code]],Locaties[#All],4,FALSE) -> Sterrenlaan 16 | D31: =VLOOKUP(Ruimtestaat[[#This Row],[Code]],Locaties[#All],5,FALSE) -> 5631 KA | E31: =VLOOKUP(Ruimtestaat[[#This Row],[Code]],Locaties[#All],6,FALSE) -> Eindhoven | G31: BG | H31: 0.24 | I31: Toilet personeel heren | J31: 5 | K31: =VLOOKUP(J31,Ruimtegroepen[],2,FALSE) -> Sanitair | L31: S | M31: Tegels | N31: 1 | P31: =LEFT(VLOOKUP(Ruimtestaat[[#This Row],[Ruimte code]],Ruimtegroepen[#All],4,1),2) -> S | R31: 42 | S31: 5w | T31: =IF(R31>0,IF(RIGHT(Ruimtestaat[[#This Row],[Frequentie werkdagen]],1)="w",VALUE(LEFT(Ruimtestaat[[#This Row],[Frequentie werkdagen]],(LEN(Ruimtestaat[[#This Row],[Frequentie werkdagen]])-1))*Ruimtestaat[[#This Row],[Aantal weken/jr]]),IF(RIGHT(Ruimtestaat[[#This Row],[Frequentie werkdagen]],1)="m",VALUE(LEFT(Ruimtestaat[[#This Row],[Frequentie werkdagen]],LEN(Ruimtestaat[[#This Row],[Frequentie werkdagen]])-1)*12),VALUE(LEFT(Ruimtestaat[[#This Row],[Frequentie werkdagen]],(LEN(Ruimtestaat[[#This Row],[Frequentie werkdagen]])-1))))),0) -> 210 | U31: =IF(T31>0,VLOOKUP($J31,Ruimtegroepen[],3,FALSE)*VLOOKUP($L31,Vloersoorten[],3,FALSE)*VLOOKUP($S31,Frequenties[],3,FALSE)*VLOOKUP($A31,Locaties[],3,FALSE),0) -> 0 | V31: =Ruimtestaat[[#This Row],[Uitvoeringen werkdagen]]*Ruimtestaat[[#This Row],[Oppervlak (netto)]] -> 210 | W31: =IF(U31>0,Ruimtestaat[[#This Row],[Prest. (m2 /jaar) werkdagen]]/Ruimtestaat[[#This Row],[Norm (m2/uur) werkdagen]],0) -> 0 | X31: =Ruimtestaat[[#This Row],[uren / jaar werkdagen]]*Tariefsopbouw!$E$35 -> 0 | Z31: =IF(Ruimtestaat[[#This Row],[Frequentie weekend]]>0,VALUE(LEFT(Y31,1))*R31,0) -> 0 | AA31: =IF($Z31>0,VLOOKUP($J31,Ruimtegroepen[],3,FALSE)*VLOOKUP($L31,Vloersoorten[],3,FALSE)*VLOOKUP($Y31,Frequenties[],3,FALSE)*VLOOKUP($A26,Locaties[],3,FALSE),0) -> 0 | AB31: =Ruimtestaat[[#This Row],[Uitvoeringen weekend]]*Ruimtestaat[[#This Row],[Oppervlak (netto)]] -> 0 | AC31: =IF(AB31>0,Ruimtestaat[[#This Row],[Prest. (m2 /jaar) weekend]]/Ruimtestaat[[#This Row],[Norm (m2/uur) weekend]],0) -> 0 | AD31: =Ruimtestaat[[#This Row],[uren / jaar weekend]]*Tariefsopbouw!$D$40 -> 0 | AE31: =Ruimtestaat[[#This Row],[Prest. (m2 /jaar) weekend]]+Ruimtestaat[[#This Row],[Prest. (m2 /jaar) werkdagen]] -> 210 | AF31: =Ruimtestaat[[#This Row],[uren / jaar weekend]]+Ruimtestaat[[#This Row],[uren / jaar werkdagen]] -> 0 | AG31: =Ruimtestaat[[#This Row],[kosten / jaar weekend]]+Ruimtestaat[[#This Row],[kosten / jaar werkdagen]] -> 0
A32: 1 | B32: =VLOOKUP(Ruimtestaat[[#This Row],[Code]],Locaties[#All],2,FALSE) -> Hoofdgebouw | C32: =VLOOKUP(Ruimtestaat[[#This Row],[Code]],Locaties[#All],4,FALSE) -> Sterrenlaan 16 | D32: =VLOOKUP(Ruimtestaat[[#This Row],[Code]],Locaties[#All],5,FALSE) -> 5631 KA | E32: =VLOOKUP(Ruimtestaat[[#This Row],[Code]],Locaties[#All],6,FALSE) -> Eindhoven | G32: BG | H32: 0.25 | I32: Toilet personeel dames | J32: 5 | K32: =VLOOKUP(J32,Ruimtegroepen[],2,FALSE) -> Sanitair | L32: S | M32: Tegels | N32: 1 | P32: =LEFT(VLOOKUP(Ruimtestaat[[#This Row],[Ruimte code]],Ruimtegroepen[#All],4,1),2) -> S | R32: 42 | S32: 5w | T32: =IF(R32>0,IF(RIGHT(Ruimtestaat[[#This Row],[Frequentie werkdagen]],1)="w",VALUE(LEFT(Ruimtestaat[[#This Row],[Frequentie werkdagen]],(LEN(Ruimtestaat[[#This Row],[Frequentie werkdagen]])-1))*Ruimtestaat[[#This Row],[Aantal weken/jr]]),IF(RIGHT(Ruimtestaat[[#This Row],[Frequentie werkdagen]],1)="m",VALUE(LEFT(Ruimtestaat[[#This Row],[Frequentie werkdagen]],LEN(Ruimtestaat[[#This Row],[Frequentie werkdagen]])-1)*12),VALUE(LEFT(Ruimtestaat[[#This Row],[Frequentie werkdagen]],(LEN(Ruimtestaat[[#This Row],[Frequentie werkdagen]])-1))))),0) -> 210 | U32: =IF(T32>0,VLOOKUP($J32,Ruimtegroepen[],3,FALSE)*VLOOKUP($L32,Vloersoorten[],3,FALSE)*VLOOKUP($S32,Frequenties[],3,FALSE)*VLOOKUP($A32,Locaties[],3,FALSE),0) -> 0 | V32: =Ruimtestaat[[#This Row],[Uitvoeringen werkdagen]]*Ruimtestaat[[#This Row],[Oppervlak (netto)]] -> 210 | W32: =IF(U32>0,Ruimtestaat[[#This Row],[Prest. (m2 /jaar) werkdagen]]/Ruimtestaat[[#This Row],[Norm (m2/uur) werkdagen]],0) -> 0 | X32: =Ruimtestaat[[#This Row],[uren / jaar werkdagen]]*Tariefsopbouw!$E$35 -> 0 | Z32: =IF(Ruimtestaat[[#This Row],[Frequentie weekend]]>0,VALUE(LEFT(Y32,1))*R32,0) -> 0 | AA32: =IF($Z32>0,VLOOKUP($J32,Ruimtegroepen[],3,FALSE)*VLOOKUP($L32,Vloersoorten[],3,FALSE)*VLOOKUP($Y32,Frequenties[],3,FALSE)*VLOOKUP($A27,Locaties[],3,FALSE),0) -> 0 | AB32: =Ruimtestaat[[#This Row],[Uitvoeringen weekend]]*Ruimtestaat[[#This Row],[Oppervlak (netto)]] -> 0 | AC32: =IF(AB32>0,Ruimtestaat[[#This Row],[Prest. (m2 /jaar) weekend]]/Ruimtestaat[[#This Row],[Norm (m2/uur) weekend]],0) -> 0 | AD32: =Ruimtestaat[[#This Row],[uren / jaar weekend]]*Tariefsopbouw!$D$40 -> 0 | AE32: =Ruimtestaat[[#This Row],[Prest. (m2 /jaar) weekend]]+Ruimtestaat[[#This Row],[Prest. (m2 /jaar) werkdagen]] -> 210 | AF32: =Ruimtestaat[[#This Row],[uren / jaar weekend]]+Ruimtestaat[[#This Row],[uren / jaar werkdagen]] -> 0 | AG32: =Ruimtestaat[[#This Row],[kosten / jaar weekend]]+Ruimtestaat[[#This Row],[kosten / jaar werkdagen]] -> 0
A33: 1 | B33: =VLOOKUP(Ruimtestaat[[#This Row],[Code]],Locaties[#All],2,FALSE) -> Hoofdgebouw | C33: =VLOOKUP(Ruimtestaat[[#This Row],[Code]],Locaties[#All],4,FALSE) -> Sterrenlaan 16 | D33: =VLOOKUP(Ruimtestaat[[#This Row],[Code]],Locaties[#All],5,FALSE) -> 5631 KA | E33: =VLOOKUP(Ruimtestaat[[#This Row],[Code]],Locaties[#All],6,FALSE) -> Eindhoven | G33: BG | H33: 0.26 | I33: archief | J33: 20 | K33: =VLOOKUP(J33,Ruimtegroepen[],2,FALSE) -> Niet in onderhoud | L33: L | M33: Linoleum | O33: 5 | P33: =LEFT(VLOOKUP(Ruimtestaat[[#This Row],[Ruimte code]],Ruimtegroepen[#All],4,1),2) | T33: =IF(R33>0,IF(RIGHT(Ruimtestaat[[#This Row],[Frequentie werkdagen]],1)="w",VALUE(LEFT(Ruimtestaat[[#This Row],[Frequentie werkdagen]],(LEN(Ruimtestaat[[#This Row],[Frequentie werkdagen]])-1))*Ruimtestaat[[#This Row],[Aantal weken/jr]]),IF(RIGHT(Ruimtestaat[[#This Row],[Frequentie werkdagen]],1)="m",VALUE(LEFT(Ruimtestaat[[#This Row],[Frequentie werkdagen]],LEN(Ruimtestaat[[#This Row],[Frequentie werkdagen]])-1)*12),VALUE(LEFT(Ruimtestaat[[#This Row],[Frequentie werkdagen]],(LEN(Ruimtestaat[[#This Row],[Frequentie werkdagen]])-1))))),0) -> 0 | U33: =IF(T33>0,VLOOKUP($J33,Ruimtegroepen[],3,FALSE)*VLOOKUP($L33,Vloersoorten[],3,FALSE)*VLOOKUP($S33,Frequenties[],3,FALSE)*VLOOKUP($A33,Locaties[],3,FALSE),0) -> 0 | V33: =Ruimtestaat[[#This Row],[Uitvoeringen werkdagen]]*Ruimtestaat[[#This Row],[Oppervlak (netto)]] -> 0 | W33: =IF(U33>0,Ruimtestaat[[#This Row],[Prest. (m2 /jaar) werkdagen]]/Ruimtestaat[[#This Row],[Norm (m2/uur) werkdagen]],0) -> 0 | X33: =Ruimtestaat[[#This Row],[uren / jaar werkdagen]]*Tariefsopbouw!$E$35 -> 0 | Z33: =IF(Ruimtestaat[[#This Row],[Frequentie weekend]]>0,VALUE(LEFT(Y33,1))*R33,0) -> 0 | AA33: =IF($Z33>0,VLOOKUP($J33,Ruimtegroepen[],3,FALSE)*VLOOKUP($L33,Vloersoorten[],3,FALSE)*VLOOKUP($Y33,Frequenties[],3,FALSE)*VLOOKUP($A28,Locaties[],3,FALSE),0) -> 0 | AB33: =Ruimtestaat[[#This Row],[Uitvoeringen weekend]]*Ruimtestaat[[#This Row],[Oppervlak (netto)]] -> 0 | AC33: =IF(AB33>0,Ruimtestaat[[#This Row],[Prest. (m2 /jaar) weekend]]/Ruimtestaat[[#This Row],[Norm (m2/uur) weekend]],0) -> 0 | AD33: =Ruimtestaat[[#This Row],[uren / jaar weekend]]*Tariefsopbouw!$D$40 -> 0 | AE33: =Ruimtestaat[[#This Row],[Prest. (m2 /jaar) weekend]]+Ruimtestaat[[#This Row],[Prest. (m2 /jaar) werkdagen]] -> 0 | AF33: =Ruimtestaat[[#This Row],[uren / jaar weekend]]+Ruimtestaat[[#This Row],[uren / jaar werkdagen]] -> 0 | AG33: =Ruimtestaat[[#This Row],[kosten / jaar weekend]]+Ruimtestaat[[#This Row],[kosten / jaar werkdagen]] -> 0
A34: 1 | B34: =VLOOKUP(Ruimtestaat[[#This Row],[Code]],Locaties[#All],2,FALSE) -> Hoofdgebouw | C34: =VLOOKUP(Ruimtestaat[[#This Row],[Code]],Locaties[#All],4,FALSE) -> Sterrenlaan 16 | D34: =VLOOKUP(Ruimtestaat[[#This Row],[Code]],Locaties[#All],5,FALSE) -> 5631 KA | E34: =VLOOKUP(Ruimtestaat[[#This Row],[Code]],Locaties[#All],6,FALSE) -> Eindhoven | G34: BG | H34: 0.21 | I34: archief | J34: 20 | K34: =VLOOKUP(J34,Ruimtegroepen[],2,FALSE) -> Niet in onderhoud | L34: L | M34: Linoleum | O34: 8 | P34: =LEFT(VLOOKUP(Ruimtestaat[[#This Row],[Ruimte code]],Ruimtegroepen[#All],4,1),2) | T34: =IF(R34>0,IF(RIGHT(Ruimtestaat[[#This Row],[Frequentie werkdagen]],1)="w",VALUE(LEFT(Ruimtestaat[[#This Row],[Frequentie werkdagen]],(LEN(Ruimtestaat[[#This Row],[Frequentie werkdagen]])-1))*Ruimtestaat[[#This Row],[Aantal weken/jr]]),IF(RIGHT(Ruimtestaat[[#This Row],[Frequentie werkdagen]],1)="m",VALUE(LEFT(Ruimtestaat[[#This Row],[Frequentie werkdagen]],LEN(Ruimtestaat[[#This Row],[Frequentie werkdagen]])-1)*12),VALUE(LEFT(Ruimtestaat[[#This Row],[Frequentie werkdagen]],(LEN(Ruimtestaat[[#This Row],[Frequentie werkdagen]])-1))))),0) -> 0 | U34: =IF(T34>0,VLOOKUP($J34,Ruimtegroepen[],3,FALSE)*VLOOKUP($L34,Vloersoorten[],3,FALSE)*VLOOKUP($S34,Frequenties[],3,FALSE)*VLOOKUP($A34,Locaties[],3,FALSE),0) -> 0 | V34: =Ruimtestaat[[#This Row],[Uitvoeringen werkdagen]]*Ruimtestaat[[#This Row],[Oppervlak (netto)]] -> 0 | W34: =IF(U34>0,Ruimtestaat[[#This Row],[Prest. (m2 /jaar) werkdagen]]/Ruimtestaat[[#This Row],[Norm (m2/uur) werkdagen]],0) -> 0 | X34: =Ruimtestaat[[#This Row],[uren / jaar werkdagen]]*Tariefsopbouw!$E$35 -> 0 | Z34: =IF(Ruimtestaat[[#This Row],[Frequentie weekend]]>0,VALUE(LEFT(Y34,1))*R34,0) -> 0 | AA34: =IF($Z34>0,VLOOKUP($J34,Ruimtegroepen[],3,FALSE)*VLOOKUP($L34,Vloersoorten[],3,FALSE)*VLOOKUP($Y34,Frequenties[],3,FALSE)*VLOOKUP($A30,Locaties[],3,FALSE),0) -> 0 | AB34: =Ruimtestaat[[#This Row],[Uitvoeringen weekend]]*Ruimtestaat[[#This Row],[Oppervlak (netto)]] -> 0 | AC34: =IF(AB34>0,Ruimtestaat[[#This Row],[Prest. (m2 /jaar) weekend]]/Ruimtestaat[[#This Row],[Norm (m2/uur) weekend]],0) -> 0 | AD34: =Ruimtestaat[[#This Row],[uren / jaar weekend]]*Tariefsopbouw!$D$40 -> 0 | AE34: =Ruimtestaat[[#This Row],[Prest. (m2 /jaar) weekend]]+Ruimtestaat[[#This Row],[Prest. (m2 /jaar) werkdagen]] -> 0 | AF34: =Ruimtestaat[[#This Row],[uren / jaar weekend]]+Ruimtestaat[[#This Row],[uren / jaar werkdagen]] -> 0 | AG34: =Ruimtestaat[[#This Row],[kosten / jaar weekend]]+Ruimtestaat[[#This Row],[kosten / jaar werkdagen]] -> 0
A35: 1 | B35: =VLOOKUP(Ruimtestaat[[#This Row],[Code]],Locaties[#All],2,FALSE) -> Hoofdgebouw | C35: =VLOOKUP(Ruimtestaat[[#This Row],[Code]],Locaties[#All],4,FALSE) -> Sterrenlaan 16 | D35: =VLOOKUP(Ruimtestaat[[#This Row],[Code]],Locaties[#All],5,FALSE) -> 5631 KA | E35: =VLOOKUP(Ruimtestaat[[#This Row],[Code]],Locaties[#All],6,FALSE) -> Eindhoven | G35: BG | H35: 0.30 | I35: Leslokaal | J35: 16 | K35: =VLOOKUP(J35,Ruimtegroepen[],2,FALSE) -> Leslokalen theorie | L35: L | M35: Linoleum | N35: 48 | P35: =LEFT(VLOOKUP(Ruimtestaat[[#This Row],[Ruimte code]],Ruimtegroepen[#All],4,1),2) -> L | R35: 40 | S35: 5w | T35: =IF(R35>0,IF(RIGHT(Ruimtestaat[[#This Row],[Frequentie werkdagen]],1)="w",VALUE(LEFT(Ruimtestaat[[#This Row],[Frequentie werkdagen]],(LEN(Ruimtestaat[[#This Row],[Frequentie werkdagen]])-1))*Ruimtestaat[[#This Row],[Aantal weken/jr]]),IF(RIGHT(Ruimtestaat[[#This Row],[Frequentie werkdagen]],1)="m",VALUE(LEFT(Ruimtestaat[[#This Row],[Frequentie werkdagen]],LEN(Ruimtestaat[[#This Row],[Frequentie werkdagen]])-1)*12),VALUE(LEFT(Ruimtestaat[[#This Row],[Frequentie werkdagen]],(LEN(Ruimtestaat[[#This Row],[Frequentie werkdagen]])-1))))),0) -> 200 | U35: =IF(T35>0,VLOOKUP($J35,Ruimtegroepen[],3,FALSE)*VLOOKUP($L35,Vloersoorten[],3,FALSE)*VLOOKUP($S35,Frequenties[],3,FALSE)*VLOOKUP($A35,Locaties[],3,FALSE),0) -> 0 | V35: =Ruimtestaat[[#This Row],[Uitvoeringen werkdagen]]*Ruimtestaat[[#This Row],[Oppervlak (netto)]] -> 9600 | W35: =IF(U35>0,Ruimtestaat[[#This Row],[Prest. (m2 /jaar) werkdagen]]/Ruimtestaat[[#This Row],[Norm (m2/uur) werkdagen]],0) -> 0 | X35: =Ruimtestaat[[#This Row],[uren / jaar werkdagen]]*Tariefsopbouw!$E$35 -> 0 | Z35: =IF(Ruimtestaat[[#This Row],[Frequentie weekend]]>0,VALUE(LEFT(Y35,1))*R35,0) -> 0 | AA35: =IF($Z35>0,VLOOKUP($J35,Ruimtegroepen[],3,FALSE)*VLOOKUP($L35,Vloersoorten[],3,FALSE)*VLOOKUP($Y35,Frequenties[],3,FALSE)*VLOOKUP($A31,Locaties[],3,FALSE),0) -> 0 | AB35: =Ruimtestaat[[#This Row],[Uitvoeringen weekend]]*Ruimtestaat[[#This Row],[Oppervlak (netto)]] -> 0 | AC35: =IF(AB35>0,Ruimtestaat[[#This Row],[Prest. (m2 /jaar) weekend]]/Ruimtestaat[[#This Row],[Norm (m2/uur) weekend]],0) -> 0 | AD35: =Ruimtestaat[[#This Row],[uren / jaar weekend]]*Tariefsopbouw!$D$40 -> 0 | AE35: =Ruimtestaat[[#This Row],[Prest. (m2 /jaar) weekend]]+Ruimtestaat[[#This Row],[Prest. (m2 /jaar) werkdagen]] -> 9600 | AF35: =Ruimtestaat[[#This Row],[uren / jaar weekend]]+Ruimtestaat[[#This Row],[uren / jaar werkdagen]] -> 0 | AG35: =Ruimtestaat[[#This Row],[kosten / jaar weekend]]+Ruimtestaat[[#This Row],[kosten / jaar werkdagen]] -> 0
A36: 1 | B36: =VLOOKUP(Ruimtestaat[[#This Row],[Code]],Locaties[#All],2,FALSE) -> Hoofdgebouw | C36: =VLOOKUP(Ruimtestaat[[#This Row],[Code]],Locaties[#All],4,FALSE) -> Sterrenlaan 16 | D36: =VLOOKUP(Ruimtestaat[[#This Row],[Code]],Locaties[#All],5,FALSE) -> 5631 KA | E36: =VLOOKUP(Ruimtestaat[[#This Row],[Code]],Locaties[#All],6,FALSE) -> Eindhoven | G36: BG | H36: 0.31 | I36: Leslokaal | J36: 16 | K36: =VLOOKUP(J36,Ruimtegroepen[],2,FALSE) -> Leslokalen theorie | L36: L | M36: Linoleum | N36: 48 | P36: =LEFT(VLOOKUP(Ruimtestaat[[#This Row],[Ruimte code]],Ruimtegroepen[#All],4,1),2) -> L | R36: 40 | S36: 5w | T36: =IF(R36>0,IF(RIGHT(Ruimtestaat[[#This Row],[Frequentie werkdagen]],1)="w",VALUE(LEFT(Ruimtestaat[[#This Row],[Frequentie werkdagen]],(LEN(Ruimtestaat[[#This Row],[Frequentie werkdagen]])-1))*Ruimtestaat[[#This Row],[Aantal weken/jr]]),IF(RIGHT(Ruimtestaat[[#This Row],[Frequentie werkdagen]],1)="m",VALUE(LEFT(Ruimtestaat[[#This Row],[Frequentie werkdagen]],LEN(Ruimtestaat[[#This Row],[Frequentie werkdagen]])-1)*12),VALUE(LEFT(Ruimtestaat[[#This Row],[Frequentie werkdagen]],(LEN(Ruimtestaat[[#This Row],[Frequentie werkdagen]])-1))))),0) -> 200 | U36: =IF(T36>0,VLOOKUP($J36,Ruimtegroepen[],3,FALSE)*VLOOKUP($L36,Vloersoorten[],3,FALSE)*VLOOKUP($S36,Frequenties[],3,FALSE)*VLOOKUP($A36,Locaties[],3,FALSE),0) -> 0 | V36: =Ruimtestaat[[#This Row],[Uitvoeringen werkdagen]]*Ruimtestaat[[#This Row],[Oppervlak (netto)]] -> 9600 | W36: =IF(U36>0,Ruimtestaat[[#This Row],[Prest. (m2 /jaar) werkdagen]]/Ruimtestaat[[#This Row],[Norm (m2/uur) werkdagen]],0) -> 0 | X36: =Ruimtestaat[[#This Row],[uren / jaar werkdagen]]*Tariefsopbouw!$E$35 -> 0 | Z36: =IF(Ruimtestaat[[#This Row],[Frequentie weekend]]>0,VALUE(LEFT(Y36,1))*R36,0) -> 0 | AA36: =IF($Z36>0,VLOOKUP($J36,Ruimtegroepen[],3,FALSE)*VLOOKUP($L36,Vloersoorten[],3,FALSE)*VLOOKUP($Y36,Frequenties[],3,FALSE)*VLOOKUP($A32,Locaties[],3,FALSE),0) -> 0 | AB36: =Ruimtestaat[[#This Row],[Uitvoeringen weekend]]*Ruimtestaat[[#This Row],[Oppervlak (netto)]] -> 0 | AC36: =IF(AB36>0,Ruimtestaat[[#This Row],[Prest. (m2 /jaar) weekend]]/Ruimtestaat[[#This Row],[Norm (m2/uur) weekend]],0) -> 0 | AD36: =Ruimtestaat[[#This Row],[uren / jaar weekend]]*Tariefsopbouw!$D$40 -> 0 | AE36: =Ruimtestaat[[#This Row],[Prest. (m2 /jaar) weekend]]+Ruimtestaat[[#This Row],[Prest. (m2 /jaar) werkdagen]] -> 9600 | AF36: =Ruimtestaat[[#This Row],[uren / jaar weekend]]+Ruimtestaat[[#This Row],[uren / jaar werkdagen]] -> 0 | AG36: =Ruimtestaat[[#This Row],[kosten / jaar weekend]]+Ruimtestaat[[#This Row],[kosten / jaar werkdagen]] -> 0
A37: 1 | B37: =VLOOKUP(Ruimtestaat[[#This Row],[Code]],Locaties[#All],2,FALSE) -> Hoofdgebouw | C37: =VLOOKUP(Ruimtestaat[[#This Row],[Code]],Locaties[#All],4,FALSE) -> Sterrenlaan 16 | D37: =VLOOKUP(Ruimtestaat[[#This Row],[Code]],Locaties[#All],5,FALSE) -> 5631 KA | E37: =VLOOKUP(Ruimtestaat[[#This Row],[Code]],Locaties[#All],6,FALSE) -> Eindhoven | G37: BG | H37: 0.32 | I37: Leslokaal | J37: 16 | K37: =VLOOKUP(J37,Ruimtegroepen[],2,FALSE) -> Leslokalen theorie | L37: L | M37: Linoleum | N37: 48 | P37: =LEFT(VLOOKUP(Ruimtestaat[[#This Row],[Ruimte code]],Ruimtegroepen[#All],4,1),2) -> L | R37: 40 | S37: 5w | T37: =IF(R37>0,IF(RIGHT(Ruimtestaat[[#This Row],[Frequentie werkdagen]],1)="w",VALUE(LEFT(Ruimtestaat[[#This Row],[Frequentie werkdagen]],(LEN(Ruimtestaat[[#This Row],[Frequentie werkdagen]])-1))*Ruimtestaat[[#This Row],[Aantal weken/jr]]),IF(RIGHT(Ruimtestaat[[#This Row],[Frequentie werkdagen]],1)="m",VALUE(LEFT(Ruimtestaat[[#This Row],[Frequentie werkdagen]],LEN(Ruimtestaat[[#This Row],[Frequentie werkdagen]])-1)*12),VALUE(LEFT(Ruimtestaat[[#This Row],[Frequentie werkdagen]],(LEN(Ruimtestaat[[#This Row],[Frequentie werkdagen]])-1))))),0) -> 200 | U37: =IF(T37>0,VLOOKUP($J37,Ruimtegroepen[],3,FALSE)*VLOOKUP($L37,Vloersoorten[],3,FALSE)*VLOOKUP($S37,Frequenties[],3,FALSE)*VLOOKUP($A37,Locaties[],3,FALSE),0) -> 0 | V37: =Ruimtestaat[[#This Row],[Uitvoeringen werkdagen]]*Ruimtestaat[[#This Row],[Oppervlak (netto)]] -> 9600 | W37: =IF(U37>0,Ruimtestaat[[#This Row],[Prest. (m2 /jaar) werkdagen]]/Ruimtestaat[[#This Row],[Norm (m2/uur) werkdagen]],0) -> 0 | X37: =Ruimtestaat[[#This Row],[uren / jaar werkdagen]]*Tariefsopbouw!$E$35 -> 0 | Z37: =IF(Ruimtestaat[[#This Row],[Frequentie weekend]]>0,VALUE(LEFT(Y37,1))*R37,0) -> 0 | AA37: =IF($Z37>0,VLOOKUP($J37,Ruimtegroepen[],3,FALSE)*VLOOKUP($L37,Vloersoorten[],3,FALSE)*VLOOKUP($Y37,Frequenties[],3,FALSE)*VLOOKUP($A33,Locaties[],3,FALSE),0) -> 0 | AB37: =Ruimtestaat[[#This Row],[Uitvoeringen weekend]]*Ruimtestaat[[#This Row],[Oppervlak (netto)]] -> 0 | AC37: =IF(AB37>0,Ruimtestaat[[#This Row],[Prest. (m2 /jaar) weekend]]/Ruimtestaat[[#This Row],[Norm (m2/uur) weekend]],0) -> 0 | AD37: =Ruimtestaat[[#This Row],[uren / jaar weekend]]*Tariefsopbouw!$D$40 -> 0 | AE37: =Ruimtestaat[[#This Row],[Prest. (m2 /jaar) weekend]]+Ruimtestaat[[#This Row],[Prest. (m2 /jaar) werkdagen]] -> 9600 | AF37: =Ruimtestaat[[#This Row],[uren / jaar weekend]]+Ruimtestaat[[#This Row],[uren / jaar werkdagen]] -> 0 | AG37: =Ruimtestaat[[#This Row],[kosten / jaar weekend]]+Ruimtestaat[[#This Row],[kosten / jaar werkdagen]] -> 0
A38: 1 | B38: =VLOOKUP(Ruimtestaat[[#This Row],[Code]],Locaties[#All],2,FALSE) -> Hoofdgebouw | C38: =VLOOKUP(Ruimtestaat[[#This Row],[Code]],Locaties[#All],4,FALSE) -> Sterrenlaan 16 | D38: =VLOOKUP(Ruimtestaat[[#This Row],[Code]],Locaties[#All],5,FALSE) -> 5631 KA | E38: =VLOOKUP(Ruimtestaat[[#This Row],[Code]],Locaties[#All],6,FALSE) -> Eindhoven | G38: BG | H38: 0.40 | I38: Leslokaal | J38: 16 | K38: =VLOOKUP(J38,Ruimtegroepen[],2,FALSE) -> Leslokalen theorie | L38: L | M38: Linoleum | N38: 48 | P38: =LEFT(VLOOKUP(Ruimtestaat[[#This Row],[Ruimte code]],Ruimtegroepen[#All],4,1),2) -> L | R38: 40 | S38: 5w | T38: =IF(R38>0,IF(RIGHT(Ruimtestaat[[#This Row],[Frequentie werkdagen]],1)="w",VALUE(LEFT(Ruimtestaat[[#This Row],[Frequentie werkdagen]],(LEN(Ruimtestaat[[#This Row],[Frequentie werkdagen]])-1))*Ruimtestaat[[#This Row],[Aantal weken/jr]]),IF(RIGHT(Ruimtestaat[[#This Row],[Frequentie werkdagen]],1)="m",VALUE(LEFT(Ruimtestaat[[#This Row],[Frequentie werkdagen]],LEN(Ruimtestaat[[#This Row],[Frequentie werkdagen]])-1)*12),VALUE(LEFT(Ruimtestaat[[#This Row],[Frequentie werkdagen]],(LEN(Ruimtestaat[[#This Row],[Frequentie werkdagen]])-1))))),0) -> 200 | U38: =IF(T38>0,VLOOKUP($J38,Ruimtegroepen[],3,FALSE)*VLOOKUP($L38,Vloersoorten[],3,FALSE)*VLOOKUP($S38,Frequenties[],3,FALSE)*VLOOKUP($A38,Locaties[],3,FALSE),0) -> 0 | V38: =Ruimtestaat[[#This Row],[Uitvoeringen werkdagen]]*Ruimtestaat[[#This Row],[Oppervlak (netto)]] -> 9600 | W38: =IF(U38>0,Ruimtestaat[[#This Row],[Prest. (m2 /jaar) werkdagen]]/Ruimtestaat[[#This Row],[Norm (m2/uur) werkdagen]],0) -> 0 | X38: =Ruimtestaat[[#This Row],[uren / jaar werkdagen]]*Tariefsopbouw!$E$35 -> 0 | Z38: =IF(Ruimtestaat[[#This Row],[Frequentie weekend]]>0,VALUE(LEFT(Y38,1))*R38,0) -> 0 | AA38: =IF($Z38>0,VLOOKUP($J38,Ruimtegroepen[],3,FALSE)*VLOOKUP($L38,Vloersoorten[],3,FALSE)*VLOOKUP($Y38,Frequenties[],3,FALSE)*VLOOKUP($A34,Locaties[],3,FALSE),0) -> 0 | AB38: =Ruimtestaat[[#This Row],[Uitvoeringen weekend]]*Ruimtestaat[[#This Row],[Oppervlak (netto)]] -> 0 | AC38: =IF(AB38>0,Ruimtestaat[[#This Row],[Prest. (m2 /jaar) weekend]]/Ruimtestaat[[#This Row],[Norm (m2/uur) weekend]],0) -> 0 | AD38: =Ruimtestaat[[#This Row],[uren / jaar weekend]]*Tariefsopbouw!$D$40 -> 0 | AE38: =Ruimtestaat[[#This Row],[Prest. (m2 /jaar) weekend]]+Ruimtestaat[[#This Row],[Prest. (m2 /jaar) werkdagen]] -> 9600 | AF38: =Ruimtestaat[[#This Row],[uren / jaar weekend]]+Ruimtestaat[[#This Row],[uren / jaar werkdagen]] -> 0 | AG38: =Ruimtestaat[[#This Row],[kosten / jaar weekend]]+Ruimtestaat[[#This Row],[kosten / jaar werkdagen]] -> 0
A39: 1 | B39: =VLOOKUP(Ruimtestaat[[#This Row],[Code]],Locaties[#All],2,FALSE) -> Hoofdgebouw | C39: =VLOOKUP(Ruimtestaat[[#This Row],[Code]],Locaties[#All],4,FALSE) -> Sterrenlaan 16 | D39: =VLOOKUP(Ruimtestaat[[#This Row],[Code]],Locaties[#All],5,FALSE) -> 5631 KA | E39: =VLOOKUP(Ruimtestaat[[#This Row],[Code]],Locaties[#All],6,FALSE) -> Eindhoven | G39: BG | H39: 0.41 | I39: Lokaal houtbewerking | J39: 11 | K39: =VLOOKUP(J39,Ruimtegroepen[],2,FALSE) -> Kooklokaal/leskeuken | L39: L | M39: Linoleum | N39: 63 | P39: =LEFT(VLOOKUP(Ruimtestaat[[#This Row],[Ruimte code]],Ruimtegroepen[#All],4,1),2) -> L | R39: 40 | S39: 5w | T39: =IF(R39>0,IF(RIGHT(Ruimtestaat[[#This Row],[Frequentie werkdagen]],1)="w",VALUE(LEFT(Ruimtestaat[[#This Row],[Frequentie werkdagen]],(LEN(Ruimtestaat[[#This Row],[Frequentie werkdagen]])-1))*Ruimtestaat[[#This Row],[Aantal weken/jr]]),IF(RIGHT(Ruimtestaat[[#This Row],[Frequentie werkdagen]],1)="m",VALUE(LEFT(Ruimtestaat[[#This Row],[Frequentie werkdagen]],LEN(Ruimtestaat[[#This Row],[Frequentie werkdagen]])-1)*12),VALUE(LEFT(Ruimtestaat[[#This Row],[Frequentie werkdagen]],(LEN(Ruimtestaat[[#This Row],[Frequentie werkdagen]])-1))))),0) -> 200 | U39: =IF(T39>0,VLOOKUP($J39,Ruimtegroepen[],3,FALSE)*VLOOKUP($L39,Vloersoorten[],3,FALSE)*VLOOKUP($S39,Frequenties[],3,FALSE)*VLOOKUP($A39,Locaties[],3,FALSE),0) -> 0 | V39: =Ruimtestaat[[#This Row],[Uitvoeringen werkdagen]]*Ruimtestaat[[#This Row],[Oppervlak (netto)]] -> 12600 | W39: =IF(U39>0,Ruimtestaat[[#This Row],[Prest. (m2 /jaar) werkdagen]]/Ruimtestaat[[#This Row],[Norm (m2/uur) werkdagen]],0) -> 0 | X39: =Ruimtestaat[[#This Row],[uren / jaar werkdagen]]*Tariefsopbouw!$E$35 -> 0 | Z39: =IF(Ruimtestaat[[#This Row],[Frequentie weekend]]>0,VALUE(LEFT(Y39,1))*R39,0) -> 0 | AA39: =IF($Z39>0,VLOOKUP($J39,Ruimtegroepen[],3,FALSE)*VLOOKUP($L39,Vloersoorten[],3,FALSE)*VLOOKUP($Y39,Frequenties[],3,FALSE)*VLOOKUP($A35,Locaties[],3,FALSE),0) -> 0 | AB39: =Ruimtestaat[[#This Row],[Uitvoeringen weekend]]*Ruimtestaat[[#This Row],[Oppervlak (netto)]] -> 0 | AC39: =IF(AB39>0,Ruimtestaat[[#This Row],[Prest. (m2 /jaar) weekend]]/Ruimtestaat[[#This Row],[Norm (m2/uur) weekend]],0) -> 0 | AD39: =Ruimtestaat[[#This Row],[uren / jaar weekend]]*Tariefsopbouw!$D$40 -> 0 | AE39: =Ruimtestaat[[#This Row],[Prest. (m2 /jaar) weekend]]+Ruimtestaat[[#This Row],[Prest. (m2 /jaar) werkdagen]] -> 12600 | AF39: =Ruimtestaat[[#This Row],[uren / jaar weekend]]+Ruimtestaat[[#This Row],[uren / jaar werkdagen]] -> 0 | AG39: =Ruimtestaat[[#This Row],[kosten / jaar weekend]]+Ruimtestaat[[#This Row],[kosten / jaar werkdagen]] -> 0
A40: 1 | B40: =VLOOKUP(Ruimtestaat[[#This Row],[Code]],Locaties[#All],2,FALSE) -> Hoofdgebouw | C40: =VLOOKUP(Ruimtestaat[[#This Row],[Code]],Locaties[#All],4,FALSE) -> Sterrenlaan 16 | D40: =VLOOKUP(Ruimtestaat[[#This Row],[Code]],Locaties[#All],5,FALSE) -> 5631 KA | E40: =VLOOKUP(Ruimtestaat[[#This Row],[Code]],Locaties[#All],6,FALSE) -> Eindhoven | G40: BG | H40: 0.42 | I40: Lokaal metaalbewerking | J40: 11 | K40: =VLOOKUP(J40,Ruimtegroepen[],2,FALSE) -> Kooklokaal/leskeuken | L40: L | M40: Linoleum | N40: 63 | P40: =LEFT(VLOOKUP(Ruimtestaat[[#This Row],[Ruimte code]],Ruimtegroepen[#All],4,1),2) -> L | R40: 40 | S40: 5w | T40: =IF(R40>0,IF(RIGHT(Ruimtestaat[[#This Row],[Frequentie werkdagen]],1)="w",VALUE(LEFT(Ruimtestaat[[#This Row],[Frequentie werkdagen]],(LEN(Ruimtestaat[[#This Row],[Frequentie werkdagen]])-1))*Ruimtestaat[[#This Row],[Aantal weken/jr]]),IF(RIGHT(Ruimtestaat[[#This Row],[Frequentie werkdagen]],1)="m",VALUE(LEFT(Ruimtestaat[[#This Row],[Frequentie werkdagen]],LEN(Ruimtestaat[[#This Row],[Frequentie werkdagen]])-1)*12),VALUE(LEFT(Ruimtestaat[[#This Row],[Frequentie werkdagen]],(LEN(Ruimtestaat[[#This Row],[Frequentie werkdagen]])-1))))),0) -> 200 | U40: =IF(T40>0,VLOOKUP($J40,Ruimtegroepen[],3,FALSE)*VLOOKUP($L40,Vloersoorten[],3,FALSE)*VLOOKUP($S40,Frequenties[],3,FALSE)*VLOOKUP($A40,Locaties[],3,FALSE),0) -> 0 | V40: =Ruimtestaat[[#This Row],[Uitvoeringen werkdagen]]*Ruimtestaat[[#This Row],[Oppervlak (netto)]] -> 12600 | W40: =IF(U40>0,Ruimtestaat[[#This Row],[Prest. (m2 /jaar) werkdagen]]/Ruimtestaat[[#This Row],[Norm (m2/uur) werkdagen]],0) -> 0 | X40: =Ruimtestaat[[#This Row],[uren / jaar werkdagen]]*Tariefsopbouw!$E$35 -> 0 | Z40: =IF(Ruimtestaat[[#This Row],[Frequentie weekend]]>0,VALUE(LEFT(Y40,1))*R40,0) -> 0 | AA40: =IF($Z40>0,VLOOKUP($J40,Ruimtegroepen[],3,FALSE)*VLOOKUP($L40,Vloersoorten[],3,FALSE)*VLOOKUP($Y40,Frequenties[],3,FALSE)*VLOOKUP($A36,Locaties[],3,FALSE),0) -> 0 | AB40: =Ruimtestaat[[#This Row],[Uitvoeringen weekend]]*Ruimtestaat[[#This Row],[Oppervlak (netto)]] -> 0 | AC40: =IF(AB40>0,Ruimtestaat[[#This Row],[Prest. (m2 /jaar) weekend]]/Ruimtestaat[[#This Row],[Norm (m2/uur) weekend]],0) -> 0 | AD40: =Ruimtestaat[[#This Row],[uren / jaar weekend]]*Tariefsopbouw!$D$40 -> 0 | AE40: =Ruimtestaat[[#This Row],[Prest. (m2 /jaar) weekend]]+Ruimtestaat[[#This Row],[Prest. (m2 /jaar) werkdagen]] -> 12600 | AF40: =Ruimtestaat[[#This Row],[uren / jaar weekend]]+Ruimtestaat[[#This Row],[uren / jaar werkdagen]] -> 0 | AG40: =Ruimtestaat[[#This Row],[kosten / jaar weekend]]+Ruimtestaat[[#This Row],[kosten / jaar werkdagen]] -> 0
A41: 1 | B41: =VLOOKUP(Ruimtestaat[[#This Row],[Code]],Locaties[#All],2,FALSE) -> Hoofdgebouw | C41: =VLOOKUP(Ruimtestaat[[#This Row],[Code]],Locaties[#All],4,FALSE) -> Sterrenlaan 16 | D41: =VLOOKUP(Ruimtestaat[[#This Row],[Code]],Locaties[#All],5,FALSE) -> 5631 KA | E41: =VLOOKUP(Ruimtestaat[[#This Row],[Code]],Locaties[#All],6,FALSE) -> Eindhoven | G41: BG | H41: 0.50 | I41: Kantoor | J41: 2 | K41: =VLOOKUP(J41,Ruimtegroepen[],2,FALSE) -> Kantoren | L41: L | M41: Linoleum | N41: 9 | P41: =LEFT(VLOOKUP(Ruimtestaat[[#This Row],[Ruimte code]],Ruimtegroepen[#All],4,1),2) -> B | R41: 40 | S41: 2w | T41: =IF(R41>0,IF(RIGHT(Ruimtestaat[[#This Row],[Frequentie werkdagen]],1)="w",VALUE(LEFT(Ruimtestaat[[#This Row],[Frequentie werkdagen]],(LEN(Ruimtestaat[[#This Row],[Frequentie werkdagen]])-1))*Ruimtestaat[[#This Row],[Aantal weken/jr]]),IF(RIGHT(Ruimtestaat[[#This Row],[Frequentie werkdagen]],1)="m",VALUE(LEFT(Ruimtestaat[[#This Row],[Frequentie werkdagen]],LEN(Ruimtestaat[[#This Row],[Frequentie werkdagen]])-1)*12),VALUE(LEFT(Ruimtestaat[[#This Row],[Frequentie werkdagen]],(LEN(Ruimtestaat[[#This Row],[Frequentie werkdagen]])-1))))),0) -> 80 | U41: =IF(T41>0,VLOOKUP($J41,Ruimtegroepen[],3,FALSE)*VLOOKUP($L41,Vloersoorten[],3,FALSE)*VLOOKUP($S41,Frequenties[],3,FALSE)*VLOOKUP($A41,Locaties[],3,FALSE),0) -> 0 | V41: =Ruimtestaat[[#This Row],[Uitvoeringen werkdagen]]*Ruimtestaat[[#This Row],[Oppervlak (netto)]] -> 720 | W41: =IF(U41>0,Ruimtestaat[[#This Row],[Prest. (m2 /jaar) werkdagen]]/Ruimtestaat[[#This Row],[Norm (m2/uur) werkdagen]],0) -> 0 | X41: =Ruimtestaat[[#This Row],[uren / jaar werkdagen]]*Tariefsopbouw!$E$35 -> 0 | Z41: =IF(Ruimtestaat[[#This Row],[Frequentie weekend]]>0,VALUE(LEFT(Y41,1))*R41,0) -> 0 | AA41: =IF($Z41>0,VLOOKUP($J41,Ruimtegroepen[],3,FALSE)*VLOOKUP($L41,Vloersoorten[],3,FALSE)*VLOOKUP($Y41,Frequenties[],3,FALSE)*VLOOKUP($A37,Locaties[],3,FALSE),0) -> 0 | AB41: =Ruimtestaat[[#This Row],[Uitvoeringen weekend]]*Ruimtestaat[[#This Row],[Oppervlak (netto)]] -> 0 | AC41: =IF(AB41>0,Ruimtestaat[[#This Row],[Prest. (m2 /jaar) weekend]]/Ruimtestaat[[#This Row],[Norm (m2/uur) weekend]],0) -> 0 | AD41: =Ruimtestaat[[#This Row],[uren / jaar weekend]]*Tariefsopbouw!$D$40 -> 0 | AE41: =Ruimtestaat[[#This Row],[Prest. (m2 /jaar) weekend]]+Ruimtestaat[[#This Row],[Prest. (m2 /jaar) werkdagen]] -> 720 | AF41: =Ruimtestaat[[#This Row],[uren / jaar weekend]]+Ruimtestaat[[#This Row],[uren / jaar werkdagen]] -> 0 | AG41: =Ruimtestaat[[#This Row],[kosten / jaar weekend]]+Ruimtestaat[[#This Row],[kosten / jaar werkdagen]] -> 0
A42: 1 | B42: =VLOOKUP(Ruimtestaat[[#This Row],[Code]],Locaties[#All],2,FALSE) -> Hoofdgebouw | C42: =VLOOKUP(Ruimtestaat[[#This Row],[Code]],Locaties[#All],4,FALSE) -> Sterrenlaan 16 | D42: =VLOOKUP(Ruimtestaat[[#This Row],[Code]],Locaties[#All],5,FALSE) -> 5631 KA | E42: =VLOOKUP(Ruimtestaat[[#This Row],[Code]],Locaties[#All],6,FALSE) -> Eindhoven | G42: BG | H42: 0.51 | I42: Kantoor | J42: 2 | K42: =VLOOKUP(J42,Ruimtegroepen[],2,FALSE) -> Kantoren | L42: L | M42: Linoleum | N42: 14 | P42: =LEFT(VLOOKUP(Ruimtestaat[[#This Row],[Ruimte code]],Ruimtegroepen[#All],4,1),2) -> B | R42: 40 | S42: 2w | T42: =IF(R42>0,IF(RIGHT(Ruimtestaat[[#This Row],[Frequentie werkdagen]],1)="w",VALUE(LEFT(Ruimtestaat[[#This Row],[Frequentie werkdagen]],(LEN(Ruimtestaat[[#This Row],[Frequentie werkdagen]])-1))*Ruimtestaat[[#This Row],[Aantal weken/jr]]),IF(RIGHT(Ruimtestaat[[#This Row],[Frequentie werkdagen]],1)="m",VALUE(LEFT(Ruimtestaat[[#This Row],[Frequentie werkdagen]],LEN(Ruimtestaat[[#This Row],[Frequentie werkdagen]])-1)*12),VALUE(LEFT(Ruimtestaat[[#This Row],[Frequentie werkdagen]],(LEN(Ruimtestaat[[#This Row],[Frequentie werkdagen]])-1))))),0) -> 80 | U42: =IF(T42>0,VLOOKUP($J42,Ruimtegroepen[],3,FALSE)*VLOOKUP($L42,Vloersoorten[],3,FALSE)*VLOOKUP($S42,Frequenties[],3,FALSE)*VLOOKUP($A42,Locaties[],3,FALSE),0) -> 0 | V42: =Ruimtestaat[[#This Row],[Uitvoeringen werkdagen]]*Ruimtestaat[[#This Row],[Oppervlak (netto)]] -> 1120 | W42: =IF(U42>0,Ruimtestaat[[#This Row],[Prest. (m2 /jaar) werkdagen]]/Ruimtestaat[[#This Row],[Norm (m2/uur) werkdagen]],0) -> 0 | X42: =Ruimtestaat[[#This Row],[uren / jaar werkdagen]]*Tariefsopbouw!$E$35 -> 0 | Z42: =IF(Ruimtestaat[[#This Row],[Frequentie weekend]]>0,VALUE(LEFT(Y42,1))*R42,0) -> 0 | AA42: =IF($Z42>0,VLOOKUP($J42,Ruimtegroepen[],3,FALSE)*VLOOKUP($L42,Vloersoorten[],3,FALSE)*VLOOKUP($Y42,Frequenties[],3,FALSE)*VLOOKUP($A38,Locaties[],3,FALSE),0) -> 0 | AB42: =Ruimtestaat[[#This Row],[Uitvoeringen weekend]]*Ruimtestaat[[#This Row],[Oppervlak (netto)]] -> 0 | AC42: =IF(AB42>0,Ruimtestaat[[#This Row],[Prest. (m2 /jaar) weekend]]/Ruimtestaat[[#This Row],[Norm (m2/uur) weekend]],0) -> 0 | AD42: =Ruimtestaat[[#This Row],[uren / jaar weekend]]*Tariefsopbouw!$D$40 -> 0 | AE42: =Ruimtestaat[[#This Row],[Prest. (m2 /jaar) weekend]]+Ruimtestaat[[#This Row],[Prest. (m2 /jaar) werkdagen]] -> 1120 | AF42: =Ruimtestaat[[#This Row],[uren / jaar weekend]]+Ruimtestaat[[#This Row],[uren / jaar werkdagen]] -> 0 | AG42: =Ruimtestaat[[#This Row],[kosten / jaar weekend]]+Ruimtestaat[[#This Row],[kosten / jaar werkdagen]] -> 0
A43: 1 | B43: =VLOOKUP(Ruimtestaat[[#This Row],[Code]],Locaties[#All],2,FALSE) -> Hoofdgebouw | C43: =VLOOKUP(Ruimtestaat[[#This Row],[Code]],Locaties[#All],4,FALSE) -> Sterrenlaan 16 | D43: =VLOOKUP(Ruimtestaat[[#This Row],[Code]],Locaties[#All],5,FALSE) -> 5631 KA | E43: =VLOOKUP(Ruimtestaat[[#This Row],[Code]],Locaties[#All],6,FALSE) -> Eindhoven | G43: BG | H43: 0.52 | I43: Personeelsruimte | J43: 2 | K43: =VLOOKUP(J43,Ruimtegroepen[],2,FALSE) -> Kantoren | L43: L | M43: Linoleum | N43: 48 | P43: =LEFT(VLOOKUP(Ruimtestaat[[#This Row],[Ruimte code]],Ruimtegroepen[#All],4,1),2) -> B | R43: 40 | S43: 5w | T43: =IF(R43>0,IF(RIGHT(Ruimtestaat[[#This Row],[Frequentie werkdagen]],1)="w",VALUE(LEFT(Ruimtestaat[[#This Row],[Frequentie werkdagen]],(LEN(Ruimtestaat[[#This Row],[Frequentie werkdagen]])-1))*Ruimtestaat[[#This Row],[Aantal weken/jr]]),IF(RIGHT(Ruimtestaat[[#This Row],[Frequentie werkdagen]],1)="m",VALUE(LEFT(Ruimtestaat[[#This Row],[Frequentie werkdagen]],LEN(Ruimtestaat[[#This Row],[Frequentie werkdagen]])-1)*12),VALUE(LEFT(Ruimtestaat[[#This Row],[Frequentie werkdagen]],(LEN(Ruimtestaat[[#This Row],[Frequentie werkdagen]])-1))))),0) -> 200 | U43: =IF(T43>0,VLOOKUP($J43,Ruimtegroepen[],3,FALSE)*VLOOKUP($L43,Vloersoorten[],3,FALSE)*VLOOKUP($S43,Frequenties[],3,FALSE)*VLOOKUP($A43,Locaties[],3,FALSE),0) -> 0 | V43: =Ruimtestaat[[#This Row],[Uitvoeringen werkdagen]]*Ruimtestaat[[#This Row],[Oppervlak (netto)]] -> 9600 | W43: =IF(U43>0,Ruimtestaat[[#This Row],[Prest. (m2 /jaar) werkdagen]]/Ruimtestaat[[#This Row],[Norm (m2/uur) werkdagen]],0) -> 0 | X43: =Ruimtestaat[[#This Row],[uren / jaar werkdagen]]*Tariefsopbouw!$E$35 -> 0 | Z43: =IF(Ruimtestaat[[#This Row],[Frequentie weekend]]>0,VALUE(LEFT(Y43,1))*R43,0) -> 0 | AA43: =IF($Z43>0,VLOOKUP($J43,Ruimtegroepen[],3,FALSE)*VLOOKUP($L43,Vloersoorten[],3,FALSE)*VLOOKUP($Y43,Frequenties[],3,FALSE)*VLOOKUP($A39,Locaties[],3,FALSE),0) -> 0 | AB43: =Ruimtestaat[[#This Row],[Uitvoeringen weekend]]*Ruimtestaat[[#This Row],[Oppervlak (netto)]] -> 0 | AC43: =IF(AB43>0,Ruimtestaat[[#This Row],[Prest. (m2 /jaar) weekend]]/Ruimtestaat[[#This Row],[Norm (m2/uur) weekend]],0) -> 0 | AD43: =Ruimtestaat[[#This Row],[uren / jaar weekend]]*Tariefsopbouw!$D$40 -> 0 | AE43: =Ruimtestaat[[#This Row],[Prest. (m2 /jaar) weekend]]+Ruimtestaat[[#This Row],[Prest. (m2 /jaar) werkdagen]] -> 9600 | AF43: =Ruimtestaat[[#This Row],[uren / jaar weekend]]+Ruimtestaat[[#This Row],[uren / jaar werkdagen]] -> 0 | AG43: =Ruimtestaat[[#This Row],[kosten / jaar weekend]]+Ruimtestaat[[#This Row],[kosten / jaar werkdagen]] -> 0
A44: 1 | B44: =VLOOKUP(Ruimtestaat[[#This Row],[Code]],Locaties[#All],2,FALSE) -> Hoofdgebouw | C44: =VLOOKUP(Ruimtestaat[[#This Row],[Code]],Locaties[#All],4,FALSE) -> Sterrenlaan 16 | D44: =VLOOKUP(Ruimtestaat[[#This Row],[Code]],Locaties[#All],5,FALSE) -> 5631 KA | E44: =VLOOKUP(Ruimtestaat[[#This Row],[Code]],Locaties[#All],6,FALSE) -> Eindhoven | G44: BG | H44: 0.53 | I44: Stilteruimte personeel | J44: 2 | K44: =VLOOKUP(J44,Ruimtegroepen[],2,FALSE) -> Kantoren | L44: L | M44: Linoleum | N44: 29 | P44: =LEFT(VLOOKUP(Ruimtestaat[[#This Row],[Ruimte code]],Ruimtegroepen[#All],4,1),2) -> B | R44: 40 | S44: 2w | T44: =IF(R44>0,IF(RIGHT(Ruimtestaat[[#This Row],[Frequentie werkdagen]],1)="w",VALUE(LEFT(Ruimtestaat[[#This Row],[Frequentie werkdagen]],(LEN(Ruimtestaat[[#This Row],[Frequentie werkdagen]])-1))*Ruimtestaat[[#This Row],[Aantal weken/jr]]),IF(RIGHT(Ruimtestaat[[#This Row],[Frequentie werkdagen]],1)="m",VALUE(LEFT(Ruimtestaat[[#This Row],[Frequentie werkdagen]],LEN(Ruimtestaat[[#This Row],[Frequentie werkdagen]])-1)*12),VALUE(LEFT(Ruimtestaat[[#This Row],[Frequentie werkdagen]],(LEN(Ruimtestaat[[#This Row],[Frequentie werkdagen]])-1))))),0) -> 80 | U44: =IF(T44>0,VLOOKUP($J44,Ruimtegroepen[],3,FALSE)*VLOOKUP($L44,Vloersoorten[],3,FALSE)*VLOOKUP($S44,Frequenties[],3,FALSE)*VLOOKUP($A44,Locaties[],3,FALSE),0) -> 0 | V44: =Ruimtestaat[[#This Row],[Uitvoeringen werkdagen]]*Ruimtestaat[[#This Row],[Oppervlak (netto)]] -> 2320 | W44: =IF(U44>0,Ruimtestaat[[#This Row],[Prest. (m2 /jaar) werkdagen]]/Ruimtestaat[[#This Row],[Norm (m2/uur) werkdagen]],0) -> 0 | X44: =Ruimtestaat[[#This Row],[uren / jaar werkdagen]]*Tariefsopbouw!$E$35 -> 0 | Z44: =IF(Ruimtestaat[[#This Row],[Frequentie weekend]]>0,VALUE(LEFT(Y44,1))*R44,0) -> 0 | AA44: =IF($Z44>0,VLOOKUP($J44,Ruimtegroepen[],3,FALSE)*VLOOKUP($L44,Vloersoorten[],3,FALSE)*VLOOKUP($Y44,Frequenties[],3,FALSE)*VLOOKUP($A40,Locaties[],3,FALSE),0) -> 0 | AB44: =Ruimtestaat[[#This Row],[Uitvoeringen weekend]]*Ruimtestaat[[#This Row],[Oppervlak (netto)]] -> 0 | AC44: =IF(AB44>0,Ruimtestaat[[#This Row],[Prest. (m2 /jaar) weekend]]/Ruimtestaat[[#This Row],[Norm (m2/uur) weekend]],0) -> 0 | AD44: =Ruimtestaat[[#This Row],[uren / jaar weekend]]*Tariefsopbouw!$D$40 -> 0 | AE44: =Ruimtestaat[[#This Row],[Prest. (m2 /jaar) weekend]]+Ruimtestaat[[#This Row],[Prest. (m2 /jaar) werkdagen]] -> 2320 | AF44: =Ruimtestaat[[#This Row],[uren / jaar weekend]]+Ruimtestaat[[#This Row],[uren / jaar werkdagen]] -> 0 | AG44: =Ruimtestaat[[#This Row],[kosten / jaar weekend]]+Ruimtestaat[[#This Row],[kosten / jaar werkdagen]] -> 0
A45: 1 | B45: =VLOOKUP(Ruimtestaat[[#This Row],[Code]],Locaties[#All],2,FALSE) -> Hoofdgebouw | C45: =VLOOKUP(Ruimtestaat[[#This Row],[Code]],Locaties[#All],4,FALSE) -> Sterrenlaan 16 | D45: =VLOOKUP(Ruimtestaat[[#This Row],[Code]],Locaties[#All],5,FALSE) -> 5631 KA | E45: =VLOOKUP(Ruimtestaat[[#This Row],[Code]],Locaties[#All],6,FALSE) -> Eindhoven | G45: 1e verd | H45: 1.02 | I45: Verkeersruimte | J45: 6 | K45: =VLOOKUP(J45,Ruimtegroepen[],2,FALSE) -> Gangen/hallen | L45: L | M45: Linoleum | N45: 114 | P45: =LEFT(VLOOKUP(Ruimtestaat[[#This Row],[Ruimte code]],Ruimtegroepen[#All],4,1),2) -> V | R45: 40 | S45: 5w | T45: =IF(R45>0,IF(RIGHT(Ruimtestaat[[#This Row],[Frequentie werkdagen]],1)="w",VALUE(LEFT(Ruimtestaat[[#This Row],[Frequentie werkdagen]],(LEN(Ruimtestaat[[#This Row],[Frequentie werkdagen]])-1))*Ruimtestaat[[#This Row],[Aantal weken/jr]]),IF(RIGHT(Ruimtestaat[[#This Row],[Frequentie werkdagen]],1)="m",VALUE(LEFT(Ruimtestaat[[#This Row],[Frequentie werkdagen]],LEN(Ruimtestaat[[#This Row],[Frequentie werkdagen]])-1)*12),VALUE(LEFT(Ruimtestaat[[#This Row],[Frequentie werkdagen]],(LEN(Ruimtestaat[[#This Row],[Frequentie werkdagen]])-1))))),0) -> 200 | U45: =IF(T45>0,VLOOKUP($J45,Ruimtegroepen[],3,FALSE)*VLOOKUP($L45,Vloersoorten[],3,FALSE)*VLOOKUP($S45,Frequenties[],3,FALSE)*VLOOKUP($A45,Locaties[],3,FALSE),0) -> 0 | V45: =Ruimtestaat[[#This Row],[Uitvoeringen werkdagen]]*Ruimtestaat[[#This Row],[Oppervlak (netto)]] -> 22800 | W45: =IF(U45>0,Ruimtestaat[[#This Row],[Prest. (m2 /jaar) werkdagen]]/Ruimtestaat[[#This Row],[Norm (m2/uur) werkdagen]],0) -> 0 | X45: =Ruimtestaat[[#This Row],[uren / jaar werkdagen]]*Tariefsopbouw!$E$35 -> 0 | Z45: =IF(Ruimtestaat[[#This Row],[Frequentie weekend]]>0,VALUE(LEFT(Y45,1))*R45,0) -> 0 | AA45: =IF($Z45>0,VLOOKUP($J45,Ruimtegroepen[],3,FALSE)*VLOOKUP($L45,Vloersoorten[],3,FALSE)*VLOOKUP($Y45,Frequenties[],3,FALSE)*VLOOKUP($A41,Locaties[],3,FALSE),0) -> 0 | AB45: =Ruimtestaat[[#This Row],[Uitvoeringen weekend]]*Ruimtestaat[[#This Row],[Oppervlak (netto)]] -> 0 | AC45: =IF(AB45>0,Ruimtestaat[[#This Row],[Prest. (m2 /jaar) weekend]]/Ruimtestaat[[#This Row],[Norm (m2/uur) weekend]],0) -> 0 | AD45: =Ruimtestaat[[#This Row],[uren / jaar weekend]]*Tariefsopbouw!$D$40 -> 0 | AE45: =Ruimtestaat[[#This Row],[Prest. (m2 /jaar) weekend]]+Ruimtestaat[[#This Row],[Prest. (m2 /jaar) werkdagen]] -> 22800 | AF45: =Ruimtestaat[[#This Row],[uren / jaar weekend]]+Ruimtestaat[[#This Row],[uren / jaar werkdagen]] -> 0 | AG45: =Ruimtestaat[[#This Row],[kosten / jaar weekend]]+Ruimtestaat[[#This Row],[kosten / jaar werkdagen]] -> 0
A46: 1 | B46: =VLOOKUP(Ruimtestaat[[#This Row],[Code]],Locaties[#All],2,FALSE) -> Hoofdgebouw | C46: =VLOOKUP(Ruimtestaat[[#This Row],[Code]],Locaties[#All],4,FALSE) -> Sterrenlaan 16 | D46: =VLOOKUP(Ruimtestaat[[#This Row],[Code]],Locaties[#All],5,FALSE) -> 5631 KA | E46: =VLOOKUP(Ruimtestaat[[#This Row],[Code]],Locaties[#All],6,FALSE) -> Eindhoven | G46: 1e verd | H46: 1.03 | I46: Gang naar toiletgroep | J46: 6 | K46: =VLOOKUP(J46,Ruimtegroepen[],2,FALSE) -> Gangen/hallen | L46: L | M46: Linoleum | N46: 15 | P46: =LEFT(VLOOKUP(Ruimtestaat[[#This Row],[Ruimte code]],Ruimtegroepen[#All],4,1),2) -> V | R46: 40 | S46: 5w | T46: =IF(R46>0,IF(RIGHT(Ruimtestaat[[#This Row],[Frequentie werkdagen]],1)="w",VALUE(LEFT(Ruimtestaat[[#This Row],[Frequentie werkdagen]],(LEN(Ruimtestaat[[#This Row],[Frequentie werkdagen]])-1))*Ruimtestaat[[#This Row],[Aantal weken/jr]]),IF(RIGHT(Ruimtestaat[[#This Row],[Frequentie werkdagen]],1)="m",VALUE(LEFT(Ruimtestaat[[#This Row],[Frequentie werkdagen]],LEN(Ruimtestaat[[#This Row],[Frequentie werkdagen]])-1)*12),VALUE(LEFT(Ruimtestaat[[#This Row],[Frequentie werkdagen]],(LEN(Ruimtestaat[[#This Row],[Frequentie werkdagen]])-1))))),0) -> 200 | U46: =IF(T46>0,VLOOKUP($J46,Ruimtegroepen[],3,FALSE)*VLOOKUP($L46,Vloersoorten[],3,FALSE)*VLOOKUP($S46,Frequenties[],3,FALSE)*VLOOKUP($A46,Locaties[],3,FALSE),0) -> 0 | V46: =Ruimtestaat[[#This Row],[Uitvoeringen werkdagen]]*Ruimtestaat[[#This Row],[Oppervlak (netto)]] -> 3000 | W46: =IF(U46>0,Ruimtestaat[[#This Row],[Prest. (m2 /jaar) werkdagen]]/Ruimtestaat[[#This Row],[Norm (m2/uur) werkdagen]],0) -> 0 | X46: =Ruimtestaat[[#This Row],[uren / jaar werkdagen]]*Tariefsopbouw!$E$35 -> 0 | Z46: =IF(Ruimtestaat[[#This Row],[Frequentie weekend]]>0,VALUE(LEFT(Y46,1))*R46,0) -> 0 | AA46: =IF($Z46>0,VLOOKUP($J46,Ruimtegroepen[],3,FALSE)*VLOOKUP($L46,Vloersoorten[],3,FALSE)*VLOOKUP($Y46,Frequenties[],3,FALSE)*VLOOKUP($A42,Locaties[],3,FALSE),0) -> 0 | AB46: =Ruimtestaat[[#This Row],[Uitvoeringen weekend]]*Ruimtestaat[[#This Row],[Oppervlak (netto)]] -> 0 | AC46: =IF(AB46>0,Ruimtestaat[[#This Row],[Prest. (m2 /jaar) weekend]]/Ruimtestaat[[#This Row],[Norm (m2/uur) weekend]],0) -> 0 | AD46: =Ruimtestaat[[#This Row],[uren / jaar weekend]]*Tariefsopbouw!$D$40 -> 0 | AE46: =Ruimtestaat[[#This Row],[Prest. (m2 /jaar) weekend]]+Ruimtestaat[[#This Row],[Prest. (m2 /jaar) werkdagen]] -> 3000 | AF46: =Ruimtestaat[[#This Row],[uren / jaar weekend]]+Ruimtestaat[[#This Row],[uren / jaar werkdagen]] -> 0 | AG46: =Ruimtestaat[[#This Row],[kosten / jaar weekend]]+Ruimtestaat[[#This Row],[kosten / jaar werkdagen]] -> 0
A47: 1 | B47: =VLOOKUP(Ruimtestaat[[#This Row],[Code]],Locaties[#All],2,FALSE) -> Hoofdgebouw | C47: =VLOOKUP(Ruimtestaat[[#This Row],[Code]],Locaties[#All],4,FALSE) -> Sterrenlaan 16 | D47: =VLOOKUP(Ruimtestaat[[#This Row],[Code]],Locaties[#All],5,FALSE) -> 5631 KA | E47: =VLOOKUP(Ruimtestaat[[#This Row],[Code]],Locaties[#All],6,FALSE) -> Eindhoven | G47: 1e verd | H47: 1.03A | I47: Centraal Trappenhuis | J47: 10 | K47: =VLOOKUP(J47,Ruimtegroepen[],2,FALSE) -> Trappenhuizen/lift | L47: H | M47: Hout | N47: 12 | P47: =LEFT(VLOOKUP(Ruimtestaat[[#This Row],[Ruimte code]],Ruimtegroepen[#All],4,1),2) -> V | R47: 40 | S47: 5w | T47: =IF(R47>0,IF(RIGHT(Ruimtestaat[[#This Row],[Frequentie werkdagen]],1)="w",VALUE(LEFT(Ruimtestaat[[#This Row],[Frequentie werkdagen]],(LEN(Ruimtestaat[[#This Row],[Frequentie werkdagen]])-1))*Ruimtestaat[[#This Row],[Aantal weken/jr]]),IF(RIGHT(Ruimtestaat[[#This Row],[Frequentie werkdagen]],1)="m",VALUE(LEFT(Ruimtestaat[[#This Row],[Frequentie werkdagen]],LEN(Ruimtestaat[[#This Row],[Frequentie werkdagen]])-1)*12),VALUE(LEFT(Ruimtestaat[[#This Row],[Frequentie werkdagen]],(LEN(Ruimtestaat[[#This Row],[Frequentie werkdagen]])-1))))),0) -> 200 | U47: =IF(T47>0,VLOOKUP($J47,Ruimtegroepen[],3,FALSE)*VLOOKUP($L47,Vloersoorten[],3,FALSE)*VLOOKUP($S47,Frequenties[],3,FALSE)*VLOOKUP($A47,Locaties[],3,FALSE),0) -> 0 | V47: =Ruimtestaat[[#This Row],[Uitvoeringen werkdagen]]*Ruimtestaat[[#This Row],[Oppervlak (netto)]] -> 2400 | W47: =IF(U47>0,Ruimtestaat[[#This Row],[Prest. (m2 /jaar) werkdagen]]/Ruimtestaat[[#This Row],[Norm (m2/uur) werkdagen]],0) -> 0 | X47: =Ruimtestaat[[#This Row],[uren / jaar werkdagen]]*Tariefsopbouw!$E$35 -> 0 | Z47: =IF(Ruimtestaat[[#This Row],[Frequentie weekend]]>0,VALUE(LEFT(Y47,1))*R47,0) -> 0 | AA47: =IF($Z47>0,VLOOKUP($J47,Ruimtegroepen[],3,FALSE)*VLOOKUP($L47,Vloersoorten[],3,FALSE)*VLOOKUP($Y47,Frequenties[],3,FALSE)*VLOOKUP($A43,Locaties[],3,FALSE),0) -> 0 | AB47: =Ruimtestaat[[#This Row],[Uitvoeringen weekend]]*Ruimtestaat[[#This Row],[Oppervlak (netto)]] -> 0 | AC47: =IF(AB47>0,Ruimtestaat[[#This Row],[Prest. (m2 /jaar) weekend]]/Ruimtestaat[[#This Row],[Norm (m2/uur) weekend]],0) -> 0 | AD47: =Ruimtestaat[[#This Row],[uren / jaar weekend]]*Tariefsopbouw!$D$40 -> 0 | AE47: =Ruimtestaat[[#This Row],[Prest. (m2 /jaar) weekend]]+Ruimtestaat[[#This Row],[Prest. (m2 /jaar) werkdagen]] -> 2400 | AF47: =Ruimtestaat[[#This Row],[uren / jaar weekend]]+Ruimtestaat[[#This Row],[uren / jaar werkdagen]] -> 0 | AG47: =Ruimtestaat[[#This Row],[kosten / jaar weekend]]+Ruimtestaat[[#This Row],[kosten / jaar werkdagen]] -> 0
A48: 1 | B48: =VLOOKUP(Ruimtestaat[[#This Row],[Code]],Locaties[#All],2,FALSE) -> Hoofdgebouw | C48: =VLOOKUP(Ruimtestaat[[#This Row],[Code]],Locaties[#All],4,FALSE) -> Sterrenlaan 16 | D48: =VLOOKUP(Ruimtestaat[[#This Row],[Code]],Locaties[#All],5,FALSE) -> 5631 KA | E48: =VLOOKUP(Ruimtestaat[[#This Row],[Code]],Locaties[#All],6,FALSE) -> Eindhoven | G48: 1e verd | H48: 1.04 | I48: Toiletgroep jongens | J48: 5 | K48: =VLOOKUP(J48,Ruimtegroepen[],2,FALSE) -> Sanitair | L48: S | M48: Tegels | N48: 12 | P48: =LEFT(VLOOKUP(Ruimtestaat[[#This Row],[Ruimte code]],Ruimtegroepen[#All],4,1),2) -> S | R48: 42 | S48: 5w | T48: =IF(R48>0,IF(RIGHT(Ruimtestaat[[#This Row],[Frequentie werkdagen]],1)="w",VALUE(LEFT(Ruimtestaat[[#This Row],[Frequentie werkdagen]],(LEN(Ruimtestaat[[#This Row],[Frequentie werkdagen]])-1))*Ruimtestaat[[#This Row],[Aantal weken/jr]]),IF(RIGHT(Ruimtestaat[[#This Row],[Frequentie werkdagen]],1)="m",VALUE(LEFT(Ruimtestaat[[#This Row],[Frequentie werkdagen]],LEN(Ruimtestaat[[#This Row],[Frequentie werkdagen]])-1)*12),VALUE(LEFT(Ruimtestaat[[#This Row],[Frequentie werkdagen]],(LEN(Ruimtestaat[[#This Row],[Frequentie werkdagen]])-1))))),0) -> 210 | U48: =IF(T48>0,VLOOKUP($J48,Ruimtegroepen[],3,FALSE)*VLOOKUP($L48,Vloersoorten[],3,FALSE)*VLOOKUP($S48,Frequenties[],3,FALSE)*VLOOKUP($A48,Locaties[],3,FALSE),0) -> 0 | V48: =Ruimtestaat[[#This Row],[Uitvoeringen werkdagen]]*Ruimtestaat[[#This Row],[Oppervlak (netto)]] -> 2520 | W48: =IF(U48>0,Ruimtestaat[[#This Row],[Prest. (m2 /jaar) werkdagen]]/Ruimtestaat[[#This Row],[Norm (m2/uur) werkdagen]],0) -> 0 | X48: =Ruimtestaat[[#This Row],[uren / jaar werkdagen]]*Tariefsopbouw!$E$35 -> 0 | Z48: =IF(Ruimtestaat[[#This Row],[Frequentie weekend]]>0,VALUE(LEFT(Y48,1))*R48,0) -> 0 | AA48: =IF($Z48>0,VLOOKUP($J48,Ruimtegroepen[],3,FALSE)*VLOOKUP($L48,Vloersoorten[],3,FALSE)*VLOOKUP($Y48,Frequenties[],3,FALSE)*VLOOKUP($A43,Locaties[],3,FALSE),0) -> 0 | AB48: =Ruimtestaat[[#This Row],[Uitvoeringen weekend]]*Ruimtestaat[[#This Row],[Oppervlak (netto)]] -> 0 | AC48: =IF(AB48>0,Ruimtestaat[[#This Row],[Prest. (m2 /jaar) weekend]]/Ruimtestaat[[#This Row],[Norm (m2/uur) weekend]],0) -> 0 | AD48: =Ruimtestaat[[#This Row],[uren / jaar weekend]]*Tariefsopbouw!$D$40 -> 0 | AE48: =Ruimtestaat[[#This Row],[Prest. (m2 /jaar) weekend]]+Ruimtestaat[[#This Row],[Prest. (m2 /jaar) werkdagen]] -> 2520 | AF48: =Ruimtestaat[[#This Row],[uren / jaar weekend]]+Ruimtestaat[[#This Row],[uren / jaar werkdagen]] -> 0 | AG48: =Ruimtestaat[[#This Row],[kosten / jaar weekend]]+Ruimtestaat[[#This Row],[kosten / jaar werkdagen]] -> 0
A49: 1 | B49: =VLOOKUP(Ruimtestaat[[#This Row],[Code]],Locaties[#All],2,FALSE) -> Hoofdgebouw | C49: =VLOOKUP(Ruimtestaat[[#This Row],[Code]],Locaties[#All],4,FALSE) -> Sterrenlaan 16 | D49: =VLOOKUP(Ruimtestaat[[#This Row],[Code]],Locaties[#All],5,FALSE) -> 5631 KA | E49: =VLOOKUP(Ruimtestaat[[#This Row],[Code]],Locaties[#All],6,FALSE) -> Eindhoven | G49: 1e verd | H49: 1.05 | I49: Toiletgroep meisjes | J49: 5 | K49: =VLOOKUP(J49,Ruimtegroepen[],2,FALSE) -> Sanitair | L49: S | M49: Tegels | N49: 13 | P49: =LEFT(VLOOKUP(Ruimtestaat[[#This Row],[Ruimte code]],Ruimtegroepen[#All],4,1),2) -> S | R49: 42 | S49: 5w | T49: =IF(R49>0,IF(RIGHT(Ruimtestaat[[#This Row],[Frequentie werkdagen]],1)="w",VALUE(LEFT(Ruimtestaat[[#This Row],[Frequentie werkdagen]],(LEN(Ruimtestaat[[#This Row],[Frequentie werkdagen]])-1))*Ruimtestaat[[#This Row],[Aantal weken/jr]]),IF(RIGHT(Ruimtestaat[[#This Row],[Frequentie werkdagen]],1)="m",VALUE(LEFT(Ruimtestaat[[#This Row],[Frequentie werkdagen]],LEN(Ruimtestaat[[#This Row],[Frequentie werkdagen]])-1)*12),VALUE(LEFT(Ruimtestaat[[#This Row],[Frequentie werkdagen]],(LEN(Ruimtestaat[[#This Row],[Frequentie werkdagen]])-1))))),0) -> 210 | U49: =IF(T49>0,VLOOKUP($J49,Ruimtegroepen[],3,FALSE)*VLOOKUP($L49,Vloersoorten[],3,FALSE)*VLOOKUP($S49,Frequenties[],3,FALSE)*VLOOKUP($A49,Locaties[],3,FALSE),0) -> 0 | V49: =Ruimtestaat[[#This Row],[Uitvoeringen werkdagen]]*Ruimtestaat[[#This Row],[Oppervlak (netto)]] -> 2730 | W49: =IF(U49>0,Ruimtestaat[[#This Row],[Prest. (m2 /jaar) werkdagen]]/Ruimtestaat[[#This Row],[Norm (m2/uur) werkdagen]],0) -> 0 | X49: =Ruimtestaat[[#This Row],[uren / jaar werkdagen]]*Tariefsopbouw!$E$35 -> 0 | Z49: =IF(Ruimtestaat[[#This Row],[Frequentie weekend]]>0,VALUE(LEFT(Y49,1))*R49,0) -> 0 | AA49: =IF($Z49>0,VLOOKUP($J49,Ruimtegroepen[],3,FALSE)*VLOOKUP($L49,Vloersoorten[],3,FALSE)*VLOOKUP($Y49,Frequenties[],3,FALSE)*VLOOKUP($A44,Locaties[],3,FALSE),0) -> 0 | AB49: =Ruimtestaat[[#This Row],[Uitvoeringen weekend]]*Ruimtestaat[[#This Row],[Oppervlak (netto)]] -> 0 | AC49: =IF(AB49>0,Ruimtestaat[[#This Row],[Prest. (m2 /jaar) weekend]]/Ruimtestaat[[#This Row],[Norm (m2/uur) weekend]],0) -> 0 | AD49: =Ruimtestaat[[#This Row],[uren / jaar weekend]]*Tariefsopbouw!$D$40 -> 0 | AE49: =Ruimtestaat[[#This Row],[Prest. (m2 /jaar) weekend]]+Ruimtestaat[[#This Row],[Prest. (m2 /jaar) werkdagen]] -> 2730 | AF49: =Ruimtestaat[[#This Row],[uren / jaar weekend]]+Ruimtestaat[[#This Row],[uren / jaar werkdagen]] -> 0 | AG49: =Ruimtestaat[[#This Row],[kosten / jaar weekend]]+Ruimtestaat[[#This Row],[kosten / jaar werkdagen]] -> 0
A50: 1 | B50: =VLOOKUP(Ruimtestaat[[#This Row],[Code]],Locaties[#All],2,FALSE) -> Hoofdgebouw | C50: =VLOOKUP(Ruimtestaat[[#This Row],[Code]],Locaties[#All],4,FALSE) -> Sterrenlaan 16 | D50: =VLOOKUP(Ruimtestaat[[#This Row],[Code]],Locaties[#All],5,FALSE) -> 5631 KA | E50: =VLOOKUP(Ruimtestaat[[#This Row],[Code]],Locaties[#All],6,FALSE) -> Eindhoven | G50: 1e verd | H50: 1.06 | I50: Werkkast | J50: 20 | K50: =VLOOKUP(J50,Ruimtegroepen[],2,FALSE) -> Niet in onderhoud | L50: S | M50: Tegels | O50: 2 | P50: =LEFT(VLOOKUP(Ruimtestaat[[#This Row],[Ruimte code]],Ruimtegroepen[#All],4,1),2) | T50: =IF(R50>0,IF(RIGHT(Ruimtestaat[[#This Row],[Frequentie werkdagen]],1)="w",VALUE(LEFT(Ruimtestaat[[#This Row],[Frequentie werkdagen]],(LEN(Ruimtestaat[[#This Row],[Frequentie werkdagen]])-1))*Ruimtestaat[[#This Row],[Aantal weken/jr]]),IF(RIGHT(Ruimtestaat[[#This Row],[Frequentie werkdagen]],1)="m",VALUE(LEFT(Ruimtestaat[[#This Row],[Frequentie werkdagen]],LEN(Ruimtestaat[[#This Row],[Frequentie werkdagen]])-1)*12),VALUE(LEFT(Ruimtestaat[[#This Row],[Frequentie werkdagen]],(LEN(Ruimtestaat[[#This Row],[Frequentie werkdagen]])-1))))),0) -> 0 | U50: =IF(T50>0,VLOOKUP($J50,Ruimtegroepen[],3,FALSE)*VLOOKUP($L50,Vloersoorten[],3,FALSE)*VLOOKUP($S50,Frequenties[],3,FALSE)*VLOOKUP($A50,Locaties[],3,FALSE),0) -> 0 | V50: =Ruimtestaat[[#This Row],[Uitvoeringen werkdagen]]*Ruimtestaat[[#This Row],[Oppervlak (netto)]] -> 0 | W50: =IF(U50>0,Ruimtestaat[[#This Row],[Prest. (m2 /jaar) werkdagen]]/Ruimtestaat[[#This Row],[Norm (m2/uur) werkdagen]],0) -> 0 | X50: =Ruimtestaat[[#This Row],[uren / jaar werkdagen]]*Tariefsopbouw!$E$35 -> 0 | Z50: =IF(Ruimtestaat[[#This Row],[Frequentie weekend]]>0,VALUE(LEFT(Y50,1))*R50,0) -> 0 | AA50: =IF($Z50>0,VLOOKUP($J50,Ruimtegroepen[],3,FALSE)*VLOOKUP($L50,Vloersoorten[],3,FALSE)*VLOOKUP($Y50,Frequenties[],3,FALSE)*VLOOKUP($A45,Locaties[],3,FALSE),0) -> 0 | AB50: =Ruimtestaat[[#This Row],[Uitvoeringen weekend]]*Ruimtestaat[[#This Row],[Oppervlak (netto)]] -> 0 | AC50: =IF(AB50>0,Ruimtestaat[[#This Row],[Prest. (m2 /jaar) weekend]]/Ruimtestaat[[#This Row],[Norm (m2/uur) weekend]],0) -> 0 | AD50: =Ruimtestaat[[#This Row],[uren / jaar weekend]]*Tariefsopbouw!$D$40 -> 0 | AE50: =Ruimtestaat[[#This Row],[Prest. (m2 /jaar) weekend]]+Ruimtestaat[[#This Row],[Prest. (m2 /jaar) werkdagen]] -> 0 | AF50: =Ruimtestaat[[#This Row],[uren / jaar weekend]]+Ruimtestaat[[#This Row],[uren / jaar werkdagen]] -> 0 | AG50: =Ruimtestaat[[#This Row],[kosten / jaar weekend]]+Ruimtestaat[[#This Row],[kosten / jaar werkdagen]] -> 0
A51: 1 | B51: =VLOOKUP(Ruimtestaat[[#This Row],[Code]],Locaties[#All],2,FALSE) -> Hoofdgebouw | C51: =VLOOKUP(Ruimtestaat[[#This Row],[Code]],Locaties[#All],4,FALSE) -> Sterrenlaan 16 | D51: =VLOOKUP(Ruimtestaat[[#This Row],[Code]],Locaties[#All],5,FALSE) -> 5631 KA | E51: =VLOOKUP(Ruimtestaat[[#This Row],[Code]],Locaties[#All],6,FALSE) -> Eindhoven | G51: 1e verd | H51: 1.08 | I51: Verkeersruimte | J51: 6 | K51: =VLOOKUP(J51,Ruimtegroepen[],2,FALSE) -> Gangen/hallen | L51: L | M51: Linoleum | N51: 100 | P51: =LEFT(VLOOKUP(Ruimtestaat[[#This Row],[Ruimte code]],Ruimtegroepen[#All],4,1),2) -> V | R51: 40 | S51: 5w | T51: =IF(R51>0,IF(RIGHT(Ruimtestaat[[#This Row],[Frequentie werkdagen]],1)="w",VALUE(LEFT(Ruimtestaat[[#This Row],[Frequentie werkdagen]],(LEN(Ruimtestaat[[#This Row],[Frequentie werkdagen]])-1))*Ruimtestaat[[#This Row],[Aantal weken/jr]]),IF(RIGHT(Ruimtestaat[[#This Row],[Frequentie werkdagen]],1)="m",VALUE(LEFT(Ruimtestaat[[#This Row],[Frequentie werkdagen]],LEN(Ruimtestaat[[#This Row],[Frequentie werkdagen]])-1)*12),VALUE(LEFT(Ruimtestaat[[#This Row],[Frequentie werkdagen]],(LEN(Ruimtestaat[[#This Row],[Frequentie werkdagen]])-1))))),0) -> 200 | U51: =IF(T51>0,VLOOKUP($J51,Ruimtegroepen[],3,FALSE)*VLOOKUP($L51,Vloersoorten[],3,FALSE)*VLOOKUP($S51,Frequenties[],3,FALSE)*VLOOKUP($A51,Locaties[],3,FALSE),0) -> 0 | V51: =Ruimtestaat[[#This Row],[Uitvoeringen werkdagen]]*Ruimtestaat[[#This Row],[Oppervlak (netto)]] -> 20000 | W51: =IF(U51>0,Ruimtestaat[[#This Row],[Prest. (m2 /jaar) werkdagen]]/Ruimtestaat[[#This Row],[Norm (m2/uur) werkdagen]],0) -> 0 | X51: =Ruimtestaat[[#This Row],[uren / jaar werkdagen]]*Tariefsopbouw!$E$35 -> 0 | Z51: =IF(Ruimtestaat[[#This Row],[Frequentie weekend]]>0,VALUE(LEFT(Y51,1))*R51,0) -> 0 | AA51: =IF($Z51>0,VLOOKUP($J51,Ruimtegroepen[],3,FALSE)*VLOOKUP($L51,Vloersoorten[],3,FALSE)*VLOOKUP($Y51,Frequenties[],3,FALSE)*VLOOKUP($A46,Locaties[],3,FALSE),0) -> 0 | AB51: =Ruimtestaat[[#This Row],[Uitvoeringen weekend]]*Ruimtestaat[[#This Row],[Oppervlak (netto)]] -> 0 | AC51: =IF(AB51>0,Ruimtestaat[[#This Row],[Prest. (m2 /jaar) weekend]]/Ruimtestaat[[#This Row],[Norm (m2/uur) weekend]],0) -> 0 | AD51: =Ruimtestaat[[#This Row],[uren / jaar weekend]]*Tariefsopbouw!$D$40 -> 0 | AE51: =Ruimtestaat[[#This Row],[Prest. (m2 /jaar) weekend]]+Ruimtestaat[[#This Row],[Prest. (m2 /jaar) werkdagen]] -> 20000 | AF51: =Ruimtestaat[[#This Row],[uren / jaar weekend]]+Ruimtestaat[[#This Row],[uren / jaar werkdagen]] -> 0 | AG51: =Ruimtestaat[[#This Row],[kosten / jaar weekend]]+Ruimtestaat[[#This Row],[kosten / jaar werkdagen]] -> 0
A52: 1 | B52: =VLOOKUP(Ruimtestaat[[#This Row],[Code]],Locaties[#All],2,FALSE) -> Hoofdgebouw | C52: =VLOOKUP(Ruimtestaat[[#This Row],[Code]],Locaties[#All],4,FALSE) -> Sterrenlaan 16 | D52: =VLOOKUP(Ruimtestaat[[#This Row],[Code]],Locaties[#All],5,FALSE) -> 5631 KA | E52: =VLOOKUP(Ruimtestaat[[#This Row],[Code]],Locaties[#All],6,FALSE) -> Eindhoven | G52: 1e verd | H52: 1.09 | I52: Trappenhuis | J52: 10 | K52: =VLOOKUP(J52,Ruimtegroepen[],2,FALSE) -> Trappenhuizen/lift | L52: L | M52: Linoleum | N52: 21 | P52: =LEFT(VLOOKUP(Ruimtestaat[[#This Row],[Ruimte code]],Ruimtegroepen[#All],4,1),2) -> V | R52: 40 | S52: 5w | T52: =IF(R52>0,IF(RIGHT(Ruimtestaat[[#This Row],[Frequentie werkdagen]],1)="w",VALUE(LEFT(Ruimtestaat[[#This Row],[Frequentie werkdagen]],(LEN(Ruimtestaat[[#This Row],[Frequentie werkdagen]])-1))*Ruimtestaat[[#This Row],[Aantal weken/jr]]),IF(RIGHT(Ruimtestaat[[#This Row],[Frequentie werkdagen]],1)="m",VALUE(LEFT(Ruimtestaat[[#This Row],[Frequentie werkdagen]],LEN(Ruimtestaat[[#This Row],[Frequentie werkdagen]])-1)*12),VALUE(LEFT(Ruimtestaat[[#This Row],[Frequentie werkdagen]],(LEN(Ruimtestaat[[#This Row],[Frequentie werkdagen]])-1))))),0) -> 200 | U52: =IF(T52>0,VLOOKUP($J52,Ruimtegroepen[],3,FALSE)*VLOOKUP($L52,Vloersoorten[],3,FALSE)*VLOOKUP($S52,Frequenties[],3,FALSE)*VLOOKUP($A52,Locaties[],3,FALSE),0) -> 0 | V52: =Ruimtestaat[[#This Row],[Uitvoeringen werkdagen]]*Ruimtestaat[[#This Row],[Oppervlak (netto)]] -> 4200 | W52: =IF(U52>0,Ruimtestaat[[#This Row],[Prest. (m2 /jaar) werkdagen]]/Ruimtestaat[[#This Row],[Norm (m2/uur) werkdagen]],0) -> 0 | X52: =Ruimtestaat[[#This Row],[uren / jaar werkdagen]]*Tariefsopbouw!$E$35 -> 0 | Z52: =IF(Ruimtestaat[[#This Row],[Frequentie weekend]]>0,VALUE(LEFT(Y52,1))*R52,0) -> 0 | AA52: =IF($Z52>0,VLOOKUP($J52,Ruimtegroepen[],3,FALSE)*VLOOKUP($L52,Vloersoorten[],3,FALSE)*VLOOKUP($Y52,Frequenties[],3,FALSE)*VLOOKUP($A48,Locaties[],3,FALSE),0) -> 0 | AB52: =Ruimtestaat[[#This Row],[Uitvoeringen weekend]]*Ruimtestaat[[#This Row],[Oppervlak (netto)]] -> 0 | AC52: =IF(AB52>0,Ruimtestaat[[#This Row],[Prest. (m2 /jaar) weekend]]/Ruimtestaat[[#This Row],[Norm (m2/uur) weekend]],0) -> 0 | AD52: =Ruimtestaat[[#This Row],[uren / jaar weekend]]*Tariefsopbouw!$D$40 -> 0 | AE52: =Ruimtestaat[[#This Row],[Prest. (m2 /jaar) weekend]]+Ruimtestaat[[#This Row],[Prest. (m2 /jaar) werkdagen]] -> 4200 | AF52: =Ruimtestaat[[#This Row],[uren / jaar weekend]]+Ruimtestaat[[#This Row],[uren / jaar werkdagen]] -> 0 | AG52: =Ruimtestaat[[#This Row],[kosten / jaar weekend]]+Ruimtestaat[[#This Row],[kosten / jaar werkdagen]] -> 0
A53: 1 | B53: =VLOOKUP(Ruimtestaat[[#This Row],[Code]],Locaties[#All],2,FALSE) -> Hoofdgebouw | C53: =VLOOKUP(Ruimtestaat[[#This Row],[Code]],Locaties[#All],4,FALSE) -> Sterrenlaan 16 | D53: =VLOOKUP(Ruimtestaat[[#This Row],[Code]],Locaties[#All],5,FALSE) -> 5631 KA | E53: =VLOOKUP(Ruimtestaat[[#This Row],[Code]],Locaties[#All],6,FALSE) -> Eindhoven | G53: 1e verd | H53: 1.09A | I53: Trap | J53: 10 | K53: =VLOOKUP(J53,Ruimtegroepen[],2,FALSE) -> Trappenhuizen/lift | L53: H | M53: Hout | N53: 5 | P53: =LEFT(VLOOKUP(Ruimtestaat[[#This Row],[Ruimte code]],Ruimtegroepen[#All],4,1),2) -> V | R53: 40 | S53: 5w | T53: =IF(R53>0,IF(RIGHT(Ruimtestaat[[#This Row],[Frequentie werkdagen]],1)="w",VALUE(LEFT(Ruimtestaat[[#This Row],[Frequentie werkdagen]],(LEN(Ruimtestaat[[#This Row],[Frequentie werkdagen]])-1))*Ruimtestaat[[#This Row],[Aantal weken/jr]]),IF(RIGHT(Ruimtestaat[[#This Row],[Frequentie werkdagen]],1)="m",VALUE(LEFT(Ruimtestaat[[#This Row],[Frequentie werkdagen]],LEN(Ruimtestaat[[#This Row],[Frequentie werkdagen]])-1)*12),VALUE(LEFT(Ruimtestaat[[#This Row],[Frequentie werkdagen]],(LEN(Ruimtestaat[[#This Row],[Frequentie werkdagen]])-1))))),0) -> 200 | U53: =IF(T53>0,VLOOKUP($J53,Ruimtegroepen[],3,FALSE)*VLOOKUP($L53,Vloersoorten[],3,FALSE)*VLOOKUP($S53,Frequenties[],3,FALSE)*VLOOKUP($A53,Locaties[],3,FALSE),0) -> 0 | V53: =Ruimtestaat[[#This Row],[Uitvoeringen werkdagen]]*Ruimtestaat[[#This Row],[Oppervlak (netto)]] -> 1000 | W53: =IF(U53>0,Ruimtestaat[[#This Row],[Prest. (m2 /jaar) werkdagen]]/Ruimtestaat[[#This Row],[Norm (m2/uur) werkdagen]],0) -> 0 | X53: =Ruimtestaat[[#This Row],[uren / jaar werkdagen]]*Tariefsopbouw!$E$35 -> 0 | Z53: =IF(Ruimtestaat[[#This Row],[Frequentie weekend]]>0,VALUE(LEFT(Y53,1))*R53,0) -> 0 | AA53: =IF($Z53>0,VLOOKUP($J53,Ruimtegroepen[],3,FALSE)*VLOOKUP($L53,Vloersoorten[],3,FALSE)*VLOOKUP($Y53,Frequenties[],3,FALSE)*VLOOKUP($A49,Locaties[],3,FALSE),0) -> 0 | AB53: =Ruimtestaat[[#This Row],[Uitvoeringen weekend]]*Ruimtestaat[[#This Row],[Oppervlak (netto)]] -> 0 | AC53: =IF(AB53>0,Ruimtestaat[[#This Row],[Prest. (m2 /jaar) weekend]]/Ruimtestaat[[#This Row],[Norm (m2/uur) weekend]],0) -> 0 | AD53: =Ruimtestaat[[#This Row],[uren / jaar weekend]]*Tariefsopbouw!$D$40 -> 0 | AE53: =Ruimtestaat[[#This Row],[Prest. (m2 /jaar) weekend]]+Ruimtestaat[[#This Row],[Prest. (m2 /jaar) werkdagen]] -> 1000 | AF53: =Ruimtestaat[[#This Row],[uren / jaar weekend]]+Ruimtestaat[[#This Row],[uren / jaar werkdagen]] -> 0 | AG53: =Ruimtestaat[[#This Row],[kosten / jaar weekend]]+Ruimtestaat[[#This Row],[kosten / jaar werkdagen]] -> 0
A54: 1 | B54: =VLOOKUP(Ruimtestaat[[#This Row],[Code]],Locaties[#All],2,FALSE) -> Hoofdgebouw | C54: =VLOOKUP(Ruimtestaat[[#This Row],[Code]],Locaties[#All],4,FALSE) -> Sterrenlaan 16 | D54: =VLOOKUP(Ruimtestaat[[#This Row],[Code]],Locaties[#All],5,FALSE) -> 5631 KA | E54: =VLOOKUP(Ruimtestaat[[#This Row],[Code]],Locaties[#All],6,FALSE) -> Eindhoven | G54: 1e verd | H54: 1.10 | I54: Trappenhuis | J54: 10 | K54: =VLOOKUP(J54,Ruimtegroepen[],2,FALSE) -> Trappenhuizen/lift | L54: L | M54: Linoleum | N54: 28 | P54: =LEFT(VLOOKUP(Ruimtestaat[[#This Row],[Ruimte code]],Ruimtegroepen[#All],4,1),2) -> V | R54: 40 | S54: 5w | T54: =IF(R54>0,IF(RIGHT(Ruimtestaat[[#This Row],[Frequentie werkdagen]],1)="w",VALUE(LEFT(Ruimtestaat[[#This Row],[Frequentie werkdagen]],(LEN(Ruimtestaat[[#This Row],[Frequentie werkdagen]])-1))*Ruimtestaat[[#This Row],[Aantal weken/jr]]),IF(RIGHT(Ruimtestaat[[#This Row],[Frequentie werkdagen]],1)="m",VALUE(LEFT(Ruimtestaat[[#This Row],[Frequentie werkdagen]],LEN(Ruimtestaat[[#This Row],[Frequentie werkdagen]])-1)*12),VALUE(LEFT(Ruimtestaat[[#This Row],[Frequentie werkdagen]],(LEN(Ruimtestaat[[#This Row],[Frequentie werkdagen]])-1))))),0) -> 200 | U54: =IF(T54>0,VLOOKUP($J54,Ruimtegroepen[],3,FALSE)*VLOOKUP($L54,Vloersoorten[],3,FALSE)*VLOOKUP($S54,Frequenties[],3,FALSE)*VLOOKUP($A54,Locaties[],3,FALSE),0) -> 0 | V54: =Ruimtestaat[[#This Row],[Uitvoeringen werkdagen]]*Ruimtestaat[[#This Row],[Oppervlak (netto)]] -> 5600 | W54: =IF(U54>0,Ruimtestaat[[#This Row],[Prest. (m2 /jaar) werkdagen]]/Ruimtestaat[[#This Row],[Norm (m2/uur) werkdagen]],0) -> 0 | X54: =Ruimtestaat[[#This Row],[uren / jaar werkdagen]]*Tariefsopbouw!$E$35 -> 0 | Z54: =IF(Ruimtestaat[[#This Row],[Frequentie weekend]]>0,VALUE(LEFT(Y54,1))*R54,0) -> 0 | AA54: =IF($Z54>0,VLOOKUP($J54,Ruimtegroepen[],3,FALSE)*VLOOKUP($L54,Vloersoorten[],3,FALSE)*VLOOKUP($Y54,Frequenties[],3,FALSE)*VLOOKUP($A50,Locaties[],3,FALSE),0) -> 0 | AB54: =Ruimtestaat[[#This Row],[Uitvoeringen weekend]]*Ruimtestaat[[#This Row],[Oppervlak (netto)]] -> 0 | AC54: =IF(AB54>0,Ruimtestaat[[#This Row],[Prest. (m2 /jaar) weekend]]/Ruimtestaat[[#This Row],[Norm (m2/uur) weekend]],0) -> 0 | AD54: =Ruimtestaat[[#This Row],[uren / jaar weekend]]*Tariefsopbouw!$D$40 -> 0 | AE54: =Ruimtestaat[[#This Row],[Prest. (m2 /jaar) weekend]]+Ruimtestaat[[#This Row],[Prest. (m2 /jaar) werkdagen]] -> 5600 | AF54: =Ruimtestaat[[#This Row],[uren / jaar weekend]]+Ruimtestaat[[#This Row],[uren / jaar werkdagen]] -> 0 | AG54: =Ruimtestaat[[#This Row],[kosten / jaar weekend]]+Ruimtestaat[[#This Row],[kosten / jaar werkdagen]] -> 0
A55: 1 | B55: =VLOOKUP(Ruimtestaat[[#This Row],[Code]],Locaties[#All],2,FALSE) -> Hoofdgebouw | C55: =VLOOKUP(Ruimtestaat[[#This Row],[Code]],Locaties[#All],4,FALSE) -> Sterrenlaan 16 | D55: =VLOOKUP(Ruimtestaat[[#This Row],[Code]],Locaties[#All],5,FALSE) -> 5631 KA | E55: =VLOOKUP(Ruimtestaat[[#This Row],[Code]],Locaties[#All],6,FALSE) -> Eindhoven | G55: 1e verd | H55: 1.11 | I55: Decanaat | J55: 2 | K55: =VLOOKUP(J55,Ruimtegroepen[],2,FALSE) -> Kantoren | L55: L | M55: Linoleum | N55: 13 | P55: =LEFT(VLOOKUP(Ruimtestaat[[#This Row],[Ruimte code]],Ruimtegroepen[#All],4,1),2) -> B | R55: 40 | S55: 2w | T55: =IF(R55>0,IF(RIGHT(Ruimtestaat[[#This Row],[Frequentie werkdagen]],1)="w",VALUE(LEFT(Ruimtestaat[[#This Row],[Frequentie werkdagen]],(LEN(Ruimtestaat[[#This Row],[Frequentie werkdagen]])-1))*Ruimtestaat[[#This Row],[Aantal weken/jr]]),IF(RIGHT(Ruimtestaat[[#This Row],[Frequentie werkdagen]],1)="m",VALUE(LEFT(Ruimtestaat[[#This Row],[Frequentie werkdagen]],LEN(Ruimtestaat[[#This Row],[Frequentie werkdagen]])-1)*12),VALUE(LEFT(Ruimtestaat[[#This Row],[Frequentie werkdagen]],(LEN(Ruimtestaat[[#This Row],[Frequentie werkdagen]])-1))))),0) -> 80 | U55: =IF(T55>0,VLOOKUP($J55,Ruimtegroepen[],3,FALSE)*VLOOKUP($L55,Vloersoorten[],3,FALSE)*VLOOKUP($S55,Frequenties[],3,FALSE)*VLOOKUP($A55,Locaties[],3,FALSE),0) -> 0 | V55: =Ruimtestaat[[#This Row],[Uitvoeringen werkdagen]]*Ruimtestaat[[#This Row],[Oppervlak (netto)]] -> 1040 | W55: =IF(U55>0,Ruimtestaat[[#This Row],[Prest. (m2 /jaar) werkdagen]]/Ruimtestaat[[#This Row],[Norm (m2/uur) werkdagen]],0) -> 0 | X55: =Ruimtestaat[[#This Row],[uren / jaar werkdagen]]*Tariefsopbouw!$E$35 -> 0 | Z55: =IF(Ruimtestaat[[#This Row],[Frequentie weekend]]>0,VALUE(LEFT(Y55,1))*R55,0) -> 0 | AA55: =IF($Z55>0,VLOOKUP($J55,Ruimtegroepen[],3,FALSE)*VLOOKUP($L55,Vloersoorten[],3,FALSE)*VLOOKUP($Y55,Frequenties[],3,FALSE)*VLOOKUP($A51,Locaties[],3,FALSE),0) -> 0 | AB55: =Ruimtestaat[[#This Row],[Uitvoeringen weekend]]*Ruimtestaat[[#This Row],[Oppervlak (netto)]] -> 0 | AC55: =IF(AB55>0,Ruimtestaat[[#This Row],[Prest. (m2 /jaar) weekend]]/Ruimtestaat[[#This Row],[Norm (m2/uur) weekend]],0) -> 0 | AD55: =Ruimtestaat[[#This Row],[uren / jaar weekend]]*Tariefsopbouw!$D$40 -> 0 | AE55: =Ruimtestaat[[#This Row],[Prest. (m2 /jaar) weekend]]+Ruimtestaat[[#This Row],[Prest. (m2 /jaar) werkdagen]] -> 1040 | AF55: =Ruimtestaat[[#This Row],[uren / jaar weekend]]+Ruimtestaat[[#This Row],[uren / jaar werkdagen]] -> 0 | AG55: =Ruimtestaat[[#This Row],[kosten / jaar weekend]]+Ruimtestaat[[#This Row],[kosten / jaar werkdagen]] -> 0
A56: 1 | B56: =VLOOKUP(Ruimtestaat[[#This Row],[Code]],Locaties[#All],2,FALSE) -> Hoofdgebouw | C56: =VLOOKUP(Ruimtestaat[[#This Row],[Code]],Locaties[#All],4,FALSE) -> Sterrenlaan 16 | D56: =VLOOKUP(Ruimtestaat[[#This Row],[Code]],Locaties[#All],5,FALSE) -> 5631 KA | E56: =VLOOKUP(Ruimtestaat[[#This Row],[Code]],Locaties[#All],6,FALSE) -> Eindhoven | G56: 1e verd | H56: 1.12 | I56: Verkeersruimte | J56: 6 | K56: =VLOOKUP(J56,Ruimtegroepen[],2,FALSE) -> Gangen/hallen | L56: L | M56: Linoleum | N56: 37 | P56: =LEFT(VLOOKUP(Ruimtestaat[[#This Row],[Ruimte code]],Ruimtegroepen[#All],4,1),2) -> V | R56: 40 | S56: 5w | T56: =IF(R56>0,IF(RIGHT(Ruimtestaat[[#This Row],[Frequentie werkdagen]],1)="w",VALUE(LEFT(Ruimtestaat[[#This Row],[Frequentie werkdagen]],(LEN(Ruimtestaat[[#This Row],[Frequentie werkdagen]])-1))*Ruimtestaat[[#This Row],[Aantal weken/jr]]),IF(RIGHT(Ruimtestaat[[#This Row],[Frequentie werkdagen]],1)="m",VALUE(LEFT(Ruimtestaat[[#This Row],[Frequentie werkdagen]],LEN(Ruimtestaat[[#This Row],[Frequentie werkdagen]])-1)*12),VALUE(LEFT(Ruimtestaat[[#This Row],[Frequentie werkdagen]],(LEN(Ruimtestaat[[#This Row],[Frequentie werkdagen]])-1))))),0) -> 200 | U56: =IF(T56>0,VLOOKUP($J56,Ruimtegroepen[],3,FALSE)*VLOOKUP($L56,Vloersoorten[],3,FALSE)*VLOOKUP($S56,Frequenties[],3,FALSE)*VLOOKUP($A56,Locaties[],3,FALSE),0) -> 0 | V56: =Ruimtestaat[[#This Row],[Uitvoeringen werkdagen]]*Ruimtestaat[[#This Row],[Oppervlak (netto)]] -> 7400 | W56: =IF(U56>0,Ruimtestaat[[#This Row],[Prest. (m2 /jaar) werkdagen]]/Ruimtestaat[[#This Row],[Norm (m2/uur) werkdagen]],0) -> 0 | X56: =Ruimtestaat[[#This Row],[uren / jaar werkdagen]]*Tariefsopbouw!$E$35 -> 0 | Z56: =IF(Ruimtestaat[[#This Row],[Frequentie weekend]]>0,VALUE(LEFT(Y56,1))*R56,0) -> 0 | AA56: =IF($Z56>0,VLOOKUP($J56,Ruimtegroepen[],3,FALSE)*VLOOKUP($L56,Vloersoorten[],3,FALSE)*VLOOKUP($Y56,Frequenties[],3,FALSE)*VLOOKUP($A52,Locaties[],3,FALSE),0) -> 0 | AB56: =Ruimtestaat[[#This Row],[Uitvoeringen weekend]]*Ruimtestaat[[#This Row],[Oppervlak (netto)]] -> 0 | AC56: =IF(AB56>0,Ruimtestaat[[#This Row],[Prest. (m2 /jaar) weekend]]/Ruimtestaat[[#This Row],[Norm (m2/uur) weekend]],0) -> 0 | AD56: =Ruimtestaat[[#This Row],[uren / jaar weekend]]*Tariefsopbouw!$D$40 -> 0 | AE56: =Ruimtestaat[[#This Row],[Prest. (m2 /jaar) weekend]]+Ruimtestaat[[#This Row],[Prest. (m2 /jaar) werkdagen]] -> 7400 | AF56: =Ruimtestaat[[#This Row],[uren / jaar weekend]]+Ruimtestaat[[#This Row],[uren / jaar werkdagen]] -> 0 | AG56: =Ruimtestaat[[#This Row],[kosten / jaar weekend]]+Ruimtestaat[[#This Row],[kosten / jaar werkdagen]] -> 0
A57: 1 | B57: =VLOOKUP(Ruimtestaat[[#This Row],[Code]],Locaties[#All],2,FALSE) -> Hoofdgebouw | C57: =VLOOKUP(Ruimtestaat[[#This Row],[Code]],Locaties[#All],4,FALSE) -> Sterrenlaan 16 | D57: =VLOOKUP(Ruimtestaat[[#This Row],[Code]],Locaties[#All],5,FALSE) -> 5631 KA | E57: =VLOOKUP(Ruimtestaat[[#This Row],[Code]],Locaties[#All],6,FALSE) -> Eindhoven | G57: 1e verd | H57: 1.13 | I57: Zorg | J57: 13 | K57: =VLOOKUP(J57,Ruimtegroepen[],2,FALSE) -> HV/Technieklokaal | L57: L | M57: Linoleum | N57: 13 | P57: =LEFT(VLOOKUP(Ruimtestaat[[#This Row],[Ruimte code]],Ruimtegroepen[#All],4,1),2) -> L | R57: 40 | S57: 5w | T57: =IF(R57>0,IF(RIGHT(Ruimtestaat[[#This Row],[Frequentie werkdagen]],1)="w",VALUE(LEFT(Ruimtestaat[[#This Row],[Frequentie werkdagen]],(LEN(Ruimtestaat[[#This Row],[Frequentie werkdagen]])-1))*Ruimtestaat[[#This Row],[Aantal weken/jr]]),IF(RIGHT(Ruimtestaat[[#This Row],[Frequentie werkdagen]],1)="m",VALUE(LEFT(Ruimtestaat[[#This Row],[Frequentie werkdagen]],LEN(Ruimtestaat[[#This Row],[Frequentie werkdagen]])-1)*12),VALUE(LEFT(Ruimtestaat[[#This Row],[Frequentie werkdagen]],(LEN(Ruimtestaat[[#This Row],[Frequentie werkdagen]])-1))))),0) -> 200 | U57: =IF(T57>0,VLOOKUP($J57,Ruimtegroepen[],3,FALSE)*VLOOKUP($L57,Vloersoorten[],3,FALSE)*VLOOKUP($S57,Frequenties[],3,FALSE)*VLOOKUP($A57,Locaties[],3,FALSE),0) -> 0 | V57: =Ruimtestaat[[#This Row],[Uitvoeringen werkdagen]]*Ruimtestaat[[#This Row],[Oppervlak (netto)]] -> 2600 | W57: =IF(U57>0,Ruimtestaat[[#This Row],[Prest. (m2 /jaar) werkdagen]]/Ruimtestaat[[#This Row],[Norm (m2/uur) werkdagen]],0) -> 0 | X57: =Ruimtestaat[[#This Row],[uren / jaar werkdagen]]*Tariefsopbouw!$E$35 -> 0 | Z57: =IF(Ruimtestaat[[#This Row],[Frequentie weekend]]>0,VALUE(LEFT(Y57,1))*R57,0) -> 0 | AA57: =IF($Z57>0,VLOOKUP($J57,Ruimtegroepen[],3,FALSE)*VLOOKUP($L57,Vloersoorten[],3,FALSE)*VLOOKUP($Y57,Frequenties[],3,FALSE)*VLOOKUP($A49,Locaties[],3,FALSE),0) -> 0 | AB57: =Ruimtestaat[[#This Row],[Uitvoeringen weekend]]*Ruimtestaat[[#This Row],[Oppervlak (netto)]] -> 0 | AC57: =IF(AB57>0,Ruimtestaat[[#This Row],[Prest. (m2 /jaar) weekend]]/Ruimtestaat[[#This Row],[Norm (m2/uur) weekend]],0) -> 0 | AD57: =Ruimtestaat[[#This Row],[uren / jaar weekend]]*Tariefsopbouw!$D$40 -> 0 | AE57: =Ruimtestaat[[#This Row],[Prest. (m2 /jaar) weekend]]+Ruimtestaat[[#This Row],[Prest. (m2 /jaar) werkdagen]] -> 2600 | AF57: =Ruimtestaat[[#This Row],[uren / jaar weekend]]+Ruimtestaat[[#This Row],[uren / jaar werkdagen]] -> 0 | AG57: =Ruimtestaat[[#This Row],[kosten / jaar weekend]]+Ruimtestaat[[#This Row],[kosten / jaar werkdagen]] -> 0
A58: 1 | B58: =VLOOKUP(Ruimtestaat[[#This Row],[Code]],Locaties[#All],2,FALSE) -> Hoofdgebouw | C58: =VLOOKUP(Ruimtestaat[[#This Row],[Code]],Locaties[#All],4,FALSE) -> Sterrenlaan 16 | D58: =VLOOKUP(Ruimtestaat[[#This Row],[Code]],Locaties[#All],5,FALSE) -> 5631 KA | E58: =VLOOKUP(Ruimtestaat[[#This Row],[Code]],Locaties[#All],6,FALSE) -> Eindhoven | G58: 1e verd | H58: 1.14 | I58: Opslag/werkkast | J58: 20 | K58: =VLOOKUP(J58,Ruimtegroepen[],2,FALSE) -> Niet in onderhoud | L58: L | M58: Linoleum | O58: 5 | P58: =LEFT(VLOOKUP(Ruimtestaat[[#This Row],[Ruimte code]],Ruimtegroepen[#All],4,1),2) | T58: =IF(R58>0,IF(RIGHT(Ruimtestaat[[#This Row],[Frequentie werkdagen]],1)="w",VALUE(LEFT(Ruimtestaat[[#This Row],[Frequentie werkdagen]],(LEN(Ruimtestaat[[#This Row],[Frequentie werkdagen]])-1))*Ruimtestaat[[#This Row],[Aantal weken/jr]]),IF(RIGHT(Ruimtestaat[[#This Row],[Frequentie werkdagen]],1)="m",VALUE(LEFT(Ruimtestaat[[#This Row],[Frequentie werkdagen]],LEN(Ruimtestaat[[#This Row],[Frequentie werkdagen]])-1)*12),VALUE(LEFT(Ruimtestaat[[#This Row],[Frequentie werkdagen]],(LEN(Ruimtestaat[[#This Row],[Frequentie werkdagen]])-1))))),0) -> 0 | U58: =IF(T58>0,VLOOKUP($J58,Ruimtegroepen[],3,FALSE)*VLOOKUP($L58,Vloersoorten[],3,FALSE)*VLOOKUP($S58,Frequenties[],3,FALSE)*VLOOKUP($A58,Locaties[],3,FALSE),0) -> 0 | V58: =Ruimtestaat[[#This Row],[Uitvoeringen werkdagen]]*Ruimtestaat[[#This Row],[Oppervlak (netto)]] -> 0 | W58: =IF(U58>0,Ruimtestaat[[#This Row],[Prest. (m2 /jaar) werkdagen]]/Ruimtestaat[[#This Row],[Norm (m2/uur) werkdagen]],0) -> 0 | X58: =Ruimtestaat[[#This Row],[uren / jaar werkdagen]]*Tariefsopbouw!$E$35 -> 0 | Z58: =IF(Ruimtestaat[[#This Row],[Frequentie weekend]]>0,VALUE(LEFT(Y58,1))*R58,0) -> 0 | AA58: =IF($Z58>0,VLOOKUP($J58,Ruimtegroepen[],3,FALSE)*VLOOKUP($L58,Vloersoorten[],3,FALSE)*VLOOKUP($Y58,Frequenties[],3,FALSE)*VLOOKUP($A50,Locaties[],3,FALSE),0) -> 0 | AB58: =Ruimtestaat[[#This Row],[Uitvoeringen weekend]]*Ruimtestaat[[#This Row],[Oppervlak (netto)]] -> 0 | AC58: =IF(AB58>0,Ruimtestaat[[#This Row],[Prest. (m2 /jaar) weekend]]/Ruimtestaat[[#This Row],[Norm (m2/uur) weekend]],0) -> 0 | AD58: =Ruimtestaat[[#This Row],[uren / jaar weekend]]*Tariefsopbouw!$D$40 -> 0 | AE58: =Ruimtestaat[[#This Row],[Prest. (m2 /jaar) weekend]]+Ruimtestaat[[#This Row],[Prest. (m2 /jaar) werkdagen]] -> 0 | AF58: =Ruimtestaat[[#This Row],[uren / jaar weekend]]+Ruimtestaat[[#This Row],[uren / jaar werkdagen]] -> 0 | AG58: =Ruimtestaat[[#This Row],[kosten / jaar weekend]]+Ruimtestaat[[#This Row],[kosten / jaar werkdagen]] -> 0
A59: 1 | B59: =VLOOKUP(Ruimtestaat[[#This Row],[Code]],Locaties[#All],2,FALSE) -> Hoofdgebouw | C59: =VLOOKUP(Ruimtestaat[[#This Row],[Code]],Locaties[#All],4,FALSE) -> Sterrenlaan 16 | D59: =VLOOKUP(Ruimtestaat[[#This Row],[Code]],Locaties[#All],5,FALSE) -> 5631 KA | E59: =VLOOKUP(Ruimtestaat[[#This Row],[Code]],Locaties[#All],6,FALSE) -> Eindhoven | G59: 1e verd | H59: 1.15 | I59: Technische ruimte | J59: 20 | K59: =VLOOKUP(J59,Ruimtegroepen[],2,FALSE) -> Niet in onderhoud | L59: S | M59: Steen | P59: =LEFT(VLOOKUP(Ruimtestaat[[#This Row],[Ruimte code]],Ruimtegroepen[#All],4,1),2) | T59: =IF(R59>0,IF(RIGHT(Ruimtestaat[[#This Row],[Frequentie werkdagen]],1)="w",VALUE(LEFT(Ruimtestaat[[#This Row],[Frequentie werkdagen]],(LEN(Ruimtestaat[[#This Row],[Frequentie werkdagen]])-1))*Ruimtestaat[[#This Row],[Aantal weken/jr]]),IF(RIGHT(Ruimtestaat[[#This Row],[Frequentie werkdagen]],1)="m",VALUE(LEFT(Ruimtestaat[[#This Row],[Frequentie werkdagen]],LEN(Ruimtestaat[[#This Row],[Frequentie werkdagen]])-1)*12),VALUE(LEFT(Ruimtestaat[[#This Row],[Frequentie werkdagen]],(LEN(Ruimtestaat[[#This Row],[Frequentie werkdagen]])-1))))),0) -> 0 | U59: =IF(T59>0,VLOOKUP($J59,Ruimtegroepen[],3,FALSE)*VLOOKUP($L59,Vloersoorten[],3,FALSE)*VLOOKUP($S59,Frequenties[],3,FALSE)*VLOOKUP($A59,Locaties[],3,FALSE),0) -> 0 | V59: =Ruimtestaat[[#This Row],[Uitvoeringen werkdagen]]*Ruimtestaat[[#This Row],[Oppervlak (netto)]] -> 0 | W59: =IF(U59>0,Ruimtestaat[[#This Row],[Prest. (m2 /jaar) werkdagen]]/Ruimtestaat[[#This Row],[Norm (m2/uur) werkdagen]],0) -> 0 | X59: =Ruimtestaat[[#This Row],[uren / jaar werkdagen]]*Tariefsopbouw!$E$35 -> 0 | Z59: =IF(Ruimtestaat[[#This Row],[Frequentie weekend]]>0,VALUE(LEFT(Y59,1))*R59,0) -> 0 | AA59: =IF($Z59>0,VLOOKUP($J59,Ruimtegroepen[],3,FALSE)*VLOOKUP($L59,Vloersoorten[],3,FALSE)*VLOOKUP($Y59,Frequenties[],3,FALSE)*VLOOKUP($A51,Locaties[],3,FALSE),0) -> 0 | AB59: =Ruimtestaat[[#This Row],[Uitvoeringen weekend]]*Ruimtestaat[[#This Row],[Oppervlak (netto)]] -> 0 | AC59: =IF(AB59>0,Ruimtestaat[[#This Row],[Prest. (m2 /jaar) weekend]]/Ruimtestaat[[#This Row],[Norm (m2/uur) weekend]],0) -> 0 | AD59: =Ruimtestaat[[#This Row],[uren / jaar weekend]]*Tariefsopbouw!$D$40 -> 0 | AE59: =Ruimtestaat[[#This Row],[Prest. (m2 /jaar) weekend]]+Ruimtestaat[[#This Row],[Prest. (m2 /jaar) werkdagen]] -> 0 | AF59: =Ruimtestaat[[#This Row],[uren / jaar weekend]]+Ruimtestaat[[#This Row],[uren / jaar werkdagen]] -> 0 | AG59: =Ruimtestaat[[#This Row],[kosten / jaar weekend]]+Ruimtestaat[[#This Row],[kosten / jaar werkdagen]] -> 0
A60: 1 | B60: =VLOOKUP(Ruimtestaat[[#This Row],[Code]],Locaties[#All],2,FALSE) -> Hoofdgebouw | C60: =VLOOKUP(Ruimtestaat[[#This Row],[Code]],Locaties[#All],4,FALSE) -> Sterrenlaan 16 | D60: =VLOOKUP(Ruimtestaat[[#This Row],[Code]],Locaties[#All],5,FALSE) -> 5631 KA | E60: =VLOOKUP(Ruimtestaat[[#This Row],[Code]],Locaties[#All],6,FALSE) -> Eindhoven | G60: 1e verd | H60: 1.16 | I60: Lokaal scheikunde | J60: 13 | K60: =VLOOKUP(J60,Ruimtegroepen[],2,FALSE) -> HV/Technieklokaal | L60: L | M60: Linoleum | N60: 83 | P60: =LEFT(VLOOKUP(Ruimtestaat[[#This Row],[Ruimte code]],Ruimtegroepen[#All],4,1),2) -> L | R60: 40 | S60: 5w | T60: =IF(R60>0,IF(RIGHT(Ruimtestaat[[#This Row],[Frequentie werkdagen]],1)="w",VALUE(LEFT(Ruimtestaat[[#This Row],[Frequentie werkdagen]],(LEN(Ruimtestaat[[#This Row],[Frequentie werkdagen]])-1))*Ruimtestaat[[#This Row],[Aantal weken/jr]]),IF(RIGHT(Ruimtestaat[[#This Row],[Frequentie werkdagen]],1)="m",VALUE(LEFT(Ruimtestaat[[#This Row],[Frequentie werkdagen]],LEN(Ruimtestaat[[#This Row],[Frequentie werkdagen]])-1)*12),VALUE(LEFT(Ruimtestaat[[#This Row],[Frequentie werkdagen]],(LEN(Ruimtestaat[[#This Row],[Frequentie werkdagen]])-1))))),0) -> 200 | U60: =IF(T60>0,VLOOKUP($J60,Ruimtegroepen[],3,FALSE)*VLOOKUP($L60,Vloersoorten[],3,FALSE)*VLOOKUP($S60,Frequenties[],3,FALSE)*VLOOKUP($A60,Locaties[],3,FALSE),0) -> 0 | V60: =Ruimtestaat[[#This Row],[Uitvoeringen werkdagen]]*Ruimtestaat[[#This Row],[Oppervlak (netto)]] -> 16600 | W60: =IF(U60>0,Ruimtestaat[[#This Row],[Prest. (m2 /jaar) werkdagen]]/Ruimtestaat[[#This Row],[Norm (m2/uur) werkdagen]],0) -> 0 | X60: =Ruimtestaat[[#This Row],[uren / jaar werkdagen]]*Tariefsopbouw!$E$35 -> 0 | Z60: =IF(Ruimtestaat[[#This Row],[Frequentie weekend]]>0,VALUE(LEFT(Y60,1))*R60,0) -> 0 | AA60: =IF($Z60>0,VLOOKUP($J60,Ruimtegroepen[],3,FALSE)*VLOOKUP($L60,Vloersoorten[],3,FALSE)*VLOOKUP($Y60,Frequenties[],3,FALSE)*VLOOKUP($A52,Locaties[],3,FALSE),0) -> 0 | AB60: =Ruimtestaat[[#This Row],[Uitvoeringen weekend]]*Ruimtestaat[[#This Row],[Oppervlak (netto)]] -> 0 | AC60: =IF(AB60>0,Ruimtestaat[[#This Row],[Prest. (m2 /jaar) weekend]]/Ruimtestaat[[#This Row],[Norm (m2/uur) weekend]],0) -> 0 | AD60: =Ruimtestaat[[#This Row],[uren / jaar weekend]]*Tariefsopbouw!$D$40 -> 0 | AE60: =Ruimtestaat[[#This Row],[Prest. (m2 /jaar) weekend]]+Ruimtestaat[[#This Row],[Prest. (m2 /jaar) werkdagen]] -> 16600 | AF60: =Ruimtestaat[[#This Row],[uren / jaar weekend]]+Ruimtestaat[[#This Row],[uren / jaar werkdagen]] -> 0 | AG60: =Ruimtestaat[[#This Row],[kosten / jaar weekend]]+Ruimtestaat[[#This Row],[kosten / jaar werkdagen]] -> 0
A61: 1 | B61: =VLOOKUP(Ruimtestaat[[#This Row],[Code]],Locaties[#All],2,FALSE) -> Hoofdgebouw | C61: =VLOOKUP(Ruimtestaat[[#This Row],[Code]],Locaties[#All],4,FALSE) -> Sterrenlaan 16 | D61: =VLOOKUP(Ruimtestaat[[#This Row],[Code]],Locaties[#All],5,FALSE) -> 5631 KA | E61: =VLOOKUP(Ruimtestaat[[#This Row],[Code]],Locaties[#All],6,FALSE) -> Eindhoven | G61: 1e verd | H61: 1.17 | I61: Toa | J61: 20 | K61: =VLOOKUP(J61,Ruimtegroepen[],2,FALSE) -> Niet in onderhoud | L61: L | M61: Linoleum | N61: 34 | P61: =LEFT(VLOOKUP(Ruimtestaat[[#This Row],[Ruimte code]],Ruimtegroepen[#All],4,1),2) | R61: 40 | S61: 1w | T61: =IF(R61>0,IF(RIGHT(Ruimtestaat[[#This Row],[Frequentie werkdagen]],1)="w",VALUE(LEFT(Ruimtestaat[[#This Row],[Frequentie werkdagen]],(LEN(Ruimtestaat[[#This Row],[Frequentie werkdagen]])-1))*Ruimtestaat[[#This Row],[Aantal weken/jr]]),IF(RIGHT(Ruimtestaat[[#This Row],[Frequentie werkdagen]],1)="m",VALUE(LEFT(Ruimtestaat[[#This Row],[Frequentie werkdagen]],LEN(Ruimtestaat[[#This Row],[Frequentie werkdagen]])-1)*12),VALUE(LEFT(Ruimtestaat[[#This Row],[Frequentie werkdagen]],(LEN(Ruimtestaat[[#This Row],[Frequentie werkdagen]])-1))))),0) -> 40 | U61: =IF(T61>0,VLOOKUP($J61,Ruimtegroepen[],3,FALSE)*VLOOKUP($L61,Vloersoorten[],3,FALSE)*VLOOKUP($S61,Frequenties[],3,FALSE)*VLOOKUP($A61,Locaties[],3,FALSE),0) -> 0 | V61: =Ruimtestaat[[#This Row],[Uitvoeringen werkdagen]]*Ruimtestaat[[#This Row],[Oppervlak (netto)]] -> 1360 | W61: =IF(U61>0,Ruimtestaat[[#This Row],[Prest. (m2 /jaar) werkdagen]]/Ruimtestaat[[#This Row],[Norm (m2/uur) werkdagen]],0) -> 0 | X61: =Ruimtestaat[[#This Row],[uren / jaar werkdagen]]*Tariefsopbouw!$E$35 -> 0 | Z61: =IF(Ruimtestaat[[#This Row],[Frequentie weekend]]>0,VALUE(LEFT(Y61,1))*R61,0) -> 0 | AA61: =IF($Z61>0,VLOOKUP($J61,Ruimtegroepen[],3,FALSE)*VLOOKUP($L61,Vloersoorten[],3,FALSE)*VLOOKUP($Y61,Frequenties[],3,FALSE)*VLOOKUP($A53,Locaties[],3,FALSE),0) -> 0 | AB61: =Ruimtestaat[[#This Row],[Uitvoeringen weekend]]*Ruimtestaat[[#This Row],[Oppervlak (netto)]] -> 0 | AC61: =IF(AB61>0,Ruimtestaat[[#This Row],[Prest. (m2 /jaar) weekend]]/Ruimtestaat[[#This Row],[Norm (m2/uur) weekend]],0) -> 0 | AD61: =Ruimtestaat[[#This Row],[uren / jaar weekend]]*Tariefsopbouw!$D$40 -> 0 | AE61: =Ruimtestaat[[#This Row],[Prest. (m2 /jaar) weekend]]+Ruimtestaat[[#This Row],[Prest. (m2 /jaar) werkdagen]] -> 1360 | AF61: =Ruimtestaat[[#This Row],[uren / jaar weekend]]+Ruimtestaat[[#This Row],[uren / jaar werkdagen]] -> 0 | AG61: =Ruimtestaat[[#This Row],[kosten / jaar weekend]]+Ruimtestaat[[#This Row],[kosten / jaar werkdagen]] -> 0
A62: 1 | B62: =VLOOKUP(Ruimtestaat[[#This Row],[Code]],Locaties[#All],2,FALSE) -> Hoofdgebouw | C62: =VLOOKUP(Ruimtestaat[[#This Row],[Code]],Locaties[#All],4,FALSE) -> Sterrenlaan 16 | D62: =VLOOKUP(Ruimtestaat[[#This Row],[Code]],Locaties[#All],5,FALSE) -> 5631 KA | E62: =VLOOKUP(Ruimtestaat[[#This Row],[Code]],Locaties[#All],6,FALSE) -> Eindhoven | G62: 1e verd | H62: 1.18 | I62: Lokaal natuurkunde | J62: 13 | K62: =VLOOKUP(J62,Ruimtegroepen[],2,FALSE) -> HV/Technieklokaal | L62: L | M62: Linoleum | N62: 68 | P62: =LEFT(VLOOKUP(Ruimtestaat[[#This Row],[Ruimte code]],Ruimtegroepen[#All],4,1),2) -> L | R62: 40 | S62: 5w | T62: =IF(R62>0,IF(RIGHT(Ruimtestaat[[#This Row],[Frequentie werkdagen]],1)="w",VALUE(LEFT(Ruimtestaat[[#This Row],[Frequentie werkdagen]],(LEN(Ruimtestaat[[#This Row],[Frequentie werkdagen]])-1))*Ruimtestaat[[#This Row],[Aantal weken/jr]]),IF(RIGHT(Ruimtestaat[[#This Row],[Frequentie werkdagen]],1)="m",VALUE(LEFT(Ruimtestaat[[#This Row],[Frequentie werkdagen]],LEN(Ruimtestaat[[#This Row],[Frequentie werkdagen]])-1)*12),VALUE(LEFT(Ruimtestaat[[#This Row],[Frequentie werkdagen]],(LEN(Ruimtestaat[[#This Row],[Frequentie werkdagen]])-1))))),0) -> 200 | U62: =IF(T62>0,VLOOKUP($J62,Ruimtegroepen[],3,FALSE)*VLOOKUP($L62,Vloersoorten[],3,FALSE)*VLOOKUP($S62,Frequenties[],3,FALSE)*VLOOKUP($A62,Locaties[],3,FALSE),0) -> 0 | V62: =Ruimtestaat[[#This Row],[Uitvoeringen werkdagen]]*Ruimtestaat[[#This Row],[Oppervlak (netto)]] -> 13600 | W62: =IF(U62>0,Ruimtestaat[[#This Row],[Prest. (m2 /jaar) werkdagen]]/Ruimtestaat[[#This Row],[Norm (m2/uur) werkdagen]],0) -> 0 | X62: =Ruimtestaat[[#This Row],[uren / jaar werkdagen]]*Tariefsopbouw!$E$35 -> 0 | Z62: =IF(Ruimtestaat[[#This Row],[Frequentie weekend]]>0,VALUE(LEFT(Y62,1))*R62,0) -> 0 | AA62: =IF($Z62>0,VLOOKUP($J62,Ruimtegroepen[],3,FALSE)*VLOOKUP($L62,Vloersoorten[],3,FALSE)*VLOOKUP($Y62,Frequenties[],3,FALSE)*VLOOKUP($A53,Locaties[],3,FALSE),0) -> 0 | AB62: =Ruimtestaat[[#This Row],[Uitvoeringen weekend]]*Ruimtestaat[[#This Row],[Oppervlak (netto)]] -> 0 | AC62: =IF(AB62>0,Ruimtestaat[[#This Row],[Prest. (m2 /jaar) weekend]]/Ruimtestaat[[#This Row],[Norm (m2/uur) weekend]],0) -> 0 | AD62: =Ruimtestaat[[#This Row],[uren / jaar weekend]]*Tariefsopbouw!$D$40 -> 0 | AE62: =Ruimtestaat[[#This Row],[Prest. (m2 /jaar) weekend]]+Ruimtestaat[[#This Row],[Prest. (m2 /jaar) werkdagen]] -> 13600 | AF62: =Ruimtestaat[[#This Row],[uren / jaar weekend]]+Ruimtestaat[[#This Row],[uren / jaar werkdagen]] -> 0 | AG62: =Ruimtestaat[[#This Row],[kosten / jaar weekend]]+Ruimtestaat[[#This Row],[kosten / jaar werkdagen]] -> 0
A63: 1 | B63: =VLOOKUP(Ruimtestaat[[#This Row],[Code]],Locaties[#All],2,FALSE) -> Hoofdgebouw | C63: =VLOOKUP(Ruimtestaat[[#This Row],[Code]],Locaties[#All],4,FALSE) -> Sterrenlaan 16 | D63: =VLOOKUP(Ruimtestaat[[#This Row],[Code]],Locaties[#All],5,FALSE) -> 5631 KA | E63: =VLOOKUP(Ruimtestaat[[#This Row],[Code]],Locaties[#All],6,FALSE) -> Eindhoven | G63: 1e verd | H63: 1.19 | I63: Opslag natuurkunde | J63: 20 | K63: =VLOOKUP(J63,Ruimtegroepen[],2,FALSE) -> Niet in onderhoud | L63: L | M63: Linoleum | O63: 13 | P63: =LEFT(VLOOKUP(Ruimtestaat[[#This Row],[Ruimte code]],Ruimtegroepen[#All],4,1),2) | T63: =IF(R63>0,IF(RIGHT(Ruimtestaat[[#This Row],[Frequentie werkdagen]],1)="w",VALUE(LEFT(Ruimtestaat[[#This Row],[Frequentie werkdagen]],(LEN(Ruimtestaat[[#This Row],[Frequentie werkdagen]])-1))*Ruimtestaat[[#This Row],[Aantal weken/jr]]),IF(RIGHT(Ruimtestaat[[#This Row],[Frequentie werkdagen]],1)="m",VALUE(LEFT(Ruimtestaat[[#This Row],[Frequentie werkdagen]],LEN(Ruimtestaat[[#This Row],[Frequentie werkdagen]])-1)*12),VALUE(LEFT(Ruimtestaat[[#This Row],[Frequentie werkdagen]],(LEN(Ruimtestaat[[#This Row],[Frequentie werkdagen]])-1))))),0) -> 0 | U63: =IF(T63>0,VLOOKUP($J63,Ruimtegroepen[],3,FALSE)*VLOOKUP($L63,Vloersoorten[],3,FALSE)*VLOOKUP($S63,Frequenties[],3,FALSE)*VLOOKUP($A63,Locaties[],3,FALSE),0) -> 0 | V63: =Ruimtestaat[[#This Row],[Uitvoeringen werkdagen]]*Ruimtestaat[[#This Row],[Oppervlak (netto)]] -> 0 | W63: =IF(U63>0,Ruimtestaat[[#This Row],[Prest. (m2 /jaar) werkdagen]]/Ruimtestaat[[#This Row],[Norm (m2/uur) werkdagen]],0) -> 0 | X63: =Ruimtestaat[[#This Row],[uren / jaar werkdagen]]*Tariefsopbouw!$E$35 -> 0 | Z63: =IF(Ruimtestaat[[#This Row],[Frequentie weekend]]>0,VALUE(LEFT(Y63,1))*R63,0) -> 0 | AA63: =IF($Z63>0,VLOOKUP($J63,Ruimtegroepen[],3,FALSE)*VLOOKUP($L63,Vloersoorten[],3,FALSE)*VLOOKUP($Y63,Frequenties[],3,FALSE)*VLOOKUP($A54,Locaties[],3,FALSE),0) -> 0 | AB63: =Ruimtestaat[[#This Row],[Uitvoeringen weekend]]*Ruimtestaat[[#This Row],[Oppervlak (netto)]] -> 0 | AC63: =IF(AB63>0,Ruimtestaat[[#This Row],[Prest. (m2 /jaar) weekend]]/Ruimtestaat[[#This Row],[Norm (m2/uur) weekend]],0) -> 0 | AD63: =Ruimtestaat[[#This Row],[uren / jaar weekend]]*Tariefsopbouw!$D$40 -> 0 | AE63: =Ruimtestaat[[#This Row],[Prest. (m2 /jaar) weekend]]+Ruimtestaat[[#This Row],[Prest. (m2 /jaar) werkdagen]] -> 0 | AF63: =Ruimtestaat[[#This Row],[uren / jaar weekend]]+Ruimtestaat[[#This Row],[uren / jaar werkdagen]] -> 0 | AG63: =Ruimtestaat[[#This Row],[kosten / jaar weekend]]+Ruimtestaat[[#This Row],[kosten / jaar werkdagen]] -> 0
A64: 1 | B64: =VLOOKUP(Ruimtestaat[[#This Row],[Code]],Locaties[#All],2,FALSE) -> Hoofdgebouw | C64: =VLOOKUP(Ruimtestaat[[#This Row],[Code]],Locaties[#All],4,FALSE) -> Sterrenlaan 16 | D64: =VLOOKUP(Ruimtestaat[[#This Row],[Code]],Locaties[#All],5,FALSE) -> 5631 KA | E64: =VLOOKUP(Ruimtestaat[[#This Row],[Code]],Locaties[#All],6,FALSE) -> Eindhoven | G64: 1e verd | H64: 1.20 | I64: Lokaal biologie | J64: 13 | K64: =VLOOKUP(J64,Ruimtegroepen[],2,FALSE) -> HV/Technieklokaal | L64: L | M64: Linoleum | N64: 49 | P64: =LEFT(VLOOKUP(Ruimtestaat[[#This Row],[Ruimte code]],Ruimtegroepen[#All],4,1),2) -> L | R64: 40 | S64: 5w | T64: =IF(R64>0,IF(RIGHT(Ruimtestaat[[#This Row],[Frequentie werkdagen]],1)="w",VALUE(LEFT(Ruimtestaat[[#This Row],[Frequentie werkdagen]],(LEN(Ruimtestaat[[#This Row],[Frequentie werkdagen]])-1))*Ruimtestaat[[#This Row],[Aantal weken/jr]]),IF(RIGHT(Ruimtestaat[[#This Row],[Frequentie werkdagen]],1)="m",VALUE(LEFT(Ruimtestaat[[#This Row],[Frequentie werkdagen]],LEN(Ruimtestaat[[#This Row],[Frequentie werkdagen]])-1)*12),VALUE(LEFT(Ruimtestaat[[#This Row],[Frequentie werkdagen]],(LEN(Ruimtestaat[[#This Row],[Frequentie werkdagen]])-1))))),0) -> 200 | U64: =IF(T64>0,VLOOKUP($J64,Ruimtegroepen[],3,FALSE)*VLOOKUP($L64,Vloersoorten[],3,FALSE)*VLOOKUP($S64,Frequenties[],3,FALSE)*VLOOKUP($A64,Locaties[],3,FALSE),0) -> 0 | V64: =Ruimtestaat[[#This Row],[Uitvoeringen werkdagen]]*Ruimtestaat[[#This Row],[Oppervlak (netto)]] -> 9800 | W64: =IF(U64>0,Ruimtestaat[[#This Row],[Prest. (m2 /jaar) werkdagen]]/Ruimtestaat[[#This Row],[Norm (m2/uur) werkdagen]],0) -> 0 | X64: =Ruimtestaat[[#This Row],[uren / jaar werkdagen]]*Tariefsopbouw!$E$35 -> 0 | Z64: =IF(Ruimtestaat[[#This Row],[Frequentie weekend]]>0,VALUE(LEFT(Y64,1))*R64,0) -> 0 | AA64: =IF($Z64>0,VLOOKUP($J64,Ruimtegroepen[],3,FALSE)*VLOOKUP($L64,Vloersoorten[],3,FALSE)*VLOOKUP($Y64,Frequenties[],3,FALSE)*VLOOKUP($A55,Locaties[],3,FALSE),0) -> 0 | AB64: =Ruimtestaat[[#This Row],[Uitvoeringen weekend]]*Ruimtestaat[[#This Row],[Oppervlak (netto)]] -> 0 | AC64: =IF(AB64>0,Ruimtestaat[[#This Row],[Prest. (m2 /jaar) weekend]]/Ruimtestaat[[#This Row],[Norm (m2/uur) weekend]],0) -> 0 | AD64: =Ruimtestaat[[#This Row],[uren / jaar weekend]]*Tariefsopbouw!$D$40 -> 0 | AE64: =Ruimtestaat[[#This Row],[Prest. (m2 /jaar) weekend]]+Ruimtestaat[[#This Row],[Prest. (m2 /jaar) werkdagen]] -> 9800 | AF64: =Ruimtestaat[[#This Row],[uren / jaar weekend]]+Ruimtestaat[[#This Row],[uren / jaar werkdagen]] -> 0 | AG64: =Ruimtestaat[[#This Row],[kosten / jaar weekend]]+Ruimtestaat[[#This Row],[kosten / jaar werkdagen]] -> 0
A65: 1 | B65: =VLOOKUP(Ruimtestaat[[#This Row],[Code]],Locaties[#All],2,FALSE) -> Hoofdgebouw | C65: =VLOOKUP(Ruimtestaat[[#This Row],[Code]],Locaties[#All],4,FALSE) -> Sterrenlaan 16 | D65: =VLOOKUP(Ruimtestaat[[#This Row],[Code]],Locaties[#All],5,FALSE) -> 5631 KA | E65: =VLOOKUP(Ruimtestaat[[#This Row],[Code]],Locaties[#All],6,FALSE) -> Eindhoven | G65: 1e verd | H65: 1.21 | I65: Opslag biologie | J65: 20 | K65: =VLOOKUP(J65,Ruimtegroepen[],2,FALSE) -> Niet in onderhoud | L65: L | M65: Linoleum | O65: 10 | P65: =LEFT(VLOOKUP(Ruimtestaat[[#This Row],[Ruimte code]],Ruimtegroepen[#All],4,1),2) | T65: =IF(R65>0,IF(RIGHT(Ruimtestaat[[#This Row],[Frequentie werkdagen]],1)="w",VALUE(LEFT(Ruimtestaat[[#This Row],[Frequentie werkdagen]],(LEN(Ruimtestaat[[#This Row],[Frequentie werkdagen]])-1))*Ruimtestaat[[#This Row],[Aantal weken/jr]]),IF(RIGHT(Ruimtestaat[[#This Row],[Frequentie werkdagen]],1)="m",VALUE(LEFT(Ruimtestaat[[#This Row],[Frequentie werkdagen]],LEN(Ruimtestaat[[#This Row],[Frequentie werkdagen]])-1)*12),VALUE(LEFT(Ruimtestaat[[#This Row],[Frequentie werkdagen]],(LEN(Ruimtestaat[[#This Row],[Frequentie werkdagen]])-1))))),0) -> 0 | U65: =IF(T65>0,VLOOKUP($J65,Ruimtegroepen[],3,FALSE)*VLOOKUP($L65,Vloersoorten[],3,FALSE)*VLOOKUP($S65,Frequenties[],3,FALSE)*VLOOKUP($A65,Locaties[],3,FALSE),0) -> 0 | V65: =Ruimtestaat[[#This Row],[Uitvoeringen werkdagen]]*Ruimtestaat[[#This Row],[Oppervlak (netto)]] -> 0 | W65: =IF(U65>0,Ruimtestaat[[#This Row],[Prest. (m2 /jaar) werkdagen]]/Ruimtestaat[[#This Row],[Norm (m2/uur) werkdagen]],0) -> 0 | X65: =Ruimtestaat[[#This Row],[uren / jaar werkdagen]]*Tariefsopbouw!$E$35 -> 0 | Z65: =IF(Ruimtestaat[[#This Row],[Frequentie weekend]]>0,VALUE(LEFT(Y65,1))*R65,0) -> 0 | AA65: =IF($Z65>0,VLOOKUP($J65,Ruimtegroepen[],3,FALSE)*VLOOKUP($L65,Vloersoorten[],3,FALSE)*VLOOKUP($Y65,Frequenties[],3,FALSE)*VLOOKUP($A56,Locaties[],3,FALSE),0) -> 0 | AB65: =Ruimtestaat[[#This Row],[Uitvoeringen weekend]]*Ruimtestaat[[#This Row],[Oppervlak (netto)]] -> 0 | AC65: =IF(AB65>0,Ruimtestaat[[#This Row],[Prest. (m2 /jaar) weekend]]/Ruimtestaat[[#This Row],[Norm (m2/uur) weekend]],0) -> 0 | AD65: =Ruimtestaat[[#This Row],[uren / jaar weekend]]*Tariefsopbouw!$D$40 -> 0 | AE65: =Ruimtestaat[[#This Row],[Prest. (m2 /jaar) weekend]]+Ruimtestaat[[#This Row],[Prest. (m2 /jaar) werkdagen]] -> 0 | AF65: =Ruimtestaat[[#This Row],[uren / jaar weekend]]+Ruimtestaat[[#This Row],[uren / jaar werkdagen]] -> 0 | AG65: =Ruimtestaat[[#This Row],[kosten / jaar weekend]]+Ruimtestaat[[#This Row],[kosten / jaar werkdagen]] -> 0
A66: 1 | B66: =VLOOKUP(Ruimtestaat[[#This Row],[Code]],Locaties[#All],2,FALSE) -> Hoofdgebouw | C66: =VLOOKUP(Ruimtestaat[[#This Row],[Code]],Locaties[#All],4,FALSE) -> Sterrenlaan 16 | D66: =VLOOKUP(Ruimtestaat[[#This Row],[Code]],Locaties[#All],5,FALSE) -> 5631 KA | E66: =VLOOKUP(Ruimtestaat[[#This Row],[Code]],Locaties[#All],6,FALSE) -> Eindhoven | G66: 1e verd | H66: 1.22 | I66: Verkeersruimte | J66: 6 | K66: =VLOOKUP(J66,Ruimtegroepen[],2,FALSE) -> Gangen/hallen | L66: L | M66: Linoleum | N66: 29 | P66: =LEFT(VLOOKUP(Ruimtestaat[[#This Row],[Ruimte code]],Ruimtegroepen[#All],4,1),2) -> V | R66: 40 | S66: 5w | T66: =IF(R66>0,IF(RIGHT(Ruimtestaat[[#This Row],[Frequentie werkdagen]],1)="w",VALUE(LEFT(Ruimtestaat[[#This Row],[Frequentie werkdagen]],(LEN(Ruimtestaat[[#This Row],[Frequentie werkdagen]])-1))*Ruimtestaat[[#This Row],[Aantal weken/jr]]),IF(RIGHT(Ruimtestaat[[#This Row],[Frequentie werkdagen]],1)="m",VALUE(LEFT(Ruimtestaat[[#This Row],[Frequentie werkdagen]],LEN(Ruimtestaat[[#This Row],[Frequentie werkdagen]])-1)*12),VALUE(LEFT(Ruimtestaat[[#This Row],[Frequentie werkdagen]],(LEN(Ruimtestaat[[#This Row],[Frequentie werkdagen]])-1))))),0) -> 200 | U66: =IF(T66>0,VLOOKUP($J66,Ruimtegroepen[],3,FALSE)*VLOOKUP($L66,Vloersoorten[],3,FALSE)*VLOOKUP($S66,Frequenties[],3,FALSE)*VLOOKUP($A66,Locaties[],3,FALSE),0) -> 0 | V66: =Ruimtestaat[[#This Row],[Uitvoeringen werkdagen]]*Ruimtestaat[[#This Row],[Oppervlak (netto)]] -> 5800 | W66: =IF(U66>0,Ruimtestaat[[#This Row],[Prest. (m2 /jaar) werkdagen]]/Ruimtestaat[[#This Row],[Norm (m2/uur) werkdagen]],0) -> 0 | X66: =Ruimtestaat[[#This Row],[uren / jaar werkdagen]]*Tariefsopbouw!$E$35 -> 0 | Z66: =IF(Ruimtestaat[[#This Row],[Frequentie weekend]]>0,VALUE(LEFT(Y66,1))*R66,0) -> 0 | AA66: =IF($Z66>0,VLOOKUP($J66,Ruimtegroepen[],3,FALSE)*VLOOKUP($L66,Vloersoorten[],3,FALSE)*VLOOKUP($Y66,Frequenties[],3,FALSE)*VLOOKUP($A62,Locaties[],3,FALSE),0) -> 0 | AB66: =Ruimtestaat[[#This Row],[Uitvoeringen weekend]]*Ruimtestaat[[#This Row],[Oppervlak (netto)]] -> 0 | AC66: =IF(AB66>0,Ruimtestaat[[#This Row],[Prest. (m2 /jaar) weekend]]/Ruimtestaat[[#This Row],[Norm (m2/uur) weekend]],0) -> 0 | AD66: =Ruimtestaat[[#This Row],[uren / jaar weekend]]*Tariefsopbouw!$D$40 -> 0 | AE66: =Ruimtestaat[[#This Row],[Prest. (m2 /jaar) weekend]]+Ruimtestaat[[#This Row],[Prest. (m2 /jaar) werkdagen]] -> 5800 | AF66: =Ruimtestaat[[#This Row],[uren / jaar weekend]]+Ruimtestaat[[#This Row],[uren / jaar werkdagen]] -> 0 | AG66: =Ruimtestaat[[#This Row],[kosten / jaar weekend]]+Ruimtestaat[[#This Row],[kosten / jaar werkdagen]] -> 0
A67: 1 | B67: =VLOOKUP(Ruimtestaat[[#This Row],[Code]],Locaties[#All],2,FALSE) -> Hoofdgebouw | C67: =VLOOKUP(Ruimtestaat[[#This Row],[Code]],Locaties[#All],4,FALSE) -> Sterrenlaan 16 | D67: =VLOOKUP(Ruimtestaat[[#This Row],[Code]],Locaties[#All],5,FALSE) -> 5631 KA | E67: =VLOOKUP(Ruimtestaat[[#This Row],[Code]],Locaties[#All],6,FALSE) -> Eindhoven | G67: 1e verd | H67: 1.30 | I67: Leslokaal | J67: 16 | K67: =VLOOKUP(J67,Ruimtegroepen[],2,FALSE) -> Leslokalen theorie | L67: L | M67: Linoleum | N67: 48 | P67: =LEFT(VLOOKUP(Ruimtestaat[[#This Row],[Ruimte code]],Ruimtegroepen[#All],4,1),2) -> L | R67: 40 | S67: 5w | T67: =IF(R67>0,IF(RIGHT(Ruimtestaat[[#This Row],[Frequentie werkdagen]],1)="w",VALUE(LEFT(Ruimtestaat[[#This Row],[Frequentie werkdagen]],(LEN(Ruimtestaat[[#This Row],[Frequentie werkdagen]])-1))*Ruimtestaat[[#This Row],[Aantal weken/jr]]),IF(RIGHT(Ruimtestaat[[#This Row],[Frequentie werkdagen]],1)="m",VALUE(LEFT(Ruimtestaat[[#This Row],[Frequentie werkdagen]],LEN(Ruimtestaat[[#This Row],[Frequentie werkdagen]])-1)*12),VALUE(LEFT(Ruimtestaat[[#This Row],[Frequentie werkdagen]],(LEN(Ruimtestaat[[#This Row],[Frequentie werkdagen]])-1))))),0) -> 200 | U67: =IF(T67>0,VLOOKUP($J67,Ruimtegroepen[],3,FALSE)*VLOOKUP($L67,Vloersoorten[],3,FALSE)*VLOOKUP($S67,Frequenties[],3,FALSE)*VLOOKUP($A67,Locaties[],3,FALSE),0) -> 0 | V67: =Ruimtestaat[[#This Row],[Uitvoeringen werkdagen]]*Ruimtestaat[[#This Row],[Oppervlak (netto)]] -> 9600 | W67: =IF(U67>0,Ruimtestaat[[#This Row],[Prest. (m2 /jaar) werkdagen]]/Ruimtestaat[[#This Row],[Norm (m2/uur) werkdagen]],0) -> 0 | X67: =Ruimtestaat[[#This Row],[uren / jaar werkdagen]]*Tariefsopbouw!$E$35 -> 0 | Z67: =IF(Ruimtestaat[[#This Row],[Frequentie weekend]]>0,VALUE(LEFT(Y67,1))*R67,0) -> 0 | AA67: =IF($Z67>0,VLOOKUP($J67,Ruimtegroepen[],3,FALSE)*VLOOKUP($L67,Vloersoorten[],3,FALSE)*VLOOKUP($Y67,Frequenties[],3,FALSE)*VLOOKUP($A63,Locaties[],3,FALSE),0) -> 0 | AB67: =Ruimtestaat[[#This Row],[Uitvoeringen weekend]]*Ruimtestaat[[#This Row],[Oppervlak (netto)]] -> 0 | AC67: =IF(AB67>0,Ruimtestaat[[#This Row],[Prest. (m2 /jaar) weekend]]/Ruimtestaat[[#This Row],[Norm (m2/uur) weekend]],0) -> 0 | AD67: =Ruimtestaat[[#This Row],[uren / jaar weekend]]*Tariefsopbouw!$D$40 -> 0 | AE67: =Ruimtestaat[[#This Row],[Prest. (m2 /jaar) weekend]]+Ruimtestaat[[#This Row],[Prest. (m2 /jaar) werkdagen]] -> 9600 | AF67: =Ruimtestaat[[#This Row],[uren / jaar weekend]]+Ruimtestaat[[#This Row],[uren / jaar werkdagen]] -> 0 | AG67: =Ruimtestaat[[#This Row],[kosten / jaar weekend]]+Ruimtestaat[[#This Row],[kosten / jaar werkdagen]] -> 0
A68: 1 | B68: =VLOOKUP(Ruimtestaat[[#This Row],[Code]],Locaties[#All],2,FALSE) -> Hoofdgebouw | C68: =VLOOKUP(Ruimtestaat[[#This Row],[Code]],Locaties[#All],4,FALSE) -> Sterrenlaan 16 | D68: =VLOOKUP(Ruimtestaat[[#This Row],[Code]],Locaties[#All],5,FALSE) -> 5631 KA | E68: =VLOOKUP(Ruimtestaat[[#This Row],[Code]],Locaties[#All],6,FALSE) -> Eindhoven | G68: 1e verd | H68: 1.31 | I68: Leslokaal | J68: 16 | K68: =VLOOKUP(J68,Ruimtegroepen[],2,FALSE) -> Leslokalen theorie | L68: L | M68: Linoleum | N68: 48 | P68: =LEFT(VLOOKUP(Ruimtestaat[[#This Row],[Ruimte code]],Ruimtegroepen[#All],4,1),2) -> L | R68: 40 | S68: 5w | T68: =IF(R68>0,IF(RIGHT(Ruimtestaat[[#This Row],[Frequentie werkdagen]],1)="w",VALUE(LEFT(Ruimtestaat[[#This Row],[Frequentie werkdagen]],(LEN(Ruimtestaat[[#This Row],[Frequentie werkdagen]])-1))*Ruimtestaat[[#This Row],[Aantal weken/jr]]),IF(RIGHT(Ruimtestaat[[#This Row],[Frequentie werkdagen]],1)="m",VALUE(LEFT(Ruimtestaat[[#This Row],[Frequentie werkdagen]],LEN(Ruimtestaat[[#This Row],[Frequentie werkdagen]])-1)*12),VALUE(LEFT(Ruimtestaat[[#This Row],[Frequentie werkdagen]],(LEN(Ruimtestaat[[#This Row],[Frequentie werkdagen]])-1))))),0) -> 200 | U68: =IF(T68>0,VLOOKUP($J68,Ruimtegroepen[],3,FALSE)*VLOOKUP($L68,Vloersoorten[],3,FALSE)*VLOOKUP($S68,Frequenties[],3,FALSE)*VLOOKUP($A68,Locaties[],3,FALSE),0) -> 0 | V68: =Ruimtestaat[[#This Row],[Uitvoeringen werkdagen]]*Ruimtestaat[[#This Row],[Oppervlak (netto)]] -> 9600 | W68: =IF(U68>0,Ruimtestaat[[#This Row],[Prest. (m2 /jaar) werkdagen]]/Ruimtestaat[[#This Row],[Norm (m2/uur) werkdagen]],0) -> 0 | X68: =Ruimtestaat[[#This Row],[uren / jaar werkdagen]]*Tariefsopbouw!$E$35 -> 0 | Z68: =IF(Ruimtestaat[[#This Row],[Frequentie weekend]]>0,VALUE(LEFT(Y68,1))*R68,0) -> 0 | AA68: =IF($Z68>0,VLOOKUP($J68,Ruimtegroepen[],3,FALSE)*VLOOKUP($L68,Vloersoorten[],3,FALSE)*VLOOKUP($Y68,Frequenties[],3,FALSE)*VLOOKUP($A64,Locaties[],3,FALSE),0) -> 0 | AB68: =Ruimtestaat[[#This Row],[Uitvoeringen weekend]]*Ruimtestaat[[#This Row],[Oppervlak (netto)]] -> 0 | AC68: =IF(AB68>0,Ruimtestaat[[#This Row],[Prest. (m2 /jaar) weekend]]/Ruimtestaat[[#This Row],[Norm (m2/uur) weekend]],0) -> 0 | AD68: =Ruimtestaat[[#This Row],[uren / jaar weekend]]*Tariefsopbouw!$D$40 -> 0 | AE68: =Ruimtestaat[[#This Row],[Prest. (m2 /jaar) weekend]]+Ruimtestaat[[#This Row],[Prest. (m2 /jaar) werkdagen]] -> 9600 | AF68: =Ruimtestaat[[#This Row],[uren / jaar weekend]]+Ruimtestaat[[#This Row],[uren / jaar werkdagen]] -> 0 | AG68: =Ruimtestaat[[#This Row],[kosten / jaar weekend]]+Ruimtestaat[[#This Row],[kosten / jaar werkdagen]] -> 0
