Workbook
Name _Toc233614100: 'Regie en afroep'!#REF!
Name _Toc256089721: 'Regie en afroep'!#REF!
Name arbeidsprestatie: Prestatiefactoren!#REF!
Name arbeidsprestatie: Prestatiefactoren!#REF!
Name freq: 'Opleverstaat dagelijks'!#REF!
Name freq: 'Opleverstaat dagelijks'!#REF!
Name OLE_LINK9: 'Regie en afroep'!#REF!
Name programma: #REF!
Name R_Code: Prestatiefactoren!#REF!
Name R_Code: Prestatiefactoren!#REF!
Name Vl_Code: Prestatiefactoren!#REF!
Name Vl_Code: Prestatiefactoren!#REF!
Name vloer: 'Opleverstaat dagelijks'!#REF!
Name vloer: 'Opleverstaat dagelijks'!#REF!
Name wk: 'Opleverstaat dagelijks'!#REF!
Name wk: 'Opleverstaat dagelijks'!#REF!

Sheet Overnamegegevens
B1: Geboorte- datum | C1: Datum in dienst | D1: Branche datum | E1: Soort contract | F1: Aantal uur op object per week | G1: > 1,5 jaar op object? | H1: Functie | I1: Functiecode | J1: Loongroep | K1: Basis-uurloon | L1: OT Dienstjaren | M1: VET toeslag | N1: Pers. Toeslag | O1: Reiskosten op basis van CAO | P1: Reiskosten boven CAO voor 31-12-2007 afgesproken | Q1: In het bezit van basisvak-diploma? Ja/Nee | R1: Locatie
A2: 1 | B2: niet aangeleverd | C2: 44562 | D2: 43710 | E2: Onbepaalde tijd | F2: niet aangeleverd | G2: Ja | H2: Mdw alg schoonmaakonderhoud I | I2: GR1 | J2: 4 | K2: 17.05 | L2: n.v.t. | M2: n.v.t. | N2: n.v.t. | O2: Ja | P2: n.v.t | Q2: Ja | R2: Novalis College
A3: 2 | B3: niet aangeleverd | C3: 44562 | D3: 44390 | E3: Onbepaalde tijd | F3: niet aangeleverd | G3: Ja | H3: Mdw alg schoonmaakonderhoud I | I3: GR1 | J3: 4 | K3: 17.05 | L3: n.v.t. | M3: n.v.t. | N3: n.v.t. | O3: Ja | P3: n.v.t | Q3: Ja | R3: Novalis College
A4: 3 | B4: niet aangeleverd | C4: 44562 | D4: 44454 | E4: Onbepaalde tijd | F4: niet aangeleverd | G4: Ja | H4: Mdw alg schoonmaakonderhoud I | I4: GR1 | J4: 4 | K4: 17.05 | L4: n.v.t. | M4: n.v.t. | N4: n.v.t. | O4: Ja | P4: n.v.t | Q4: Ja | R4: Novalis College

Sheet Opleverstaat dagelijks
A1: Opleverstaat schoonmaak
A2: Element | B2: Onderdeel | C2: Reinheidsniveau | D2: Acceptabel
D3: (dagelijks toegestane afwijking)
A4: Inventaris :
A5: Algemeen | C5: Alle inventarisonderdelen dienen vrij te zijn van: stickers, lijmresten en kauwgom.
A6: Alarmsensoren | B6: Geheel | C6: Stof-, vlek-, aanslag en streepvrij | D6: Geen zichtbare spinrag, geen stofvorming en kleine zichtbare vlekken max. 3 stuks
A7: Aanrechtblad | B7: Geheel buitenzijde | C7: Stof-, vlek-, aanslag en streepvrij | D7: Lichte stofvorming, enkele vingertasten en zichtbare vlekken max. 1 tot 3 st.
A8: Audiovisuele middelen | B8: Geheel buitenzijde | C8: Stof-, vlek-, aanslag en streepvrij | D8: Lichte stofvorming bovenzijde
A9: Afvalbak/prullenbak | B9: Inhoud, plastic zak | C9: Inhoud geleegd, schone plastic zak aanwezig. Afwezigheid van fruitvliegjes | D9: Lichte stofvorming, enkele vinger tasten of kleine zichtbare vlekken max 3 tot 7 st.
A10: Afvalbak/prullenbak | B10: Geheel | C10: Stof-, vlek-, aanslag en streepvrij. Afwezigheid van fruitvliegjes. | D10: Lichte stofvorming, enkele vinger tasten of kleine zichtbare vlekken max 3 tot 7 st.
A11: Afval | B11: Geheel | C11: Afgevoerd naar containers
A12: Balie | B12: Geheel buitenzijde | C12: Stof-, vlek-, aanslag en streepvrij | D12: Enkele vinger tasten of kleine zichtbare vlekken max 1 tot 3 st.
A13: Brandblusapparatuur | B13: Geheel buitenzijde | C13: Stof-, vlek-, aanslag en streepvrij | D13: Lichte stofvorming
A14: Bureau/Tafel/Incl. onderlegger | B14: Geheel buitenzijde | C14: Stof-, vlek-, aanslag en streepvrij | D14: Enkele vinger tasten of kleine zichtbare vlekken, max. 3 tot 7 st.
A15: Bureaulamp | B15: Geheel buitenzijde | C15: Stof-, vlek-, aanslag en streepvrij | D15: Enkele vinger tasten of kleine zichtbare vlekken, max. 3 tot 7 st., lichte stofvorming op voetlamp
A16: Kapstok/Garderoberek | B16: Geheel | C16: Stof-, vlek-, aanslag en streepvrij | D16: Lichte stofvorming, enkele vinger tasten en zichtbare vlekken max. 1 tot 3 st.
A17: Kast hoog | B17: Geheel buitenzijde | C17: Stof-, vlek-, aanslag en streepvrij | D17: Lichte stofvorming bovenzijde, enkele vinger tasten of kleine zichtbare vlekken max 3 tot 7 st.
A18: Kast laag/Ladenblok | B18: Geheel buitenzijde | C18: Stof-, vlek-, aanslag en streepvrij | D18: Enkele vinger tasten of kleine zichtbare vlekken, max. 3 tot 7 st
A19: Lampen | B19: Geheel | C19: Stof-, vlek-, aanslag en streepvrij | D19: Enkele vinger tasten of kleine zichtbare vlekken, max. 3 tot 7 st., lichte stofvorming op voetlamp
A20: Locker | B20: Geheel buitenzijde | C20: Stof-, vlek-, aanslag en streepvrij | D20: Enkele vinger tasten of kleine zichtbare vlekken, max. 3 tot 7 st
A21: Papierbak | B21: Inhoud | C21: Inhoud geleegd, stof en vlekvrij
A22: Papierbak | B22: Geheel | C22: Stof-, vlek-, aanslag en streepvrij | D22: Lichte stofvorming bovenzijde, enkele vinger tasten of kleine zichtbare vlekken max 3 tot 7 st.
A23: PC, incl. toebehoren | B23: Geheel buitenzijde | C23: Stof-, vlek-, aanslag en streepvrij | D23: Lichte stofvorming bovenzijde, enkele vinger tasten en kleine zichtbare vlekken max. 1 tot 3 st.
A24: Plantenbak | B24: Geheel buitenzijde | C24: Stof-, vlek-, aanslag en streepvrij | D24: Enkele vinger tasten of kleine zichtbare vlekken max. 3 tot 7 st., enkele schopstrepen max. 3 tot 7 st.
A25: Plinten/kabelgoten | B25: Geheel buitenzijde | C25: Stof-, vlek-, aanslag en streepvrij | D25: Lichte stofvorming bovenzijde, enkele vinger tasten of zichtbare vlekken max 7 tot 10 st., enkele schopstrepen max. 3 tot 7 st
A26: Printer/copier | B26: Geheel buitenzijde | C26: Stof-, vlek-, aanslag en streepvrij | D26: Lichte stofvorming bovenzijde, enkele vinger tasten en kleine zichtbare vlekken max. 1 tot 3 st.
A27: Stoel/bank/kruk | B27: Geheel | C27: Stof-, vlek-, aanslag en streepvrij | D27: Licht stofvorming in naden, enkele vinger tasten of kleine zichtbare vlekken max. 3 tot 7 st. op achterzijde leuning
A28: Telefoon | B28: Geheel | C28: Stof-, vlek-, aanslag en streepvrij | D28: Lichte stofvorming bovenzijde, enkele vinger tasten of kleine zichtbare vlekken max 3 tot 7 st.
A29: Vitrinekast | B29: Geheel buitenzijde | C29: Stof-, vlek-, aanslag en streepvrij | D29: Lichte stofvorming bovenzijde, enkele vinger tasten of kleine zichtbare vlekken max 3 tot 7 st.
A30: Whiteboard/Schoolbord/Krijtrichel | B30: Geheel | C30: Stof-, vlek-, aanslag en streepvrij | D30: Lichte stofvorming bovenzijde, enkele vinger tasten of kleine zichtbare vlekken max 3 tot 7 st.
A31: Element | B31: Onderdeel | C31: Reinheidsniveau | D31: Acceptabel
D32: (dagelijks toegestane afwijking)
A33: Bouwdelen :
A34: Algemeen | C34: Alle bouwdelen dienen vrij te zijn van: stickers, lijmresten en kauwgom.
A35: Deur/deurglas | B35: Geheel | C35: Stof-, vlek-, aanslag en streepvrij | D35: Enkele vinger tasten of kleine zichtbare vlekken max. 7 tot 10 stuks, enkele schopstrepen max. 1 tot 3 st.
A36: Separatieglas | B36: Geheel | C36: Stof-, vlek-, aanslag en streepvrij | D36: Enkele vinger tasten of kleine zichtbare vlekken max. 3 tot 7 st.
A37: Kabelgoot | B37: Geheel buitenzijde | C37: Stof-, vlek-, aanslag en streepvrij | D37: Lichte stofvorming bovenzijde, enkele vinger tasten of zichtbare vlekken max 7 tot 10 st., enkele schopstrepen max. 3 tot 7 st.
A38: Kapstok/Garderoberek | B38: Geheel | C38: Stof-, vlek-, aanslag en streepvrij | D38: Lichte stofvorming, enkele vinger tasten en zichtbare vlekken max. 1 tot 3 st.
A39: Lift | B39: Geheel | C39: Stof-, vlek-, aanslag en streepvrij | D39: Enkele vinger tasten of kleine zichtbare vlekken max. 7 tot 10 stuks, enkele schopstrepen max. 1 tot 3 st.
A40: Lichtknop/contact/ | B40: Geheel | C40: Stof-, vlek-, aanslag en streepvrij | D40: Lichte stofvorming bovenzijde, enkele vinger tasten of kleine zichtbare vlekken max 1 tot 3 st.
...

Sheet Werkprogramma periodiek
A1: Opleverstaat schoonmaak periodiek (tijdens vakanties uitvoeren) 2 x per jaar
A2: Element | B2: Onderdeel | C2: Handeling
A3: Inventaris :
A4: Aanrechtblad | B4: Geheel buitenzijde | C4: vochtig afnemen
A5: Afvalbak/prullenbak | B5: Geheel buitenzijde | C5: vochtig afnemen
A6: Balie | B6: Geheel buitenzijde | C6: vochtig afnemen
A7: Brandblusapparatuur | B7: Geheel buitenzijde | C7: vochtig afnemen
A8: Bureau/Tafel/Incl. onderlegger | B8: Geheel buitenzijde | C8: vochtig afnemen
A9: Bureaulamp | B9: Geheel buitenzijde | C9: vochtig afnemen
A10: Kapstok/Garderoberek | B10: Geheel | C10: vochtig afnemen
A11: Kast hoog | B11: Geheel buitenzijde | C11: vochtig afnemen
A12: Kast laag/Ladenblok | B12: Geheel buitenzijde | C12: vochtig afnemen
A13: Lampen | B13: Geheel | C13: vochtig afnemen
A14: Locker | B14: Geheel buitenzijde | C14: vochtig afnemen
A15: Papierbak | B15: Geheel buitenzijde | C15: vochtig afnemen
... A28: Verlichtingsarmatuur en buizen > 2.00 m | B28: Geheel buitenzijde | C28: vochtig afnemen
A29: Sanitaire elementen:
A30: Doorspoelinstallatie | B30: Geheel | C30: vochtig afnemen
A31: Handgreep/steun | B31: Geheel | C31: vochtig afnemen
A32: Schaam-tussenschot | B32: Geheel | C32: vochtig afnemen
A33: Spiegel | B33: Geheel | C33: vochtig afnemen
A34: Toiletpot-bril/Urinoir/Doorspoelinst. | B34: Geheel | C34: vochtig afnemen
A35: Toiletrolhouder | B35: Geheel | C35: vochtig afnemen
A36: Toiletborstel/-houder | B36: Geheel | C36: vochtig afnemen
A37: Wand sanitair/Planchet | B37: Geheel | C37: vochtig afnemen
A38: Wastafel | B38: Geheel | C38: vochtig afnemen
A39: Sanitaire ruimte | B39: Geheel | C39: Diepreiniging volgens programma
A40: Vloer :
A41: Harde vloeren (steen / pvc) | B41: Geheel | C41: periodiek vloeronderhoud conform afspraak
A42: Linoleum | B42: Geheel | C42: periodiek vloeronderhoud conform afspraak
A43: Tapijt | B43: Geheel | C43: periodiek vloeronderhoud conform afspraak

Sheet Werkprogramma dieptereiniging
A1: Handelingen dieptereiniging 2 x per jaar
A3: Toiletpot
A4: verwijderen van vervuiling in spoelranden, afvoersluitingen en restant van de binnenzijde van het toilet
A5: reinigen van het toilet aan de buitenzijde | B5: reinigen van het toilet aan de buitenzijde | C5: reinigen van het toilet aan de buitenzijde
A6: bevestiging en aansluiting op het afvoersysteem controleren; waar nodig vernieuwen van pluggen en schroeven en afdichten van onregelmatige aansluiting op de afvoer | B6: bevestiging en aansluiting op het afvoersysteem controleren; waar nodig vernieuwen van pluggen en schroeven en afdichten van onregelmatige aansluiting op de afvoer | C6: bevestiging en aansluiting op het afvoersysteem controleren; waar nodig vernieuwen van pluggen en schroeven en afdichten van onregelmatige aansluiting op de afvoer
A7: de toiletbril ontdoen van aanslag, demonteren van een bril met brugstuk (teneinde het vuil eronder te verwijderen) en weer monteren | B7: de toiletbril ontdoen van aanslag, demonteren van een bril met brugstuk (teneinde het vuil eronder te verwijderen) en weer monteren | C7: de toiletbril ontdoen van aanslag, demonteren van een bril met brugstuk (teneinde het vuil eronder te verwijderen) en weer monteren
A8: binnen- en buitenzijde van de stortbak ontdoen van aanslag en vuil (gietijzer alleen buitenzijde) | B8: binnen- en buitenzijde van de stortbak ontdoen van aanslag en vuil (gietijzer alleen buitenzijde) | C8: binnen- en buitenzijde van de stortbak ontdoen van aanslag en vuil (gietijzer alleen buitenzijde)
A9: stortbak controleren op het functioneren van het mechanisme, het waterniveau en de bevestiging ervan | B9: stortbak controleren op het functioneren van het mechanisme, het waterniveau en de bevestiging ervan | C9: stortbak controleren op het functioneren van het mechanisme, het waterniveau en de bevestiging ervan
A10: stopkraan van de stortbak ontkalken en controleren op goede werking | B10: stopkraan van de stortbak ontkalken en controleren op goede werking | C10: stopkraan van de stortbak ontkalken en controleren op goede werking
A11: valpijp ontdoen van aanslag en controleren op losse of defecte bevestigingsbeugels en op de aansluiting van het toilet | B11: valpijp ontdoen van aanslag en controleren op losse of defecte bevestigingsbeugels en op de aansluiting van het toilet | C11: valpijp ontdoen van aanslag en controleren op losse of defecte bevestigingsbeugels en op de aansluiting van het toilet
A12: bij een inbouwstortbak de voorplaat reinigen, het waterniveau controleren en eventueel opnieuw afstellen | B12: bij een inbouwstortbak de voorplaat reinigen, het waterniveau controleren en eventueel opnieuw afstellen | C12: bij een inbouwstortbak de voorplaat reinigen, het waterniveau controleren en eventueel opnieuw afstellen
A13: de drukspoeler controleren op goede werking en ontdoen van aanslag op de buitenzijde | B13: de drukspoeler controleren op goede werking en ontdoen van aanslag op de buitenzijde | C13: de drukspoeler controleren op goede werking en ontdoen van aanslag op de buitenzijde
A14: spoelpijp ontdoen van aanslag en controleren op losse of defecte bevestigingsbeugels op de aansluiting van de pot en op lekkage | B14: spoelpijp ontdoen van aanslag en controleren op losse of defecte bevestigingsbeugels op de aansluiting van de pot en op lekkage | C14: spoelpijp ontdoen van aanslag en controleren op losse of defecte bevestigingsbeugels op de aansluiting van de pot en op lekkage
A16: Urinoir
A17: verwijderen van organische en anorganische vervuiling in spoelranden en afvoeraansluitingen en restant van de binnenzijde van de pot | B17: verwijderen van organische en anorganische vervuiling in spoelranden en afvoeraansluitingen en restant van de binnenzijde van de pot | C17: verwijderen van organische en anorganische vervuiling in spoelranden en afvoeraansluitingen en restant van de binnenzijde van de pot
A18: reinigen van de buitenzijde van het urinoir | B18: reinigen van de buitenzijde van het urinoir | C18: reinigen van de buitenzijde van het urinoir
A19: bevestiging en aansluiting op het afvoersysteem controleren en afdichten van onregelmatige aansluiting op de afvoer | B19: bevestiging en aansluiting op het afvoersysteem controleren en afdichten van onregelmatige aansluiting op de afvoer | C19: bevestiging en aansluiting op het afvoersysteem controleren en afdichten van onregelmatige aansluiting op de afvoer
A20: de drukspoeler controleren op goede werking en ontdoen van aanslag op de buitenzijde | B20: de drukspoeler controleren op goede werking en ontdoen van aanslag op de buitenzijde | C20: de drukspoeler controleren op goede werking en ontdoen van aanslag op de buitenzijde
A21: bij wandurinoirs controleren op bevestigingen en afsluitingen op vloerpijp en afvoer | B21: bij wandurinoirs controleren op bevestigingen en afsluitingen op vloerpijp en afvoer | C21: bij wandurinoirs controleren op bevestigingen en afsluitingen op vloerpijp en afvoer
A22: verwijderen van vervuiling van schaamschotten | B22: verwijderen van vervuiling van schaamschotten | C22: verwijderen van vervuiling van schaamschotten
A23: schaamschotten controleren op bevestiging | B23: schaamschotten controleren op bevestiging | C23: schaamschotten controleren op bevestiging
A25: Wastafel
A26: verwijderen van organische en anorganische vervuiling op de binnen- en buitenzijde | B26: verwijderen van organische en anorganische vervuiling op de binnen- en buitenzijde | C26: verwijderen van organische en anorganische vervuiling op de binnen- en buitenzijde
A27: kranen ontkalken en controleren op functioneren en eventuele rubbers vervangen | B27: kranen ontkalken en controleren op functioneren en eventuele rubbers vervangen | C27: kranen ontkalken en controleren op functioneren en eventuele rubbers vervangen
A28: perlators demonteren en ontkalken en eventueel vervangen | B28: perlators demonteren en ontkalken en eventueel vervangen | C28: perlators demonteren en ontkalken en eventueel vervangen
A29: sifon in- en uitwendig reinigen, zonodig nieuwe pakkingring aanbrengen | B29: sifon in- en uitwendig reinigen, zonodig nieuwe pakkingring aanbrengen | C29: sifon in- en uitwendig reinigen, zonodig nieuwe pakkingring aanbrengen
A30: spiegels reinigen | B30: spiegels reinigen | C30: spiegels reinigen
A32: Algemeen
A33: Volledig (diep)reinigen van de deur (beide zijden), (tegel-)wanden, vloeren en putjes (in- en uitwendig) | B33: reinigen van de deur (beide zijden), tegelwanden en vloeren | C33: reinigen van de deur (beide zijden), tegelwanden en vloeren
A34: De gehele vloer en alle wanden reinigen met stoomreiniging bv fantomat

Sheet Tariefsopbouw
A1: Tariefsopbouw
A2: Alle groen gearceerde velden dienen ingevuld te worden, overige cellen mogen niet gewijzigd worden | G2: Indexatie
H3: 2028 | J3: 2029 | L3: 2030 | N3: 2031 | P3: 2032
A4: Loon: | C4: Gemiddeld brutoloon | D4: % van de prod. uren | E4: € | G4: Soort indexatie | H4: Percentage | I4: Tarief excl btw | J4: Percentage | K4: Tarief excl btw | L4: Percentage | M4: Tarief excl btw | N4: Percentage | O4: Tarief excl btw | P4: Percentage | Q4: Tarief excl btw
A5: Over te nemen personeel | C5: 0 | D5: 0 | E5: =C5*D5 -> 0
A6: Schoonmaakmedewerker | C6: 0 | D6: 0 | E6: =C6*D6 -> 0
C7: 0 | D7: 0 | E7: =C7*D7 -> 0
A8: Meewerkend leidinggevende | C8: 0 | D8: 0 | E8: =C8*D8 -> 0
A9: Totale berekende productieve ureninzet (contractjaar 1) | D9: =SUM(D5:D8) -> 0 | E9: =IF(SUM($D$5:$D$8)=100%,SUM(E5:E8)," GEEN 100%") -> GEEN 100%
A10: Totaal geindexeerd uurloon | E10: =SUM(E9:E9) -> 0 | G10: CAO | I10: =(E10*H10)+E10 -> 0 | J10: 0 | K10: =(I10*J10)+I10 -> 0 | L10: 0 | M10: =(K10*L10)+K10 -> 0 | N10: 0 | O10: =(M10*N10)+M10 -> 0 | P10: 0 | Q10: =(O10*P10)+O10 -> 0
A12: Loonkosten: | D12: % v.h. loon | E12: €
A13: Vakantiedagen, -toeslag, feestdagen | D13: 0 | E13: =SUM($E$10*D13) -> 0 | G13: CBS DPI | I13: =(E13*H13)+E13 -> 0 | K13: =(I13*J13)+I13 -> 0 | M13: =(K13*L13)+K13 -> 0 | O13: =(M13*N13)+M13 -> 0 | Q13: =(O13*P13)+O13 -> 0
A14: Eindejaarsuitkering | D14: 0 | E14: =SUM($E$10*D14) -> 0 | G14: CBS DPI | I14: =(E14*H14)+E14 -> 0 | K14: =(I14*J14)+I14 -> 0 | M14: =(K14*L14)+K14 -> 0 | O14: =(M14*N14)+M14 -> 0 | Q14: =(O14*P14)+O14 -> 0
A15: Suppletie ziekengeld | D15: 0 | E15: =SUM($E$10*D15) -> 0 | G15: CBS DPI | I15: =(E15*H15)+E15 -> 0 | K15: =(I15*J15)+I15 -> 0 | M15: =(K15*L15)+K15 -> 0 | O15: =(M15*N15)+M15 -> 0 | Q15: =(O15*P15)+O15 -> 0
A16: Sociale lasten | D16: 0 | E16: =SUM($E$10*D16) -> 0 | G16: CBS DPI | I16: =(E16*H16)+E16 -> 0 | K16: =(I16*J16)+I16 -> 0 | M16: =(K16*L16)+K16 -> 0 | O16: =(M16*N16)+M16 -> 0 | Q16: =(O16*P16)+O16 -> 0
A17: Overige loonkosten | D17: 0 | E17: =SUM($E$10*D17) -> 0 | G17: CBS DPI | I17: =(E17*H17)+E17 -> 0 | K17: =(I17*J17)+I17 -> 0 | M17: =(K17*L17)+K17 -> 0 | O17: =(M17*N17)+M17 -> 0 | Q17: =(O17*P17)+O17 -> 0
A18: Subtotaal Loonkosten | E18: =SUM(E13:E17) -> 0 | I18: =SUM(I13:I17) -> 0 | K18: =SUM(K13:K17) -> 0 | M18: =SUM(M13:M17) -> 0 | O18: =SUM(O13:O17) -> 0 | Q18: =SUM(Q13:Q17) -> 0
A20: Directe kosten: | D20: % v.h. loon incl. loonkosten | E20: €
A21: Materialen | D21: =E21/$E$35 -> #DIV/0! | E21: 0 | G21: CBS DPI | I21: =(E21*H21)+E21 -> 0 | K21: =(I21*J21)+I21 -> 0 | M21: =(K21*L21)+K21 -> 0 | O21: =(M21*N21)+M21 -> 0 | Q21: =(O21*P21)+O21 -> 0
A22: Middelen | D22: =E22/$E$35 -> #DIV/0! | E22: 0 | G22: CBS DPI | I22: =(E22*H22)+E22 -> 0 | K22: =(I22*J22)+I22 -> 0 | M22: =(K22*L22)+K22 -> 0 | O22: =(M22*N22)+M22 -> 0 | Q22: =(O22*P22)+O22 -> 0
A23: Afschrijving machines | D23: =E23/$E$35 -> #DIV/0! | E23: 0 | G23: CBS DPI | I23: =(E23*H23)+E23 -> 0 | K23: =(I23*J23)+I23 -> 0 | M23: =(K23*L23)+K23 -> 0 | O23: =(M23*N23)+M23 -> 0 | Q23: =(O23*P23)+O23 -> 0
A24: Directe leiding | D24: 0 | E24: =D24*$E$10 -> 0 | G24: CAO | I24: =(E24*H24)+E24 -> 0 | K24: =(I24*J24)+I24 -> 0 | M24: =(K24*L24)+K24 -> 0 | O24: =(M24*N24)+M24 -> 0 | Q24: =(O24*P24)+O24 -> 0
A25: Overige directe kosten | D25: =E25/$E$35 -> #DIV/0! | E25: 0 | G25: CBS DPI | I25: =(E25*H25)+E25 -> 0 | K25: =(I25*J25)+I25 -> 0 | M25: =(K25*L25)+K25 -> 0 | O25: =(M25*N25)+M25 -> 0 | Q25: =(O25*P25)+O25 -> 0
A26: Subtotaal Directe kosten | E26: =SUM(E21:E25) -> 0 | I26: =SUM(I21:I25) -> 0 | K26: =SUM(K21:K25) -> 0 | M26: =SUM(M21:M25) -> 0 | O26: =SUM(O21:O25) -> 0 | Q26: =SUM(Q21:Q25) -> 0
A28: Indirecte kosten: | D28: % v.h. loon incl. loonkosten | E28: €
A29: Indirecte leiding | D29: 0 | E29: =D29*($E$18+$E$10) -> 0 | G29: CBS DPI | I29: =(E29*H29)+E29 -> 0 | K29: =(I29*J29)+I29 -> 0 | M29: =(K29*L29)+K29 -> 0 | O29: =(M29*N29)+M29 -> 0 | Q29: =(O29*P29)+O29 -> 0
A30: Overheadkosten | D30: =E30/$E$35 -> #DIV/0! | E30: 0 | G30: CBS DPI | I30: =(E30*H30)+E30 -> 0 | K30: =(I30*J30)+I30 -> 0 | M30: =(K30*L30)+K30 -> 0 | O30: =(M30*N30)+M30 -> 0 | Q30: =(O30*P30)+O30 -> 0
A31: Overige indirecte kosten | D31: =E31/$E$35 -> #DIV/0! | E31: 0 | G31: CBS DPI | I31: =(E31*H31)+E31 -> 0 | K31: =(I31*J31)+I31 -> 0 | M31: =(K31*L31)+K31 -> 0 | O31: =(M31*N31)+M31 -> 0 | Q31: =(O31*P31)+O31 -> 0
A32: Winst en risico | D32: =E32/$E$35 -> #DIV/0! | E32: 0 | G32: CBS DPI | I32: =(E32*H32)+E32 -> 0 | K32: =(I32*J32)+I32 -> 0 | M32: =(K32*L32)+K32 -> 0 | O32: =(M32*N32)+M32 -> 0 | Q32: =(O32*P32)+O32 -> 0
A33: Subtotaal Indirecte kosten | E33: =SUM(E29:E32) -> 0 | I33: =SUM(I29:I32) -> 0 | K33: =SUM(K29:K32) -> 0 | M33: =SUM(M29:M32) -> 0 | O33: =SUM(O29:O32) -> 0 | Q33: =SUM(Q29:Q32) -> 0
A35: Tarief | E35: =E33+E26+E18+E10 -> 0 | I35: =I33+I26+I18+I10 -> 0 | K35: =K33+K26+K18+K10 -> 0 | M35: =M33+M26+M18+M10 -> 0 | O35: =O33+O26+O18+O10 -> 0 | Q35: =Q33+Q26+Q18+Q10 -> 0
A37: Rekentarieven | C37: % opslag op loonkosten | D37: Tarief excl. 21% BTW | E37: Tarief incl. 21% BTW | H37: Gemiddelde indexering | I37: =(I35/E35)-100% -> #DIV/0! | K37: =(K35/I35)-100% -> #DIV/0! | M37: =(M35/K35)-100% -> #DIV/0! | O37: =(O35/M35)-100% -> #DIV/0! | Q37: =(Q35/O35)-100% -> #DIV/0!
A38: Standaard | B38: ma. t/m vr. 6:00 - 21:30 uur | C38: 0 | D38: =+E35 -> 0 | E38: =D38*121% -> 0 | I38: =(D38*$I$37)+D38 -> #DIV/0! | K38: =(I38*$K$37)+I38 -> #DIV/0! | M38: =(K38*$M$37)+K38 -> #DIV/0! | O38: =(M38*$O$37)+M38 -> #DIV/0! | Q38: =(O38*$Q$37)+O38 -> #DIV/0!
A39: Ochtend/avond | B39: ma. t/m vr. 21:30 - 6:00 uur | C39: 0.3 | D39: =SUM($E$10,$E$18,$E$26,$E$33)+(C39*($E$18+$E$10)) -> 0 | E39: =D39*121% -> 0 | I39: =(D39*$I$37)+D39 -> #DIV/0! | K39: =(I39*$K$37)+I39 -> #DIV/0! | M39: =(K39*$M$37)+K39 -> #DIV/0! | O39: =(M39*$O$37)+M39 -> #DIV/0! | Q39: =(O39*$Q$37)+O39 -> #DIV/0!
A40: Weekend | B40: vr. 21:30 t/m ma. 6:00 uur | C40: 0.5 | D40: =SUM($E$10,$E$18,$E$26,$E$33)+(C40*($E$18+$E$10)) -> 0 | E40: =D40*121% -> 0 | I40: =(D40*$I$37)+D40 -> #DIV/0! | K40: =(I40*$K$37)+I40 -> #DIV/0! | M40: =(K40*$M$37)+K40 -> #DIV/0! | O40: =(M40*$O$37)+M40 -> #DIV/0! | Q40: =(O40*$Q$37)+O40 -> #DIV/0!
A41: Feestdag | B41: Erkende feestdagen | C41: 1.5 | D41: =SUM($E$10,$E$18,$E$26,$E$33)+(C41*($E$18+$E$10)) -> 0 | E41: =D41*121% -> 0 | I41: =(D41*$I$37)+D41 -> #DIV/0! | K41: =(I41*$K$37)+I41 -> #DIV/0! | M41: =(K41*$M$37)+K41 -> #DIV/0! | O41: =(M41*$O$37)+M41 -> #DIV/0! | Q41: =(O41*$Q$37)+O41 -> #DIV/0!

Sheet Prestatiefactoren
A1: Prestatie
A2: Alle groen gearceerde velden dienen ingevuld te worden, overige cellen mogen niet gewijzigd worden
A5: Aanpassing standaardnorm schoonmaakonderhoud o.b.v. locatie
A6: Code | B6: Locatie | C6: Aanpassing norm | D6: Adres | E6: Postcode | F6: Plaats
A7: 1 | B7: Hoofdgebouw | C7: 1 | D7: Sterrenlaan 16 | E7: 5631 KA | F7: Eindhoven
A8: 2 | B8: Paviljoen Nova | C8: 1 | D8: Sterrenlaan 16 | E8: 5631 KA | F8: Eindhoven
A10: Standaardnorm schoonmaakonderhoud per ruimtegroep / werkprogramma
A11: Code | B11: Ruimte omschrijving | C11: Norm (5w) | D11: Inspectiecategorie
A12: 1 | B12: Magazijnen/bergingen | C12: 0 | D12: V (Verkeersruimte)
A13: 2 | B13: Kantoren | C13: 0 | D13: B (Bureauruimte)
A14: 3 | B14: Reproruimte | C14: 0 | D14: V (Verkeersruimte)
A15: 4 | B15: Vergader/spreekkamers | C15: 0 | D15: B (Bureauruimte)
A16: 5 | B16: Sanitair | C16: 0 | D16: S (Sanitair)
A17: 6 | B17: Gangen/hallen | C17: 0 | D17: V (Verkeersruimte)
A18: 7 | B18: Entree | C18: 0 | D18: V (Verkeersruimte)
A19: 8 | B19: Mediatheek / OLC | C19: 0 | D19: L (Lesruimte)
A20: 9 | B20: Publieksruimte | C20: 0 | D20: V (Verkeersruimte)
A21: 10 | B21: Trappenhuizen/lift | C21: 0 | D21: V (Verkeersruimte)
A22: 11 | B22: Kooklokaal/leskeuken | C22: 0 | D22: L (Lesruimte)
A23: 12 | B23: Kantine | C23: 0 | D23: V (Verkeersruimte)
... A30: 19 | B30: Kleedruimten | C30: 0 | D30: V (Verkeersruimte)
A31: 20 | B31: Niet in onderhoud
A33: Aanpassing standaardnorm schoonmaakonderhoud o.b.v. vloersoort
A34: Code | B34: Naam | C34: Aanpassing norm | D34: Vloersoort omschrijving
A35: L | B35: Lino | C35: 1 | D35: Vloerafwerkingen met beschermlaag, zoals linoleum, marmoleum e.d.
A36: T | B36: Tapijt | C36: 1 | D36: Textiele vloerafwerking, zoals tapijt, schoonloopmat, flotex e.d.
A37: S | B37: Steen | C37: 1 | D37: Harde vloeren zonder zonder extra behandeling, zoals steen, beton e.d.
A38: P | B38: PVC | C38: 1 | D38: Vloeren zonder beschermlaag, die wel behandeling nodig hebben, zoals pvc e.d.
A39: H | B39: Hout | C39: 1 | D39: Vloeren zonder beschermlaag, die wel behandeling nodig hebben
A41: Aanpassing standaardnorm o.b.v. frequentie
A42: Code | B42: Frequentie omschrijving | C42: Aanpassing norm
A43: 10w | B43: 5 x per week met naloop | C43: 1
A44: 5w | B44: 5 x per week | C44: 1
A45: 4w | B45: 4 x per week | C45: 1
A46: 3w | B46: 3 x per week | C46: 1
A47: 2,5w | B47: 2,5 x per week (om-de-dag) | C47: 1
A48: 2w | B48: 2 x per week | C48: 1
A49: 1w | B49: 1 x per week | C49: 1
A50: 2ww | B50: 2 x per weekend | C50: 1
A51: 1ww | B51: 1 x per weekend | C51: 1
...

Sheet Ruimtestaat
A1: Ruimtestaat | R1: Ruimtestaat
S3: Werkdagen | Y3: Weekenddagen | AE3: Totaal (werkdagen + weekenddagen
A4: Code | B4: Locatie | C4: Adres | D4: Postcode | E4: Plaats | F4: Gebouw gedeelte | G4: Etage | H4: Ruimte- nummer | I4: Ruimte omschrijving | J4: Ruimte code | K4: Ruimtesoort | L4: Vloer code | M4: Vloer afwerking | N4: Oppervlak (netto) | O4: Oppervlakte n.i.o. | P4: Inspectie categorie | Q4: Opmerking | R4: Aantal weken/jr | S4: Frequentie werkdagen | T4: Uitvoeringen werkdagen | U4: Norm (m2/uur) werkdagen | V4: Prest. (m2 /jaar) werkdagen | W4: uren / jaar werkdagen | X4: kosten / jaar werkdagen | Y4: Frequentie weekend | Z4: Uitvoeringen weekend | AA4: Norm (m2/uur) weekend | AB4: Prest. (m2 /jaar) weekend | AC4: uren / jaar weekend | AD4: kosten / jaar weekend | AE4: Prest. (m2 /jaar) | AF4: uren / jaar | AG4: kosten / jaar
A5: 1 | B5: =VLOOKUP(Ruimtestaat[[#This Row],[Code]],Locaties[#All],2,FALSE) -> Hoofdgebouw | C5: =VLOOKUP(Ruimtestaat[[#This Row],[Code]],Locaties[#All],4,FALSE) -> Sterrenlaan 16 | D5: =VLOOKUP(Ruimtestaat[[#This Row],[Code]],Locaties[#All],5,FALSE) -> 5631 KA | E5: =VLOOKUP(Ruimtestaat[[#This Row],[Code]],Locaties[#All],6,FALSE) -> Eindhoven | G5: BG | H5: 0.01 | I5: Hoofdentree | J5: 7 | K5: =VLOOKUP(J5,Ruimtegroepen[],2,FALSE) -> Entree | L5: T | M5: schoonloopmat | N5: 9 | P5: =LEFT(VLOOKUP(Ruimtestaat[[#This Row],[Ruimte code]],Ruimtegroepen[#All],4,1),2) -> V | R5: 40 | S5: 5w | T5: =IF(R5>0,IF(RIGHT(Ruimtestaat[[#This Row],[Frequentie werkdagen]],1)="w",VALUE(LEFT(Ruimtestaat[[#This Row],[Frequentie werkdagen]],(LEN(Ruimtestaat[[#This Row],[Frequentie werkdagen]])-1))*Ruimtestaat[[#This Row],[Aantal weken/jr]]),IF(RIGHT(Ruimtestaat[[#This Row],[Frequentie werkdagen]],1)="m",VALUE(LEFT(Ruimtestaat[[#This Row],[Frequentie werkdagen]],LEN(Ruimtestaat[[#This Row],[Frequentie werkdagen]])-1)*12),VALUE(LEFT(Ruimtestaat[[#This Row],[Frequentie werkdagen]],(LEN(Ruimtestaat[[#This Row],[Frequentie werkdagen]])-1))))),0) -> 200 | U5: =IF(T5>0,VLOOKUP($J5,Ruimtegroepen[],3,FALSE)*VLOOKUP($L5,Vloersoorten[],3,FALSE)*VLOOKUP($S5,Frequenties[],3,FALSE)*VLOOKUP($A5,Locaties[],3,FALSE),0) -> 0 | V5: =Ruimtestaat[[#This Row],[Uitvoeringen werkdagen]]*Ruimtestaat[[#This Row],[Oppervlak (netto)]] -> 1800 | W5: =IF(U5>0,Ruimtestaat[[#This Row],[Prest. (m2 /jaar) werkdagen]]/Ruimtestaat[[#This Row],[Norm (m2/uur) werkdagen]],0) -> 0 | X5: =Ruimtestaat[[#This Row],[uren / jaar werkdagen]]*Tariefsopbouw!$E$35 -> 0 | Z5: =IF(Ruimtestaat[[#This Row],[Frequentie weekend]]>0,VALUE(LEFT(Y5,1))*R5,0) -> 0 | AA5: =IF($Z5>0,VLOOKUP($J5,Ruimtegroepen[],3,FALSE)*VLOOKUP($L5,Vloersoorten[],3,FALSE)*VLOOKUP($Y5,Frequenties[],3,FALSE)*VLOOKUP(#REF!,Locaties[],3,FALSE),0) -> 0 | AB5: =Ruimtestaat[[#This Row],[Uitvoeringen weekend]]*Ruimtestaat[[#This Row],[Oppervlak (netto)]] -> 0 | AC5: =IF(AB5>0,Ruimtestaat[[#This Row],[Prest. (m2 /jaar) weekend]]/Ruimtestaat[[#This Row],[Norm (m2/uur) weekend]],0) -> 0 | AD5: =Ruimtestaat[[#This Row],[uren / jaar weekend]]*Tariefsopbouw!$D$40 -> 0 | AE5: =Ruimtestaat[[#This Row],[Prest. (m2 /jaar) weekend]]+Ruimtestaat[[#This Row],[Prest. (m2 /jaar) werkdagen]] -> 1800 | AF5: =Ruimtestaat[[#This Row],[uren / jaar weekend]]+Ruimtestaat[[#This Row],[uren / jaar werkdagen]] -> 0 | AG5: =Ruimtestaat[[#This Row],[kosten / jaar weekend]]+Ruimtestaat[[#This Row],[kosten / jaar werkdagen]] -> 0
A6: 1 | B6: =VLOOKUP(Ruimtestaat[[#This Row],[Code]],Locaties[#All],2,FALSE) -> Hoofdgebouw | C6: =VLOOKUP(Ruimtestaat[[#This Row],[Code]],Locaties[#All],4,FALSE) -> Sterrenlaan 16 | D6: =VLOOKUP(Ruimtestaat[[#This Row],[Code]],Locaties[#All],5,FALSE) -> 5631 KA | E6: =VLOOKUP(Ruimtestaat[[#This Row],[Code]],Locaties[#All],6,FALSE) -> Eindhoven | G6: BG | H6: 0.02 | I6: Verkeersruimte | J6: 6 | K6: =VLOOKUP(J6,Ruimtegroepen[],2,FALSE) -> Gangen/hallen | L6: L | M6: Linoleum | N6: 119 | P6: =LEFT(VLOOKUP(Ruimtestaat[[#This Row],[Ruimte code]],Ruimtegroepen[#All],4,1),2) -> V | R6: 40 | S6: 5w | T6: =IF(R6>0,IF(RIGHT(Ruimtestaat[[#This Row],[Frequentie werkdagen]],1)="w",VALUE(LEFT(Ruimtestaat[[#This Row],[Frequentie werkdagen]],(LEN(Ruimtestaat[[#This Row],[Frequentie werkdagen]])-1))*Ruimtestaat[[#This Row],[Aantal weken/jr]]),IF(RIGHT(Ruimtestaat[[#This Row],[Frequentie werkdagen]],1)="m",VALUE(LEFT(Ruimtestaat[[#This Row],[Frequentie werkdagen]],LEN(Ruimtestaat[[#This Row],[Frequentie werkdagen]])-1)*12),VALUE(LEFT(Ruimtestaat[[#This Row],[Frequentie werkdagen]],(LEN(Ruimtestaat[[#This Row],[Frequentie werkdagen]])-1))))),0) -> 200 | U6: =IF(T6>0,VLOOKUP($J6,Ruimtegroepen[],3,FALSE)*VLOOKUP($L6,Vloersoorten[],3,FALSE)*VLOOKUP($S6,Frequenties[],3,FALSE)*VLOOKUP($A6,Locaties[],3,FALSE),0) -> 0 | V6: =Ruimtestaat[[#This Row],[Uitvoeringen werkdagen]]*Ruimtestaat[[#This Row],[Oppervlak (netto)]] -> 23800 | W6: =IF(U6>0,Ruimtestaat[[#This Row],[Prest. (m2 /jaar) werkdagen]]/Ruimtestaat[[#This Row],[Norm (m2/uur) werkdagen]],0) -> 0 | X6: =Ruimtestaat[[#This Row],[uren / jaar werkdagen]]*Tariefsopbouw!$E$35 -> 0 | Z6: =IF(Ruimtestaat[[#This Row],[Frequentie weekend]]>0,VALUE(LEFT(Y6,1))*R6,0) -> 0 | AA6: =IF($Z6>0,VLOOKUP($J6,Ruimtegroepen[],3,FALSE)*VLOOKUP($L6,Vloersoorten[],3,FALSE)*VLOOKUP($Y6,Frequenties[],3,FALSE)*VLOOKUP($A1,Locaties[],3,FALSE),0) -> 0 | AB6: =Ruimtestaat[[#This Row],[Uitvoeringen weekend]]*Ruimtestaat[[#This Row],[Oppervlak (netto)]] -> 0 | AC6: =IF(AB6>0,Ruimtestaat[[#This Row],[Prest. (m2 /jaar) weekend]]/Ruimtestaat[[#This Row],[Norm (m2/uur) weekend]],0) -> 0 | AD6: =Ruimtestaat[[#This Row],[uren / jaar weekend]]*Tariefsopbouw!$D$40 -> 0 | AE6: =Ruimtestaat[[#This Row],[Prest. (m2 /jaar) weekend]]+Ruimtestaat[[#This Row],[Prest. (m2 /jaar) werkdagen]] -> 23800 | AF6: =Ruimtestaat[[#This Row],[uren / jaar weekend]]+Ruimtestaat[[#This Row],[uren / jaar werkdagen]] -> 0 | AG6: =Ruimtestaat[[#This Row],[kosten / jaar weekend]]+Ruimtestaat[[#This Row],[kosten / jaar werkdagen]] -> 0
A7: 1 | B7: =VLOOKUP(Ruimtestaat[[#This Row],[Code]],Locaties[#All],2,FALSE) -> Hoofdgebouw | C7: =VLOOKUP(Ruimtestaat[[#This Row],[Code]],Locaties[#All],4,FALSE) -> Sterrenlaan 16 | D7: =VLOOKUP(Ruimtestaat[[#This Row],[Code]],Locaties[#All],5,FALSE) -> 5631 KA | E7: =VLOOKUP(Ruimtestaat[[#This Row],[Code]],Locaties[#All],6,FALSE) -> Eindhoven | G7: BG | H7: 0.02A | I7: Centraal Trappenhuis | J7: 10 | K7: =VLOOKUP(J7,Ruimtegroepen[],2,FALSE) -> Trappenhuizen/lift | L7: H | M7: Hout | N7: 11 | P7: =LEFT(VLOOKUP(Ruimtestaat[[#This Row],[Ruimte code]],Ruimtegroepen[#All],4,1),2) -> V | R7: 40 | S7: 5w | T7: =IF(R7>0,IF(RIGHT(Ruimtestaat[[#This Row],[Frequentie werkdagen]],1)="w",VALUE(LEFT(Ruimtestaat[[#This Row],[Frequentie werkdagen]],(LEN(Ruimtestaat[[#This Row],[Frequentie werkdagen]])-1))*Ruimtestaat[[#This Row],[Aantal weken/jr]]),IF(RIGHT(Ruimtestaat[[#This Row],[Frequentie werkdagen]],1)="m",VALUE(LEFT(Ruimtestaat[[#This Row],[Frequentie werkdagen]],LEN(Ruimtestaat[[#This Row],[Frequentie werkdagen]])-1)*12),VALUE(LEFT(Ruimtestaat[[#This Row],[Frequentie werkdagen]],(LEN(Ruimtestaat[[#This Row],[Frequentie werkdagen]])-1))))),0) -> 200 | U7: =IF(T7>0,VLOOKUP($J7,Ruimtegroepen[],3,FALSE)*VLOOKUP($L7,Vloersoorten[],3,FALSE)*VLOOKUP($S7,Frequenties[],3,FALSE)*VLOOKUP($A7,Locaties[],3,FALSE),0) -> 0 | V7: =Ruimtestaat[[#This Row],[Uitvoeringen werkdagen]]*Ruimtestaat[[#This Row],[Oppervlak (netto)]] -> 2200 | W7: =IF(U7>0,Ruimtestaat[[#This Row],[Prest. (m2 /jaar) werkdagen]]/Ruimtestaat[[#This Row],[Norm (m2/uur) werkdagen]],0) -> 0 | X7: =Ruimtestaat[[#This Row],[uren / jaar werkdagen]]*Tariefsopbouw!$E$35 -> 0 | Z7: =IF(Ruimtestaat[[#This Row],[Frequentie weekend]]>0,VALUE(LEFT(Y7,1))*R7,0) -> 0 | AA7: =IF($Z7>0,VLOOKUP($J7,Ruimtegroepen[],3,FALSE)*VLOOKUP($L7,Vloersoorten[],3,FALSE)*VLOOKUP($Y7,Frequenties[],3,FALSE)*VLOOKUP($A2,Locaties[],3,FALSE),0) -> 0 | AB7: =Ruimtestaat[[#This Row],[Uitvoeringen weekend]]*Ruimtestaat[[#This Row],[Oppervlak (netto)]] -> 0 | AC7: =IF(AB7>0,Ruimtestaat[[#This Row],[Prest. (m2 /jaar) weekend]]/Ruimtestaat[[#This Row],[Norm (m2/uur) weekend]],0) -> 0 | AD7: =Ruimtestaat[[#This Row],[uren / jaar weekend]]*Tariefsopbouw!$D$40 -> 0 | AE7: =Ruimtestaat[[#This Row],[Prest. (m2 /jaar) weekend]]+Ruimtestaat[[#This Row],[Prest. (m2 /jaar) werkdagen]] -> 2200 | AF7: =Ruimtestaat[[#This Row],[uren / jaar weekend]]+Ruimtestaat[[#This Row],[uren / jaar werkdagen]] -> 0 | AG7: =Ruimtestaat[[#This Row],[kosten / jaar weekend]]+Ruimtestaat[[#This Row],[kosten / jaar werkdagen]] -> 0
A8: 1 | B8: =VLOOKUP(Ruimtestaat[[#This Row],[Code]],Locaties[#All],2,FALSE) -> Hoofdgebouw | C8: =VLOOKUP(Ruimtestaat[[#This Row],[Code]],Locaties[#All],4,FALSE) -> Sterrenlaan 16 | D8: =VLOOKUP(Ruimtestaat[[#This Row],[Code]],Locaties[#All],5,FALSE) -> 5631 KA | E8: =VLOOKUP(Ruimtestaat[[#This Row],[Code]],Locaties[#All],6,FALSE) -> Eindhoven | G8: BG | H8: 0.03 | I8: Gang naar toiletgroep | J8: 6 | K8: =VLOOKUP(J8,Ruimtegroepen[],2,FALSE) -> Gangen/hallen | L8: L | M8: Linoleum | N8: 7 | P8: =LEFT(VLOOKUP(Ruimtestaat[[#This Row],[Ruimte code]],Ruimtegroepen[#All],4,1),2) -> V | R8: 40 | S8: 5w | T8: =IF(R8>0,IF(RIGHT(Ruimtestaat[[#This Row],[Frequentie werkdagen]],1)="w",VALUE(LEFT(Ruimtestaat[[#This Row],[Frequentie werkdagen]],(LEN(Ruimtestaat[[#This Row],[Frequentie werkdagen]])-1))*Ruimtestaat[[#This Row],[Aantal weken/jr]]),IF(RIGHT(Ruimtestaat[[#This Row],[Frequentie werkdagen]],1)="m",VALUE(LEFT(Ruimtestaat[[#This Row],[Frequentie werkdagen]],LEN(Ruimtestaat[[#This Row],[Frequentie werkdagen]])-1)*12),VALUE(LEFT(Ruimtestaat[[#This Row],[Frequentie werkdagen]],(LEN(Ruimtestaat[[#This Row],[Frequentie werkdagen]])-1))))),0) -> 200 | U8: =IF(T8>0,VLOOKUP($J8,Ruimtegroepen[],3,FALSE)*VLOOKUP($L8,Vloersoorten[],3,FALSE)*VLOOKUP($S8,Frequenties[],3,FALSE)*VLOOKUP($A8,Locaties[],3,FALSE),0) -> 0 | V8: =Ruimtestaat[[#This Row],[Uitvoeringen werkdagen]]*Ruimtestaat[[#This Row],[Oppervlak (netto)]] -> 1400 | W8: =IF(U8>0,Ruimtestaat[[#This Row],[Prest. (m2 /jaar) werkdagen]]/Ruimtestaat[[#This Row],[Norm (m2/uur) werkdagen]],0) -> 0 | X8: =Ruimtestaat[[#This Row],[uren / jaar werkdagen]]*Tariefsopbouw!$E$35 -> 0 | Z8: =IF(Ruimtestaat[[#This Row],[Frequentie weekend]]>0,VALUE(LEFT(Y8,1))*R8,0) -> 0 | AA8: =IF($Z8>0,VLOOKUP($J8,Ruimtegroepen[],3,FALSE)*VLOOKUP($L8,Vloersoorten[],3,FALSE)*VLOOKUP($Y8,Frequenties[],3,FALSE)*VLOOKUP($A3,Locaties[],3,FALSE),0) -> 0 | AB8: =Ruimtestaat[[#This Row],[Uitvoeringen weekend]]*Ruimtestaat[[#This Row],[Oppervlak (netto)]] -> 0 | AC8: =IF(AB8>0,Ruimtestaat[[#This Row],[Prest. (m2 /jaar) weekend]]/Ruimtestaat[[#This Row],[Norm (m2/uur) weekend]],0) -> 0 | AD8: =Ruimtestaat[[#This Row],[uren / jaar weekend]]*Tariefsopbouw!$D$40 -> 0 | AE8: =Ruimtestaat[[#This Row],[Prest. (m2 /jaar) weekend]]+Ruimtestaat[[#This Row],[Prest. (m2 /jaar) werkdagen]] -> 1400 | AF8: =Ruimtestaat[[#This Row],[uren / jaar weekend]]+Ruimtestaat[[#This Row],[uren / jaar werkdagen]] -> 0 | AG8: =Ruimtestaat[[#This Row],[kosten / jaar weekend]]+Ruimtestaat[[#This Row],[kosten / jaar werkdagen]] -> 0
A9: 1 | B9: =VLOOKUP(Ruimtestaat[[#This Row],[Code]],Locaties[#All],2,FALSE) -> Hoofdgebouw | C9: =VLOOKUP(Ruimtestaat[[#This Row],[Code]],Locaties[#All],4,FALSE) -> Sterrenlaan 16 | D9: =VLOOKUP(Ruimtestaat[[#This Row],[Code]],Locaties[#All],5,FALSE) -> 5631 KA | E9: =VLOOKUP(Ruimtestaat[[#This Row],[Code]],Locaties[#All],6,FALSE) -> Eindhoven | G9: BG | H9: 0.04 | I9: Toiletgroep jongens | J9: 5 | K9: =VLOOKUP(J9,Ruimtegroepen[],2,FALSE) -> Sanitair | L9: S | M9: Tegels | N9: 12 | P9: =LEFT(VLOOKUP(Ruimtestaat[[#This Row],[Ruimte code]],Ruimtegroepen[#All],4,1),2) -> S | R9: 42 | S9: 5w | T9: =IF(R9>0,IF(RIGHT(Ruimtestaat[[#This Row],[Frequentie werkdagen]],1)="w",VALUE(LEFT(Ruimtestaat[[#This Row],[Frequentie werkdagen]],(LEN(Ruimtestaat[[#This Row],[Frequentie werkdagen]])-1))*Ruimtestaat[[#This Row],[Aantal weken/jr]]),IF(RIGHT(Ruimtestaat[[#This Row],[Frequentie werkdagen]],1)="m",VALUE(LEFT(Ruimtestaat[[#This Row],[Frequentie werkdagen]],LEN(Ruimtestaat[[#This Row],[Frequentie werkdagen]])-1)*12),VALUE(LEFT(Ruimtestaat[[#This Row],[Frequentie werkdagen]],(LEN(Ruimtestaat[[#This Row],[Frequentie werkdagen]])-1))))),0) -> 210 | U9: =IF(T9>0,VLOOKUP($J9,Ruimtegroepen[],3,FALSE)*VLOOKUP($L9,Vloersoorten[],3,FALSE)*VLOOKUP($S9,Frequenties[],3,FALSE)*VLOOKUP($A9,Locaties[],3,FALSE),0) -> 0 | V9: =Ruimtestaat[[#This Row],[Uitvoeringen werkdagen]]*Ruimtestaat[[#This Row],[Oppervlak (netto)]] -> 2520 | W9: =IF(U9>0,Ruimtestaat[[#This Row],[Prest. (m2 /jaar) werkdagen]]/Ruimtestaat[[#This Row],[Norm (m2/uur) werkdagen]],0) -> 0 | X9: =Ruimtestaat[[#This Row],[uren / jaar werkdagen]]*Tariefsopbouw!$E$35 -> 0 | Z9: =IF(Ruimtestaat[[#This Row],[Frequentie weekend]]>0,VALUE(LEFT(Y9,1))*R9,0) -> 0 | AA9: =IF($Z9>0,VLOOKUP($J9,Ruimtegroepen[],3,FALSE)*VLOOKUP($L9,Vloersoorten[],3,FALSE)*VLOOKUP($Y9,Frequenties[],3,FALSE)*VLOOKUP($A4,Locaties[],3,FALSE),0) -> 0 | AB9: =Ruimtestaat[[#This Row],[Uitvoeringen weekend]]*Ruimtestaat[[#This Row],[Oppervlak (netto)]] -> 0 | AC9: =IF(AB9>0,Ruimtestaat[[#This Row],[Prest. (m2 /jaar) weekend]]/Ruimtestaat[[#This Row],[Norm (m2/uur) weekend]],0) -> 0 | AD9: =Ruimtestaat[[#This Row],[uren / jaar weekend]]*Tariefsopbouw!$D$40 -> 0 | AE9: =Ruimtestaat[[#This Row],[Prest. (m2 /jaar) weekend]]+Ruimtestaat[[#This Row],[Prest. (m2 /jaar) werkdagen]] -> 2520 | AF9: =Ruimtestaat[[#This Row],[uren / jaar weekend]]+Ruimtestaat[[#This Row],[uren / jaar werkdagen]] -> 0 | AG9: =Ruimtestaat[[#This Row],[kosten / jaar weekend]]+Ruimtestaat[[#This Row],[kosten / jaar werkdagen]] -> 0
A10: 1 | B10: =VLOOKUP(Ruimtestaat[[#This Row],[Code]],Locaties[#All],2,FALSE) -> Hoofdgebouw | C10: =VLOOKUP(Ruimtestaat[[#This Row],[Code]],Locaties[#All],4,FALSE) -> Sterrenlaan 16 | D10: =VLOOKUP(Ruimtestaat[[#This Row],[Code]],Locaties[#All],5,FALSE) -> 5631 KA | E10: =VLOOKUP(Ruimtestaat[[#This Row],[Code]],Locaties[#All],6,FALSE) -> Eindhoven | G10: BG | H10: 0.05 | I10: Toiletgroep meisjes | J10: 5 | K10: =VLOOKUP(J10,Ruimtegroepen[],2,FALSE) -> Sanitair | L10: S | M10: Tegels | N10: 13 | P10: =LEFT(VLOOKUP(Ruimtestaat[[#This Row],[Ruimte code]],Ruimtegroepen[#All],4,1),2) -> S | R10: 42 | S10: 5w | T10: =IF(R10>0,IF(RIGHT(Ruimtestaat[[#This Row],[Frequentie werkdagen]],1)="w",VALUE(LEFT(Ruimtestaat[[#This Row],[Frequentie werkdagen]],(LEN(Ruimtestaat[[#This Row],[Frequentie werkdagen]])-1))*Ruimtestaat[[#This Row],[Aantal weken/jr]]),IF(RIGHT(Ruimtestaat[[#This Row],[Frequentie werkdagen]],1)="m",VALUE(LEFT(Ruimtestaat[[#This Row],[Frequentie werkdagen]],LEN(Ruimtestaat[[#This Row],[Frequentie werkdagen]])-1)*12),VALUE(LEFT(Ruimtestaat[[#This Row],[Frequentie werkdagen]],(LEN(Ruimtestaat[[#This Row],[Frequentie werkdagen]])-1))))),0) -> 210 | U10: =IF(T10>0,VLOOKUP($J10,Ruimtegroepen[],3,FALSE)*VLOOKUP($L10,Vloersoorten[],3,FALSE)*VLOOKUP($S10,Frequenties[],3,FALSE)*VLOOKUP($A10,Locaties[],3,FALSE),0) -> 0 | V10: =Ruimtestaat[[#This Row],[Uitvoeringen werkdagen]]*Ruimtestaat[[#This Row],[Oppervlak (netto)]] -> 2730 | W10: =IF(U10>0,Ruimtestaat[[#This Row],[Prest. (m2 /jaar) werkdagen]]/Ruimtestaat[[#This Row],[Norm (m2/uur) werkdagen]],0) -> 0 | X10: =Ruimtestaat[[#This Row],[uren / jaar werkdagen]]*Tariefsopbouw!$E$35 -> 0 | Z10: =IF(Ruimtestaat[[#This Row],[Frequentie weekend]]>0,VALUE(LEFT(Y10,1))*R10,0) -> 0 | AA10: =IF($Z10>0,VLOOKUP($J10,Ruimtegroepen[],3,FALSE)*VLOOKUP($L10,Vloersoorten[],3,FALSE)*VLOOKUP($Y10,Frequenties[],3,FALSE)*VLOOKUP($A6,Locaties[],3,FALSE),0) -> 0 | AB10: =Ruimtestaat[[#This Row],[Uitvoeringen weekend]]*Ruimtestaat[[#This Row],[Oppervlak (netto)]] -> 0 | AC10: =IF(AB10>0,Ruimtestaat[[#This Row],[Prest. (m2 /jaar) weekend]]/Ruimtestaat[[#This Row],[Norm (m2/uur) weekend]],0) -> 0 | AD10: =Ruimtestaat[[#This Row],[uren / jaar weekend]]*Tariefsopbouw!$D$40 -> 0 | AE10: =Ruimtestaat[[#This Row],[Prest. (m2 /jaar) weekend]]+Ruimtestaat[[#This Row],[Prest. (m2 /jaar) werkdagen]] -> 2730 | AF10: =Ruimtestaat[[#This Row],[uren / jaar weekend]]+Ruimtestaat[[#This Row],[uren / jaar werkdagen]] -> 0 | AG10: =Ruimtestaat[[#This Row],[kosten / jaar weekend]]+Ruimtestaat[[#This Row],[kosten / jaar werkdagen]] -> 0
A11: 1 | B11: =VLOOKUP(Ruimtestaat[[#This Row],[Code]],Locaties[#All],2,FALSE) -> Hoofdgebouw | C11: =VLOOKUP(Ruimtestaat[[#This Row],[Code]],Locaties[#All],4,FALSE) -> Sterrenlaan 16 | D11: =VLOOKUP(Ruimtestaat[[#This Row],[Code]],Locaties[#All],5,FALSE) -> 5631 KA | E11: =VLOOKUP(Ruimtestaat[[#This Row],[Code]],Locaties[#All],6,FALSE) -> Eindhoven | G11: BG | H11: 0.06 | I11: Werkkast | J11: 20 | K11: =VLOOKUP(J11,Ruimtegroepen[],2,FALSE) -> Niet in onderhoud | O11: 2 | P11: =LEFT(VLOOKUP(Ruimtestaat[[#This Row],[Ruimte code]],Ruimtegroepen[#All],4,1),2) | T11: =IF(R11>0,IF(RIGHT(Ruimtestaat[[#This Row],[Frequentie werkdagen]],1)="w",VALUE(LEFT(Ruimtestaat[[#This Row],[Frequentie werkdagen]],(LEN(Ruimtestaat[[#This Row],[Frequentie werkdagen]])-1))*Ruimtestaat[[#This Row],[Aantal weken/jr]]),IF(RIGHT(Ruimtestaat[[#This Row],[Frequentie werkdagen]],1)="m",VALUE(LEFT(Ruimtestaat[[#This Row],[Frequentie werkdagen]],LEN(Ruimtestaat[[#This Row],[Frequentie werkdagen]])-1)*12),VALUE(LEFT(Ruimtestaat[[#This Row],[Frequentie werkdagen]],(LEN(Ruimtestaat[[#This Row],[Frequentie werkdagen]])-1))))),0) -> 0 | U11: =IF(T11>0,VLOOKUP($J11,Ruimtegroepen[],3,FALSE)*VLOOKUP($L11,Vloersoorten[],3,FALSE)*VLOOKUP($S11,Frequenties[],3,FALSE)*VLOOKUP($A11,Locaties[],3,FALSE),0) -> 0 | V11: =Ruimtestaat[[#This Row],[Uitvoeringen werkdagen]]*Ruimtestaat[[#This Row],[Oppervlak (netto)]] -> 0 | W11: =IF(U11>0,Ruimtestaat[[#This Row],[Prest. (m2 /jaar) werkdagen]]/Ruimtestaat[[#This Row],[Norm (m2/uur) werkdagen]],0) -> 0 | X11: =Ruimtestaat[[#This Row],[uren / jaar werkdagen]]*Tariefsopbouw!$E$35 -> 0 | Z11: =IF(Ruimtestaat[[#This Row],[Frequentie weekend]]>0,VALUE(LEFT(Y11,1))*R11,0) -> 0 | AA11: =IF($Z11>0,VLOOKUP($J11,Ruimtegroepen[],3,FALSE)*VLOOKUP($L11,Vloersoorten[],3,FALSE)*VLOOKUP($Y11,Frequenties[],3,FALSE)*VLOOKUP($A7,Locaties[],3,FALSE),0) -> 0 | AB11: =Ruimtestaat[[#This Row],[Uitvoeringen weekend]]*Ruimtestaat[[#This Row],[Oppervlak (netto)]] -> 0 | AC11: =IF(AB11>0,Ruimtestaat[[#This Row],[Prest. (m2 /jaar) weekend]]/Ruimtestaat[[#This Row],[Norm (m2/uur) weekend]],0) -> 0 | AD11: =Ruimtestaat[[#This Row],[uren / jaar weekend]]*Tariefsopbouw!$D$40 -> 0 | AE11: =Ruimtestaat[[#This Row],[Prest. (m2 /jaar) weekend]]+Ruimtestaat[[#This Row],[Prest. (m2 /jaar) werkdagen]] -> 0 | AF11: =Ruimtestaat[[#This Row],[uren / jaar weekend]]+Ruimtestaat[[#This Row],[uren / jaar werkdagen]] -> 0 | AG11: =Ruimtestaat[[#This Row],[kosten / jaar weekend]]+Ruimtestaat[[#This Row],[kosten / jaar werkdagen]] -> 0
A12: 1 | B12: =VLOOKUP(Ruimtestaat[[#This Row],[Code]],Locaties[#All],2,FALSE) -> Hoofdgebouw | C12: =VLOOKUP(Ruimtestaat[[#This Row],[Code]],Locaties[#All],4,FALSE) -> Sterrenlaan 16 | D12: =VLOOKUP(Ruimtestaat[[#This Row],[Code]],Locaties[#All],5,FALSE) -> 5631 KA | E12: =VLOOKUP(Ruimtestaat[[#This Row],[Code]],Locaties[#All],6,FALSE) -> Eindhoven | G12: BG | H12: 0.07 | I12: Lift | J12: 10 | K12: =VLOOKUP(J12,Ruimtegroepen[],2,FALSE) -> Trappenhuizen/lift | L12: P | M12: Rubber | N12: 2 | P12: =LEFT(VLOOKUP(Ruimtestaat[[#This Row],[Ruimte code]],Ruimtegroepen[#All],4,1),2) -> V | R12: 40 | S12: 5w | T12: =IF(R12>0,IF(RIGHT(Ruimtestaat[[#This Row],[Frequentie werkdagen]],1)="w",VALUE(LEFT(Ruimtestaat[[#This Row],[Frequentie werkdagen]],(LEN(Ruimtestaat[[#This Row],[Frequentie werkdagen]])-1))*Ruimtestaat[[#This Row],[Aantal weken/jr]]),IF(RIGHT(Ruimtestaat[[#This Row],[Frequentie werkdagen]],1)="m",VALUE(LEFT(Ruimtestaat[[#This Row],[Frequentie werkdagen]],LEN(Ruimtestaat[[#This Row],[Frequentie werkdagen]])-1)*12),VALUE(LEFT(Ruimtestaat[[#This Row],[Frequentie werkdagen]],(LEN(Ruimtestaat[[#This Row],[Frequentie werkdagen]])-1))))),0) -> 200 | U12: =IF(T12>0,VLOOKUP($J12,Ruimtegroepen[],3,FALSE)*VLOOKUP($L12,Vloersoorten[],3,FALSE)*VLOOKUP($S12,Frequenties[],3,FALSE)*VLOOKUP($A12,Locaties[],3,FALSE),0) -> 0 | V12: =Ruimtestaat[[#This Row],[Uitvoeringen werkdagen]]*Ruimtestaat[[#This Row],[Oppervlak (netto)]] -> 400 | W12: =IF(U12>0,Ruimtestaat[[#This Row],[Prest. (m2 /jaar) werkdagen]]/Ruimtestaat[[#This Row],[Norm (m2/uur) werkdagen]],0) -> 0 | X12: =Ruimtestaat[[#This Row],[uren / jaar werkdagen]]*Tariefsopbouw!$E$35 -> 0 | Z12: =IF(Ruimtestaat[[#This Row],[Frequentie weekend]]>0,VALUE(LEFT(Y12,1))*R12,0) -> 0 | AA12: =IF($Z12>0,VLOOKUP($J12,Ruimtegroepen[],3,FALSE)*VLOOKUP($L12,Vloersoorten[],3,FALSE)*VLOOKUP($Y12,Frequenties[],3,FALSE)*VLOOKUP($A8,Locaties[],3,FALSE),0) -> 0 | AB12: =Ruimtestaat[[#This Row],[Uitvoeringen weekend]]*Ruimtestaat[[#This Row],[Oppervlak (netto)]] -> 0 | AC12: =IF(AB12>0,Ruimtestaat[[#This Row],[Prest. (m2 /jaar) weekend]]/Ruimtestaat[[#This Row],[Norm (m2/uur) weekend]],0) -> 0 | AD12: =Ruimtestaat[[#This Row],[uren / jaar weekend]]*Tariefsopbouw!$D$40 -> 0 | AE12: =Ruimtestaat[[#This Row],[Prest. (m2 /jaar) weekend]]+Ruimtestaat[[#This Row],[Prest. (m2 /jaar) werkdagen]] -> 400 | AF12: =Ruimtestaat[[#This Row],[uren / jaar weekend]]+Ruimtestaat[[#This Row],[uren / jaar werkdagen]] -> 0 | AG12: =Ruimtestaat[[#This Row],[kosten / jaar weekend]]+Ruimtestaat[[#This Row],[kosten / jaar werkdagen]] -> 0
A13: 1 | B13: =VLOOKUP(Ruimtestaat[[#This Row],[Code]],Locaties[#All],2,FALSE) -> Hoofdgebouw | C13: =VLOOKUP(Ruimtestaat[[#This Row],[Code]],Locaties[#All],4,FALSE) -> Sterrenlaan 16 | D13: =VLOOKUP(Ruimtestaat[[#This Row],[Code]],Locaties[#All],5,FALSE) -> 5631 KA | E13: =VLOOKUP(Ruimtestaat[[#This Row],[Code]],Locaties[#All],6,FALSE) -> Eindhoven | G13: BG | H13: 0.08 | I13: Verkeersruimte | J13: 6 | K13: =VLOOKUP(J13,Ruimtegroepen[],2,FALSE) -> Gangen/hallen | L13: L | M13: Linoleum | N13: 160 | P13: =LEFT(VLOOKUP(Ruimtestaat[[#This Row],[Ruimte code]],Ruimtegroepen[#All],4,1),2) -> V | R13: 40 | S13: 5w | T13: =IF(R13>0,IF(RIGHT(Ruimtestaat[[#This Row],[Frequentie werkdagen]],1)="w",VALUE(LEFT(Ruimtestaat[[#This Row],[Frequentie werkdagen]],(LEN(Ruimtestaat[[#This Row],[Frequentie werkdagen]])-1))*Ruimtestaat[[#This Row],[Aantal weken/jr]]),IF(RIGHT(Ruimtestaat[[#This Row],[Frequentie werkdagen]],1)="m",VALUE(LEFT(Ruimtestaat[[#This Row],[Frequentie werkdagen]],LEN(Ruimtestaat[[#This Row],[Frequentie werkdagen]])-1)*12),VALUE(LEFT(Ruimtestaat[[#This Row],[Frequentie werkdagen]],(LEN(Ruimtestaat[[#This Row],[Frequentie werkdagen]])-1))))),0) -> 200 | U13: =IF(T13>0,VLOOKUP($J13,Ruimtegroepen[],3,FALSE)*VLOOKUP($L13,Vloersoorten[],3,FALSE)*VLOOKUP($S13,Frequenties[],3,FALSE)*VLOOKUP($A13,Locaties[],3,FALSE),0) -> 0 | V13: =Ruimtestaat[[#This Row],[Uitvoeringen werkdagen]]*Ruimtestaat[[#This Row],[Oppervlak (netto)]] -> 32000 | W13: =IF(U13>0,Ruimtestaat[[#This Row],[Prest. (m2 /jaar) werkdagen]]/Ruimtestaat[[#This Row],[Norm (m2/uur) werkdagen]],0) -> 0 | X13: =Ruimtestaat[[#This Row],[uren / jaar werkdagen]]*Tariefsopbouw!$E$35 -> 0 | Z13: =IF(Ruimtestaat[[#This Row],[Frequentie weekend]]>0,VALUE(LEFT(Y13,1))*R13,0) -> 0 | AA13: =IF($Z13>0,VLOOKUP($J13,Ruimtegroepen[],3,FALSE)*VLOOKUP($L13,Vloersoorten[],3,FALSE)*VLOOKUP($Y13,Frequenties[],3,FALSE)*VLOOKUP($A9,Locaties[],3,FALSE),0) -> 0 | AB13: =Ruimtestaat[[#This Row],[Uitvoeringen weekend]]*Ruimtestaat[[#This Row],[Oppervlak (netto)]] -> 0 | AC13: =IF(AB13>0,Ruimtestaat[[#This Row],[Prest. (m2 /jaar) weekend]]/Ruimtestaat[[#This Row],[Norm (m2/uur) weekend]],0) -> 0 | AD13: =Ruimtestaat[[#This Row],[uren / jaar weekend]]*Tariefsopbouw!$D$40 -> 0 | AE13: =Ruimtestaat[[#This Row],[Prest. (m2 /jaar) weekend]]+Ruimtestaat[[#This Row],[Prest. (m2 /jaar) werkdagen]] -> 32000 | AF13: =Ruimtestaat[[#This Row],[uren / jaar weekend]]+Ruimtestaat[[#This Row],[uren / jaar werkdagen]] -> 0 | AG13: =Ruimtestaat[[#This Row],[kosten / jaar weekend]]+Ruimtestaat[[#This Row],[kosten / jaar werkdagen]] -> 0
A14: 1 | B14: =VLOOKUP(Ruimtestaat[[#This Row],[Code]],Locaties[#All],2,FALSE) -> Hoofdgebouw | C14: =VLOOKUP(Ruimtestaat[[#This Row],[Code]],Locaties[#All],4,FALSE) -> Sterrenlaan 16 | D14: =VLOOKUP(Ruimtestaat[[#This Row],[Code]],Locaties[#All],5,FALSE) -> 5631 KA | E14: =VLOOKUP(Ruimtestaat[[#This Row],[Code]],Locaties[#All],6,FALSE) -> Eindhoven | G14: BG | H14: 0.09 | I14: Trappenhuis | J14: 10 | K14: =VLOOKUP(J14,Ruimtegroepen[],2,FALSE) -> Trappenhuizen/lift | L14: T | M14: Tapijt | N14: 21 | P14: =LEFT(VLOOKUP(Ruimtestaat[[#This Row],[Ruimte code]],Ruimtegroepen[#All],4,1),2) -> V | R14: 40 | S14: 5w | T14: =IF(R14>0,IF(RIGHT(Ruimtestaat[[#This Row],[Frequentie werkdagen]],1)="w",VALUE(LEFT(Ruimtestaat[[#This Row],[Frequentie werkdagen]],(LEN(Ruimtestaat[[#This Row],[Frequentie werkdagen]])-1))*Ruimtestaat[[#This Row],[Aantal weken/jr]]),IF(RIGHT(Ruimtestaat[[#This Row],[Frequentie werkdagen]],1)="m",VALUE(LEFT(Ruimtestaat[[#This Row],[Frequentie werkdagen]],LEN(Ruimtestaat[[#This Row],[Frequentie werkdagen]])-1)*12),VALUE(LEFT(Ruimtestaat[[#This Row],[Frequentie werkdagen]],(LEN(Ruimtestaat[[#This Row],[Frequentie werkdagen]])-1))))),0) -> 200 | U14: =IF(T14>0,VLOOKUP($J14,Ruimtegroepen[],3,FALSE)*VLOOKUP($L14,Vloersoorten[],3,FALSE)*VLOOKUP($S14,Frequenties[],3,FALSE)*VLOOKUP($A14,Locaties[],3,FALSE),0) -> 0 | V14: =Ruimtestaat[[#This Row],[Uitvoeringen werkdagen]]*Ruimtestaat[[#This Row],[Oppervlak (netto)]] -> 4200 | W14: =IF(U14>0,Ruimtestaat[[#This Row],[Prest. (m2 /jaar) werkdagen]]/Ruimtestaat[[#This Row],[Norm (m2/uur) werkdagen]],0) -> 0 | X14: =Ruimtestaat[[#This Row],[uren / jaar werkdagen]]*Tariefsopbouw!$E$35 -> 0 | Z14: =IF(Ruimtestaat[[#This Row],[Frequentie weekend]]>0,VALUE(LEFT(Y14,1))*R14,0) -> 0 | AA14: =IF($Z14>0,VLOOKUP($J14,Ruimtegroepen[],3,FALSE)*VLOOKUP($L14,Vloersoorten[],3,FALSE)*VLOOKUP($Y14,Frequenties[],3,FALSE)*VLOOKUP($A10,Locaties[],3,FALSE),0) -> 0 | AB14: =Ruimtestaat[[#This Row],[Uitvoeringen weekend]]*Ruimtestaat[[#This Row],[Oppervlak (netto)]] -> 0 | AC14: =IF(AB14>0,Ruimtestaat[[#This Row],[Prest. (m2 /jaar) weekend]]/Ruimtestaat[[#This Row],[Norm (m2/uur) weekend]],0) -> 0 | AD14: =Ruimtestaat[[#This Row],[uren / jaar weekend]]*Tariefsopbouw!$D$40 -> 0 | AE14: =Ruimtestaat[[#This Row],[Prest. (m2 /jaar) weekend]]+Ruimtestaat[[#This Row],[Prest. (m2 /jaar) werkdagen]] -> 4200 | AF14: =Ruimtestaat[[#This Row],[uren / jaar weekend]]+Ruimtestaat[[#This Row],[uren / jaar werkdagen]] -> 0 | AG14: =Ruimtestaat[[#This Row],[kosten / jaar weekend]]+Ruimtestaat[[#This Row],[kosten / jaar werkdagen]] -> 0
A15: 1 | B15: =VLOOKUP(Ruimtestaat[[#This Row],[Code]],Locaties[#All],2,FALSE) -> Hoofdgebouw | C15: =VLOOKUP(Ruimtestaat[[#This Row],[Code]],Locaties[#All],4,FALSE) -> Sterrenlaan 16 | D15: =VLOOKUP(Ruimtestaat[[#This Row],[Code]],Locaties[#All],5,FALSE) -> 5631 KA | E15: =VLOOKUP(Ruimtestaat[[#This Row],[Code]],Locaties[#All],6,FALSE) -> Eindhoven | G15: BG | H15: 0.09A | I15: Trap | J15: 10 | K15: =VLOOKUP(J15,Ruimtegroepen[],2,FALSE) -> Trappenhuizen/lift | L15: H | M15: hout | N15: 5 | P15: =LEFT(VLOOKUP(Ruimtestaat[[#This Row],[Ruimte code]],Ruimtegroepen[#All],4,1),2) -> V | R15: 40 | S15: 5w | T15: =IF(R15>0,IF(RIGHT(Ruimtestaat[[#This Row],[Frequentie werkdagen]],1)="w",VALUE(LEFT(Ruimtestaat[[#This Row],[Frequentie werkdagen]],(LEN(Ruimtestaat[[#This Row],[Frequentie werkdagen]])-1))*Ruimtestaat[[#This Row],[Aantal weken/jr]]),IF(RIGHT(Ruimtestaat[[#This Row],[Frequentie werkdagen]],1)="m",VALUE(LEFT(Ruimtestaat[[#This Row],[Frequentie werkdagen]],LEN(Ruimtestaat[[#This Row],[Frequentie werkdagen]])-1)*12),VALUE(LEFT(Ruimtestaat[[#This Row],[Frequentie werkdagen]],(LEN(Ruimtestaat[[#This Row],[Frequentie werkdagen]])-1))))),0) -> 200 | U15: =IF(T15>0,VLOOKUP($J15,Ruimtegroepen[],3,FALSE)*VLOOKUP($L15,Vloersoorten[],3,FALSE)*VLOOKUP($S15,Frequenties[],3,FALSE)*VLOOKUP($A15,Locaties[],3,FALSE),0) -> 0 | V15: =Ruimtestaat[[#This Row],[Uitvoeringen werkdagen]]*Ruimtestaat[[#This Row],[Oppervlak (netto)]] -> 1000 | W15: =IF(U15>0,Ruimtestaat[[#This Row],[Prest. (m2 /jaar) werkdagen]]/Ruimtestaat[[#This Row],[Norm (m2/uur) werkdagen]],0) -> 0 | X15: =Ruimtestaat[[#This Row],[uren / jaar werkdagen]]*Tariefsopbouw!$E$35 -> 0 | Z15: =IF(Ruimtestaat[[#This Row],[Frequentie weekend]]>0,VALUE(LEFT(Y15,1))*R15,0) -> 0 | AA15: =IF($Z15>0,VLOOKUP($J15,Ruimtegroepen[],3,FALSE)*VLOOKUP($L15,Vloersoorten[],3,FALSE)*VLOOKUP($Y15,Frequenties[],3,FALSE)*VLOOKUP($A11,Locaties[],3,FALSE),0) -> 0 | AB15: =Ruimtestaat[[#This Row],[Uitvoeringen weekend]]*Ruimtestaat[[#This Row],[Oppervlak (netto)]] -> 0 | AC15: =IF(AB15>0,Ruimtestaat[[#This Row],[Prest. (m2 /jaar) weekend]]/Ruimtestaat[[#This Row],[Norm (m2/uur) weekend]],0) -> 0 | AD15: =Ruimtestaat[[#This Row],[uren / jaar weekend]]*Tariefsopbouw!$D$40 -> 0 | AE15: =Ruimtestaat[[#This Row],[Prest. (m2 /jaar) weekend]]+Ruimtestaat[[#This Row],[Prest. (m2 /jaar) werkdagen]] -> 1000 | AF15: =Ruimtestaat[[#This Row],[uren / jaar weekend]]+Ruimtestaat[[#This Row],[uren / jaar werkdagen]] -> 0 | AG15: =Ruimtestaat[[#This Row],[kosten / jaar weekend]]+Ruimtestaat[[#This Row],[kosten / jaar werkdagen]] -> 0
A16: 1 | B16: =VLOOKUP(Ruimtestaat[[#This Row],[Code]],Locaties[#All],2,FALSE) -> Hoofdgebouw | C16: =VLOOKUP(Ruimtestaat[[#This Row],[Code]],Locaties[#All],4,FALSE) -> Sterrenlaan 16 | D16: =VLOOKUP(Ruimtestaat[[#This Row],[Code]],Locaties[#All],5,FALSE) -> 5631 KA | E16: =VLOOKUP(Ruimtestaat[[#This Row],[Code]],Locaties[#All],6,FALSE) -> Eindhoven | G16: BG | H16: 0.10 | I16: Trappenhuis | J16: 10 | K16: =VLOOKUP(J16,Ruimtegroepen[],2,FALSE) -> Trappenhuizen/lift | L16: T | M16: Tapijt | N16: 28 | P16: =LEFT(VLOOKUP(Ruimtestaat[[#This Row],[Ruimte code]],Ruimtegroepen[#All],4,1),2) -> V | R16: 40 | S16: 5w | T16: =IF(R16>0,IF(RIGHT(Ruimtestaat[[#This Row],[Frequentie werkdagen]],1)="w",VALUE(LEFT(Ruimtestaat[[#This Row],[Frequentie werkdagen]],(LEN(Ruimtestaat[[#This Row],[Frequentie werkdagen]])-1))*Ruimtestaat[[#This Row],[Aantal weken/jr]]),IF(RIGHT(Ruimtestaat[[#This Row],[Frequentie werkdagen]],1)="m",VALUE(LEFT(Ruimtestaat[[#This Row],[Frequentie werkdagen]],LEN(Ruimtestaat[[#This Row],[Frequentie werkdagen]])-1)*12),VALUE(LEFT(Ruimtestaat[[#This Row],[Frequentie werkdagen]],(LEN(Ruimtestaat[[#This Row],[Frequentie werkdagen]])-1))))),0) -> 200 | U16: =IF(T16>0,VLOOKUP($J16,Ruimtegroepen[],3,FALSE)*VLOOKUP($L16,Vloersoorten[],3,FALSE)*VLOOKUP($S16,Frequenties[],3,FALSE)*VLOOKUP($A16,Locaties[],3,FALSE),0) -> 0 | V16: =Ruimtestaat[[#This Row],[Uitvoeringen werkdagen]]*Ruimtestaat[[#This Row],[Oppervlak (netto)]] -> 5600 | W16: =IF(U16>0,Ruimtestaat[[#This Row],[Prest. (m2 /jaar) werkdagen]]/Ruimtestaat[[#This Row],[Norm (m2/uur) werkdagen]],0) -> 0 | X16: =Ruimtestaat[[#This Row],[uren / jaar werkdagen]]*Tariefsopbouw!$E$35 -> 0 | Z16: =IF(Ruimtestaat[[#This Row],[Frequentie weekend]]>0,VALUE(LEFT(Y16,1))*R16,0) -> 0 | AA16: =IF($Z16>0,VLOOKUP($J16,Ruimtegroepen[],3,FALSE)*VLOOKUP($L16,Vloersoorten[],3,FALSE)*VLOOKUP($Y16,Frequenties[],3,FALSE)*VLOOKUP($A12,Locaties[],3,FALSE),0) -> 0 | AB16: =Ruimtestaat[[#This Row],[Uitvoeringen weekend]]*Ruimtestaat[[#This Row],[Oppervlak (netto)]] -> 0 | AC16: =IF(AB16>0,Ruimtestaat[[#This Row],[Prest. (m2 /jaar) weekend]]/Ruimtestaat[[#This Row],[Norm (m2/uur) weekend]],0) -> 0 | AD16: =Ruimtestaat[[#This Row],[uren / jaar weekend]]*Tariefsopbouw!$D$40 -> 0 | AE16: =Ruimtestaat[[#This Row],[Prest. (m2 /jaar) weekend]]+Ruimtestaat[[#This Row],[Prest. (m2 /jaar) werkdagen]] -> 5600 | AF16: =Ruimtestaat[[#This Row],[uren / jaar weekend]]+Ruimtestaat[[#This Row],[uren / jaar werkdagen]] -> 0 | AG16: =Ruimtestaat[[#This Row],[kosten / jaar weekend]]+Ruimtestaat[[#This Row],[kosten / jaar werkdagen]] -> 0
A17: 1 | B17: =VLOOKUP(Ruimtestaat[[#This Row],[Code]],Locaties[#All],2,FALSE) -> Hoofdgebouw | C17: =VLOOKUP(Ruimtestaat[[#This Row],[Code]],Locaties[#All],4,FALSE) -> Sterrenlaan 16 | D17: =VLOOKUP(Ruimtestaat[[#This Row],[Code]],Locaties[#All],5,FALSE) -> 5631 KA | E17: =VLOOKUP(Ruimtestaat[[#This Row],[Code]],Locaties[#All],6,FALSE) -> Eindhoven | G17: BG | H17: 0.10A | I17: Trap | J17: 10 | K17: =VLOOKUP(J17,Ruimtegroepen[],2,FALSE) -> Trappenhuizen/lift | L17: H | M17: Hout | N17: 5 | P17: =LEFT(VLOOKUP(Ruimtestaat[[#This Row],[Ruimte code]],Ruimtegroepen[#All],4,1),2) -> V | R17: 40 | S17: 5w | T17: =IF(R17>0,IF(RIGHT(Ruimtestaat[[#This Row],[Frequentie werkdagen]],1)="w",VALUE(LEFT(Ruimtestaat[[#This Row],[Frequentie werkdagen]],(LEN(Ruimtestaat[[#This Row],[Frequentie werkdagen]])-1))*Ruimtestaat[[#This Row],[Aantal weken/jr]]),IF(RIGHT(Ruimtestaat[[#This Row],[Frequentie werkdagen]],1)="m",VALUE(LEFT(Ruimtestaat[[#This Row],[Frequentie werkdagen]],LEN(Ruimtestaat[[#This Row],[Frequentie werkdagen]])-1)*12),VALUE(LEFT(Ruimtestaat[[#This Row],[Frequentie werkdagen]],(LEN(Ruimtestaat[[#This Row],[Frequentie werkdagen]])-1))))),0) -> 200 | U17: =IF(T17>0,VLOOKUP($J17,Ruimtegroepen[],3,FALSE)*VLOOKUP($L17,Vloersoorten[],3,FALSE)*VLOOKUP($S17,Frequenties[],3,FALSE)*VLOOKUP($A17,Locaties[],3,FALSE),0) -> 0 | V17: =Ruimtestaat[[#This Row],[Uitvoeringen werkdagen]]*Ruimtestaat[[#This Row],[Oppervlak (netto)]] -> 1000 | W17: =IF(U17>0,Ruimtestaat[[#This Row],[Prest. (m2 /jaar) werkdagen]]/Ruimtestaat[[#This Row],[Norm (m2/uur) werkdagen]],0) -> 0 | X17: =Ruimtestaat[[#This Row],[uren / jaar werkdagen]]*Tariefsopbouw!$E$35 -> 0 | Z17: =IF(Ruimtestaat[[#This Row],[Frequentie weekend]]>0,VALUE(LEFT(Y17,1))*R17,0) -> 0 | AA17: =IF($Z17>0,VLOOKUP($J17,Ruimtegroepen[],3,FALSE)*VLOOKUP($L17,Vloersoorten[],3,FALSE)*VLOOKUP($Y17,Frequenties[],3,FALSE)*VLOOKUP($A13,Locaties[],3,FALSE),0) -> 0 | AB17: =Ruimtestaat[[#This Row],[Uitvoeringen weekend]]*Ruimtestaat[[#This Row],[Oppervlak (netto)]] -> 0 | AC17: =IF(AB17>0,Ruimtestaat[[#This Row],[Prest. (m2 /jaar) weekend]]/Ruimtestaat[[#This Row],[Norm (m2/uur) weekend]],0) -> 0 | AD17: =Ruimtestaat[[#This Row],[uren / jaar weekend]]*Tariefsopbouw!$D$40 -> 0 | AE17: =Ruimtestaat[[#This Row],[Prest. (m2 /jaar) weekend]]+Ruimtestaat[[#This Row],[Prest. (m2 /jaar) werkdagen]] -> 1000 | AF17: =Ruimtestaat[[#This Row],[uren / jaar weekend]]+Ruimtestaat[[#This Row],[uren / jaar werkdagen]] -> 0 | AG17: =Ruimtestaat[[#This Row],[kosten / jaar weekend]]+Ruimtestaat[[#This Row],[kosten / jaar werkdagen]] -> 0
