Workbook

Sheet 1. Inschrijfsom
A1: Tabblad 1: Inschrijfsom
A3: Dit prijzenblad bestaat uit een vijftal tabbladen. Alleen het tweede tot en met vijfde tabblad dient ingevuld te worden. Dit tabblad wordt automatisch ingevuld.
A4: Inschrijver dient alleen de GROENE velden in te vullen en bedragen af te ronden op 2 cijfers achter de komma.
A5: Alle GEEL gearceerde cellen worden automatisch gevuld en zijn daarom beveiligd. Het is niet toegestaan de formules in deze cellen aan te passen, te verwijderen, of anderszins te wijzigen
A6: Indien in het PvE componenten of werkzaamheden zijn genoemd als onderdeel van een levering of installatie dan dienen deze onderdeel te zijn van in dit formulier te benoemen prijzen.
A7: De eisen uit het PvE zijn leidend in geval van tegenstrijdigheid. Aanvullende teksten in dit Prijzenblad zijn wel van toepassing.
A8: De in dit document opgegeven prijzen zullen worden gehanteerd gedurende de looptijd van het contract, eventueel opgehoogd o.b.v. indexering onder voorwaarden zoals genoemd in het PvE of Overeenkomst.
A10: TOTAAL | E10: Bedrag
B11: Eenheidsprijzen | E11: ='2. Eenheidsprijzen'!C102 -> 0
B12: Implementatiefase | E12: ='3. Implementatiefase'!E52 -> 0
B13: Beheer- en Onderhoudsfase gedurende 8 jaar (incl. optionele verlenging en optionele afname) | E13: ='4. Beheer- en Onderhoudsfase'!E23 -> 0
B14: Totale inschrijfsom | E14: =SUM(E11:E13) -> 0

Sheet 2. Eenheidsprijzen
A1: Tabblad 2 Eenheidsprijzen met fictieve aantallen
A2: Indien in het PvE componenten, eigenschappen of werkzaamheden zijn genoemd als onderdeel van een levering of installatie dan dienen deze onderdeel te zijn van hieronder te benoemen eenheidsprijzen.
A4: Kortingspercentages componenten en licenties
A5: Omschrijving | B5: Kortings- percentage | C5: Fictief bedrag | D5: Totaal | E5: Opmerkingen
A6: Vast kortingpercentage op alle Camera's | B6: 0 | C6: NVT | D6: NVT | E6: Deze kortingspercentages gelden gedurende de gehele looptijd van de Overeenkomst en zijn van toepassing op de adviesprijzen van de geselecteerde camerafabrikant. Deze percentages dienen ook verwerkt te worden in de toepasselijke eenheidsprijzen hieronder. Het fictief bedrag staat hier op NVT (0 Euro) omdat deze elders voldoende aan bod komt. LET OP: indien de eenheidsprijzen niet overeenkomen met deze kortingspercentages i.c.m. met de adviesprijs van de fabrikant voor de aangeboden modellen kan dit tot uitsluiting leiden.
A7: Vast kortingpercentage op alle andere cameraonderdelen zoals beugels, midspans en lenzen | B7: 0 | C7: NVT | D7: NVT
A8: Vast kortingpercentage op alle Genetec licenties | B8: 0 | C8: 25000 | D8: =(1-B8)*C8 -> 25000 | E8: Dit kortingspercentage geldt voor alle Genetec licenties gedurende de looptijd van de Overeenkomst t.o.v. de adviesprijzen van Genetec. Hoe hoger de ingevulde korting, des te lager het totaalbedrag dat bijdraagt aan de fictieve inschrijfsom.
A10: Eenheidsprijzen componenten
A11: Omschrijving | B11: Eenheidsprijs | C11: Fictief aantal | D11: Totaal | E11: Opmerkingen
A12: PTZ-domecamera | C12: 30 | D12: =B12*C12 -> 0 | E12: Exclusief voeding, beugels en midspan.
A13: Multisensor-camera | C13: 20 | D13: =B13*C13 -> 0
A14: Bullet-camera | C14: 5 | D14: =B14*C14 -> 0
A15: SD-kaart 1 TB bruto, geschikt voor opname in de camera | C15: 5 | D15: =B15*C15 -> 0 | E15: Expliciet geschikt voor de Camera volgens de fabrikant.
A16: Licentie extra Camera in VMS | C16: 20 | D16: =B16*C16 -> 0 | E16: Eenmalige licentiekosten voor inkoppeling camera in VMS incl. failover licentie
A17: Alle montagemiddelen om een PTZ-domecamera op een mast of gevel te monteren waarmee de camera zonder junctionbox op glas kan worden afgemonteerd | C17: 30 | D17: =B17*C17 -> 0 | E17: Zonder midspan.
A18: Alle montagemiddelen om een combi van PTZ-domecamera en Multisensor-camera op een mast of gevel te monteren waarmee beide camera's zonder junctionbox op glas kan worden afgemonteerd | C18: 15 | D18: =B18*C18 -> 0 | E18: Zonder midspan.
A19: Alle montagemiddelen om een Bullet-camera op een mast of gevel te monteren | C19: 5 | D19: =B19*C19 -> 0 | E19: Zonder midspan.
A20: Verplaatsbare Cameravoorziening met eigen mast | C20: 3 | D20: =B20*C20 -> 0 | E20: Inclusief levering op locatie Opdrachtgever, en alle eenmalige voorbereidingen en werkzaamheden.
A21: Een PoE-voeding geschikt om één PTZ-domecamera + Multisensor-camera op glas af te monteren | C21: 40 | D21: =B21*C21 -> 0 | E21: Van hetzelfde merk als de camerafabrikant. Zonder transceiver
A22: Een PoE-voeding geschikt om één PTZ-domecamera op koper af te monteren | C22: 20 | D22: =B22*C22 -> 0
A23: Een transceiver 1 Gbps, singlemode, 2 vezels, 5 km | C23: 60 | D23: =B23*C23 -> 0 | E23: Geschikt tot temperaturen van -10 tot 60 graden Celcius
A24: Extender-set monitor-signaal | C24: 2 | D24: =B24*C24 -> 0
A25: Extender-set USB-signaal 3.0 of beter | C25: 2 | D25: =B25*C25 -> 0
A26: Extender-set USB-signaal 2.0 | C26: 1 | D26: =B26*C26 -> 0
A27: Extender-set IP over coax | C27: 4 | D27: =B27*C27 -> 0
A28: Bedieningsconsole | C28: 1 | D28: =B28*C28 -> 0
A29: Meerprijs camera en beugels in RAL-kleur | C29: 20 | D29: =B29*C29 -> 0 | E29: Ongeacht het cameratype
A30: Punt-punt-zenders 60 GHz, één set. incl. voeding, beugels voor montage op mast | C30: 2 | D30: =B30*C30 -> 0
A31: Multipunt-zender (centrale node) 60 GHz incl. voeding, beugels voor montage op mast | C31: 2 | D31: =B31*C31 -> 0
A32: Multipunt-clientzender 60 GHz incl. voeding, beugels voor montage op mast | C32: 5 | D32: =B32*C32 -> 0
A34: Eenheidsprijzen hoogwerker
A35: Omschrijving | B35: Eenheidsprijs | C35: Fictief aantal | D35: Totaal | E35: Opmerkingen
A36: Hoogwerker tot ten minste 6 meter per dag | C36: 20 | D36: =B36*C36 -> 0 | E36: Inclusief alle kosten, waaronder transportkosten, voorrijkosten, extra chauffeur, extra medewerker, etc.
A37: Hoogwerker tot ten minste 6 meter per dagdeel | C37: 10 | D37: =B37*C37 -> 0
A39: Eenheidsprijzen straatmeubilair
A40: Omschrijving | B40: Eenheidsprijs | C40: Fictief aantal | D40: Totaal | E40: Opmerkingen
A41: Cameramast | C41: 10 | D41: =B41*C41 -> 0
A42: Junctionbox groot, beugels en voorbereiding | C42: 5 | D42: =B42*C42 -> 0 | E42: Incl. beugels voor montage aan mast, muur of plafond. Inclusief werkzaamheden voorbereiding, DIN-rail, documentatie. Zie ook eis-@@@.
A43: Junctionbox klein, beugels en voorbereiding | C43: 5 | D43: =B43*C43 -> 0
A44: Fagetpaal | C44: 10 | D44: =B44*C44 -> 0
...

Sheet 3. Implementatiefase
A1: Tabblad 3: Implementatiefase
A2: Indien in het PvE componenten of werkzaamheden zijn genoemd als onderdeel van een levering of installatie dan dienen deze onderdeel te zijn van hieronder te benoemen prijzen.
A3: De eisen uit het PvE zijn leidend. Prijzen die hier worden gebruikt gelden als eenheidsprijzen gedurende de looptijd van het contract.
A4: Inschrijver kan zoveel regels met kostenposten toevoegen als nodig wordt geacht. Alle leveringen en werkzaamheden m.b.t. Fase 1 realisatie dienen hier te worden benoemd.
A5: De uiteindelijke inschrijfsom voor dit onderdeel is het bedrag waarvoor inschrijvende partij de opdracht uit gaat voeren.
A7: Fase 1 Implementatiefase | C7: Aantal | D7: Prijs | E7: Totaal | G7: Toelichting
B8: Uitkijkwerkstation | C8: 4 | E8: =D8*C8 -> 0 | G8: Aanname dat werkstation bureau en videowall identiek zijn. Indien dit niet zo is, dan via de NvI vragen om een extra regel. | H8: 1x spare?
B9: 24"-monitor | C9: 6
B10: 55"-monitor | C10: 4
B11: ='2. Eenheidsprijzen'!A24 -> Extender-set monitor-signaal | C11: 10 | D11: ='2. Eenheidsprijzen'!B24 -> 0 | E11: =D11*C11 -> 0 | G11: Het betreft hierbij een paar die samen één monitorsignaal kunnen transporteren. 2x5 monitors
B12: ='2. Eenheidsprijzen'!A25 -> Extender-set USB-signaal 3.0 of beter | C12: 1 | D12: ='2. Eenheidsprijzen'!B25 -> 0 | E12: =D12*C12 -> 0 | G12: Het betreft hierbij een paar die samen één USB-signaal kunnen uitwisselen.
B13: ='2. Eenheidsprijzen'!A26 -> Extender-set USB-signaal 2.0 | C13: 1 | D13: ='2. Eenheidsprijzen'!B26 -> 0 | E13: =D13*C13 -> 0 | G13: Idem
B14: Oplossen storingen in huidige systeem tot implementatie VMS per maand | C14: 4 | E14: =D14*C14 -> 0 | G14: Kosten per maand, zie ook eis233. Bij een gedeeltelijke maand worden de kosten naar rato verrekend.
B15: Alle licenties van het VMS | C15: 1 | E15: =D15*C15 -> 0 | G15: Zie paragraaf 8.2.2, nader uitwerken in tabblad 5. Let op: 60 camera's
B16: Implementatie van het VMS | C16: 1 | E16: =D16*C16 -> 0 | G16: Idem
B17: Uitwerken werkwijze versleuteling Videostromen en 802.1x met Syntrophos | C17: 1 | E17: =D17*C17 -> 0 | G17: Zie eis-257
B18: Omnummeren IP-adressen van Camera's bij migratie weg van Rotterdam naar nieuwe situatie | C18: 1 | E18: =D18*C18 -> 0 | G18: Nader uitwerken in tabblad 5
B19: ='2. Eenheidsprijzen'!A12 -> PTZ-domecamera | C19: 21 | D19: ='2. Eenheidsprijzen'!B12 -> 0 | E19: =D19*C19 -> 0
B20: ='2. Eenheidsprijzen'!A13 -> Multisensor-camera | C20: 8 | D20: ='2. Eenheidsprijzen'!B13 -> 0 | E20: =D20*C20 -> 0
B21: ='2. Eenheidsprijzen'!A14 -> Bullet-camera | C21: 3 | D21: ='2. Eenheidsprijzen'!B14 -> 0
B22: ='2. Eenheidsprijzen'!A17 -> Alle montagemiddelen om een PTZ-domecamera op een mast of gevel te monteren waarmee de camera zonder junctionbox op glas kan worden afgemonteerd | C22: 13 | D22: ='2. Eenheidsprijzen'!B17 -> 0 | E22: =D22*C22 -> 0
B23: ='2. Eenheidsprijzen'!A18 -> Alle montagemiddelen om een combi van PTZ-domecamera en Multisensor-camera op een mast of gevel te monteren waarmee beide camera's zonder junctionbox op glas kan worden afgemonteerd | C23: 8 | D23: ='2. Eenheidsprijzen'!B18 -> 0 | E23: =D23*C23 -> 0
B24: ='2. Eenheidsprijzen'!A19 -> Alle montagemiddelen om een Bullet-camera op een mast of gevel te monteren | C24: 3 | D24: ='2. Eenheidsprijzen'!B19 -> 0 | E24: =D24*C24 -> 0
B25: ='2. Eenheidsprijzen'!A70 -> Vervanging Camera door combi van PTZ-domecamera en Multisensor-camera | C25: 8 | D25: ='2. Eenheidsprijzen'!B70 -> 0 | E25: =D25*C25 -> 0
B26: ='2. Eenheidsprijzen'!A71 -> Vervanging Camera door één enkele andere Camera | C26: 16 | D26: ='2. Eenheidsprijzen'!B71 -> 0 | E26: =D26*C26 -> 0
B27: Inspectie en inventarisatie van het gehele Cameratoezichtsysteem conform eis-236 | C27: 1 | E27: =D27*C27 -> 0
B28: Het opstellen van de As-builtdocumentatie en NEN3140-documentatie | C28: 1 | E28: =D28*C28 -> 0
B29: Het opstellen van SLA, DAP en Exit-plan, inrichten Storingsmanagement | C29: 1 | E29: =D29*C29 -> 0
B30: Levering en vervanging straatkast conform eis-240 | C30: 1 | E30: =D30*C30 -> 0 | G30: Inclusief coördinatie met Stedin. Eventuele kosten Stedin zijn exclusief en verrekenbaar op nacalculatie. Oude kast verwijderen en afvoeren
B31: Reserve-onderdelen | C31: Aantal | D31: Prijs | E31: Totaal
B32: ='2. Eenheidsprijzen'!A12 -> PTZ-domecamera | C32: 1 | D32: ='2. Eenheidsprijzen'!B12 -> 0 | E32: =D32*C32 -> 0
B33: ='2. Eenheidsprijzen'!A17 -> Alle montagemiddelen om een PTZ-domecamera op een mast of gevel te monteren waarmee de camera zonder junctionbox op glas kan worden afgemonteerd | C33: 1 | D33: ='2. Eenheidsprijzen'!B17 -> 0 | E33: =D33*C33 -> 0
B34: ='2. Eenheidsprijzen'!A13 -> Multisensor-camera | C34: 1 | D34: ='2. Eenheidsprijzen'!B13 -> 0 | E34: =D34*C34 -> 0
B35: ='2. Eenheidsprijzen'!A14 -> Bullet-camera | C35: 1 | D35: ='2. Eenheidsprijzen'!B14 -> 0 | E35: =D35*C35 -> 0
B36: ='2. Eenheidsprijzen'!A30 -> Punt-punt-zenders 60 GHz, één set. incl. voeding, beugels voor montage op mast | C36: 1 | D36: ='2. Eenheidsprijzen'!B30 -> 0 | E36: =D36*C36 -> 0
B37: ='2. Eenheidsprijzen'!A21 -> Een PoE-voeding geschikt om één PTZ-domecamera + Multisensor-camera op glas af te monteren | C37: 2 | D37: ='2. Eenheidsprijzen'!B21 -> 0 | E37: =D37*C37 -> 0
B38: ='2. Eenheidsprijzen'!A24 -> Extender-set monitor-signaal | C38: 1 | D38: ='2. Eenheidsprijzen'!B24 -> 0 | E38: =D38*C38 -> 0
B39: ='2. Eenheidsprijzen'!A25 -> Extender-set USB-signaal 3.0 of beter | C39: 1 | D39: ='2. Eenheidsprijzen'!B25 -> 0
B40: ='2. Eenheidsprijzen'!A23 -> Een transceiver 1 Gbps, singlemode, 2 vezels, 5 km | C40: 1 | D40: ='2. Eenheidsprijzen'!B23 -> 0 | E40: =D40*C40 -> 0
B41: ='2. Eenheidsprijzen'!A27 -> Extender-set IP over coax | C41: 3 | D41: ='2. Eenheidsprijzen'!B27 -> 0 | E41: =D41*C41 -> 0
...

Sheet 4. Beheer- en Onderhoudsfase
A1: Tabblad 4: Beheer- en Onderhoudsfase
A2: Indien in het PvE componenten of werkzaamheden zijn genoemd als onderdeel van een levering of installatie dan dienen deze onderdeel te zijn van hieronder te benoemen prijzen.
A3: De eisen uit het PvE zijn leidend, incl. eisen over de garantie. De hier genoemde aantal zijn indicatief en bedoeld om tot een eenduidig vergelijk tussen Inschrijvers te komen
A5: Fase 2 Beheer en Onderhoud | G5: Toelichting
B6: Per jaar | C6: Aantal | D6: Prijs per jaar | E6: Totaal
B7: Beheer en Onderhoud PTZ-Domecamera | C7: 30 | D7: 0 | E7: =C7*D7 -> 0
B8: Beheer en Onderhoud Multisensor-camera | C8: 20 | D8: 0 | E8: =C8*D8 -> 0
B9: Beheer en Onderhoud bullet-camera | C9: 3 | D9: 0 | E9: =C9*D9 -> 0
B10: Beheer en Onderhoud VMS | C10: 1 | D10: 0 | E10: =C10*D10 -> 0 | G10: Alleen beheer en onderhoud van de applicatie
B11: Beheer en Onderhoud Uitkijkplek | C11: 2 | D11: 0 | E11: =C11*D11 -> 0 | G11: Twee werkstations, 5 monitors, 6 extenders per Uitkijkplek
B12: Licentiekosten jaarlijks VMS per camera | C12: 60 | D12: 0 | E12: =C12*D12 -> 0 | G12: Incl. Failover
B13: Licentiekosten jaarlijks VMS opgeteld | C13: 1 | D13: 0 | E13: =C13*D13 -> 0 | G13: Indien er meer jaarlijkse licentiekosten zijn hier bij elkaar optellen o.b.v. de omvang in de Implementatiefase. Nader uitwerken in tablad 5.
B14: Optionele standby-kosten voor oplossen kabelstoringen | C14: 1 | D14: 0 | E14: =C14*D14 -> 0 | G14: Zie paragraaf 9.3 PvE. Hiervoor geldt geen opslagpercentage
B15: Optioneel functioneel beheer | C15: 1 | D15: 0 | E15: =C15*D15 -> 0 | G15: Zie eis-285
B16: Rapportages en overleggen, storingsdesk, storingsportaal | C16: 1 | D16: 0 | E16: =C16*D16 -> 0
B17: Alle andere activiteiten of leveringen nodig om aan het PvE te voldoen | C17: Aantal | D17: Prijs | E17: Totaal
B18: dd | D18: 0 | E18: =C18*D18 -> 0 | G18: Hier alle leveringen en diensten opnemen die nodig zijn om aan de eisen uit het PvE te voldoen. Indien er te weinig regels zijn dan
B19: d | D19: 0 | E19: =C19*D19 -> 0 | G19: uitwerken in tabblad 5 en hier op hoofdlijnen naar verwijzen.
B20: d | D20: 0 | E20: =C20*D20 -> 0
B21: d | D21: 0 | E21: =C21*D21 -> 0
B22: Subtotaal Beheer en Onderhoud per jaar | E22: =SUBTOTAL(9,E7:E21) -> 0
B23: Totaal fase 2 Beheer en Onderhoud gedurende maximale looptijd van 8 jaar | E23: =E22*8 -> 0

Sheet 5. Nadere uitwerkingen
A1: Tabblad 5: Nadere uitwerkingen
A2: Dit tabblad is bedoeld voor Inschrijver om een nadere uitwerking te geven waar dat wordt gevraagd. Er is verder geen voorgeschreven formaat, wel dienen de bedragen hier
A3: waar mogelijk overeen te komen met de bedragen elders.
A4: Dit tabblad is niet beveiligd.
