Workbook

Sheet Voorblad
B12: AV Middelen en Diensten
B15: Prijsinvulformulier
B18: Uiterste inleverdatum:
B20: woensdag 23 december 2026 - 09:00 uur
B23: Het Radboudumc zoekt een leverancier voor het adviseren over en leveren van Audio-Visuele Middelen en Diensten.

Sheet Prijsinvulformulier
A4: Prijsinvulformulier
A6: Inschrijver
A7: Adres
A8: Contactpersoon
A9: Datum
A10: Handtekening
A12: Inschrijfprijs "All in tarief" - excl BTW | B12: =SUM(B14:B18) -> 0 | C12: plafond | D12: 600000
C13: ondergrens | D13: 200000
A14: TCO UseCase 1 | B14: ='a. TCO UseCase 1'!E34 -> 0
A15: TCO UseCase 2 | B15: ='b. TCO UseCase 2'!E34 -> 0
A16: TCO UseCase 3 | B16: ='c. TCO UseCase 3'!E34 -> 0
A17: SLA Installed Base | B17: ='d. SLA kosten Installed Base'!D41 -> 0
A21: ! Alleen oranje cellen invullen. Overige cellen mogen niet aangepast worden op straffe van uitsluiting !
A23: Prijscellen worden automatisch berekend na invullen van de tabbladen
A24: De behaalde score voor het element prijs wordt getoond in het tabblad "Score"

Sheet a. TCO UseCase 1
A1: Uitsplitsing kosten
A2: UseCase 1
A3: Werkzaamheden | B3: Eenheid (stuks) | C3: Kosten per eenheid/jaar | D3: Aantal ruimten | E3: Prijs ex. Btw (kosten eenheid * aantal)
A4: Display UHD 75 inch incl. toebehoren | B4: 1 | C4: 0 | D4: 10 | E4: =Tabel248[[#This Row],[Aantal ruimten]]*Tabel248[[#This Row],[Kosten per eenheid/jaar]]*Tabel248[[#This Row],[Eenheid (stuks)]] -> 0
A6: Mountstand (Wallmounted) incl. toebehoren | B6: 1 | C6: 0 | D6: 10 | E6: =Tabel248[[#This Row],[Aantal ruimten]]*Tabel248[[#This Row],[Kosten per eenheid/jaar]]*Tabel248[[#This Row],[Eenheid (stuks)]] -> 0
A8: All-in videobar incl. toebehoren | B8: 1 | C8: 0 | D8: 10 | E8: =Tabel248[[#This Row],[Aantal ruimten]]*Tabel248[[#This Row],[Kosten per eenheid/jaar]]*Tabel248[[#This Row],[Eenheid (stuks)]] -> 0
A10: Netwerkcomponenten incl. toebehoren | B10: 1 | C10: 0 | D10: 10 | E10: =Tabel248[[#This Row],[Aantal ruimten]]*Tabel248[[#This Row],[Kosten per eenheid/jaar]]*Tabel248[[#This Row],[Eenheid (stuks)]] -> 0
A12: Control unit incl. toebehoren | B12: 1 | C12: 0 | D12: 10 | E12: =Tabel248[[#This Row],[Aantal ruimten]]*Tabel248[[#This Row],[Kosten per eenheid/jaar]]*Tabel248[[#This Row],[Eenheid (stuks)]] -> 0
A14: Installatie en oplevering | B14: 1 | C14: 0 | D14: 10 | E14: =Tabel248[[#This Row],[Aantal ruimten]]*Tabel248[[#This Row],[Kosten per eenheid/jaar]]*Tabel248[[#This Row],[Eenheid (stuks)]] -> 0
A16: Onderhoud en support gedurende 5 jaar. | B16: 1 | C16: 0 | D16: 10 | E16: =Tabel248[[#This Row],[Aantal ruimten]]*Tabel248[[#This Row],[Kosten per eenheid/jaar]]*Tabel248[[#This Row],[Eenheid (stuks)]] -> 0
B18: 0 | C18: 0 | D18: 0 | E18: =Tabel248[[#This Row],[Aantal ruimten]]*Tabel248[[#This Row],[Kosten per eenheid/jaar]]*Tabel248[[#This Row],[Eenheid (stuks)]] -> 0
B19: 0 | C19: 0 | D19: 0 | E19: =Tabel248[[#This Row],[Aantal ruimten]]*Tabel248[[#This Row],[Kosten per eenheid/jaar]]*Tabel248[[#This Row],[Eenheid (stuks)]] -> 0
B20: 0 | C20: 0 | D20: 0 | E20: =Tabel248[[#This Row],[Aantal ruimten]]*Tabel248[[#This Row],[Kosten per eenheid/jaar]]*Tabel248[[#This Row],[Eenheid (stuks)]] -> 0
B21: 0 | C21: 0 | D21: 0 | E21: =Tabel248[[#This Row],[Aantal ruimten]]*Tabel248[[#This Row],[Kosten per eenheid/jaar]]*Tabel248[[#This Row],[Eenheid (stuks)]] -> 0
B22: 0 | C22: 0 | D22: 0 | E22: =Tabel248[[#This Row],[Aantal ruimten]]*Tabel248[[#This Row],[Kosten per eenheid/jaar]]*Tabel248[[#This Row],[Eenheid (stuks)]] -> 0
B23: 0 | C23: 0 | D23: 0 | E23: =Tabel248[[#This Row],[Aantal ruimten]]*Tabel248[[#This Row],[Kosten per eenheid/jaar]]*Tabel248[[#This Row],[Eenheid (stuks)]] -> 0
B24: 0 | C24: 0 | D24: 0 | E24: =Tabel248[[#This Row],[Aantal ruimten]]*Tabel248[[#This Row],[Kosten per eenheid/jaar]]*Tabel248[[#This Row],[Eenheid (stuks)]] -> 0
B25: 0 | C25: 0 | D25: 0 | E25: =Tabel248[[#This Row],[Aantal ruimten]]*Tabel248[[#This Row],[Kosten per eenheid/jaar]]*Tabel248[[#This Row],[Eenheid (stuks)]] -> 0
B26: 0 | C26: 0 | D26: 0 | E26: =Tabel248[[#This Row],[Aantal ruimten]]*Tabel248[[#This Row],[Kosten per eenheid/jaar]]*Tabel248[[#This Row],[Eenheid (stuks)]] -> 0
B27: 0 | C27: 0 | D27: 0 | E27: =Tabel248[[#This Row],[Aantal ruimten]]*Tabel248[[#This Row],[Kosten per eenheid/jaar]]*Tabel248[[#This Row],[Eenheid (stuks)]] -> 0
B28: 0 | C28: 0 | D28: 0 | E28: =Tabel248[[#This Row],[Aantal ruimten]]*Tabel248[[#This Row],[Kosten per eenheid/jaar]]*Tabel248[[#This Row],[Eenheid (stuks)]] -> 0
B29: 0 | C29: 0 | D29: 0 | E29: =Tabel248[[#This Row],[Aantal ruimten]]*Tabel248[[#This Row],[Kosten per eenheid/jaar]]*Tabel248[[#This Row],[Eenheid (stuks)]] -> 0
... B33: 0 | C33: 0 | D33: 0 | E33: =Tabel248[[#This Row],[Aantal ruimten]]*Tabel248[[#This Row],[Kosten per eenheid/jaar]]*Tabel248[[#This Row],[Eenheid (stuks)]] -> 0
A34: TOTALE kosten gedurende exploitatietijd (5 jaar) (TCO) | E34: =SUM(E4:E33) -> 0
A36: Alleen oranje cellen invullen. Overige cellen mogen niet aangepast worden op straffe van uitsluiting!
A37: Indien het aantal gegeven cellen niet toereikend is mag dit wel uitgebreid worden.
A38: De installatie waarvoor op dit tabblad een totaalprijs (TCO) wordt aangeboden dient volledig te voldoen aan de omschrijving in het document "Beschrijving Use Case 1, 2 en 3" (bijlage x bij deze aanbesteding).
A39: Let op: gedurende de gebruiksduur van de opstelling kunnen geen kosten meer worden toegevoegd, tenzij Radboudumc hiertoe nadrukkelijk aanvullende opdracht verstrekt.

Sheet b. TCO UseCase 2
A1: Uitsplitsing kosten
A2: UseCase 2
A3: Werkzaamheden | B3: Eenheid (uren / stuks) | C3: Kosten per eenheid | D3: Aantal ruimten | E3: Prijs ex. Btw (kosten eenheid * aantal)
A4: Display UHD 75 inch incl. bijbehoren | B4: 1 | C4: 0 | D4: 5 | E4: =Tabel24[[#This Row],[Aantal ruimten]]*Tabel24[[#This Row],[Kosten per eenheid]]*Tabel24[[#This Row],[Eenheid (uren / stuks)]] -> 0
A6: Mountstand (vrijstaand met achterplaat) incl. toebehoren | B6: 1 | C6: 0 | D6: 5 | E6: =Tabel24[[#This Row],[Aantal ruimten]]*Tabel24[[#This Row],[Kosten per eenheid]]*Tabel24[[#This Row],[Eenheid (uren / stuks)]] -> 0
A8: Audiocomponenten & Microfoon incl toebehoren | B8: 1 | C8: 0 | D8: 5 | E8: =Tabel24[[#This Row],[Aantal ruimten]]*Tabel24[[#This Row],[Kosten per eenheid]]*Tabel24[[#This Row],[Eenheid (uren / stuks)]] -> 0
A10: Videocomponenten & Camera incl. toebehoren | B10: 1 | C10: 0 | D10: 5 | E10: =Tabel24[[#This Row],[Aantal ruimten]]*Tabel24[[#This Row],[Kosten per eenheid]]*Tabel24[[#This Row],[Eenheid (uren / stuks)]] -> 0
A12: Netwerkcomponenten incl. toebehoren | B12: 1 | C12: 0 | D12: 5 | E12: =Tabel24[[#This Row],[Aantal ruimten]]*Tabel24[[#This Row],[Kosten per eenheid]]*Tabel24[[#This Row],[Eenheid (uren / stuks)]] -> 0
A14: Control unit incl. toebehoren | B14: 1 | C14: 0 | D14: 5 | E14: =Tabel24[[#This Row],[Aantal ruimten]]*Tabel24[[#This Row],[Kosten per eenheid]]*Tabel24[[#This Row],[Eenheid (uren / stuks)]] -> 0
A16: Installatie en oplevering | B16: 1 | C16: 0 | D16: 5 | E16: =Tabel24[[#This Row],[Aantal ruimten]]*Tabel24[[#This Row],[Kosten per eenheid]]*Tabel24[[#This Row],[Eenheid (uren / stuks)]] -> 0
A18: Onderhoud en support gedurende 5 jaar. | B18: 1 | C18: 0 | D18: 5 | E18: =Tabel24[[#This Row],[Aantal ruimten]]*Tabel24[[#This Row],[Kosten per eenheid]]*Tabel24[[#This Row],[Eenheid (uren / stuks)]] -> 0
C20: 0 | D20: 0 | E20: =Tabel24[[#This Row],[Aantal ruimten]]*Tabel24[[#This Row],[Kosten per eenheid]]*Tabel24[[#This Row],[Eenheid (uren / stuks)]] -> 0
C21: 0 | D21: 0 | E21: =Tabel24[[#This Row],[Aantal ruimten]]*Tabel24[[#This Row],[Kosten per eenheid]]*Tabel24[[#This Row],[Eenheid (uren / stuks)]] -> 0
C22: 0 | D22: 0 | E22: =Tabel24[[#This Row],[Aantal ruimten]]*Tabel24[[#This Row],[Kosten per eenheid]]*Tabel24[[#This Row],[Eenheid (uren / stuks)]] -> 0
C23: 0 | D23: 0 | E23: =Tabel24[[#This Row],[Aantal ruimten]]*Tabel24[[#This Row],[Kosten per eenheid]]*Tabel24[[#This Row],[Eenheid (uren / stuks)]] -> 0
C24: 0 | D24: 0 | E24: =Tabel24[[#This Row],[Aantal ruimten]]*Tabel24[[#This Row],[Kosten per eenheid]]*Tabel24[[#This Row],[Eenheid (uren / stuks)]] -> 0
C25: 0 | D25: 0 | E25: =Tabel24[[#This Row],[Aantal ruimten]]*Tabel24[[#This Row],[Kosten per eenheid]]*Tabel24[[#This Row],[Eenheid (uren / stuks)]] -> 0
C26: 0 | D26: 0 | E26: =Tabel24[[#This Row],[Aantal ruimten]]*Tabel24[[#This Row],[Kosten per eenheid]]*Tabel24[[#This Row],[Eenheid (uren / stuks)]] -> 0
C27: 0 | D27: 0 | E27: =Tabel24[[#This Row],[Aantal ruimten]]*Tabel24[[#This Row],[Kosten per eenheid]]*Tabel24[[#This Row],[Eenheid (uren / stuks)]] -> 0
C28: 0 | D28: 0 | E28: =Tabel24[[#This Row],[Aantal ruimten]]*Tabel24[[#This Row],[Kosten per eenheid]]*Tabel24[[#This Row],[Eenheid (uren / stuks)]] -> 0
C29: 0 | D29: 0 | E29: =Tabel24[[#This Row],[Aantal ruimten]]*Tabel24[[#This Row],[Kosten per eenheid]]*Tabel24[[#This Row],[Eenheid (uren / stuks)]] -> 0
C30: 0 | D30: 0 | E30: =Tabel24[[#This Row],[Aantal ruimten]]*Tabel24[[#This Row],[Kosten per eenheid]]*Tabel24[[#This Row],[Eenheid (uren / stuks)]] -> 0
C31: 0 | D31: 0 | E31: =Tabel24[[#This Row],[Aantal ruimten]]*Tabel24[[#This Row],[Kosten per eenheid]]*Tabel24[[#This Row],[Eenheid (uren / stuks)]] -> 0
... C33: 0 | D33: 0 | E33: =Tabel24[[#This Row],[Aantal ruimten]]*Tabel24[[#This Row],[Kosten per eenheid]]*Tabel24[[#This Row],[Eenheid (uren / stuks)]] -> 0
A34: TOTALE kosten gedurende exploitatietijd (5 jaar) (TCO) | E34: =SUM(E4:E33) -> 0
A36: Alleen oranje cellen invullen. Overige cellen mogen niet aangepast worden op straffe van uitsluiting!
A37: Indien het aantal gegeven cellen niet toereikend is mag dit wel uitgebreid worden.
A38: De installatie waarvoor op dit tabblad een totaalprijs (TCO) wordt aangeboden dient volledig te voldoen aan de omschrijving in het document "Beschrijving Use Case 1, 2 en 3" (bijlage x bij deze aanbesteding).
A39: Let op: gedurende de gebruiksduur van de opstelling kunnen geen kosten meer worden toegevoegd, tenzij Radboudumc hiertoe nadrukkelijk aanvullende opdracht verstrekt.

Sheet c. TCO UseCase 3
A1: Uitsplitsing kosten
A2: UseCase 3
A3: Werkzaamheden | B3: Eenheid (stuks) | C3: Kosten per eenheid | D3: Aantal ruimten | E3: Prijs ex. Btw (kosten eenheid * aantal)
A4: Centrale AV-installatie (in 19' rack) en bediningsunit incl. toebehoren | B4: 1 | C4: 0 | D4: 1 | E4: =Tabel249[[#This Row],[Aantal ruimten]]*Tabel249[[#This Row],[Kosten per eenheid]]*Tabel249[[#This Row],[Eenheid (stuks)]] -> 0
A6: Touchscreen positie (27 inch anti-glare) incl. toebehoren | B6: 16 | C6: 0 | D6: 1 | E6: =Tabel249[[#This Row],[Aantal ruimten]]*Tabel249[[#This Row],[Kosten per eenheid]]*Tabel249[[#This Row],[Eenheid (stuks)]] -> 0
A8: Display tbv aftelklok (43 inch) incl. toebehoren | B8: 4 | C8: 0 | D8: 1 | E8: =Tabel249[[#This Row],[Aantal ruimten]]*Tabel249[[#This Row],[Kosten per eenheid]]*Tabel249[[#This Row],[Eenheid (stuks)]] -> 0
A10: Audio installatie incl. toebehoren geintegreerd in de AV aansturing | B10: 1 | C10: 0 | D10: 1 | E10: =Tabel249[[#This Row],[Aantal ruimten]]*Tabel249[[#This Row],[Kosten per eenheid]]*Tabel249[[#This Row],[Eenheid (stuks)]] -> 0
A12: Installatie en oplevering | B12: 1 | C12: 0 | D12: 1 | E12: =Tabel249[[#This Row],[Aantal ruimten]]*Tabel249[[#This Row],[Kosten per eenheid]]*Tabel249[[#This Row],[Eenheid (stuks)]] -> 0
A14: Onderhoud en support gedurende 5 jaar. | B14: 1 | C14: 0 | D14: 1 | E14: =Tabel249[[#This Row],[Aantal ruimten]]*Tabel249[[#This Row],[Kosten per eenheid]]*Tabel249[[#This Row],[Eenheid (stuks)]] -> 0
B16: 0 | C16: 0 | D16: 0 | E16: =Tabel249[[#This Row],[Kosten per eenheid]]*Tabel249[[#This Row],[Aantal ruimten]] -> 0
B17: 0 | C17: 0 | D17: 0 | E17: =Tabel249[[#This Row],[Kosten per eenheid]]*Tabel249[[#This Row],[Aantal ruimten]] -> 0
B18: 0 | C18: 0 | D18: 0 | E18: =Tabel249[[#This Row],[Kosten per eenheid]]*Tabel249[[#This Row],[Aantal ruimten]] -> 0
B19: 0 | C19: 0 | D19: 0 | E19: =Tabel249[[#This Row],[Kosten per eenheid]]*Tabel249[[#This Row],[Aantal ruimten]] -> 0
B20: 0 | C20: 0 | D20: 0 | E20: =Tabel249[[#This Row],[Kosten per eenheid]]*Tabel249[[#This Row],[Aantal ruimten]] -> 0
B21: 0 | C21: 0 | D21: 0 | E21: =Tabel249[[#This Row],[Kosten per eenheid]]*Tabel249[[#This Row],[Aantal ruimten]] -> 0
B22: 0 | C22: 0 | D22: 0 | E22: =Tabel249[[#This Row],[Kosten per eenheid]]*Tabel249[[#This Row],[Aantal ruimten]] -> 0
B23: 0 | C23: 0 | D23: 0 | E23: =Tabel249[[#This Row],[Kosten per eenheid]]*Tabel249[[#This Row],[Aantal ruimten]] -> 0
B24: 0 | C24: 0 | D24: 0 | E24: =Tabel249[[#This Row],[Kosten per eenheid]]*Tabel249[[#This Row],[Aantal ruimten]] -> 0
B25: 0 | C25: 0 | D25: 0 | E25: =Tabel249[[#This Row],[Kosten per eenheid]]*Tabel249[[#This Row],[Aantal ruimten]] -> 0
B26: 0 | C26: 0 | D26: 0 | E26: =Tabel249[[#This Row],[Kosten per eenheid]]*Tabel249[[#This Row],[Aantal ruimten]] -> 0
B27: 0 | C27: 0 | D27: 0 | E27: =Tabel249[[#This Row],[Kosten per eenheid]]*Tabel249[[#This Row],[Aantal ruimten]] -> 0
... B33: 0 | C33: 0 | D33: 0 | E33: =Tabel249[[#This Row],[Kosten per eenheid]]*Tabel249[[#This Row],[Aantal ruimten]] -> 0
A34: TOTALE kosten gedurende exploitatietijd (5 jaar) (TCO) | E34: =SUM(E4:E33) -> 0
A36: Alleen oranje cellen invullen. Overige cellen mogen niet aangepast worden op straffe van uitsluiting!
A37: Indien het aantal gegeven cellen niet toereikend is mag dit wel uitgebreid worden.
A38: De installatie waarvoor op dit tabblad een totaalprijs (TCO) wordt aangeboden dient volledig te voldoen aan de omschrijving in het document "Beschrijving Use Case 1, 2 en 3" (bijlage x bij deze aanbesteding).
A39: Let op: gedurende de gebruiksduur van de opstelling kunnen geen kosten meer worden toegevoegd, tenzij Radboudumc hiertoe nadrukkelijk aanvullende opdracht verstrekt.

Sheet d. SLA kosten Installed Base
A1: Uitsplitsing kosten
A2: SLA kosten
A3: Product | B3: SLA prijs per systeem per jaar | C3: Aantal systemen | D3: Totaalprijs SLA (ex. BTW)
A4: Installed Base - 5 jaar rest tijd tot LCM
A5: Use Case 1 | B5: 0 | C5: 18 | D5: =Tabel2456[[#This Row],[SLA prijs per systeem per jaar]]*Tabel2456[[#This Row],[Aantal systemen]]*5 -> 0
A6: Use Case 2 | B6: 0 | C6: 9 | D6: =Tabel2456[[#This Row],[SLA prijs per systeem per jaar]]*Tabel2456[[#This Row],[Aantal systemen]]*5 -> 0
A7: Installed Base - 4 jaar rest tijd tot LCM
A8: Use Case 1 | B8: 0 | C8: 65 | D8: =Tabel2456[[#This Row],[SLA prijs per systeem per jaar]]*Tabel2456[[#This Row],[Aantal systemen]]*4 -> 0
A9: Use Case 2 | B9: 0 | C9: 12 | D9: =Tabel2456[[#This Row],[SLA prijs per systeem per jaar]]*Tabel2456[[#This Row],[Aantal systemen]]*4 -> 0
A10: Installed Base - 3 jaar rest tijd tot LCM
A11: Use Case 1 | B11: 0 | C11: 64 | D11: =Tabel2456[[#This Row],[SLA prijs per systeem per jaar]]*Tabel2456[[#This Row],[Aantal systemen]]*3 -> 0
A12: Use Case 2 | B12: 0 | C12: 1 | D12: =Tabel2456[[#This Row],[SLA prijs per systeem per jaar]]*Tabel2456[[#This Row],[Aantal systemen]]*3 -> 0 | F12: Overzicht aantallen in Installed Base per Inschrijfdatum
A13: Narrowcasting schermen | B13: 0 | C13: 34 | D13: =Tabel2456[[#This Row],[SLA prijs per systeem per jaar]]*Tabel2456[[#This Row],[Aantal systemen]]*3 -> 0 | F13: Geplaatst in | G13: 2026 | H13: 2025 | I13: 2024 | J13: 2023 | K13: 2022 | L13: 2021/2020
A14: Installed Base - 2 jaar rest tijd tot LCM | F14: Resterende gebruikstijd | G14: Nog 5 jaar SLA | H14: Nog 4 jaar SLA | I14: Nog 3 jaar SLA | J14: Nog 2 jaar SLA | K14: Nog 1 jaar SLA | L14: Geen SLA meer nodig
A15: Use Case 1 | B15: 0 | C15: 35 | D15: =Tabel2456[[#This Row],[SLA prijs per systeem per jaar]]*Tabel2456[[#This Row],[Aantal systemen]]*2 -> 0 | F15: Type systeem | G15: Aantal systemen
A16: Use Case 2 | B16: 0 | C16: 12 | D16: =Tabel2456[[#This Row],[SLA prijs per systeem per jaar]]*Tabel2456[[#This Row],[Aantal systemen]]*2 -> 0 | F16: Use case 1 | G16: 18 | H16: 65 | I16: 64 | J16: 35 | K16: 58 | L16: 166
A17: Narrowcasting schermen | B17: 0 | C17: 43 | D17: =Tabel2456[[#This Row],[SLA prijs per systeem per jaar]]*Tabel2456[[#This Row],[Aantal systemen]]*2 -> 0 | F17: Use case 2 | G17: 9 | H17: 12 | I17: 1 | J17: 12 | K17: 36
A18: Installed Base - 1 jaar rest tijd tot LCM | F18: Narrowcasting schermen | I18: 34 | J18: 43 | K18: 132 | L18: 94
A19: Use Case 1 | B19: 0 | C19: 58 | D19: =Tabel2456[[#This Row],[SLA prijs per systeem per jaar]]*Tabel2456[[#This Row],[Aantal systemen]] -> 0
A20: Use Case 2 | B20: 0 | C20: 36 | D20: =Tabel2456[[#This Row],[SLA prijs per systeem per jaar]]*Tabel2456[[#This Row],[Aantal systemen]] -> 0
A21: Narrowcasting schermen | B21: 0 | C21: 132 | D21: =Tabel2456[[#This Row],[SLA prijs per systeem per jaar]]*Tabel2456[[#This Row],[Aantal systemen]] -> 0
B23: 0 | C23: 0 | D23: =Tabel2456[[#This Row],[SLA prijs per systeem per jaar]]*Tabel2456[[#This Row],[Aantal systemen]] -> 0
B24: 0 | C24: 0 | D24: =Tabel2456[[#This Row],[SLA prijs per systeem per jaar]]*Tabel2456[[#This Row],[Aantal systemen]] -> 0
B25: 0 | C25: 0 | D25: =Tabel2456[[#This Row],[SLA prijs per systeem per jaar]]*Tabel2456[[#This Row],[Aantal systemen]] -> 0
B26: 0 | C26: 0 | D26: =Tabel2456[[#This Row],[SLA prijs per systeem per jaar]]*Tabel2456[[#This Row],[Aantal systemen]] -> 0
B27: 0 | C27: 0 | D27: =Tabel2456[[#This Row],[SLA prijs per systeem per jaar]]*Tabel2456[[#This Row],[Aantal systemen]] -> 0
B28: 0 | C28: 0 | D28: =Tabel2456[[#This Row],[SLA prijs per systeem per jaar]]*Tabel2456[[#This Row],[Aantal systemen]] -> 0
B29: 0 | C29: 0 | D29: =Tabel2456[[#This Row],[SLA prijs per systeem per jaar]]*Tabel2456[[#This Row],[Aantal systemen]] -> 0
B30: 0 | C30: 0 | D30: =Tabel2456[[#This Row],[SLA prijs per systeem per jaar]]*Tabel2456[[#This Row],[Aantal systemen]] -> 0
B31: 0 | C31: 0 | D31: =Tabel2456[[#This Row],[SLA prijs per systeem per jaar]]*Tabel2456[[#This Row],[Aantal systemen]] -> 0
B32: 0 | C32: 0 | D32: =Tabel2456[[#This Row],[SLA prijs per systeem per jaar]]*Tabel2456[[#This Row],[Aantal systemen]] -> 0
B33: 0 | C33: 0 | D33: =Tabel2456[[#This Row],[SLA prijs per systeem per jaar]]*Tabel2456[[#This Row],[Aantal systemen]] -> 0
B34: 0 | C34: 0 | D34: =Tabel2456[[#This Row],[SLA prijs per systeem per jaar]]*Tabel2456[[#This Row],[Aantal systemen]] -> 0
... B40: 0 | C40: 0 | D40: =Tabel2456[[#This Row],[SLA prijs per systeem per jaar]]*Tabel2456[[#This Row],[Aantal systemen]] -> 0
A41: TOTALE SLA kosten van de Installed Base per Inschrijfdatum gedurende de resterende gebruikstijd (TCO) | D41: =SUM(D4:D40) -> 0
A43: Alleen oranje cellen invullen. Overige cellen mogen niet aangepast worden op straffe van uitsluiting!
A44: Indien het aantal gegeven cellen niet toereikend is mag dit wel uitgebreid worden.
A45: Let op: gedurende de gebruiksduur van de opstelling kunnen geen kosten meer worden toegevoegd, tenzij Radboudumc hiertoe nadrukkelijk aanvullende opdracht verstrekt.

Sheet e. Uurtarieven
A1: Uitsplitsing kosten
A2: Uurtarieven
A3: Product | B3: Prijs ex. Btw
A4: Touchscreen programmeur | B4: 0
A5: Solution Architect | B5: 0
A6: Projectleider | B6: 0
A7: Projectmedewerker/Instalateur | B7: 0
B8: 0
A9: ruimte voor vrije invulling: | B9: 0
B10: 0
B11: 0
B12: 0
B13: 0
B14: 0
B15: 0
B16: 0
B17: 0
B18: 0
B19: 0
B20: 0
B21: 0
... B29: 0
A30: TOTAAL | B30: =SUM(B4:B29) -> 0

Sheet f. Opties
A1: Uitsplitsing kosten
A2: Opties
A3: Product | B3: Prijs ex. Btw
A4: Ruimte voor vrije invulling optionele onderdelen: | B4: 0
B5: 0
B6: 0
B7: 0
B8: 0
B9: 0
B10: 0
B11: 0
B12: 0
B13: 0
B14: 0
B15: 0
B16: 0
... B34: 0
A37: Prijzen als benoemd worden niet meegenomen in de beoordeling of de score voor het onderdeel Prijs van deze Aanbesteding

Sheet Score
B6: Puntenscore op basis van TCO prijs (excl. BTW)
B8: prijs/score range
B9: 200000 | C9: 20 | D9: is ondergrens
B10: 400000 | C10: 10
B11: 600000 | C11: 0 | D11: is prijsplafond | N11: delta is | O11: =B11-B9 -> 400000
B12: Uw Score | I12: prijs | J12: score | N12: max punten | O12: 20
B13: =Prijsinvulformulier!B12 -> 0 | C13: =IF(B13<=$B$9,$C$9,IF(B13>=$B$11,0,IF(B13<=B$10,(1-(B13-B$9)/(B$10-B$9))*C$10+C$10,(1-(B13-B$10)/(B$11-B$10))*C$10))) -> 20 | I13: 200000 | J13: =IF(I13<=$B$9,$C$9,IF(I13>=$B$11,0,IF(I13<=B$10,(1-(I13-B$9)/(B$10-B$9))*C$10+C$10,(1-(I13-B$10)/(B$11-B$10))*C$10))) -> 20 | L13: 1000000 | N13: prijs/punt | O13: =O11/O12 -> 20000
I14: =I13+7500 -> 207500 | J14: =IF(I14<=$B$9,$C$9,IF(I14>=$B$11,0,IF(I14<=B$10,(1-(I14-B$9)/(B$10-B$9))*C$10+C$10,(1-(I14-B$10)/(B$11-B$10))*C$10))) -> 19.625 | L14: =L13+23333.33 -> 1023333.3
I15: =I14+7500 -> 215000 | J15: =IF(I15<=$B$9,$C$9,IF(I15>=$B$11,0,IF(I15<=B$10,(1-(I15-B$9)/(B$10-B$9))*C$10+C$10,(1-(I15-B$10)/(B$11-B$10))*C$10))) -> 19.25 | L15: =L14+23333.33 -> 1046666.7
I16: =I15+7500 -> 222500 | J16: =IF(I16<=$B$9,$C$9,IF(I16>=$B$11,0,IF(I16<=B$10,(1-(I16-B$9)/(B$10-B$9))*C$10+C$10,(1-(I16-B$10)/(B$11-B$10))*C$10))) -> 18.875 | L16: =L15+23333.33 -> 1070000
I17: =I16+7500 -> 230000 | J17: =IF(I17<=$B$9,$C$9,IF(I17>=$B$11,0,IF(I17<=B$10,(1-(I17-B$9)/(B$10-B$9))*C$10+C$10,(1-(I17-B$10)/(B$11-B$10))*C$10))) -> 18.5 | L17: =L16+23333.33 -> 1093333.3
I18: =I17+7500 -> 237500 | J18: =IF(I18<=$B$9,$C$9,IF(I18>=$B$11,0,IF(I18<=B$10,(1-(I18-B$9)/(B$10-B$9))*C$10+C$10,(1-(I18-B$10)/(B$11-B$10))*C$10))) -> 18.125 | L18: =L17+23333.33 -> 1116666.7
I19: =I18+7500 -> 245000 | J19: =IF(I19<=$B$9,$C$9,IF(I19>=$B$11,0,IF(I19<=B$10,(1-(I19-B$9)/(B$10-B$9))*C$10+C$10,(1-(I19-B$10)/(B$11-B$10))*C$10))) -> 17.75 | L19: =L18+23333.33 -> 1140000
I20: =I19+7500 -> 252500 | J20: =IF(I20<=$B$9,$C$9,IF(I20>=$B$11,0,IF(I20<=B$10,(1-(I20-B$9)/(B$10-B$9))*C$10+C$10,(1-(I20-B$10)/(B$11-B$10))*C$10))) -> 17.375 | L20: =L19+23333.33 -> 1163333.3
I21: =I20+7500 -> 260000 | J21: =IF(I21<=$B$9,$C$9,IF(I21>=$B$11,0,IF(I21<=B$10,(1-(I21-B$9)/(B$10-B$9))*C$10+C$10,(1-(I21-B$10)/(B$11-B$10))*C$10))) -> 17 | L21: =L20+23333.33 -> 1186666.6
I22: =I21+7500 -> 267500 | J22: =IF(I22<=$B$9,$C$9,IF(I22>=$B$11,0,IF(I22<=B$10,(1-(I22-B$9)/(B$10-B$9))*C$10+C$10,(1-(I22-B$10)/(B$11-B$10))*C$10))) -> 16.625 | L22: =L21+23333.33 -> 1210000
I23: =I22+7500 -> 275000 | J23: =IF(I23<=$B$9,$C$9,IF(I23>=$B$11,0,IF(I23<=B$10,(1-(I23-B$9)/(B$10-B$9))*C$10+C$10,(1-(I23-B$10)/(B$11-B$10))*C$10))) -> 16.25 | L23: =L22+23333.33 -> 1233333.3
I24: =I23+7500 -> 282500 | J24: =IF(I24<=$B$9,$C$9,IF(I24>=$B$11,0,IF(I24<=B$10,(1-(I24-B$9)/(B$10-B$9))*C$10+C$10,(1-(I24-B$10)/(B$11-B$10))*C$10))) -> 15.875 | L24: =L23+23333.33 -> 1256666.6
I25: =I24+7500 -> 290000 | J25: =IF(I25<=$B$9,$C$9,IF(I25>=$B$11,0,IF(I25<=B$10,(1-(I25-B$9)/(B$10-B$9))*C$10+C$10,(1-(I25-B$10)/(B$11-B$10))*C$10))) -> 15.5 | L25: =L24+23333.33 -> 1280000
... I68: =I67+7500 -> 612500 | J68: =IF(I68<=$B$9,$C$9,IF(I68>=$B$11,0,IF(I68<=B$10,(1-(I68-B$9)/(B$10-B$9))*C$10+C$10,(1-(I68-B$10)/(B$11-B$10))*C$10))) -> 0 | L68: =L67+23333.33 -> 2283333.2
