Workbook

Sheet 1. Opgave locaties
A1: Bijlage H2: Dealer- en onderhoudslocaties
A2: Raamovereenkomst tractoren 2027
A3: Op dit werkblad vult u per provincie het aantal dealer- en dealer-erkende onderhoudslocaties in welke fysiek gevestigd zijn in de betreffende provincie! Het is uitdrukkelijk niet toegestaan om op dit formulier een bedrijf welke in een bepaalde provincie is gevestigd mee te tellen in een andere provincie!!
A4: NB, Inschrijver is verplicht alle gele cellen in te vullen!
A5: In te vullen en in te dienen voor ieder perceel waarop wordt ingeschreven!
C6: max punten totaal | I6: Vul Perceelnr in
A7: Perceel: | B7: Vul Perceelnr in | C7: 4000 | I7: 1, Landbouwtractoren | L7: Vul aantal locaties in
A8: Provincie | B8: Aantal dealer- en onderhoudslocaties* | C8: max punten per provincie | D8: behaald aantal punten | I8: 2, Bosbouwtractoren | L8: GEEN
A9: Friesland | B9: Vul aantal locaties in | C9: =$C$7/12 -> 333.33333 | D9: =IF(B9="GEEN",-0.5*$C$7/12,IF(B9=1,0.1*C9,IF(B9=2,0.3*C9,IF(B9=3,0.5*C9,IF(B9="4 of meer",C9,))))) -> 0 | L9: 1
A10: Groningen | B10: Vul aantal locaties in | C10: =$C$7/12 -> 333.33333 | D10: =IF(B10="GEEN",-0.5*$C$7/12,IF(B10=1,0.1*C10,IF(B10=2,0.3*C10,IF(B10=3,0.5*C10,IF(B10="4 of meer",C10,))))) -> 0 | L10: 2
A11: Drenthe | B11: Vul aantal locaties in | C11: =$C$7/12 -> 333.33333 | D11: =IF(B11="GEEN",-0.5*$C$7/12,IF(B11=1,0.1*C11,IF(B11=2,0.3*C11,IF(B11=3,0.5*C11,IF(B11="4 of meer",C11,))))) -> 0 | L11: 3
A12: Overijssel | B12: Vul aantal locaties in | C12: =$C$7/12 -> 333.33333 | D12: =IF(B12="GEEN",-0.5*$C$7/12,IF(B12=1,0.1*C12,IF(B12=2,0.3*C12,IF(B12=3,0.5*C12,IF(B12="4 of meer",C12,))))) -> 0 | L12: 4 of meer
A13: Flevoland | B13: Vul aantal locaties in | C13: =$C$7/12 -> 333.33333 | D13: =IF(B13="GEEN",-0.5*$C$7/12,IF(B13=1,0.1*C13,IF(B13=2,0.3*C13,IF(B13=3,0.5*C13,IF(B13="4 of meer",C13,))))) -> 0
A14: Gelderland | B14: Vul aantal locaties in | C14: =$C$7/12 -> 333.33333 | D14: =IF(B14="GEEN",-0.5*$C$7/12,IF(B14=1,0.1*C14,IF(B14=2,0.3*C14,IF(B14=3,0.5*C14,IF(B14="4 of meer",C14,))))) -> 0
A15: Utrecht | B15: Vul aantal locaties in | C15: =$C$7/12 -> 333.33333 | D15: =IF(B15="GEEN",-0.5*$C$7/12,IF(B15=1,0.1*C15,IF(B15=2,0.3*C15,IF(B15=3,0.5*C15,IF(B15="4 of meer",C15,))))) -> 0
A16: Noord Holland | B16: Vul aantal locaties in | C16: =$C$7/12 -> 333.33333 | D16: =IF(B16="GEEN",-0.5*$C$7/12,IF(B16=1,0.1*C16,IF(B16=2,0.3*C16,IF(B16=3,0.5*C16,IF(B16="4 of meer",C16,))))) -> 0
A17: Zuid Holland | B17: Vul aantal locaties in | C17: =$C$7/12 -> 333.33333 | D17: =IF(B17="GEEN",-0.5*$C$7/12,IF(B17=1,0.1*C17,IF(B17=2,0.3*C17,IF(B17=3,0.5*C17,IF(B17="4 of meer",C17,))))) -> 0
A18: Noord Brabant | B18: Vul aantal locaties in | C18: =$C$7/12 -> 333.33333 | D18: =IF(B18="GEEN",-0.5*$C$7/12,IF(B18=1,0.1*C18,IF(B18=2,0.3*C18,IF(B18=3,0.5*C18,IF(B18="4 of meer",C18,))))) -> 0
A19: Zeeland | B19: Vul aantal locaties in | C19: =$C$7/12 -> 333.33333 | D19: =IF(B19="GEEN",-0.5*$C$7/12,IF(B19=1,0.1*C19,IF(B19=2,0.3*C19,IF(B19=3,0.5*C19,IF(B19="4 of meer",C19,))))) -> 0
A20: Limburg | B20: Vul aantal locaties in | C20: =$C$7/12 -> 333.33333 | D20: =IF(B20="GEEN",-0.5*$C$7/12,IF(B20=1,0.1*C20,IF(B20=2,0.3*C20,IF(B20=3,0.5*C20,IF(B20="4 of meer",C20,))))) -> 0
A21: Totaalscore K1, Dealer- en onderhoudslocaties: | D21: =SUM(D9:D20) -> 0
A22: Totaalscore wordt afgerond op geheel getal
A24: Bedrijfsnaam inschrijver | B24: [vul hier uw statutaire bedrijfsnaam in]
A26: * van het opgegeven aantal locaties dient u de bedrijfgegevens in te vullen op werkblad 2. Bedrijfsgegevens locaties.

Sheet 2. Bedrijfsgegevens locaties
A1: Bijlage H2: Dealer- en onderhoudslocaties
A2: Opgave van bedrijfsgegevens van dealer- en onderhoudslocaties
A3: Perceel 1, Landbouwtractoren | B3: FALSE
A4: Perceel 2, Bosbouwtractoren | B4: FALSE
A5: Bedrijfsnaam inschrijver | B5: [vul hier uw statutaire bedrijfsnaam in]
A6: Toelichting: Op dit werkblad vult u per provincie alle gegevens in van alle locaties die u in werkblad 1 heeft opgegeven/geselecteerd. Informatie op beide werkbladen dient met elkaar overeen te komen. Als u bijv. 3 locaties opgeeft in werkblad 1 bij provincie Friesland, dient u op dit werkblad bij provincie Friesland de gegevens van 3 verschillende locaties op te geven. Indien nodig U past zelf het aantal benodigde regels per provincie hierop aan. Bijv. Provincie Friesland 3 locaties opgegeven dan verwijderd u regels met volgnummer 4 en 5. Indien meer dan 5 locaties van toepassing zijn breidt u zelf het aantal regels uit tot het benodigde aantal. In kolom I en J vult u alleen gegevens in indien u in kolom H 'Nee' heeft ingevuld (dus de betreffende locatie niet tot uw onderneming behoort). Alle onderaannemers en 'derden' volgens definities van paragraaf 2.8 en de Aw2012 worden
R7: maak keuze
A8: Provincie | B8: Opgegeven aantal Dealer(s)-, erkende onderhoud locaties (= overname werkblad 1) | C8: Volgnummer | D8: Bedrijfsnaam v.d. locatie | E8: adres | F8: Postcode | G8: Plaats | H8: locatie behoort tot organisatie van inschrijver | I8: Entiteit 'Derden' in zin van UEA, deel IIC, beroep op draagkracht (geschiktheidseisen) | J8: Onderaannemer in zin van UEA, deel IID, geen beroep op draagkracht | K8: opgave werkzaamheden onderaannemer | R8: Ja
A9: Friesland | B9: ='1. Opgave locaties'!B9 -> Vul aantal locaties in | C9: 1 | H9: Ja | I9: maak keuze | J9: maak keuze | R9: Nee
C10: =C9+1 -> 2 | H10: maak keuze | I10: maak keuze | J10: maak keuze
C11: =C10+1 -> 3 | H11: maak keuze | I11: maak keuze | J11: maak keuze
C12: =C11+1 -> 4 | H12: maak keuze | I12: maak keuze | J12: maak keuze
C13: =C12+1 -> 5 | H13: maak keuze | I13: maak keuze | J13: maak keuze
A15: Provincie | B15: Opgegeven aantal Dealer(s)-, erkende onderhoud locaties (= overname werkblad 1) | C15: Volgnummer | D15: Bedrijfsnaam v.d. locatie | E15: adres | F15: Postcode | G15: Plaats | H15: locatie behoort tot organisatie van inschrijver | I15: Entiteit in zin van UEA deel IIC, beroep op draagkracht | J15: Onderaannemer in zin van UEA, deel IID, geen beroep op draagkracht | K15: opgave werkzaamheden onderaannemer
A16: Groningen | B16: ='1. Opgave locaties'!B10 -> Vul aantal locaties in | C16: 1 | H16: maak keuze | I16: maak keuze | J16: maak keuze
C17: =C16+1 -> 2 | H17: maak keuze | I17: maak keuze | J17: maak keuze
C18: =C17+1 -> 3 | H18: maak keuze | I18: maak keuze | J18: maak keuze
C19: =C18+1 -> 4 | H19: maak keuze | I19: maak keuze | J19: maak keuze
C20: =C19+1 -> 5 | H20: maak keuze | I20: maak keuze | J20: maak keuze
A22: Provincie | B22: Opgegeven aantal Dealer(s)-, erkende onderhoud locaties (= overname werkblad 1) | C22: Volgnummer | D22: Bedrijfsnaam v.d. locatie | E22: adres | F22: Postcode | G22: Plaats | H22: locatie behoort tot organisatie van inschrijver | I22: Entiteit in zin van UEA deel IIC, beroep op draagkracht | J22: Onderaannemer in zin van UEA, deel IID, geen beroep op draagkracht | K22: opgave werkzaamheden onderaannemer
A23: Drenthe | B23: ='1. Opgave locaties'!B11 -> Vul aantal locaties in | C23: 1 | H23: maak keuze | I23: maak keuze | J23: maak keuze
C24: =C23+1 -> 2 | H24: maak keuze | I24: maak keuze | J24: maak keuze
C25: =C24+1 -> 3 | H25: maak keuze | I25: maak keuze | J25: maak keuze
C26: =C25+1 -> 4 | H26: maak keuze | I26: maak keuze | J26: maak keuze
C27: =C26+1 -> 5 | H27: maak keuze | I27: maak keuze | J27: maak keuze
A29: Provincie | B29: Opgegeven aantal Dealer(s)-, erkende onderhoud locaties (= overname werkblad 1) | C29: Volgnummer | D29: Bedrijfsnaam v.d. locatie | E29: adres | F29: Postcode | G29: Plaats | H29: locatie behoort tot organisatie van inschrijver | I29: Entiteit in zin van UEA deel IIC, beroep op draagkracht | J29: Onderaannemer in zin van UEA, deel IID, geen beroep op draagkracht | K29: opgave werkzaamheden onderaannemer
A30: Overijssel | B30: ='1. Opgave locaties'!B12 -> Vul aantal locaties in | C30: 1 | H30: maak keuze | I30: maak keuze | J30: maak keuze
C31: =C30+1 -> 2 | H31: maak keuze | I31: maak keuze | J31: maak keuze
C32: =C31+1 -> 3 | H32: maak keuze | I32: maak keuze | J32: maak keuze
C33: =C32+1 -> 4 | H33: maak keuze | I33: maak keuze | J33: maak keuze
C34: =C33+1 -> 5 | H34: maak keuze | I34: maak keuze | J34: maak keuze
A36: Provincie | B36: Opgegeven aantal Dealer(s)-, erkende onderhoud locaties (= overname werkblad 1) | C36: Volgnummer | D36: Bedrijfsnaam v.d. locatie | E36: adres | F36: Postcode | G36: Plaats | H36: locatie behoort tot organisatie van inschrijver | I36: Entiteit in zin van UEA deel IIC, beroep op draagkracht | J36: Onderaannemer in zin van UEA, deel IID, geen beroep op draagkracht | K36: opgave werkzaamheden onderaannemer
A37: Flevoland | B37: ='1. Opgave locaties'!B13 -> Vul aantal locaties in | C37: 1 | H37: maak keuze | I37: maak keuze | J37: maak keuze
C38: =C37+1 -> 2 | H38: maak keuze | I38: maak keuze | J38: maak keuze
C39: =C38+1 -> 3 | H39: maak keuze | I39: maak keuze | J39: maak keuze
C40: =C39+1 -> 4 | H40: maak keuze | I40: maak keuze | J40: maak keuze
C41: =C40+1 -> 5 | H41: maak keuze | I41: maak keuze | J41: maak keuze
A43: Provincie | B43: Opgegeven aantal Dealer(s)-, erkende onderhoud locaties (= overname werkblad 1) | C43: Volgnummer | D43: Bedrijfsnaam v.d. locatie | E43: adres | F43: Postcode | G43: Plaats | H43: locatie behoort tot organisatie van inschrijver | I43: Entiteit in zin van UEA deel IIC, beroep op draagkracht | J43: Onderaannemer in zin van UEA, deel IID, geen beroep op draagkracht | K43: opgave werkzaamheden onderaannemer
A44: Gelderland | B44: ='1. Opgave locaties'!B14 -> Vul aantal locaties in | C44: 1 | H44: maak keuze | I44: maak keuze | J44: maak keuze
C45: =C44+1 -> 2 | H45: maak keuze | I45: maak keuze | J45: maak keuze
...
