Workbook
Name \e: #REF!
Name \e: #REF!
Name \l: #REF!
Name \l: #REF!
Name \T: #REF!
Name \T: #REF!
Name _____________MCV2: [1]Vehicles!$B$58:$O$58
Name ____________MCV2: [1]Vehicles!$B$58:$O$58
Name ___________MCV2: [1]Vehicles!$B$58:$O$58
Name __________MCV1: [2]Vehicles!$B$58:$O$58
Name __________MCV2: [1]Vehicles!$B$58:$O$58
Name _________MCV2: [1]Vehicles!$B$58:$O$58
Name ________MCV2: [1]Vehicles!$B$58:$O$58
Name _______MCV2: [1]Vehicles!$B$58:$O$58
Name ______MCV2: [1]Vehicles!$B$58:$O$58
Name _____MCV2: [1]Vehicles!$B$58:$O$58
Name ____MCV2: [1]Vehicles!$B$58:$O$58
Name ___MCV2: [1]Vehicles!$B$58:$O$58
Name ___Pos1: '[3]Data CpGRP'!$A$41
Name ___Pos2: '[3]Data CpGRP'!$A$42
Name ___Pos3: '[3]Data CpGRP'!$A$43
Name ___Pos4: '[3]Data CpGRP'!$A$44
Name ___Pos5: '[3]Data CpGRP'!$A$45
Name ___Pos6: '[3]Data CpGRP'!$A$46
Name ___Pos7: '[3]Data CpGRP'!$A$47
Name ___Pos8: '[3]Data CpGRP'!$A$48
Name __IND1: #REF!
Name __IND1: #REF!
Name __IND2: #REF!
Name __IND2: #REF!
Name __MAIN__: #REF!
Name __MAIN__: #REF!
Name __MCV2: [1]Vehicles!$B$58:$O$58
Name __Pos1: '[3]Data CpGRP'!$A$41
Name __Pos2: '[3]Data CpGRP'!$A$42
Name __Pos3: '[3]Data CpGRP'!$A$43
Name __Pos4: '[3]Data CpGRP'!$A$44
Name __Pos5: '[3]Data CpGRP'!$A$45
Name __Pos6: '[3]Data CpGRP'!$A$46
Name __Pos7: '[3]Data CpGRP'!$A$47
Name __Pos8: '[3]Data CpGRP'!$A$48
Name __qryEmisjeMP__: #REF!
Name __qryEmisjeMP__: #REF!
Name _1: #N/A
Name _1000A01: #N/A
Name _10SOÁ_CTÖØ: #REF!
Name _10SOÁ_CTÖØ: #REF!
Name _11SOÁ_LÖÔÏNG: #REF!
Name _11SOÁ_LÖÔÏNG: #REF!
Name _12TEÂN_HAØNG: #REF!
Name _13TEÂN_KHAÙCH_HAØ: #REF!
Name _14THAØNH_TIEÀN: #REF!
Name _15TRÒ_GIAÙ: #REF!
Name _16TRÒ_GIAÙ__VAT: #REF!
Name _2: #REF!
Name _2_?: #REF!
Name _3: #REF!
Name _4_??????: #REF!
Name _7MAÕ_HAØNG: #REF!
Name _8MAÕ_SOÁ_THUEÁ: #REF!

Sheet 1.Instructie
B2: Aanbesteding: Mediadiensten voor het Voedingscentrum
B3: Procedure: Europees, openbaar
B4: TenderNed kenmerk: TN 608287
B5: Datum: 21 september 2026
B6: Versie:1
B8: Prijzenblad instructie
B9: Deze instructie is een aanvulling op het Beschrijvend document p. 7.1 en Bijlage 5: Subgunningscriteria.
B10: 1. Inschrijver vult enkel de LICHT-GELE cellen in, incusief de onderdelen de niet meewegen in de beoordeling. 2. Op alle tabbladen (1 t/m 9) verstrekt Inschrijver informatie, met uitzondering van dit instructieblad en het Totaalblad (2) 3. Het niet volledig invullen of wijzigen van het Prijzenblad leidt tot uitsluiting van de Inschrijving. 4. Het wordt expliciet aangegeven als Inschrijver opmerkingen of rijen toe kan voegen. Op overige plaatsen is dit niet toegestaan.
B11: 5. Alle ingevulde prijzen zijn All-in dat wil zeggen inclusief alle bijgehorende kosten zoals reiskosten etc. EXCLUSIEF BTW. 6. Opgegeven Prijzen dienen binnen de aangegeven bandbreedte te vallen. Op straffe van uitsluiting van de Inschrijving. 7. De tabbladen 6, 7, 8 en 9 worden niet meegenomen in de beoordeling Prijs, deze bedragen zijn wel bindend en onderdeel uit maken van de Raamovereenkomst.
B13: Kleur code alle tabbladen
B14: Koptekst/formule/Aanbestedende dienst Input
B15: Koptekst/formule/Aanbestedende dienst Input
B16: Inschrijver input

Sheet 2.Totaalblad
B1: Toelichting
B2: In dit totaalblad hoeft Inschrijver niets in te vullen. Dit totaalblad is de resultante van de hiernavolgende tabbladen. Na invulling van de tabbladen Uren, fee en budgetwijziging, Kosten mediajaarstrategie en Kosten directe plaatsingen wordt dit tabblad automatisch gevuld.
B4: Kwantitatieve gunningscriteria | C4: Max. punten per onderdeel | D4: Bandbreedte
B5: Media- en bureaukosten | D5: Minimum | E5: Maximum | F5: Input Inschrijver | G5: Score
B6: P1. Uurtarieven | C6: 125 | D6: 99.38 | E6: 152.5 | F6: ='4.Uren, fee & budgetwijziging'!G27 -> 0 | G6: =IF(OR(F6="",F6=0),0,IF(ABS(F6-D6)<0.01,C6,IF(F6>=E6,0,C6*(E6-F6)/(E6-D6)))) -> 0
B7: P2. Fee % | C7: 125 | D7: =260%/100 -> 0.026 | E7: =1080%/100 -> 0.108 | F7: ='4.Uren, fee & budgetwijziging'!H33 -> 0 | G7: =IF(OR(F7="",F7=0),0,IF(F7=D7,C7,IF(F7>=E7,0,C7*(E7-F7)/(E7-D7)))) -> 0
B8: P3. Kosten directe plaatsingen | C8: 50 | D8: 50 | E8: 200 | F8: ='5.Kosten directe plaatsingen'!E8 -> 0 | G8: =IF(F8<=0,0,IF(ABS(F8-D8)<0.01,C8,IF(F8>=E8,0,C8*(E8-F8)/(E8-D8)))) -> 0
B9: Maximaal te behalen punten: | C9: =SUM(C6:C8) -> 300 | D9: Totaal aantal punten | G9: =SUM(G6:G8) -> 0

Sheet 3. Inschrijver
B1: Informatie Inschrijver en ondertekening
B2: Inschrijver:
B3: Naam rechtsgeldige ondertekenaar:
B4: Datum:
B5: Handtekening
B6: (enkel in PDF)

Sheet 4.Uren, fee & budgetwijziging
B1: Toelichting
B2: In het tabblad 'Functieomschrijving' wordt benoemd hoe Inschrijver de functies onder 'Verantwoordelijkheden' benoemt.
B5: Vul hieronder binnen de benoemde bandbreedte het uurtarief per genoemde dienst in:
B6: P1. UURTARIEVEN | E6: Bandbreedte
C7: Verantwoordelijkheden | D7: Benaming functie bij Inschrijver | E7: Minimum uurtarief | F7: Maximum uurtarief | G7: Uurtarief Inschrijver
B8: Uurvergoeding Mediaconsultancy senior
C9: Client advies en -management | E9: 120 | F9: 190
C10: Communicatie design (strategie) | E10: 120 | F10: 190
C11: Content en partnerships | E11: 120 | F11: 190
C12: Online marketing | E12: 120 | F12: 190
C13: Search advertising (SEA) | E13: 120 | F13: 190
C14: Social advertising | E14: 120 | F14: 190
C15: Data Science & reporting | E15: 120 | F15: 190
B16: Uurvergoeding Mediaconsultancy medior
C17: Client advies en -management | E17: 90 | F17: 130
C18: Mediaplanning (offline) | E18: 90 | F18: 130
C19: Audio Visueel (RTV) | E19: 90 | F19: 130
C20: Display & video | E20: 90 | F20: 130
C21: Out of home | E21: 90 | F21: 130
C22: Search advertising (SEA) | E22: 90 | F22: 130
C23: Social advertising | E23: 90 | F23: 130
B24: Uurvergoeding Mediaconsultancy junior
C25: Search advertising (SEA) | E25: 60 | F25: 100
C26: Social advertising | E26: 60 | F26: 100
B27: Uurvergoeding GEMIDDELD GEWOGEN TOTAAL | E27: =SUM(E9:E26)/16 -> 99.375 | F27: =SUM(F9:F26)/16 -> 152.5 | G27: =(G9+G10+G11+G12+G13+G14+G15+G17+G18+G19+G21+G20+G22+G23+G25+G26)/16 -> 0
B30: P2. FEE | C30: Uitvoering van: | D30: Minimum fee (%) | E30: Maximum fee (%) | F30: Fee Inschrijver | G30: Weging | H30: Totale fee
B31: FEE voor media-optimalisatie/-monitoring, -executie en -administratie* | C31: Offline media | D31: 0.01 | E31: 0.06 | G31: 0.2 | H31: =F31*G31 -> 0
B32: FEE voor media-executie & -administratie* | C32: Online media | D32: 0.03 | E32: 0.12 | G32: 0.8 | H32: =F32*G32 -> 0
B33: TOTALE FEE: | H33: =SUM(H31:H32) -> 0
B34: *NB: in het tabblad 'functieomschrijving' wordt tevens benoemd welke werkzaamheden op uurbasis, en welke werkzaamheden in de fee worden doorberekend
B36: De onderstaande uurtarieven betreft uurtarieven voor werkzaamheden die niet in de tabel hierboven worden genoemd. Deze zullen niet worden beoordeeld in de aanbesteding, maar zijn wel bindend.
B37: Omschrijving werkzaamheden: | C37: Uurtarief junior | D37: Uurtarief medior | E37: Uurtarief senior
B38: <<<<voeg omschrijving toe>>>>
B39: <<<<voeg omschrijving toe>>>>
B40: <<<<voeg omschrijving toe>>>>
B41: <<<<voeg omschrijving toe>>>>
B42: <<<<voeg omschrijving toe>>>>
B43: <<<<voeg omschrijving toe>>>>
B45: Verandering FEE % bij stijging of daling mediabudget. Dit is een vaste interval en geen geleideschaal.
B46: Totale net net media bestedingen in Euro op jaarbasis | C46: Meer of minder budget | D46: Totale offline fee in % van net net budget | E46: Totale online fee in % van net net budget
...

Sheet 5.Kosten directe plaatsingen
B1: Toelichting
B2: In dit tabblad geeft Inschrijver de kosten weer voor een zogenaamde directe opdracht. Inschrijver verzorgt hierbij alleen de opdrachtbevestiging aan de mediapartner, de facturatie tussen media en bureau en de factuur van bureau naar het Voedingscentrum. Het Voedingscentrum levert hiervoor alle relevante informatie aan Inschrijver, zodat Inschrijver (opdrachtnemer) deze opdrachten kan verwerken. Gevraagd wordt om voor deze zogenaamde ‘directe plaatsingen’ een vaste kostprijs exclusief BTW per opdracht door te berekenen. NB: een directe opdracht kan uit meerdere plaatsingen bestaan. Ter indicatie: het betreft ongeveer 30-50 directe plaatsingen per jaar, verdeeld over ongeveer 20 opdrachten. Aan deze opgegeven aantallen kunnen Inschrijvers geen rechten ontlenen.
B5: Vul hieronder binnen de benoemde bandbreedte de kosten voor het afhandelen van een zogenaamde 'directe plaatsing' in
C6: Bandbreedte
B7: P3. Kosten per opdracht voor directe plaatsingen | C7: Minimum Kosten | D7: Maximum kosten | E7: Kosten per opdracht
C8: 50 | D8: 200

Sheet 6.Kosten mediajaarstrategie
B1: Toelichting
B2: In dit tabblad geeft Inschrijver het aantal uren per functieniveau aan dat gemoeid is met het ontwikkelen van een mediastrategie op basis van Subgunningscriterium K1.2: de Case Eetvragen campagne. De achtergrondinformatie benodigd voor het beantwoorden van deze opdracht is opgenomen in Bijlage 7: Case campagne Eetvragen.
B4: Vul hieronder het aantal uren in dat gemoeid is per functie met het ontwikkelen van een media-strategie voor de eetvragencase
B5: Kosten voor campagne ontwikkeling op basis van briefing | C5: Verantwoordelijkheden | D5: Benaming functie bij Inschrijver | E5: Uurtarief Inschrijver | F5: Aantal uren | G5: UREN X UURTARIEF
B6: Uurvergoeding Mediaconsultancy senior
C7: Client advies en -management | D7: ='4.Uren, fee & budgetwijziging'!D9 -> 0 | E7: ='4.Uren, fee & budgetwijziging'!G9 -> 0 | G7: =E7*F7 -> 0
C8: Communicatie design (strategie) | D8: ='4.Uren, fee & budgetwijziging'!D10 -> 0 | E8: ='4.Uren, fee & budgetwijziging'!G10 -> 0 | G8: =E8*F8 -> 0
C9: Content en partnerships | D9: ='4.Uren, fee & budgetwijziging'!D11 -> 0 | E9: ='4.Uren, fee & budgetwijziging'!G11 -> 0 | G9: =E9*F9 -> 0
C10: Online marketing | D10: ='4.Uren, fee & budgetwijziging'!D12 -> 0 | E10: ='4.Uren, fee & budgetwijziging'!G12 -> 0 | G10: =E10*F10 -> 0
C11: Search advertising (SEA) | D11: ='4.Uren, fee & budgetwijziging'!D13 -> 0 | E11: ='4.Uren, fee & budgetwijziging'!G13 -> 0 | G11: =E11*F11 -> 0
C12: Social advertising | D12: ='4.Uren, fee & budgetwijziging'!D14 -> 0 | E12: ='4.Uren, fee & budgetwijziging'!G14 -> 0 | G12: =E12*F12 -> 0
C13: Data Science & reporting | D13: ='4.Uren, fee & budgetwijziging'!D15 -> 0 | E13: ='4.Uren, fee & budgetwijziging'!G15 -> 0 | G13: =E13*F13 -> 0
B14: Uurvergoeding Mediaconsultancy medior | D14: ='4.Uren, fee & budgetwijziging'!D16
C15: Client advies en -management | D15: ='4.Uren, fee & budgetwijziging'!D17 -> 0 | E15: ='4.Uren, fee & budgetwijziging'!G17 -> 0 | G15: =E15*F15 -> 0
C16: Mediaplanning (offline) | D16: ='4.Uren, fee & budgetwijziging'!D18 -> 0 | E16: ='4.Uren, fee & budgetwijziging'!G18 -> 0 | G16: =E16*F16 -> 0
C17: Audio Visueel (RTV) | D17: ='4.Uren, fee & budgetwijziging'!D19 -> 0 | E17: ='4.Uren, fee & budgetwijziging'!G19 -> 0 | G17: =E17*F17 -> 0
C18: Display & video | D18: ='4.Uren, fee & budgetwijziging'!D20 -> 0 | E18: ='4.Uren, fee & budgetwijziging'!G20 -> 0 | G18: =E18*F18 -> 0
C19: Out of home | D19: ='4.Uren, fee & budgetwijziging'!D21 -> 0 | E19: ='4.Uren, fee & budgetwijziging'!G21 -> 0 | G19: =E19*F19 -> 0
C20: Search advertising (SEA) | D20: ='4.Uren, fee & budgetwijziging'!D22 -> 0 | E20: ='4.Uren, fee & budgetwijziging'!G22 -> 0 | G20: =E20*F20 -> 0
C21: Social advertising | D21: ='4.Uren, fee & budgetwijziging'!D23 -> 0 | E21: ='4.Uren, fee & budgetwijziging'!G23 -> 0 | G21: =E21*F21 -> 0
B22: Uurvergoeding Mediaconsultancy junior | D22: ='4.Uren, fee & budgetwijziging'!D24
C23: Search advertising (SEA) | D23: ='4.Uren, fee & budgetwijziging'!D25 -> 0 | E23: ='4.Uren, fee & budgetwijziging'!G25 -> 0 | G23: =E23*F23 -> 0
C24: Social advertising | D24: ='4.Uren, fee & budgetwijziging'!D26 -> 0 | E24: ='4.Uren, fee & budgetwijziging'!G26 -> 0 | G24: =E24*F24 -> 0
B25: Totale kosten (uren) voor het maken van de mediastrategie Case Campagne Eetvragen | D25: ='4.Uren, fee & budgetwijziging'!D27 | G25: =SUM(G7:G24) -> 0

Sheet 7.Digital Technology Kosten
B1: Toelichting
B2: De onderstaande tarieven betreffen de kosten voor technische tools die noodzakelijk zijn bij de inkoop van online media campagnes.
B3: NB: de kosten voor de onderstaande tooling worden ingevuld zijn marktconform en betreffen de Out of Pocketkosten voor de Inschrijver (zonder opslag) exclusief BTW.
B5: 1. Third Party Ad server kosten
B6: Vul de technologie kosten in die van toepassing zijn.
B7: Voor de third party ad server kosten hoeft hieronder niets te worden ingevuld. Inschrijver wordt gevraagd om in excel formaat een lijst te uploaden van de adserverkosten (netto kosten per unit in euro) voor de meest gebruikte ad servers. In dit overzicht staan de meest gebruikte formaten vermeld en vervolgens (per formaat) de KPI's waarop tracking wordt toegepast (bv impressions, click, viewing time) en welke eenheid wordt gebruikt (bv CPM, CPC, CPV) per gebruikte ad server. Dit document kan worden geupload onder de naam: 'prijzenblad - Third Party Adserverkosten'.
B10: 2. Demand Side Platform (DSP) kosten
B11: Vul de DSP kosten in als % van net media
B13: Naam | C13: Platform fee tarief in % (1 decimaal): Alle niet-YouTube Inventory | D13: Platform fee kosten in % (1 decimaal): YouTube Trueview Inventory
B14: Google Marketing Platform - Display & Video 360 (DV360)
B16: 3. Third party verification tools (bijvoorbeeld viewability, brand safety en/of ad fraud)
B17: Vul in CPM met 2 decimalen (netto)
B19: Naam | C19: CPM (2 decimalen) | D19: Als kosten anders worden berekend dan via CPM, geef dan hier weer
B20: Integral Ad Science (IAS)
B21: MOAT
B22: Double Verify
B23: Channel Factory (YouTube Brand Safety)
B24: Anders, vul in
B25: Anders, vul in
B26: Anders, vul in
B28: Opmerkingen. Welke verificatie tool heeft de voorkeur en waarom
B31: 4. Bid and/or optimisation tools
B32: Vul in de platform tarieven voor bidding en optimalisatie tools als % (2 decimalen) net media
B34: Name | C34: Vul in globaal of lokaal contract | D34: Platform fee tarief in % (1 decimaal) | E34: Als kosten anders worden berekend dan platform %, geef dan hier weer
B35: Google Marketing Platform - Search Ads 360
B36: Smartly
B38: Opmerkingen

Sheet 8.Tooling
B1: Toelichting
B2: Bij meer beschikbare tools kan Inschrijver rijen invoegen
B5: Vul in de tabel hieronder de tools en onderzoeken in die inclusief zijn in de fee
B6: Naam tool | C6: Beschrijving tool / service | G6: Eenmalig of continu?
B7: Bijv. Media Buying Systems | C7: Inkoop en evaluatie tool voor RTV | G7: Continu
B23: Vul in de tabel hieronder de activiteiten die Inschrijver kosteloos wil aanbieden
B24: Activiteit | C24: Omschrijving activiteiten | D24: Titel (bijv. business intelligence director) | E24: Aantal uur | F24: Waarde
B25: Bijv. training
B41: Vul in de tabel hieronder de tools, onderzoeken en activiteiten die geen onderdeel zijn van de geoffreerde fee, maar mogelijk wel interessant zijn voor het Voedingscentrum
B42: Tool/Activiteit | C42: Omschrijving | D42: Jaarlijkse kosten

Sheet 9. Specs werkzaamheden
B1: Toelichting
B2: Vul in de tabel hieronder in welke activiteiten/diensten van Inschrijver binnen de fee vallen en welke op uurbasis worden doorberekend. Door het invullen van een 'X' geeft Inschrijver aan dat de werkzaamheden op uurbasis danwel in de fee worden verrekend
B5: Categorie dienst | C5: Specificatie | D5: In fee | E5: op uurbasis | F5: Toelichting
B6: VOORBEELD: Kennisdeling | C6: Medialandschap presentatie | D6: X | F6: maximaal 2x per jaar
B8: Strategie en consultancy | C8: Mediabriefing & debrief
C9: Afstemming partners (o.a. reclamebureau
C10: Strategie meetings
C11: Ontwikkelen jaarstrategie
C12: Ontwikkelen campagne strategie en mediaplannen
B14: Campagne management | C14: Uitwerking mediaplannen tot concreet inzetvoorstel offline
C15: Uitwerking mediaplannen tot concreet inzetvoorstel online
C16: Verbeteren plannen op specifieke KPI's
C17: Campagnebeheer / monitoring - offline
C18: Campagnebeheer / monitoring - online
C19: Campagnerapportage (updates)
C20: Campagne-analyse en evaluatie
C21: Paid display-video-social advertising optimalisatie
C22: Pixel en meetplannen inrichten
C23: Trafficking & tagging
B25: Trading / buying | C25: Tradingstactiek voor inkoop offline & online media
C26: Direct buying van display & video
C27: Programmatic inkoop van display en video
C28: Inkoop paid social
C29: Onderhandelen jaarafspraken exploitanten
C30: Ad hoc onderhandelingen
C31: Evaluatie & rapportage onderhandelingsresultaten
C32: Boeken van mediaruimte
C33: Annuleren van mediaruimte
B35: Monitoring & evaluatie | C35: Monitoren van ingekochte campagnes online
C36: Monitoren van ingekochte campagnes offline
C37: Campagne rapportages bijhouden op dashboard
C38: Campagnes aanpassen op basis van resultaten
B40: Administratie / Accountmanagement | C40: Opties nemen, reserveren, bestelling, trafficking
C41: Materiaal- en leveringsspecificaties
C42: Plaatsingsopdrachten
C43: Procuratieformulieren
C44: Instructies voor uitzending / plaatsing
C45: Controle van plaatsingen
C46: Klachtenafhandeling
C47: Facturatie en betaling van media
...
