Workbook

Sheet UITLEG
B2: Tabbladen
B4: Dichtheden | D4: In deze sheet worden de populaties van de soorten per gemeente berekend op basis van dichtheden per km2 en wordt er vanuit de sheet "Per woonkern" een samenvatting gegeven per gemeente. Voor de getallen en keuzes die gemaakt zijn zie de Snijder, 2021 en 2022 (Snijder, M.A., 2021. Populatie inschatting en achtergronddocument beschermde gebouw_x0002_bewonende vleermuissoorten bij particulieren. Pre-SMP voor de Provincie Utrecht. Ecologisch Adviesbureau Viridis, Culemborg, PRNR-2020-157 OF Snijder, M.A., 2022. Populatie inschatting en achtergronddocument beschermde gebouw_x0002_bewonende vleermuissoorten bij particulieren. Pre-SMP voor de Provincie Overijssel. Ecologisch Adviesbureau Viridis, Culemborg, PRNR-2022-113.)
B7: Per woonkern | D7: In deze sheet worden per woonkern berekend hoe groot de populaties gewone dwergvleermuis, laatvlieger, huismus en gierzwaluw zouden zijn met de verdeling over de lengte aan omtrek (P.pip & E.ser) of oppervlakte van de woonkern (vogels). Daarnaast berekent de sheet het aantal kolonies van de twee vleermuissoorten door de berekende populatie te delen door twee (man:vrouw) en dit getal te delen door de gemiddelde koloniegrootte, daarbij rondt hij het aantal kolonies af waardoor er ook grote kolonies zullen ontstaan.
B10: INVULLEN | D10: In deze sheet dient u in cel B5 een gemeente te kiezen uit het dropdown menu. De gegevens van deze gemeente worden dan zichtbaar in de matrix welke wordt gebruikt om de gegevens in te laden in het tabblad 'Overzicht simpel'.
B13: Overzicht simpel | D13: Deze sheet geeft een versimpelde samenvatting van de berekende aantasting per soort en per woonkern.
B16: CBS woonkernen | D16: Dit is de sheet met de gegevens van het CBS bevolkingskernen 2021. daarin zijn een aantal correcties toegepast die in de sheet zijn bijgehouden, [geel] = verwijderde regel, deze woonkern betreft een relict van een begrenzing van een woonkern die net buiten de gemeentegrens valt en daardoor bij het opknippen van de woonkernen per gemeente dubbel zijn benoemd in twee verschillende gemeentes. [blauw] = naam van de woonkern is aangepast, bijv. Velp en Arnhem heten beide "Groot-Arnhem". Het aantal huizen dat is geselecteerd in de dataset zijn woonhuizen die grondgebonden zijn, gebouwd tussen 1910 t/m 1991, in particulier eigendom en met energielabel C t/m G.
D18: =HYPERLINK("https://www.cbs.nl/nl-nl/maatwerk/2024/11/bevolkingskernen-per-gemeente-1-1-2021") -> https://www.cbs.nl/nl-nl/maatwerk/2024/11/bevolkingskernen-per-gemeente-1-1-2021
B20: Rekensheet aantasting | D20: Dit is de sheet die de kansberekeningen maakt, dit is de sheet die ook voor het pre-SMP is toegepast, het is een vrij complexe serie weergaves die de sheet maakt op basis van wat er in de sheet: "INVULLEN" is ingevoerd. De samenvatting van deze sheet is te vinden in de sheet: "Overzicht simpel". Via het rode driehoekje in de kolomtitels is uitleg op te vragen. Voor de aantasting is uitgegaan van een 6% isolatiepercentage (zie ook de notitie 'Notitie berekening aangepast percentage op aantasting kraamverblijfplaatsen en nesten van gebouwbewonende soorten in het kader van de landelijke lijn NVI' van Brouwer & Snijder (2024)
B23: Rekenvoorbeeld | D23: Op deze sheet staat een voorbeeldberekening, het aantal verblijfplaatsen dat in een woonkern is berekend wordt evenredig verdeeld over de panden uit het CBS-bestand en rekent daarmee de kans op aantasting uit. Zie hiervoor ook het beleidskader van de provincie Utrecht t.a.v. het pre-SMP.
B25: Gebruikte afkortingen:
B26: P.pip | D26: Pipistrellus pipistrellus, Gewone dwergvleermuis
B27: E.ser | D27: Eptesicus serotinus, Laatvlieger
B28: P.aur | D28: Plecotus auritus, Gewone grootoorvleermuis
B29: M.mys | D29: Myotis mystacinus, Baardvleermuis
B30: P.dom | D30: Passer domesticus, Huismus
B31: A.apus | D31: Apus apus, Gierzwaluw
B32: FRP | D32: Favourable Reference Population (bron: Ottburg, F.G.W.A. & C.A.M. van Swaay (red., 2014). Gunstige referentiewaarden voor populatieomvang en verspreidingsgebied van soorten van bijlage II, IV en V van de Habitatrichtlijn. Wageningen, Wettelijke Onderzoekstaken Natuur & Milieu, WOt-rapport 124. 269 blz.; 76 fig.; 12 tab.; diverse ref)
D33: =HYPERLINK("https://research.wur.nl/en/publications/gunstige-referentiewaarden-voor-populatieomvang-en-verspreidingsg") -> https://research.wur.nl/en/publications/gunstige-referentiewaarden-voor-populatieomvang-en-verspreidingsg

Sheet Dichtheden
B2: Kerncijfers | C2: P.pip | D2: E.ser | E2: M.mys | F2: P.aur | G2: P.dom | H2: A.apus | I2: De waarden in de gele vlakken worden handmatig ingevuld en vormen de basis voor alle dichtheidsberekeningen. In de sheet: "Per woonkern" is per gemeente en per woonkerneen berekening gemaakt van de populaties gewone dwergvleermuis en laatvlieger.
B3: Gemiddelde koloniegrootte | C3: 100 | D3: 25 | E3: 12 | F3: 17 | G3: broedparen | H3: broedparen
B4: Dichtheden 2022 (per km2) | C4: 24 | D4: 4 | E4: 0.98 | F4: 1.66 | G4: 225 | H4: 35
B5: Dichtheden FRP-1994 (per km2) | C5: 17.7 | D5: 0.98 | E5: 0.98 | F5: 1.66 | G5: 218 | H5: 15 | AS5: 1994
B6: Baltsterritoria min (ha) | C6: 1.2 | M6: Pipistrellus pipistrellus | X6: Myotis mystacinus | AB6: Plecotus auritus | AJ6: Eptesicus serotinus | AP6: Passer domesticus | AQ6: Apus apus | AS6: Pipistrellus pipistrellus | AU6: Myotis mystacinus | AW6: Plecotus auritus | AY6: Eptesicus serotinus
B7: Baltsterritoria gem. (ha) | C7: 3
M8: Territoria in bebouwing | R8: Oppervlak gemeente | T8: % Oppervlak woonkernen | V8: % randen woonkernen | X8: Oppervlak gemeente | Z8: % randen woonkernen | AB8: Oppervlak gemeente 50% | AD8: Oppervlak gemeente 100% | AF8: Oppervlak gemeente | AH8: % randen woonkernen | AJ8: Oppervlak gemeente | AL8: % Oppervlak woonkernen | AN8: % randen woonkernen | AP8: Oppervlak woonkernen | AQ8: Oppervlak woonkernen | AS8: % randen woonkernen | AU8: % randen woonkernen | AW8: Oppervlak gemeente 50% | AY8: % randen woonkernen
B10: Limburg | C10: Opp. land | E10: Opp. buitengebied | G10: Woonkernen
B11: Gemeente | C11: Opp. land (KM2) | D11: % opp. Land prov | E11: buiten gebied (km2) | F11: % buiten gebied | G11: Oppervlak woonkernen (km2) | H11: % opp woonkern t.o.v. totaal gemeente | I11: % opp. woonkern tov totaal woonkernen | J11: Berekend aantal woonkernen | K11: Omtrek woonkern | L11: % omtrek woonkern | M11: Aantal territoria van 3 ha | N11: Populatie bij territoria van 3 ha | O11: Aantal kolonies bij territoria van 3 ha | P11: Aantal territoria van 1,2 ha | Q11: Populatie bij territoria van 1,2 ha | R11: Pop. min | S11: Min kolonies | T11: Populatie | U11: Kolonies | V11: Populatie | W11: Kolonies | X11: Populatie | Y11: Kolonies | Z11: Populatie | AA11: Kolonies | AB11: Populatie | AC11: Kolonies | AD11: Populatie | AE11: Kolonies | AF11: Populatie | AG11: Kolonies | AH11: pop. over rand woonkern | AI11: kolonie over rand woonkern | AJ11: Populatie | AK11: Kolonies | AL11: pop. over oppervlak woonkern | AM11: kolonie over oppervlak woonkern | AN11: Populatie | AO11: Kolonies | AP11: broedparen over oppervlak woonkern | AQ11: broedparen over oppervlak woonkern | AS11: Populatie | AT11: Kolonies | AU11: Populatie | AV11: Kolonies | AW11: Populatie | AX11: Kolonies | AY11: Populatie | AZ11: Kolonies
A12: 1 | B12: Gemeente Beek | C12: 21.03 | D12: =C12/$C$68 -> 0.0097967968 | E12: =C12-G12 -> 16.485741 | F12: =IF(E12=0,0,E12/C12) -> 0.78391541 | G12: ='Per woonkern'!D2 -> 4.544259 | H12: =IF(G12=0,0,G12/C12) -> 0.21608459 | I12: =G12/$G$68 -> 0.013640617 | J12: ='Per woonkern'!B2 -> 4 | K12: ='Per woonkern'!C2 -> 21.580453 | L12: =K12/$K$68 -> 0.014232375 | M12: =G12*100/$C$7 -> 151.4753 | N12: =M12*2 -> 302.9506 | O12: =M12/$C$3 -> 1.514753 | P12: =G12*100/$C$6 -> 378.68825 | Q12: =P12*2 -> 757.3765 | R12: =$V$70*D12 -> 504.72 | S12: =R12/2/$C$3 -> 2.5236 | T12: =$V$70*I12 -> 702.74933 | U12: =T12/2/$C$3 -> 3.5137466 | V12: =$V$70*L12 -> 733.236 | W12: ='Per woonkern'!H2 -> 5 | X12: =$E$4*C12 -> 20.6094 | Y12: =IF(B12=0,0,IF((X12/2)/$E$3<=1,1,ROUND(((X12/2))/$E$3,0))) -> 1 | Z12: =$X$70*L12 -> 29.94047 | AA12: =IF((Z12/2)/$E$3<=1,1,ROUND(((Z12/2))/$E$3,0)) -> 1 | AB12: =$F$4*C12*0.5 -> 17.4549 | AC12: =IF(B12=0,0,IF(AB12/$F$3<=1,1,ROUND(AB12/$F$3,0))) -> 1 | AD12: =$F$4*C12 -> 34.9098 | AE12: =IF(AD12/$F$3<=1,1,ROUND(AD12/$F$3,0)) -> 2 | AF12: =G12*$AF$70 -> 48.606829 | AG12: =IF(AF12/$F$3<=1,1,ROUND(AF12/$F$3,0)) -> 3 | AH12: =$AD$70*L12 -> 50.71549 | AI12: =IF(AH12/$F$3<=1,1,ROUND(AH12/$F$3,0)) -> 3 | AJ12: =$D$4*C12 -> 84.12 | AK12: =AJ12/2/$D$3 -> 1.6824 | AL12: =G12*$AL$70 -> 117.12489 | AM12: =(AL12/2)/$D$3 -> 2.3424978 | AN12: =$AJ$70*L12 -> 122.206 | AO12: ='Per woonkern'!J2 -> 4 | AP12: ='Per woonkern'!M2 -> 1035.0113 | AQ12: ='Per woonkern'!N2 -> 159.04906 | AS12: =$AS$68*L12 -> 540.76155 | AT12: =(AS12/2)/$C$3 -> 2.7038078 | AU12: =$X$70*L12 -> 29.94047 | AV12: =(AU12/2)/$E$3 -> 1.2475196 | AW12: =$F$4*C12*0.5 -> 17.4549 | AX12: =AW12/$F$3 -> 1.0267588 | AY12: =$AY$68*L12 -> 29.94047 | AZ12: =(AY12/2)/$D$3 -> 0.5988094
A13: 2 | B13: Gemeente Beekdaelen | C13: 78.3 | D13: =C13/$C$68 -> 0.036475948 | E13: =C13-G13 -> 69.373196 | F13: =IF(E13=0,0,E13/C13) -> 0.88599229 | G13: ='Per woonkern'!D3 -> 8.926804 | H13: =IF(G13=0,0,G13/C13) -> 0.11400771 | I13: =G13/$G$68 -> 0.026795814 | J13: ='Per woonkern'!B3 -> 17 | K13: ='Per woonkern'!C3 -> 77.843826 | L13: =K13/$K$68 -> 0.051338241 | M13: =G13*100/$C$7 -> 297.56013 | N13: =M13*2 -> 595.12027 | O13: =M13/$C$3 -> 2.9756013 | P13: =G13*100/$C$6 -> 743.90033 | Q13: =P13*2 -> 1487.8007 | R13: =$V$70*D13 -> 1879.2 | S13: =R13/2/$C$3 -> 9.396 | T13: =$V$70*I13 -> 1380.4903 | U13: =T13/2/$C$3 -> 6.9024516 | V13: =$V$70*L13 -> 2644.8887 | W13: ='Per woonkern'!H3 -> 18 | X13: =$E$4*C13 -> 76.734 | Y13: =IF(B13=0,0,IF((X13/2)/$E$3<=1,1,ROUND(((X13/2))/$E$3,0))) -> 3 | Z13: =$X$70*L13 -> 107.99962 | AA13: =IF((Z13/2)/$E$3<=1,1,ROUND(((Z13/2))/$E$3,0)) -> 4 | AB13: =$F$4*C13*0.5 -> 64.989 | AC13: =IF(B13=0,0,IF(AB13/$F$3<=1,1,ROUND(AB13/$F$3,0))) -> 4 | AD13: =$F$4*C13 -> 129.978 | AE13: =IF(AD13/$F$3<=1,1,ROUND(AD13/$F$3,0)) -> 8 | AF13: =G13*$AF$70 -> 95.483913 | AG13: =IF(AF13/$F$3<=1,1,ROUND(AF13/$F$3,0)) -> 6 | AH13: =$AD$70*L13 -> 182.93813 | AI13: =IF(AH13/$F$3<=1,1,ROUND(AH13/$F$3,0)) -> 11 | AJ13: =$D$4*C13 -> 313.2 | AK13: =AJ13/2/$D$3 -> 6.264 | AL13: =G13*$AL$70 -> 230.08172 | AM13: =(AL13/2)/$D$3 -> 4.6016344 | AN13: =$AJ$70*L13 -> 440.81478 | AO13: ='Per woonkern'!J3 -> 17 | AP13: ='Per woonkern'!M3 -> 2035.7294 | AQ13: ='Per woonkern'!N3 -> 312.43814 | AS13: =$AS$68*L13 -> 1950.6054 | AT13: =(AS13/2)/$C$3 -> 9.753027 | AU13: =$X$70*L13 -> 107.99962 | AV13: =(AU13/2)/$E$3 -> 4.4999842 | AW13: =$F$4*C13*0.5 -> 64.989 | AX13: =AW13/$F$3 -> 3.8228824 | AY13: =$AY$68*L13 -> 107.99962 | AZ13: =(AY13/2)/$D$3 -> 2.1599924
A14: 3 | B14: Gemeente Beesel | C14: 27.99 | D14: =C14/$C$68 -> 0.013039103 | E14: =C14-G14 -> 24.313542 | F14: =IF(E14=0,0,E14/C14) -> 0.86865102 | G14: ='Per woonkern'!D4 -> 3.676458 | H14: =IF(G14=0,0,G14/C14) -> 0.13134898 | I14: =G14/$G$68 -> 0.011035717 | J14: ='Per woonkern'!B4 -> 2 | K14: ='Per woonkern'!C4 -> 19.920348 | L14: =K14/$K$68 -> 0.01313753 | M14: =G14*100/$C$7 -> 122.5486 | N14: =M14*2 -> 245.0972 | O14: =M14/$C$3 -> 1.225486 | P14: =G14*100/$C$6 -> 306.3715 | Q14: =P14*2 -> 612.743 | R14: =$V$70*D14 -> 671.76 | S14: =R14/2/$C$3 -> 3.3588 | T14: =$V$70*I14 -> 568.54779 | U14: =T14/2/$C$3 -> 2.8427389 | V14: =$V$70*L14 -> 676.83085 | W14: ='Per woonkern'!H4 -> 3 | X14: =$E$4*C14 -> 27.4302 | Y14: =IF(B14=0,0,IF((X14/2)/$E$3<=1,1,ROUND(((X14/2))/$E$3,0))) -> 1 | Z14: =$X$70*L14 -> 27.63726 | AA14: =IF((Z14/2)/$E$3<=1,1,ROUND(((Z14/2))/$E$3,0)) -> 1 | AB14: =$F$4*C14*0.5 -> 23.2317 | AC14: =IF(B14=0,0,IF(AB14/$F$3<=1,1,ROUND(AB14/$F$3,0))) -> 1 | AD14: =$F$4*C14 -> 46.4634 | AE14: =IF(AD14/$F$3<=1,1,ROUND(AD14/$F$3,0)) -> 3 | AF14: =G14*$AF$70 -> 39.324555 | AG14: =IF(AF14/$F$3<=1,1,ROUND(AF14/$F$3,0)) -> 2 | AH14: =$AD$70*L14 -> 46.814134 | AI14: =IF(AH14/$F$3<=1,1,ROUND(AH14/$F$3,0)) -> 3 | AJ14: =$D$4*C14 -> 111.96 | AK14: =AJ14/2/$D$3 -> 2.2392 | AL14: =G14*$AL$70 -> 94.757964 | AM14: =(AL14/2)/$D$3 -> 1.8951593 | AN14: =$AJ$70*L14 -> 112.80514 | AO14: ='Per woonkern'!J4 -> 2 | AP14: ='Per woonkern'!M4 -> 827.20305 | AQ14: ='Per woonkern'!N4 -> 128.67603 | AS14: =$AS$68*L14 -> 499.16275 | AT14: =(AS14/2)/$C$3 -> 2.4958138 | AU14: =$X$70*L14 -> 27.63726 | AV14: =(AU14/2)/$E$3 -> 1.1515525 | AW14: =$F$4*C14*0.5 -> 23.2317 | AX14: =AW14/$F$3 -> 1.3665706 | AY14: =$AY$68*L14 -> 27.63726 | AZ14: =(AY14/2)/$D$3 -> 0.55274519
A15: 4 | B15: Gemeente Bergen (L) | C15: 103.24 | D15: =C15/$C$68 -> 0.048094213 | E15: =C15-G15 -> 99.385111 | F15: =IF(E15=0,0,E15/C15) -> 0.9626609 | G15: ='Per woonkern'!D5 -> 3.854889 | H15: =IF(G15=0,0,G15/C15) -> 0.037339103 | I15: =G15/$G$68 -> 0.011571318 | J15: ='Per woonkern'!B5 -> 8 | K15: ='Per woonkern'!C5 -> 31.682117 | L15: =K15/$K$68 -> 0.020894453 | M15: =G15*100/$C$7 -> 128.4963 | N15: =M15*2 -> 256.9926 | O15: =M15/$C$3 -> 1.284963 | P15: =G15*100/$C$6 -> 321.24075 | Q15: =P15*2 -> 642.4815 | R15: =$V$70*D15 -> 2477.76 | S15: =R15/2/$C$3 -> 12.3888 | T15: =$V$70*I15 -> 596.14134 | U15: =T15/2/$C$3 -> 2.9807067 | V15: =$V$70*L15 -> 1076.4588 | W15: ='Per woonkern'!H5 -> 8 | X15: =$E$4*C15 -> 101.1752 | Y15: =IF(B15=0,0,IF((X15/2)/$E$3<=1,1,ROUND(((X15/2))/$E$3,0))) -> 4 | Z15: =$X$70*L15 -> 43.955401 | AA15: =IF((Z15/2)/$E$3<=1,1,ROUND(((Z15/2))/$E$3,0)) -> 2 | AB15: =$F$4*C15*0.5 -> 85.6892 | AC15: =IF(B15=0,0,IF(AB15/$F$3<=1,1,ROUND(AB15/$F$3,0))) -> 5 | AD15: =$F$4*C15 -> 171.3784 | AE15: =IF(AD15/$F$3<=1,1,ROUND(AD15/$F$3,0)) -> 10 | AF15: =G15*$AF$70 -> 41.233109 | AG15: =IF(AF15/$F$3<=1,1,ROUND(AF15/$F$3,0)) -> 2 | AH15: =$AD$70*L15 -> 74.455068 | AI15: =IF(AH15/$F$3<=1,1,ROUND(AH15/$F$3,0)) -> 4 | AJ15: =$D$4*C15 -> 412.96 | AK15: =AJ15/2/$D$3 -> 8.2592 | AL15: =G15*$AL$70 -> 99.35689 | AM15: =(AL15/2)/$D$3 -> 1.9871378 | AN15: =$AJ$70*L15 -> 179.4098 | AO15: ='Per woonkern'!J5 -> 8 | AP15: ='Per woonkern'!M5 -> 877.6427 | AQ15: ='Per woonkern'!N5 -> 134.92111 | AS15: =$AS$68*L15 -> 793.88837 | AT15: =(AS15/2)/$C$3 -> 3.9694419 | AU15: =$X$70*L15 -> 43.955401 | AV15: =(AU15/2)/$E$3 -> 1.8314751 | AW15: =$F$4*C15*0.5 -> 85.6892 | AX15: =AW15/$F$3 -> 5.0405412 | AY15: =$AY$68*L15 -> 43.955401 | AZ15: =(AY15/2)/$D$3 -> 0.87910803
A16: 5 | B16: Gemeente Brunssum | C16: 17.25 | D16: =C16/$C$68 -> 0.008035889 | E16: =C16-G16 -> 9.49597 | F16: =IF(E16=0,0,E16/C16) -> 0.55049101 | G16: ='Per woonkern'!D6 -> 7.75403 | H16: =IF(G16=0,0,G16/C16) -> 0.44950899 | I16: =G16/$G$68 -> 0.023275468 | J16: ='Per woonkern'!B6 -> 1 | K16: ='Per woonkern'!C6 -> 14.25287 | L16: =K16/$K$68 -> 0.0093998113 | M16: =G16*100/$C$7 -> 258.46767 | N16: =M16*2 -> 516.93533 | O16: =M16/$C$3 -> 2.5846767 | P16: =G16*100/$C$6 -> 646.16917 | Q16: =P16*2 -> 1292.3383 | R16: =$V$70*D16 -> 414 | S16: =R16/2/$C$3 -> 2.07 | T16: =$V$70*I16 -> 1199.1261 | U16: =T16/2/$C$3 -> 5.9956303 | V16: =$V$70*L16 -> 484.26775 | W16: ='Per woonkern'!H6 -> 2 | X16: =$E$4*C16 -> 16.905 | Y16: =IF(B16=0,0,IF((X16/2)/$E$3<=1,1,ROUND(((X16/2))/$E$3,0))) -> 1 | Z16: =$X$70*L16 -> 19.774266 | AA16: =IF((Z16/2)/$E$3<=1,1,ROUND(((Z16/2))/$E$3,0)) -> 1 | AB16: =$F$4*C16*0.5 -> 14.3175 | AC16: =IF(B16=0,0,IF(AB16/$F$3<=1,1,ROUND(AB16/$F$3,0))) -> 1 | AD16: =$F$4*C16 -> 28.635 | AE16: =IF(AD16/$F$3<=1,1,ROUND(AD16/$F$3,0)) -> 2 | AF16: =G16*$AF$70 -> 82.939552 | AG16: =IF(AF16/$F$3<=1,1,ROUND(AF16/$F$3,0)) -> 5 | AH16: =$AD$70*L16 -> 33.495186 | AI16: =IF(AH16/$F$3<=1,1,ROUND(AH16/$F$3,0)) -> 2 | AJ16: =$D$4*C16 -> 69 | AK16: =AJ16/2/$D$3 -> 1.38 | AL16: =G16*$AL$70 -> 199.85434 | AM16: =(AL16/2)/$D$3 -> 3.9970869 | AN16: =$AJ$70*L16 -> 80.711292 | AO16: ='Per woonkern'!J6 -> 2 | AP16: ='Per woonkern'!M6 -> 1744.6568 | AQ16: ='Per woonkern'!N6 -> 271.39105 | AS16: =$AS$68*L16 -> 357.14746 | AT16: =(AS16/2)/$C$3 -> 1.7857373 | AU16: =$X$70*L16 -> 19.774266 | AV16: =(AU16/2)/$E$3 -> 0.82392777 | AW16: =$F$4*C16*0.5 -> 14.3175 | AX16: =AW16/$F$3 -> 0.84220588 | AY16: =$AY$68*L16 -> 19.774266 | AZ16: =(AY16/2)/$D$3 -> 0.39548533
A17: 6 | B17: Gemeente Echt-Susteren | C17: 103.07 | D17: =C17/$C$68 -> 0.048015019 | E17: =C17-G17 -> 93.447024 | F17: =IF(E17=0,0,E17/C17) -> 0.9066365 | G17: ='Per woonkern'!D7 -> 9.622976 | H17: =IF(G17=0,0,G17/C17) -> 0.093363501 | I17: =G17/$G$68 -> 0.028885531 | J17: ='Per woonkern'!B7 -> 9 | K17: ='Per woonkern'!C7 -> 63.199067 | L17: =K17/$K$68 -> 0.041679978 | M17: =G17*100/$C$7 -> 320.76587 | N17: =M17*2 -> 641.53173 | O17: =M17/$C$3 -> 3.2076587 | P17: =G17*100/$C$6 -> 801.91467 | Q17: =P17*2 -> 1603.8293 | R17: =$V$70*D17 -> 2473.68 | S17: =R17/2/$C$3 -> 12.3684 | T17: =$V$70*I17 -> 1488.1502 | U17: =T17/2/$C$3 -> 7.440751 | V17: =$V$70*L17 -> 2147.3058 | W17: ='Per woonkern'!H7 -> 13 | X17: =$E$4*C17 -> 101.0086 | Y17: =IF(B17=0,0,IF((X17/2)/$E$3<=1,1,ROUND(((X17/2))/$E$3,0))) -> 4 | Z17: =$X$70*L17 -> 87.681652 | AA17: =IF((Z17/2)/$E$3<=1,1,ROUND(((Z17/2))/$E$3,0)) -> 4 | AB17: =$F$4*C17*0.5 -> 85.5481 | AC17: =IF(B17=0,0,IF(AB17/$F$3<=1,1,ROUND(AB17/$F$3,0))) -> 5 | AD17: =$F$4*C17 -> 171.0962 | AE17: =IF(AD17/$F$3<=1,1,ROUND(AD17/$F$3,0)) -> 10 | AF17: =G17*$AF$70 -> 102.93039 | AG17: =IF(AF17/$F$3<=1,1,ROUND(AF17/$F$3,0)) -> 6 | AH17: =$AD$70*L17 -> 148.52198 | AI17: =IF(AH17/$F$3<=1,1,ROUND(AH17/$F$3,0)) -> 9 | AJ17: =$D$4*C17 -> 412.28 | AK17: =AJ17/2/$D$3 -> 8.2456 | AL17: =G17*$AL$70 -> 248.02503 | AM17: =(AL17/2)/$D$3 -> 4.9605007 | AN17: =$AJ$70*L17 -> 357.88429 | AO17: ='Per woonkern'!J7 -> 11 | AP17: ='Per woonkern'!M7 -> 2165.1696 | AQ17: ='Per woonkern'!N7 -> 336.80416 | AS17: =$AS$68*L17 -> 1583.638 | AT17: =(AS17/2)/$C$3 -> 7.91819 | AU17: =$X$70*L17 -> 87.681652 | AV17: =(AU17/2)/$E$3 -> 3.6534022 | AW17: =$F$4*C17*0.5 -> 85.5481 | AX17: =AW17/$F$3 -> 5.0322412 | AY17: =$AY$68*L17 -> 87.681652 | AZ17: =(AY17/2)/$D$3 -> 1.753633
A18: 7 | B18: Gemeente Eijsden-Margraten | C18: 77.55 | D18: =C18/$C$68 -> 0.036126562 | E18: =C18-G18 -> 69.298039 | F18: =IF(E18=0,0,E18/C18) -> 0.89359173 | G18: ='Per woonkern'!D8 -> 8.251961 | H18: =IF(G18=0,0,G18/C18) -> 0.10640827 | I18: =G18/$G$68 -> 0.02477012 | J18: ='Per woonkern'!B8 -> 15 | K18: ='Per woonkern'!C8 -> 65.005425 | L18: =K18/$K$68 -> 0.042871276 | M18: =G18*100/$C$7 -> 275.06537 | N18: =M18*2 -> 550.13073 | O18: =M18/$C$3 -> 2.7506537 | P18: =G18*100/$C$6 -> 687.66342 | Q18: =P18*2 -> 1375.3268 | R18: =$V$70*D18 -> 1861.2 | S18: =R18/2/$C$3 -> 9.306 | T18: =$V$70*I18 -> 1276.1289 | U18: =T18/2/$C$3 -> 6.3806443 | V18: =$V$70*L18 -> 2208.6801 | W18: ='Per woonkern'!H8 -> 17 | X18: =$E$4*C18 -> 75.999 | Y18: =IF(B18=0,0,IF((X18/2)/$E$3<=1,1,ROUND(((X18/2))/$E$3,0))) -> 3 | Z18: =$X$70*L18 -> 90.187772 | AA18: =IF((Z18/2)/$E$3<=1,1,ROUND(((Z18/2))/$E$3,0)) -> 4 | AB18: =$F$4*C18*0.5 -> 64.3665 | AC18: =IF(B18=0,0,IF(AB18/$F$3<=1,1,ROUND(AB18/$F$3,0))) -> 4 | AD18: =$F$4*C18 -> 128.733 | AE18: =IF(AD18/$F$3<=1,1,ROUND(AD18/$F$3,0)) -> 8 | AF18: =G18*$AF$70 -> 88.265579 | AG18: =IF(AF18/$F$3<=1,1,ROUND(AF18/$F$3,0)) -> 5 | AH18: =$AD$70*L18 -> 152.76704 | AI18: =IF(AH18/$F$3<=1,1,ROUND(AH18/$F$3,0)) -> 9 | AJ18: =$D$4*C18 -> 310.2 | AK18: =AJ18/2/$D$3 -> 6.204 | AL18: =G18*$AL$70 -> 212.68814 | AM18: =(AL18/2)/$D$3 -> 4.2537629 | AN18: =$AJ$70*L18 -> 368.11336 | AO18: ='Per woonkern'!J8 -> 16 | AP18: ='Per woonkern'!M8 -> 1880.1163 | AQ18: ='Per woonkern'!N8 -> 288.81864 | AS18: =$AS$68*L18 -> 1628.9016 | AT18: =(AS18/2)/$C$3 -> 8.144508 | AU18: =$X$70*L18 -> 90.187772 | AV18: =(AU18/2)/$E$3 -> 3.7578238 | AW18: =$F$4*C18*0.5 -> 64.3665 | AX18: =AW18/$F$3 -> 3.7862647 | AY18: =$AY$68*L18 -> 90.187772 | AZ18: =(AY18/2)/$D$3 -> 1.8037554
A19: 8 | B19: Gemeente Gennep | C19: 47.62 | D19: =C19/$C$68 -> 0.022183712 | E19: =C19-G19 -> 42.265109 | F19: =IF(E19=0,0,E19/C19) -> 0.88754954 | G19: ='Per woonkern'!D9 -> 5.354891 | H19: =IF(G19=0,0,G19/C19) -> 0.11245046 | I19: =G19/$G$68 -> 0.016073912 | J19: ='Per woonkern'!B9 -> 6 | K19: ='Per woonkern'!C9 -> 36.759596 | L19: =K19/$K$68 -> 0.024243066 | M19: =G19*100/$C$7 -> 178.49637 | N19: =M19*2 -> 356.99273 | O19: =M19/$C$3 -> 1.7849637 | P19: =G19*100/$C$6 -> 446.24092 | Q19: =P19*2 -> 892.48183 | R19: =$V$70*D19 -> 1142.88 | S19: =R19/2/$C$3 -> 5.7144 | T19: =$V$70*I19 -> 828.10994 | U19: =T19/2/$C$3 -> 4.1405497 | V19: =$V$70*L19 -> 1248.9756 | W19: ='Per woonkern'!H9 -> 8 | X19: =$E$4*C19 -> 46.6676 | Y19: =IF(B19=0,0,IF((X19/2)/$E$3<=1,1,ROUND(((X19/2))/$E$3,0))) -> 2 | Z19: =$X$70*L19 -> 50.999837 | AA19: =IF((Z19/2)/$E$3<=1,1,ROUND(((Z19/2))/$E$3,0)) -> 2 | AB19: =$F$4*C19*0.5 -> 39.5246 | AC19: =IF(B19=0,0,IF(AB19/$F$3<=1,1,ROUND(AB19/$F$3,0))) -> 2 | AD19: =$F$4*C19 -> 79.0492 | AE19: =IF(AD19/$F$3<=1,1,ROUND(AD19/$F$3,0)) -> 5 | AF19: =G19*$AF$70 -> 57.277604 | AG19: =IF(AF19/$F$3<=1,1,ROUND(AF19/$F$3,0)) -> 3 | AH19: =$AD$70*L19 -> 86.387479 | AI19: =IF(AH19/$F$3<=1,1,ROUND(AH19/$F$3,0)) -> 5 | AJ19: =$D$4*C19 -> 190.48 | AK19: =AJ19/2/$D$3 -> 3.8096 | AL19: =G19*$AL$70 -> 138.01832 | AM19: =(AL19/2)/$D$3 -> 2.7603665 | AN19: =$AJ$70*L19 -> 208.1626 | AO19: ='Per woonkern'!J9 -> 6 | AP19: ='Per woonkern'!M9 -> 1211.7553 | AQ19: ='Per woonkern'!N9 -> 187.42119 | AS19: =$AS$68*L19 -> 921.1195 | AT19: =(AS19/2)/$C$3 -> 4.6055975 | AU19: =$X$70*L19 -> 50.999837 | AV19: =(AU19/2)/$E$3 -> 2.1249932 | AW19: =$F$4*C19*0.5 -> 39.5246 | AX19: =AW19/$F$3 -> 2.3249765 | AY19: =$AY$68*L19 -> 50.999837 | AZ19: =(AY19/2)/$D$3 -> 1.0199967
A20: 9 | B20: Gemeente Gulpen-Wittem | C20: 73.18 | D20: =C20/$C$68 -> 0.034090803 | E20: =C20-G20 -> 69.63424 | F20: =IF(E20=0,0,E20/C20) -> 0.95154742 | G20: ='Per woonkern'!D10 -> 3.54576 | H20: =IF(G20=0,0,G20/C20) -> 0.048452583 | I20: =G20/$G$68 -> 0.010643398 | J20: ='Per woonkern'!B10 -> 11 | K20: ='Per woonkern'!C10 -> 40.657441 | L20: =K20/$K$68 -> 0.026813706 | M20: =G20*100/$C$7 -> 118.192 | N20: =M20*2 -> 236.384 | O20: =M20/$C$3 -> 1.18192 | P20: =G20*100/$C$6 -> 295.48 | Q20: =P20*2 -> 590.96 | R20: =$V$70*D20 -> 1756.32 | S20: =R20/2/$C$3 -> 8.7816 | T20: =$V$70*I20 -> 548.33592 | U20: =T20/2/$C$3 -> 2.7416796 | V20: =$V$70*L20 -> 1381.4121 | W20: ='Per woonkern'!H10 -> 11 | X20: =$E$4*C20 -> 71.7164 | Y20: =IF(B20=0,0,IF((X20/2)/$E$3<=1,1,ROUND(((X20/2))/$E$3,0))) -> 3 | Z20: =$X$70*L20 -> 56.407662 | AA20: =IF((Z20/2)/$E$3<=1,1,ROUND(((Z20/2))/$E$3,0)) -> 2 | AB20: =$F$4*C20*0.5 -> 60.7394 | AC20: =IF(B20=0,0,IF(AB20/$F$3<=1,1,ROUND(AB20/$F$3,0))) -> 4 | AD20: =$F$4*C20 -> 121.4788 | AE20: =IF(AD20/$F$3<=1,1,ROUND(AD20/$F$3,0)) -> 7 | AF20: =G20*$AF$70 -> 37.926568 | AG20: =IF(AF20/$F$3<=1,1,ROUND(AF20/$F$3,0)) -> 2 | AH20: =$AD$70*L20 -> 95.547672 | AI20: =IF(AH20/$F$3<=1,1,ROUND(AH20/$F$3,0)) -> 6 | AJ20: =$D$4*C20 -> 292.72 | AK20: =AJ20/2/$D$3 -> 5.8544 | AL20: =G20*$AL$70 -> 91.389321 | AM20: =(AL20/2)/$D$3 -> 1.8277864 | AN20: =$AJ$70*L20 -> 230.23535 | AO20: ='Per woonkern'!J10 -> 11 | AP20: ='Per woonkern'!M10 -> 819.1985 | AQ20: ='Per woonkern'!N10 -> 124.1016 | AS20: =$AS$68*L20 -> 1018.7914 | AT20: =(AS20/2)/$C$3 -> 5.0939572 | AU20: =$X$70*L20 -> 56.407662 | AV20: =(AU20/2)/$E$3 -> 2.3503192 | AW20: =$F$4*C20*0.5 -> 60.7394 | AX20: =AW20/$F$3 -> 3.5729059 | AY20: =$AY$68*L20 -> 56.407662 | AZ20: =(AY20/2)/$D$3 -> 1.1281532
A21: 10 | B21: Gemeente Heerlen | C21: 44.94 | D21: =C21/$C$68 -> 0.020935238 | E21: =C21-G21 -> 17.82439 | F21: =IF(E21=0,0,E21/C21) -> 0.39662639 | G21: ='Per woonkern'!D11 -> 27.11561 | H21: =IF(G21=0,0,G21/C21) -> 0.60337361 | I21: =G21/$G$68 -> 0.081393613 | J21: ='Per woonkern'!B11 -> 1 | K21: ='Per woonkern'!C11 -> 45.090491 | L21: =K21/$K$68 -> 0.029737316 | M21: =G21*100/$C$7 -> 903.85367 | N21: =M21*2 -> 1807.7073 | O21: =M21/$C$3 -> 9.0385367 | P21: =G21*100/$C$6 -> 2259.6342 | Q21: =P21*2 -> 4519.2683 | R21: =$V$70*D21 -> 1078.56 | S21: =R21/2/$C$3 -> 5.3928 | T21: =$V$70*I21 -> 4193.3078 | U21: =T21/2/$C$3 -> 20.966539 | V21: =$V$70*L21 -> 1532.0332 | W21: ='Per woonkern'!H11 -> 8 | X21: =$E$4*C21 -> 44.0412 | Y21: =IF(B21=0,0,IF((X21/2)/$E$3<=1,1,ROUND(((X21/2))/$E$3,0))) -> 2 | Z21: =$X$70*L21 -> 62.558024 | AA21: =IF((Z21/2)/$E$3<=1,1,ROUND(((Z21/2))/$E$3,0)) -> 3 | AB21: =$F$4*C21*0.5 -> 37.3002 | AC21: =IF(B21=0,0,IF(AB21/$F$3<=1,1,ROUND(AB21/$F$3,0))) -> 2 | AD21: =$F$4*C21 -> 74.6004 | AE21: =IF(AD21/$F$3<=1,1,ROUND(AD21/$F$3,0)) -> 4 | AF21: =G21*$AF$70 -> 290.03712 | AG21: =IF(AF21/$F$3<=1,1,ROUND(AF21/$F$3,0)) -> 17 | AH21: =$AD$70*L21 -> 105.96563 | AI21: =IF(AH21/$F$3<=1,1,ROUND(AH21/$F$3,0)) -> 6 | AJ21: =$D$4*C21 -> 179.76 | AK21: =AJ21/2/$D$3 -> 3.5952 | AL21: =G21*$AL$70 -> 698.88463 | AM21: =(AL21/2)/$D$3 -> 13.977693 | AN21: =$AJ$70*L21 -> 255.33887 | AO21: ='Per woonkern'!J11 -> 5 | AP21: ='Per woonkern'!M11 -> 6101.0122 | AQ21: ='Per woonkern'!N11 -> 949.04635 | AS21: =$AS$68*L21 -> 1129.8745 | AT21: =(AS21/2)/$C$3 -> 5.6493726 | AU21: =$X$70*L21 -> 62.558024 | AV21: =(AU21/2)/$E$3 -> 2.6065843 | AW21: =$F$4*C21*0.5 -> 37.3002 | AX21: =AW21/$F$3 -> 2.1941294 | AY21: =$AY$68*L21 -> 62.558024 | AZ21: =(AY21/2)/$D$3 -> 1.2511605
A22: 11 | B22: Gemeente Horst aan de Maas | C22: 188.73 | D22: =C22/$C$68 -> 0.087919613 | E22: =C22-G22 -> 178.56261 | F22: =IF(E22=0,0,E22/C22) -> 0.94612731 | G22: ='Per woonkern'!D12 -> 10.167392 | H22: =IF(G22=0,0,G22/C22) -> 0.053872686 | I22: =G22/$G$68 -> 0.030519718 | J22: ='Per woonkern'!B12 -> 15 | K22: ='Per woonkern'!C12 -> 77.53198 | L22: =K22/$K$68 -> 0.051132577 | M22: =G22*100/$C$7 -> 338.91307 | N22: =M22*2 -> 677.82613 | O22: =M22/$C$3 -> 3.3891307 | P22: =G22*100/$C$6 -> 847.28267 | Q22: =P22*2 -> 1694.5653 | R22: =$V$70*D22 -> 4529.52 | S22: =R22/2/$C$3 -> 22.6476 | T22: =$V$70*I22 -> 1572.3417 | U22: =T22/2/$C$3 -> 7.8617085 | V22: =$V$70*L22 -> 2634.2931 | W22: ='Per woonkern'!H12 -> 19 | X22: =$E$4*C22 -> 184.9554 | Y22: =IF(B22=0,0,IF((X22/2)/$E$3<=1,1,ROUND(((X22/2))/$E$3,0))) -> 8 | Z22: =$X$70*L22 -> 107.56697 | AA22: =IF((Z22/2)/$E$3<=1,1,ROUND(((Z22/2))/$E$3,0)) -> 4 | AB22: =$F$4*C22*0.5 -> 156.6459 | AC22: =IF(B22=0,0,IF(AB22/$F$3<=1,1,ROUND(AB22/$F$3,0))) -> 9 | AD22: =$F$4*C22 -> 313.2918 | AE22: =IF(AD22/$F$3<=1,1,ROUND(AD22/$F$3,0)) -> 18 | AF22: =G22*$AF$70 -> 108.75363 | AG22: =IF(AF22/$F$3<=1,1,ROUND(AF22/$F$3,0)) -> 6 | AH22: =$AD$70*L22 -> 182.20527 | AI22: =IF(AH22/$F$3<=1,1,ROUND(AH22/$F$3,0)) -> 11 | AJ22: =$D$4*C22 -> 754.92 | AK22: =AJ22/2/$D$3 -> 15.0984 | AL22: =G22*$AL$70 -> 262.05695 | AM22: =(AL22/2)/$D$3 -> 5.241139 | AN22: =$AJ$70*L22 -> 439.04885 | AO22: ='Per woonkern'!J12 -> 16 | AP22: ='Per woonkern'!M12 -> 2297.0196 | AQ22: ='Per woonkern'!N12 -> 355.85872 | AS22: =$AS$68*L22 -> 1942.7912 | AT22: =(AS22/2)/$C$3 -> 9.7139559 | AU22: =$X$70*L22 -> 107.56697 | AV22: =(AU22/2)/$E$3 -> 4.4819571 | AW22: =$F$4*C22*0.5 -> 156.6459 | AX22: =AW22/$F$3 -> 9.2144647 | AY22: =$AY$68*L22 -> 107.56697 | AZ22: =(AY22/2)/$D$3 -> 2.1513394
A23: 12 | B23: Gemeente Kerkrade | C23: 21.91 | D23: =C23/$C$68 -> 0.010206744 | E23: =C23-G23 -> 8.343669 | F23: =IF(E23=0,0,E23/C23) -> 0.38081556 | G23: ='Per woonkern'!D13 -> 13.566331 | H23: =IF(G23=0,0,G23/C23) -> 0.61918444 | I23: =G23/$G$68 -> 0.040722399 | J23: ='Per woonkern'!B13 -> 3 | K23: ='Per woonkern'!C13 -> 47.758112 | L23: =K23/$K$68 -> 0.031496621 | M23: =G23*100/$C$7 -> 452.21103 | N23: =M23*2 -> 904.42207 | O23: =M23/$C$3 -> 4.5221103 | P23: =G23*100/$C$6 -> 1130.5276 | Q23: =P23*2 -> 2261.0552 | R23: =$V$70*D23 -> 525.84 | S23: =R23/2/$C$3 -> 2.6292 | T23: =$V$70*I23 -> 2097.9724 | U23: =T23/2/$C$3 -> 10.489862 | V23: =$V$70*L23 -> 1622.6706 | W23: ='Per woonkern'!H13 -> 9 | X23: =$E$4*C23 -> 21.4718 | Y23: =IF(B23=0,0,IF((X23/2)/$E$3<=1,1,ROUND(((X23/2))/$E$3,0))) -> 1 | Z23: =$X$70*L23 -> 66.25905 | AA23: =IF((Z23/2)/$E$3<=1,1,ROUND(((Z23/2))/$E$3,0)) -> 3 | AB23: =$F$4*C23*0.5 -> 18.1853 | AC23: =IF(B23=0,0,IF(AB23/$F$3<=1,1,ROUND(AB23/$F$3,0))) -> 1 | AD23: =$F$4*C23 -> 36.3706 | AE23: =IF(AD23/$F$3<=1,1,ROUND(AD23/$F$3,0)) -> 2 | AF23: =G23*$AF$70 -> 145.10976 | AG23: =IF(AF23/$F$3<=1,1,ROUND(AF23/$F$3,0)) -> 9 | AH23: =$AD$70*L23 -> 112.23472 | AI23: =IF(AH23/$F$3<=1,1,ROUND(AH23/$F$3,0)) -> 7 | AJ23: =$D$4*C23 -> 87.64 | AK23: =AJ23/2/$D$3 -> 1.7528 | AL23: =G23*$AL$70 -> 349.66207 | AM23: =(AL23/2)/$D$3 -> 6.9932414 | AN23: =$AJ$70*L23 -> 270.4451 | AO23: ='Per woonkern'!J13 -> 6 | AP23: ='Per woonkern'!M13 -> 3052.4245 | AQ23: ='Per woonkern'!N13 -> 474.82159 | AS23: =$AS$68*L23 -> 1196.7196 | AT23: =(AS23/2)/$C$3 -> 5.9835979 | AU23: =$X$70*L23 -> 66.25905 | AV23: =(AU23/2)/$E$3 -> 2.7607938 | AW23: =$F$4*C23*0.5 -> 18.1853 | AX23: =AW23/$F$3 -> 1.0697235 | AY23: =$AY$68*L23 -> 66.25905 | AZ23: =(AY23/2)/$D$3 -> 1.325181
... A42: 31 | B42: Gemeente Weert | C42: 104.32 | D42: =C42/$C$68 -> 0.04859733 | E42: =C42-G42 -> 87.804239 | F42: =IF(E42=0,0,E42/C42) -> 0.84168174 | G42: ='Per woonkern'!D32 -> 16.515761 | H42: =IF(G42=0,0,G42/C42) -> 0.15831826 | I42: =G42/$G$68 -> 0.049575778 | J42: ='Per woonkern'!B32 -> 6 | K42: ='Per woonkern'!C32 -> 48.966061 | L42: =K42/$K$68 -> 0.032293267 | M42: =G42*100/$C$7 -> 550.52537 | N42: =M42*2 -> 1101.0507 | O42: =M42/$C$3 -> 5.5052537 | P42: =G42*100/$C$6 -> 1376.3134 | Q42: =P42*2 -> 2752.6268 | R42: =$V$70*D42 -> 2503.68 | S42: =R42/2/$C$3 -> 12.5184 | T42: =$V$70*I42 -> 2554.0886 | U42: =T42/2/$C$3 -> 12.770443 | V42: =$V$70*L42 -> 1663.7129 | W42: ='Per woonkern'!H32 -> 10 | X42: =$E$4*C42 -> 102.2336 | Y42: =IF(B42=0,0,IF((X42/2)/$E$3<=1,1,ROUND(((X42/2))/$E$3,0))) -> 4 | Z42: =$X$70*L42 -> 67.934945 | AA42: =IF((Z42/2)/$E$3<=1,1,ROUND(((Z42/2))/$E$3,0)) -> 3 | AB42: =$F$4*C42*0.5 -> 86.5856 | AC42: =IF(B42=0,0,IF(AB42/$F$3<=1,1,ROUND(AB42/$F$3,0))) -> 5 | AD42: =$F$4*C42 -> 173.1712 | AE42: =IF(AD42/$F$3<=1,1,ROUND(AD42/$F$3,0)) -> 10 | AF42: =G42*$AF$70 -> 176.65779 | AG42: =IF(AF42/$F$3<=1,1,ROUND(AF42/$F$3,0)) -> 10 | AH42: =$AD$70*L42 -> 115.07348 | AI42: =IF(AH42/$F$3<=1,1,ROUND(AH42/$F$3,0)) -> 7 | AJ42: =$D$4*C42 -> 417.28 | AK42: =AJ42/2/$D$3 -> 8.3456 | AL42: =G42*$AL$70 -> 425.68143 | AM42: =(AL42/2)/$D$3 -> 8.5136286 | AN42: =$AJ$70*L42 -> 277.28549 | AO42: ='Per woonkern'!J32 -> 9 | AP42: ='Per woonkern'!M32 -> 3716.0462 | AQ42: ='Per woonkern'!N32 -> 578.05163 | AS42: =$AS$68*L42 -> 1226.9883 | AT42: =(AS42/2)/$C$3 -> 6.1349414 | AU42: =$X$70*L42 -> 67.934945 | AV42: =(AU42/2)/$E$3 -> 2.8306227 | AW42: =$F$4*C42*0.5 -> 86.5856 | AX42: =AW42/$F$3 -> 5.0932706 | AY42: =$AY$68*L42 -> 67.934945 | AZ42: =(AY42/2)/$D$3 -> 1.3586989
A43: 32 | D43: =C43/$C$68 -> 0 | E43: =C43-G43 -> 0 | F43: =IF(E43=0,0,E43/C43) -> 0 | G43: ='Per woonkern'!D33 -> 0 | H43: =IF(G43=0,0,G43/C43) -> 0 | I43: =G43/$G$68 -> 0 | J43: ='Per woonkern'!B33 -> 0 | K43: ='Per woonkern'!C33 -> 0 | L43: =K43/$K$68 -> 0 | M43: =G43*100/$C$7 -> 0 | N43: =M43*2 -> 0 | O43: =M43/$C$3 -> 0 | P43: =G43*100/$C$6 -> 0 | Q43: =P43*2 -> 0 | R43: =$V$70*D43 -> 0 | S43: =R43/2/$C$3 -> 0 | T43: =$V$70*I43 -> 0 | U43: =T43/2/$C$3 -> 0 | V43: =$V$70*L43 -> 0 | W43: ='Per woonkern'!H33 -> 0 | X43: =$E$4*C43 -> 0 | Y43: =IF(B43=0,0,IF((X43/2)/$E$3<=1,1,ROUND(((X43/2))/$E$3,0))) -> 0 | Z43: =$X$70*L43 -> 0 | AA43: =IF((Z43/2)/$E$3<=1,1,ROUND(((Z43/2))/$E$3,0)) -> 1 | AB43: =$F$4*C43*0.5 -> 0 | AC43: =IF(B43=0,0,IF(AB43/$F$3<=1,1,ROUND(AB43/$F$3,0))) -> 0 | AD43: =$F$4*C43 -> 0 | AE43: =IF(AD43/$F$3<=1,1,ROUND(AD43/$F$3,0)) -> 1 | AF43: =G43*$AF$70 -> 0 | AG43: =IF(AF43/$F$3<=1,1,ROUND(AF43/$F$3,0)) -> 1 | AH43: =$AD$70*L43 -> 0 | AI43: =IF(AH43/$F$3<=1,1,ROUND(AH43/$F$3,0)) -> 1 | AJ43: =$D$4*C43 -> 0 | AK43: =AJ43/2/$D$3 -> 0 | AL43: =G43*$AL$70 -> 0 | AM43: =(AL43/2)/$D$3 -> 0 | AN43: =$AJ$70*L43 -> 0 | AO43: ='Per woonkern'!J33 -> 0 | AP43: ='Per woonkern'!M33 -> 0 | AQ43: ='Per woonkern'!N33 -> 0 | AS43: =$AS$68*L43 -> 0 | AT43: =(AS43/2)/$C$3 -> 0 | AU43: =$X$70*L43 -> 0 | AV43: =(AU43/2)/$E$3 -> 0 | AW43: =$F$4*C43*0.5 -> 0 | AX43: =AW43/$F$3 -> 0 | AY43: =$AY$68*L43 -> 0 | AZ43: =(AY43/2)/$D$3 -> 0
A44: 33 | D44: =C44/$C$68 -> 0 | E44: =C44-G44 -> 0 | F44: =IF(E44=0,0,E44/C44) -> 0 | G44: ='Per woonkern'!D34 -> 0 | H44: =IF(G44=0,0,G44/C44) -> 0 | I44: =G44/$G$68 -> 0 | J44: ='Per woonkern'!B34 -> 0 | K44: ='Per woonkern'!C34 -> 0 | L44: =K44/$K$68 -> 0 | M44: =G44*100/$C$7 -> 0 | N44: =M44*2 -> 0 | O44: =M44/$C$3 -> 0 | P44: =G44*100/$C$6 -> 0 | Q44: =P44*2 -> 0 | R44: =$V$70*D44 -> 0 | S44: =R44/2/$C$3 -> 0 | T44: =$V$70*I44 -> 0 | U44: =T44/2/$C$3 -> 0 | V44: =$V$70*L44 -> 0 | W44: ='Per woonkern'!H34 -> 0 | X44: =$E$4*C44 -> 0 | Y44: =IF(B44=0,0,IF((X44/2)/$E$3<=1,1,ROUND(((X44/2))/$E$3,0))) -> 0 | Z44: =$X$70*L44 -> 0 | AA44: =IF((Z44/2)/$E$3<=1,1,ROUND(((Z44/2))/$E$3,0)) -> 1 | AB44: =$F$4*C44*0.5 -> 0 | AC44: =IF(B44=0,0,IF(AB44/$F$3<=1,1,ROUND(AB44/$F$3,0))) -> 0 | AD44: =$F$4*C44 -> 0 | AE44: =IF(AD44/$F$3<=1,1,ROUND(AD44/$F$3,0)) -> 1 | AF44: =G44*$AF$70 -> 0 | AG44: =IF(AF44/$F$3<=1,1,ROUND(AF44/$F$3,0)) -> 1 | AH44: =$AD$70*L44 -> 0 | AI44: =IF(AH44/$F$3<=1,1,ROUND(AH44/$F$3,0)) -> 1 | AJ44: =$D$4*C44 -> 0 | AK44: =AJ44/2/$D$3 -> 0 | AL44: =G44*$AL$70 -> 0 | AM44: =(AL44/2)/$D$3 -> 0 | AN44: =$AJ$70*L44 -> 0 | AO44: ='Per woonkern'!J34 -> 0 | AP44: ='Per woonkern'!M34 -> 0 | AQ44: ='Per woonkern'!N34 -> 0 | AS44: =$AS$68*L44 -> 0 | AT44: =(AS44/2)/$C$3 -> 0 | AU44: =$X$70*L44 -> 0 | AV44: =(AU44/2)/$E$3 -> 0 | AW44: =$F$4*C44*0.5 -> 0 | AX44: =AW44/$F$3 -> 0 | AY44: =$AY$68*L44 -> 0 | AZ44: =(AY44/2)/$D$3 -> 0
A45: 34 | D45: =C45/$C$68 -> 0 | E45: =C45-G45 -> 0 | F45: =IF(E45=0,0,E45/C45) -> 0 | G45: ='Per woonkern'!D35 -> 0 | H45: =IF(G45=0,0,G45/C45) -> 0 | I45: =G45/$G$68 -> 0 | J45: ='Per woonkern'!B35 -> 0 | K45: ='Per woonkern'!C35 -> 0 | L45: =K45/$K$68 -> 0 | M45: =G45*100/$C$7 -> 0 | N45: =M45*2 -> 0 | O45: =M45/$C$3 -> 0 | P45: =G45*100/$C$6 -> 0 | Q45: =P45*2 -> 0 | R45: =$V$70*D45 -> 0 | S45: =R45/2/$C$3 -> 0 | T45: =$V$70*I45 -> 0 | U45: =T45/2/$C$3 -> 0 | V45: =$V$70*L45 -> 0 | W45: ='Per woonkern'!H35 -> 0 | X45: =$E$4*C45 -> 0 | Y45: =IF(B45=0,0,IF((X45/2)/$E$3<=1,1,ROUND(((X45/2))/$E$3,0))) -> 0 | Z45: =$X$70*L45 -> 0 | AA45: =IF((Z45/2)/$E$3<=1,1,ROUND(((Z45/2))/$E$3,0)) -> 1 | AB45: =$F$4*C45*0.5 -> 0 | AC45: =IF(B45=0,0,IF(AB45/$F$3<=1,1,ROUND(AB45/$F$3,0))) -> 0 | AD45: =$F$4*C45 -> 0 | AE45: =IF(AD45/$F$3<=1,1,ROUND(AD45/$F$3,0)) -> 1 | AF45: =G45*$AF$70 -> 0 | AG45: =IF(AF45/$F$3<=1,1,ROUND(AF45/$F$3,0)) -> 1 | AH45: =$AD$70*L45 -> 0 | AI45: =IF(AH45/$F$3<=1,1,ROUND(AH45/$F$3,0)) -> 1 | AJ45: =$D$4*C45 -> 0 | AK45: =AJ45/2/$D$3 -> 0 | AL45: =G45*$AL$70 -> 0 | AM45: =(AL45/2)/$D$3 -> 0 | AN45: =$AJ$70*L45 -> 0 | AO45: ='Per woonkern'!J35 -> 0 | AP45: ='Per woonkern'!M35 -> 0 | AQ45: ='Per woonkern'!N35 -> 0 | AS45: =$AS$68*L45 -> 0 | AT45: =(AS45/2)/$C$3 -> 0 | AU45: =$X$70*L45 -> 0 | AV45: =(AU45/2)/$E$3 -> 0 | AW45: =$F$4*C45*0.5 -> 0 | AX45: =AW45/$F$3 -> 0 | AY45: =$AY$68*L45 -> 0 | AZ45: =(AY45/2)/$D$3 -> 0
A46: 35 | D46: =C46/$C$68 -> 0 | E46: =C46-G46 -> 0 | F46: =IF(E46=0,0,E46/C46) -> 0 | G46: ='Per woonkern'!D36 -> 0 | H46: =IF(G46=0,0,G46/C46) -> 0 | I46: =G46/$G$68 -> 0 | J46: ='Per woonkern'!B36 -> 0 | K46: ='Per woonkern'!C36 -> 0 | L46: =K46/$K$68 -> 0 | M46: =G46*100/$C$7 -> 0 | N46: =M46*2 -> 0 | O46: =M46/$C$3 -> 0 | P46: =G46*100/$C$6 -> 0 | Q46: =P46*2 -> 0 | R46: =$V$70*D46 -> 0 | S46: =R46/2/$C$3 -> 0 | T46: =$V$70*I46 -> 0 | U46: =T46/2/$C$3 -> 0 | V46: =$V$70*L46 -> 0 | W46: ='Per woonkern'!H36 -> 0 | X46: =$E$4*C46 -> 0 | Y46: =IF(B46=0,0,IF((X46/2)/$E$3<=1,1,ROUND(((X46/2))/$E$3,0))) -> 0 | Z46: =$X$70*L46 -> 0 | AA46: =IF((Z46/2)/$E$3<=1,1,ROUND(((Z46/2))/$E$3,0)) -> 1 | AB46: =$F$4*C46*0.5 -> 0 | AC46: =IF(B46=0,0,IF(AB46/$F$3<=1,1,ROUND(AB46/$F$3,0))) -> 0 | AD46: =$F$4*C46 -> 0 | AE46: =IF(AD46/$F$3<=1,1,ROUND(AD46/$F$3,0)) -> 1 | AF46: =G46*$AF$70 -> 0 | AG46: =IF(AF46/$F$3<=1,1,ROUND(AF46/$F$3,0)) -> 1 | AH46: =$AD$70*L46 -> 0 | AI46: =IF(AH46/$F$3<=1,1,ROUND(AH46/$F$3,0)) -> 1 | AJ46: =$D$4*C46 -> 0 | AK46: =AJ46/2/$D$3 -> 0 | AL46: =G46*$AL$70 -> 0 | AM46: =(AL46/2)/$D$3 -> 0 | AN46: =$AJ$70*L46 -> 0 | AO46: ='Per woonkern'!J36 -> 0 | AP46: ='Per woonkern'!M36 -> 0 | AQ46: ='Per woonkern'!N36 -> 0 | AS46: =$AS$68*L46 -> 0 | AT46: =(AS46/2)/$C$3 -> 0 | AU46: =$X$70*L46 -> 0 | AV46: =(AU46/2)/$E$3 -> 0 | AW46: =$F$4*C46*0.5 -> 0 | AX46: =AW46/$F$3 -> 0 | AY46: =$AY$68*L46 -> 0 | AZ46: =(AY46/2)/$D$3 -> 0
A47: 36 | D47: =C47/$C$68 -> 0 | E47: =C47-G47 -> 0 | F47: =IF(E47=0,0,E47/C47) -> 0 | G47: ='Per woonkern'!D37 -> 0 | H47: =IF(G47=0,0,G47/C47) -> 0 | I47: =G47/$G$68 -> 0 | J47: ='Per woonkern'!B37 -> 0 | K47: ='Per woonkern'!C37 -> 0 | L47: =K47/$K$68 -> 0 | M47: =G47*100/$C$7 -> 0 | N47: =M47*2 -> 0 | O47: =M47/$C$3 -> 0 | P47: =G47*100/$C$6 -> 0 | Q47: =P47*2 -> 0 | R47: =$V$70*D47 -> 0 | S47: =R47/2/$C$3 -> 0 | T47: =$V$70*I47 -> 0 | U47: =T47/2/$C$3 -> 0 | V47: =$V$70*L47 -> 0 | W47: ='Per woonkern'!H37 -> 0 | X47: =$E$4*C47 -> 0 | Y47: =IF(B47=0,0,IF((X47/2)/$E$3<=1,1,ROUND(((X47/2))/$E$3,0))) -> 0 | Z47: =$X$70*L47 -> 0 | AA47: =IF((Z47/2)/$E$3<=1,1,ROUND(((Z47/2))/$E$3,0)) -> 1 | AB47: =$F$4*C47*0.5 -> 0 | AC47: =IF(B47=0,0,IF(AB47/$F$3<=1,1,ROUND(AB47/$F$3,0))) -> 0 | AD47: =$F$4*C47 -> 0 | AE47: =IF(AD47/$F$3<=1,1,ROUND(AD47/$F$3,0)) -> 1 | AF47: =G47*$AF$70 -> 0 | AG47: =IF(AF47/$F$3<=1,1,ROUND(AF47/$F$3,0)) -> 1 | AH47: =$AD$70*L47 -> 0 | AI47: =IF(AH47/$F$3<=1,1,ROUND(AH47/$F$3,0)) -> 1 | AJ47: =$D$4*C47 -> 0 | AK47: =AJ47/2/$D$3 -> 0 | AL47: =G47*$AL$70 -> 0 | AM47: =(AL47/2)/$D$3 -> 0 | AN47: =$AJ$70*L47 -> 0 | AO47: ='Per woonkern'!J37 -> 0 | AP47: ='Per woonkern'!M37 -> 0 | AQ47: ='Per woonkern'!N37 -> 0 | AS47: =$AS$68*L47 -> 0 | AT47: =(AS47/2)/$C$3 -> 0 | AU47: =$X$70*L47 -> 0 | AV47: =(AU47/2)/$E$3 -> 0 | AW47: =$F$4*C47*0.5 -> 0 | AX47: =AW47/$F$3 -> 0 | AY47: =$AY$68*L47 -> 0 | AZ47: =(AY47/2)/$D$3 -> 0
A48: 37 | D48: =C48/$C$68 -> 0 | E48: =C48-G48 -> 0 | F48: =IF(E48=0,0,E48/C48) -> 0 | G48: ='Per woonkern'!D38 -> 0 | H48: =IF(G48=0,0,G48/C48) -> 0 | I48: =G48/$G$68 -> 0 | J48: ='Per woonkern'!B38 -> 0 | K48: ='Per woonkern'!C38 -> 0 | L48: =K48/$K$68 -> 0 | M48: =G48*100/$C$7 -> 0 | N48: =M48*2 -> 0 | O48: =M48/$C$3 -> 0 | P48: =G48*100/$C$6 -> 0 | Q48: =P48*2 -> 0 | R48: =$V$70*D48 -> 0 | S48: =R48/2/$C$3 -> 0 | T48: =$V$70*I48 -> 0 | U48: =T48/2/$C$3 -> 0 | V48: =$V$70*L48 -> 0 | W48: ='Per woonkern'!H38 -> 0 | X48: =$E$4*C48 -> 0 | Y48: =IF(B48=0,0,IF((X48/2)/$E$3<=1,1,ROUND(((X48/2))/$E$3,0))) -> 0 | Z48: =$X$70*L48 -> 0 | AA48: =IF((Z48/2)/$E$3<=1,1,ROUND(((Z48/2))/$E$3,0)) -> 1 | AB48: =$F$4*C48*0.5 -> 0 | AC48: =IF(B48=0,0,IF(AB48/$F$3<=1,1,ROUND(AB48/$F$3,0))) -> 0 | AD48: =$F$4*C48 -> 0 | AE48: =IF(AD48/$F$3<=1,1,ROUND(AD48/$F$3,0)) -> 1 | AF48: =G48*$AF$70 -> 0 | AG48: =IF(AF48/$F$3<=1,1,ROUND(AF48/$F$3,0)) -> 1 | AH48: =$AD$70*L48 -> 0 | AI48: =IF(AH48/$F$3<=1,1,ROUND(AH48/$F$3,0)) -> 1 | AJ48: =$D$4*C48 -> 0 | AK48: =AJ48/2/$D$3 -> 0 | AL48: =G48*$AL$70 -> 0 | AM48: =(AL48/2)/$D$3 -> 0 | AN48: =$AJ$70*L48 -> 0 | AO48: ='Per woonkern'!J38 -> 0 | AP48: ='Per woonkern'!M38 -> 0 | AQ48: ='Per woonkern'!N38 -> 0 | AS48: =$AS$68*L48 -> 0 | AT48: =(AS48/2)/$C$3 -> 0 | AU48: =$X$70*L48 -> 0 | AV48: =(AU48/2)/$E$3 -> 0 | AW48: =$F$4*C48*0.5 -> 0 | AX48: =AW48/$F$3 -> 0 | AY48: =$AY$68*L48 -> 0 | AZ48: =(AY48/2)/$D$3 -> 0
A49: 38 | D49: =C49/$C$68 -> 0 | E49: =C49-G49 -> 0 | F49: =IF(E49=0,0,E49/C49) -> 0 | G49: ='Per woonkern'!D39 -> 0 | H49: =IF(G49=0,0,G49/C49) -> 0 | I49: =G49/$G$68 -> 0 | J49: ='Per woonkern'!B39 -> 0 | K49: ='Per woonkern'!C39 -> 0 | L49: =K49/$K$68 -> 0 | M49: =G49*100/$C$7 -> 0 | N49: =M49*2 -> 0 | O49: =M49/$C$3 -> 0 | P49: =G49*100/$C$6 -> 0 | Q49: =P49*2 -> 0 | R49: =$V$70*D49 -> 0 | S49: =R49/2/$C$3 -> 0 | T49: =$V$70*I49 -> 0 | U49: =T49/2/$C$3 -> 0 | V49: =$V$70*L49 -> 0 | W49: ='Per woonkern'!H39 -> 0 | X49: =$E$4*C49 -> 0 | Y49: =IF(B49=0,0,IF((X49/2)/$E$3<=1,1,ROUND(((X49/2))/$E$3,0))) -> 0 | Z49: =$X$70*L49 -> 0 | AA49: =IF((Z49/2)/$E$3<=1,1,ROUND(((Z49/2))/$E$3,0)) -> 1 | AB49: =$F$4*C49*0.5 -> 0 | AC49: =IF(B49=0,0,IF(AB49/$F$3<=1,1,ROUND(AB49/$F$3,0))) -> 0 | AD49: =$F$4*C49 -> 0 | AE49: =IF(AD49/$F$3<=1,1,ROUND(AD49/$F$3,0)) -> 1 | AF49: =G49*$AF$70 -> 0 | AG49: =IF(AF49/$F$3<=1,1,ROUND(AF49/$F$3,0)) -> 1 | AH49: =$AD$70*L49 -> 0 | AI49: =IF(AH49/$F$3<=1,1,ROUND(AH49/$F$3,0)) -> 1 | AJ49: =$D$4*C49 -> 0 | AK49: =AJ49/2/$D$3 -> 0 | AL49: =G49*$AL$70 -> 0 | AM49: =(AL49/2)/$D$3 -> 0 | AN49: =$AJ$70*L49 -> 0 | AO49: ='Per woonkern'!J39 -> 0 | AP49: ='Per woonkern'!M39 -> 0 | AQ49: ='Per woonkern'!N39 -> 0 | AS49: =$AS$68*L49 -> 0 | AT49: =(AS49/2)/$C$3 -> 0 | AU49: =$X$70*L49 -> 0 | AV49: =(AU49/2)/$E$3 -> 0 | AW49: =$F$4*C49*0.5 -> 0 | AX49: =AW49/$F$3 -> 0 | AY49: =$AY$68*L49 -> 0 | AZ49: =(AY49/2)/$D$3 -> 0
A50: 39 | D50: =C50/$C$68 -> 0 | E50: =C50-G50 -> 0 | F50: =IF(E50=0,0,E50/C50) -> 0 | G50: ='Per woonkern'!D40 -> 0 | H50: =IF(G50=0,0,G50/C50) -> 0 | I50: =G50/$G$68 -> 0 | J50: ='Per woonkern'!B40 -> 0 | K50: ='Per woonkern'!C40 -> 0 | L50: =K50/$K$68 -> 0 | M50: =G50*100/$C$7 -> 0 | N50: =M50*2 -> 0 | O50: =M50/$C$3 -> 0 | P50: =G50*100/$C$6 -> 0 | Q50: =P50*2 -> 0 | R50: =$V$70*D50 -> 0 | S50: =R50/2/$C$3 -> 0 | T50: =$V$70*I50 -> 0 | U50: =T50/2/$C$3 -> 0 | V50: =$V$70*L50 -> 0 | W50: ='Per woonkern'!H40 -> 0 | X50: =$E$4*C50 -> 0 | Y50: =IF(B50=0,0,IF((X50/2)/$E$3<=1,1,ROUND(((X50/2))/$E$3,0))) -> 0 | Z50: =$X$70*L50 -> 0 | AA50: =IF((Z50/2)/$E$3<=1,1,ROUND(((Z50/2))/$E$3,0)) -> 1 | AB50: =$F$4*C50*0.5 -> 0 | AC50: =IF(B50=0,0,IF(AB50/$F$3<=1,1,ROUND(AB50/$F$3,0))) -> 0 | AD50: =$F$4*C50 -> 0 | AE50: =IF(AD50/$F$3<=1,1,ROUND(AD50/$F$3,0)) -> 1 | AF50: =G50*$AF$70 -> 0 | AG50: =IF(AF50/$F$3<=1,1,ROUND(AF50/$F$3,0)) -> 1 | AH50: =$AD$70*L50 -> 0 | AI50: =IF(AH50/$F$3<=1,1,ROUND(AH50/$F$3,0)) -> 1 | AJ50: =$D$4*C50 -> 0 | AK50: =AJ50/2/$D$3 -> 0 | AL50: =G50*$AL$70 -> 0 | AM50: =(AL50/2)/$D$3 -> 0 | AN50: =$AJ$70*L50 -> 0 | AO50: ='Per woonkern'!J40 -> 0 | AP50: ='Per woonkern'!M40 -> 0 | AQ50: ='Per woonkern'!N40 -> 0 | AS50: =$AS$68*L50 -> 0 | AT50: =(AS50/2)/$C$3 -> 0 | AU50: =$X$70*L50 -> 0 | AV50: =(AU50/2)/$E$3 -> 0 | AW50: =$F$4*C50*0.5 -> 0 | AX50: =AW50/$F$3 -> 0 | AY50: =$AY$68*L50 -> 0 | AZ50: =(AY50/2)/$D$3 -> 0
A51: 40 | D51: =C51/$C$68 -> 0 | E51: =C51-G51 -> 0 | F51: =IF(E51=0,0,E51/C51) -> 0 | G51: ='Per woonkern'!D41 -> 0 | H51: =IF(G51=0,0,G51/C51) -> 0 | I51: =G51/$G$68 -> 0 | J51: ='Per woonkern'!B41 -> 0 | K51: ='Per woonkern'!C41 -> 0 | L51: =K51/$K$68 -> 0 | M51: =G51*100/$C$7 -> 0 | N51: =M51*2 -> 0 | O51: =M51/$C$3 -> 0 | P51: =G51*100/$C$6 -> 0 | Q51: =P51*2 -> 0 | R51: =$V$70*D51 -> 0 | S51: =R51/2/$C$3 -> 0 | T51: =$V$70*I51 -> 0 | U51: =T51/2/$C$3 -> 0 | V51: =$V$70*L51 -> 0 | W51: ='Per woonkern'!H41 -> 0 | X51: =$E$4*C51 -> 0 | Y51: =IF(B51=0,0,IF((X51/2)/$E$3<=1,1,ROUND(((X51/2))/$E$3,0))) -> 0 | Z51: =$X$70*L51 -> 0 | AA51: =IF((Z51/2)/$E$3<=1,1,ROUND(((Z51/2))/$E$3,0)) -> 1 | AB51: =$F$4*C51*0.5 -> 0 | AC51: =IF(B51=0,0,IF(AB51/$F$3<=1,1,ROUND(AB51/$F$3,0))) -> 0 | AD51: =$F$4*C51 -> 0 | AE51: =IF(AD51/$F$3<=1,1,ROUND(AD51/$F$3,0)) -> 1 | AF51: =G51*$AF$70 -> 0 | AG51: =IF(AF51/$F$3<=1,1,ROUND(AF51/$F$3,0)) -> 1 | AH51: =$AD$70*L51 -> 0 | AI51: =IF(AH51/$F$3<=1,1,ROUND(AH51/$F$3,0)) -> 1 | AJ51: =$D$4*C51 -> 0 | AK51: =AJ51/2/$D$3 -> 0 | AL51: =G51*$AL$70 -> 0 | AM51: =(AL51/2)/$D$3 -> 0 | AN51: =$AJ$70*L51 -> 0 | AO51: ='Per woonkern'!J41 -> 0 | AP51: ='Per woonkern'!M41 -> 0 | AQ51: ='Per woonkern'!N41 -> 0 | AS51: =$AS$68*L51 -> 0 | AT51: =(AS51/2)/$C$3 -> 0 | AU51: =$X$70*L51 -> 0 | AV51: =(AU51/2)/$E$3 -> 0 | AW51: =$F$4*C51*0.5 -> 0 | AX51: =AW51/$F$3 -> 0 | AY51: =$AY$68*L51 -> 0 | AZ51: =(AY51/2)/$D$3 -> 0
A52: 41 | D52: =C52/$C$68 -> 0 | E52: =C52-G52 -> 0 | F52: =IF(E52=0,0,E52/C52) -> 0 | G52: ='Per woonkern'!D42 -> 0 | H52: =IF(G52=0,0,G52/C52) -> 0 | I52: =G52/$G$68 -> 0 | J52: ='Per woonkern'!B42 -> 0 | K52: ='Per woonkern'!C42 -> 0 | L52: =K52/$K$68 -> 0 | M52: =G52*100/$C$7 -> 0 | N52: =M52*2 -> 0 | O52: =M52/$C$3 -> 0 | P52: =G52*100/$C$6 -> 0 | Q52: =P52*2 -> 0 | R52: =$V$70*D52 -> 0 | S52: =R52/2/$C$3 -> 0 | T52: =$V$70*I52 -> 0 | U52: =T52/2/$C$3 -> 0 | V52: =$V$70*L52 -> 0 | W52: ='Per woonkern'!H42 -> 0 | X52: =$E$4*C52 -> 0 | Y52: =IF(B52=0,0,IF((X52/2)/$E$3<=1,1,ROUND(((X52/2))/$E$3,0))) -> 0 | Z52: =$X$70*L52 -> 0 | AA52: =IF((Z52/2)/$E$3<=1,1,ROUND(((Z52/2))/$E$3,0)) -> 1 | AB52: =$F$4*C52*0.5 -> 0 | AC52: =IF(B52=0,0,IF(AB52/$F$3<=1,1,ROUND(AB52/$F$3,0))) -> 0 | AD52: =$F$4*C52 -> 0 | AE52: =IF(AD52/$F$3<=1,1,ROUND(AD52/$F$3,0)) -> 1 | AF52: =G52*$AF$70 -> 0 | AG52: =IF(AF52/$F$3<=1,1,ROUND(AF52/$F$3,0)) -> 1 | AH52: =$AD$70*L52 -> 0 | AI52: =IF(AH52/$F$3<=1,1,ROUND(AH52/$F$3,0)) -> 1 | AJ52: =$D$4*C52 -> 0 | AK52: =AJ52/2/$D$3 -> 0 | AL52: =G52*$AL$70 -> 0 | AM52: =(AL52/2)/$D$3 -> 0 | AN52: =$AJ$70*L52 -> 0 | AO52: ='Per woonkern'!J42 -> 0 | AP52: ='Per woonkern'!M42 -> 0 | AQ52: ='Per woonkern'!N42 -> 0 | AS52: =$AS$68*L52 -> 0 | AT52: =(AS52/2)/$C$3 -> 0 | AU52: =$X$70*L52 -> 0 | AV52: =(AU52/2)/$E$3 -> 0 | AW52: =$F$4*C52*0.5 -> 0 | AX52: =AW52/$F$3 -> 0 | AY52: =$AY$68*L52 -> 0 | AZ52: =(AY52/2)/$D$3 -> 0
A53: 42 | D53: =C53/$C$68 -> 0 | E53: =C53-G53 -> 0 | F53: =IF(E53=0,0,E53/C53) -> 0 | G53: ='Per woonkern'!D43 -> 0 | H53: =IF(G53=0,0,G53/C53) -> 0 | I53: =G53/$G$68 -> 0 | J53: ='Per woonkern'!B43 -> 0 | K53: ='Per woonkern'!C43 -> 0 | L53: =K53/$K$68 -> 0 | M53: =G53*100/$C$7 -> 0 | N53: =M53*2 -> 0 | O53: =M53/$C$3 -> 0 | P53: =G53*100/$C$6 -> 0 | Q53: =P53*2 -> 0 | R53: =$V$70*D53 -> 0 | S53: =R53/2/$C$3 -> 0 | T53: =$V$70*I53 -> 0 | U53: =T53/2/$C$3 -> 0 | V53: =$V$70*L53 -> 0 | W53: ='Per woonkern'!H43 -> 0 | X53: =$E$4*C53 -> 0 | Y53: =IF(B53=0,0,IF((X53/2)/$E$3<=1,1,ROUND(((X53/2))/$E$3,0))) -> 0 | Z53: =$X$70*L53 -> 0 | AA53: =IF((Z53/2)/$E$3<=1,1,ROUND(((Z53/2))/$E$3,0)) -> 1 | AB53: =$F$4*C53*0.5 -> 0 | AC53: =IF(B53=0,0,IF(AB53/$F$3<=1,1,ROUND(AB53/$F$3,0))) -> 0 | AD53: =$F$4*C53 -> 0 | AE53: =IF(AD53/$F$3<=1,1,ROUND(AD53/$F$3,0)) -> 1 | AF53: =G53*$AF$70 -> 0 | AG53: =IF(AF53/$F$3<=1,1,ROUND(AF53/$F$3,0)) -> 1 | AH53: =$AD$70*L53 -> 0 | AI53: =IF(AH53/$F$3<=1,1,ROUND(AH53/$F$3,0)) -> 1 | AJ53: =$D$4*C53 -> 0 | AK53: =AJ53/2/$D$3 -> 0 | AL53: =G53*$AL$70 -> 0 | AM53: =(AL53/2)/$D$3 -> 0 | AN53: =$AJ$70*L53 -> 0 | AO53: ='Per woonkern'!J43 -> 0 | AP53: ='Per woonkern'!M43 -> 0 | AQ53: ='Per woonkern'!N43 -> 0 | AS53: =$AS$68*L53 -> 0 | AT53: =(AS53/2)/$C$3 -> 0 | AU53: =$X$70*L53 -> 0 | AV53: =(AU53/2)/$E$3 -> 0 | AW53: =$F$4*C53*0.5 -> 0 | AX53: =AW53/$F$3 -> 0 | AY53: =$AY$68*L53 -> 0 | AZ53: =(AY53/2)/$D$3 -> 0
A54: 43 | D54: =C54/$C$68 -> 0 | E54: =C54-G54 -> 0 | F54: =IF(E54=0,0,E54/C54) -> 0 | G54: ='Per woonkern'!D44 -> 0 | H54: =IF(G54=0,0,G54/C54) -> 0 | I54: =G54/$G$68 -> 0 | J54: ='Per woonkern'!B44 -> 0 | K54: ='Per woonkern'!C44 -> 0 | L54: =K54/$K$68 -> 0 | M54: =G54*100/$C$7 -> 0 | N54: =M54*2 -> 0 | O54: =M54/$C$3 -> 0 | P54: =G54*100/$C$6 -> 0 | Q54: =P54*2 -> 0 | R54: =$V$70*D54 -> 0 | S54: =R54/2/$C$3 -> 0 | T54: =$V$70*I54 -> 0 | U54: =T54/2/$C$3 -> 0 | V54: =$V$70*L54 -> 0 | W54: ='Per woonkern'!H44 -> 0 | X54: =$E$4*C54 -> 0 | Y54: =IF(B54=0,0,IF((X54/2)/$E$3<=1,1,ROUND(((X54/2))/$E$3,0))) -> 0 | Z54: =$X$70*L54 -> 0 | AA54: =IF((Z54/2)/$E$3<=1,1,ROUND(((Z54/2))/$E$3,0)) -> 1 | AB54: =$F$4*C54*0.5 -> 0 | AC54: =IF(B54=0,0,IF(AB54/$F$3<=1,1,ROUND(AB54/$F$3,0))) -> 0 | AD54: =$F$4*C54 -> 0 | AE54: =IF(AD54/$F$3<=1,1,ROUND(AD54/$F$3,0)) -> 1 | AF54: =G54*$AF$70 -> 0 | AG54: =IF(AF54/$F$3<=1,1,ROUND(AF54/$F$3,0)) -> 1 | AH54: =$AD$70*L54 -> 0 | AI54: =IF(AH54/$F$3<=1,1,ROUND(AH54/$F$3,0)) -> 1 | AJ54: =$D$4*C54 -> 0 | AK54: =AJ54/2/$D$3 -> 0 | AL54: =G54*$AL$70 -> 0 | AM54: =(AL54/2)/$D$3 -> 0 | AN54: =$AJ$70*L54 -> 0 | AO54: ='Per woonkern'!J44 -> 0 | AP54: ='Per woonkern'!M44 -> 0 | AQ54: ='Per woonkern'!N44 -> 0 | AS54: =$AS$68*L54 -> 0 | AT54: =(AS54/2)/$C$3 -> 0 | AU54: =$X$70*L54 -> 0 | AV54: =(AU54/2)/$E$3 -> 0 | AW54: =$F$4*C54*0.5 -> 0 | AX54: =AW54/$F$3 -> 0 | AY54: =$AY$68*L54 -> 0 | AZ54: =(AY54/2)/$D$3 -> 0
... A65: 54 | D65: =C65/$C$68 -> 0 | E65: =C65-G65 -> 0 | F65: =IF(E65=0,0,E65/C65) -> 0 | G65: ='Per woonkern'!D55 -> 0 | H65: =IF(G65=0,0,G65/C65) -> 0 | I65: =G65/$G$68 -> 0 | J65: ='Per woonkern'!B55 -> 0 | K65: ='Per woonkern'!C55 -> 0 | L65: =K65/$K$68 -> 0 | M65: =G65*100/$C$7 -> 0 | N65: =M65*2 -> 0 | O65: =M65/$C$3 -> 0 | P65: =G65*100/$C$6 -> 0 | Q65: =P65*2 -> 0 | R65: =$V$70*D65 -> 0 | S65: =R65/2/$C$3 -> 0 | T65: =$V$70*I65 -> 0 | U65: =T65/2/$C$3 -> 0 | V65: =$V$70*L65 -> 0 | W65: ='Per woonkern'!H55 -> 0 | X65: =$E$4*C65 -> 0 | Y65: =IF(B65=0,0,IF((X65/2)/$E$3<=1,1,ROUND(((X65/2))/$E$3,0))) -> 0 | Z65: =$X$70*L65 -> 0 | AA65: =IF((Z65/2)/$E$3<=1,1,ROUND(((Z65/2))/$E$3,0)) -> 1 | AB65: =$F$4*C65*0.5 -> 0 | AC65: =IF(B65=0,0,IF(AB65/$F$3<=1,1,ROUND(AB65/$F$3,0))) -> 0 | AD65: =$F$4*C65 -> 0 | AE65: =IF(AD65/$F$3<=1,1,ROUND(AD65/$F$3,0)) -> 1 | AF65: =G65*$AF$70 -> 0 | AG65: =IF(AF65/$F$3<=1,1,ROUND(AF65/$F$3,0)) -> 1 | AH65: =$AD$70*L65 -> 0 | AI65: =IF(AH65/$F$3<=1,1,ROUND(AH65/$F$3,0)) -> 1 | AJ65: =$D$4*C65 -> 0 | AK65: =AJ65/2/$D$3 -> 0 | AL65: =G65*$AL$70 -> 0 | AM65: =(AL65/2)/$D$3 -> 0 | AN65: =$AJ$70*L65 -> 0 | AO65: ='Per woonkern'!J55 -> 0 | AP65: ='Per woonkern'!M55 -> 0 | AQ65: ='Per woonkern'!N55 -> 0 | AS65: =$AS$68*L65 -> 0 | AT65: =(AS65/2)/$C$3 -> 0 | AU65: =$X$70*L65 -> 0 | AV65: =(AU65/2)/$E$3 -> 0 | AW65: =$F$4*C65*0.5 -> 0 | AX65: =AW65/$F$3 -> 0 | AY65: =$AY$68*L65 -> 0 | AZ65: =(AY65/2)/$D$3 -> 0
A66: 55 | D66: =C66/$C$68 -> 0 | E66: =C66-G66 -> 0 | F66: =IF(E66=0,0,E66/C66) -> 0 | G66: ='Per woonkern'!D56 -> 0 | H66: =IF(G66=0,0,G66/C66) -> 0 | I66: =G66/$G$68 -> 0 | J66: ='Per woonkern'!B56 -> 0 | K66: ='Per woonkern'!C56 -> 0 | L66: =K66/$K$68 -> 0 | M66: =G66*100/$C$7 -> 0 | N66: =M66*2 -> 0 | O66: =M66/$C$3 -> 0 | P66: =G66*100/$C$6 -> 0 | Q66: =P66*2 -> 0 | R66: =$V$70*D66 -> 0 | S66: =R66/2/$C$3 -> 0 | T66: =$V$70*I66 -> 0 | U66: =T66/2/$C$3 -> 0 | V66: =$V$70*L66 -> 0 | W66: ='Per woonkern'!H56 -> 0 | X66: =$E$4*C66 -> 0 | Y66: =IF(B66=0,0,IF((X66/2)/$E$3<=1,1,ROUND(((X66/2))/$E$3,0))) -> 0 | Z66: =$X$70*L66 -> 0 | AA66: =IF((Z66/2)/$E$3<=1,1,ROUND(((Z66/2))/$E$3,0)) -> 1 | AB66: =$F$4*C66*0.5 -> 0 | AC66: =IF(B66=0,0,IF(AB66/$F$3<=1,1,ROUND(AB66/$F$3,0))) -> 0 | AD66: =$F$4*C66 -> 0 | AE66: =IF(AD66/$F$3<=1,1,ROUND(AD66/$F$3,0)) -> 1 | AF66: =G66*$AF$70 -> 0 | AG66: =IF(AF66/$F$3<=1,1,ROUND(AF66/$F$3,0)) -> 1 | AH66: =$AD$70*L66 -> 0 | AI66: =IF(AH66/$F$3<=1,1,ROUND(AH66/$F$3,0)) -> 1 | AJ66: =$D$4*C66 -> 0 | AK66: =AJ66/2/$D$3 -> 0 | AL66: =G66*$AL$70 -> 0 | AM66: =(AL66/2)/$D$3 -> 0 | AN66: =$AJ$70*L66 -> 0 | AO66: ='Per woonkern'!J55 -> 0 | AP66: ='Per woonkern'!M56 -> 0 | AQ66: ='Per woonkern'!N56 -> 0 | AS66: =$AS$68*L66 -> 0 | AT66: =(AS66/2)/$C$3 -> 0 | AU66: =$X$70*L66 -> 0 | AV66: =(AU66/2)/$E$3 -> 0 | AW66: =$F$4*C66*0.5 -> 0 | AX66: =AW66/$F$3 -> 0 | AY66: =$AY$68*L66 -> 0 | AZ66: =(AY66/2)/$D$3 -> 0
A67: 56 | D67: =C67/$C$68 -> 0 | E67: =C67-G67 -> 0 | F67: =IF(E67=0,0,E67/C67) -> 0 | G67: ='Per woonkern'!D57 -> 0 | H67: =IF(G67=0,0,G67/C67) -> 0 | I67: =G67/$G$68 -> 0 | J67: ='Per woonkern'!B57 -> 0 | K67: ='Per woonkern'!C57 -> 0 | L67: =K67/$K$68 -> 0 | M67: =G67*100/$C$7 -> 0 | N67: =M67*2 -> 0 | O67: =M67/$C$3 -> 0 | P67: =G67*100/$C$6 -> 0 | Q67: =P67*2 -> 0 | R67: =$V$70*D67 -> 0 | S67: =R67/2/$C$3 -> 0 | T67: =$V$70*I67 -> 0 | U67: =T67/2/$C$3 -> 0 | V67: =$V$70*L67 -> 0 | W67: ='Per woonkern'!H57 -> 0 | X67: =$E$4*C67 -> 0 | Y67: =IF(B67=0,0,IF((X67/2)/$E$3<=1,1,ROUND(((X67/2))/$E$3,0))) -> 0 | Z67: =$X$70*L67 -> 0 | AA67: =IF((Z67/2)/$E$3<=1,1,ROUND(((Z67/2))/$E$3,0)) -> 1 | AB67: =$F$4*C67*0.5 -> 0 | AC67: =IF(B67=0,0,IF(AB67/$F$3<=1,1,ROUND(AB67/$F$3,0))) -> 0 | AD67: =$F$4*C67 -> 0 | AE67: =IF(AD67/$F$3<=1,1,ROUND(AD67/$F$3,0)) -> 1 | AF67: =G67*$AF$70 -> 0 | AG67: =IF(AF67/$F$3<=1,1,ROUND(AF67/$F$3,0)) -> 1 | AH67: =$AD$70*L67 -> 0 | AI67: =IF(AH67/$F$3<=1,1,ROUND(AH67/$F$3,0)) -> 1 | AJ67: =$D$4*C67 -> 0 | AK67: =AJ67/2/$D$3 -> 0 | AL67: =G67*$AL$70 -> 0 | AM67: =(AL67/2)/$D$3 -> 0 | AN67: =$AJ$70*L67 -> 0 | AO67: ='Per woonkern'!J57 -> 0 | AP67: ='Per woonkern'!M57 -> 0 | AQ67: ='Per woonkern'!N57 -> 0 | AS67: =$AS$68*L67 -> 0 | AT67: =(AS67/2)/$C$3 -> 0 | AU67: =$X$70*L67 -> 0 | AV67: =(AU67/2)/$E$3 -> 0 | AW67: =$F$4*C67*0.5 -> 0 | AX67: =AW67/$F$3 -> 0 | AY67: =$AY$68*L67 -> 0 | AZ67: =(AY67/2)/$D$3 -> 0
B68: ="Totaal Provincie "&B10&":" -> Totaal Provincie Limburg: | C68: =SUM(C12:C67) -> 2146.62 | D68: =SUM(D12:D67) -> 1 | E68: =SUM(E12:E67) -> 1813.4783 | G68: =SUM(G12:G67) -> 333.14174 | H68: =G68/C68 -> 0.15519363 | I68: =SUM(I12:I67) -> 1 | J68: =SUM(J12:J67) -> 217 | K68: =SUM(K12:K67) -> 1516.2932 | L68: =SUM(L12:L67) -> 1 | M68: =SUM(M12:M67) -> 11104.725 | N68: =M68*2 -> 22209.449 | O68: =M68/$C$3 -> 111.04725 | P68: =SUM(P12:P67) -> 27761.812 | Q68: =P68*2 -> 55523.623 | R68: =SUM(R12:R67) -> 51518.88 | S68: =SUM(S12:S67) -> 257.5944 | T68: =SUM(T12:T67) -> 51518.88 | U68: =T68/2/$C$3 -> 257.5944 | V68: =SUM(V12:V67) -> 51518.88 | W68: =SUM(W12:W67) -> 324 | X68: =SUM(X12:X67) -> 2103.6876 | Y68: =SUM(Y12:Y67) -> 88 | Z68: =SUM(Z12:Z67) -> 2103.6876 | AA68: =SUM(AA12:AA67) -> 113 | AB68: =SUM(AB12:AB67) -> 1781.6946 | AC68: =SUM(AC12:AC67) -> 105 | ... AQ68: =SUM(AQ12:AQ67) -> 11659.961 | AS68: =$C$5*C68 -> 37995.174 | AT68: =SUM(AT12:AT67) -> 189.97587 | AU68: =$D$5*C68 -> 2103.6876 | AV68: =SUM(AV12:AV67) -> 87.65365 | AW68: =$F$5*C68*0.5 -> 1781.6946 | AX68: =SUM(AX12:AX67) -> 104.80556 | AY68: =$D$5*C68 -> 2103.6876 | AZ68: =SUM(AZ12:AZ67) -> 42.073752
V70: =$C$4*C68 -> 51518.88 | W70: =V70/2/$C$3 -> 257.5944 | X70: =$E$4*C68 -> 2103.6876 | Y70: =X70/2/$E$3 -> 87.65365 | AD70: =$F$4*C68 -> 3563.3892 | AE70: =AD70/$F$3 -> 209.61113 | AF70: =AD70/G68 -> 10.696316 | AJ70: =$D$4*C68 -> 8586.48 | AK70: =AJ70/2/$D$3 -> 171.7296 | AL70: =AJ70/G68 -> 25.774255 | AP70: =G68*G4 -> 74956.891 | AQ70: =G68*H4 -> 11659.961
W71: =W70-W68 -> -66.4056 | Y71: =Y70-Y68 -> -0.34635 | AP71: =AP70-AP68 -> -277.3421

Sheet Per woonkern
A1: ="Gemeentes in "&Dichtheden!B10 -> Gemeentes in Limburg | B1: Aantal woonkernen | C1: Omtrek km | D1: Oppervlakte woonkernen | E1: % omtrek provinciaal | F1: % opp. provinciaal | G1: Populatie P.pip | H1: Kolonies P.pip | I1: Populatie E.ser | J1: Kolonies E.ser | K1: Populatie M.mys | L1: Populatie P.aur | M1: Broedparen P.dom | N1: Broedparen A.apus | Q1: pop. p.pip /opp kern | S1: Kol.p.pip /km omtrek
A2: =IF(Dichtheden!$B12="","",Dichtheden!$B12) -> Gemeente Beek | B2: =COUNTIF(AA$61:AA$560,">0") -> 4 | C2: =SUM(AA$61:AA$560) -> 21.580453 | D2: =SUM(CF$61:CF$560) -> 4.544259 | E2: =C2/$C$58 -> 0.014232375 | F2: =D2/$D$58 -> 0.013640617 | G2: =E2*Dichtheden!$V$70 -> 733.236 | H2: =SUM(EK$61:EK$560) -> 5 | I2: =E2*Dichtheden!$AJ$70 -> 122.206 | J2: =SUM(GP$61:GP$560) -> 4 | K2: =Dichtheden!$X12 -> 20.6094 | L2: =Dichtheden!$AB12 -> 17.4549 | M2: =SUM(IU$61:IU$560) -> 1035.0113 | N2: =SUM(KZ$61:KZ$560) -> 159.04906 | P2: Hier is een optelsom van de aantallen uit de woonkernen per gemeente hieronder weergegeven. | R2: =IF(D2=0,0,G2/D2) -> 161.35436 | S2: =IF(C2=0,0,H2/C2) -> 0.23169115
A3: =IF(Dichtheden!$B13="","",Dichtheden!$B13) -> Gemeente Beekdaelen | B3: =COUNTIF(AB$61:AB$560,">0") -> 17 | C3: =SUM(AB$61:AB$560) -> 77.843826 | D3: =SUM(CG$61:CG$560) -> 8.926804 | E3: =C3/$C$58 -> 0.051338241 | F3: =D3/$D$58 -> 0.026795814 | G3: =E3*Dichtheden!$V$70 -> 2644.8887 | H3: =SUM(EL$61:EL$560) -> 18 | I3: =E3*Dichtheden!$AJ$70 -> 440.81478 | J3: =SUM(GQ$61:GQ$560) -> 17 | K3: =Dichtheden!$X13 -> 76.734 | L3: =Dichtheden!$AB13 -> 64.989 | M3: =SUM(IV$61:IV$560) -> 2035.7294 | N3: =SUM(LA$61:LA$560) -> 312.43814 | R3: =IF(D3=0,0,G3/D3) -> 296.28618 | S3: =IF(C3=0,0,H3/C3) -> 0.23123221
A4: =IF(Dichtheden!$B14="","",Dichtheden!$B14) -> Gemeente Beesel | B4: =COUNTIF(AC$61:AC$560,">0") -> 2 | C4: =SUM(AC$61:AC$560) -> 19.920348 | D4: =SUM(CH$61:CH$560) -> 3.676458 | E4: =C4/$C$58 -> 0.01313753 | F4: =D4/$D$58 -> 0.011035717 | G4: =E4*Dichtheden!$V$70 -> 676.83085 | H4: =SUM(EM$61:EM$560) -> 3 | I4: =E4*Dichtheden!$AJ$70 -> 112.80514 | J4: =SUM(GR$61:GR$560) -> 2 | K4: =Dichtheden!$X14 -> 27.4302 | L4: =Dichtheden!$AB14 -> 23.2317 | M4: =SUM(IW$61:IW$560) -> 827.20305 | N4: =SUM(LB$61:LB$560) -> 128.67603 | R4: =IF(D4=0,0,G4/D4) -> 184.09862 | S4: =IF(C4=0,0,H4/C4) -> 0.15059978
A5: =IF(Dichtheden!$B15="","",Dichtheden!$B15) -> Gemeente Bergen (L) | B5: =COUNTIF(AD$61:AD$560,">0") -> 8 | C5: =SUM(AD$61:AD$560) -> 31.682117 | D5: =SUM(CI$61:CI$560) -> 3.854889 | E5: =C5/$C$58 -> 0.020894453 | F5: =D5/$D$58 -> 0.011571318 | G5: =E5*Dichtheden!$V$70 -> 1076.4588 | H5: =SUM(EN$61:EN$560) -> 8 | I5: =E5*Dichtheden!$AJ$70 -> 179.4098 | J5: =SUM(GS$61:GS$560) -> 8 | K5: =Dichtheden!$X15 -> 101.1752 | L5: =Dichtheden!$AB15 -> 85.6892 | M5: =SUM(IX$61:IX$560) -> 877.6427 | N5: =SUM(LC$61:LC$560) -> 134.92111 | R5: =IF(D5=0,0,G5/D5) -> 279.24509 | S5: =IF(C5=0,0,H5/C5) -> 0.25250838
A6: =IF(Dichtheden!$B16="","",Dichtheden!$B16) -> Gemeente Brunssum | B6: =COUNTIF(AE$61:AE$560,">0") -> 1 | C6: =SUM(AE$61:AE$560) -> 14.25287 | D6: =SUM(CJ$61:CJ$560) -> 7.75403 | E6: =C6/$C$58 -> 0.0093998113 | F6: =D6/$D$58 -> 0.023275468 | G6: =E6*Dichtheden!$V$70 -> 484.26775 | H6: =SUM(EO$61:EO$560) -> 2 | I6: =E6*Dichtheden!$AJ$70 -> 80.711292 | J6: =SUM(GT$61:GT$560) -> 2 | K6: =Dichtheden!$X16 -> 16.905 | L6: =Dichtheden!$AB16 -> 14.3175 | M6: =SUM(IY$61:IY$560) -> 1744.6568 | N6: =SUM(LD$61:LD$560) -> 271.39105 | R6: =IF(D6=0,0,G6/D6) -> 62.453685 | S6: =IF(C6=0,0,H6/C6) -> 0.14032262
A7: =IF(Dichtheden!$B17="","",Dichtheden!$B17) -> Gemeente Echt-Susteren | B7: =COUNTIF(AF$61:AF$560,">0") -> 9 | C7: =SUM(AF$61:AF$560) -> 63.199067 | D7: =SUM(CK$61:CK$560) -> 9.622976 | E7: =C7/$C$58 -> 0.041679978 | F7: =D7/$D$58 -> 0.028885531 | G7: =E7*Dichtheden!$V$70 -> 2147.3058 | H7: =SUM(EP$61:EP$560) -> 13 | I7: =E7*Dichtheden!$AJ$70 -> 357.88429 | J7: =SUM(GU$61:GU$560) -> 11 | K7: =Dichtheden!$X17 -> 101.0086 | L7: =Dichtheden!$AB17 -> 85.5481 | M7: =SUM(IZ$61:IZ$560) -> 2165.1696 | N7: =SUM(LE$61:LE$560) -> 336.80416 | R7: =IF(D7=0,0,G7/D7) -> 223.14363 | S7: =IF(C7=0,0,H7/C7) -> 0.20569924
A8: =IF(Dichtheden!$B18="","",Dichtheden!$B18) -> Gemeente Eijsden-Margraten | B8: =COUNTIF(AG$61:AG$560,">0") -> 15 | C8: =SUM(AG$61:AG$560) -> 65.005425 | D8: =SUM(CL$61:CL$560) -> 8.251961 | E8: =C8/$C$58 -> 0.042871276 | F8: =D8/$D$58 -> 0.02477012 | G8: =E8*Dichtheden!$V$70 -> 2208.6801 | H8: =SUM(EQ$61:EQ$560) -> 17 | I8: =E8*Dichtheden!$AJ$70 -> 368.11336 | J8: =SUM(GV$61:GV$560) -> 16 | K8: =Dichtheden!$X18 -> 75.999 | L8: =Dichtheden!$AB18 -> 64.3665 | M8: =SUM(JA$61:JA$560) -> 1880.1163 | N8: =SUM(LF$61:LF$560) -> 288.81864 | R8: =IF(D8=0,0,G8/D8) -> 267.65518 | S8: =IF(C8=0,0,H8/C8) -> 0.26151663
A9: =IF(Dichtheden!$B19="","",Dichtheden!$B19) -> Gemeente Gennep | B9: =COUNTIF(AH$61:AH$560,">0") -> 6 | C9: =SUM(AH$61:AH$560) -> 36.759596 | D9: =SUM(CM$61:CM$560) -> 5.354891 | E9: =C9/$C$58 -> 0.024243066 | F9: =D9/$D$58 -> 0.016073912 | G9: =E9*Dichtheden!$V$70 -> 1248.9756 | H9: =SUM(ER$61:ER$560) -> 8 | I9: =E9*Dichtheden!$AJ$70 -> 208.1626 | J9: =SUM(GW$61:GW$560) -> 6 | K9: =Dichtheden!$X19 -> 46.6676 | L9: =Dichtheden!$AB19 -> 39.5246 | M9: =SUM(JB$61:JB$560) -> 1211.7553 | N9: =SUM(LG$61:LG$560) -> 187.42119 | R9: =IF(D9=0,0,G9/D9) -> 233.24015 | S9: =IF(C9=0,0,H9/C9) -> 0.21763025
A10: =IF(Dichtheden!$B20="","",Dichtheden!$B20) -> Gemeente Gulpen-Wittem | B10: =COUNTIF(AI$61:AI$560,">0") -> 11 | C10: =SUM(AI$61:AI$560) -> 40.657441 | D10: =SUM(CN$61:CN$560) -> 3.54576 | E10: =C10/$C$58 -> 0.026813706 | F10: =D10/$D$58 -> 0.010643398 | G10: =E10*Dichtheden!$V$70 -> 1381.4121 | H10: =SUM(ES$61:ES$560) -> 11 | I10: =E10*Dichtheden!$AJ$70 -> 230.23535 | J10: =SUM(GX$61:GX$560) -> 11 | K10: =Dichtheden!$X20 -> 71.7164 | L10: =Dichtheden!$AB20 -> 60.7394 | M10: =SUM(JC$61:JC$560) -> 819.1985 | N10: =SUM(LH$61:LH$560) -> 124.1016 | R10: =IF(D10=0,0,G10/D10) -> 389.5955 | S10: =IF(C10=0,0,H10/C10) -> 0.27055318
A11: =IF(Dichtheden!$B21="","",Dichtheden!$B21) -> Gemeente Heerlen | B11: =COUNTIF(AJ$61:AJ$560,">0") -> 1 | C11: =SUM(AJ$61:AJ$560) -> 45.090491 | D11: =SUM(CO$61:CO$560) -> 27.11561 | E11: =C11/$C$58 -> 0.029737316 | F11: =D11/$D$58 -> 0.081393613 | G11: =E11*Dichtheden!$V$70 -> 1532.0332 | H11: =SUM(ET$61:ET$560) -> 8 | I11: =E11*Dichtheden!$AJ$70 -> 255.33887 | J11: =SUM(GY$61:GY$560) -> 5 | K11: =Dichtheden!$X21 -> 44.0412 | L11: =Dichtheden!$AB21 -> 37.3002 | M11: =SUM(JD$61:JD$560) -> 6101.0122 | N11: =SUM(LI$61:LI$560) -> 949.04635 | R11: =IF(D11=0,0,G11/D11) -> 56.500047 | S11: =IF(C11=0,0,H11/C11) -> 0.177421
A12: =IF(Dichtheden!$B22="","",Dichtheden!$B22) -> Gemeente Horst aan de Maas | B12: =COUNTIF(AK$61:AK$560,">0") -> 15 | C12: =SUM(AK$61:AK$560) -> 77.53198 | D12: =SUM(CP$61:CP$560) -> 10.167392 | E12: =C12/$C$58 -> 0.051132577 | F12: =D12/$D$58 -> 0.030519718 | G12: =E12*Dichtheden!$V$70 -> 2634.2931 | H12: =SUM(EU$61:EU$560) -> 19 | I12: =E12*Dichtheden!$AJ$70 -> 439.04885 | J12: =SUM(GZ$61:GZ$560) -> 16 | K12: =Dichtheden!$X22 -> 184.9554 | L12: =Dichtheden!$AB22 -> 156.6459 | M12: =SUM(JE$61:JE$560) -> 2297.0196 | N12: =SUM(LJ$61:LJ$560) -> 355.85872 | R12: =IF(D12=0,0,G12/D12) -> 259.09231 | S12: =IF(C12=0,0,H12/C12) -> 0.24506017
A13: =IF(Dichtheden!$B23="","",Dichtheden!$B23) -> Gemeente Kerkrade | B13: =COUNTIF(AL$61:AL$560,">0") -> 3 | C13: =SUM(AL$61:AL$560) -> 47.758112 | D13: =SUM(CQ$61:CQ$560) -> 13.566331 | E13: =C13/$C$58 -> 0.031496621 | F13: =D13/$D$58 -> 0.040722399 | G13: =E13*Dichtheden!$V$70 -> 1622.6706 | H13: =SUM(EV$61:EV$560) -> 9 | I13: =E13*Dichtheden!$AJ$70 -> 270.4451 | J13: =SUM(HA$61:HA$560) -> 6 | K13: =Dichtheden!$X23 -> 21.4718 | L13: =Dichtheden!$AB23 -> 18.1853 | M13: =SUM(JF$61:JF$560) -> 3052.4245 | N13: =SUM(LK$61:LK$560) -> 474.82159 | R13: =IF(D13=0,0,G13/D13) -> 119.61013 | S13: =IF(C13=0,0,H13/C13) -> 0.18844966
A14: =IF(Dichtheden!$B24="","",Dichtheden!$B24) -> Gemeente Landgraaf | B14: =COUNTIF(AM$61:AM$560,">0") -> 2 | C14: =SUM(AM$61:AM$560) -> 37.499636 | D14: =SUM(CR$61:CR$560) -> 10.894498 | E14: =C14/$C$58 -> 0.024731124 | F14: =D14/$D$58 -> 0.032702291 | G14: =E14*Dichtheden!$V$70 -> 1274.1198 | H14: =SUM(EW$61:EW$560) -> 7 | I14: =E14*Dichtheden!$AJ$70 -> 212.35331 | J14: =SUM(HB$61:HB$560) -> 5 | K14: =Dichtheden!$X24 -> 24.0884 | L14: =Dichtheden!$AB24 -> 20.4014 | M14: =SUM(JG$61:JG$560) -> 2461.1765 | N14: =SUM(LL$61:LL$560) -> 381.30743 | R14: =IF(D14=0,0,G14/D14) -> 116.95076 | S14: =IF(C14=0,0,H14/C14) -> 0.18666848
A15: =IF(Dichtheden!$B25="","",Dichtheden!$B25) -> Gemeente Leudal | B15: =COUNTIF(AN$61:AN$560,">0") -> 15 | C15: =SUM(AN$61:AN$560) -> 86.95847 | D15: =SUM(CS$61:CS$560) -> 11.127567 | E15: =C15/$C$58 -> 0.057349376 | F15: =D15/$D$58 -> 0.0334019 | G15: =E15*Dichtheden!$V$70 -> 2954.5756 | H15: =SUM(EX$61:EX$560) -> 18 | I15: =E15*Dichtheden!$AJ$70 -> 492.42927 | J15: =SUM(HC$61:HC$560) -> 15 | K15: =Dichtheden!$X25 -> 159.4754 | L15: =Dichtheden!$AB25 -> 135.0659 | M15: =SUM(JH$61:JH$560) -> 2504.5565 | N15: =SUM(LM$61:LM$560) -> 389.46484 | R15: =IF(D15=0,0,G15/D15) -> 265.51857 | S15: =IF(C15=0,0,H15/C15) -> 0.20699536
A16: =IF(Dichtheden!$B26="","",Dichtheden!$B26) -> Gemeente Maasgouw | B16: =COUNTIF(AO$61:AO$560,">0") -> 9 | C16: =SUM(AO$61:AO$560) -> 55.930878 | D16: =SUM(CT$61:CT$560) -> 8.710747 | E16: =C16/$C$58 -> 0.036886585 | F16: =D16/$D$58 -> 0.02614727 | G16: =E16*Dichtheden!$V$70 -> 1900.3555 | H16: =SUM(EY$61:EY$560) -> 11 | I16: =E16*Dichtheden!$AJ$70 -> 316.72592 | J16: =SUM(HD$61:HD$560) -> 10 | K16: =Dichtheden!$X26 -> 44.7958 | L16: =Dichtheden!$AB26 -> 37.9393 | M16: =SUM(JI$61:JI$560) -> 1959.9181 | N16: =SUM(LN$61:LN$560) -> 304.87615 | R16: =IF(D16=0,0,G16/D16) -> 218.16218 | S16: =IF(C16=0,0,H16/C16) -> 0.19667133
A17: =IF(Dichtheden!$B27="","",Dichtheden!$B27) -> Gemeente Maastricht | B17: =COUNTIF(AP$61:AP$560,">0") -> 3 | C17: =SUM(AP$61:AP$560) -> 71.154635 | D17: =SUM(CU$61:CU$560) -> 29.814992 | E17: =C17/$C$58 -> 0.046926699 | F17: =D17/$D$58 -> 0.089496417 | G17: =E17*Dichtheden!$V$70 -> 2417.611 | H17: =SUM(EZ$61:EZ$560) -> 13 | I17: =E17*Dichtheden!$AJ$70 -> 402.93516 | J17: =SUM(HE$61:HE$560) -> 9 | K17: =Dichtheden!$X27 -> 54.8702 | L17: =Dichtheden!$AB27 -> 46.4717 | M17: =SUM(JJ$61:JJ$560) -> 6708.3732 | N17: =SUM(LO$61:LO$560) -> 1043.5247 | R17: =IF(D17=0,0,G17/D17) -> 81.087091 | S17: =IF(C17=0,0,H17/C17) -> 0.18270068
A18: =IF(Dichtheden!$B28="","",Dichtheden!$B28) -> Gemeente Meerssen | B18: =COUNTIF(AQ$61:AQ$560,">0") -> 6 | C18: =SUM(AQ$61:AQ$560) -> 36.626149 | D18: =SUM(CV$61:CV$560) -> 5.210921 | E18: =C18/$C$58 -> 0.024155057 | F18: =D18/$D$58 -> 0.015641754 | G18: =E18*Dichtheden!$V$70 -> 1244.4415 | H18: =SUM(FA$61:FA$560) -> 8 | I18: =E18*Dichtheden!$AJ$70 -> 207.40691 | J18: =SUM(HF$61:HF$560) -> 7 | K18: =Dichtheden!$X28 -> 26.4208 | L18: =Dichtheden!$AB28 -> 22.3768 | M18: =SUM(JK$61:JK$560) -> 1176.5795 | N18: =SUM(LP$61:LP$560) -> 182.38224 | R18: =IF(D18=0,0,G18/D18) -> 238.81411 | S18: =IF(C18=0,0,H18/C18) -> 0.21842318
A19: =IF(Dichtheden!$B29="","",Dichtheden!$B29) -> Gemeente Mook en Middelaar | B19: =COUNTIF(AR$61:AR$560,">0") -> 4 | C19: =SUM(AR$61:AR$560) -> 21.473331 | D19: =SUM(CW$61:CW$560) -> 2.700922 | E19: =C19/$C$58 -> 0.014161727 | F19: =D19/$D$58 -> 0.008107426 | G19: =E19*Dichtheden!$V$70 -> 729.59633 | H19: =SUM(FB$61:FB$560) -> 5 | I19: =E19*Dichtheden!$AJ$70 -> 121.59939 | J19: =SUM(HG$61:HG$560) -> 4 | K19: =Dichtheden!$X29 -> 17.0324 | L19: =Dichtheden!$AB29 -> 14.4254 | M19: =SUM(JL$61:JL$560) -> 610.80483 | N19: =SUM(LQ$61:LQ$560) -> 94.53227 | R19: =IF(D19=0,0,G19/D19) -> 270.12862 | S19: =IF(C19=0,0,H19/C19) -> 0.23284697
A20: =IF(Dichtheden!$B30="","",Dichtheden!$B30) -> Gemeente Nederweert | B20: =COUNTIF(AS$61:AS$560,">0") -> 6 | C20: =SUM(AS$61:AS$560) -> 25.423277 | D20: =SUM(CX$61:CX$560) -> 4.746091 | E20: =C20/$C$58 -> 0.016766729 | F20: =D20/$D$58 -> 0.014246462 | G20: =E20*Dichtheden!$V$70 -> 863.80309 | H20: =SUM(FC$61:FC$560) -> 7 | I20: =E20*Dichtheden!$AJ$70 -> 143.96718 | J20: =SUM(HH$61:HH$560) -> 6 | K20: =Dichtheden!$X30 -> 97.9804 | L20: =Dichtheden!$AB30 -> 82.9834 | M20: =SUM(JM$61:JM$560) -> 1077.9273 | N20: =SUM(LR$61:LR$560) -> 166.11319 | R20: =IF(D20=0,0,G20/D20) -> 182.00306 | S20: =IF(C20=0,0,H20/C20) -> 0.27533823
A21: =IF(Dichtheden!$B31="","",Dichtheden!$B31) -> Gemeente Peel en Maas | B21: =COUNTIF(AT$61:AT$560,">0") -> 9 | C21: =SUM(AT$61:AT$560) -> 68.264187 | D21: =SUM(CY$61:CY$560) -> 11.925617 | E21: =C21/$C$58 -> 0.04502044 | F21: =D21/$D$58 -> 0.035797427 | G21: =E21*Dichtheden!$V$70 -> 2319.4026 | H21: =SUM(FD$61:FD$560) -> 13 | I21: =E21*Dichtheden!$AJ$70 -> 386.56711 | J21: =SUM(HI$61:HI$560) -> 10 | K21: =Dichtheden!$X31 -> 156.1826 | L21: =Dichtheden!$AB31 -> 132.2771 | M21: =SUM(JN$61:JN$560) -> 2683.2638 | N21: =SUM(LS$61:LS$560) -> 417.39659 | R21: =IF(D21=0,0,G21/D21) -> 194.48911 | S21: =IF(C21=0,0,H21/C21) -> 0.1904366
A22: =IF(Dichtheden!$B32="","",Dichtheden!$B32) -> Gemeente Roerdalen | B22: =COUNTIF(AU$61:AU$560,">0") -> 11 | C22: =SUM(AU$61:AU$560) -> 53.462359 | D22: =SUM(CZ$61:CZ$560) -> 6.582738 | E22: =C22/$C$58 -> 0.035258589 | F22: =D22/$D$58 -> 0.019759571 | G22: =E22*Dichtheden!$V$70 -> 1816.483 | H22: =SUM(FE$61:FE$560) -> 13 | I22: =E22*Dichtheden!$AJ$70 -> 302.74717 | J22: =SUM(HJ$61:HJ$560) -> 11 | K22: =Dichtheden!$X32 -> 86.4458 | L22: =Dichtheden!$AB32 -> 73.2143 | M22: =SUM(JO$61:JO$560) -> 1506.8944 | N22: =SUM(LT$61:LT$560) -> 230.39583 | R22: =IF(D22=0,0,G22/D22) -> 275.94642 | S22: =IF(C22=0,0,H22/C22) -> 0.24316174
A23: =IF(Dichtheden!$B33="","",Dichtheden!$B33) -> Gemeente Roermond | B23: =COUNTIF(AV$61:AV$560,">0") -> 5 | C23: =SUM(AV$61:AV$560) -> 60.915536 | D23: =SUM(DA$61:DA$560) -> 16.704624 | E23: =C23/$C$58 -> 0.040173982 | F23: =D23/$D$58 -> 0.050142693 | G23: =E23*Dichtheden!$V$70 -> 2069.7186 | H23: =SUM(FF$61:FF$560) -> 11 | I23: =E23*Dichtheden!$AJ$70 -> 344.95309 | J23: =SUM(HK$61:HK$560) -> 9 | K23: =Dichtheden!$X33 -> 59.5938 | L23: =Dichtheden!$AB33 -> 50.4723 | M23: =SUM(JP$61:JP$560) -> 3774.9623 | N23: =SUM(LU$61:LU$560) -> 584.66184 | R23: =IF(D23=0,0,G23/D23) -> 123.90094 | S23: =IF(C23=0,0,H23/C23) -> 0.18057791
A24: =IF(Dichtheden!$B34="","",Dichtheden!$B34) -> Gemeente Simpelveld | B24: =COUNTIF(AW$61:AW$560,">0") -> 4 | C24: =SUM(AW$61:AW$560) -> 19.221621 | D24: =SUM(DB$61:DB$560) -> 2.526629 | E24: =C24/$C$58 -> 0.012676718 | F24: =D24/$D$58 -> 0.0075842463 | G24: =E24*Dichtheden!$V$70 -> 653.0903 | H24: =SUM(FG$61:FG$560) -> 5 | I24: =E24*Dichtheden!$AJ$70 -> 108.84838 | J24: =SUM(HL$61:HL$560) -> 4 | K24: =Dichtheden!$X34 -> 15.7094 | L24: =Dichtheden!$AB34 -> 13.3049 | M24: =SUM(JQ$61:JQ$560) -> 587.2624 | N24: =SUM(LV$61:LV$560) -> 88.432015 | R24: =IF(D24=0,0,G24/D24) -> 258.48286 | S24: =IF(C24=0,0,H24/C24) -> 0.26012374
A25: =IF(Dichtheden!$B35="","",Dichtheden!$B35) -> Gemeente Sittard-Geleen | B25: =COUNTIF(AX$61:AX$560,">0") -> 9 | C25: =SUM(AX$61:AX$560) -> 103.56453 | D25: =SUM(DC$61:DC$560) -> 38.330941 | E25: =C25/$C$58 -> 0.06830112 | F25: =D25/$D$58 -> 0.11505896 | G25: =E25*Dichtheden!$V$70 -> 3518.7972 | H25: =SUM(FH$61:FH$560) -> 22 | I25: =E25*Dichtheden!$AJ$70 -> 586.4662 | J25: =SUM(HM$61:HM$560) -> 17 | K25: =Dichtheden!$X35 -> 77.4298 | L25: =Dichtheden!$AB35 -> 65.5783 | M25: =SUM(JR$61:JR$560) -> 8659.1867 | N25: =SUM(LW$61:LW$560) -> 1341.5829 | R25: =IF(D25=0,0,G25/D25) -> 91.800439 | S25: =IF(C25=0,0,H25/C25) -> 0.21242795
A26: =IF(Dichtheden!$B36="","",Dichtheden!$B36) -> Gemeente Stein | B26: =COUNTIF(AY$61:AY$560,">0") -> 4 | C26: =SUM(AY$61:AY$560) -> 44.954316 | D26: =SUM(DD$61:DD$560) -> 8.462011 | E26: =C26/$C$58 -> 0.029647509 | F26: =D26/$D$58 -> 0.025400633 | G26: =E26*Dichtheden!$V$70 -> 1527.4064 | H26: =SUM(FI$61:FI$560) -> 9 | I26: =E26*Dichtheden!$AJ$70 -> 254.56774 | J26: =SUM(HN$61:HN$560) -> 7 | K26: =Dichtheden!$X36 -> 20.6584 | L26: =Dichtheden!$AB36 -> 17.4964 | M26: =SUM(JS$61:JS$560) -> 1919.8674 | N26: =SUM(LX$61:LX$560) -> 296.17039 | R26: =IF(D26=0,0,G26/D26) -> 180.50159 | S26: =IF(C26=0,0,H26/C26) -> 0.20020325
A27: =IF(Dichtheden!$B37="","",Dichtheden!$B37) -> Gemeente Vaals | B27: =COUNTIF(AZ$61:AZ$560,">0") -> 3 | C27: =SUM(AZ$61:AZ$560) -> 12.541095 | D27: =SUM(DE$61:DE$560) -> 2.045805 | E27: =C27/$C$58 -> 0.0082708904 | F27: =D27/$D$58 -> 0.0061409447 | G27: =E27*Dichtheden!$V$70 -> 426.10701 | H27: =SUM(FJ$61:FJ$560) -> 3 | I27: =E27*Dichtheden!$AJ$70 -> 71.017835 | J27: =SUM(HO$61:HO$560) -> 3 | K27: =Dichtheden!$X37 -> 23.4122 | L27: =Dichtheden!$AB37 -> 19.8287 | M27: =SUM(JT$61:JT$560) -> 460.30613 | N27: =SUM(LY$61:LY$560) -> 71.603175 | R27: =IF(D27=0,0,G27/D27) -> 208.2833 | S27: =IF(C27=0,0,H27/C27) -> 0.23921356
A28: =IF(Dichtheden!$B38="","",Dichtheden!$B38) -> Gemeente Valkenburg aan de Geul | B28: =COUNTIF(BA$61:BA$560,">0") -> 6 | C28: =SUM(BA$61:BA$560) -> 36.370995 | D28: =SUM(DF$61:DF$560) -> 4.009498 | E28: =C28/$C$58 -> 0.023986782 | F28: =D28/$D$58 -> 0.012035412 | G28: =E28*Dichtheden!$V$70 -> 1235.7722 | H28: =SUM(FK$61:FK$560) -> 7 | I28: =E28*Dichtheden!$AJ$70 -> 205.96203 | J28: =SUM(HP$61:HP$560) -> 7 | K28: =Dichtheden!$X38 -> 35.9954 | L28: =Dichtheden!$AB38 -> 30.4859 | M28: =SUM(JU$61:JU$560) -> 902.13705 | N28: =SUM(LZ$61:LZ$560) -> 140.33243 | R28: =IF(D28=0,0,G28/D28) -> 308.21119 | S28: =IF(C28=0,0,H28/C28) -> 0.19246105
A29: =IF(Dichtheden!$B39="","",Dichtheden!$B39) -> Gemeente Venlo | B29: =COUNTIF(BB$61:BB$560,">0") -> 9 | C29: =SUM(BB$61:BB$560) -> 102.15537 | D29: =SUM(DG$61:DG$560) -> 29.892161 | E29: =C29/$C$58 -> 0.067371776 | F29: =D29/$D$58 -> 0.089728057 | G29: =E29*Dichtheden!$V$70 -> 3470.9185 | H29: =SUM(FL$61:FL$560) -> 20 | I29: =E29*Dichtheden!$AJ$70 -> 578.48641 | J29: =SUM(HQ$61:HQ$560) -> 14 | K29: =Dichtheden!$X39 -> 121.765 | L29: =Dichtheden!$AB39 -> 103.1275 | M29: =SUM(JV$61:JV$560) -> 6725.8033 | N29: =SUM(MA$61:MA$560) -> 1046.2256 | R29: =IF(D29=0,0,G29/D29) -> 116.11467 | S29: =IF(C29=0,0,H29/C29) -> 0.19578022
A30: =IF(Dichtheden!$B40="","",Dichtheden!$B40) -> Gemeente Venray | B30: =COUNTIF(BC$61:BC$560,">0") -> 10 | C30: =SUM(BC$61:BC$560) -> 62.223637 | D30: =SUM(DH$61:DH$560) -> 13.038605 | E30: =C30/$C$58 -> 0.041036679 | F30: =D30/$D$58 -> 0.039138311 | G30: =E30*Dichtheden!$V$70 -> 2114.1637 | H30: =SUM(FM$61:FM$560) -> 15 | I30: =E30*Dichtheden!$AJ$70 -> 352.36062 | J30: =SUM(HR$61:HR$560) -> 13 | K30: =Dichtheden!$X40 -> 160.0046 | L30: =Dichtheden!$AB40 -> 135.5141 | M30: =SUM(JW$61:JW$560) -> 2955.4509 | N30: =SUM(MB$61:MB$560) -> 456.35117 | R30: =IF(D30=0,0,G30/D30) -> 162.14647 | S30: =IF(C30=0,0,H30/C30) -> 0.24106595
A31: =IF(Dichtheden!$B41="","",Dichtheden!$B41) -> Gemeente Voerendaal | B31: =COUNTIF(BD$61:BD$560,">0") -> 4 | C31: =SUM(BD$61:BD$560) -> 27.305408 | D31: =SUM(DI$61:DI$560) -> 3.520251 | E31: =C31/$C$58 -> 0.018008 | F31: =D31/$D$58 -> 0.010566827 | G31: =E31*Dichtheden!$V$70 -> 927.75199 | H31: =SUM(FN$61:FN$560) -> 6 | I31: =E31*Dichtheden!$AJ$70 -> 154.62533 | J31: =SUM(HS$61:HS$560) -> 4 | K31: =Dichtheden!$X41 -> 30.8798 | L31: =Dichtheden!$AB41 -> 26.1533 | M31: =SUM(JX$61:JX$560) -> 796.7779 | N31: =SUM(MC$61:MC$560) -> 123.20878 | R31: =IF(D31=0,0,G31/D31) -> 263.54711 | S31: =IF(C31=0,0,H31/C31) -> 0.21973669
A32: =IF(Dichtheden!$B42="","",Dichtheden!$B42) -> Gemeente Weert | B32: =COUNTIF(BE$61:BE$560,">0") -> 6 | C32: =SUM(BE$61:BE$560) -> 48.966061 | D32: =SUM(DJ$61:DJ$560) -> 16.515761 | E32: =C32/$C$58 -> 0.032293267 | F32: =D32/$D$58 -> 0.049575778 | G32: =E32*Dichtheden!$V$70 -> 1663.7129 | H32: =SUM(FO$61:FO$560) -> 10 | I32: =E32*Dichtheden!$AJ$70 -> 277.28549 | J32: =SUM(HT$61:HT$560) -> 9 | K32: =Dichtheden!$X42 -> 102.2336 | L32: =Dichtheden!$AB42 -> 86.5856 | M32: =SUM(JY$61:JY$560) -> 3716.0462 | N32: =SUM(MD$61:MD$560) -> 578.05163 | R32: =IF(D32=0,0,G32/D32) -> 100.73486 | S32: =IF(C32=0,0,H32/C32) -> 0.20422308
A33: =IF(Dichtheden!$B43="","",Dichtheden!$B43) | B33: =COUNTIF(BF$61:BF$560,">0") -> 0 | C33: =SUM(BF$61:BF$560) -> 0 | D33: =SUM(DK$61:DK$560) -> 0 | E33: =C33/$C$58 -> 0 | F33: =D33/$D$58 -> 0 | G33: =E33*Dichtheden!$V$70 -> 0 | H33: =SUM(FP$61:FP$560) -> 0 | I33: =E33*Dichtheden!$AJ$70 -> 0 | J33: =SUM(HU$61:HU$560) -> 0 | K33: =Dichtheden!$X43 -> 0 | L33: =Dichtheden!$AB43 -> 0 | M33: =SUM(JZ$61:JZ$560) -> 0 | N33: =SUM(ME$61:ME$560) -> 0 | R33: =IF(D33=0,0,G33/D33) -> 0 | S33: =IF(C33=0,0,H33/C33) -> 0
A34: =IF(Dichtheden!$B44="","",Dichtheden!$B44) | B34: =COUNTIF(BG$61:BG$560,">0") -> 0 | C34: =SUM(BG$61:BG$560) -> 0 | D34: =SUM(DL$61:DL$560) -> 0 | E34: =C34/$C$58 -> 0 | F34: =D34/$D$58 -> 0 | G34: =E34*Dichtheden!$V$70 -> 0 | H34: =SUM(FQ$61:FQ$560) -> 0 | I34: =E34*Dichtheden!$AJ$70 -> 0 | J34: =SUM(HV$61:HV$560) -> 0 | K34: =Dichtheden!$X44 -> 0 | L34: =Dichtheden!$AB44 -> 0 | M34: =SUM(KA$61:KA$560) -> 0 | N34: =SUM(MF$61:MF$560) -> 0 | R34: =IF(D34=0,0,G34/D34) -> 0 | S34: =IF(C34=0,0,H34/C34) -> 0
A35: =IF(Dichtheden!$B45="","",Dichtheden!$B45) | B35: =COUNTIF(BH$61:BH$560,">0") -> 0 | C35: =SUM(BH$61:BH$560) -> 0 | D35: =SUM(DM$61:DM$560) -> 0 | E35: =C35/$C$58 -> 0 | F35: =D35/$D$58 -> 0 | G35: =E35*Dichtheden!$V$70 -> 0 | H35: =SUM(FR$61:FR$560) -> 0 | I35: =E35*Dichtheden!$AJ$70 -> 0 | J35: =SUM(HW$61:HW$560) -> 0 | K35: =Dichtheden!$X45 -> 0 | L35: =Dichtheden!$AB45 -> 0 | M35: =SUM(KB$61:KB$560) -> 0 | N35: =SUM(MG$61:MG$560) -> 0 | R35: =IF(D35=0,0,G35/D35) -> 0 | S35: =IF(C35=0,0,H35/C35) -> 0
A36: =IF(Dichtheden!$B46="","",Dichtheden!$B46) | B36: =COUNTIF(BI$61:BI$560,">0") -> 0 | C36: =SUM(BI$61:BI$560) -> 0 | D36: =SUM(DN$61:DN$560) -> 0 | E36: =C36/$C$58 -> 0 | F36: =D36/$D$58 -> 0 | G36: =E36*Dichtheden!$V$70 -> 0 | H36: =SUM(FS$61:FS$560) -> 0 | I36: =E36*Dichtheden!$AJ$70 -> 0 | J36: =SUM(HX$61:HX$560) -> 0 | K36: =Dichtheden!$X46 -> 0 | L36: =Dichtheden!$AB46 -> 0 | M36: =SUM(KC$61:KC$560) -> 0 | N36: =SUM(MH$61:MH$560) -> 0 | R36: =IF(D36=0,0,G36/D36) -> 0 | S36: =IF(C36=0,0,H36/C36) -> 0
A37: =IF(Dichtheden!$B47="","",Dichtheden!$B47) | B37: =COUNTIF(BJ$61:BJ$560,">0") -> 0 | C37: =SUM(BJ$61:BJ$560) -> 0 | D37: =SUM(DO$61:DO$560) -> 0 | E37: =C37/$C$58 -> 0 | F37: =D37/$D$58 -> 0 | G37: =E37*Dichtheden!$V$70 -> 0 | H37: =SUM(FT$61:FT$560) -> 0 | I37: =E37*Dichtheden!$AJ$70 -> 0 | J37: =SUM(HY$61:HY$560) -> 0 | K37: =Dichtheden!$X47 -> 0 | L37: =Dichtheden!$AB47 -> 0 | M37: =SUM(KD$61:KD$560) -> 0 | N37: =SUM(MI$61:MI$560) -> 0 | R37: =IF(D37=0,0,G37/D37) -> 0 | S37: =IF(C37=0,0,H37/C37) -> 0
A38: =IF(Dichtheden!$B48="","",Dichtheden!$B48) | B38: =COUNTIF(BK$61:BK$560,">0") -> 0 | C38: =SUM(BK$61:BK$560) -> 0 | D38: =SUM(DP$61:DP$560) -> 0 | E38: =C38/$C$58 -> 0 | F38: =D38/$D$58 -> 0 | G38: =E38*Dichtheden!$V$70 -> 0 | H38: =SUM(FU$61:FU$560) -> 0 | I38: =E38*Dichtheden!$AJ$70 -> 0 | J38: =SUM(HZ$61:HZ$560) -> 0 | K38: =Dichtheden!$X48 -> 0 | L38: =Dichtheden!$AB48 -> 0 | M38: =SUM(KE$61:KE$560) -> 0 | N38: =SUM(MJ$61:MJ$560) -> 0 | R38: =IF(D38=0,0,G38/D38) -> 0 | S38: =IF(C38=0,0,H38/C38) -> 0
A39: =IF(Dichtheden!$B49="","",Dichtheden!$B49) | B39: =COUNTIF(BL$61:BL$560,">0") -> 0 | C39: =SUM(BL$61:BL$560) -> 0 | D39: =SUM(DQ$61:DQ$560) -> 0 | E39: =C39/$C$58 -> 0 | F39: =D39/$D$58 -> 0 | G39: =E39*Dichtheden!$V$70 -> 0 | H39: =SUM(FV$61:FV$560) -> 0 | I39: =E39*Dichtheden!$AJ$70 -> 0 | J39: =SUM(IA$61:IA$560) -> 0 | K39: =Dichtheden!$X49 -> 0 | L39: =Dichtheden!$AB49 -> 0 | M39: =SUM(KF$61:KF$560) -> 0 | N39: =SUM(MK$61:MK$560) -> 0 | R39: =IF(D39=0,0,G39/D39) -> 0 | S39: =IF(C39=0,0,H39/C39) -> 0
A40: =IF(Dichtheden!$B50="","",Dichtheden!$B50) | B40: =COUNTIF(BM$61:BM$560,">0") -> 0 | C40: =SUM(BM$61:BM$560) -> 0 | D40: =SUM(DR$61:DR$560) -> 0 | E40: =C40/$C$58 -> 0 | F40: =D40/$D$58 -> 0 | G40: =E40*Dichtheden!$V$70 -> 0 | H40: =SUM(FW$61:FW$560) -> 0 | I40: =E40*Dichtheden!$AJ$70 -> 0 | J40: =SUM(IB$61:IB$560) -> 0 | K40: =Dichtheden!$X50 -> 0 | L40: =Dichtheden!$AB50 -> 0 | M40: =SUM(KG$61:KG$560) -> 0 | N40: =SUM(ML$61:ML$560) -> 0 | R40: =IF(D40=0,0,G40/D40) -> 0 | S40: =IF(C40=0,0,H40/C40) -> 0
A41: =IF(Dichtheden!$B51="","",Dichtheden!$B51) | B41: =COUNTIF(BN$61:BN$560,">0") -> 0 | C41: =SUM(BN$61:BN$560) -> 0 | D41: =SUM(DS$61:DS$560) -> 0 | E41: =C41/$C$58 -> 0 | F41: =D41/$D$58 -> 0 | G41: =E41*Dichtheden!$V$70 -> 0 | H41: =SUM(FX$61:FX$560) -> 0 | I41: =E41*Dichtheden!$AJ$70 -> 0 | J41: =SUM(IC$61:IC$560) -> 0 | K41: =Dichtheden!$X51 -> 0 | L41: =Dichtheden!$AB51 -> 0 | M41: =SUM(KH$61:KH$560) -> 0 | N41: =SUM(MM$61:MM$560) -> 0 | R41: =IF(D41=0,0,G41/D41) -> 0 | S41: =IF(C41=0,0,H41/C41) -> 0
A42: =IF(Dichtheden!$B52="","",Dichtheden!$B52) | B42: =COUNTIF(BO$61:BO$560,">0") -> 0 | C42: =SUM(BO$61:BO$560) -> 0 | D42: =SUM(DT$61:DT$560) -> 0 | E42: =C42/$C$58 -> 0 | F42: =D42/$D$58 -> 0 | G42: =E42*Dichtheden!$V$70 -> 0 | H42: =SUM(FY$61:FY$560) -> 0 | I42: =E42*Dichtheden!$AJ$70 -> 0 | J42: =SUM(ID$61:ID$560) -> 0 | K42: =Dichtheden!$X52 -> 0 | L42: =Dichtheden!$AB52 -> 0 | M42: =SUM(KI$61:KI$560) -> 0 | N42: =SUM(MN$61:MN$560) -> 0 | R42: =IF(D42=0,0,G42/D42) -> 0 | S42: =IF(C42=0,0,H42/C42) -> 0
A43: =IF(Dichtheden!$B53="","",Dichtheden!$B53) | B43: =COUNTIF(BP$61:BP$560,">0") -> 0 | C43: =SUM(BP$61:BP$560) -> 0 | D43: =SUM(DU$61:DU$560) -> 0 | E43: =C43/$C$58 -> 0 | F43: =D43/$D$58 -> 0 | G43: =E43*Dichtheden!$V$70 -> 0 | H43: =SUM(FZ$61:FZ$560) -> 0 | I43: =E43*Dichtheden!$AJ$70 -> 0 | J43: =SUM(IE$61:IE$560) -> 0 | K43: =Dichtheden!$X53 -> 0 | L43: =Dichtheden!$AB53 -> 0 | M43: =SUM(KJ$61:KJ$560) -> 0 | N43: =SUM(MO$61:MO$560) -> 0 | R43: =IF(D43=0,0,G43/D43) -> 0 | S43: =IF(C43=0,0,H43/C43) -> 0
A44: =IF(Dichtheden!$B54="","",Dichtheden!$B54) | B44: =COUNTIF(BQ$61:BQ$560,">0") -> 0 | C44: =SUM(BQ$61:BQ$560) -> 0 | D44: =SUM(DV$61:DV$560) -> 0 | E44: =C44/$C$58 -> 0 | F44: =D44/$D$58 -> 0 | G44: =E44*Dichtheden!$V$70 -> 0 | H44: =SUM(GA$61:GA$560) -> 0 | I44: =E44*Dichtheden!$AJ$70 -> 0 | J44: =SUM(IF$61:IF$560) -> 0 | K44: =Dichtheden!$X54 -> 0 | L44: =Dichtheden!$AB54 -> 0 | M44: =SUM(KK$61:KK$560) -> 0 | N44: =SUM(MP$61:MP$560) -> 0 | R44: =IF(D44=0,0,G44/D44) -> 0 | S44: =IF(C44=0,0,H44/C44) -> 0
A45: =IF(Dichtheden!$B55="","",Dichtheden!$B55) | B45: =COUNTIF(BR$61:BR$560,">0") -> 0 | C45: =SUM(BR$61:BR$560) -> 0 | D45: =SUM(DW$61:DW$560) -> 0 | E45: =C45/$C$58 -> 0 | F45: =D45/$D$58 -> 0 | G45: =E45*Dichtheden!$V$70 -> 0 | H45: =SUM(GB$61:GB$560) -> 0 | I45: =E45*Dichtheden!$AJ$70 -> 0 | J45: =SUM(IG$61:IG$560) -> 0 | K45: =Dichtheden!$X55 -> 0 | L45: =Dichtheden!$AB55 -> 0 | M45: =SUM(KL$61:KL$560) -> 0 | N45: =SUM(MQ$61:MQ$560) -> 0 | R45: =IF(D45=0,0,G45/D45) -> 0 | S45: =IF(C45=0,0,H45/C45) -> 0
A46: =IF(Dichtheden!$B56="","",Dichtheden!$B56) | B46: =COUNTIF(BS$61:BS$560,">0") -> 0 | C46: =SUM(BS$61:BS$560) -> 0 | D46: =SUM(DX$61:DX$560) -> 0 | E46: =C46/$C$58 -> 0 | F46: =D46/$D$58 -> 0 | G46: =E46*Dichtheden!$V$70 -> 0 | H46: =SUM(GC$61:GC$560) -> 0 | I46: =E46*Dichtheden!$AJ$70 -> 0 | J46: =SUM(IH$61:IH$560) -> 0 | K46: =Dichtheden!$X56 -> 0 | L46: =Dichtheden!$AB56 -> 0 | M46: =SUM(KM$61:KM$560) -> 0 | N46: =SUM(MR$61:MR$560) -> 0 | R46: =IF(D46=0,0,G46/D46) -> 0 | S46: =IF(C46=0,0,H46/C46) -> 0
A47: =IF(Dichtheden!$B57="","",Dichtheden!$B57) | B47: =COUNTIF(BT$61:BT$560,">0") -> 0 | C47: =SUM(BT$61:BT$560) -> 0 | D47: =SUM(DY$61:DY$560) -> 0 | E47: =C47/$C$58 -> 0 | F47: =D47/$D$58 -> 0 | G47: =E47*Dichtheden!$V$70 -> 0 | H47: =SUM(GD$61:GD$560) -> 0 | I47: =E47*Dichtheden!$AJ$70 -> 0 | J47: =SUM(II$61:II$560) -> 0 | K47: =Dichtheden!$X57 -> 0 | L47: =Dichtheden!$AB57 -> 0 | M47: =SUM(KN$61:KN$560) -> 0 | N47: =SUM(MS$61:MS$560) -> 0 | R47: =IF(D47=0,0,G47/D47) -> 0 | S47: =IF(C47=0,0,H47/C47) -> 0
A48: =IF(Dichtheden!$B58="","",Dichtheden!$B58) | B48: =COUNTIF(BU$61:BU$560,">0") -> 0 | C48: =SUM(BU$61:BU$560) -> 0 | D48: =SUM(DZ$61:DZ$560) -> 0 | E48: =C48/$C$58 -> 0 | F48: =D48/$D$58 -> 0 | G48: =E48*Dichtheden!$V$70 -> 0 | H48: =SUM(GE$61:GE$560) -> 0 | I48: =E48*Dichtheden!$AJ$70 -> 0 | J48: =SUM(IJ$61:IJ$560) -> 0 | K48: =Dichtheden!$X58 -> 0 | L48: =Dichtheden!$AB58 -> 0 | M48: =SUM(KO$61:KO$560) -> 0 | N48: =SUM(MT$61:MT$560) -> 0 | R48: =IF(D48=0,0,G48/D48) -> 0 | S48: =IF(C48=0,0,H48/C48) -> 0
A49: =IF(Dichtheden!$B59="","",Dichtheden!$B59) | B49: =COUNTIF(BV$61:BV$560,">0") -> 0 | C49: =SUM(BV$61:BV$560) -> 0 | D49: =SUM(EA$61:EA$560) -> 0 | E49: =C49/$C$58 -> 0 | F49: =D49/$D$58 -> 0 | G49: =E49*Dichtheden!$V$70 -> 0 | H49: =SUM(GF$61:GF$560) -> 0 | I49: =E49*Dichtheden!$AJ$70 -> 0 | J49: =SUM(IK$61:IK$560) -> 0 | K49: =Dichtheden!$X59 -> 0 | L49: =Dichtheden!$AB59 -> 0 | M49: =SUM(KP$61:KP$560) -> 0 | N49: =SUM(MU$61:MU$560) -> 0 | R49: =IF(D49=0,0,G49/D49) -> 0 | S49: =IF(C49=0,0,H49/C49) -> 0
A50: =IF(Dichtheden!$B60="","",Dichtheden!$B60) | B50: =COUNTIF(BW$61:BW$560,">0") -> 0 | C50: =SUM(BW$61:BW$560) -> 0 | D50: =SUM(EB$61:EB$560) -> 0 | E50: =C50/$C$58 -> 0 | F50: =D50/$D$58 -> 0 | G50: =E50*Dichtheden!$V$70 -> 0 | H50: =SUM(GG$61:GG$560) -> 0 | I50: =E50*Dichtheden!$AJ$70 -> 0 | J50: =SUM(IL$61:IL$560) -> 0 | K50: =Dichtheden!$X60 -> 0 | L50: =Dichtheden!$AB60 -> 0 | M50: =SUM(KQ$61:KQ$560) -> 0 | N50: =SUM(MV$61:MV$560) -> 0 | R50: =IF(D50=0,0,G50/D50) -> 0 | S50: =IF(C50=0,0,H50/C50) -> 0
A51: =IF(Dichtheden!$B61="","",Dichtheden!$B61) | B51: =COUNTIF(BX$61:BX$560,">0") -> 0 | C51: =SUM(BX$61:BX$560) -> 0 | D51: =SUM(EC$61:EC$560) -> 0 | E51: =C51/$C$58 -> 0 | F51: =D51/$D$58 -> 0 | G51: =E51*Dichtheden!$V$70 -> 0 | H51: =SUM(GH$61:GH$560) -> 0 | I51: =E51*Dichtheden!$AJ$70 -> 0 | J51: =SUM(IM$61:IM$560) -> 0 | K51: =Dichtheden!$X61 -> 0 | L51: =Dichtheden!$AB61 -> 0 | M51: =SUM(KR$61:KR$560) -> 0 | N51: =SUM(MW$61:MW$560) -> 0 | R51: =IF(D51=0,0,G51/D51) -> 0 | S51: =IF(C51=0,0,H51/C51) -> 0
A52: =IF(Dichtheden!$B62="","",Dichtheden!$B62) | B52: =COUNTIF(BY$61:BY$560,">0") -> 0 | C52: =SUM(BY$61:BY$560) -> 0 | D52: =SUM(ED$61:ED$560) -> 0 | E52: =C52/$C$58 -> 0 | F52: =D52/$D$58 -> 0 | G52: =E52*Dichtheden!$V$70 -> 0 | H52: =SUM(GI$61:GI$560) -> 0 | I52: =E52*Dichtheden!$AJ$70 -> 0 | J52: =SUM(IN$61:IN$560) -> 0 | K52: =Dichtheden!$X62 -> 0 | L52: =Dichtheden!$AB62 -> 0 | M52: =SUM(KS$61:KS$560) -> 0 | N52: =SUM(MX$61:MX$560) -> 0 | R52: =IF(D52=0,0,G52/D52) -> 0 | S52: =IF(C52=0,0,H52/C52) -> 0
A53: =IF(Dichtheden!$B63="","",Dichtheden!$B63) | B53: =COUNTIF(BZ$61:BZ$560,">0") -> 0 | C53: =SUM(BZ$61:BZ$560) -> 0 | D53: =SUM(EE$61:EE$560) -> 0 | E53: =C53/$C$58 -> 0 | F53: =D53/$D$58 -> 0 | G53: =E53*Dichtheden!$V$70 -> 0 | H53: =SUM(GJ$61:GJ$560) -> 0 | I53: =E53*Dichtheden!$AJ$70 -> 0 | J53: =SUM(IO$61:IO$560) -> 0 | K53: =Dichtheden!$X63 -> 0 | L53: =Dichtheden!$AB63 -> 0 | M53: =SUM(KT$61:KT$560) -> 0 | N53: =SUM(MY$61:MY$560) -> 0 | R53: =IF(D53=0,0,G53/D53) -> 0 | S53: =IF(C53=0,0,H53/C53) -> 0
A54: =IF(Dichtheden!$B64="","",Dichtheden!$B64) | B54: =COUNTIF(CA$61:CA$560,">0") -> 0 | C54: =SUM(CA$61:CA$560) -> 0 | D54: =SUM(EF$61:EF$560) -> 0 | E54: =C54/$C$58 -> 0 | F54: =D54/$D$58 -> 0 | G54: =E54*Dichtheden!$V$70 -> 0 | H54: =SUM(GK$61:GK$560) -> 0 | I54: =E54*Dichtheden!$AJ$70 -> 0 | J54: =SUM(IP$61:IP$560) -> 0 | K54: =Dichtheden!$X64 -> 0 | L54: =Dichtheden!$AB64 -> 0 | M54: =SUM(KU$61:KU$560) -> 0 | N54: =SUM(MZ$61:MZ$560) -> 0 | R54: =IF(D54=0,0,G54/D54) -> 0 | S54: =IF(C54=0,0,H54/C54) -> 0 | AA54: aantal woonkernen
A55: =IF(Dichtheden!$B65="","",Dichtheden!$B65) | B55: =COUNTIF(CB$61:CB$560,">0") -> 0 | C55: =SUM(CB$61:CB$560) -> 0 | D55: =SUM(EG$61:EG$560) -> 0 | E55: =C55/$C$58 -> 0 | F55: =D55/$D$58 -> 0 | G55: =E55*Dichtheden!$V$70 -> 0 | H55: =SUM(GL$61:GL$560) -> 0 | I55: =E55*Dichtheden!$AJ$70 -> 0 | J55: =SUM(IQ$61:IQ$560) -> 0 | K55: =Dichtheden!$X65 -> 0 | L55: =Dichtheden!$AB65 -> 0 | M55: =SUM(KV$61:KV$560) -> 0 | N55: =SUM(NA$61:NA$560) -> 0 | R55: =IF(D55=0,0,G55/D55) -> 0 | S55: =IF(C55=0,0,H55/C55) -> 0 | AA55: =COUNTIF(AA$61:AA$560,">0") -> 4 | AB55: =COUNTIF(AB$61:AB$560,">0") -> 17 | AC55: =COUNTIF(AC$61:AC$560,">0") -> 2 | AD55: =COUNTIF(AD$61:AD$560,">0") -> 8 | AE55: =COUNTIF(AE$61:AE$560,">0") -> 1 | AF55: =COUNTIF(AF$61:AF$560,">0") -> 9 | AG55: =COUNTIF(AG$61:AG$560,">0") -> 15 | AH55: =COUNTIF(AH$61:AH$560,">0") -> 6 | ... CD55: =COUNTIF(CD$61:CD$560,">0") -> 0
A56: =IF(Dichtheden!$B66="","",Dichtheden!$B66) | B56: =COUNTIF(CC$61:CC$560,">0") -> 0 | C56: =SUM(CC$61:CC$560) -> 0 | D56: =SUM(EH$61:EH$560) -> 0 | E56: =C56/$C$58 -> 0 | F56: =D56/$D$58 -> 0 | G56: =E56*Dichtheden!$V$70 -> 0 | H56: =SUM(GM$61:GM$560) -> 0 | I56: =E56*Dichtheden!$AJ$70 -> 0 | J56: =SUM(IR$61:IR$560) -> 0 | K56: =Dichtheden!$X66 -> 0 | L56: =Dichtheden!$AB66 -> 0 | M56: =SUM(KW$61:KW$560) -> 0 | N56: =SUM(NB$61:NB$560) -> 0 | R56: =IF(D56=0,0,G56/D56) -> 0 | S56: =IF(C56=0,0,H56/C56) -> 0
A57: =IF(Dichtheden!$B67="","",Dichtheden!$B67) | B57: =COUNTIF(CD$61:CD$560,">0") -> 0 | C57: =SUM(CD$61:CE$560) -> 0 | D57: =SUM(EI$61:EI$560) -> 0 | E57: =C57/$C$58 -> 0 | F57: =D57/$D$58 -> 0 | G57: =E57*Dichtheden!$V$70 -> 0 | H57: =SUM(GN$61:GN$560) -> 0 | I57: =E57*Dichtheden!$AJ$70 -> 0 | J57: =SUM(IS$61:IS$560) -> 0 | K57: =Dichtheden!$X67 -> 0 | L57: =Dichtheden!$AB67 -> 0 | M57: =SUM(KX$61:KX$560) -> 0 | N57: =SUM(NC$61:NC$560) -> 0 | R57: =IF(D57=0,0,G57/D57) -> 0 | S57: =IF(C57=0,0,H57/C57) -> 0
A58: Totaal Provincie | B58: =SUM(B2:B57) -> 217 | C58: =SUM(C2:C57) -> 1516.2932 | D58: =SUM(D2:D57) -> 333.14174 | E58: =SUM(E2:E57) -> 1 | F58: =SUM(F2:F57) -> 1 | G58: =SUM(G2:G57) -> 51518.88 | H58: =SUM(H2:H57) -> 324 | I58: =SUM(I2:I57) -> 8586.48 | ... N58: =SUM(N2:N57) -> 11659.961 | R58: =SUM(R2:R57)/COUNT(R2:R57) -> 110.51961 | S58: =SUM(S2:S57)/COUNT(S2:S57) -> 0.11878108 | T58: ="gemiddeld "&Dichtheden!B10 -> gemiddeld Limburg | AA58: Omtrek per gemeente | CF58: Oppervlakte per gemeente | EK58: Kolonies P.pip | GP58: Kolonies E.ser | IU58: P.domesticus | KZ58: A.apus
C59: =IF(C561=C58,"","FOUT "&TEXT(C561-C58,"###,##")) | D59: =IF(D561=D58,"","FOUT "&TEXT(D561-D58,"###,##")) | F59: =IF(F561=F58,"","FOUT "&TEXT(F561-F58,"###,##")) | G59: =IF(ROUND(G561,0)=ROUND(G58,0),"","FOUT "&TEXT(G561-G58,"###,##")) | H59: =IF(H561=H58,"","FOUT "&TEXT(H561-H58,"###,##")) | I59: =IF(ROUND(I561,0)=ROUND(I58,0),"","FOUT "&TEXT(I561-I58,"###,##")) | J59: =IF(J561=J58,"","FOUT "&TEXT(J561-J58,"###,##")) | M59: =IF(M561=M58,"","FOUT "&TEXT(M561-M58,"###,##")) | N59: =IF(N561=N58,"","FOUT "&TEXT(N561-N58,"###,##")) | Q59: 1994 | AA59: =SUM(AA$61:AA$560) -> 21.580453 | AB59: =SUM(AB$61:AB$560) -> 77.843826 | AC59: =SUM(AC$61:AC$560) -> 19.920348 | AD59: =SUM(AD$61:AD$560) -> 31.682117 | AE59: =SUM(AE$61:AE$560) -> 14.25287 | AF59: =SUM(AF$61:AF$560) -> 63.199067 | AG59: =SUM(AG$61:AG$560) -> 65.005425 | AH59: =SUM(AH$61:AH$560) -> 36.759596 | ... CD59: =SUM(CD$61:CD$560) -> 0 | CF59: =SUM(CF$61:CF$560) -> 4.544259 | CG59: =SUM(CG$61:CG$560) -> 8.926804 | CH59: =SUM(CH$61:CH$560) -> 3.676458 | CI59: =SUM(CI$61:CI$560) -> 3.854889 | CJ59: =SUM(CJ$61:CJ$560) -> 7.75403 | CK59: =SUM(CK$61:CK$560) -> 9.622976 | CL59: =SUM(CL$61:CL$560) -> 8.251961 | CM59: =SUM(CM$61:CM$560) -> 5.354891 | ... EI59: =SUM(EI$61:EI$560) -> 0 | EK59: =SUM(EK$61:EK$560) -> 5 | EL59: =SUM(EL$61:EL$560) -> 18 | EM59: =SUM(EM$61:EM$560) -> 3 | EN59: =SUM(EN$61:EN$560) -> 8 | EO59: =SUM(EO$61:EO$560) -> 2 | EP59: =SUM(EP$61:EP$560) -> 13 | EQ59: =SUM(EQ$61:EQ$560) -> 17 | ER59: =SUM(ER$61:ER$560) -> 8 | ... GN59: =SUM(GN$61:GN$560) -> 0 | GP59: =SUM(GP$61:GP$560) -> 4 | GQ59: =SUM(GQ$61:GQ$560) -> 17 | GR59: =SUM(GR$61:GR$560) -> 2 | GS59: =SUM(GS$61:GS$560) -> 8 | GT59: =SUM(GT$61:GT$560) -> 2 | GU59: =SUM(GU$61:GU$560) -> 11 | GV59: =SUM(GV$61:GV$560) -> 16 | GW59: =SUM(GW$61:GW$560) -> 6 | ... IS59: =SUM(IS$61:IS$560) -> 0 | IU59: =SUM(IU$61:IU$560) -> 1035.0113 | IV59: =SUM(IV$61:IV$560) -> 2035.7294 | IW59: =SUM(IW$61:IW$560) -> 827.20305 | IX59: =SUM(IX$61:IX$560) -> 877.6427 | IY59: =SUM(IY$61:IY$560) -> 1744.6568 | IZ59: =SUM(IZ$61:IZ$560) -> 2165.1696 | JA59: =SUM(JA$61:JA$560) -> 1880.1163 | JB59: =SUM(JB$61:JB$560) -> 1211.7553 | ... KX59: =SUM(KX$61:KX$560) -> 0 | KZ59: =SUM(KZ$61:KZ$560) -> 159.04906 | LA59: =SUM(LA$61:LA$560) -> 312.43814 | LB59: =SUM(LB$61:LB$560) -> 128.67603 | LC59: =SUM(LC$61:LC$560) -> 134.92111 | LD59: =SUM(LD$61:LD$560) -> 271.39105 | LE59: =SUM(LE$61:LE$560) -> 336.80416 | LF59: =SUM(LF$61:LF$560) -> 288.81864 | LG59: =SUM(LG$61:LG$560) -> 187.42119 | ... NC59: =SUM(NC$61:NC$560) -> 0
A60: Gemeente | B60: Woonkern | C60: Omtrek km | D60: Oppervlakte woonkernen | E60: % omtrek provinciaal | F60: % opp provinciaal | G60: Populatie P.pip | H60: Kolonies P.pip | I60: Populatie E.ser | J60: Kolonie E.ser | K60: aantal vrouwen P.pip | L60: vrouwen per kolonie P.pip | M60: =M1 -> Broedparen P.dom | N60: =N1 -> Broedparen A.apus | Q60: Populatie P.pip | R60: Kolonies P.pip | S60: Populatie E.ser | T60: Kolonie E.ser | U60: Populatie P.dom | V60: Populatie A.apus | AA60: =Dichtheden!$B12 -> Gemeente Beek | AB60: =Dichtheden!$B13 -> Gemeente Beekdaelen | AC60: =Dichtheden!$B14 -> Gemeente Beesel | AD60: =Dichtheden!$B15 -> Gemeente Bergen (L) | AE60: =Dichtheden!$B16 -> Gemeente Brunssum | AF60: =Dichtheden!$B17 -> Gemeente Echt-Susteren | AG60: =Dichtheden!$B18 -> Gemeente Eijsden-Margraten | AH60: =Dichtheden!$B19 -> Gemeente Gennep | AI60: =Dichtheden!$B20 -> Gemeente Gulpen-Wittem | AJ60: =Dichtheden!$B21 -> Gemeente Heerlen | AK60: =Dichtheden!$B22 -> Gemeente Horst aan de Maas | AL60: =Dichtheden!$B23 -> Gemeente Kerkrade | AM60: =Dichtheden!$B24 -> Gemeente Landgraaf | AN60: =Dichtheden!$B25 -> Gemeente Leudal | AO60: =Dichtheden!$B26 -> Gemeente Maasgouw | AP60: =Dichtheden!$B27 -> Gemeente Maastricht | AQ60: =Dichtheden!$B28 -> Gemeente Meerssen | AR60: =Dichtheden!$B29 -> Gemeente Mook en Middelaar | AS60: =Dichtheden!$B30 -> Gemeente Nederweert | AT60: =Dichtheden!$B31 -> Gemeente Peel en Maas | AU60: =Dichtheden!$B32 -> Gemeente Roerdalen | AV60: =Dichtheden!$B33 -> Gemeente Roermond | AW60: =Dichtheden!$B34 -> Gemeente Simpelveld | AX60: =Dichtheden!$B35 -> Gemeente Sittard-Geleen | AY60: =Dichtheden!$B36 -> Gemeente Stein | AZ60: =Dichtheden!$B37 -> Gemeente Vaals | BA60: =Dichtheden!$B38 -> Gemeente Valkenburg aan de Geul | BB60: =Dichtheden!$B39 -> Gemeente Venlo | BC60: =Dichtheden!$B40 -> Gemeente Venray | BD60: =Dichtheden!$B41 -> Gemeente Voerendaal | BE60: =Dichtheden!$B42 -> Gemeente Weert | BF60: =Dichtheden!$B43 -> 0 | BG60: =Dichtheden!$B44 -> 0 | BH60: =Dichtheden!$B45 -> 0 | BI60: =Dichtheden!$B46 -> 0 | BJ60: =Dichtheden!$B47 -> 0 | BK60: =Dichtheden!$B48 -> 0 | BL60: =Dichtheden!$B49 -> 0 | BM60: =Dichtheden!$B50 -> 0 | BN60: =Dichtheden!$B51 -> 0 | BO60: =Dichtheden!$B52 -> 0 | BP60: =Dichtheden!$B53 -> 0 | BQ60: =Dichtheden!$B54 -> 0 | BR60: =Dichtheden!$B55 -> 0 | BS60: =Dichtheden!$B56 -> 0 | BT60: =Dichtheden!$B57 -> 0 | BU60: =Dichtheden!$B58 -> 0 | BV60: =Dichtheden!$B59 -> 0 | BW60: =Dichtheden!$B60 -> 0 | BX60: =Dichtheden!$B61 -> 0 | BY60: =Dichtheden!$B62 -> 0 | BZ60: =Dichtheden!$B63 -> 0 | CA60: =Dichtheden!$B64 -> 0 | CB60: =Dichtheden!$B65 -> 0 | CC60: =Dichtheden!$B66 -> 0 | CD60: =Dichtheden!$B67 -> 0 | CF60: =Dichtheden!$B12 -> Gemeente Beek | CG60: =Dichtheden!$B13 -> Gemeente Beekdaelen | CH60: =Dichtheden!$B14 -> Gemeente Beesel | CI60: =Dichtheden!$B15 -> Gemeente Bergen (L) | CJ60: =Dichtheden!$B16 -> Gemeente Brunssum | CK60: =Dichtheden!$B17 -> Gemeente Echt-Susteren | CL60: =Dichtheden!$B18 -> Gemeente Eijsden-Margraten | CM60: =Dichtheden!$B19 -> Gemeente Gennep | CN60: =Dichtheden!$B20 -> Gemeente Gulpen-Wittem | CO60: =Dichtheden!$B21 -> Gemeente Heerlen | CP60: =Dichtheden!$B22 -> Gemeente Horst aan de Maas | CQ60: =Dichtheden!$B23 -> Gemeente Kerkrade | CR60: =Dichtheden!$B24 -> Gemeente Landgraaf | CS60: =Dichtheden!$B25 -> Gemeente Leudal | CT60: =Dichtheden!$B26 -> Gemeente Maasgouw | CU60: =Dichtheden!$B27 -> Gemeente Maastricht | CV60: =Dichtheden!$B28 -> Gemeente Meerssen | CW60: =Dichtheden!$B29 -> Gemeente Mook en Middelaar | CX60: =Dichtheden!$B30 -> Gemeente Nederweert | CY60: =Dichtheden!$B31 -> Gemeente Peel en Maas | CZ60: =Dichtheden!$B32 -> Gemeente Roerdalen | DA60: =Dichtheden!$B33 -> Gemeente Roermond | DB60: =Dichtheden!$B34 -> Gemeente Simpelveld | DC60: =Dichtheden!$B35 -> Gemeente Sittard-Geleen | DD60: =Dichtheden!$B36 -> Gemeente Stein | DE60: =Dichtheden!$B37 -> Gemeente Vaals | DF60: =Dichtheden!$B38 -> Gemeente Valkenburg aan de Geul | DG60: =Dichtheden!$B39 -> Gemeente Venlo | DH60: =Dichtheden!$B40 -> Gemeente Venray | DI60: =Dichtheden!$B41 -> Gemeente Voerendaal | DJ60: =Dichtheden!$B42 -> Gemeente Weert | DK60: =Dichtheden!$B43 -> 0 | DL60: =Dichtheden!$B44 -> 0 | DM60: =Dichtheden!$B45 -> 0 | DN60: =Dichtheden!$B46 -> 0 | DO60: =Dichtheden!$B47 -> 0 | DP60: =Dichtheden!$B48 -> 0 | DQ60: =Dichtheden!$B49 -> 0 | DR60: =Dichtheden!$B50 -> 0 | DS60: =Dichtheden!$B51 -> 0 | DT60: =Dichtheden!$B52 -> 0 | DU60: =Dichtheden!$B53 -> 0 | DV60: =Dichtheden!$B54 -> 0 | DW60: =Dichtheden!$B55 -> 0 | DX60: =Dichtheden!$B56 -> 0 | DY60: =Dichtheden!$B57 -> 0 | DZ60: =Dichtheden!$B58 -> 0 | EA60: =Dichtheden!$B59 -> 0 | EB60: =Dichtheden!$B60 -> 0 | EC60: =Dichtheden!$B61 -> 0 | ED60: =Dichtheden!$B62 -> 0 | EE60: =Dichtheden!$B63 -> 0 | EF60: =Dichtheden!$B64 -> 0 | EG60: =Dichtheden!$B65 -> 0 | EH60: =Dichtheden!$B66 -> 0 | EI60: =Dichtheden!$B67 -> 0 | EK60: =Dichtheden!$B12 -> Gemeente Beek | EL60: =Dichtheden!$B13 -> Gemeente Beekdaelen | EM60: =Dichtheden!$B14 -> Gemeente Beesel | EN60: =Dichtheden!$B15 -> Gemeente Bergen (L) | EO60: =Dichtheden!$B16 -> Gemeente Brunssum | EP60: =Dichtheden!$B17 -> Gemeente Echt-Susteren | EQ60: =Dichtheden!$B18 -> Gemeente Eijsden-Margraten | ER60: =Dichtheden!$B19 -> Gemeente Gennep | ES60: =Dichtheden!$B20 -> Gemeente Gulpen-Wittem | ET60: =Dichtheden!$B21 -> Gemeente Heerlen | EU60: =Dichtheden!$B22 -> Gemeente Horst aan de Maas | EV60: =Dichtheden!$B23 -> Gemeente Kerkrade | EW60: =Dichtheden!$B24 -> Gemeente Landgraaf | EX60: =Dichtheden!$B25 -> Gemeente Leudal | EY60: =Dichtheden!$B26 -> Gemeente Maasgouw | EZ60: =Dichtheden!$B27 -> Gemeente Maastricht | FA60: =Dichtheden!$B28 -> Gemeente Meerssen | FB60: =Dichtheden!$B29 -> Gemeente Mook en Middelaar | FC60: =Dichtheden!$B30 -> Gemeente Nederweert | FD60: =Dichtheden!$B31 -> Gemeente Peel en Maas | FE60: =Dichtheden!$B32 -> Gemeente Roerdalen | FF60: =Dichtheden!$B33 -> Gemeente Roermond | FG60: =Dichtheden!$B34 -> Gemeente Simpelveld | FH60: =Dichtheden!$B35 -> Gemeente Sittard-Geleen | FI60: =Dichtheden!$B36 -> Gemeente Stein | FJ60: =Dichtheden!$B37 -> Gemeente Vaals | FK60: =Dichtheden!$B38 -> Gemeente Valkenburg aan de Geul | FL60: =Dichtheden!$B39 -> Gemeente Venlo | FM60: =Dichtheden!$B40 -> Gemeente Venray | FN60: =Dichtheden!$B41 -> Gemeente Voerendaal | FO60: =Dichtheden!$B42 -> Gemeente Weert | FP60: =Dichtheden!$B43 -> 0 | FQ60: =Dichtheden!$B44 -> 0 | FR60: =Dichtheden!$B45 -> 0 | FS60: =Dichtheden!$B46 -> 0 | FT60: =Dichtheden!$B47 -> 0 | FU60: =Dichtheden!$B48 -> 0 | FV60: =Dichtheden!$B49 -> 0 | FW60: =Dichtheden!$B50 -> 0 | FX60: =Dichtheden!$B51 -> 0 | FY60: =Dichtheden!$B52 -> 0 | FZ60: =Dichtheden!$B53 -> 0 | GA60: =Dichtheden!$B54 -> 0 | GB60: =Dichtheden!$B55 -> 0 | GC60: =Dichtheden!$B56 -> 0 | GD60: =Dichtheden!$B57 -> 0 | GE60: =Dichtheden!$B58 -> 0 | GF60: =Dichtheden!$B59 -> 0 | GG60: =Dichtheden!$B60 -> 0 | GH60: =Dichtheden!$B61 -> 0 | GI60: =Dichtheden!$B62 -> 0 | GJ60: =Dichtheden!$B63 -> 0 | GK60: =Dichtheden!$B64 -> 0 | GL60: =Dichtheden!$B65 -> 0 | GM60: =Dichtheden!$B66 -> 0 | GN60: =Dichtheden!$B67 -> 0 | GP60: =Dichtheden!$B12 -> Gemeente Beek | GQ60: =Dichtheden!$B13 -> Gemeente Beekdaelen | GR60: =Dichtheden!$B14 -> Gemeente Beesel | GS60: =Dichtheden!$B15 -> Gemeente Bergen (L) | GT60: =Dichtheden!$B16 -> Gemeente Brunssum | GU60: =Dichtheden!$B17 -> Gemeente Echt-Susteren | GV60: =Dichtheden!$B18 -> Gemeente Eijsden-Margraten | GW60: =Dichtheden!$B19 -> Gemeente Gennep | GX60: =Dichtheden!$B20 -> Gemeente Gulpen-Wittem | GY60: =Dichtheden!$B21 -> Gemeente Heerlen | GZ60: =Dichtheden!$B22 -> Gemeente Horst aan de Maas | HA60: =Dichtheden!$B23 -> Gemeente Kerkrade | HB60: =Dichtheden!$B24 -> Gemeente Landgraaf | HC60: =Dichtheden!$B25 -> Gemeente Leudal | HD60: =Dichtheden!$B26 -> Gemeente Maasgouw | HE60: =Dichtheden!$B27 -> Gemeente Maastricht | HF60: =Dichtheden!$B28 -> Gemeente Meerssen | HG60: =Dichtheden!$B29 -> Gemeente Mook en Middelaar | HH60: =Dichtheden!$B30 -> Gemeente Nederweert | HI60: =Dichtheden!$B31 -> Gemeente Peel en Maas | HJ60: =Dichtheden!$B32 -> Gemeente Roerdalen | HK60: =Dichtheden!$B33 -> Gemeente Roermond | HL60: =Dichtheden!$B34 -> Gemeente Simpelveld | HM60: =Dichtheden!$B35 -> Gemeente Sittard-Geleen | HN60: =Dichtheden!$B36 -> Gemeente Stein | HO60: =Dichtheden!$B37 -> Gemeente Vaals | HP60: =Dichtheden!$B38 -> Gemeente Valkenburg aan de Geul | HQ60: =Dichtheden!$B39 -> Gemeente Venlo | HR60: =Dichtheden!$B40 -> Gemeente Venray | HS60: =Dichtheden!$B41 -> Gemeente Voerendaal | HT60: =Dichtheden!$B42 -> Gemeente Weert | HU60: =Dichtheden!$B43 -> 0 | HV60: =Dichtheden!$B44 -> 0 | HW60: =Dichtheden!$B45 -> 0 | HX60: =Dichtheden!$B46 -> 0 | HY60: =Dichtheden!$B47 -> 0 | HZ60: =Dichtheden!$B48 -> 0 | IA60: =Dichtheden!$B49 -> 0 | IB60: =Dichtheden!$B50 -> 0 | IC60: =Dichtheden!$B51 -> 0 | ID60: =Dichtheden!$B52 -> 0 | IE60: =Dichtheden!$B53 -> 0 | IF60: =Dichtheden!$B54 -> 0 | IG60: =Dichtheden!$B55 -> 0 | IH60: =Dichtheden!$B56 -> 0 | II60: =Dichtheden!$B57 -> 0 | IJ60: =Dichtheden!$B58 -> 0 | IK60: =Dichtheden!$B59 -> 0 | IL60: =Dichtheden!$B60 -> 0 | IM60: =Dichtheden!$B61 -> 0 | IN60: =Dichtheden!$B62 -> 0 | IO60: =Dichtheden!$B63 -> 0 | IP60: =Dichtheden!$B64 -> 0 | IQ60: =Dichtheden!$B65 -> 0 | IR60: =Dichtheden!$B66 -> 0 | IS60: =Dichtheden!$B67 -> 0 | IU60: =Dichtheden!$B12 -> Gemeente Beek | IV60: =Dichtheden!$B13 -> Gemeente Beekdaelen | IW60: =Dichtheden!$B14 -> Gemeente Beesel | IX60: =Dichtheden!$B15 -> Gemeente Bergen (L) | IY60: =Dichtheden!$B16 -> Gemeente Brunssum | IZ60: =Dichtheden!$B17 -> Gemeente Echt-Susteren | JA60: =Dichtheden!$B18 -> Gemeente Eijsden-Margraten | JB60: =Dichtheden!$B19 -> Gemeente Gennep | JC60: =Dichtheden!$B20 -> Gemeente Gulpen-Wittem | JD60: =Dichtheden!$B21 -> Gemeente Heerlen | JE60: =Dichtheden!$B22 -> Gemeente Horst aan de Maas | JF60: =Dichtheden!$B23 -> Gemeente Kerkrade | JG60: =Dichtheden!$B24 -> Gemeente Landgraaf | JH60: =Dichtheden!$B25 -> Gemeente Leudal | JI60: =Dichtheden!$B26 -> Gemeente Maasgouw | JJ60: =Dichtheden!$B27 -> Gemeente Maastricht | JK60: =Dichtheden!$B28 -> Gemeente Meerssen | JL60: =Dichtheden!$B29 -> Gemeente Mook en Middelaar | JM60: =Dichtheden!$B30 -> Gemeente Nederweert | JN60: =Dichtheden!$B31 -> Gemeente Peel en Maas | JO60: =Dichtheden!$B32 -> Gemeente Roerdalen | JP60: =Dichtheden!$B33 -> Gemeente Roermond | JQ60: =Dichtheden!$B34 -> Gemeente Simpelveld | JR60: =Dichtheden!$B35 -> Gemeente Sittard-Geleen | JS60: =Dichtheden!$B36 -> Gemeente Stein | JT60: =Dichtheden!$B37 -> Gemeente Vaals | JU60: =Dichtheden!$B38 -> Gemeente Valkenburg aan de Geul | JV60: =Dichtheden!$B39 -> Gemeente Venlo | JW60: =Dichtheden!$B40 -> Gemeente Venray | JX60: =Dichtheden!$B41 -> Gemeente Voerendaal | JY60: =Dichtheden!$B42 -> Gemeente Weert | JZ60: =Dichtheden!$B43 -> 0 | KA60: =Dichtheden!$B44 -> 0 | KB60: =Dichtheden!$B45 -> 0 | KC60: =Dichtheden!$B46 -> 0 | KD60: =Dichtheden!$B47 -> 0 | KE60: =Dichtheden!$B48 -> 0 | KF60: =Dichtheden!$B49 -> 0 | KG60: =Dichtheden!$B50 -> 0 | KH60: =Dichtheden!$B51 -> 0 | KI60: =Dichtheden!$B52 -> 0 | KJ60: =Dichtheden!$B53 -> 0 | KK60: =Dichtheden!$B54 -> 0 | KL60: =Dichtheden!$B55 -> 0 | KM60: =Dichtheden!$B56 -> 0 | KN60: =Dichtheden!$B57 -> 0 | KO60: =Dichtheden!$B58 -> 0 | KP60: =Dichtheden!$B59 -> 0 | KQ60: =Dichtheden!$B60 -> 0 | KR60: =Dichtheden!$B61 -> 0 | KS60: =Dichtheden!$B62 -> 0 | KT60: =Dichtheden!$B63 -> 0 | KU60: =Dichtheden!$B64 -> 0 | KV60: =Dichtheden!$B65 -> 0 | KW60: =Dichtheden!$B66 -> 0 | KX60: =Dichtheden!$B67 -> 0 | KZ60: =Dichtheden!$B12 -> Gemeente Beek | LA60: =Dichtheden!$B13 -> Gemeente Beekdaelen | LB60: =Dichtheden!$B14 -> Gemeente Beesel | LC60: =Dichtheden!$B15 -> Gemeente Bergen (L) | LD60: =Dichtheden!$B16 -> Gemeente Brunssum | LE60: =Dichtheden!$B17 -> Gemeente Echt-Susteren | LF60: =Dichtheden!$B18 -> Gemeente Eijsden-Margraten | LG60: =Dichtheden!$B19 -> Gemeente Gennep | LH60: =Dichtheden!$B20 -> Gemeente Gulpen-Wittem | LI60: =Dichtheden!$B21 -> Gemeente Heerlen | LJ60: =Dichtheden!$B22 -> Gemeente Horst aan de Maas | LK60: =Dichtheden!$B23 -> Gemeente Kerkrade | LL60: =Dichtheden!$B24 -> Gemeente Landgraaf | LM60: =Dichtheden!$B25 -> Gemeente Leudal | LN60: =Dichtheden!$B26 -> Gemeente Maasgouw | LO60: =Dichtheden!$B27 -> Gemeente Maastricht | LP60: =Dichtheden!$B28 -> Gemeente Meerssen | LQ60: =Dichtheden!$B29 -> Gemeente Mook en Middelaar | LR60: =Dichtheden!$B30 -> Gemeente Nederweert | LS60: =Dichtheden!$B31 -> Gemeente Peel en Maas | LT60: =Dichtheden!$B32 -> Gemeente Roerdalen | LU60: =Dichtheden!$B33 -> Gemeente Roermond | LV60: =Dichtheden!$B34 -> Gemeente Simpelveld | LW60: =Dichtheden!$B35 -> Gemeente Sittard-Geleen | LX60: =Dichtheden!$B36 -> Gemeente Stein | LY60: =Dichtheden!$B37 -> Gemeente Vaals | LZ60: =Dichtheden!$B38 -> Gemeente Valkenburg aan de Geul | MA60: =Dichtheden!$B39 -> Gemeente Venlo | MB60: =Dichtheden!$B40 -> Gemeente Venray | MC60: =Dichtheden!$B41 -> Gemeente Voerendaal | MD60: =Dichtheden!$B42 -> Gemeente Weert | ME60: =Dichtheden!$B43 -> 0 | MF60: =Dichtheden!$B44 -> 0 | MG60: =Dichtheden!$B45 -> 0 | MH60: =Dichtheden!$B46 -> 0 | MI60: =Dichtheden!$B47 -> 0 | MJ60: =Dichtheden!$B48 -> 0 | MK60: =Dichtheden!$B49 -> 0 | ML60: =Dichtheden!$B50 -> 0 | MM60: =Dichtheden!$B51 -> 0 | MN60: =Dichtheden!$B52 -> 0 | MO60: =Dichtheden!$B53 -> 0 | MP60: =Dichtheden!$B54 -> 0 | MQ60: =Dichtheden!$B55 -> 0 | MR60: =Dichtheden!$B56 -> 0 | MS60: =Dichtheden!$B57 -> 0 | MT60: =Dichtheden!$B58 -> 0 | MU60: =Dichtheden!$B59 -> 0 | MV60: =Dichtheden!$B60 -> 0 | MW60: =Dichtheden!$B61 -> 0 | MX60: =Dichtheden!$B62 -> 0 | MY60: =Dichtheden!$B63 -> 0 | MZ60: =Dichtheden!$B64 -> 0 | NA60: =Dichtheden!$B65 -> 0 | NB60: =Dichtheden!$B66 -> 0 | NC60: =Dichtheden!$B67 -> 0
A61: Gemeente Beek | B61: Beek | C61: 8.866245 | D61: 3.388344 | E61: =C61/$C$58 -> 0.0058473156 | F61: =D61/$D$58 -> 0.010170878 | G61: =E61*Dichtheden!$V$70 -> 301.24715 | H61: =IF(C61=0,0,ROUND(IF((G61/2)/Dichtheden!$C$3<1,1,(G61/2)/Dichtheden!$C$3),0)) -> 2 | I61: =E61*Dichtheden!$AJ$70 -> 50.207859 | J61: =IF(C61=0,0,ROUND(IF((I61/2)/Dichtheden!$D$3<1,1,(I61/2)/Dichtheden!$D$3),0)) -> 1 | K61: =G61/2 -> 150.62358 | L61: =IF(H61=0,0,K61/H61) -> 75.311788 | M61: =IF(D61=0,0,IF((D61*Dichtheden!$G$4)<25,25,D61*Dichtheden!$G$4)) -> 762.3774 | N61: =D61*Dichtheden!$H$4 -> 118.59204 | P61: Hier zijn de door het CBS berekende oppervlaktes (km2) en omtrekken (km) per woonkern ingevoerd, CBS heeft gecorrigeerd voor eventuele situaties dat bv. twee kernen tegen elkaar aan liggen) | Q61: =E61*Dichtheden!$AS$68 -> 222.16978 | R61: =IF(Q61=0,0,ROUND(IF((Q61/2)/Dichtheden!$C$3<1,1,(Q61/2)/Dichtheden!$C$3),0)) -> 1 | S61: =E61*Dichtheden!$AY$68 -> 12.300925 | T61: =IF(Q61=0,0,ROUND(IF((S61/2)/Dichtheden!$D$3<1,1,(S61/2)/Dichtheden!$D$3),0)) -> 1 | U61: =D61*Dichtheden!$G$5 -> 738.65899 | V61: =D61*Dichtheden!$H$5 -> 50.82516 | AA61: =IF($A61=AA$60,$C61,0) -> 8.866245 | AB61: =IF($A61=AB$60,$C61,0) -> 0 | AC61: =IF($A61=AC$60,$C61,0) -> 0 | AD61: =IF($A61=AD$60,$C61,0) -> 0 | AE61: =IF($A61=AE$60,$C61,0) -> 0 | AF61: =IF($A61=AF$60,$C61,0) -> 0 | AG61: =IF($A61=AG$60,$C61,0) -> 0 | AH61: =IF($A61=AH$60,$C61,0) -> 0 | ... CD61: =IF($A61=CD$60,$C61,0) -> 0 | CF61: =IF($A61=CF$60,$D61,0) -> 3.388344 | CG61: =IF($A61=CG$60,$D61,0) -> 0 | CH61: =IF($A61=CH$60,$D61,0) -> 0 | CI61: =IF($A61=CI$60,$D61,0) -> 0 | CJ61: =IF($A61=CJ$60,$D61,0) -> 0 | CK61: =IF($A61=CK$60,$D61,0) -> 0 | CL61: =IF($A61=CL$60,$D61,0) -> 0 | CM61: =IF($A61=CM$60,$D61,0) -> 0 | ... EI61: =IF($A61=EI$60,$D61,0) -> 0 | EK61: =IF($A61=EK$60,$H61,0) -> 2 | EL61: =IF($A61=EL$60,$H61,0) -> 0 | EM61: =IF($A61=EM$60,$H61,0) -> 0 | EN61: =IF($A61=EN$60,$H61,0) -> 0 | EO61: =IF($A61=EO$60,$H61,0) -> 0 | EP61: =IF($A61=EP$60,$H61,0) -> 0 | EQ61: =IF($A61=EQ$60,$H61,0) -> 0 | ER61: =IF($A61=ER$60,$H61,0) -> 0 | ... GN61: =IF($A61=GN$60,$H61,0) -> 0 | GP61: =IF($A61=GP$60,$J61,0) -> 1 | GQ61: =IF($A61=GQ$60,$J61,0) -> 0 | GR61: =IF($A61=GR$60,$J61,0) -> 0 | GS61: =IF($A61=GS$60,$J61,0) -> 0 | GT61: =IF($A61=GT$60,$J61,0) -> 0 | GU61: =IF($A61=GU$60,$J61,0) -> 0 | GV61: =IF($A61=GV$60,$J61,0) -> 0 | GW61: =IF($A61=GW$60,$J61,0) -> 0 | ... IS61: =IF($A61=IS$60,$J61,0) -> 0 | IU61: =IF($A61=IU$60,$M61,0) -> 762.3774 | IV61: =IF($A61=IV$60,$M61,0) -> 0 | IW61: =IF($A61=IW$60,$M61,0) -> 0 | IX61: =IF($A61=IX$60,$M61,0) -> 0 | IY61: =IF($A61=IY$60,$M61,0) -> 0 | IZ61: =IF($A61=IZ$60,$M61,0) -> 0 | JA61: =IF($A61=JA$60,$M61,0) -> 0 | JB61: =IF($A61=JB$60,$M61,0) -> 0 | ... KX61: =IF($A61=KX$60,$M61,0) -> 0 | KZ61: =IF($A61=KZ$60,$N61,0) -> 118.59204 | LA61: =IF($A61=LA$60,$N61,0) -> 0 | LB61: =IF($A61=LB$60,$N61,0) -> 0 | LC61: =IF($A61=LC$60,$N61,0) -> 0 | LD61: =IF($A61=LD$60,$N61,0) -> 0 | LE61: =IF($A61=LE$60,$N61,0) -> 0 | LF61: =IF($A61=LF$60,$N61,0) -> 0 | LG61: =IF($A61=LG$60,$N61,0) -> 0 | ... NC61: =IF($A61=NC$60,$N61,0) -> 0
A62: Gemeente Beek | B62: Geverik | C62: 1.409691 | D62: 0.05532 | E62: =C62/$C$58 -> 0.00092969552 | F62: =D62/$D$58 -> 0.00016605545 | G62: =E62*Dichtheden!$V$70 -> 47.896872 | H62: =IF(C62=0,0,ROUND(IF((G62/2)/Dichtheden!$C$3<1,1,(G62/2)/Dichtheden!$C$3),0)) -> 1 | I62: =E62*Dichtheden!$AJ$70 -> 7.982812 | J62: =IF(C62=0,0,ROUND(IF((I62/2)/Dichtheden!$D$3<1,1,(I62/2)/Dichtheden!$D$3),0)) -> 1 | K62: =G62/2 -> 23.948436 | L62: =IF(H62=0,0,K62/H62) -> 23.948436 | M62: =IF(D62=0,0,IF((D62*Dichtheden!$G$4)<25,25,D62*Dichtheden!$G$4)) -> 25 | N62: =D62*Dichtheden!$H$4 -> 1.9362 | Q62: =E62*Dichtheden!$AS$68 -> 35.323943 | R62: =IF(Q62=0,0,ROUND(IF((Q62/2)/Dichtheden!$C$3<1,1,(Q62/2)/Dichtheden!$C$3),0)) -> 1 | S62: =E62*Dichtheden!$AY$68 -> 1.9557889 | T62: =IF(Q62=0,0,ROUND(IF((S62/2)/Dichtheden!$D$3<1,1,(S62/2)/Dichtheden!$D$3),0)) -> 1 | U62: =D62*Dichtheden!$G$5 -> 12.05976 | V62: =D62*Dichtheden!$H$5 -> 0.8298 | AA62: =IF($A62=AA$60,$C62,0) -> 1.409691 | AB62: =IF($A62=AB$60,$C62,0) -> 0 | AC62: =IF($A62=AC$60,$C62,0) -> 0 | AD62: =IF($A62=AD$60,$C62,0) -> 0 | AE62: =IF($A62=AE$60,$C62,0) -> 0 | AF62: =IF($A62=AF$60,$C62,0) -> 0 | AG62: =IF($A62=AG$60,$C62,0) -> 0 | AH62: =IF($A62=AH$60,$C62,0) -> 0 | ... CD62: =IF($A62=CD$60,$C62,0) -> 0 | CF62: =IF($A62=CF$60,$D62,0) -> 0.05532 | CG62: =IF($A62=CG$60,$D62,0) -> 0 | CH62: =IF($A62=CH$60,$D62,0) -> 0 | CI62: =IF($A62=CI$60,$D62,0) -> 0 | CJ62: =IF($A62=CJ$60,$D62,0) -> 0 | CK62: =IF($A62=CK$60,$D62,0) -> 0 | CL62: =IF($A62=CL$60,$D62,0) -> 0 | CM62: =IF($A62=CM$60,$D62,0) -> 0 | ... EI62: =IF($A62=EI$60,$D62,0) -> 0 | EK62: =IF($A62=EK$60,$H62,0) -> 1 | EL62: =IF($A62=EL$60,$H62,0) -> 0 | EM62: =IF($A62=EM$60,$H62,0) -> 0 | EN62: =IF($A62=EN$60,$H62,0) -> 0 | EO62: =IF($A62=EO$60,$H62,0) -> 0 | EP62: =IF($A62=EP$60,$H62,0) -> 0 | EQ62: =IF($A62=EQ$60,$H62,0) -> 0 | ER62: =IF($A62=ER$60,$H62,0) -> 0 | ... GN62: =IF($A62=GN$60,$H62,0) -> 0 | GP62: =IF($A62=GP$60,$J62,0) -> 1 | GQ62: =IF($A62=GQ$60,$J62,0) -> 0 | GR62: =IF($A62=GR$60,$J62,0) -> 0 | GS62: =IF($A62=GS$60,$J62,0) -> 0 | GT62: =IF($A62=GT$60,$J62,0) -> 0 | GU62: =IF($A62=GU$60,$J62,0) -> 0 | GV62: =IF($A62=GV$60,$J62,0) -> 0 | GW62: =IF($A62=GW$60,$J62,0) -> 0 | ... IS62: =IF($A62=IS$60,$J62,0) -> 0 | IU62: =IF($A62=IU$60,$M62,0) -> 25 | IV62: =IF($A62=IV$60,$M62,0) -> 0 | IW62: =IF($A62=IW$60,$M62,0) -> 0 | IX62: =IF($A62=IX$60,$M62,0) -> 0 | IY62: =IF($A62=IY$60,$M62,0) -> 0 | IZ62: =IF($A62=IZ$60,$M62,0) -> 0 | JA62: =IF($A62=JA$60,$M62,0) -> 0 | JB62: =IF($A62=JB$60,$M62,0) -> 0 | ... KX62: =IF($A62=KX$60,$M62,0) -> 0 | KZ62: =IF($A62=KZ$60,$N62,0) -> 1.9362 | LA62: =IF($A62=LA$60,$N62,0) -> 0 | LB62: =IF($A62=LB$60,$N62,0) -> 0 | LC62: =IF($A62=LC$60,$N62,0) -> 0 | LD62: =IF($A62=LD$60,$N62,0) -> 0 | LE62: =IF($A62=LE$60,$N62,0) -> 0 | LF62: =IF($A62=LF$60,$N62,0) -> 0 | LG62: =IF($A62=LG$60,$N62,0) -> 0 | ... NC62: =IF($A62=NC$60,$N62,0) -> 0
A63: Gemeente Beek | B63: Groot Genhout | C63: 2.976408 | D63: 0.228794 | E63: =C63/$C$58 -> 0.0019629502 | F63: =D63/$D$58 -> 0.00068677675 | G63: =E63*Dichtheden!$V$70 -> 101.12899 | H63: =IF(C63=0,0,ROUND(IF((G63/2)/Dichtheden!$C$3<1,1,(G63/2)/Dichtheden!$C$3),0)) -> 1 | I63: =E63*Dichtheden!$AJ$70 -> 16.854832 | J63: =IF(C63=0,0,ROUND(IF((I63/2)/Dichtheden!$D$3<1,1,(I63/2)/Dichtheden!$D$3),0)) -> 1 | K63: =G63/2 -> 50.564497 | L63: =IF(H63=0,0,K63/H63) -> 50.564497 | M63: =IF(D63=0,0,IF((D63*Dichtheden!$G$4)<25,25,D63*Dichtheden!$G$4)) -> 51.47865 | N63: =D63*Dichtheden!$H$4 -> 8.00779 | Q63: =E63*Dichtheden!$AS$68 -> 74.582633 | R63: =IF(Q63=0,0,ROUND(IF((Q63/2)/Dichtheden!$C$3<1,1,(Q63/2)/Dichtheden!$C$3),0)) -> 1 | S63: =E63*Dichtheden!$AY$68 -> 4.1294339 | T63: =IF(Q63=0,0,ROUND(IF((S63/2)/Dichtheden!$D$3<1,1,(S63/2)/Dichtheden!$D$3),0)) -> 1 | U63: =D63*Dichtheden!$G$5 -> 49.877092 | V63: =D63*Dichtheden!$H$5 -> 3.43191 | AA63: =IF($A63=AA$60,$C63,0) -> 2.976408 | AB63: =IF($A63=AB$60,$C63,0) -> 0 | AC63: =IF($A63=AC$60,$C63,0) -> 0 | AD63: =IF($A63=AD$60,$C63,0) -> 0 | AE63: =IF($A63=AE$60,$C63,0) -> 0 | AF63: =IF($A63=AF$60,$C63,0) -> 0 | AG63: =IF($A63=AG$60,$C63,0) -> 0 | AH63: =IF($A63=AH$60,$C63,0) -> 0 | ... CD63: =IF($A63=CD$60,$C63,0) -> 0 | CF63: =IF($A63=CF$60,$D63,0) -> 0.228794 | CG63: =IF($A63=CG$60,$D63,0) -> 0 | CH63: =IF($A63=CH$60,$D63,0) -> 0 | CI63: =IF($A63=CI$60,$D63,0) -> 0 | CJ63: =IF($A63=CJ$60,$D63,0) -> 0 | CK63: =IF($A63=CK$60,$D63,0) -> 0 | CL63: =IF($A63=CL$60,$D63,0) -> 0 | CM63: =IF($A63=CM$60,$D63,0) -> 0 | ... EI63: =IF($A63=EI$60,$D63,0) -> 0 | EK63: =IF($A63=EK$60,$H63,0) -> 1 | EL63: =IF($A63=EL$60,$H63,0) -> 0 | EM63: =IF($A63=EM$60,$H63,0) -> 0 | EN63: =IF($A63=EN$60,$H63,0) -> 0 | EO63: =IF($A63=EO$60,$H63,0) -> 0 | EP63: =IF($A63=EP$60,$H63,0) -> 0 | EQ63: =IF($A63=EQ$60,$H63,0) -> 0 | ER63: =IF($A63=ER$60,$H63,0) -> 0 | ... GN63: =IF($A63=GN$60,$H63,0) -> 0 | GP63: =IF($A63=GP$60,$J63,0) -> 1 | GQ63: =IF($A63=GQ$60,$J63,0) -> 0 | GR63: =IF($A63=GR$60,$J63,0) -> 0 | GS63: =IF($A63=GS$60,$J63,0) -> 0 | GT63: =IF($A63=GT$60,$J63,0) -> 0 | GU63: =IF($A63=GU$60,$J63,0) -> 0 | GV63: =IF($A63=GV$60,$J63,0) -> 0 | GW63: =IF($A63=GW$60,$J63,0) -> 0 | ... IS63: =IF($A63=IS$60,$J63,0) -> 0 | IU63: =IF($A63=IU$60,$M63,0) -> 51.47865 | IV63: =IF($A63=IV$60,$M63,0) -> 0 | IW63: =IF($A63=IW$60,$M63,0) -> 0 | IX63: =IF($A63=IX$60,$M63,0) -> 0 | IY63: =IF($A63=IY$60,$M63,0) -> 0 | IZ63: =IF($A63=IZ$60,$M63,0) -> 0 | JA63: =IF($A63=JA$60,$M63,0) -> 0 | JB63: =IF($A63=JB$60,$M63,0) -> 0 | ... KX63: =IF($A63=KX$60,$M63,0) -> 0 | KZ63: =IF($A63=KZ$60,$N63,0) -> 8.00779 | LA63: =IF($A63=LA$60,$N63,0) -> 0 | LB63: =IF($A63=LB$60,$N63,0) -> 0 | LC63: =IF($A63=LC$60,$N63,0) -> 0 | LD63: =IF($A63=LD$60,$N63,0) -> 0 | LE63: =IF($A63=LE$60,$N63,0) -> 0 | LF63: =IF($A63=LF$60,$N63,0) -> 0 | LG63: =IF($A63=LG$60,$N63,0) -> 0 | ... NC63: =IF($A63=NC$60,$N63,0) -> 0
A64: Gemeente Beek | B64: Spaubeek | C64: 8.328109 | D64: 0.871801 | E64: =C64/$C$58 -> 0.0054924133 | F64: =D64/$D$58 -> 0.0026169071 | G64: =E64*Dichtheden!$V$70 -> 282.96298 | H64: =IF(C64=0,0,ROUND(IF((G64/2)/Dichtheden!$C$3<1,1,(G64/2)/Dichtheden!$C$3),0)) -> 1 | I64: =E64*Dichtheden!$AJ$70 -> 47.160497 | J64: =IF(C64=0,0,ROUND(IF((I64/2)/Dichtheden!$D$3<1,1,(I64/2)/Dichtheden!$D$3),0)) -> 1 | K64: =G64/2 -> 141.48149 | L64: =IF(H64=0,0,K64/H64) -> 141.48149 | M64: =IF(D64=0,0,IF((D64*Dichtheden!$G$4)<25,25,D64*Dichtheden!$G$4)) -> 196.15523 | N64: =D64*Dichtheden!$H$4 -> 30.513035 | Q64: =E64*Dichtheden!$AS$68 -> 208.6852 | R64: =IF(Q64=0,0,ROUND(IF((Q64/2)/Dichtheden!$C$3<1,1,(Q64/2)/Dichtheden!$C$3),0)) -> 1 | S64: =E64*Dichtheden!$AY$68 -> 11.554322 | T64: =IF(Q64=0,0,ROUND(IF((S64/2)/Dichtheden!$D$3<1,1,(S64/2)/Dichtheden!$D$3),0)) -> 1 | U64: =D64*Dichtheden!$G$5 -> 190.05262 | V64: =D64*Dichtheden!$H$5 -> 13.077015 | AA64: =IF($A64=AA$60,$C64,0) -> 8.328109 | AB64: =IF($A64=AB$60,$C64,0) -> 0 | AC64: =IF($A64=AC$60,$C64,0) -> 0 | AD64: =IF($A64=AD$60,$C64,0) -> 0 | AE64: =IF($A64=AE$60,$C64,0) -> 0 | AF64: =IF($A64=AF$60,$C64,0) -> 0 | AG64: =IF($A64=AG$60,$C64,0) -> 0 | AH64: =IF($A64=AH$60,$C64,0) -> 0 | ... CD64: =IF($A64=CD$60,$C64,0) -> 0 | CF64: =IF($A64=CF$60,$D64,0) -> 0.871801 | CG64: =IF($A64=CG$60,$D64,0) -> 0 | CH64: =IF($A64=CH$60,$D64,0) -> 0 | CI64: =IF($A64=CI$60,$D64,0) -> 0 | CJ64: =IF($A64=CJ$60,$D64,0) -> 0 | CK64: =IF($A64=CK$60,$D64,0) -> 0 | CL64: =IF($A64=CL$60,$D64,0) -> 0 | CM64: =IF($A64=CM$60,$D64,0) -> 0 | ... EI64: =IF($A64=EI$60,$D64,0) -> 0 | EK64: =IF($A64=EK$60,$H64,0) -> 1 | EL64: =IF($A64=EL$60,$H64,0) -> 0 | EM64: =IF($A64=EM$60,$H64,0) -> 0 | EN64: =IF($A64=EN$60,$H64,0) -> 0 | EO64: =IF($A64=EO$60,$H64,0) -> 0 | EP64: =IF($A64=EP$60,$H64,0) -> 0 | EQ64: =IF($A64=EQ$60,$H64,0) -> 0 | ER64: =IF($A64=ER$60,$H64,0) -> 0 | ... GN64: =IF($A64=GN$60,$H64,0) -> 0 | GP64: =IF($A64=GP$60,$J64,0) -> 1 | GQ64: =IF($A64=GQ$60,$J64,0) -> 0 | GR64: =IF($A64=GR$60,$J64,0) -> 0 | GS64: =IF($A64=GS$60,$J64,0) -> 0 | GT64: =IF($A64=GT$60,$J64,0) -> 0 | GU64: =IF($A64=GU$60,$J64,0) -> 0 | GV64: =IF($A64=GV$60,$J64,0) -> 0 | GW64: =IF($A64=GW$60,$J64,0) -> 0 | ... IS64: =IF($A64=IS$60,$J64,0) -> 0 | IU64: =IF($A64=IU$60,$M64,0) -> 196.15523 | IV64: =IF($A64=IV$60,$M64,0) -> 0 | IW64: =IF($A64=IW$60,$M64,0) -> 0 | IX64: =IF($A64=IX$60,$M64,0) -> 0 | IY64: =IF($A64=IY$60,$M64,0) -> 0 | IZ64: =IF($A64=IZ$60,$M64,0) -> 0 | JA64: =IF($A64=JA$60,$M64,0) -> 0 | JB64: =IF($A64=JB$60,$M64,0) -> 0 | ... KX64: =IF($A64=KX$60,$M64,0) -> 0 | KZ64: =IF($A64=KZ$60,$N64,0) -> 30.513035 | LA64: =IF($A64=LA$60,$N64,0) -> 0 | LB64: =IF($A64=LB$60,$N64,0) -> 0 | LC64: =IF($A64=LC$60,$N64,0) -> 0 | LD64: =IF($A64=LD$60,$N64,0) -> 0 | LE64: =IF($A64=LE$60,$N64,0) -> 0 | LF64: =IF($A64=LF$60,$N64,0) -> 0 | LG64: =IF($A64=LG$60,$N64,0) -> 0 | ... NC64: =IF($A64=NC$60,$N64,0) -> 0
A65: Gemeente Beekdaelen | B65: Arensgenhout | C65: 1.593902 | D65: 0.097226 | E65: =C65/$C$58 -> 0.0010511832 | F65: =D65/$D$58 -> 0.00029184575 | G65: =E65*Dichtheden!$V$70 -> 54.155783 | H65: =IF(C65=0,0,ROUND(IF((G65/2)/Dichtheden!$C$3<1,1,(G65/2)/Dichtheden!$C$3),0)) -> 1 | I65: =E65*Dichtheden!$AJ$70 -> 9.0259638 | J65: =IF(C65=0,0,ROUND(IF((I65/2)/Dichtheden!$D$3<1,1,(I65/2)/Dichtheden!$D$3),0)) -> 1 | K65: =G65/2 -> 27.077891 | L65: =IF(H65=0,0,K65/H65) -> 27.077891 | M65: =IF(D65=0,0,IF((D65*Dichtheden!$G$4)<25,25,D65*Dichtheden!$G$4)) -> 25 | N65: =D65*Dichtheden!$H$4 -> 3.40291 | Q65: =E65*Dichtheden!$AS$68 -> 39.93989 | R65: =IF(Q65=0,0,ROUND(IF((Q65/2)/Dichtheden!$C$3<1,1,(Q65/2)/Dichtheden!$C$3),0)) -> 1 | S65: =E65*Dichtheden!$AY$68 -> 2.2113611 | T65: =IF(Q65=0,0,ROUND(IF((S65/2)/Dichtheden!$D$3<1,1,(S65/2)/Dichtheden!$D$3),0)) -> 1 | U65: =D65*Dichtheden!$G$5 -> 21.195268 | V65: =D65*Dichtheden!$H$5 -> 1.45839 | AA65: =IF($A65=AA$60,$C65,0) -> 0 | AB65: =IF($A65=AB$60,$C65,0) -> 1.593902 | AC65: =IF($A65=AC$60,$C65,0) -> 0 | AD65: =IF($A65=AD$60,$C65,0) -> 0 | AE65: =IF($A65=AE$60,$C65,0) -> 0 | AF65: =IF($A65=AF$60,$C65,0) -> 0 | AG65: =IF($A65=AG$60,$C65,0) -> 0 | AH65: =IF($A65=AH$60,$C65,0) -> 0 | ... CD65: =IF($A65=CD$60,$C65,0) -> 0 | CF65: =IF($A65=CF$60,$D65,0) -> 0 | CG65: =IF($A65=CG$60,$D65,0) -> 0.097226 | CH65: =IF($A65=CH$60,$D65,0) -> 0 | CI65: =IF($A65=CI$60,$D65,0) -> 0 | CJ65: =IF($A65=CJ$60,$D65,0) -> 0 | CK65: =IF($A65=CK$60,$D65,0) -> 0 | CL65: =IF($A65=CL$60,$D65,0) -> 0 | CM65: =IF($A65=CM$60,$D65,0) -> 0 | ... EI65: =IF($A65=EI$60,$D65,0) -> 0 | EK65: =IF($A65=EK$60,$H65,0) -> 0 | EL65: =IF($A65=EL$60,$H65,0) -> 1 | EM65: =IF($A65=EM$60,$H65,0) -> 0 | EN65: =IF($A65=EN$60,$H65,0) -> 0 | EO65: =IF($A65=EO$60,$H65,0) -> 0 | EP65: =IF($A65=EP$60,$H65,0) -> 0 | EQ65: =IF($A65=EQ$60,$H65,0) -> 0 | ER65: =IF($A65=ER$60,$H65,0) -> 0 | ... GN65: =IF($A65=GN$60,$H65,0) -> 0 | GP65: =IF($A65=GP$60,$J65,0) -> 0 | GQ65: =IF($A65=GQ$60,$J65,0) -> 1 | GR65: =IF($A65=GR$60,$J65,0) -> 0 | GS65: =IF($A65=GS$60,$J65,0) -> 0 | GT65: =IF($A65=GT$60,$J65,0) -> 0 | GU65: =IF($A65=GU$60,$J65,0) -> 0 | GV65: =IF($A65=GV$60,$J65,0) -> 0 | GW65: =IF($A65=GW$60,$J65,0) -> 0 | ... IS65: =IF($A65=IS$60,$J65,0) -> 0 | IU65: =IF($A65=IU$60,$M65,0) -> 0 | IV65: =IF($A65=IV$60,$M65,0) -> 25 | IW65: =IF($A65=IW$60,$M65,0) -> 0 | IX65: =IF($A65=IX$60,$M65,0) -> 0 | IY65: =IF($A65=IY$60,$M65,0) -> 0 | IZ65: =IF($A65=IZ$60,$M65,0) -> 0 | JA65: =IF($A65=JA$60,$M65,0) -> 0 | JB65: =IF($A65=JB$60,$M65,0) -> 0 | ... KX65: =IF($A65=KX$60,$M65,0) -> 0 | KZ65: =IF($A65=KZ$60,$N65,0) -> 0 | LA65: =IF($A65=LA$60,$N65,0) -> 3.40291 | LB65: =IF($A65=LB$60,$N65,0) -> 0 | LC65: =IF($A65=LC$60,$N65,0) -> 0 | LD65: =IF($A65=LD$60,$N65,0) -> 0 | LE65: =IF($A65=LE$60,$N65,0) -> 0 | LF65: =IF($A65=LF$60,$N65,0) -> 0 | LG65: =IF($A65=LG$60,$N65,0) -> 0 | ... NC65: =IF($A65=NC$60,$N65,0) -> 0
A66: Gemeente Beekdaelen | B66: Bingelrade | C66: 1.312576 | D66: 0.082542 | E66: =C66/$C$58 -> 0.00086564788 | F66: =D66/$D$58 -> 0.00024776841 | G66: =E66*Dichtheden!$V$70 -> 44.597209 | H66: =IF(C66=0,0,ROUND(IF((G66/2)/Dichtheden!$C$3<1,1,(G66/2)/Dichtheden!$C$3),0)) -> 1 | I66: =E66*Dichtheden!$AJ$70 -> 7.4328682 | J66: =IF(C66=0,0,ROUND(IF((I66/2)/Dichtheden!$D$3<1,1,(I66/2)/Dichtheden!$D$3),0)) -> 1 | K66: =G66/2 -> 22.298605 | L66: =IF(H66=0,0,K66/H66) -> 22.298605 | M66: =IF(D66=0,0,IF((D66*Dichtheden!$G$4)<25,25,D66*Dichtheden!$G$4)) -> 25 | N66: =D66*Dichtheden!$H$4 -> 2.88897 | Q66: =E66*Dichtheden!$AS$68 -> 32.890442 | R66: =IF(Q66=0,0,ROUND(IF((Q66/2)/Dichtheden!$C$3<1,1,(Q66/2)/Dichtheden!$C$3),0)) -> 1 | S66: =E66*Dichtheden!$AY$68 -> 1.8210527 | T66: =IF(Q66=0,0,ROUND(IF((S66/2)/Dichtheden!$D$3<1,1,(S66/2)/Dichtheden!$D$3),0)) -> 1 | U66: =D66*Dichtheden!$G$5 -> 17.994156 | V66: =D66*Dichtheden!$H$5 -> 1.23813 | AA66: =IF($A66=AA$60,$C66,0) -> 0 | AB66: =IF($A66=AB$60,$C66,0) -> 1.312576 | AC66: =IF($A66=AC$60,$C66,0) -> 0 | AD66: =IF($A66=AD$60,$C66,0) -> 0 | AE66: =IF($A66=AE$60,$C66,0) -> 0 | AF66: =IF($A66=AF$60,$C66,0) -> 0 | AG66: =IF($A66=AG$60,$C66,0) -> 0 | AH66: =IF($A66=AH$60,$C66,0) -> 0 | ... CD66: =IF($A66=CD$60,$C66,0) -> 0 | CF66: =IF($A66=CF$60,$D66,0) -> 0 | CG66: =IF($A66=CG$60,$D66,0) -> 0.082542 | CH66: =IF($A66=CH$60,$D66,0) -> 0 | CI66: =IF($A66=CI$60,$D66,0) -> 0 | CJ66: =IF($A66=CJ$60,$D66,0) -> 0 | CK66: =IF($A66=CK$60,$D66,0) -> 0 | CL66: =IF($A66=CL$60,$D66,0) -> 0 | CM66: =IF($A66=CM$60,$D66,0) -> 0 | ... EI66: =IF($A66=EI$60,$D66,0) -> 0 | EK66: =IF($A66=EK$60,$H66,0) -> 0 | EL66: =IF($A66=EL$60,$H66,0) -> 1 | EM66: =IF($A66=EM$60,$H66,0) -> 0 | EN66: =IF($A66=EN$60,$H66,0) -> 0 | EO66: =IF($A66=EO$60,$H66,0) -> 0 | EP66: =IF($A66=EP$60,$H66,0) -> 0 | EQ66: =IF($A66=EQ$60,$H66,0) -> 0 | ER66: =IF($A66=ER$60,$H66,0) -> 0 | ... GN66: =IF($A66=GN$60,$H66,0) -> 0 | GP66: =IF($A66=GP$60,$J66,0) -> 0 | GQ66: =IF($A66=GQ$60,$J66,0) -> 1 | GR66: =IF($A66=GR$60,$J66,0) -> 0 | GS66: =IF($A66=GS$60,$J66,0) -> 0 | GT66: =IF($A66=GT$60,$J66,0) -> 0 | GU66: =IF($A66=GU$60,$J66,0) -> 0 | GV66: =IF($A66=GV$60,$J66,0) -> 0 | GW66: =IF($A66=GW$60,$J66,0) -> 0 | ... IS66: =IF($A66=IS$60,$J66,0) -> 0 | IU66: =IF($A66=IU$60,$M66,0) -> 0 | IV66: =IF($A66=IV$60,$M66,0) -> 25 | IW66: =IF($A66=IW$60,$M66,0) -> 0 | IX66: =IF($A66=IX$60,$M66,0) -> 0 | IY66: =IF($A66=IY$60,$M66,0) -> 0 | IZ66: =IF($A66=IZ$60,$M66,0) -> 0 | JA66: =IF($A66=JA$60,$M66,0) -> 0 | JB66: =IF($A66=JB$60,$M66,0) -> 0 | ... KX66: =IF($A66=KX$60,$M66,0) -> 0 | KZ66: =IF($A66=KZ$60,$N66,0) -> 0 | LA66: =IF($A66=LA$60,$N66,0) -> 2.88897 | LB66: =IF($A66=LB$60,$N66,0) -> 0 | LC66: =IF($A66=LC$60,$N66,0) -> 0 | LD66: =IF($A66=LD$60,$N66,0) -> 0 | LE66: =IF($A66=LE$60,$N66,0) -> 0 | LF66: =IF($A66=LF$60,$N66,0) -> 0 | LG66: =IF($A66=LG$60,$N66,0) -> 0 | ... NC66: =IF($A66=NC$60,$N66,0) -> 0
A67: Gemeente Beekdaelen | B67: Doenrade | C67: 5.326019 | D67: 0.396696 | E67: =C67/$C$58 -> 0.0035125258 | F67: =D67/$D$58 -> 0.0011907724 | G67: =E67*Dichtheden!$V$70 -> 180.96139 | H67: =IF(C67=0,0,ROUND(IF((G67/2)/Dichtheden!$C$3<1,1,(G67/2)/Dichtheden!$C$3),0)) -> 1 | I67: =E67*Dichtheden!$AJ$70 -> 30.160232 | J67: =IF(C67=0,0,ROUND(IF((I67/2)/Dichtheden!$D$3<1,1,(I67/2)/Dichtheden!$D$3),0)) -> 1 | K67: =G67/2 -> 90.480697 | L67: =IF(H67=0,0,K67/H67) -> 90.480697 | M67: =IF(D67=0,0,IF((D67*Dichtheden!$G$4)<25,25,D67*Dichtheden!$G$4)) -> 89.2566 | N67: =D67*Dichtheden!$H$4 -> 13.88436 | Q67: =E67*Dichtheden!$AS$68 -> 133.45903 | R67: =IF(Q67=0,0,ROUND(IF((Q67/2)/Dichtheden!$C$3<1,1,(Q67/2)/Dichtheden!$C$3),0)) -> 1 | S67: =E67*Dichtheden!$AY$68 -> 7.3892569 | T67: =IF(Q67=0,0,ROUND(IF((S67/2)/Dichtheden!$D$3<1,1,(S67/2)/Dichtheden!$D$3),0)) -> 1 | U67: =D67*Dichtheden!$G$5 -> 86.479728 | V67: =D67*Dichtheden!$H$5 -> 5.95044 | AA67: =IF($A67=AA$60,$C67,0) -> 0 | AB67: =IF($A67=AB$60,$C67,0) -> 5.326019 | AC67: =IF($A67=AC$60,$C67,0) -> 0 | AD67: =IF($A67=AD$60,$C67,0) -> 0 | AE67: =IF($A67=AE$60,$C67,0) -> 0 | AF67: =IF($A67=AF$60,$C67,0) -> 0 | AG67: =IF($A67=AG$60,$C67,0) -> 0 | AH67: =IF($A67=AH$60,$C67,0) -> 0 | ... CD67: =IF($A67=CD$60,$C67,0) -> 0 | CF67: =IF($A67=CF$60,$D67,0) -> 0 | CG67: =IF($A67=CG$60,$D67,0) -> 0.396696 | CH67: =IF($A67=CH$60,$D67,0) -> 0 | CI67: =IF($A67=CI$60,$D67,0) -> 0 | CJ67: =IF($A67=CJ$60,$D67,0) -> 0 | CK67: =IF($A67=CK$60,$D67,0) -> 0 | CL67: =IF($A67=CL$60,$D67,0) -> 0 | CM67: =IF($A67=CM$60,$D67,0) -> 0 | ... EI67: =IF($A67=EI$60,$D67,0) -> 0 | EK67: =IF($A67=EK$60,$H67,0) -> 0 | EL67: =IF($A67=EL$60,$H67,0) -> 1 | EM67: =IF($A67=EM$60,$H67,0) -> 0 | EN67: =IF($A67=EN$60,$H67,0) -> 0 | EO67: =IF($A67=EO$60,$H67,0) -> 0 | EP67: =IF($A67=EP$60,$H67,0) -> 0 | EQ67: =IF($A67=EQ$60,$H67,0) -> 0 | ER67: =IF($A67=ER$60,$H67,0) -> 0 | ... GN67: =IF($A67=GN$60,$H67,0) -> 0 | GP67: =IF($A67=GP$60,$J67,0) -> 0 | GQ67: =IF($A67=GQ$60,$J67,0) -> 1 | GR67: =IF($A67=GR$60,$J67,0) -> 0 | GS67: =IF($A67=GS$60,$J67,0) -> 0 | GT67: =IF($A67=GT$60,$J67,0) -> 0 | GU67: =IF($A67=GU$60,$J67,0) -> 0 | GV67: =IF($A67=GV$60,$J67,0) -> 0 | GW67: =IF($A67=GW$60,$J67,0) -> 0 | ... IS67: =IF($A67=IS$60,$J67,0) -> 0 | IU67: =IF($A67=IU$60,$M67,0) -> 0 | IV67: =IF($A67=IV$60,$M67,0) -> 89.2566 | IW67: =IF($A67=IW$60,$M67,0) -> 0 | IX67: =IF($A67=IX$60,$M67,0) -> 0 | IY67: =IF($A67=IY$60,$M67,0) -> 0 | IZ67: =IF($A67=IZ$60,$M67,0) -> 0 | JA67: =IF($A67=JA$60,$M67,0) -> 0 | JB67: =IF($A67=JB$60,$M67,0) -> 0 | ... KX67: =IF($A67=KX$60,$M67,0) -> 0 | KZ67: =IF($A67=KZ$60,$N67,0) -> 0 | LA67: =IF($A67=LA$60,$N67,0) -> 13.88436 | LB67: =IF($A67=LB$60,$N67,0) -> 0 | LC67: =IF($A67=LC$60,$N67,0) -> 0 | LD67: =IF($A67=LD$60,$N67,0) -> 0 | LE67: =IF($A67=LE$60,$N67,0) -> 0 | LF67: =IF($A67=LF$60,$N67,0) -> 0 | LG67: =IF($A67=LG$60,$N67,0) -> 0 | ... NC67: =IF($A67=NC$60,$N67,0) -> 0
A68: Gemeente Beekdaelen | B68: Grijzegrubben | C68: 1.003818 | D68: 0.032683 | E68: =C68/$C$58 -> 0.00066202104 | F68: =D68/$D$58 -> 9.8105389e-05 | G68: =E68*Dichtheden!$V$70 -> 34.106582 | H68: =IF(C68=0,0,ROUND(IF((G68/2)/Dichtheden!$C$3<1,1,(G68/2)/Dichtheden!$C$3),0)) -> 1 | I68: =E68*Dichtheden!$AJ$70 -> 5.6844304 | J68: =IF(C68=0,0,ROUND(IF((I68/2)/Dichtheden!$D$3<1,1,(I68/2)/Dichtheden!$D$3),0)) -> 1 | K68: =G68/2 -> 17.053291 | L68: =IF(H68=0,0,K68/H68) -> 17.053291 | M68: =IF(D68=0,0,IF((D68*Dichtheden!$G$4)<25,25,D68*Dichtheden!$G$4)) -> 25 | N68: =D68*Dichtheden!$H$4 -> 1.143905 | Q68: =E68*Dichtheden!$AS$68 -> 25.153604 | R68: =IF(Q68=0,0,ROUND(IF((Q68/2)/Dichtheden!$C$3<1,1,(Q68/2)/Dichtheden!$C$3),0)) -> 1 | S68: =E68*Dichtheden!$AY$68 -> 1.3926854 | T68: =IF(Q68=0,0,ROUND(IF((S68/2)/Dichtheden!$D$3<1,1,(S68/2)/Dichtheden!$D$3),0)) -> 1 | U68: =D68*Dichtheden!$G$5 -> 7.124894 | V68: =D68*Dichtheden!$H$5 -> 0.490245 | AA68: =IF($A68=AA$60,$C68,0) -> 0 | AB68: =IF($A68=AB$60,$C68,0) -> 1.003818 | AC68: =IF($A68=AC$60,$C68,0) -> 0 | AD68: =IF($A68=AD$60,$C68,0) -> 0 | AE68: =IF($A68=AE$60,$C68,0) -> 0 | AF68: =IF($A68=AF$60,$C68,0) -> 0 | AG68: =IF($A68=AG$60,$C68,0) -> 0 | AH68: =IF($A68=AH$60,$C68,0) -> 0 | ... CD68: =IF($A68=CD$60,$C68,0) -> 0 | CF68: =IF($A68=CF$60,$D68,0) -> 0 | CG68: =IF($A68=CG$60,$D68,0) -> 0.032683 | CH68: =IF($A68=CH$60,$D68,0) -> 0 | CI68: =IF($A68=CI$60,$D68,0) -> 0 | CJ68: =IF($A68=CJ$60,$D68,0) -> 0 | CK68: =IF($A68=CK$60,$D68,0) -> 0 | CL68: =IF($A68=CL$60,$D68,0) -> 0 | CM68: =IF($A68=CM$60,$D68,0) -> 0 | ... EI68: =IF($A68=EI$60,$D68,0) -> 0 | EK68: =IF($A68=EK$60,$H68,0) -> 0 | EL68: =IF($A68=EL$60,$H68,0) -> 1 | EM68: =IF($A68=EM$60,$H68,0) -> 0 | EN68: =IF($A68=EN$60,$H68,0) -> 0 | EO68: =IF($A68=EO$60,$H68,0) -> 0 | EP68: =IF($A68=EP$60,$H68,0) -> 0 | EQ68: =IF($A68=EQ$60,$H68,0) -> 0 | ER68: =IF($A68=ER$60,$H68,0) -> 0 | ... GN68: =IF($A68=GN$60,$H68,0) -> 0 | GP68: =IF($A68=GP$60,$J68,0) -> 0 | GQ68: =IF($A68=GQ$60,$J68,0) -> 1 | GR68: =IF($A68=GR$60,$J68,0) -> 0 | GS68: =IF($A68=GS$60,$J68,0) -> 0 | GT68: =IF($A68=GT$60,$J68,0) -> 0 | GU68: =IF($A68=GU$60,$J68,0) -> 0 | GV68: =IF($A68=GV$60,$J68,0) -> 0 | GW68: =IF($A68=GW$60,$J68,0) -> 0 | ... IS68: =IF($A68=IS$60,$J68,0) -> 0 | IU68: =IF($A68=IU$60,$M68,0) -> 0 | IV68: =IF($A68=IV$60,$M68,0) -> 25 | IW68: =IF($A68=IW$60,$M68,0) -> 0 | IX68: =IF($A68=IX$60,$M68,0) -> 0 | IY68: =IF($A68=IY$60,$M68,0) -> 0 | IZ68: =IF($A68=IZ$60,$M68,0) -> 0 | JA68: =IF($A68=JA$60,$M68,0) -> 0 | JB68: =IF($A68=JB$60,$M68,0) -> 0 | ... KX68: =IF($A68=KX$60,$M68,0) -> 0 | KZ68: =IF($A68=KZ$60,$N68,0) -> 0 | LA68: =IF($A68=LA$60,$N68,0) -> 1.143905 | LB68: =IF($A68=LB$60,$N68,0) -> 0 | LC68: =IF($A68=LC$60,$N68,0) -> 0 | LD68: =IF($A68=LD$60,$N68,0) -> 0 | LE68: =IF($A68=LE$60,$N68,0) -> 0 | LF68: =IF($A68=LF$60,$N68,0) -> 0 | LG68: =IF($A68=LG$60,$N68,0) -> 0 | ... NC68: =IF($A68=NC$60,$N68,0) -> 0
A69: Gemeente Beekdaelen | B69: Hulsberg | C69: 5.498767 | D69: 0.882099 | E69: =C69/$C$58 -> 0.0036264536 | F69: =D69/$D$58 -> 0.0026478189 | G69: =E69*Dichtheden!$V$70 -> 186.83083 | H69: =IF(C69=0,0,ROUND(IF((G69/2)/Dichtheden!$C$3<1,1,(G69/2)/Dichtheden!$C$3),0)) -> 1 | I69: =E69*Dichtheden!$AJ$70 -> 31.138471 | J69: =IF(C69=0,0,ROUND(IF((I69/2)/Dichtheden!$D$3<1,1,(I69/2)/Dichtheden!$D$3),0)) -> 1 | K69: =G69/2 -> 93.415414 | L69: =IF(H69=0,0,K69/H69) -> 93.415414 | M69: =IF(D69=0,0,IF((D69*Dichtheden!$G$4)<25,25,D69*Dichtheden!$G$4)) -> 198.47227 | N69: =D69*Dichtheden!$H$4 -> 30.873465 | Q69: =E69*Dichtheden!$AS$68 -> 137.78774 | R69: =IF(Q69=0,0,ROUND(IF((Q69/2)/Dichtheden!$C$3<1,1,(Q69/2)/Dichtheden!$C$3),0)) -> 1 | S69: =E69*Dichtheden!$AY$68 -> 7.6289255 | T69: =IF(Q69=0,0,ROUND(IF((S69/2)/Dichtheden!$D$3<1,1,(S69/2)/Dichtheden!$D$3),0)) -> 1 | U69: =D69*Dichtheden!$G$5 -> 192.29758 | V69: =D69*Dichtheden!$H$5 -> 13.231485 | AA69: =IF($A69=AA$60,$C69,0) -> 0 | AB69: =IF($A69=AB$60,$C69,0) -> 5.498767 | AC69: =IF($A69=AC$60,$C69,0) -> 0 | AD69: =IF($A69=AD$60,$C69,0) -> 0 | AE69: =IF($A69=AE$60,$C69,0) -> 0 | AF69: =IF($A69=AF$60,$C69,0) -> 0 | AG69: =IF($A69=AG$60,$C69,0) -> 0 | AH69: =IF($A69=AH$60,$C69,0) -> 0 | ... CD69: =IF($A69=CD$60,$C69,0) -> 0 | CF69: =IF($A69=CF$60,$D69,0) -> 0 | CG69: =IF($A69=CG$60,$D69,0) -> 0.882099 | CH69: =IF($A69=CH$60,$D69,0) -> 0 | CI69: =IF($A69=CI$60,$D69,0) -> 0 | CJ69: =IF($A69=CJ$60,$D69,0) -> 0 | CK69: =IF($A69=CK$60,$D69,0) -> 0 | CL69: =IF($A69=CL$60,$D69,0) -> 0 | CM69: =IF($A69=CM$60,$D69,0) -> 0 | ... EI69: =IF($A69=EI$60,$D69,0) -> 0 | EK69: =IF($A69=EK$60,$H69,0) -> 0 | EL69: =IF($A69=EL$60,$H69,0) -> 1 | EM69: =IF($A69=EM$60,$H69,0) -> 0 | EN69: =IF($A69=EN$60,$H69,0) -> 0 | EO69: =IF($A69=EO$60,$H69,0) -> 0 | EP69: =IF($A69=EP$60,$H69,0) -> 0 | EQ69: =IF($A69=EQ$60,$H69,0) -> 0 | ER69: =IF($A69=ER$60,$H69,0) -> 0 | ... GN69: =IF($A69=GN$60,$H69,0) -> 0 | GP69: =IF($A69=GP$60,$J69,0) -> 0 | GQ69: =IF($A69=GQ$60,$J69,0) -> 1 | GR69: =IF($A69=GR$60,$J69,0) -> 0 | GS69: =IF($A69=GS$60,$J69,0) -> 0 | GT69: =IF($A69=GT$60,$J69,0) -> 0 | GU69: =IF($A69=GU$60,$J69,0) -> 0 | GV69: =IF($A69=GV$60,$J69,0) -> 0 | GW69: =IF($A69=GW$60,$J69,0) -> 0 | ... IS69: =IF($A69=IS$60,$J69,0) -> 0 | IU69: =IF($A69=IU$60,$M69,0) -> 0 | IV69: =IF($A69=IV$60,$M69,0) -> 198.47227 | IW69: =IF($A69=IW$60,$M69,0) -> 0 | IX69: =IF($A69=IX$60,$M69,0) -> 0 | IY69: =IF($A69=IY$60,$M69,0) -> 0 | IZ69: =IF($A69=IZ$60,$M69,0) -> 0 | JA69: =IF($A69=JA$60,$M69,0) -> 0 | JB69: =IF($A69=JB$60,$M69,0) -> 0 | ... KX69: =IF($A69=KX$60,$M69,0) -> 0 | KZ69: =IF($A69=KZ$60,$N69,0) -> 0 | LA69: =IF($A69=LA$60,$N69,0) -> 30.873465 | LB69: =IF($A69=LB$60,$N69,0) -> 0 | LC69: =IF($A69=LC$60,$N69,0) -> 0 | LD69: =IF($A69=LD$60,$N69,0) -> 0 | LE69: =IF($A69=LE$60,$N69,0) -> 0 | LF69: =IF($A69=LF$60,$N69,0) -> 0 | LG69: =IF($A69=LG$60,$N69,0) -> 0 | ... NC69: =IF($A69=NC$60,$N69,0) -> 0
A70: Gemeente Beekdaelen | B70: Jabeek | C70: 2.866282 | D70: 0.204547 | E70: =C70/$C$58 -> 0.0018903217 | F70: =D70/$D$58 -> 0.00061399391 | G70: =E70*Dichtheden!$V$70 -> 97.387258 | H70: =IF(C70=0,0,ROUND(IF((G70/2)/Dichtheden!$C$3<1,1,(G70/2)/Dichtheden!$C$3),0)) -> 1 | I70: =E70*Dichtheden!$AJ$70 -> 16.23121 | J70: =IF(C70=0,0,ROUND(IF((I70/2)/Dichtheden!$D$3<1,1,(I70/2)/Dichtheden!$D$3),0)) -> 1 | K70: =G70/2 -> 48.693629 | L70: =IF(H70=0,0,K70/H70) -> 48.693629 | M70: =IF(D70=0,0,IF((D70*Dichtheden!$G$4)<25,25,D70*Dichtheden!$G$4)) -> 46.023075 | N70: =D70*Dichtheden!$H$4 -> 7.159145 | Q70: =E70*Dichtheden!$AS$68 -> 71.823103 | R70: =IF(Q70=0,0,ROUND(IF((Q70/2)/Dichtheden!$C$3<1,1,(Q70/2)/Dichtheden!$C$3),0)) -> 1 | S70: =E70*Dichtheden!$AY$68 -> 3.9766464 | T70: =IF(Q70=0,0,ROUND(IF((S70/2)/Dichtheden!$D$3<1,1,(S70/2)/Dichtheden!$D$3),0)) -> 1 | U70: =D70*Dichtheden!$G$5 -> 44.591246 | V70: =D70*Dichtheden!$H$5 -> 3.068205 | AA70: =IF($A70=AA$60,$C70,0) -> 0 | AB70: =IF($A70=AB$60,$C70,0) -> 2.866282 | AC70: =IF($A70=AC$60,$C70,0) -> 0 | AD70: =IF($A70=AD$60,$C70,0) -> 0 | AE70: =IF($A70=AE$60,$C70,0) -> 0 | AF70: =IF($A70=AF$60,$C70,0) -> 0 | AG70: =IF($A70=AG$60,$C70,0) -> 0 | AH70: =IF($A70=AH$60,$C70,0) -> 0 | ... CD70: =IF($A70=CD$60,$C70,0) -> 0 | CF70: =IF($A70=CF$60,$D70,0) -> 0 | CG70: =IF($A70=CG$60,$D70,0) -> 0.204547 | CH70: =IF($A70=CH$60,$D70,0) -> 0 | CI70: =IF($A70=CI$60,$D70,0) -> 0 | CJ70: =IF($A70=CJ$60,$D70,0) -> 0 | CK70: =IF($A70=CK$60,$D70,0) -> 0 | CL70: =IF($A70=CL$60,$D70,0) -> 0 | CM70: =IF($A70=CM$60,$D70,0) -> 0 | ... EI70: =IF($A70=EI$60,$D70,0) -> 0 | EK70: =IF($A70=EK$60,$H70,0) -> 0 | EL70: =IF($A70=EL$60,$H70,0) -> 1 | EM70: =IF($A70=EM$60,$H70,0) -> 0 | EN70: =IF($A70=EN$60,$H70,0) -> 0 | EO70: =IF($A70=EO$60,$H70,0) -> 0 | EP70: =IF($A70=EP$60,$H70,0) -> 0 | EQ70: =IF($A70=EQ$60,$H70,0) -> 0 | ER70: =IF($A70=ER$60,$H70,0) -> 0 | ... GN70: =IF($A70=GN$60,$H70,0) -> 0 | GP70: =IF($A70=GP$60,$J70,0) -> 0 | GQ70: =IF($A70=GQ$60,$J70,0) -> 1 | GR70: =IF($A70=GR$60,$J70,0) -> 0 | GS70: =IF($A70=GS$60,$J70,0) -> 0 | GT70: =IF($A70=GT$60,$J70,0) -> 0 | GU70: =IF($A70=GU$60,$J70,0) -> 0 | GV70: =IF($A70=GV$60,$J70,0) -> 0 | GW70: =IF($A70=GW$60,$J70,0) -> 0 | ... IS70: =IF($A70=IS$60,$J70,0) -> 0 | IU70: =IF($A70=IU$60,$M70,0) -> 0 | IV70: =IF($A70=IV$60,$M70,0) -> 46.023075 | IW70: =IF($A70=IW$60,$M70,0) -> 0 | IX70: =IF($A70=IX$60,$M70,0) -> 0 | IY70: =IF($A70=IY$60,$M70,0) -> 0 | IZ70: =IF($A70=IZ$60,$M70,0) -> 0 | JA70: =IF($A70=JA$60,$M70,0) -> 0 | JB70: =IF($A70=JB$60,$M70,0) -> 0 | ... KX70: =IF($A70=KX$60,$M70,0) -> 0 | KZ70: =IF($A70=KZ$60,$N70,0) -> 0 | LA70: =IF($A70=LA$60,$N70,0) -> 7.159145 | LB70: =IF($A70=LB$60,$N70,0) -> 0 | LC70: =IF($A70=LC$60,$N70,0) -> 0 | LD70: =IF($A70=LD$60,$N70,0) -> 0 | LE70: =IF($A70=LE$60,$N70,0) -> 0 | LF70: =IF($A70=LF$60,$N70,0) -> 0 | LG70: =IF($A70=LG$60,$N70,0) -> 0 | ... NC70: =IF($A70=NC$60,$N70,0) -> 0
A71: Gemeente Beekdaelen | B71: Klein Haasdal | C71: 2.230754 | D71: 0.115088 | E71: =C71/$C$58 -> 0.0014711891 | F71: =D71/$D$58 -> 0.00034546256 | G71: =E71*Dichtheden!$V$70 -> 75.794013 | H71: =IF(C71=0,0,ROUND(IF((G71/2)/Dichtheden!$C$3<1,1,(G71/2)/Dichtheden!$C$3),0)) -> 1 | I71: =E71*Dichtheden!$AJ$70 -> 12.632336 | J71: =IF(C71=0,0,ROUND(IF((I71/2)/Dichtheden!$D$3<1,1,(I71/2)/Dichtheden!$D$3),0)) -> 1 | K71: =G71/2 -> 37.897007 | L71: =IF(H71=0,0,K71/H71) -> 37.897007 | M71: =IF(D71=0,0,IF((D71*Dichtheden!$G$4)<25,25,D71*Dichtheden!$G$4)) -> 25.8948 | N71: =D71*Dichtheden!$H$4 -> 4.02808 | Q71: =E71*Dichtheden!$AS$68 -> 55.898085 | R71: =IF(Q71=0,0,ROUND(IF((Q71/2)/Dichtheden!$C$3<1,1,(Q71/2)/Dichtheden!$C$3),0)) -> 1 | S71: =E71*Dichtheden!$AY$68 -> 3.0949222 | T71: =IF(Q71=0,0,ROUND(IF((S71/2)/Dichtheden!$D$3<1,1,(S71/2)/Dichtheden!$D$3),0)) -> 1 | U71: =D71*Dichtheden!$G$5 -> 25.089184 | V71: =D71*Dichtheden!$H$5 -> 1.72632 | AA71: =IF($A71=AA$60,$C71,0) -> 0 | AB71: =IF($A71=AB$60,$C71,0) -> 2.230754 | AC71: =IF($A71=AC$60,$C71,0) -> 0 | AD71: =IF($A71=AD$60,$C71,0) -> 0 | AE71: =IF($A71=AE$60,$C71,0) -> 0 | AF71: =IF($A71=AF$60,$C71,0) -> 0 | AG71: =IF($A71=AG$60,$C71,0) -> 0 | AH71: =IF($A71=AH$60,$C71,0) -> 0 | ... CD71: =IF($A71=CD$60,$C71,0) -> 0 | CF71: =IF($A71=CF$60,$D71,0) -> 0 | CG71: =IF($A71=CG$60,$D71,0) -> 0.115088 | CH71: =IF($A71=CH$60,$D71,0) -> 0 | CI71: =IF($A71=CI$60,$D71,0) -> 0 | CJ71: =IF($A71=CJ$60,$D71,0) -> 0 | CK71: =IF($A71=CK$60,$D71,0) -> 0 | CL71: =IF($A71=CL$60,$D71,0) -> 0 | CM71: =IF($A71=CM$60,$D71,0) -> 0 | ... EI71: =IF($A71=EI$60,$D71,0) -> 0 | EK71: =IF($A71=EK$60,$H71,0) -> 0 | EL71: =IF($A71=EL$60,$H71,0) -> 1 | EM71: =IF($A71=EM$60,$H71,0) -> 0 | EN71: =IF($A71=EN$60,$H71,0) -> 0 | EO71: =IF($A71=EO$60,$H71,0) -> 0 | EP71: =IF($A71=EP$60,$H71,0) -> 0 | EQ71: =IF($A71=EQ$60,$H71,0) -> 0 | ER71: =IF($A71=ER$60,$H71,0) -> 0 | ... GN71: =IF($A71=GN$60,$H71,0) -> 0 | GP71: =IF($A71=GP$60,$J71,0) -> 0 | GQ71: =IF($A71=GQ$60,$J71,0) -> 1 | GR71: =IF($A71=GR$60,$J71,0) -> 0 | GS71: =IF($A71=GS$60,$J71,0) -> 0 | GT71: =IF($A71=GT$60,$J71,0) -> 0 | GU71: =IF($A71=GU$60,$J71,0) -> 0 | GV71: =IF($A71=GV$60,$J71,0) -> 0 | GW71: =IF($A71=GW$60,$J71,0) -> 0 | ... IS71: =IF($A71=IS$60,$J71,0) -> 0 | IU71: =IF($A71=IU$60,$M71,0) -> 0 | IV71: =IF($A71=IV$60,$M71,0) -> 25.8948 | IW71: =IF($A71=IW$60,$M71,0) -> 0 | IX71: =IF($A71=IX$60,$M71,0) -> 0 | IY71: =IF($A71=IY$60,$M71,0) -> 0 | IZ71: =IF($A71=IZ$60,$M71,0) -> 0 | JA71: =IF($A71=JA$60,$M71,0) -> 0 | JB71: =IF($A71=JB$60,$M71,0) -> 0 | ... KX71: =IF($A71=KX$60,$M71,0) -> 0 | KZ71: =IF($A71=KZ$60,$N71,0) -> 0 | LA71: =IF($A71=LA$60,$N71,0) -> 4.02808 | LB71: =IF($A71=LB$60,$N71,0) -> 0 | LC71: =IF($A71=LC$60,$N71,0) -> 0 | LD71: =IF($A71=LD$60,$N71,0) -> 0 | LE71: =IF($A71=LE$60,$N71,0) -> 0 | LF71: =IF($A71=LF$60,$N71,0) -> 0 | LG71: =IF($A71=LG$60,$N71,0) -> 0 | ... NC71: =IF($A71=NC$60,$N71,0) -> 0
A72: Gemeente Beekdaelen | B72: Merkelbeek | C72: 5.629563 | D72: 0.3925 | E72: =C72/$C$58 -> 0.003712714 | F72: =D72/$D$58 -> 0.0011781772 | G72: =E72*Dichtheden!$V$70 -> 191.27487 | H72: =IF(C72=0,0,ROUND(IF((G72/2)/Dichtheden!$C$3<1,1,(G72/2)/Dichtheden!$C$3),0)) -> 1 | I72: =E72*Dichtheden!$AJ$70 -> 31.879144 | J72: =IF(C72=0,0,ROUND(IF((I72/2)/Dichtheden!$D$3<1,1,(I72/2)/Dichtheden!$D$3),0)) -> 1 | K72: =G72/2 -> 95.637433 | L72: =IF(H72=0,0,K72/H72) -> 95.637433 | M72: =IF(D72=0,0,IF((D72*Dichtheden!$G$4)<25,25,D72*Dichtheden!$G$4)) -> 88.3125 | N72: =D72*Dichtheden!$H$4 -> 13.7375 | Q72: =E72*Dichtheden!$AS$68 -> 141.06521 | R72: =IF(Q72=0,0,ROUND(IF((Q72/2)/Dichtheden!$C$3<1,1,(Q72/2)/Dichtheden!$C$3),0)) -> 1 | S72: =E72*Dichtheden!$AY$68 -> 7.8103904 | T72: =IF(Q72=0,0,ROUND(IF((S72/2)/Dichtheden!$D$3<1,1,(S72/2)/Dichtheden!$D$3),0)) -> 1 | U72: =D72*Dichtheden!$G$5 -> 85.565 | V72: =D72*Dichtheden!$H$5 -> 5.8875 | AA72: =IF($A72=AA$60,$C72,0) -> 0 | AB72: =IF($A72=AB$60,$C72,0) -> 5.629563 | AC72: =IF($A72=AC$60,$C72,0) -> 0 | AD72: =IF($A72=AD$60,$C72,0) -> 0 | AE72: =IF($A72=AE$60,$C72,0) -> 0 | AF72: =IF($A72=AF$60,$C72,0) -> 0 | AG72: =IF($A72=AG$60,$C72,0) -> 0 | AH72: =IF($A72=AH$60,$C72,0) -> 0 | ... CD72: =IF($A72=CD$60,$C72,0) -> 0 | CF72: =IF($A72=CF$60,$D72,0) -> 0 | CG72: =IF($A72=CG$60,$D72,0) -> 0.3925 | CH72: =IF($A72=CH$60,$D72,0) -> 0 | CI72: =IF($A72=CI$60,$D72,0) -> 0 | CJ72: =IF($A72=CJ$60,$D72,0) -> 0 | CK72: =IF($A72=CK$60,$D72,0) -> 0 | CL72: =IF($A72=CL$60,$D72,0) -> 0 | CM72: =IF($A72=CM$60,$D72,0) -> 0 | ... EI72: =IF($A72=EI$60,$D72,0) -> 0 | EK72: =IF($A72=EK$60,$H72,0) -> 0 | EL72: =IF($A72=EL$60,$H72,0) -> 1 | EM72: =IF($A72=EM$60,$H72,0) -> 0 | EN72: =IF($A72=EN$60,$H72,0) -> 0 | EO72: =IF($A72=EO$60,$H72,0) -> 0 | EP72: =IF($A72=EP$60,$H72,0) -> 0 | EQ72: =IF($A72=EQ$60,$H72,0) -> 0 | ER72: =IF($A72=ER$60,$H72,0) -> 0 | ... GN72: =IF($A72=GN$60,$H72,0) -> 0 | GP72: =IF($A72=GP$60,$J72,0) -> 0 | GQ72: =IF($A72=GQ$60,$J72,0) -> 1 | GR72: =IF($A72=GR$60,$J72,0) -> 0 | GS72: =IF($A72=GS$60,$J72,0) -> 0 | GT72: =IF($A72=GT$60,$J72,0) -> 0 | GU72: =IF($A72=GU$60,$J72,0) -> 0 | GV72: =IF($A72=GV$60,$J72,0) -> 0 | GW72: =IF($A72=GW$60,$J72,0) -> 0 | ... IS72: =IF($A72=IS$60,$J72,0) -> 0 | IU72: =IF($A72=IU$60,$M72,0) -> 0 | IV72: =IF($A72=IV$60,$M72,0) -> 88.3125 | IW72: =IF($A72=IW$60,$M72,0) -> 0 | IX72: =IF($A72=IX$60,$M72,0) -> 0 | IY72: =IF($A72=IY$60,$M72,0) -> 0 | IZ72: =IF($A72=IZ$60,$M72,0) -> 0 | JA72: =IF($A72=JA$60,$M72,0) -> 0 | JB72: =IF($A72=JB$60,$M72,0) -> 0 | ... KX72: =IF($A72=KX$60,$M72,0) -> 0 | KZ72: =IF($A72=KZ$60,$N72,0) -> 0 | LA72: =IF($A72=LA$60,$N72,0) -> 13.7375 | LB72: =IF($A72=LB$60,$N72,0) -> 0 | LC72: =IF($A72=LC$60,$N72,0) -> 0 | LD72: =IF($A72=LD$60,$N72,0) -> 0 | LE72: =IF($A72=LE$60,$N72,0) -> 0 | LF72: =IF($A72=LF$60,$N72,0) -> 0 | LG72: =IF($A72=LG$60,$N72,0) -> 0 | ... NC72: =IF($A72=NC$60,$N72,0) -> 0
A73: Gemeente Beekdaelen | B73: Nuth | C73: 7.265047 | D73: 1.054711 | E73: =C73/$C$58 -> 0.0047913207 | F73: =D73/$D$58 -> 0.0031659527 | G73: =E73*Dichtheden!$V$70 -> 246.84347 | H73: =IF(C73=0,0,ROUND(IF((G73/2)/Dichtheden!$C$3<1,1,(G73/2)/Dichtheden!$C$3),0)) -> 1 | I73: =E73*Dichtheden!$AJ$70 -> 41.140579 | J73: =IF(C73=0,0,ROUND(IF((I73/2)/Dichtheden!$D$3<1,1,(I73/2)/Dichtheden!$D$3),0)) -> 1 | K73: =G73/2 -> 123.42174 | L73: =IF(H73=0,0,K73/H73) -> 123.42174 | M73: =IF(D73=0,0,IF((D73*Dichtheden!$G$4)<25,25,D73*Dichtheden!$G$4)) -> 237.30997 | N73: =D73*Dichtheden!$H$4 -> 36.914885 | Q73: =E73*Dichtheden!$AS$68 -> 182.04706 | R73: =IF(Q73=0,0,ROUND(IF((Q73/2)/Dichtheden!$C$3<1,1,(Q73/2)/Dichtheden!$C$3),0)) -> 1 | S73: =E73*Dichtheden!$AY$68 -> 10.079442 | T73: =IF(Q73=0,0,ROUND(IF((S73/2)/Dichtheden!$D$3<1,1,(S73/2)/Dichtheden!$D$3),0)) -> 1 | U73: =D73*Dichtheden!$G$5 -> 229.927 | V73: =D73*Dichtheden!$H$5 -> 15.820665 | AA73: =IF($A73=AA$60,$C73,0) -> 0 | AB73: =IF($A73=AB$60,$C73,0) -> 7.265047 | AC73: =IF($A73=AC$60,$C73,0) -> 0 | AD73: =IF($A73=AD$60,$C73,0) -> 0 | AE73: =IF($A73=AE$60,$C73,0) -> 0 | AF73: =IF($A73=AF$60,$C73,0) -> 0 | AG73: =IF($A73=AG$60,$C73,0) -> 0 | AH73: =IF($A73=AH$60,$C73,0) -> 0 | ... CD73: =IF($A73=CD$60,$C73,0) -> 0 | CF73: =IF($A73=CF$60,$D73,0) -> 0 | CG73: =IF($A73=CG$60,$D73,0) -> 1.054711 | CH73: =IF($A73=CH$60,$D73,0) -> 0 | CI73: =IF($A73=CI$60,$D73,0) -> 0 | CJ73: =IF($A73=CJ$60,$D73,0) -> 0 | CK73: =IF($A73=CK$60,$D73,0) -> 0 | CL73: =IF($A73=CL$60,$D73,0) -> 0 | CM73: =IF($A73=CM$60,$D73,0) -> 0 | ... EI73: =IF($A73=EI$60,$D73,0) -> 0 | EK73: =IF($A73=EK$60,$H73,0) -> 0 | EL73: =IF($A73=EL$60,$H73,0) -> 1 | EM73: =IF($A73=EM$60,$H73,0) -> 0 | EN73: =IF($A73=EN$60,$H73,0) -> 0 | EO73: =IF($A73=EO$60,$H73,0) -> 0 | EP73: =IF($A73=EP$60,$H73,0) -> 0 | EQ73: =IF($A73=EQ$60,$H73,0) -> 0 | ER73: =IF($A73=ER$60,$H73,0) -> 0 | ... GN73: =IF($A73=GN$60,$H73,0) -> 0 | GP73: =IF($A73=GP$60,$J73,0) -> 0 | GQ73: =IF($A73=GQ$60,$J73,0) -> 1 | GR73: =IF($A73=GR$60,$J73,0) -> 0 | GS73: =IF($A73=GS$60,$J73,0) -> 0 | GT73: =IF($A73=GT$60,$J73,0) -> 0 | GU73: =IF($A73=GU$60,$J73,0) -> 0 | GV73: =IF($A73=GV$60,$J73,0) -> 0 | GW73: =IF($A73=GW$60,$J73,0) -> 0 | ... IS73: =IF($A73=IS$60,$J73,0) -> 0 | IU73: =IF($A73=IU$60,$M73,0) -> 0 | IV73: =IF($A73=IV$60,$M73,0) -> 237.30997 | IW73: =IF($A73=IW$60,$M73,0) -> 0 | IX73: =IF($A73=IX$60,$M73,0) -> 0 | IY73: =IF($A73=IY$60,$M73,0) -> 0 | IZ73: =IF($A73=IZ$60,$M73,0) -> 0 | JA73: =IF($A73=JA$60,$M73,0) -> 0 | JB73: =IF($A73=JB$60,$M73,0) -> 0 | ... KX73: =IF($A73=KX$60,$M73,0) -> 0 | KZ73: =IF($A73=KZ$60,$N73,0) -> 0 | LA73: =IF($A73=LA$60,$N73,0) -> 36.914885 | LB73: =IF($A73=LB$60,$N73,0) -> 0 | LC73: =IF($A73=LC$60,$N73,0) -> 0 | LD73: =IF($A73=LD$60,$N73,0) -> 0 | LE73: =IF($A73=LE$60,$N73,0) -> 0 | LF73: =IF($A73=LF$60,$N73,0) -> 0 | LG73: =IF($A73=LG$60,$N73,0) -> 0 | ... NC73: =IF($A73=NC$60,$N73,0) -> 0
... A277: Gemeente Weert | B277: Weert/Boshoven | C277: 31.005227 | D277: 14.235285 | E277: =C277/$C$58 -> 0.020448042 | F277: =D277/$D$58 -> 0.042730416 | G277: =E277*Dichtheden!$V$70 -> 1053.4602 | H277: =IF(C277=0,0,ROUND(IF((G277/2)/Dichtheden!$C$3<1,1,(G277/2)/Dichtheden!$C$3),0)) -> 5 | I277: =E277*Dichtheden!$AJ$70 -> 175.5767 | J277: =IF(C277=0,0,ROUND(IF((I277/2)/Dichtheden!$D$3<1,1,(I277/2)/Dichtheden!$D$3),0)) -> 4 | K277: =G277/2 -> 526.73011 | L277: =IF(H277=0,0,K277/H277) -> 105.34602 | M277: =IF(D277=0,0,IF((D277*Dichtheden!$G$4)<25,25,D277*Dichtheden!$G$4)) -> 3202.9391 | N277: =D277*Dichtheden!$H$4 -> 498.23497 | Q277: =E277*Dichtheden!$AS$68 -> 776.92691 | R277: =IF(Q277=0,0,ROUND(IF((Q277/2)/Dichtheden!$C$3<1,1,(Q277/2)/Dichtheden!$C$3),0)) -> 4 | S277: =E277*Dichtheden!$AY$68 -> 43.016292 | T277: =IF(Q277=0,0,ROUND(IF((S277/2)/Dichtheden!$D$3<1,1,(S277/2)/Dichtheden!$D$3),0)) -> 1 | U277: =D277*Dichtheden!$G$5 -> 3103.2921 | V277: =D277*Dichtheden!$H$5 -> 213.52927 | AA277: =IF($A277=AA$60,$C277,0) -> 0 | AB277: =IF($A277=AB$60,$C277,0) -> 0 | AC277: =IF($A277=AC$60,$C277,0) -> 0 | AD277: =IF($A277=AD$60,$C277,0) -> 0 | AE277: =IF($A277=AE$60,$C277,0) -> 0 | AF277: =IF($A277=AF$60,$C277,0) -> 0 | AG277: =IF($A277=AG$60,$C277,0) -> 0 | AH277: =IF($A277=AH$60,$C277,0) -> 0 | ... CD277: =IF($A277=CD$60,$C277,0) -> 0 | CF277: =IF($A277=CF$60,$D277,0) -> 0 | CG277: =IF($A277=CG$60,$D277,0) -> 0 | CH277: =IF($A277=CH$60,$D277,0) -> 0 | CI277: =IF($A277=CI$60,$D277,0) -> 0 | CJ277: =IF($A277=CJ$60,$D277,0) -> 0 | CK277: =IF($A277=CK$60,$D277,0) -> 0 | CL277: =IF($A277=CL$60,$D277,0) -> 0 | CM277: =IF($A277=CM$60,$D277,0) -> 0 | ... EI277: =IF($A277=EI$60,$D277,0) -> 0 | EK277: =IF($A277=EK$60,$H277,0) -> 0 | EL277: =IF($A277=EL$60,$H277,0) -> 0 | EM277: =IF($A277=EM$60,$H277,0) -> 0 | EN277: =IF($A277=EN$60,$H277,0) -> 0 | EO277: =IF($A277=EO$60,$H277,0) -> 0 | EP277: =IF($A277=EP$60,$H277,0) -> 0 | EQ277: =IF($A277=EQ$60,$H277,0) -> 0 | ER277: =IF($A277=ER$60,$H277,0) -> 0 | ... GN277: =IF($A277=GN$60,$H277,0) -> 0 | GP277: =IF($A277=GP$60,$J277,0) -> 0 | GQ277: =IF($A277=GQ$60,$J277,0) -> 0 | GR277: =IF($A277=GR$60,$J277,0) -> 0 | GS277: =IF($A277=GS$60,$J277,0) -> 0 | GT277: =IF($A277=GT$60,$J277,0) -> 0 | GU277: =IF($A277=GU$60,$J277,0) -> 0 | GV277: =IF($A277=GV$60,$J277,0) -> 0 | GW277: =IF($A277=GW$60,$J277,0) -> 0 | ... IS277: =IF($A277=IS$60,$J277,0) -> 0 | IU277: =IF($A277=IU$60,$M277,0) -> 0 | IV277: =IF($A277=IV$60,$M277,0) -> 0 | IW277: =IF($A277=IW$60,$M277,0) -> 0 | IX277: =IF($A277=IX$60,$M277,0) -> 0 | IY277: =IF($A277=IY$60,$M277,0) -> 0 | IZ277: =IF($A277=IZ$60,$M277,0) -> 0 | JA277: =IF($A277=JA$60,$M277,0) -> 0 | JB277: =IF($A277=JB$60,$M277,0) -> 0 | ... KX277: =IF($A277=KX$60,$M277,0) -> 0 | KZ277: =IF($A277=KZ$60,$N277,0) -> 0 | LA277: =IF($A277=LA$60,$N277,0) -> 0 | LB277: =IF($A277=LB$60,$N277,0) -> 0 | LC277: =IF($A277=LC$60,$N277,0) -> 0 | LD277: =IF($A277=LD$60,$N277,0) -> 0 | LE277: =IF($A277=LE$60,$N277,0) -> 0 | LF277: =IF($A277=LF$60,$N277,0) -> 0 | LG277: =IF($A277=LG$60,$N277,0) -> 0 | ... NC277: =IF($A277=NC$60,$N277,0) -> 0
E278: =C278/$C$58 -> 0 | F278: =D278/$D$58 -> 0 | G278: =E278*Dichtheden!$V$70 -> 0 | H278: =IF(C278=0,0,ROUND(IF((G278/2)/Dichtheden!$C$3<1,1,(G278/2)/Dichtheden!$C$3),0)) -> 0 | I278: =E278*Dichtheden!$AJ$70 -> 0 | J278: =IF(C278=0,0,ROUND(IF((I278/2)/Dichtheden!$D$3<1,1,(I278/2)/Dichtheden!$D$3),0)) -> 0 | K278: =G278/2 -> 0 | L278: =IF(H278=0,0,K278/H278) -> 0 | M278: =IF(D278=0,0,IF((D278*Dichtheden!$G$4)<25,25,D278*Dichtheden!$G$4)) -> 0 | N278: =D278*Dichtheden!$H$4 -> 0 | Q278: =E278*Dichtheden!$AS$68 -> 0 | R278: =IF(Q278=0,0,ROUND(IF((Q278/2)/Dichtheden!$C$3<1,1,(Q278/2)/Dichtheden!$C$3),0)) -> 0 | S278: =E278*Dichtheden!$AY$68 -> 0 | T278: =IF(Q278=0,0,ROUND(IF((S278/2)/Dichtheden!$D$3<1,1,(S278/2)/Dichtheden!$D$3),0)) -> 0 | U278: =D278*Dichtheden!$G$5 -> 0 | V278: =D278*Dichtheden!$H$5 -> 0 | AA278: =IF($A278=AA$60,$C278,0) -> 0 | AB278: =IF($A278=AB$60,$C278,0) -> 0 | AC278: =IF($A278=AC$60,$C278,0) -> 0 | AD278: =IF($A278=AD$60,$C278,0) -> 0 | AE278: =IF($A278=AE$60,$C278,0) -> 0 | AF278: =IF($A278=AF$60,$C278,0) -> 0 | AG278: =IF($A278=AG$60,$C278,0) -> 0 | AH278: =IF($A278=AH$60,$C278,0) -> 0 | ... CD278: =IF($A278=CD$60,$C278,0) -> 0 | CF278: =IF($A278=CF$60,$D278,0) -> 0 | CG278: =IF($A278=CG$60,$D278,0) -> 0 | CH278: =IF($A278=CH$60,$D278,0) -> 0 | CI278: =IF($A278=CI$60,$D278,0) -> 0 | CJ278: =IF($A278=CJ$60,$D278,0) -> 0 | CK278: =IF($A278=CK$60,$D278,0) -> 0 | CL278: =IF($A278=CL$60,$D278,0) -> 0 | CM278: =IF($A278=CM$60,$D278,0) -> 0 | ... EI278: =IF($A278=EI$60,$D278,0) -> 0 | EK278: =IF($A278=EK$60,$H278,0) -> 0 | EL278: =IF($A278=EL$60,$H278,0) -> 0 | EM278: =IF($A278=EM$60,$H278,0) -> 0 | EN278: =IF($A278=EN$60,$H278,0) -> 0 | EO278: =IF($A278=EO$60,$H278,0) -> 0 | EP278: =IF($A278=EP$60,$H278,0) -> 0 | EQ278: =IF($A278=EQ$60,$H278,0) -> 0 | ER278: =IF($A278=ER$60,$H278,0) -> 0 | ... GN278: =IF($A278=GN$60,$H278,0) -> 0 | GP278: =IF($A278=GP$60,$J278,0) -> 0 | GQ278: =IF($A278=GQ$60,$J278,0) -> 0 | GR278: =IF($A278=GR$60,$J278,0) -> 0 | GS278: =IF($A278=GS$60,$J278,0) -> 0 | GT278: =IF($A278=GT$60,$J278,0) -> 0 | GU278: =IF($A278=GU$60,$J278,0) -> 0 | GV278: =IF($A278=GV$60,$J278,0) -> 0 | GW278: =IF($A278=GW$60,$J278,0) -> 0 | ... IS278: =IF($A278=IS$60,$J278,0) -> 0 | IU278: =IF($A278=IU$60,$M278,0) -> 0 | IV278: =IF($A278=IV$60,$M278,0) -> 0 | IW278: =IF($A278=IW$60,$M278,0) -> 0 | IX278: =IF($A278=IX$60,$M278,0) -> 0 | IY278: =IF($A278=IY$60,$M278,0) -> 0 | IZ278: =IF($A278=IZ$60,$M278,0) -> 0 | JA278: =IF($A278=JA$60,$M278,0) -> 0 | JB278: =IF($A278=JB$60,$M278,0) -> 0 | ... KX278: =IF($A278=KX$60,$M278,0) -> 0 | KZ278: =IF($A278=KZ$60,$N278,0) -> 0 | LA278: =IF($A278=LA$60,$N278,0) -> 0 | LB278: =IF($A278=LB$60,$N278,0) -> 0 | LC278: =IF($A278=LC$60,$N278,0) -> 0 | LD278: =IF($A278=LD$60,$N278,0) -> 0 | LE278: =IF($A278=LE$60,$N278,0) -> 0 | LF278: =IF($A278=LF$60,$N278,0) -> 0 | LG278: =IF($A278=LG$60,$N278,0) -> 0 | ... NC278: =IF($A278=NC$60,$N278,0) -> 0
E279: =C279/$C$58 -> 0 | F279: =D279/$D$58 -> 0 | G279: =E279*Dichtheden!$V$70 -> 0 | H279: =IF(C279=0,0,ROUND(IF((G279/2)/Dichtheden!$C$3<1,1,(G279/2)/Dichtheden!$C$3),0)) -> 0 | I279: =E279*Dichtheden!$AJ$70 -> 0 | J279: =IF(C279=0,0,ROUND(IF((I279/2)/Dichtheden!$D$3<1,1,(I279/2)/Dichtheden!$D$3),0)) -> 0 | K279: =G279/2 -> 0 | L279: =IF(H279=0,0,K279/H279) -> 0 | M279: =IF(D279=0,0,IF((D279*Dichtheden!$G$4)<25,25,D279*Dichtheden!$G$4)) -> 0 | N279: =D279*Dichtheden!$H$4 -> 0 | Q279: =E279*Dichtheden!$AS$68 -> 0 | R279: =IF(Q279=0,0,ROUND(IF((Q279/2)/Dichtheden!$C$3<1,1,(Q279/2)/Dichtheden!$C$3),0)) -> 0 | S279: =E279*Dichtheden!$AY$68 -> 0 | T279: =IF(Q279=0,0,ROUND(IF((S279/2)/Dichtheden!$D$3<1,1,(S279/2)/Dichtheden!$D$3),0)) -> 0 | U279: =D279*Dichtheden!$G$5 -> 0 | V279: =D279*Dichtheden!$H$5 -> 0 | AA279: =IF($A279=AA$60,$C279,0) -> 0 | AB279: =IF($A279=AB$60,$C279,0) -> 0 | AC279: =IF($A279=AC$60,$C279,0) -> 0 | AD279: =IF($A279=AD$60,$C279,0) -> 0 | AE279: =IF($A279=AE$60,$C279,0) -> 0 | AF279: =IF($A279=AF$60,$C279,0) -> 0 | AG279: =IF($A279=AG$60,$C279,0) -> 0 | AH279: =IF($A279=AH$60,$C279,0) -> 0 | ... CD279: =IF($A279=CD$60,$C279,0) -> 0 | CF279: =IF($A279=CF$60,$D279,0) -> 0 | CG279: =IF($A279=CG$60,$D279,0) -> 0 | CH279: =IF($A279=CH$60,$D279,0) -> 0 | CI279: =IF($A279=CI$60,$D279,0) -> 0 | CJ279: =IF($A279=CJ$60,$D279,0) -> 0 | CK279: =IF($A279=CK$60,$D279,0) -> 0 | CL279: =IF($A279=CL$60,$D279,0) -> 0 | CM279: =IF($A279=CM$60,$D279,0) -> 0 | ... EI279: =IF($A279=EI$60,$D279,0) -> 0 | EK279: =IF($A279=EK$60,$H279,0) -> 0 | EL279: =IF($A279=EL$60,$H279,0) -> 0 | EM279: =IF($A279=EM$60,$H279,0) -> 0 | EN279: =IF($A279=EN$60,$H279,0) -> 0 | EO279: =IF($A279=EO$60,$H279,0) -> 0 | EP279: =IF($A279=EP$60,$H279,0) -> 0 | EQ279: =IF($A279=EQ$60,$H279,0) -> 0 | ER279: =IF($A279=ER$60,$H279,0) -> 0 | ... GN279: =IF($A279=GN$60,$H279,0) -> 0 | GP279: =IF($A279=GP$60,$J279,0) -> 0 | GQ279: =IF($A279=GQ$60,$J279,0) -> 0 | GR279: =IF($A279=GR$60,$J279,0) -> 0 | GS279: =IF($A279=GS$60,$J279,0) -> 0 | GT279: =IF($A279=GT$60,$J279,0) -> 0 | GU279: =IF($A279=GU$60,$J279,0) -> 0 | GV279: =IF($A279=GV$60,$J279,0) -> 0 | GW279: =IF($A279=GW$60,$J279,0) -> 0 | ... IS279: =IF($A279=IS$60,$J279,0) -> 0 | IU279: =IF($A279=IU$60,$M279,0) -> 0 | IV279: =IF($A279=IV$60,$M279,0) -> 0 | IW279: =IF($A279=IW$60,$M279,0) -> 0 | IX279: =IF($A279=IX$60,$M279,0) -> 0 | IY279: =IF($A279=IY$60,$M279,0) -> 0 | IZ279: =IF($A279=IZ$60,$M279,0) -> 0 | JA279: =IF($A279=JA$60,$M279,0) -> 0 | JB279: =IF($A279=JB$60,$M279,0) -> 0 | ... KX279: =IF($A279=KX$60,$M279,0) -> 0 | KZ279: =IF($A279=KZ$60,$N279,0) -> 0 | LA279: =IF($A279=LA$60,$N279,0) -> 0 | LB279: =IF($A279=LB$60,$N279,0) -> 0 | LC279: =IF($A279=LC$60,$N279,0) -> 0 | LD279: =IF($A279=LD$60,$N279,0) -> 0 | LE279: =IF($A279=LE$60,$N279,0) -> 0 | LF279: =IF($A279=LF$60,$N279,0) -> 0 | LG279: =IF($A279=LG$60,$N279,0) -> 0 | ... NC279: =IF($A279=NC$60,$N279,0) -> 0
E280: =C280/$C$58 -> 0 | F280: =D280/$D$58 -> 0 | G280: =E280*Dichtheden!$V$70 -> 0 | H280: =IF(C280=0,0,ROUND(IF((G280/2)/Dichtheden!$C$3<1,1,(G280/2)/Dichtheden!$C$3),0)) -> 0 | I280: =E280*Dichtheden!$AJ$70 -> 0 | J280: =IF(C280=0,0,ROUND(IF((I280/2)/Dichtheden!$D$3<1,1,(I280/2)/Dichtheden!$D$3),0)) -> 0 | K280: =G280/2 -> 0 | L280: =IF(H280=0,0,K280/H280) -> 0 | M280: =IF(D280=0,0,IF((D280*Dichtheden!$G$4)<25,25,D280*Dichtheden!$G$4)) -> 0 | N280: =D280*Dichtheden!$H$4 -> 0 | Q280: =E280*Dichtheden!$AS$68 -> 0 | R280: =IF(Q280=0,0,ROUND(IF((Q280/2)/Dichtheden!$C$3<1,1,(Q280/2)/Dichtheden!$C$3),0)) -> 0 | S280: =E280*Dichtheden!$AY$68 -> 0 | T280: =IF(Q280=0,0,ROUND(IF((S280/2)/Dichtheden!$D$3<1,1,(S280/2)/Dichtheden!$D$3),0)) -> 0 | U280: =D280*Dichtheden!$G$5 -> 0 | V280: =D280*Dichtheden!$H$5 -> 0 | AA280: =IF($A280=AA$60,$C280,0) -> 0 | AB280: =IF($A280=AB$60,$C280,0) -> 0 | AC280: =IF($A280=AC$60,$C280,0) -> 0 | AD280: =IF($A280=AD$60,$C280,0) -> 0 | AE280: =IF($A280=AE$60,$C280,0) -> 0 | AF280: =IF($A280=AF$60,$C280,0) -> 0 | AG280: =IF($A280=AG$60,$C280,0) -> 0 | AH280: =IF($A280=AH$60,$C280,0) -> 0 | ... CD280: =IF($A280=CD$60,$C280,0) -> 0 | CF280: =IF($A280=CF$60,$D280,0) -> 0 | CG280: =IF($A280=CG$60,$D280,0) -> 0 | CH280: =IF($A280=CH$60,$D280,0) -> 0 | CI280: =IF($A280=CI$60,$D280,0) -> 0 | CJ280: =IF($A280=CJ$60,$D280,0) -> 0 | CK280: =IF($A280=CK$60,$D280,0) -> 0 | CL280: =IF($A280=CL$60,$D280,0) -> 0 | CM280: =IF($A280=CM$60,$D280,0) -> 0 | ... EI280: =IF($A280=EI$60,$D280,0) -> 0 | EK280: =IF($A280=EK$60,$H280,0) -> 0 | EL280: =IF($A280=EL$60,$H280,0) -> 0 | EM280: =IF($A280=EM$60,$H280,0) -> 0 | EN280: =IF($A280=EN$60,$H280,0) -> 0 | EO280: =IF($A280=EO$60,$H280,0) -> 0 | EP280: =IF($A280=EP$60,$H280,0) -> 0 | EQ280: =IF($A280=EQ$60,$H280,0) -> 0 | ER280: =IF($A280=ER$60,$H280,0) -> 0 | ... GN280: =IF($A280=GN$60,$H280,0) -> 0 | GP280: =IF($A280=GP$60,$J280,0) -> 0 | GQ280: =IF($A280=GQ$60,$J280,0) -> 0 | GR280: =IF($A280=GR$60,$J280,0) -> 0 | GS280: =IF($A280=GS$60,$J280,0) -> 0 | GT280: =IF($A280=GT$60,$J280,0) -> 0 | GU280: =IF($A280=GU$60,$J280,0) -> 0 | GV280: =IF($A280=GV$60,$J280,0) -> 0 | GW280: =IF($A280=GW$60,$J280,0) -> 0 | ... IS280: =IF($A280=IS$60,$J280,0) -> 0 | IU280: =IF($A280=IU$60,$M280,0) -> 0 | IV280: =IF($A280=IV$60,$M280,0) -> 0 | IW280: =IF($A280=IW$60,$M280,0) -> 0 | IX280: =IF($A280=IX$60,$M280,0) -> 0 | IY280: =IF($A280=IY$60,$M280,0) -> 0 | IZ280: =IF($A280=IZ$60,$M280,0) -> 0 | JA280: =IF($A280=JA$60,$M280,0) -> 0 | JB280: =IF($A280=JB$60,$M280,0) -> 0 | ... KX280: =IF($A280=KX$60,$M280,0) -> 0 | KZ280: =IF($A280=KZ$60,$N280,0) -> 0 | LA280: =IF($A280=LA$60,$N280,0) -> 0 | LB280: =IF($A280=LB$60,$N280,0) -> 0 | LC280: =IF($A280=LC$60,$N280,0) -> 0 | LD280: =IF($A280=LD$60,$N280,0) -> 0 | LE280: =IF($A280=LE$60,$N280,0) -> 0 | LF280: =IF($A280=LF$60,$N280,0) -> 0 | LG280: =IF($A280=LG$60,$N280,0) -> 0 | ... NC280: =IF($A280=NC$60,$N280,0) -> 0
E281: =C281/$C$58 -> 0 | F281: =D281/$D$58 -> 0 | G281: =E281*Dichtheden!$V$70 -> 0 | H281: =IF(C281=0,0,ROUND(IF((G281/2)/Dichtheden!$C$3<1,1,(G281/2)/Dichtheden!$C$3),0)) -> 0 | I281: =E281*Dichtheden!$AJ$70 -> 0 | J281: =IF(C281=0,0,ROUND(IF((I281/2)/Dichtheden!$D$3<1,1,(I281/2)/Dichtheden!$D$3),0)) -> 0 | K281: =G281/2 -> 0 | L281: =IF(H281=0,0,K281/H281) -> 0 | M281: =IF(D281=0,0,IF((D281*Dichtheden!$G$4)<25,25,D281*Dichtheden!$G$4)) -> 0 | N281: =D281*Dichtheden!$H$4 -> 0 | Q281: =E281*Dichtheden!$AS$68 -> 0 | R281: =IF(Q281=0,0,ROUND(IF((Q281/2)/Dichtheden!$C$3<1,1,(Q281/2)/Dichtheden!$C$3),0)) -> 0 | S281: =E281*Dichtheden!$AY$68 -> 0 | T281: =IF(Q281=0,0,ROUND(IF((S281/2)/Dichtheden!$D$3<1,1,(S281/2)/Dichtheden!$D$3),0)) -> 0 | U281: =D281*Dichtheden!$G$5 -> 0 | V281: =D281*Dichtheden!$H$5 -> 0 | AA281: =IF($A281=AA$60,$C281,0) -> 0 | AB281: =IF($A281=AB$60,$C281,0) -> 0 | AC281: =IF($A281=AC$60,$C281,0) -> 0 | AD281: =IF($A281=AD$60,$C281,0) -> 0 | AE281: =IF($A281=AE$60,$C281,0) -> 0 | AF281: =IF($A281=AF$60,$C281,0) -> 0 | AG281: =IF($A281=AG$60,$C281,0) -> 0 | AH281: =IF($A281=AH$60,$C281,0) -> 0 | ... CD281: =IF($A281=CD$60,$C281,0) -> 0 | CF281: =IF($A281=CF$60,$D281,0) -> 0 | CG281: =IF($A281=CG$60,$D281,0) -> 0 | CH281: =IF($A281=CH$60,$D281,0) -> 0 | CI281: =IF($A281=CI$60,$D281,0) -> 0 | CJ281: =IF($A281=CJ$60,$D281,0) -> 0 | CK281: =IF($A281=CK$60,$D281,0) -> 0 | CL281: =IF($A281=CL$60,$D281,0) -> 0 | CM281: =IF($A281=CM$60,$D281,0) -> 0 | ... EI281: =IF($A281=EI$60,$D281,0) -> 0 | EK281: =IF($A281=EK$60,$H281,0) -> 0 | EL281: =IF($A281=EL$60,$H281,0) -> 0 | EM281: =IF($A281=EM$60,$H281,0) -> 0 | EN281: =IF($A281=EN$60,$H281,0) -> 0 | EO281: =IF($A281=EO$60,$H281,0) -> 0 | EP281: =IF($A281=EP$60,$H281,0) -> 0 | EQ281: =IF($A281=EQ$60,$H281,0) -> 0 | ER281: =IF($A281=ER$60,$H281,0) -> 0 | ... GN281: =IF($A281=GN$60,$H281,0) -> 0 | GP281: =IF($A281=GP$60,$J281,0) -> 0 | GQ281: =IF($A281=GQ$60,$J281,0) -> 0 | GR281: =IF($A281=GR$60,$J281,0) -> 0 | GS281: =IF($A281=GS$60,$J281,0) -> 0 | GT281: =IF($A281=GT$60,$J281,0) -> 0 | GU281: =IF($A281=GU$60,$J281,0) -> 0 | GV281: =IF($A281=GV$60,$J281,0) -> 0 | GW281: =IF($A281=GW$60,$J281,0) -> 0 | ... IS281: =IF($A281=IS$60,$J281,0) -> 0 | IU281: =IF($A281=IU$60,$M281,0) -> 0 | IV281: =IF($A281=IV$60,$M281,0) -> 0 | IW281: =IF($A281=IW$60,$M281,0) -> 0 | IX281: =IF($A281=IX$60,$M281,0) -> 0 | IY281: =IF($A281=IY$60,$M281,0) -> 0 | IZ281: =IF($A281=IZ$60,$M281,0) -> 0 | JA281: =IF($A281=JA$60,$M281,0) -> 0 | JB281: =IF($A281=JB$60,$M281,0) -> 0 | ... KX281: =IF($A281=KX$60,$M281,0) -> 0 | KZ281: =IF($A281=KZ$60,$N281,0) -> 0 | LA281: =IF($A281=LA$60,$N281,0) -> 0 | LB281: =IF($A281=LB$60,$N281,0) -> 0 | LC281: =IF($A281=LC$60,$N281,0) -> 0 | LD281: =IF($A281=LD$60,$N281,0) -> 0 | LE281: =IF($A281=LE$60,$N281,0) -> 0 | LF281: =IF($A281=LF$60,$N281,0) -> 0 | LG281: =IF($A281=LG$60,$N281,0) -> 0 | ... NC281: =IF($A281=NC$60,$N281,0) -> 0
E282: =C282/$C$58 -> 0 | F282: =D282/$D$58 -> 0 | G282: =E282*Dichtheden!$V$70 -> 0 | H282: =IF(C282=0,0,ROUND(IF((G282/2)/Dichtheden!$C$3<1,1,(G282/2)/Dichtheden!$C$3),0)) -> 0 | I282: =E282*Dichtheden!$AJ$70 -> 0 | J282: =IF(C282=0,0,ROUND(IF((I282/2)/Dichtheden!$D$3<1,1,(I282/2)/Dichtheden!$D$3),0)) -> 0 | K282: =G282/2 -> 0 | L282: =IF(H282=0,0,K282/H282) -> 0 | M282: =IF(D282=0,0,IF((D282*Dichtheden!$G$4)<25,25,D282*Dichtheden!$G$4)) -> 0 | N282: =D282*Dichtheden!$H$4 -> 0 | Q282: =E282*Dichtheden!$AS$68 -> 0 | R282: =IF(Q282=0,0,ROUND(IF((Q282/2)/Dichtheden!$C$3<1,1,(Q282/2)/Dichtheden!$C$3),0)) -> 0 | S282: =E282*Dichtheden!$AY$68 -> 0 | T282: =IF(Q282=0,0,ROUND(IF((S282/2)/Dichtheden!$D$3<1,1,(S282/2)/Dichtheden!$D$3),0)) -> 0 | U282: =D282*Dichtheden!$G$5 -> 0 | V282: =D282*Dichtheden!$H$5 -> 0 | AA282: =IF($A282=AA$60,$C282,0) -> 0 | AB282: =IF($A282=AB$60,$C282,0) -> 0 | AC282: =IF($A282=AC$60,$C282,0) -> 0 | AD282: =IF($A282=AD$60,$C282,0) -> 0 | AE282: =IF($A282=AE$60,$C282,0) -> 0 | AF282: =IF($A282=AF$60,$C282,0) -> 0 | AG282: =IF($A282=AG$60,$C282,0) -> 0 | AH282: =IF($A282=AH$60,$C282,0) -> 0 | ... CD282: =IF($A282=CD$60,$C282,0) -> 0 | CF282: =IF($A282=CF$60,$D282,0) -> 0 | CG282: =IF($A282=CG$60,$D282,0) -> 0 | CH282: =IF($A282=CH$60,$D282,0) -> 0 | CI282: =IF($A282=CI$60,$D282,0) -> 0 | CJ282: =IF($A282=CJ$60,$D282,0) -> 0 | CK282: =IF($A282=CK$60,$D282,0) -> 0 | CL282: =IF($A282=CL$60,$D282,0) -> 0 | CM282: =IF($A282=CM$60,$D282,0) -> 0 | ... EI282: =IF($A282=EI$60,$D282,0) -> 0 | EK282: =IF($A282=EK$60,$H282,0) -> 0 | EL282: =IF($A282=EL$60,$H282,0) -> 0 | EM282: =IF($A282=EM$60,$H282,0) -> 0 | EN282: =IF($A282=EN$60,$H282,0) -> 0 | EO282: =IF($A282=EO$60,$H282,0) -> 0 | EP282: =IF($A282=EP$60,$H282,0) -> 0 | EQ282: =IF($A282=EQ$60,$H282,0) -> 0 | ER282: =IF($A282=ER$60,$H282,0) -> 0 | ... GN282: =IF($A282=GN$60,$H282,0) -> 0 | GP282: =IF($A282=GP$60,$J282,0) -> 0 | GQ282: =IF($A282=GQ$60,$J282,0) -> 0 | GR282: =IF($A282=GR$60,$J282,0) -> 0 | GS282: =IF($A282=GS$60,$J282,0) -> 0 | GT282: =IF($A282=GT$60,$J282,0) -> 0 | GU282: =IF($A282=GU$60,$J282,0) -> 0 | GV282: =IF($A282=GV$60,$J282,0) -> 0 | GW282: =IF($A282=GW$60,$J282,0) -> 0 | ... IS282: =IF($A282=IS$60,$J282,0) -> 0 | IU282: =IF($A282=IU$60,$M282,0) -> 0 | IV282: =IF($A282=IV$60,$M282,0) -> 0 | IW282: =IF($A282=IW$60,$M282,0) -> 0 | IX282: =IF($A282=IX$60,$M282,0) -> 0 | IY282: =IF($A282=IY$60,$M282,0) -> 0 | IZ282: =IF($A282=IZ$60,$M282,0) -> 0 | JA282: =IF($A282=JA$60,$M282,0) -> 0 | JB282: =IF($A282=JB$60,$M282,0) -> 0 | ... KX282: =IF($A282=KX$60,$M282,0) -> 0 | KZ282: =IF($A282=KZ$60,$N282,0) -> 0 | LA282: =IF($A282=LA$60,$N282,0) -> 0 | LB282: =IF($A282=LB$60,$N282,0) -> 0 | LC282: =IF($A282=LC$60,$N282,0) -> 0 | LD282: =IF($A282=LD$60,$N282,0) -> 0 | LE282: =IF($A282=LE$60,$N282,0) -> 0 | LF282: =IF($A282=LF$60,$N282,0) -> 0 | LG282: =IF($A282=LG$60,$N282,0) -> 0 | ... NC282: =IF($A282=NC$60,$N282,0) -> 0
E283: =C283/$C$58 -> 0 | F283: =D283/$D$58 -> 0 | G283: =E283*Dichtheden!$V$70 -> 0 | H283: =IF(C283=0,0,ROUND(IF((G283/2)/Dichtheden!$C$3<1,1,(G283/2)/Dichtheden!$C$3),0)) -> 0 | I283: =E283*Dichtheden!$AJ$70 -> 0 | J283: =IF(C283=0,0,ROUND(IF((I283/2)/Dichtheden!$D$3<1,1,(I283/2)/Dichtheden!$D$3),0)) -> 0 | K283: =G283/2 -> 0 | L283: =IF(H283=0,0,K283/H283) -> 0 | M283: =IF(D283=0,0,IF((D283*Dichtheden!$G$4)<25,25,D283*Dichtheden!$G$4)) -> 0 | N283: =D283*Dichtheden!$H$4 -> 0 | Q283: =E283*Dichtheden!$AS$68 -> 0 | R283: =IF(Q283=0,0,ROUND(IF((Q283/2)/Dichtheden!$C$3<1,1,(Q283/2)/Dichtheden!$C$3),0)) -> 0 | S283: =E283*Dichtheden!$AY$68 -> 0 | T283: =IF(Q283=0,0,ROUND(IF((S283/2)/Dichtheden!$D$3<1,1,(S283/2)/Dichtheden!$D$3),0)) -> 0 | U283: =D283*Dichtheden!$G$5 -> 0 | V283: =D283*Dichtheden!$H$5 -> 0 | AA283: =IF($A283=AA$60,$C283,0) -> 0 | AB283: =IF($A283=AB$60,$C283,0) -> 0 | AC283: =IF($A283=AC$60,$C283,0) -> 0 | AD283: =IF($A283=AD$60,$C283,0) -> 0 | AE283: =IF($A283=AE$60,$C283,0) -> 0 | AF283: =IF($A283=AF$60,$C283,0) -> 0 | AG283: =IF($A283=AG$60,$C283,0) -> 0 | AH283: =IF($A283=AH$60,$C283,0) -> 0 | ... CD283: =IF($A283=CD$60,$C283,0) -> 0 | CF283: =IF($A283=CF$60,$D283,0) -> 0 | CG283: =IF($A283=CG$60,$D283,0) -> 0 | CH283: =IF($A283=CH$60,$D283,0) -> 0 | CI283: =IF($A283=CI$60,$D283,0) -> 0 | CJ283: =IF($A283=CJ$60,$D283,0) -> 0 | CK283: =IF($A283=CK$60,$D283,0) -> 0 | CL283: =IF($A283=CL$60,$D283,0) -> 0 | CM283: =IF($A283=CM$60,$D283,0) -> 0 | ... EI283: =IF($A283=EI$60,$D283,0) -> 0 | EK283: =IF($A283=EK$60,$H283,0) -> 0 | EL283: =IF($A283=EL$60,$H283,0) -> 0 | EM283: =IF($A283=EM$60,$H283,0) -> 0 | EN283: =IF($A283=EN$60,$H283,0) -> 0 | EO283: =IF($A283=EO$60,$H283,0) -> 0 | EP283: =IF($A283=EP$60,$H283,0) -> 0 | EQ283: =IF($A283=EQ$60,$H283,0) -> 0 | ER283: =IF($A283=ER$60,$H283,0) -> 0 | ... GN283: =IF($A283=GN$60,$H283,0) -> 0 | GP283: =IF($A283=GP$60,$J283,0) -> 0 | GQ283: =IF($A283=GQ$60,$J283,0) -> 0 | GR283: =IF($A283=GR$60,$J283,0) -> 0 | GS283: =IF($A283=GS$60,$J283,0) -> 0 | GT283: =IF($A283=GT$60,$J283,0) -> 0 | GU283: =IF($A283=GU$60,$J283,0) -> 0 | GV283: =IF($A283=GV$60,$J283,0) -> 0 | GW283: =IF($A283=GW$60,$J283,0) -> 0 | ... IS283: =IF($A283=IS$60,$J283,0) -> 0 | IU283: =IF($A283=IU$60,$M283,0) -> 0 | IV283: =IF($A283=IV$60,$M283,0) -> 0 | IW283: =IF($A283=IW$60,$M283,0) -> 0 | IX283: =IF($A283=IX$60,$M283,0) -> 0 | IY283: =IF($A283=IY$60,$M283,0) -> 0 | IZ283: =IF($A283=IZ$60,$M283,0) -> 0 | JA283: =IF($A283=JA$60,$M283,0) -> 0 | JB283: =IF($A283=JB$60,$M283,0) -> 0 | ... KX283: =IF($A283=KX$60,$M283,0) -> 0 | KZ283: =IF($A283=KZ$60,$N283,0) -> 0 | LA283: =IF($A283=LA$60,$N283,0) -> 0 | LB283: =IF($A283=LB$60,$N283,0) -> 0 | LC283: =IF($A283=LC$60,$N283,0) -> 0 | LD283: =IF($A283=LD$60,$N283,0) -> 0 | LE283: =IF($A283=LE$60,$N283,0) -> 0 | LF283: =IF($A283=LF$60,$N283,0) -> 0 | LG283: =IF($A283=LG$60,$N283,0) -> 0 | ... NC283: =IF($A283=NC$60,$N283,0) -> 0
E284: =C284/$C$58 -> 0 | F284: =D284/$D$58 -> 0 | G284: =E284*Dichtheden!$V$70 -> 0 | H284: =IF(C284=0,0,ROUND(IF((G284/2)/Dichtheden!$C$3<1,1,(G284/2)/Dichtheden!$C$3),0)) -> 0 | I284: =E284*Dichtheden!$AJ$70 -> 0 | J284: =IF(C284=0,0,ROUND(IF((I284/2)/Dichtheden!$D$3<1,1,(I284/2)/Dichtheden!$D$3),0)) -> 0 | K284: =G284/2 -> 0 | L284: =IF(H284=0,0,K284/H284) -> 0 | M284: =IF(D284=0,0,IF((D284*Dichtheden!$G$4)<25,25,D284*Dichtheden!$G$4)) -> 0 | N284: =D284*Dichtheden!$H$4 -> 0 | Q284: =E284*Dichtheden!$AS$68 -> 0 | R284: =IF(Q284=0,0,ROUND(IF((Q284/2)/Dichtheden!$C$3<1,1,(Q284/2)/Dichtheden!$C$3),0)) -> 0 | S284: =E284*Dichtheden!$AY$68 -> 0 | T284: =IF(Q284=0,0,ROUND(IF((S284/2)/Dichtheden!$D$3<1,1,(S284/2)/Dichtheden!$D$3),0)) -> 0 | U284: =D284*Dichtheden!$G$5 -> 0 | V284: =D284*Dichtheden!$H$5 -> 0 | AA284: =IF($A284=AA$60,$C284,0) -> 0 | AB284: =IF($A284=AB$60,$C284,0) -> 0 | AC284: =IF($A284=AC$60,$C284,0) -> 0 | AD284: =IF($A284=AD$60,$C284,0) -> 0 | AE284: =IF($A284=AE$60,$C284,0) -> 0 | AF284: =IF($A284=AF$60,$C284,0) -> 0 | AG284: =IF($A284=AG$60,$C284,0) -> 0 | AH284: =IF($A284=AH$60,$C284,0) -> 0 | ... CD284: =IF($A284=CD$60,$C284,0) -> 0 | CF284: =IF($A284=CF$60,$D284,0) -> 0 | CG284: =IF($A284=CG$60,$D284,0) -> 0 | CH284: =IF($A284=CH$60,$D284,0) -> 0 | CI284: =IF($A284=CI$60,$D284,0) -> 0 | CJ284: =IF($A284=CJ$60,$D284,0) -> 0 | CK284: =IF($A284=CK$60,$D284,0) -> 0 | CL284: =IF($A284=CL$60,$D284,0) -> 0 | CM284: =IF($A284=CM$60,$D284,0) -> 0 | ... EI284: =IF($A284=EI$60,$D284,0) -> 0 | EK284: =IF($A284=EK$60,$H284,0) -> 0 | EL284: =IF($A284=EL$60,$H284,0) -> 0 | EM284: =IF($A284=EM$60,$H284,0) -> 0 | EN284: =IF($A284=EN$60,$H284,0) -> 0 | EO284: =IF($A284=EO$60,$H284,0) -> 0 | EP284: =IF($A284=EP$60,$H284,0) -> 0 | EQ284: =IF($A284=EQ$60,$H284,0) -> 0 | ER284: =IF($A284=ER$60,$H284,0) -> 0 | ... GN284: =IF($A284=GN$60,$H284,0) -> 0 | GP284: =IF($A284=GP$60,$J284,0) -> 0 | GQ284: =IF($A284=GQ$60,$J284,0) -> 0 | GR284: =IF($A284=GR$60,$J284,0) -> 0 | GS284: =IF($A284=GS$60,$J284,0) -> 0 | GT284: =IF($A284=GT$60,$J284,0) -> 0 | GU284: =IF($A284=GU$60,$J284,0) -> 0 | GV284: =IF($A284=GV$60,$J284,0) -> 0 | GW284: =IF($A284=GW$60,$J284,0) -> 0 | ... IS284: =IF($A284=IS$60,$J284,0) -> 0 | IU284: =IF($A284=IU$60,$M284,0) -> 0 | IV284: =IF($A284=IV$60,$M284,0) -> 0 | IW284: =IF($A284=IW$60,$M284,0) -> 0 | IX284: =IF($A284=IX$60,$M284,0) -> 0 | IY284: =IF($A284=IY$60,$M284,0) -> 0 | IZ284: =IF($A284=IZ$60,$M284,0) -> 0 | JA284: =IF($A284=JA$60,$M284,0) -> 0 | JB284: =IF($A284=JB$60,$M284,0) -> 0 | ... KX284: =IF($A284=KX$60,$M284,0) -> 0 | KZ284: =IF($A284=KZ$60,$N284,0) -> 0 | LA284: =IF($A284=LA$60,$N284,0) -> 0 | LB284: =IF($A284=LB$60,$N284,0) -> 0 | LC284: =IF($A284=LC$60,$N284,0) -> 0 | LD284: =IF($A284=LD$60,$N284,0) -> 0 | LE284: =IF($A284=LE$60,$N284,0) -> 0 | LF284: =IF($A284=LF$60,$N284,0) -> 0 | LG284: =IF($A284=LG$60,$N284,0) -> 0 | ... NC284: =IF($A284=NC$60,$N284,0) -> 0
E285: =C285/$C$58 -> 0 | F285: =D285/$D$58 -> 0 | G285: =E285*Dichtheden!$V$70 -> 0 | H285: =IF(C285=0,0,ROUND(IF((G285/2)/Dichtheden!$C$3<1,1,(G285/2)/Dichtheden!$C$3),0)) -> 0 | I285: =E285*Dichtheden!$AJ$70 -> 0 | J285: =IF(C285=0,0,ROUND(IF((I285/2)/Dichtheden!$D$3<1,1,(I285/2)/Dichtheden!$D$3),0)) -> 0 | K285: =G285/2 -> 0 | L285: =IF(H285=0,0,K285/H285) -> 0 | M285: =IF(D285=0,0,IF((D285*Dichtheden!$G$4)<25,25,D285*Dichtheden!$G$4)) -> 0 | N285: =D285*Dichtheden!$H$4 -> 0 | Q285: =E285*Dichtheden!$AS$68 -> 0 | R285: =IF(Q285=0,0,ROUND(IF((Q285/2)/Dichtheden!$C$3<1,1,(Q285/2)/Dichtheden!$C$3),0)) -> 0 | S285: =E285*Dichtheden!$AY$68 -> 0 | T285: =IF(Q285=0,0,ROUND(IF((S285/2)/Dichtheden!$D$3<1,1,(S285/2)/Dichtheden!$D$3),0)) -> 0 | U285: =D285*Dichtheden!$G$5 -> 0 | V285: =D285*Dichtheden!$H$5 -> 0 | AA285: =IF($A285=AA$60,$C285,0) -> 0 | AB285: =IF($A285=AB$60,$C285,0) -> 0 | AC285: =IF($A285=AC$60,$C285,0) -> 0 | AD285: =IF($A285=AD$60,$C285,0) -> 0 | AE285: =IF($A285=AE$60,$C285,0) -> 0 | AF285: =IF($A285=AF$60,$C285,0) -> 0 | AG285: =IF($A285=AG$60,$C285,0) -> 0 | AH285: =IF($A285=AH$60,$C285,0) -> 0 | ... CD285: =IF($A285=CD$60,$C285,0) -> 0 | CF285: =IF($A285=CF$60,$D285,0) -> 0 | CG285: =IF($A285=CG$60,$D285,0) -> 0 | CH285: =IF($A285=CH$60,$D285,0) -> 0 | CI285: =IF($A285=CI$60,$D285,0) -> 0 | CJ285: =IF($A285=CJ$60,$D285,0) -> 0 | CK285: =IF($A285=CK$60,$D285,0) -> 0 | CL285: =IF($A285=CL$60,$D285,0) -> 0 | CM285: =IF($A285=CM$60,$D285,0) -> 0 | ... EI285: =IF($A285=EI$60,$D285,0) -> 0 | EK285: =IF($A285=EK$60,$H285,0) -> 0 | EL285: =IF($A285=EL$60,$H285,0) -> 0 | EM285: =IF($A285=EM$60,$H285,0) -> 0 | EN285: =IF($A285=EN$60,$H285,0) -> 0 | EO285: =IF($A285=EO$60,$H285,0) -> 0 | EP285: =IF($A285=EP$60,$H285,0) -> 0 | EQ285: =IF($A285=EQ$60,$H285,0) -> 0 | ER285: =IF($A285=ER$60,$H285,0) -> 0 | ... GN285: =IF($A285=GN$60,$H285,0) -> 0 | GP285: =IF($A285=GP$60,$J285,0) -> 0 | GQ285: =IF($A285=GQ$60,$J285,0) -> 0 | GR285: =IF($A285=GR$60,$J285,0) -> 0 | GS285: =IF($A285=GS$60,$J285,0) -> 0 | GT285: =IF($A285=GT$60,$J285,0) -> 0 | GU285: =IF($A285=GU$60,$J285,0) -> 0 | GV285: =IF($A285=GV$60,$J285,0) -> 0 | GW285: =IF($A285=GW$60,$J285,0) -> 0 | ... IS285: =IF($A285=IS$60,$J285,0) -> 0 | IU285: =IF($A285=IU$60,$M285,0) -> 0 | IV285: =IF($A285=IV$60,$M285,0) -> 0 | IW285: =IF($A285=IW$60,$M285,0) -> 0 | IX285: =IF($A285=IX$60,$M285,0) -> 0 | IY285: =IF($A285=IY$60,$M285,0) -> 0 | IZ285: =IF($A285=IZ$60,$M285,0) -> 0 | JA285: =IF($A285=JA$60,$M285,0) -> 0 | JB285: =IF($A285=JB$60,$M285,0) -> 0 | ... KX285: =IF($A285=KX$60,$M285,0) -> 0 | KZ285: =IF($A285=KZ$60,$N285,0) -> 0 | LA285: =IF($A285=LA$60,$N285,0) -> 0 | LB285: =IF($A285=LB$60,$N285,0) -> 0 | LC285: =IF($A285=LC$60,$N285,0) -> 0 | LD285: =IF($A285=LD$60,$N285,0) -> 0 | LE285: =IF($A285=LE$60,$N285,0) -> 0 | LF285: =IF($A285=LF$60,$N285,0) -> 0 | LG285: =IF($A285=LG$60,$N285,0) -> 0 | ... NC285: =IF($A285=NC$60,$N285,0) -> 0
E286: =C286/$C$58 -> 0 | F286: =D286/$D$58 -> 0 | G286: =E286*Dichtheden!$V$70 -> 0 | H286: =IF(C286=0,0,ROUND(IF((G286/2)/Dichtheden!$C$3<1,1,(G286/2)/Dichtheden!$C$3),0)) -> 0 | I286: =E286*Dichtheden!$AJ$70 -> 0 | J286: =IF(C286=0,0,ROUND(IF((I286/2)/Dichtheden!$D$3<1,1,(I286/2)/Dichtheden!$D$3),0)) -> 0 | K286: =G286/2 -> 0 | L286: =IF(H286=0,0,K286/H286) -> 0 | M286: =IF(D286=0,0,IF((D286*Dichtheden!$G$4)<25,25,D286*Dichtheden!$G$4)) -> 0 | N286: =D286*Dichtheden!$H$4 -> 0 | Q286: =E286*Dichtheden!$AS$68 -> 0 | R286: =IF(Q286=0,0,ROUND(IF((Q286/2)/Dichtheden!$C$3<1,1,(Q286/2)/Dichtheden!$C$3),0)) -> 0 | S286: =E286*Dichtheden!$AY$68 -> 0 | T286: =IF(Q286=0,0,ROUND(IF((S286/2)/Dichtheden!$D$3<1,1,(S286/2)/Dichtheden!$D$3),0)) -> 0 | U286: =D286*Dichtheden!$G$5 -> 0 | V286: =D286*Dichtheden!$H$5 -> 0 | AA286: =IF($A286=AA$60,$C286,0) -> 0 | AB286: =IF($A286=AB$60,$C286,0) -> 0 | AC286: =IF($A286=AC$60,$C286,0) -> 0 | AD286: =IF($A286=AD$60,$C286,0) -> 0 | AE286: =IF($A286=AE$60,$C286,0) -> 0 | AF286: =IF($A286=AF$60,$C286,0) -> 0 | AG286: =IF($A286=AG$60,$C286,0) -> 0 | AH286: =IF($A286=AH$60,$C286,0) -> 0 | ... CD286: =IF($A286=CD$60,$C286,0) -> 0 | CF286: =IF($A286=CF$60,$D286,0) -> 0 | CG286: =IF($A286=CG$60,$D286,0) -> 0 | CH286: =IF($A286=CH$60,$D286,0) -> 0 | CI286: =IF($A286=CI$60,$D286,0) -> 0 | CJ286: =IF($A286=CJ$60,$D286,0) -> 0 | CK286: =IF($A286=CK$60,$D286,0) -> 0 | CL286: =IF($A286=CL$60,$D286,0) -> 0 | CM286: =IF($A286=CM$60,$D286,0) -> 0 | ... EI286: =IF($A286=EI$60,$D286,0) -> 0 | EK286: =IF($A286=EK$60,$H286,0) -> 0 | EL286: =IF($A286=EL$60,$H286,0) -> 0 | EM286: =IF($A286=EM$60,$H286,0) -> 0 | EN286: =IF($A286=EN$60,$H286,0) -> 0 | EO286: =IF($A286=EO$60,$H286,0) -> 0 | EP286: =IF($A286=EP$60,$H286,0) -> 0 | EQ286: =IF($A286=EQ$60,$H286,0) -> 0 | ER286: =IF($A286=ER$60,$H286,0) -> 0 | ... GN286: =IF($A286=GN$60,$H286,0) -> 0 | GP286: =IF($A286=GP$60,$J286,0) -> 0 | GQ286: =IF($A286=GQ$60,$J286,0) -> 0 | GR286: =IF($A286=GR$60,$J286,0) -> 0 | GS286: =IF($A286=GS$60,$J286,0) -> 0 | GT286: =IF($A286=GT$60,$J286,0) -> 0 | GU286: =IF($A286=GU$60,$J286,0) -> 0 | GV286: =IF($A286=GV$60,$J286,0) -> 0 | GW286: =IF($A286=GW$60,$J286,0) -> 0 | ... IS286: =IF($A286=IS$60,$J286,0) -> 0 | IU286: =IF($A286=IU$60,$M286,0) -> 0 | IV286: =IF($A286=IV$60,$M286,0) -> 0 | IW286: =IF($A286=IW$60,$M286,0) -> 0 | IX286: =IF($A286=IX$60,$M286,0) -> 0 | IY286: =IF($A286=IY$60,$M286,0) -> 0 | IZ286: =IF($A286=IZ$60,$M286,0) -> 0 | JA286: =IF($A286=JA$60,$M286,0) -> 0 | JB286: =IF($A286=JB$60,$M286,0) -> 0 | ... KX286: =IF($A286=KX$60,$M286,0) -> 0 | KZ286: =IF($A286=KZ$60,$N286,0) -> 0 | LA286: =IF($A286=LA$60,$N286,0) -> 0 | LB286: =IF($A286=LB$60,$N286,0) -> 0 | LC286: =IF($A286=LC$60,$N286,0) -> 0 | LD286: =IF($A286=LD$60,$N286,0) -> 0 | LE286: =IF($A286=LE$60,$N286,0) -> 0 | LF286: =IF($A286=LF$60,$N286,0) -> 0 | LG286: =IF($A286=LG$60,$N286,0) -> 0 | ... NC286: =IF($A286=NC$60,$N286,0) -> 0
E287: =C287/$C$58 -> 0 | F287: =D287/$D$58 -> 0 | G287: =E287*Dichtheden!$V$70 -> 0 | H287: =IF(C287=0,0,ROUND(IF((G287/2)/Dichtheden!$C$3<1,1,(G287/2)/Dichtheden!$C$3),0)) -> 0 | I287: =E287*Dichtheden!$AJ$70 -> 0 | J287: =IF(C287=0,0,ROUND(IF((I287/2)/Dichtheden!$D$3<1,1,(I287/2)/Dichtheden!$D$3),0)) -> 0 | K287: =G287/2 -> 0 | L287: =IF(H287=0,0,K287/H287) -> 0 | M287: =IF(D287=0,0,IF((D287*Dichtheden!$G$4)<25,25,D287*Dichtheden!$G$4)) -> 0 | N287: =D287*Dichtheden!$H$4 -> 0 | Q287: =E287*Dichtheden!$AS$68 -> 0 | R287: =IF(Q287=0,0,ROUND(IF((Q287/2)/Dichtheden!$C$3<1,1,(Q287/2)/Dichtheden!$C$3),0)) -> 0 | S287: =E287*Dichtheden!$AY$68 -> 0 | T287: =IF(Q287=0,0,ROUND(IF((S287/2)/Dichtheden!$D$3<1,1,(S287/2)/Dichtheden!$D$3),0)) -> 0 | U287: =D287*Dichtheden!$G$5 -> 0 | V287: =D287*Dichtheden!$H$5 -> 0 | AA287: =IF($A287=AA$60,$C287,0) -> 0 | AB287: =IF($A287=AB$60,$C287,0) -> 0 | AC287: =IF($A287=AC$60,$C287,0) -> 0 | AD287: =IF($A287=AD$60,$C287,0) -> 0 | AE287: =IF($A287=AE$60,$C287,0) -> 0 | AF287: =IF($A287=AF$60,$C287,0) -> 0 | AG287: =IF($A287=AG$60,$C287,0) -> 0 | AH287: =IF($A287=AH$60,$C287,0) -> 0 | ... CD287: =IF($A287=CD$60,$C287,0) -> 0 | CF287: =IF($A287=CF$60,$D287,0) -> 0 | CG287: =IF($A287=CG$60,$D287,0) -> 0 | CH287: =IF($A287=CH$60,$D287,0) -> 0 | CI287: =IF($A287=CI$60,$D287,0) -> 0 | CJ287: =IF($A287=CJ$60,$D287,0) -> 0 | CK287: =IF($A287=CK$60,$D287,0) -> 0 | CL287: =IF($A287=CL$60,$D287,0) -> 0 | CM287: =IF($A287=CM$60,$D287,0) -> 0 | ... EI287: =IF($A287=EI$60,$D287,0) -> 0 | EK287: =IF($A287=EK$60,$H287,0) -> 0 | EL287: =IF($A287=EL$60,$H287,0) -> 0 | EM287: =IF($A287=EM$60,$H287,0) -> 0 | EN287: =IF($A287=EN$60,$H287,0) -> 0 | EO287: =IF($A287=EO$60,$H287,0) -> 0 | EP287: =IF($A287=EP$60,$H287,0) -> 0 | EQ287: =IF($A287=EQ$60,$H287,0) -> 0 | ER287: =IF($A287=ER$60,$H287,0) -> 0 | ... GN287: =IF($A287=GN$60,$H287,0) -> 0 | GP287: =IF($A287=GP$60,$J287,0) -> 0 | GQ287: =IF($A287=GQ$60,$J287,0) -> 0 | GR287: =IF($A287=GR$60,$J287,0) -> 0 | GS287: =IF($A287=GS$60,$J287,0) -> 0 | GT287: =IF($A287=GT$60,$J287,0) -> 0 | GU287: =IF($A287=GU$60,$J287,0) -> 0 | GV287: =IF($A287=GV$60,$J287,0) -> 0 | GW287: =IF($A287=GW$60,$J287,0) -> 0 | ... IS287: =IF($A287=IS$60,$J287,0) -> 0 | IU287: =IF($A287=IU$60,$M287,0) -> 0 | IV287: =IF($A287=IV$60,$M287,0) -> 0 | IW287: =IF($A287=IW$60,$M287,0) -> 0 | IX287: =IF($A287=IX$60,$M287,0) -> 0 | IY287: =IF($A287=IY$60,$M287,0) -> 0 | IZ287: =IF($A287=IZ$60,$M287,0) -> 0 | JA287: =IF($A287=JA$60,$M287,0) -> 0 | JB287: =IF($A287=JB$60,$M287,0) -> 0 | ... KX287: =IF($A287=KX$60,$M287,0) -> 0 | KZ287: =IF($A287=KZ$60,$N287,0) -> 0 | LA287: =IF($A287=LA$60,$N287,0) -> 0 | LB287: =IF($A287=LB$60,$N287,0) -> 0 | LC287: =IF($A287=LC$60,$N287,0) -> 0 | LD287: =IF($A287=LD$60,$N287,0) -> 0 | LE287: =IF($A287=LE$60,$N287,0) -> 0 | LF287: =IF($A287=LF$60,$N287,0) -> 0 | LG287: =IF($A287=LG$60,$N287,0) -> 0 | ... NC287: =IF($A287=NC$60,$N287,0) -> 0
E288: =C288/$C$58 -> 0 | F288: =D288/$D$58 -> 0 | G288: =E288*Dichtheden!$V$70 -> 0 | H288: =IF(C288=0,0,ROUND(IF((G288/2)/Dichtheden!$C$3<1,1,(G288/2)/Dichtheden!$C$3),0)) -> 0 | I288: =E288*Dichtheden!$AJ$70 -> 0 | J288: =IF(C288=0,0,ROUND(IF((I288/2)/Dichtheden!$D$3<1,1,(I288/2)/Dichtheden!$D$3),0)) -> 0 | K288: =G288/2 -> 0 | L288: =IF(H288=0,0,K288/H288) -> 0 | M288: =IF(D288=0,0,IF((D288*Dichtheden!$G$4)<25,25,D288*Dichtheden!$G$4)) -> 0 | N288: =D288*Dichtheden!$H$4 -> 0 | Q288: =E288*Dichtheden!$AS$68 -> 0 | R288: =IF(Q288=0,0,ROUND(IF((Q288/2)/Dichtheden!$C$3<1,1,(Q288/2)/Dichtheden!$C$3),0)) -> 0 | S288: =E288*Dichtheden!$AY$68 -> 0 | T288: =IF(Q288=0,0,ROUND(IF((S288/2)/Dichtheden!$D$3<1,1,(S288/2)/Dichtheden!$D$3),0)) -> 0 | U288: =D288*Dichtheden!$G$5 -> 0 | V288: =D288*Dichtheden!$H$5 -> 0 | AA288: =IF($A288=AA$60,$C288,0) -> 0 | AB288: =IF($A288=AB$60,$C288,0) -> 0 | AC288: =IF($A288=AC$60,$C288,0) -> 0 | AD288: =IF($A288=AD$60,$C288,0) -> 0 | AE288: =IF($A288=AE$60,$C288,0) -> 0 | AF288: =IF($A288=AF$60,$C288,0) -> 0 | AG288: =IF($A288=AG$60,$C288,0) -> 0 | AH288: =IF($A288=AH$60,$C288,0) -> 0 | ... CD288: =IF($A288=CD$60,$C288,0) -> 0 | CF288: =IF($A288=CF$60,$D288,0) -> 0 | CG288: =IF($A288=CG$60,$D288,0) -> 0 | CH288: =IF($A288=CH$60,$D288,0) -> 0 | CI288: =IF($A288=CI$60,$D288,0) -> 0 | CJ288: =IF($A288=CJ$60,$D288,0) -> 0 | CK288: =IF($A288=CK$60,$D288,0) -> 0 | CL288: =IF($A288=CL$60,$D288,0) -> 0 | CM288: =IF($A288=CM$60,$D288,0) -> 0 | ... EI288: =IF($A288=EI$60,$D288,0) -> 0 | EK288: =IF($A288=EK$60,$H288,0) -> 0 | EL288: =IF($A288=EL$60,$H288,0) -> 0 | EM288: =IF($A288=EM$60,$H288,0) -> 0 | EN288: =IF($A288=EN$60,$H288,0) -> 0 | EO288: =IF($A288=EO$60,$H288,0) -> 0 | EP288: =IF($A288=EP$60,$H288,0) -> 0 | EQ288: =IF($A288=EQ$60,$H288,0) -> 0 | ER288: =IF($A288=ER$60,$H288,0) -> 0 | ... GN288: =IF($A288=GN$60,$H288,0) -> 0 | GP288: =IF($A288=GP$60,$J288,0) -> 0 | GQ288: =IF($A288=GQ$60,$J288,0) -> 0 | GR288: =IF($A288=GR$60,$J288,0) -> 0 | GS288: =IF($A288=GS$60,$J288,0) -> 0 | GT288: =IF($A288=GT$60,$J288,0) -> 0 | GU288: =IF($A288=GU$60,$J288,0) -> 0 | GV288: =IF($A288=GV$60,$J288,0) -> 0 | GW288: =IF($A288=GW$60,$J288,0) -> 0 | ... IS288: =IF($A288=IS$60,$J288,0) -> 0 | IU288: =IF($A288=IU$60,$M288,0) -> 0 | IV288: =IF($A288=IV$60,$M288,0) -> 0 | IW288: =IF($A288=IW$60,$M288,0) -> 0 | IX288: =IF($A288=IX$60,$M288,0) -> 0 | IY288: =IF($A288=IY$60,$M288,0) -> 0 | IZ288: =IF($A288=IZ$60,$M288,0) -> 0 | JA288: =IF($A288=JA$60,$M288,0) -> 0 | JB288: =IF($A288=JB$60,$M288,0) -> 0 | ... KX288: =IF($A288=KX$60,$M288,0) -> 0 | KZ288: =IF($A288=KZ$60,$N288,0) -> 0 | LA288: =IF($A288=LA$60,$N288,0) -> 0 | LB288: =IF($A288=LB$60,$N288,0) -> 0 | LC288: =IF($A288=LC$60,$N288,0) -> 0 | LD288: =IF($A288=LD$60,$N288,0) -> 0 | LE288: =IF($A288=LE$60,$N288,0) -> 0 | LF288: =IF($A288=LF$60,$N288,0) -> 0 | LG288: =IF($A288=LG$60,$N288,0) -> 0 | ... NC288: =IF($A288=NC$60,$N288,0) -> 0
E289: =C289/$C$58 -> 0 | F289: =D289/$D$58 -> 0 | G289: =E289*Dichtheden!$V$70 -> 0 | H289: =IF(C289=0,0,ROUND(IF((G289/2)/Dichtheden!$C$3<1,1,(G289/2)/Dichtheden!$C$3),0)) -> 0 | I289: =E289*Dichtheden!$AJ$70 -> 0 | J289: =IF(C289=0,0,ROUND(IF((I289/2)/Dichtheden!$D$3<1,1,(I289/2)/Dichtheden!$D$3),0)) -> 0 | K289: =G289/2 -> 0 | L289: =IF(H289=0,0,K289/H289) -> 0 | M289: =IF(D289=0,0,IF((D289*Dichtheden!$G$4)<25,25,D289*Dichtheden!$G$4)) -> 0 | N289: =D289*Dichtheden!$H$4 -> 0 | Q289: =E289*Dichtheden!$AS$68 -> 0 | R289: =IF(Q289=0,0,ROUND(IF((Q289/2)/Dichtheden!$C$3<1,1,(Q289/2)/Dichtheden!$C$3),0)) -> 0 | S289: =E289*Dichtheden!$AY$68 -> 0 | T289: =IF(Q289=0,0,ROUND(IF((S289/2)/Dichtheden!$D$3<1,1,(S289/2)/Dichtheden!$D$3),0)) -> 0 | U289: =D289*Dichtheden!$G$5 -> 0 | V289: =D289*Dichtheden!$H$5 -> 0 | AA289: =IF($A289=AA$60,$C289,0) -> 0 | AB289: =IF($A289=AB$60,$C289,0) -> 0 | AC289: =IF($A289=AC$60,$C289,0) -> 0 | AD289: =IF($A289=AD$60,$C289,0) -> 0 | AE289: =IF($A289=AE$60,$C289,0) -> 0 | AF289: =IF($A289=AF$60,$C289,0) -> 0 | AG289: =IF($A289=AG$60,$C289,0) -> 0 | AH289: =IF($A289=AH$60,$C289,0) -> 0 | ... CD289: =IF($A289=CD$60,$C289,0) -> 0 | CF289: =IF($A289=CF$60,$D289,0) -> 0 | CG289: =IF($A289=CG$60,$D289,0) -> 0 | CH289: =IF($A289=CH$60,$D289,0) -> 0 | CI289: =IF($A289=CI$60,$D289,0) -> 0 | CJ289: =IF($A289=CJ$60,$D289,0) -> 0 | CK289: =IF($A289=CK$60,$D289,0) -> 0 | CL289: =IF($A289=CL$60,$D289,0) -> 0 | CM289: =IF($A289=CM$60,$D289,0) -> 0 | ... EI289: =IF($A289=EI$60,$D289,0) -> 0 | EK289: =IF($A289=EK$60,$H289,0) -> 0 | EL289: =IF($A289=EL$60,$H289,0) -> 0 | EM289: =IF($A289=EM$60,$H289,0) -> 0 | EN289: =IF($A289=EN$60,$H289,0) -> 0 | EO289: =IF($A289=EO$60,$H289,0) -> 0 | EP289: =IF($A289=EP$60,$H289,0) -> 0 | EQ289: =IF($A289=EQ$60,$H289,0) -> 0 | ER289: =IF($A289=ER$60,$H289,0) -> 0 | ... GN289: =IF($A289=GN$60,$H289,0) -> 0 | GP289: =IF($A289=GP$60,$J289,0) -> 0 | GQ289: =IF($A289=GQ$60,$J289,0) -> 0 | GR289: =IF($A289=GR$60,$J289,0) -> 0 | GS289: =IF($A289=GS$60,$J289,0) -> 0 | GT289: =IF($A289=GT$60,$J289,0) -> 0 | GU289: =IF($A289=GU$60,$J289,0) -> 0 | GV289: =IF($A289=GV$60,$J289,0) -> 0 | GW289: =IF($A289=GW$60,$J289,0) -> 0 | ... IS289: =IF($A289=IS$60,$J289,0) -> 0 | IU289: =IF($A289=IU$60,$M289,0) -> 0 | IV289: =IF($A289=IV$60,$M289,0) -> 0 | IW289: =IF($A289=IW$60,$M289,0) -> 0 | IX289: =IF($A289=IX$60,$M289,0) -> 0 | IY289: =IF($A289=IY$60,$M289,0) -> 0 | IZ289: =IF($A289=IZ$60,$M289,0) -> 0 | JA289: =IF($A289=JA$60,$M289,0) -> 0 | JB289: =IF($A289=JB$60,$M289,0) -> 0 | ... KX289: =IF($A289=KX$60,$M289,0) -> 0 | KZ289: =IF($A289=KZ$60,$N289,0) -> 0 | LA289: =IF($A289=LA$60,$N289,0) -> 0 | LB289: =IF($A289=LB$60,$N289,0) -> 0 | LC289: =IF($A289=LC$60,$N289,0) -> 0 | LD289: =IF($A289=LD$60,$N289,0) -> 0 | LE289: =IF($A289=LE$60,$N289,0) -> 0 | LF289: =IF($A289=LF$60,$N289,0) -> 0 | LG289: =IF($A289=LG$60,$N289,0) -> 0 | ... NC289: =IF($A289=NC$60,$N289,0) -> 0
... E560: =C560/$C$58 -> 0 | F560: =D560/$D$58 -> 0 | G560: =E560*Dichtheden!$V$70 -> 0 | H560: =IF(C560=0,0,ROUND(IF((G560/2)/Dichtheden!$C$3<1,1,(G560/2)/Dichtheden!$C$3),0)) -> 0 | I560: =E560*Dichtheden!$AJ$70 -> 0 | J560: =IF(C560=0,0,ROUND(IF((I560/2)/Dichtheden!$D$3<1,1,(I560/2)/Dichtheden!$D$3),0)) -> 0 | K560: =G560/2 -> 0 | L560: =IF(H560=0,0,K560/H560) -> 0 | M560: =IF(D560=0,0,IF((D560*Dichtheden!$G$4)<25,25,D560*Dichtheden!$G$4)) -> 0 | N560: =D560*Dichtheden!$H$4 -> 0 | Q560: =E560*Dichtheden!$AS$68 -> 0 | R560: =IF(Q560=0,0,ROUND(IF((Q560/2)/Dichtheden!$C$3<1,1,(Q560/2)/Dichtheden!$C$3),0)) -> 0 | S560: =E560*Dichtheden!$AY$68 -> 0 | T560: =IF(Q560=0,0,ROUND(IF((S560/2)/Dichtheden!$D$3<1,1,(S560/2)/Dichtheden!$D$3),0)) -> 0 | U560: =D560*Dichtheden!$G$5 -> 0 | V560: =D560*Dichtheden!$H$5 -> 0 | AA560: =IF($A560=AA$60,$C560,0) -> 0 | AB560: =IF($A560=AB$60,$C560,0) -> 0 | AC560: =IF($A560=AC$60,$C560,0) -> 0 | AD560: =IF($A560=AD$60,$C560,0) -> 0 | AE560: =IF($A560=AE$60,$C560,0) -> 0 | AF560: =IF($A560=AF$60,$C560,0) -> 0 | AG560: =IF($A560=AG$60,$C560,0) -> 0 | AH560: =IF($A560=AH$60,$C560,0) -> 0 | ... CD560: =IF($A560=CD$60,$C560,0) -> 0 | CF560: =IF($A560=CF$60,$D560,0) -> 0 | CG560: =IF($A560=CG$60,$D560,0) -> 0 | CH560: =IF($A560=CH$60,$D560,0) -> 0 | CI560: =IF($A560=CI$60,$D560,0) -> 0 | CJ560: =IF($A560=CJ$60,$D560,0) -> 0 | CK560: =IF($A560=CK$60,$D560,0) -> 0 | CL560: =IF($A560=CL$60,$D560,0) -> 0 | CM560: =IF($A560=CM$60,$D560,0) -> 0 | ... EI560: =IF($A560=EI$60,$D560,0) -> 0 | EK560: =IF($A560=EK$60,$H560,0) -> 0 | EL560: =IF($A560=EL$60,$H560,0) -> 0 | EM560: =IF($A560=EM$60,$H560,0) -> 0 | EN560: =IF($A560=EN$60,$H560,0) -> 0 | EO560: =IF($A560=EO$60,$H560,0) -> 0 | EP560: =IF($A560=EP$60,$H560,0) -> 0 | EQ560: =IF($A560=EQ$60,$H560,0) -> 0 | ER560: =IF($A560=ER$60,$H560,0) -> 0 | ... GN560: =IF($A560=GN$60,$H560,0) -> 0 | GP560: =IF($A560=GP$60,$J560,0) -> 0 | GQ560: =IF($A560=GQ$60,$J560,0) -> 0 | GR560: =IF($A560=GR$60,$J560,0) -> 0 | GS560: =IF($A560=GS$60,$J560,0) -> 0 | GT560: =IF($A560=GT$60,$J560,0) -> 0 | GU560: =IF($A560=GU$60,$J560,0) -> 0 | GV560: =IF($A560=GV$60,$J560,0) -> 0 | GW560: =IF($A560=GW$60,$J560,0) -> 0 | ... IS560: =IF($A560=IS$60,$J560,0) -> 0 | IU560: =IF($A560=IU$60,$M560,0) -> 0 | IV560: =IF($A560=IV$60,$M560,0) -> 0 | IW560: =IF($A560=IW$60,$M560,0) -> 0 | IX560: =IF($A560=IX$60,$M560,0) -> 0 | IY560: =IF($A560=IY$60,$M560,0) -> 0 | IZ560: =IF($A560=IZ$60,$M560,0) -> 0 | JA560: =IF($A560=JA$60,$M560,0) -> 0 | JB560: =IF($A560=JB$60,$M560,0) -> 0 | ... KX560: =IF($A560=KX$60,$M560,0) -> 0 | KZ560: =IF($A560=KZ$60,$N560,0) -> 0 | LA560: =IF($A560=LA$60,$N560,0) -> 0 | LB560: =IF($A560=LB$60,$N560,0) -> 0 | LC560: =IF($A560=LC$60,$N560,0) -> 0 | LD560: =IF($A560=LD$60,$N560,0) -> 0 | LE560: =IF($A560=LE$60,$N560,0) -> 0 | LF560: =IF($A560=LF$60,$N560,0) -> 0 | LG560: =IF($A560=LG$60,$N560,0) -> 0 | ... NC560: =IF($A560=NC$60,$N560,0) -> 0
A561: Totaal provicie | C561: =SUM(C61:C560) -> 1516.2932 | D561: =SUM(D61:D560) -> 333.14174 | E561: =SUM(E61:E560) -> 1 | F561: =SUM(F61:F560) -> 1 | G561: =SUM(G61:G560) -> 51518.88 | H561: =SUM(H61:H560) -> 324 | I561: =SUM(I61:I560) -> 8586.48 | J561: =SUM(J61:J560) -> 268 | ... N561: =SUM(N61:N560) -> 11659.961 | Q561: =SUM(Q61:Q560) -> 37995.174 | R561: =SUM(R61:R560) -> 277 | S561: =SUM(S61:S560) -> 2103.6876 | T561: =SUM(T61:T560) -> 220 | U561: =SUM(U61:U560) -> 72624.899 | V561: =SUM(V61:V560) -> 4997.1261

Sheet INVULLEN
B2: =IF(ROUND(E5,0)=ROUND(SUM(E6:E75),0),"","FOUT in de sheet, controleer de woonkernen en de gemeentenaam") | C2: Aantallen gebouwen CBS: | E2: Populaties vleermuissoort | I2: Broedparen vogelsoort | L2: Vul hier de gemeente en de woonkernen in (rood). De populatie aantallen die in de sheet "Per woonkern" zijn bepaald worden dan automatisch ingevuld. De resultaten zijn te zien in de sheets: "Overzicht simpel" en Rekensheet aantasting". | O2: Populaties vleermuissoort 1994 (FRP) | S2: Broedparen vogelsoort
C3: ="Totaal aan relevante gebouwen berekend op basis van "&TEXT(M4*100,"##")&"% gebouwen in een woonkern. (Kolom D/"&M4&")" -> Totaal aan relevante gebouwen berekend op basis van 70% gebouwen in een woonkern. (Kolom D/0,7) | D3: Particuliere woning waar mogelijk verduurzaming moet plaatsvinden | E3: Gewone dwergvleermuis | F3: Laatvlieger | G3: Baardvleermuis | H3: Gewone grootoor vleermuis | I3: Huismus | J3: Gierzwaluw | O3: Gewone dwergvleermuis | P3: Laatvlieger | Q3: Baardvleermuis | R3: Gewone grootoor vleermuis | S3: Huismus | T3: Gierzwaluw
B4: Gemeente / Woonkern | E4: # dieren | F4: # dieren | G4: # dieren | H4: # dieren | I4: # broedparen | J4: # broedparen | L4: Correctie voor percentage van gebouwen in kern dat particulier is en voor verduurzaming in aanmerking komt | M4: 0.7 | O4: # dieren | P4: # dieren | Q4: # dieren | R4: # dieren | S4: # broedparen | T4: # broedparen
B5: Gemeente Beekdaelen | C5: =SUM(C6:C75) -> 12690 | D5: =SUM(D6:D75) -> 8883 | E5: =_xlfn.XLOOKUP(B5,'Per woonkern'!A2:A57,'Per woonkern'!G2:G57) -> 2644.8887 | F5: =_xlfn.XLOOKUP(B5,'Per woonkern'!A2:A57,'Per woonkern'!I2:I57) -> 440.81478 | G5: =_xlfn.XLOOKUP(B5,'Per woonkern'!A2:A57,'Per woonkern'!K2:K57) -> 76.734 | H5: =_xlfn.XLOOKUP(B5,'Per woonkern'!A2:A57,'Per woonkern'!L2:L57) -> 64.989 | I5: =_xlfn.XLOOKUP(B5,'Per woonkern'!A2:A57,'Per woonkern'!M2:M57) -> 2035.7294 | J5: =_xlfn.XLOOKUP(B5,'Per woonkern'!A2:A57,'Per woonkern'!N2:N57) -> 312.43814 | O5: =SUM(O6:O75) -> 1950.6054 | P5: =SUM(P6:P75) -> 107.99962 | Q5: =_xlfn.XLOOKUP(B5,Dichtheden!B12:B67,Dichtheden!AU12:AU67) -> 107.99962 | R5: =_xlfn.XLOOKUP(B5,Dichtheden!B12:B67,Dichtheden!AW12:AW67) -> 64.989 | S5: =SUM(S6:S75) -> 1946.0433 | T5: =SUM(T6:T75) -> 133.90206
A6: 1 | B6: {=IFERROR(INDEX('Per woonkern'!$B$60:$B$561,SMALL(IF('Per woonkern'!$A$60:$A$561=$B$5,ROW('Per woonkern'!$A$60:$A$561)-MIN(ROW('Per woonkern'!$A$60:$A$561))+1,""),ROW(A1))),"")} -> Arensgenhout | C6: =IF(B6="","",D6/$M$4) -> 162.85714 | D6: =IF(B6="","",_xlfn.XLOOKUP(B6,'CBS woonkernen'!$C$1:$C$3000,'CBS woonkernen'!$L$1:$L$3000)) -> 114 | E6: =_xlfn.XLOOKUP(B6,'Per woonkern'!B$61:B$560,'Per woonkern'!G$61:G$560,0) -> 54.155783 | F6: =_xlfn.XLOOKUP(B6,'Per woonkern'!B$61:B$560,'Per woonkern'!I$61:I$560,0) -> 9.0259638 | I6: =_xlfn.XLOOKUP(B6,'Per woonkern'!B$61:B$560,'Per woonkern'!M$61:M$560,0) -> 25 | J6: =_xlfn.XLOOKUP(B6,'Per woonkern'!B$61:B$560,'Per woonkern'!N$61:N$560,0) -> 3.40291 | O6: =_xlfn.XLOOKUP(B6,'Per woonkern'!B$61:B$560,'Per woonkern'!Q$61:Q$560,0) -> 39.93989 | P6: =_xlfn.XLOOKUP(B6,'Per woonkern'!B$61:B$560,'Per woonkern'!S$61:S$560,0) -> 2.2113611 | S6: =_xlfn.XLOOKUP(B6,'Per woonkern'!B$61:B$560,'Per woonkern'!U$61:U$560,0) -> 21.195268 | T6: =_xlfn.XLOOKUP(B6,'Per woonkern'!B$61:B$560,'Per woonkern'!V$61:V$560,0) -> 1.45839
A7: 2 | B7: {=IFERROR(INDEX('Per woonkern'!$B$60:$B$561,SMALL(IF('Per woonkern'!$A$60:$A$561=$B$5,ROW('Per woonkern'!$A$60:$A$561)-MIN(ROW('Per woonkern'!$A$60:$A$561))+1,""),ROW(A2))),"")} -> Bingelrade | C7: =IF(B7="","",D7/$M$4) -> 97.142857 | D7: =IF(B7="","",_xlfn.XLOOKUP(B7,'CBS woonkernen'!$C$1:$C$3000,'CBS woonkernen'!$L$1:$L$3000)) -> 68 | E7: =_xlfn.XLOOKUP(B7,'Per woonkern'!B$61:B$560,'Per woonkern'!G$61:G$560,0) -> 44.597209 | F7: =_xlfn.XLOOKUP(B7,'Per woonkern'!B$61:B$560,'Per woonkern'!I$61:I$560,0) -> 7.4328682 | I7: =_xlfn.XLOOKUP(B7,'Per woonkern'!B$61:B$560,'Per woonkern'!M$61:M$560,0) -> 25 | J7: =_xlfn.XLOOKUP(B7,'Per woonkern'!B$61:B$560,'Per woonkern'!N$61:N$560,0) -> 2.88897 | O7: =_xlfn.XLOOKUP(B7,'Per woonkern'!B$61:B$560,'Per woonkern'!Q$61:Q$560,0) -> 32.890442 | P7: =_xlfn.XLOOKUP(B7,'Per woonkern'!B$61:B$560,'Per woonkern'!S$61:S$560,0) -> 1.8210527 | S7: =_xlfn.XLOOKUP(B7,'Per woonkern'!B$61:B$560,'Per woonkern'!U$61:U$560,0) -> 17.994156 | T7: =_xlfn.XLOOKUP(B7,'Per woonkern'!B$61:B$560,'Per woonkern'!V$61:V$560,0) -> 1.23813
A8: 3 | B8: {=IFERROR(INDEX('Per woonkern'!$B$60:$B$561,SMALL(IF('Per woonkern'!$A$60:$A$561=$B$5,ROW('Per woonkern'!$A$60:$A$561)-MIN(ROW('Per woonkern'!$A$60:$A$561))+1,""),ROW(A3))),"")} -> Doenrade | C8: =IF(B8="","",D8/$M$4) -> 450 | D8: =IF(B8="","",_xlfn.XLOOKUP(B8,'CBS woonkernen'!$C$1:$C$3000,'CBS woonkernen'!$L$1:$L$3000)) -> 315 | E8: =_xlfn.XLOOKUP(B8,'Per woonkern'!B$61:B$560,'Per woonkern'!G$61:G$560,0) -> 180.96139 | F8: =_xlfn.XLOOKUP(B8,'Per woonkern'!B$61:B$560,'Per woonkern'!I$61:I$560,0) -> 30.160232 | I8: =_xlfn.XLOOKUP(B8,'Per woonkern'!B$61:B$560,'Per woonkern'!M$61:M$560,0) -> 89.2566 | J8: =_xlfn.XLOOKUP(B8,'Per woonkern'!B$61:B$560,'Per woonkern'!N$61:N$560,0) -> 13.88436 | O8: =_xlfn.XLOOKUP(B8,'Per woonkern'!B$61:B$560,'Per woonkern'!Q$61:Q$560,0) -> 133.45903 | P8: =_xlfn.XLOOKUP(B8,'Per woonkern'!B$61:B$560,'Per woonkern'!S$61:S$560,0) -> 7.3892569 | S8: =_xlfn.XLOOKUP(B8,'Per woonkern'!B$61:B$560,'Per woonkern'!U$61:U$560,0) -> 86.479728 | T8: =_xlfn.XLOOKUP(B8,'Per woonkern'!B$61:B$560,'Per woonkern'!V$61:V$560,0) -> 5.95044
A9: 4 | B9: {=IFERROR(INDEX('Per woonkern'!$B$60:$B$561,SMALL(IF('Per woonkern'!$A$60:$A$561=$B$5,ROW('Per woonkern'!$A$60:$A$561)-MIN(ROW('Per woonkern'!$A$60:$A$561))+1,""),ROW(A4))),"")} -> Grijzegrubben | C9: =IF(B9="","",D9/$M$4) -> 35.714286 | D9: =IF(B9="","",_xlfn.XLOOKUP(B9,'CBS woonkernen'!$C$1:$C$3000,'CBS woonkernen'!$L$1:$L$3000)) -> 25 | E9: =_xlfn.XLOOKUP(B9,'Per woonkern'!B$61:B$560,'Per woonkern'!G$61:G$560,0) -> 34.106582 | F9: =_xlfn.XLOOKUP(B9,'Per woonkern'!B$61:B$560,'Per woonkern'!I$61:I$560,0) -> 5.6844304 | I9: =_xlfn.XLOOKUP(B9,'Per woonkern'!B$61:B$560,'Per woonkern'!M$61:M$560,0) -> 25 | J9: =_xlfn.XLOOKUP(B9,'Per woonkern'!B$61:B$560,'Per woonkern'!N$61:N$560,0) -> 1.143905 | O9: =_xlfn.XLOOKUP(B9,'Per woonkern'!B$61:B$560,'Per woonkern'!Q$61:Q$560,0) -> 25.153604 | P9: =_xlfn.XLOOKUP(B9,'Per woonkern'!B$61:B$560,'Per woonkern'!S$61:S$560,0) -> 1.3926854 | S9: =_xlfn.XLOOKUP(B9,'Per woonkern'!B$61:B$560,'Per woonkern'!U$61:U$560,0) -> 7.124894 | T9: =_xlfn.XLOOKUP(B9,'Per woonkern'!B$61:B$560,'Per woonkern'!V$61:V$560,0) -> 0.490245
A10: 5 | B10: {=IFERROR(INDEX('Per woonkern'!$B$60:$B$561,SMALL(IF('Per woonkern'!$A$60:$A$561=$B$5,ROW('Per woonkern'!$A$60:$A$561)-MIN(ROW('Per woonkern'!$A$60:$A$561))+1,""),ROW(A5))),"")} -> Hulsberg | C10: =IF(B10="","",D10/$M$4) -> 1424.2857 | D10: =IF(B10="","",_xlfn.XLOOKUP(B10,'CBS woonkernen'!$C$1:$C$3000,'CBS woonkernen'!$L$1:$L$3000)) -> 997 | E10: =_xlfn.XLOOKUP(B10,'Per woonkern'!B$61:B$560,'Per woonkern'!G$61:G$560,0) -> 186.83083 | F10: =_xlfn.XLOOKUP(B10,'Per woonkern'!B$61:B$560,'Per woonkern'!I$61:I$560,0) -> 31.138471 | I10: =_xlfn.XLOOKUP(B10,'Per woonkern'!B$61:B$560,'Per woonkern'!M$61:M$560,0) -> 198.47227 | J10: =_xlfn.XLOOKUP(B10,'Per woonkern'!B$61:B$560,'Per woonkern'!N$61:N$560,0) -> 30.873465 | O10: =_xlfn.XLOOKUP(B10,'Per woonkern'!B$61:B$560,'Per woonkern'!Q$61:Q$560,0) -> 137.78774 | P10: =_xlfn.XLOOKUP(B10,'Per woonkern'!B$61:B$560,'Per woonkern'!S$61:S$560,0) -> 7.6289255 | S10: =_xlfn.XLOOKUP(B10,'Per woonkern'!B$61:B$560,'Per woonkern'!U$61:U$560,0) -> 192.29758 | T10: =_xlfn.XLOOKUP(B10,'Per woonkern'!B$61:B$560,'Per woonkern'!V$61:V$560,0) -> 13.231485
A11: 6 | B11: {=IFERROR(INDEX('Per woonkern'!$B$60:$B$561,SMALL(IF('Per woonkern'!$A$60:$A$561=$B$5,ROW('Per woonkern'!$A$60:$A$561)-MIN(ROW('Per woonkern'!$A$60:$A$561))+1,""),ROW(A6))),"")} -> Jabeek | C11: =IF(B11="","",D11/$M$4) -> 258.57143 | D11: =IF(B11="","",_xlfn.XLOOKUP(B11,'CBS woonkernen'!$C$1:$C$3000,'CBS woonkernen'!$L$1:$L$3000)) -> 181 | E11: =_xlfn.XLOOKUP(B11,'Per woonkern'!B$61:B$560,'Per woonkern'!G$61:G$560,0) -> 97.387258 | F11: =_xlfn.XLOOKUP(B11,'Per woonkern'!B$61:B$560,'Per woonkern'!I$61:I$560,0) -> 16.23121 | I11: =_xlfn.XLOOKUP(B11,'Per woonkern'!B$61:B$560,'Per woonkern'!M$61:M$560,0) -> 46.023075 | J11: =_xlfn.XLOOKUP(B11,'Per woonkern'!B$61:B$560,'Per woonkern'!N$61:N$560,0) -> 7.159145 | O11: =_xlfn.XLOOKUP(B11,'Per woonkern'!B$61:B$560,'Per woonkern'!Q$61:Q$560,0) -> 71.823103 | P11: =_xlfn.XLOOKUP(B11,'Per woonkern'!B$61:B$560,'Per woonkern'!S$61:S$560,0) -> 3.9766464 | S11: =_xlfn.XLOOKUP(B11,'Per woonkern'!B$61:B$560,'Per woonkern'!U$61:U$560,0) -> 44.591246 | T11: =_xlfn.XLOOKUP(B11,'Per woonkern'!B$61:B$560,'Per woonkern'!V$61:V$560,0) -> 3.068205
A12: 7 | B12: {=IFERROR(INDEX('Per woonkern'!$B$60:$B$561,SMALL(IF('Per woonkern'!$A$60:$A$561=$B$5,ROW('Per woonkern'!$A$60:$A$561)-MIN(ROW('Per woonkern'!$A$60:$A$561))+1,""),ROW(A7))),"")} -> Klein Haasdal | C12: =IF(B12="","",D12/$M$4) -> 10 | D12: =IF(B12="","",_xlfn.XLOOKUP(B12,'CBS woonkernen'!$C$1:$C$3000,'CBS woonkernen'!$L$1:$L$3000)) -> 7 | E12: =_xlfn.XLOOKUP(B12,'Per woonkern'!B$61:B$560,'Per woonkern'!G$61:G$560,0) -> 75.794013 | F12: =_xlfn.XLOOKUP(B12,'Per woonkern'!B$61:B$560,'Per woonkern'!I$61:I$560,0) -> 12.632336 | I12: =_xlfn.XLOOKUP(B12,'Per woonkern'!B$61:B$560,'Per woonkern'!M$61:M$560,0) -> 25.8948 | J12: =_xlfn.XLOOKUP(B12,'Per woonkern'!B$61:B$560,'Per woonkern'!N$61:N$560,0) -> 4.02808 | O12: =_xlfn.XLOOKUP(B12,'Per woonkern'!B$61:B$560,'Per woonkern'!Q$61:Q$560,0) -> 55.898085 | P12: =_xlfn.XLOOKUP(B12,'Per woonkern'!B$61:B$560,'Per woonkern'!S$61:S$560,0) -> 3.0949222 | S12: =_xlfn.XLOOKUP(B12,'Per woonkern'!B$61:B$560,'Per woonkern'!U$61:U$560,0) -> 25.089184 | T12: =_xlfn.XLOOKUP(B12,'Per woonkern'!B$61:B$560,'Per woonkern'!V$61:V$560,0) -> 1.72632
A13: 8 | B13: {=IFERROR(INDEX('Per woonkern'!$B$60:$B$561,SMALL(IF('Per woonkern'!$A$60:$A$561=$B$5,ROW('Per woonkern'!$A$60:$A$561)-MIN(ROW('Per woonkern'!$A$60:$A$561))+1,""),ROW(A8))),"")} -> Merkelbeek | C13: =IF(B13="","",D13/$M$4) -> 554.28571 | D13: =IF(B13="","",_xlfn.XLOOKUP(B13,'CBS woonkernen'!$C$1:$C$3000,'CBS woonkernen'!$L$1:$L$3000)) -> 388 | E13: =_xlfn.XLOOKUP(B13,'Per woonkern'!B$61:B$560,'Per woonkern'!G$61:G$560,0) -> 191.27487 | F13: =_xlfn.XLOOKUP(B13,'Per woonkern'!B$61:B$560,'Per woonkern'!I$61:I$560,0) -> 31.879144 | I13: =_xlfn.XLOOKUP(B13,'Per woonkern'!B$61:B$560,'Per woonkern'!M$61:M$560,0) -> 88.3125 | J13: =_xlfn.XLOOKUP(B13,'Per woonkern'!B$61:B$560,'Per woonkern'!N$61:N$560,0) -> 13.7375 | O13: =_xlfn.XLOOKUP(B13,'Per woonkern'!B$61:B$560,'Per woonkern'!Q$61:Q$560,0) -> 141.06521 | P13: =_xlfn.XLOOKUP(B13,'Per woonkern'!B$61:B$560,'Per woonkern'!S$61:S$560,0) -> 7.8103904 | S13: =_xlfn.XLOOKUP(B13,'Per woonkern'!B$61:B$560,'Per woonkern'!U$61:U$560,0) -> 85.565 | T13: =_xlfn.XLOOKUP(B13,'Per woonkern'!B$61:B$560,'Per woonkern'!V$61:V$560,0) -> 5.8875
A14: 9 | B14: {=IFERROR(INDEX('Per woonkern'!$B$60:$B$561,SMALL(IF('Per woonkern'!$A$60:$A$561=$B$5,ROW('Per woonkern'!$A$60:$A$561)-MIN(ROW('Per woonkern'!$A$60:$A$561))+1,""),ROW(A9))),"")} -> Nuth | C14: =IF(B14="","",D14/$M$4) -> 1497.1429 | D14: =IF(B14="","",_xlfn.XLOOKUP(B14,'CBS woonkernen'!$C$1:$C$3000,'CBS woonkernen'!$L$1:$L$3000)) -> 1048 | E14: =_xlfn.XLOOKUP(B14,'Per woonkern'!B$61:B$560,'Per woonkern'!G$61:G$560,0) -> 246.84347 | F14: =_xlfn.XLOOKUP(B14,'Per woonkern'!B$61:B$560,'Per woonkern'!I$61:I$560,0) -> 41.140579 | I14: =_xlfn.XLOOKUP(B14,'Per woonkern'!B$61:B$560,'Per woonkern'!M$61:M$560,0) -> 237.30997 | J14: =_xlfn.XLOOKUP(B14,'Per woonkern'!B$61:B$560,'Per woonkern'!N$61:N$560,0) -> 36.914885 | O14: =_xlfn.XLOOKUP(B14,'Per woonkern'!B$61:B$560,'Per woonkern'!Q$61:Q$560,0) -> 182.04706 | P14: =_xlfn.XLOOKUP(B14,'Per woonkern'!B$61:B$560,'Per woonkern'!S$61:S$560,0) -> 10.079442 | S14: =_xlfn.XLOOKUP(B14,'Per woonkern'!B$61:B$560,'Per woonkern'!U$61:U$560,0) -> 229.927 | T14: =_xlfn.XLOOKUP(B14,'Per woonkern'!B$61:B$560,'Per woonkern'!V$61:V$560,0) -> 15.820665
A15: 10 | B15: {=IFERROR(INDEX('Per woonkern'!$B$60:$B$561,SMALL(IF('Per woonkern'!$A$60:$A$561=$B$5,ROW('Per woonkern'!$A$60:$A$561)-MIN(ROW('Per woonkern'!$A$60:$A$561))+1,""),ROW(A10))),"")} -> Oirsbeek / Amstenrade | C15: =IF(B15="","",D15/$M$4) -> 2917.1429 | D15: =IF(B15="","",_xlfn.XLOOKUP(B15,'CBS woonkernen'!$C$1:$C$3000,'CBS woonkernen'!$L$1:$L$3000)) -> 2042 | E15: =_xlfn.XLOOKUP(B15,'Per woonkern'!B$61:B$560,'Per woonkern'!G$61:G$560,0) -> 416.3227 | F15: =_xlfn.XLOOKUP(B15,'Per woonkern'!B$61:B$560,'Per woonkern'!I$61:I$560,0) -> 69.387116 | I15: =_xlfn.XLOOKUP(B15,'Per woonkern'!B$61:B$560,'Per woonkern'!M$61:M$560,0) -> 385.48462 | J15: =_xlfn.XLOOKUP(B15,'Per woonkern'!B$61:B$560,'Per woonkern'!N$61:N$560,0) -> 59.964275 | O15: =_xlfn.XLOOKUP(B15,'Per woonkern'!B$61:B$560,'Per woonkern'!Q$61:Q$560,0) -> 307.03799 | P15: =_xlfn.XLOOKUP(B15,'Per woonkern'!B$61:B$560,'Per woonkern'!S$61:S$560,0) -> 16.999843 | S15: =_xlfn.XLOOKUP(B15,'Per woonkern'!B$61:B$560,'Per woonkern'!U$61:U$560,0) -> 373.49177 | T15: =_xlfn.XLOOKUP(B15,'Per woonkern'!B$61:B$560,'Per woonkern'!V$61:V$560,0) -> 25.698975
A16: 11 | B16: {=IFERROR(INDEX('Per woonkern'!$B$60:$B$561,SMALL(IF('Per woonkern'!$A$60:$A$561=$B$5,ROW('Per woonkern'!$A$60:$A$561)-MIN(ROW('Per woonkern'!$A$60:$A$561))+1,""),ROW(A11))),"")} -> Puth | C16: =IF(B16="","",D16/$M$4) -> 580 | D16: =IF(B16="","",_xlfn.XLOOKUP(B16,'CBS woonkernen'!$C$1:$C$3000,'CBS woonkernen'!$L$1:$L$3000)) -> 406 | E16: =_xlfn.XLOOKUP(B16,'Per woonkern'!B$61:B$560,'Per woonkern'!G$61:G$560,0) -> 100.76938 | F16: =_xlfn.XLOOKUP(B16,'Per woonkern'!B$61:B$560,'Per woonkern'!I$61:I$560,0) -> 16.794897 | I16: =_xlfn.XLOOKUP(B16,'Per woonkern'!B$61:B$560,'Per woonkern'!M$61:M$560,0) -> 69.639975 | J16: =_xlfn.XLOOKUP(B16,'Per woonkern'!B$61:B$560,'Per woonkern'!N$61:N$560,0) -> 10.832885 | O16: =_xlfn.XLOOKUP(B16,'Per woonkern'!B$61:B$560,'Per woonkern'!Q$61:Q$560,0) -> 74.31742 | P16: =_xlfn.XLOOKUP(B16,'Per woonkern'!B$61:B$560,'Per woonkern'!S$61:S$560,0) -> 4.1147498 | S16: =_xlfn.XLOOKUP(B16,'Per woonkern'!B$61:B$560,'Per woonkern'!U$61:U$560,0) -> 67.473398 | T16: =_xlfn.XLOOKUP(B16,'Per woonkern'!B$61:B$560,'Per woonkern'!V$61:V$560,0) -> 4.642665
A17: 12 | B17: {=IFERROR(INDEX('Per woonkern'!$B$60:$B$561,SMALL(IF('Per woonkern'!$A$60:$A$561=$B$5,ROW('Per woonkern'!$A$60:$A$561)-MIN(ROW('Per woonkern'!$A$60:$A$561))+1,""),ROW(A12))),"")} -> Schimmert | C17: =IF(B17="","",D17/$M$4) -> 840 | D17: =IF(B17="","",_xlfn.XLOOKUP(B17,'CBS woonkernen'!$C$1:$C$3000,'CBS woonkernen'!$L$1:$L$3000)) -> 588 | E17: =_xlfn.XLOOKUP(B17,'Per woonkern'!B$61:B$560,'Per woonkern'!G$61:G$560,0) -> 220.92032 | F17: =_xlfn.XLOOKUP(B17,'Per woonkern'!B$61:B$560,'Per woonkern'!I$61:I$560,0) -> 36.820053 | I17: =_xlfn.XLOOKUP(B17,'Per woonkern'!B$61:B$560,'Per woonkern'!M$61:M$560,0) -> 163.8954 | J17: =_xlfn.XLOOKUP(B17,'Per woonkern'!B$61:B$560,'Per woonkern'!N$61:N$560,0) -> 25.49484 | O17: =_xlfn.XLOOKUP(B17,'Per woonkern'!B$61:B$560,'Per woonkern'!Q$61:Q$560,0) -> 162.92874 | P17: =_xlfn.XLOOKUP(B17,'Per woonkern'!B$61:B$560,'Per woonkern'!S$61:S$560,0) -> 9.0209131 | S17: =_xlfn.XLOOKUP(B17,'Per woonkern'!B$61:B$560,'Per woonkern'!U$61:U$560,0) -> 158.79643 | T17: =_xlfn.XLOOKUP(B17,'Per woonkern'!B$61:B$560,'Per woonkern'!V$61:V$560,0) -> 10.92636
