Workbook

Sheet UITLEG
B2: Tabbladen
B4: Dichtheden | D4: In deze sheet worden de populaties van de soorten per gemeente berekend op basis van dichtheden per km2 en wordt er vanuit de sheet "Per woonkern" een samenvatting gegeven per gemeente. Voor de getallen en keuzes die gemaakt zijn zie de Snijder, 2021 en 2022 (Snijder, M.A., 2021. Populatie inschatting en achtergronddocument beschermde gebouw_x0002_bewonende vleermuissoorten bij particulieren. Pre-SMP voor de Provincie Utrecht. Ecologisch Adviesbureau Viridis, Culemborg, PRNR-2020-157 OF Snijder, M.A., 2022. Populatie inschatting en achtergronddocument beschermde gebouw_x0002_bewonende vleermuissoorten bij particulieren. Pre-SMP voor de Provincie Overijssel. Ecologisch Adviesbureau Viridis, Culemborg, PRNR-2022-113.)
B7: Per woonkern | D7: In deze sheet worden per woonkern berekend hoe groot de populaties gewone dwergvleermuis, laatvlieger, huismus en gierzwaluw zouden zijn met de verdeling over de lengte aan omtrek (P.pip & E.ser) of oppervlakte van de woonkern (vogels). Daarnaast berekent de sheet het aantal kolonies van de twee vleermuissoorten door de berekende populatie te delen door twee (man:vrouw) en dit getal te delen door de gemiddelde koloniegrootte, daarbij rondt hij het aantal kolonies af waardoor er ook grote kolonies zullen ontstaan.
B10: INVULLEN | D10: In deze sheet dient u in cel B5 een gemeente te kiezen uit het dropdown menu. De gegevens van deze gemeente worden dan zichtbaar in de matrix welke wordt gebruikt om de gegevens in te laden in het tabblad 'Overzicht simpel'.
B13: Overzicht simpel | D13: Deze sheet geeft een versimpelde samenvatting van de berekende aantasting per soort en per woonkern.
B16: CBS woonkernen | D16: Dit is de sheet met de gegevens van het CBS bevolkingskernen 2021. daarin zijn een aantal correcties toegepast die in de sheet zijn bijgehouden, [geel] = verwijderde regel, deze woonkern betreft een relict van een begrenzing van een woonkern die net buiten de gemeentegrens valt en daardoor bij het opknippen van de woonkernen per gemeente dubbel zijn benoemd in twee verschillende gemeentes. [blauw] = naam van de woonkern is aangepast, bijv. Velp en Arnhem heten beide "Groot-Arnhem". Het aantal huizen dat is geselecteerd in de dataset zijn woonhuizen die grondgebonden zijn, gebouwd tussen 1910 t/m 1991, in particulier eigendom en met energielabel C t/m G.
D18: =HYPERLINK("https://www.cbs.nl/nl-nl/maatwerk/2024/11/bevolkingskernen-per-gemeente-1-1-2021") -> https://www.cbs.nl/nl-nl/maatwerk/2024/11/bevolkingskernen-per-gemeente-1-1-2021
B20: Rekensheet aantasting | D20: Dit is de sheet die de kansberekeningen maakt, dit is de sheet die ook voor het pre-SMP is toegepast, het is een vrij complexe serie weergaves die de sheet maakt op basis van wat er in de sheet: "INVULLEN" is ingevoerd. De samenvatting van deze sheet is te vinden in de sheet: "Overzicht simpel". Via het rode driehoekje in de kolomtitels is uitleg op te vragen. Voor de aantasting is uitgegaan van een 6% isolatiepercentage (zie ook de notitie 'Notitie berekening aangepast percentage op aantasting kraamverblijfplaatsen en nesten van gebouwbewonende soorten in het kader van de landelijke lijn NVI' van Brouwer & Snijder (2024)
B23: Rekenvoorbeeld | D23: Op deze sheet staat een voorbeeldberekening, het aantal verblijfplaatsen dat in een woonkern is berekend wordt evenredig verdeeld over de panden uit het CBS-bestand en rekent daarmee de kans op aantasting uit. Zie hiervoor ook het beleidskader van de provincie Utrecht t.a.v. het pre-SMP.
B25: Gebruikte afkortingen:
B26: P.pip | D26: Pipistrellus pipistrellus, Gewone dwergvleermuis
B27: E.ser | D27: Eptesicus serotinus, Laatvlieger
B28: P.aur | D28: Plecotus auritus, Gewone grootoorvleermuis
B29: M.mys | D29: Myotis mystacinus, Baardvleermuis
B30: P.dom | D30: Passer domesticus, Huismus
B31: A.apus | D31: Apus apus, Gierzwaluw
B32: FRP | D32: Favourable Reference Population (bron: Ottburg, F.G.W.A. & C.A.M. van Swaay (red., 2014). Gunstige referentiewaarden voor populatieomvang en verspreidingsgebied van soorten van bijlage II, IV en V van de Habitatrichtlijn. Wageningen, Wettelijke Onderzoekstaken Natuur & Milieu, WOt-rapport 124. 269 blz.; 76 fig.; 12 tab.; diverse ref)
D33: =HYPERLINK("https://research.wur.nl/en/publications/gunstige-referentiewaarden-voor-populatieomvang-en-verspreidingsg") -> https://research.wur.nl/en/publications/gunstige-referentiewaarden-voor-populatieomvang-en-verspreidingsg

Sheet Dichtheden
B2: Kerncijfers | C2: P.pip | D2: E.ser | E2: M.mys | F2: P.aur | G2: P.dom | H2: A.apus | I2: De waarden in de gele vlakken worden handmatig ingevuld en vormen de basis voor alle dichtheidsberekeningen. In de sheet: "Per woonkern" is per gemeente en per woonkerneen berekening gemaakt van de populaties gewone dwergvleermuis en laatvlieger.
B3: Gemiddelde koloniegrootte | C3: 100 | D3: 25 | E3: 12 | F3: 17 | G3: broedparen | H3: broedparen
B4: Dichtheden 2022 (per km2) | C4: 24 | D4: 4 | E4: 0.98 | F4: 1.66 | G4: 225 | H4: 35
B5: Dichtheden FRP-1994 (per km2) | C5: 17.7 | D5: 0.98 | E5: 0.98 | F5: 1.66 | G5: 218 | H5: 15 | AS5: 1994
B6: Baltsterritoria min (ha) | C6: 1.2 | M6: Pipistrellus pipistrellus | X6: Myotis mystacinus | AB6: Plecotus auritus | AJ6: Eptesicus serotinus | AP6: Passer domesticus | AQ6: Apus apus | AS6: Pipistrellus pipistrellus | AU6: Myotis mystacinus | AW6: Plecotus auritus | AY6: Eptesicus serotinus
B7: Baltsterritoria gem. (ha) | C7: 3
M8: Territoria in bebouwing | R8: Oppervlak gemeente | T8: % Oppervlak woonkernen | V8: % randen woonkernen | X8: Oppervlak gemeente | Z8: % randen woonkernen | AB8: Oppervlak gemeente 50% | AD8: Oppervlak gemeente 100% | AF8: Oppervlak gemeente | AH8: % randen woonkernen | AJ8: Oppervlak gemeente | AL8: % Oppervlak woonkernen | AN8: % randen woonkernen | AP8: Oppervlak woonkernen | AQ8: Oppervlak woonkernen | AS8: % randen woonkernen | AU8: % randen woonkernen | AW8: Oppervlak gemeente 50% | AY8: % randen woonkernen
B10: Limburg | C10: Opp. land | E10: Opp. buitengebied | G10: Woonkernen
B11: Gemeente | C11: Opp. land (KM2) | D11: % opp. Land prov | E11: buiten gebied (km2) | F11: % buiten gebied | G11: Oppervlak woonkernen (km2) | H11: % opp woonkern t.o.v. totaal gemeente | I11: % opp. woonkern tov totaal woonkernen | J11: Berekend aantal woonkernen | K11: Omtrek woonkern | L11: % omtrek woonkern | M11: Aantal territoria van 3 ha | N11: Populatie bij territoria van 3 ha | O11: Aantal kolonies bij territoria van 3 ha | P11: Aantal territoria van 1,2 ha | Q11: Populatie bij territoria van 1,2 ha | R11: Pop. min | S11: Min kolonies | T11: Populatie | U11: Kolonies | V11: Populatie | W11: Kolonies | X11: Populatie | Y11: Kolonies | Z11: Populatie | AA11: Kolonies | AB11: Populatie | AC11: Kolonies | AD11: Populatie | AE11: Kolonies | AF11: Populatie | AG11: Kolonies | AH11: pop. over rand woonkern | AI11: kolonie over rand woonkern | AJ11: Populatie | AK11: Kolonies | AL11: pop. over oppervlak woonkern | AM11: kolonie over oppervlak woonkern | AN11: Populatie | AO11: Kolonies | AP11: broedparen over oppervlak woonkern | AQ11: broedparen over oppervlak woonkern | AS11: Populatie | AT11: Kolonies | AU11: Populatie | AV11: Kolonies | AW11: Populatie | AX11: Kolonies | AY11: Populatie | AZ11: Kolonies
A12: 1 | B12: Gemeente Beek | C12: 21.03 | D12: =C12/$C$68 -> 0.0097967968 | E12: =C12-G12 -> 16.485741 | F12: =IF(E12=0,0,E12/C12) -> 0.78391541 | G12: ='Per woonkern'!D2 -> 4.544259 | H12: =IF(G12=0,0,G12/C12) -> 0.21608459 | I12: =G12/$G$68 -> 0.013640617 | J12: ='Per woonkern'!B2 -> 4 | K12: ='Per woonkern'!C2 -> 21.580453 | L12: =K12/$K$68 -> 0.014232375 | M12: =G12*100/$C$7 -> 151.4753 | N12: =M12*2 -> 302.9506 | O12: =M12/$C$3 -> 1.514753 | P12: =G12*100/$C$6 -> 378.68825 | Q12: =P12*2 -> 757.3765 | R12: =$V$70*D12 -> 504.72 | S12: =R12/2/$C$3 -> 2.5236 | T12: =$V$70*I12 -> 702.74933 | U12: =T12/2/$C$3 -> 3.5137466 | V12: =$V$70*L12 -> 733.236 | W12: ='Per woonkern'!H2 -> 5 | X12: =$E$4*C12 -> 20.6094 | Y12: =IF(B12=0,0,IF((X12/2)/$E$3<=1,1,ROUND(((X12/2))/$E$3,0))) -> 1 | Z12: =$X$70*L12 -> 29.94047 | AA12: =IF((Z12/2)/$E$3<=1,1,ROUND(((Z12/2))/$E$3,0)) -> 1 | AB12: =$F$4*C12*0.5 -> 17.4549 | AC12: =IF(B12=0,0,IF(AB12/$F$3<=1,1,ROUND(AB12/$F$3,0))) -> 1 | AD12: =$F$4*C12 -> 34.9098 | AE12: =IF(AD12/$F$3<=1,1,ROUND(AD12/$F$3,0)) -> 2 | AF12: =G12*$AF$70 -> 48.606829 | AG12: =IF(AF12/$F$3<=1,1,ROUND(AF12/$F$3,0)) -> 3 | AH12: =$AD$70*L12 -> 50.71549 | AI12: =IF(AH12/$F$3<=1,1,ROUND(AH12/$F$3,0)) -> 3 | AJ12: =$D$4*C12 -> 84.12 | AK12: =AJ12/2/$D$3 -> 1.6824 | AL12: =G12*$AL$70 -> 117.12489 | AM12: =(AL12/2)/$D$3 -> 2.3424978 | AN12: =$AJ$70*L12 -> 122.206 | AO12: ='Per woonkern'!J2 -> 4 | AP12: ='Per woonkern'!M2 -> 1035.0113 | AQ12: ='Per woonkern'!N2 -> 159.04906 | AS12: =$AS$68*L12 -> 540.76155 | AT12: =(AS12/2)/$C$3 -> 2.7038078 | AU12: =$X$70*L12 -> 29.94047 | AV12: =(AU12/2)/$E$3 -> 1.2475196 | AW12: =$F$4*C12*0.5 -> 17.4549 | AX12: =AW12/$F$3 -> 1.0267588 | AY12: =$AY$68*L12 -> 29.94047 | AZ12: =(AY12/2)/$D$3 -> 0.5988094
A13: 2 | B13: Gemeente Beekdaelen | C13: 78.3 | D13: =C13/$C$68 -> 0.036475948 | E13: =C13-G13 -> 69.373196 | F13: =IF(E13=0,0,E13/C13) -> 0.88599229 | G13: ='Per woonkern'!D3 -> 8.926804 | H13: =IF(G13=0,0,G13/C13) -> 0.11400771 | I13: =G13/$G$68 -> 0.026795814 | J13: ='Per woonkern'!B3 -> 17 | K13: ='Per woonkern'!C3 -> 77.843826 | L13: =K13/$K$68 -> 0.051338241 | M13: =G13*100/$C$7 -> 297.56013 | N13: =M13*2 -> 595.12027 | O13: =M13/$C$3 -> 2.9756013 | P13: =G13*100/$C$6 -> 743.90033 | Q13: =P13*2 -> 1487.8007 | R13: =$V$70*D13 -> 1879.2 | S13: =R13/2/$C$3 -> 9.396 | T13: =$V$70*I13 -> 1380.4903 | U13: =T13/2/$C$3 -> 6.9024516 | V13: =$V$70*L13 -> 2644.8887 | W13: ='Per woonkern'!H3 -> 18 | X13: =$E$4*C13 -> 76.734 | Y13: =IF(B13=0,0,IF((X13/2)/$E$3<=1,1,ROUND(((X13/2))/$E$3,0))) -> 3 | Z13: =$X$70*L13 -> 107.99962 | AA13: =IF((Z13/2)/$E$3<=1,1,ROUND(((Z13/2))/$E$3,0)) -> 4 | AB13: =$F$4*C13*0.5 -> 64.989 | AC13: =IF(B13=0,0,IF(AB13/$F$3<=1,1,ROUND(AB13/$F$3,0))) -> 4 | AD13: =$F$4*C13 -> 129.978 | AE13: =IF(AD13/$F$3<=1,1,ROUND(AD13/$F$3,0)) -> 8 | AF13: =G13*$AF$70 -> 95.483913 | AG13: =IF(AF13/$F$3<=1,1,ROUND(AF13/$F$3,0)) -> 6 | AH13: =$AD$70*L13 -> 182.93813 | AI13: =IF(AH13/$F$3<=1,1,ROUND(AH13/$F$3,0)) -> 11 | AJ13: =$D$4*C13 -> 313.2 | AK13: =AJ13/2/$D$3 -> 6.264 | AL13: =G13*$AL$70 -> 230.08172 | AM13: =(AL13/2)/$D$3 -> 4.6016344 | AN13: =$AJ$70*L13 -> 440.81478 | AO13: ='Per woonkern'!J3 -> 17 | AP13: ='Per woonkern'!M3 -> 2035.7294 | AQ13: ='Per woonkern'!N3 -> 312.43814 | AS13: =$AS$68*L13 -> 1950.6054 | AT13: =(AS13/2)/$C$3 -> 9.753027 | AU13: =$X$70*L13 -> 107.99962 | AV13: =(AU13/2)/$E$3 -> 4.4999842 | AW13: =$F$4*C13*0.5 -> 64.989 | AX13: =AW13/$F$3 -> 3.8228824 | AY13: =$AY$68*L13 -> 107.99962 | AZ13: =(AY13/2)/$D$3 -> 2.1599924
A14: 3 | B14: Gemeente Beesel | C14: 27.99 | D14: =C14/$C$68 -> 0.013039103 | E14: =C14-G14 -> 24.313542 | F14: =IF(E14=0,0,E14/C14) -> 0.86865102 | G14: ='Per woonkern'!D4 -> 3.676458 | H14: =IF(G14=0,0,G14/C14) -> 0.13134898 | I14: =G14/$G$68 -> 0.011035717 | J14: ='Per woonkern'!B4 -> 2 | K14: ='Per woonkern'!C4 -> 19.920348 | L14: =K14/$K$68 -> 0.01313753 | M14: =G14*100/$C$7 -> 122.5486 | N14: =M14*2 -> 245.0972 | O14: =M14/$C$3 -> 1.225486 | P14: =G14*100/$C$6 -> 306.3715 | Q14: =P14*2 -> 612.743 | R14: =$V$70*D14 -> 671.76 | S14: =R14/2/$C$3 -> 3.3588 | T14: =$V$70*I14 -> 568.54779 | U14: =T14/2/$C$3 -> 2.8427389 | V14: =$V$70*L14 -> 676.83085 | W14: ='Per woonkern'!H4 -> 3 | X14: =$E$4*C14 -> 27.4302 | Y14: =IF(B14=0,0,IF((X14/2)/$E$3<=1,1,ROUND(((X14/2))/$E$3,0))) -> 1 | Z14: =$X$70*L14 -> 27.63726 | AA14: =IF((Z14/2)/$E$3<=1,1,ROUND(((Z14/2))/$E$3,0)) -> 1 | AB14: =$F$4*C14*0.5 -> 23.2317 | AC14: =IF(B14=0,0,IF(AB14/$F$3<=1,1,ROUND(AB14/$F$3,0))) -> 1 | AD14: =$F$4*C14 -> 46.4634 | AE14: =IF(AD14/$F$3<=1,1,ROUND(AD14/$F$3,0)) -> 3 | AF14: =G14*$AF$70 -> 39.324555 | AG14: =IF(AF14/$F$3<=1,1,ROUND(AF14/$F$3,0)) -> 2 | AH14: =$AD$70*L14 -> 46.814134 | AI14: =IF(AH14/$F$3<=1,1,ROUND(AH14/$F$3,0)) -> 3 | AJ14: =$D$4*C14 -> 111.96 | AK14: =AJ14/2/$D$3 -> 2.2392 | AL14: =G14*$AL$70 -> 94.757964 | AM14: =(AL14/2)/$D$3 -> 1.8951593 | AN14: =$AJ$70*L14 -> 112.80514 | AO14: ='Per woonkern'!J4 -> 2 | AP14: ='Per woonkern'!M4 -> 827.20305 | AQ14: ='Per woonkern'!N4 -> 128.67603 | AS14: =$AS$68*L14 -> 499.16275 | AT14: =(AS14/2)/$C$3 -> 2.4958138 | AU14: =$X$70*L14 -> 27.63726 | AV14: =(AU14/2)/$E$3 -> 1.1515525 | AW14: =$F$4*C14*0.5 -> 23.2317 | AX14: =AW14/$F$3 -> 1.3665706 | AY14: =$AY$68*L14 -> 27.63726 | AZ14: =(AY14/2)/$D$3 -> 0.55274519
A15: 4 | B15: Gemeente Bergen (L) | C15: 103.24 | D15: =C15/$C$68 -> 0.048094213 | E15: =C15-G15 -> 99.385111 | F15: =IF(E15=0,0,E15/C15) -> 0.9626609 | G15: ='Per woonkern'!D5 -> 3.854889 | H15: =IF(G15=0,0,G15/C15) -> 0.037339103 | I15: =G15/$G$68 -> 0.011571318 | J15: ='Per woonkern'!B5 -> 8 | K15: ='Per woonkern'!C5 -> 31.682117 | L15: =K15/$K$68 -> 0.020894453 | M15: =G15*100/$C$7 -> 128.4963 | N15: =M15*2 -> 256.9926 | O15: =M15/$C$3 -> 1.284963 | P15: =G15*100/$C$6 -> 321.24075 | Q15: =P15*2 -> 642.4815 | R15: =$V$70*D15 -> 2477.76 | S15: =R15/2/$C$3 -> 12.3888 | T15: =$V$70*I15 -> 596.14134 | U15: =T15/2/$C$3 -> 2.9807067 | V15: =$V$70*L15 -> 1076.4588 | W15: ='Per woonkern'!H5 -> 8 | X15: =$E$4*C15 -> 101.1752 | Y15: =IF(B15=0,0,IF((X15/2)/$E$3<=1,1,ROUND(((X15/2))/$E$3,0))) -> 4 | Z15: =$X$70*L15 -> 43.955401 | AA15: =IF((Z15/2)/$E$3<=1,1,ROUND(((Z15/2))/$E$3,0)) -> 2 | AB15: =$F$4*C15*0.5 -> 85.6892 | AC15: =IF(B15=0,0,IF(AB15/$F$3<=1,1,ROUND(AB15/$F$3,0))) -> 5 | AD15: =$F$4*C15 -> 171.3784 | AE15: =IF(AD15/$F$3<=1,1,ROUND(AD15/$F$3,0)) -> 10 | AF15: =G15*$AF$70 -> 41.233109 | AG15: =IF(AF15/$F$3<=1,1,ROUND(AF15/$F$3,0)) -> 2 | AH15: =$AD$70*L15 -> 74.455068 | AI15: =IF(AH15/$F$3<=1,1,ROUND(AH15/$F$3,0)) -> 4 | AJ15: =$D$4*C15 -> 412.96 | AK15: =AJ15/2/$D$3 -> 8.2592 | AL15: =G15*$AL$70 -> 99.35689 | AM15: =(AL15/2)/$D$3 -> 1.9871378 | AN15: =$AJ$70*L15 -> 179.4098 | AO15: ='Per woonkern'!J5 -> 8 | AP15: ='Per woonkern'!M5 -> 877.6427 | AQ15: ='Per woonkern'!N5 -> 134.92111 | AS15: =$AS$68*L15 -> 793.88837 | AT15: =(AS15/2)/$C$3 -> 3.9694419 | AU15: =$X$70*L15 -> 43.955401 | AV15: =(AU15/2)/$E$3 -> 1.8314751 | AW15: =$F$4*C15*0.5 -> 85.6892 | AX15: =AW15/$F$3 -> 5.0405412 | AY15: =$AY$68*L15 -> 43.955401 | AZ15: =(AY15/2)/$D$3 -> 0.87910803
A16: 5 | B16: Gemeente Brunssum | C16: 17.25 | D16: =C16/$C$68 -> 0.008035889 | E16: =C16-G16 -> 9.49597 | F16: =IF(E16=0,0,E16/C16) -> 0.55049101 | G16: ='Per woonkern'!D6 -> 7.75403 | H16: =IF(G16=0,0,G16/C16) -> 0.44950899 | I16: =G16/$G$68 -> 0.023275468 | J16: ='Per woonkern'!B6 -> 1 | K16: ='Per woonkern'!C6 -> 14.25287 | L16: =K16/$K$68 -> 0.0093998113 | M16: =G16*100/$C$7 -> 258.46767 | N16: =M16*2 -> 516.93533 | O16: =M16/$C$3 -> 2.5846767 | P16: =G16*100/$C$6 -> 646.16917 | Q16: =P16*2 -> 1292.3383 | R16: =$V$70*D16 -> 414 | S16: =R16/2/$C$3 -> 2.07 | T16: =$V$70*I16 -> 1199.1261 | U16: =T16/2/$C$3 -> 5.9956303 | V16: =$V$70*L16 -> 484.26775 | W16: ='Per woonkern'!H6 -> 2 | X16: =$E$4*C16 -> 16.905 | Y16: =IF(B16=0,0,IF((X16/2)/$E$3<=1,1,ROUND(((X16/2))/$E$3,0))) -> 1 | Z16: =$X$70*L16 -> 19.774266 | AA16: =IF((Z16/2)/$E$3<=1,1,ROUND(((Z16/2))/$E$3,0)) -> 1 | AB16: =$F$4*C16*0.5 -> 14.3175 | AC16: =IF(B16=0,0,IF(AB16/$F$3<=1,1,ROUND(AB16/$F$3,0))) -> 1 | AD16: =$F$4*C16 -> 28.635 | AE16: =IF(AD16/$F$3<=1,1,ROUND(AD16/$F$3,0)) -> 2 | AF16: =G16*$AF$70 -> 82.939552 | AG16: =IF(AF16/$F$3<=1,1,ROUND(AF16/$F$3,0)) -> 5 | AH16: =$AD$70*L16 -> 33.495186 | AI16: =IF(AH16/$F$3<=1,1,ROUND(AH16/$F$3,0)) -> 2 | AJ16: =$D$4*C16 -> 69 | AK16: =AJ16/2/$D$3 -> 1.38 | AL16: =G16*$AL$70 -> 199.85434 | AM16: =(AL16/2)/$D$3 -> 3.9970869 | AN16: =$AJ$70*L16 -> 80.711292 | AO16: ='Per woonkern'!J6 -> 2 | AP16: ='Per woonkern'!M6 -> 1744.6568 | AQ16: ='Per woonkern'!N6 -> 271.39105 | AS16: =$AS$68*L16 -> 357.14746 | AT16: =(AS16/2)/$C$3 -> 1.7857373 | AU16: =$X$70*L16 -> 19.774266 | AV16: =(AU16/2)/$E$3 -> 0.82392777 | AW16: =$F$4*C16*0.5 -> 14.3175 | AX16: =AW16/$F$3 -> 0.84220588 | AY16: =$AY$68*L16 -> 19.774266 | AZ16: =(AY16/2)/$D$3 -> 0.39548533
A17: 6 | B17: Gemeente Echt-Susteren | C17: 103.07 | D17: =C17/$C$68 -> 0.048015019 | E17: =C17-G17 -> 93.447024 | F17: =IF(E17=0,0,E17/C17) -> 0.9066365 | G17: ='Per woonkern'!D7 -> 9.622976 | H17: =IF(G17=0,0,G17/C17) -> 0.093363501 | I17: =G17/$G$68 -> 0.028885531 | J17: ='Per woonkern'!B7 -> 9 | K17: ='Per woonkern'!C7 -> 63.199067 | L17: =K17/$K$68 -> 0.041679978 | M17: =G17*100/$C$7 -> 320.76587 | N17: =M17*2 -> 641.53173 | O17: =M17/$C$3 -> 3.2076587 | P17: =G17*100/$C$6 -> 801.91467 | Q17: =P17*2 -> 1603.8293 | R17: =$V$70*D17 -> 2473.68 | S17: =R17/2/$C$3 -> 12.3684 | T17: =$V$70*I17 -> 1488.1502 | U17: =T17/2/$C$3 -> 7.440751 | V17: =$V$70*L17 -> 2147.3058 | W17: ='Per woonkern'!H7 -> 13 | X17: =$E$4*C17 -> 101.0086 | Y17: =IF(B17=0,0,IF((X17/2)/$E$3<=1,1,ROUND(((X17/2))/$E$3,0))) -> 4 | Z17: =$X$70*L17 -> 87.681652 | AA17: =IF((Z17/2)/$E$3<=1,1,ROUND(((Z17/2))/$E$3,0)) -> 4 | AB17: =$F$4*C17*0.5 -> 85.5481 | AC17: =IF(B17=0,0,IF(AB17/$F$3<=1,1,ROUND(AB17/$F$3,0))) -> 5 | AD17: =$F$4*C17 -> 171.0962 | AE17: =IF(AD17/$F$3<=1,1,ROUND(AD17/$F$3,0)) -> 10 | AF17: =G17*$AF$70 -> 102.93039 | AG17: =IF(AF17/$F$3<=1,1,ROUND(AF17/$F$3,0)) -> 6 | AH17: =$AD$70*L17 -> 148.52198 | AI17: =IF(AH17/$F$3<=1,1,ROUND(AH17/$F$3,0)) -> 9 | AJ17: =$D$4*C17 -> 412.28 | AK17: =AJ17/2/$D$3 -> 8.2456 | AL17: =G17*$AL$70 -> 248.02503 | AM17: =(AL17/2)/$D$3 -> 4.9605007 | AN17: =$AJ$70*L17 -> 357.88429 | AO17: ='Per woonkern'!J7 -> 11 | AP17: ='Per woonkern'!M7 -> 2165.1696 | AQ17: ='Per woonkern'!N7 -> 336.80416 | AS17: =$AS$68*L17 -> 1583.638 | AT17: =(AS17/2)/$C$3 -> 7.91819 | AU17: =$X$70*L17 -> 87.681652 | AV17: =(AU17/2)/$E$3 -> 3.6534022 | AW17: =$F$4*C17*0.5 -> 85.5481 | AX17: =AW17/$F$3 -> 5.0322412 | AY17: =$AY$68*L17 -> 87.681652 | AZ17: =(AY17/2)/$D$3 -> 1.753633
A18: 7 | B18: Gemeente Eijsden-Margraten | C18: 77.55 | D18: =C18/$C$68 -> 0.036126562 | E18: =C18-G18 -> 69.298039 | F18: =IF(E18=0,0,E18/C18) -> 0.89359173 | G18: ='Per woonkern'!D8 -> 8.251961 | H18: =IF(G18=0,0,G18/C18) -> 0.10640827 | I18: =G18/$G$68 -> 0.02477012 | J18: ='Per woonkern'!B8 -> 15 | K18: ='Per woonkern'!C8 -> 65.005425 | L18: =K18/$K$68 -> 0.042871276 | M18: =G18*100/$C$7 -> 275.06537 | N18: =M18*2 -> 550.13073 | O18: =M18/$C$3 -> 2.7506537 | P18: =G18*100/$C$6 -> 687.66342 | Q18: =P18*2 -> 1375.3268 | R18: =$V$70*D18 -> 1861.2 | S18: =R18/2/$C$3 -> 9.306 | T18: =$V$70*I18 -> 1276.1289 | U18: =T18/2/$C$3 -> 6.3806443 | V18: =$V$70*L18 -> 2208.6801 | W18: ='Per woonkern'!H8 -> 17 | X18: =$E$4*C18 -> 75.999 | Y18: =IF(B18=0,0,IF((X18/2)/$E$3<=1,1,ROUND(((X18/2))/$E$3,0))) -> 3 | Z18: =$X$70*L18 -> 90.187772 | AA18: =IF((Z18/2)/$E$3<=1,1,ROUND(((Z18/2))/$E$3,0)) -> 4 | AB18: =$F$4*C18*0.5 -> 64.3665 | AC18: =IF(B18=0,0,IF(AB18/$F$3<=1,1,ROUND(AB18/$F$3,0))) -> 4 | AD18: =$F$4*C18 -> 128.733 | AE18: =IF(AD18/$F$3<=1,1,ROUND(AD18/$F$3,0)) -> 8 | AF18: =G18*$AF$70 -> 88.265579 | AG18: =IF(AF18/$F$3<=1,1,ROUND(AF18/$F$3,0)) -> 5 | AH18: =$AD$70*L18 -> 152.76704 | AI18: =IF(AH18/$F$3<=1,1,ROUND(AH18/$F$3,0)) -> 9 | AJ18: =$D$4*C18 -> 310.2 | AK18: =AJ18/2/$D$3 -> 6.204 | AL18: =G18*$AL$70 -> 212.68814 | AM18: =(AL18/2)/$D$3 -> 4.2537629 | AN18: =$AJ$70*L18 -> 368.11336 | AO18: ='Per woonkern'!J8 -> 16 | AP18: ='Per woonkern'!M8 -> 1880.1163 | AQ18: ='Per woonkern'!N8 -> 288.81864 | AS18: =$AS$68*L18 -> 1628.9016 | AT18: =(AS18/2)/$C$3 -> 8.144508 | AU18: =$X$70*L18 -> 90.187772 | AV18: =(AU18/2)/$E$3 -> 3.7578238 | AW18: =$F$4*C18*0.5 -> 64.3665 | AX18: =AW18/$F$3 -> 3.7862647 | AY18: =$AY$68*L18 -> 90.187772 | AZ18: =(AY18/2)/$D$3 -> 1.8037554
A19: 8 | B19: Gemeente Gennep | C19: 47.62 | D19: =C19/$C$68 -> 0.022183712 | E19: =C19-G19 -> 42.265109 | F19: =IF(E19=0,0,E19/C19) -> 0.88754954 | G19: ='Per woonkern'!D9 -> 5.354891 | H19: =IF(G19=0,0,G19/C19) -> 0.11245046 | I19: =G19/$G$68 -> 0.016073912 | J19: ='Per woonkern'!B9 -> 6 | K19: ='Per woonkern'!C9 -> 36.759596 | L19: =K19/$K$68 -> 0.024243066 | M19: =G19*100/$C$7 -> 178.49637 | N19: =M19*2 -> 356.99273 | O19: =M19/$C$3 -> 1.7849637 | P19: =G19*100/$C$6 -> 446.24092 | Q19: =P19*2 -> 892.48183 | R19: =$V$70*D19 -> 1142.88 | S19: =R19/2/$C$3 -> 5.7144 | T19: =$V$70*I19 -> 828.10994 | U19: =T19/2/$C$3 -> 4.1405497 | V19: =$V$70*L19 -> 1248.9756 | W19: ='Per woonkern'!H9 -> 8 | X19: =$E$4*C19 -> 46.6676 | Y19: =IF(B19=0,0,IF((X19/2)/$E$3<=1,1,ROUND(((X19/2))/$E$3,0))) -> 2 | Z19: =$X$70*L19 -> 50.999837 | AA19: =IF((Z19/2)/$E$3<=1,1,ROUND(((Z19/2))/$E$3,0)) -> 2 | AB19: =$F$4*C19*0.5 -> 39.5246 | AC19: =IF(B19=0,0,IF(AB19/$F$3<=1,1,ROUND(AB19/$F$3,0))) -> 2 | AD19: =$F$4*C19 -> 79.0492 | AE19: =IF(AD19/$F$3<=1,1,ROUND(AD19/$F$3,0)) -> 5 | AF19: =G19*$AF$70 -> 57.277604 | AG19: =IF(AF19/$F$3<=1,1,ROUND(AF19/$F$3,0)) -> 3 | AH19: =$AD$70*L19 -> 86.387479 | AI19: =IF(AH19/$F$3<=1,1,ROUND(AH19/$F$3,0)) -> 5 | AJ19: =$D$4*C19 -> 190.48 | AK19: =AJ19/2/$D$3 -> 3.8096 | AL19: =G19*$AL$70 -> 138.01832 | AM19: =(AL19/2)/$D$3 -> 2.7603665 | AN19: =$AJ$70*L19 -> 208.1626 | AO19: ='Per woonkern'!J9 -> 6 | AP19: ='Per woonkern'!M9 -> 1211.7553 | AQ19: ='Per woonkern'!N9 -> 187.42119 | AS19: =$AS$68*L19 -> 921.1195 | AT19: =(AS19/2)/$C$3 -> 4.6055975 | AU19: =$X$70*L19 -> 50.999837 | AV19: =(AU19/2)/$E$3 -> 2.1249932 | AW19: =$F$4*C19*0.5 -> 39.5246 | AX19: =AW19/$F$3 -> 2.3249765 | AY19: =$AY$68*L19 -> 50.999837 | AZ19: =(AY19/2)/$D$3 -> 1.0199967
A20: 9 | B20: Gemeente Gulpen-Wittem | C20: 73.18 | D20: =C20/$C$68 -> 0.034090803 | E20: =C20-G20 -> 69.63424 | F20: =IF(E20=0,0,E20/C20) -> 0.95154742 | G20: ='Per woonkern'!D10 -> 3.54576 | H20: =IF(G20=0,0,G20/C20) -> 0.048452583 | I20: =G20/$G$68 -> 0.010643398 | J20: ='Per woonkern'!B10 -> 11 | K20: ='Per woonkern'!C10 -> 40.657441 | L20: =K20/$K$68 -> 0.026813706 | M20: =G20*100/$C$7 -> 118.192 | N20: =M20*2 -> 236.384 | O20: =M20/$C$3 -> 1.18192 | P20: =G20*100/$C$6 -> 295.48 | Q20: =P20*2 -> 590.96 | R20: =$V$70*D20 -> 1756.32 | S20: =R20/2/$C$3 -> 8.7816 | T20: =$V$70*I20 -> 548.33592 | U20: =T20/2/$C$3 -> 2.7416796 | V20: =$V$70*L20 -> 1381.4121 | W20: ='Per woonkern'!H10 -> 11 | X20: =$E$4*C20 -> 71.7164 | Y20: =IF(B20=0,0,IF((X20/2)/$E$3<=1,1,ROUND(((X20/2))/$E$3,0))) -> 3 | Z20: =$X$70*L20 -> 56.407662 | AA20: =IF((Z20/2)/$E$3<=1,1,ROUND(((Z20/2))/$E$3,0)) -> 2 | AB20: =$F$4*C20*0.5 -> 60.7394 | AC20: =IF(B20=0,0,IF(AB20/$F$3<=1,1,ROUND(AB20/$F$3,0))) -> 4 | AD20: =$F$4*C20 -> 121.4788 | AE20: =IF(AD20/$F$3<=1,1,ROUND(AD20/$F$3,0)) -> 7 | AF20: =G20*$AF$70 -> 37.926568 | AG20: =IF(AF20/$F$3<=1,1,ROUND(AF20/$F$3,0)) -> 2 | AH20: =$AD$70*L20 -> 95.547672 | AI20: =IF(AH20/$F$3<=1,1,ROUND(AH20/$F$3,0)) -> 6 | AJ20: =$D$4*C20 -> 292.72 | AK20: =AJ20/2/$D$3 -> 5.8544 | AL20: =G20*$AL$70 -> 91.389321 | AM20: =(AL20/2)/$D$3 -> 1.8277864 | AN20: =$AJ$70*L20 -> 230.23535 | AO20: ='Per woonkern'!J10 -> 11 | AP20: ='Per woonkern'!M10 -> 819.1985 | AQ20: ='Per woonkern'!N10 -> 124.1016 | AS20: =$AS$68*L20 -> 1018.7914 | AT20: =(AS20/2)/$C$3 -> 5.0939572 | AU20: =$X$70*L20 -> 56.407662 | AV20: =(AU20/2)/$E$3 -> 2.3503192 | AW20: =$F$4*C20*0.5 -> 60.7394 | AX20: =AW20/$F$3 -> 3.5729059 | AY20: =$AY$68*L20 -> 56.407662 | AZ20: =(AY20/2)/$D$3 -> 1.1281532
A21: 10 | B21: Gemeente Heerlen | C21: 44.94 | D21: =C21/$C$68 -> 0.020935238 | E21: =C21-G21 -> 17.82439 | F21: =IF(E21=0,0,E21/C21) -> 0.39662639 | G21: ='Per woonkern'!D11 -> 27.11561 | H21: =IF(G21=0,0,G21/C21) -> 0.60337361 | I21: =G21/$G$68 -> 0.081393613 | J21: ='Per woonkern'!B11 -> 1 | K21: ='Per woonkern'!C11 -> 45.090491 | L21: =K21/$K$68 -> 0.029737316 | M21: =G21*100/$C$7 -> 903.85367 | N21: =M21*2 -> 1807.7073 | O21: =M21/$C$3 -> 9.0385367 | P21: =G21*100/$C$6 -> 2259.6342 | Q21: =P21*2 -> 4519.2683 | R21: =$V$70*D21 -> 1078.56 | S21: =R21/2/$C$3 -> 5.3928 | T21: =$V$70*I21 -> 4193.3078 | U21: =T21/2/$C$3 -> 20.966539 | V21: =$V$70*L21 -> 1532.0332 | W21: ='Per woonkern'!H11 -> 8 | X21: =$E$4*C21 -> 44.0412 | Y21: =IF(B21=0,0,IF((X21/2)/$E$3<=1,1,ROUND(((X21/2))/$E$3,0))) -> 2 | Z21: =$X$70*L21 -> 62.558024 | AA21: =IF((Z21/2)/$E$3<=1,1,ROUND(((Z21/2))/$E$3,0)) -> 3 | AB21: =$F$4*C21*0.5 -> 37.3002 | AC21: =IF(B21=0,0,IF(AB21/$F$3<=1,1,ROUND(AB21/$F$3,0))) -> 2 | AD21: =$F$4*C21 -> 74.6004 | AE21: =IF(AD21/$F$3<=1,1,ROUND(AD21/$F$3,0)) -> 4 | AF21: =G21*$AF$70 -> 290.03712 | AG21: =IF(AF21/$F$3<=1,1,ROUND(AF21/$F$3,0)) -> 17 | AH21: =$AD$70*L21 -> 105.96563 | AI21: =IF(AH21/$F$3<=1,1,ROUND(AH21/$F$3,0)) -> 6 | AJ21: =$D$4*C21 -> 179.76 | AK21: =AJ21/2/$D$3 -> 3.5952 | AL21: =G21*$AL$70 -> 698.88463 | AM21: =(AL21/2)/$D$3 -> 13.977693 | AN21: =$AJ$70*L21 -> 255.33887 | AO21: ='Per woonkern'!J11 -> 5 | AP21: ='Per woonkern'!M11 -> 6101.0122 | AQ21: ='Per woonkern'!N11 -> 949.04635 | AS21: =$AS$68*L21 -> 1129.8745 | AT21: =(AS21/2)/$C$3 -> 5.6493726 | AU21: =$X$70*L21 -> 62.558024 | AV21: =(AU21/2)/$E$3 -> 2.6065843 | AW21: =$F$4*C21*0.5 -> 37.3002 | AX21: =AW21/$F$3 -> 2.1941294 | AY21: =$AY$68*L21 -> 62.558024 | AZ21: =(AY21/2)/$D$3 -> 1.2511605
A22: 11 | B22: Gemeente Horst aan de Maas | C22: 188.73 | D22: =C22/$C$68 -> 0.087919613 | E22: =C22-G22 -> 178.56261 | F22: =IF(E22=0,0,E22/C22) -> 0.94612731 | G22: ='Per woonkern'!D12 -> 10.167392 | H22: =IF(G22=0,0,G22/C22) -> 0.053872686 | I22: =G22/$G$68 -> 0.030519718 | J22: ='Per woonkern'!B12 -> 15 | K22: ='Per woonkern'!C12 -> 77.53198 | L22: =K22/$K$68 -> 0.051132577 | M22: =G22*100/$C$7 -> 338.91307 | N22: =M22*2 -> 677.82613 | O22: =M22/$C$3 -> 3.3891307 | P22: =G22*100/$C$6 -> 847.28267 | Q22: =P22*2 -> 1694.5653 | R22: =$V$70*D22 -> 4529.52 | S22: =R22/2/$C$3 -> 22.6476 | T22: =$V$70*I22 -> 1572.3417 | U22: =T22/2/$C$3 -> 7.8617085 | V22: =$V$70*L22 -> 2634.2931 | W22: ='Per woonkern'!H12 -> 19 | X22: =$E$4*C22 -> 184.9554 | Y22: =IF(B22=0,0,IF((X22/2)/$E$3<=1,1,ROUND(((X22/2))/$E$3,0))) -> 8 | Z22: =$X$70*L22 -> 107.56697 | AA22: =IF((Z22/2)/$E$3<=1,1,ROUND(((Z22/2))/$E$3,0)) -> 4 | AB22: =$F$4*C22*0.5 -> 156.6459 | AC22: =IF(B22=0,0,IF(AB22/$F$3<=1,1,ROUND(AB22/$F$3,0))) -> 9 | AD22: =$F$4*C22 -> 313.2918 | AE22: =IF(AD22/$F$3<=1,1,ROUND(AD22/$F$3,0)) -> 18 | AF22: =G22*$AF$70 -> 108.75363 | AG22: =IF(AF22/$F$3<=1,1,ROUND(AF22/$F$3,0)) -> 6 | AH22: =$AD$70*L22 -> 182.20527 | AI22: =IF(AH22/$F$3<=1,1,ROUND(AH22/$F$3,0)) -> 11 | AJ22: =$D$4*C22 -> 754.92 | AK22: =AJ22/2/$D$3 -> 15.0984 | AL22: =G22*$AL$70 -> 262.05695 | AM22: =(AL22/2)/$D$3 -> 5.241139 | AN22: =$AJ$70*L22 -> 439.04885 | AO22: ='Per woonkern'!J12 -> 16 | AP22: ='Per woonkern'!M12 -> 2297.0196 | AQ22: ='Per woonkern'!N12 -> 355.85872 | AS22: =$AS$68*L22 -> 1942.7912 | AT22: =(AS22/2)/$C$3 -> 9.7139559 | AU22: =$X$70*L22 -> 107.56697 | AV22: =(AU22/2)/$E$3 -> 4.4819571 | AW22: =$F$4*C22*0.5 -> 156.6459 | AX22: =AW22/$F$3 -> 9.2144647 | AY22: =$AY$68*L22 -> 107.56697 | AZ22: =(AY22/2)/$D$3 -> 2.1513394
A23: 12 | B23: Gemeente Kerkrade | C23: 21.91 | D23: =C23/$C$68 -> 0.010206744 | E23: =C23-G23 -> 8.343669 | F23: =IF(E23=0,0,E23/C23) -> 0.38081556 | G23: ='Per woonkern'!D13 -> 13.566331 | H23: =IF(G23=0,0,G23/C23) -> 0.61918444 | I23: =G23/$G$68 -> 0.040722399 | J23: ='Per woonkern'!B13 -> 3 | K23: ='Per woonkern'!C13 -> 47.758112 | L23: =K23/$K$68 -> 0.031496621 | M23: =G23*100/$C$7 -> 452.21103 | N23: =M23*2 -> 904.42207 | O23: =M23/$C$3 -> 4.5221103 | P23: =G23*100/$C$6 -> 1130.5276 | Q23: =P23*2 -> 2261.0552 | R23: =$V$70*D23 -> 525.84 | S23: =R23/2/$C$3 -> 2.6292 | T23: =$V$70*I23 -> 2097.9724 | U23: =T23/2/$C$3 -> 10.489862 | V23: =$V$70*L23 -> 1622.6706 | W23: ='Per woonkern'!H13 -> 9 | X23: =$E$4*C23 -> 21.4718 | Y23: =IF(B23=0,0,IF((X23/2)/$E$3<=1,1,ROUND(((X23/2))/$E$3,0))) -> 1 | Z23: =$X$70*L23 -> 66.25905 | AA23: =IF((Z23/2)/$E$3<=1,1,ROUND(((Z23/2))/$E$3,0)) -> 3 | AB23: =$F$4*C23*0.5 -> 18.1853 | AC23: =IF(B23=0,0,IF(AB23/$F$3<=1,1,ROUND(AB23/$F$3,0))) -> 1 | AD23: =$F$4*C23 -> 36.3706 | AE23: =IF(AD23/$F$3<=1,1,ROUND(AD23/$F$3,0)) -> 2 | AF23: =G23*$AF$70 -> 145.10976 | AG23: =IF(AF23/$F$3<=1,1,ROUND(AF23/$F$3,0)) -> 9 | AH23: =$AD$70*L23 -> 112.23472 | AI23: =IF(AH23/$F$3<=1,1,ROUND(AH23/$F$3,0)) -> 7 | AJ23: =$D$4*C23 -> 87.64 | AK23: =AJ23/2/$D$3 -> 1.7528 | AL23: =G23*$AL$70 -> 349.66207 | AM23: =(AL23/2)/$D$3 -> 6.9932414 | AN23: =$AJ$70*L23 -> 270.4451 | AO23: ='Per woonkern'!J13 -> 6 | AP23: ='Per woonkern'!M13 -> 3052.4245 | AQ23: ='Per woonkern'!N13 -> 474.82159 | AS23: =$AS$68*L23 -> 1196.7196 | AT23: =(AS23/2)/$C$3 -> 5.9835979 | AU23: =$X$70*L23 -> 66.25905 | AV23: =(AU23/2)/$E$3 -> 2.7607938 | AW23: =$F$4*C23*0.5 -> 18.1853 | AX23: =AW23/$F$3 -> 1.0697235 | AY23: =$AY$68*L23 -> 66.25905 | AZ23: =(AY23/2)/$D$3 -> 1.325181
... A42: 31 | B42: Gemeente Weert | C42: 104.32 | D42: =C42/$C$68 -> 0.04859733 | E42: =C42-G42 -> 87.804239 | F42: =IF(E42=0,0,E42/C42) -> 0.84168174 | G42: ='Per woonkern'!D32 -> 16.515761 | H42: =IF(G42=0,0,G42/C42) -> 0.15831826 | I42: =G42/$G$68 -> 0.049575778 | J42: ='Per woonkern'!B32 -> 6 | K42: ='Per woonkern'!C32 -> 48.966061 | L42: =K42/$K$68 -> 0.032293267 | M42: =G42*100/$C$7 -> 550.52537 | N42: =M42*2 -> 1101.0507 | O42: =M42/$C$3 -> 5.5052537 | P42: =G42*100/$C$6 -> 1376.3134 | Q42: =P42*2 -> 2752.6268 | R42: =$V$70*D42 -> 2503.68 | S42: =R42/2/$C$3 -> 12.5184 | T42: =$V$70*I42 -> 2554.0886 | U42: =T42/2/$C$3 -> 12.770443 | V42: =$V$70*L42 -> 1663.7129 | W42: ='Per woonkern'!H32 -> 10 | X42: =$E$4*C42 -> 102.2336 | Y42: =IF(B42=0,0,IF((X42/2)/$E$3<=1,1,ROUND(((X42/2))/$E$3,0))) -> 4 | Z42: =$X$70*L42 -> 67.934945 | AA42: =IF((Z42/2)/$E$3<=1,1,ROUND(((Z42/2))/$E$3,0)) -> 3 | AB42: =$F$4*C42*0.5 -> 86.5856 | AC42: =IF(B42=0,0,IF(AB42/$F$3<=1,1,ROUND(AB42/$F$3,0))) -> 5 | AD42: =$F$4*C42 -> 173.1712 | AE42: =IF(AD42/$F$3<=1,1,ROUND(AD42/$F$3,0)) -> 10 | AF42: =G42*$AF$70 -> 176.65779 | AG42: =IF(AF42/$F$3<=1,1,ROUND(AF42/$F$3,0)) -> 10 | AH42: =$AD$70*L42 -> 115.07348 | AI42: =IF(AH42/$F$3<=1,1,ROUND(AH42/$F$3,0)) -> 7 | AJ42: =$D$4*C42 -> 417.28 | AK42: =AJ42/2/$D$3 -> 8.3456 | AL42: =G42*$AL$70 -> 425.68143 | AM42: =(AL42/2)/$D$3 -> 8.5136286 | AN42: =$AJ$70*L42 -> 277.28549 | AO42: ='Per woonkern'!J32 -> 9 | AP42: ='Per woonkern'!M32 -> 3716.0462 | AQ42: ='Per woonkern'!N32 -> 578.05163 | AS42: =$AS$68*L42 -> 1226.9883 | AT42: =(AS42/2)/$C$3 -> 6.1349414 | AU42: =$X$70*L42 -> 67.934945 | AV42: =(AU42/2)/$E$3 -> 2.8306227 | AW42: =$F$4*C42*0.5 -> 86.5856 | AX42: =AW42/$F$3 -> 5.0932706 | AY42: =$AY$68*L42 -> 67.934945 | AZ42: =(AY42/2)/$D$3 -> 1.3586989
A43: 32 | D43: =C43/$C$68 -> 0 | E43: =C43-G43 -> 0 | F43: =IF(E43=0,0,E43/C43) -> 0 | G43: ='Per woonkern'!D33 -> 0 | H43: =IF(G43=0,0,G43/C43) -> 0 | I43: =G43/$G$68 -> 0 | J43: ='Per woonkern'!B33 -> 0 | K43: ='Per woonkern'!C33 -> 0 | L43: =K43/$K$68 -> 0 | M43: =G43*100/$C$7 -> 0 | N43: =M43*2 -> 0 | O43: =M43/$C$3 -> 0 | P43: =G43*100/$C$6 -> 0 | Q43: =P43*2 -> 0 | R43: =$V$70*D43 -> 0 | S43: =R43/2/$C$3 -> 0 | T43: =$V$70*I43 -> 0 | U43: =T43/2/$C$3 -> 0 | V43: =$V$70*L43 -> 0 | W43: ='Per woonkern'!H33 -> 0 | X43: =$E$4*C43 -> 0 | Y43: =IF(B43=0,0,IF((X43/2)/$E$3<=1,1,ROUND(((X43/2))/$E$3,0))) -> 0 | Z43: =$X$70*L43 -> 0 | AA43: =IF((Z43/2)/$E$3<=1,1,ROUND(((Z43/2))/$E$3,0)) -> 1 | AB43: =$F$4*C43*0.5 -> 0 | AC43: =IF(B43=0,0,IF(AB43/$F$3<=1,1,ROUND(AB43/$F$3,0))) -> 0 | AD43: =$F$4*C43 -> 0 | AE43: =IF(AD43/$F$3<=1,1,ROUND(AD43/$F$3,0)) -> 1 | AF43: =G43*$AF$70 -> 0 | AG43: =IF(AF43/$F$3<=1,1,ROUND(AF43/$F$3,0)) -> 1 | AH43: =$AD$70*L43 -> 0 | AI43: =IF(AH43/$F$3<=1,1,ROUND(AH43/$F$3,0)) -> 1 | AJ43: =$D$4*C43 -> 0 | AK43: =AJ43/2/$D$3 -> 0 | AL43: =G43*$AL$70 -> 0 | AM43: =(AL43/2)/$D$3 -> 0 | AN43: =$AJ$70*L43 -> 0 | AO43: ='Per woonkern'!J33 -> 0 | AP43: ='Per woonkern'!M33 -> 0 | AQ43: ='Per woonkern'!N33 -> 0 | AS43: =$AS$68*L43 -> 0 | AT43: =(AS43/2)/$C$3 -> 0 | AU43: =$X$70*L43 -> 0 | AV43: =(AU43/2)/$E$3 -> 0 | AW43: =$F$4*C43*0.5 -> 0 | AX43: =AW43/$F$3 -> 0 | AY43: =$AY$68*L43 -> 0 | AZ43: =(AY43/2)/$D$3 -> 0
A44: 33 | D44: =C44/$C$68 -> 0 | E44: =C44-G44 -> 0 | F44: =IF(E44=0,0,E44/C44) -> 0 | G44: ='Per woonkern'!D34 -> 0 | H44: =IF(G44=0,0,G44/C44) -> 0 | I44: =G44/$G$68 -> 0 | J44: ='Per woonkern'!B34 -> 0 | K44: ='Per woonkern'!C34 -> 0 | L44: =K44/$K$68 -> 0 | M44: =G44*100/$C$7 -> 0 | N44: =M44*2 -> 0 | O44: =M44/$C$3 -> 0 | P44: =G44*100/$C$6 -> 0 | Q44: =P44*2 -> 0 | R44: =$V$70*D44 -> 0 | S44: =R44/2/$C$3 -> 0 | T44: =$V$70*I44 -> 0 | U44: =T44/2/$C$3 -> 0 | V44: =$V$70*L44 -> 0 | W44: ='Per woonkern'!H34 -> 0 | X44: =$E$4*C44 -> 0 | Y44: =IF(B44=0,0,IF((X44/2)/$E$3<=1,1,ROUND(((X44/2))/$E$3,0))) -> 0 | Z44: =$X$70*L44 -> 0 | AA44: =IF((Z44/2)/$E$3<=1,1,ROUND(((Z44/2))/$E$3,0)) -> 1 | AB44: =$F$4*C44*0.5 -> 0 | AC44: =IF(B44=0,0,IF(AB44/$F$3<=1,1,ROUND(AB44/$F$3,0))) -> 0 | AD44: =$F$4*C44 -> 0 | AE44: =IF(AD44/$F$3<=1,1,ROUND(AD44/$F$3,0)) -> 1 | AF44: =G44*$AF$70 -> 0 | AG44: =IF(AF44/$F$3<=1,1,ROUND(AF44/$F$3,0)) -> 1 | AH44: =$AD$70*L44 -> 0 | AI44: =IF(AH44/$F$3<=1,1,ROUND(AH44/$F$3,0)) -> 1 | AJ44: =$D$4*C44 -> 0 | AK44: =AJ44/2/$D$3 -> 0 | AL44: =G44*$AL$70 -> 0 | AM44: =(AL44/2)/$D$3 -> 0 | AN44: =$AJ$70*L44 -> 0 | AO44: ='Per woonkern'!J34 -> 0 | AP44: ='Per woonkern'!M34 -> 0 | AQ44: ='Per woonkern'!N34 -> 0 | AS44: =$AS$68*L44 -> 0 | AT44: =(AS44/2)/$C$3 -> 0 | AU44: =$X$70*L44 -> 0 | AV44: =(AU44/2)/$E$3 -> 0 | AW44: =$F$4*C44*0.5 -> 0 | AX44: =AW44/$F$3 -> 0 | AY44: =$AY$68*L44 -> 0 | AZ44: =(AY44/2)/$D$3 -> 0
A45: 34 | D45: =C45/$C$68 -> 0 | E45: =C45-G45 -> 0 | F45: =IF(E45=0,0,E45/C45) -> 0 | G45: ='Per woonkern'!D35 -> 0 | H45: =IF(G45=0,0,G45/C45) -> 0 | I45: =G45/$G$68 -> 0 | J45: ='Per woonkern'!B35 -> 0 | K45: ='Per woonkern'!C35 -> 0 | L45: =K45/$K$68 -> 0 | M45: =G45*100/$C$7 -> 0 | N45: =M45*2 -> 0 | O45: =M45/$C$3 -> 0 | P45: =G45*100/$C$6 -> 0 | Q45: =P45*2 -> 0 | R45: =$V$70*D45 -> 0 | S45: =R45/2/$C$3 -> 0 | T45: =$V$70*I45 -> 0 | U45: =T45/2/$C$3 -> 0 | V45: =$V$70*L45 -> 0 | W45: ='Per woonkern'!H35 -> 0 | X45: =$E$4*C45 -> 0 | Y45: =IF(B45=0,0,IF((X45/2)/$E$3<=1,1,ROUND(((X45/2))/$E$3,0))) -> 0 | Z45: =$X$70*L45 -> 0 | AA45: =IF((Z45/2)/$E$3<=1,1,ROUND(((Z45/2))/$E$3,0)) -> 1 | AB45: =$F$4*C45*0.5 -> 0 | AC45: =IF(B45=0,0,IF(AB45/$F$3<=1,1,ROUND(AB45/$F$3,0))) -> 0 | AD45: =$F$4*C45 -> 0 | AE45: =IF(AD45/$F$3<=1,1,ROUND(AD45/$F$3,0)) -> 1 | AF45: =G45*$AF$70 -> 0 | AG45: =IF(AF45/$F$3<=1,1,ROUND(AF45/$F$3,0)) -> 1 | AH45: =$AD$70*L45 -> 0 | AI45: =IF(AH45/$F$3<=1,1,ROUND(AH45/$F$3,0)) -> 1 | AJ45: =$D$4*C45 -> 0 | AK45: =AJ45/2/$D$3 -> 0 | AL45: =G45*$AL$70 -> 0 | AM45: =(AL45/2)/$D$3 -> 0 | AN45: =$AJ$70*L45 -> 0 | AO45: ='Per woonkern'!J35 -> 0 | AP45: ='Per woonkern'!M35 -> 0 | AQ45: ='Per woonkern'!N35 -> 0 | AS45: =$AS$68*L45 -> 0 | AT45: =(AS45/2)/$C$3 -> 0 | AU45: =$X$70*L45 -> 0 | AV45: =(AU45/2)/$E$3 -> 0 | AW45: =$F$4*C45*0.5 -> 0 | AX45: =AW45/$F$3 -> 0 | AY45: =$AY$68*L45 -> 0 | AZ45: =(AY45/2)/$D$3 -> 0
A46: 35 | D46: =C46/$C$68 -> 0 | E46: =C46-G46 -> 0 | F46: =IF(E46=0,0,E46/C46) -> 0 | G46: ='Per woonkern'!D36 -> 0 | H46: =IF(G46=0,0,G46/C46) -> 0 | I46: =G46/$G$68 -> 0 | J46: ='Per woonkern'!B36 -> 0 | K46: ='Per woonkern'!C36 -> 0 | L46: =K46/$K$68 -> 0 | M46: =G46*100/$C$7 -> 0 | N46: =M46*2 -> 0 | O46: =M46/$C$3 -> 0 | P46: =G46*100/$C$6 -> 0 | Q46: =P46*2 -> 0 | R46: =$V$70*D46 -> 0 | S46: =R46/2/$C$3 -> 0 | T46: =$V$70*I46 -> 0 | U46: =T46/2/$C$3 -> 0 | V46: =$V$70*L46 -> 0 | W46: ='Per woonkern'!H36 -> 0 | X46: =$E$4*C46 -> 0 | Y46: =IF(B46=0,0,IF((X46/2)/$E$3<=1,1,ROUND(((X46/2))/$E$3,0))) -> 0 | Z46: =$X$70*L46 -> 0 | AA46: =IF((Z46/2)/$E$3<=1,1,ROUND(((Z46/2))/$E$3,0)) -> 1 | AB46: =$F$4*C46*0.5 -> 0 | AC46: =IF(B46=0,0,IF(AB46/$F$3<=1,1,ROUND(AB46/$F$3,0))) -> 0 | AD46: =$F$4*C46 -> 0 | AE46: =IF(AD46/$F$3<=1,1,ROUND(AD46/$F$3,0)) -> 1 | AF46: =G46*$AF$70 -> 0 | AG46: =IF(AF46/$F$3<=1,1,ROUND(AF46/$F$3,0)) -> 1 | AH46: =$AD$70*L46 -> 0 | AI46: =IF(AH46/$F$3<=1,1,ROUND(AH46/$F$3,0)) -> 1 | AJ46: =$D$4*C46 -> 0 | AK46: =AJ46/2/$D$3 -> 0 | AL46: =G46*$AL$70 -> 0 | AM46: =(AL46/2)/$D$3 -> 0 | AN46: =$AJ$70*L46 -> 0 | AO46: ='Per woonkern'!J36 -> 0 | AP46: ='Per woonkern'!M36 -> 0 | AQ46: ='Per woonkern'!N36 -> 0 | AS46: =$AS$68*L46 -> 0 | AT46: =(AS46/2)/$C$3 -> 0 | AU46: =$X$70*L46 -> 0 | AV46: =(AU46/2)/$E$3 -> 0 | AW46: =$F$4*C46*0.5 -> 0 | AX46: =AW46/$F$3 -> 0 | AY46: =$AY$68*L46 -> 0 | AZ46: =(AY46/2)/$D$3 -> 0
A47: 36 | D47: =C47/$C$68 -> 0 | E47: =C47-G47 -> 0 | F47: =IF(E47=0,0,E47/C47) -> 0 | G47: ='Per woonkern'!D37 -> 0 | H47: =IF(G47=0,0,G47/C47) -> 0 | I47: =G47/$G$68 -> 0 | J47: ='Per woonkern'!B37 -> 0 | K47: ='Per woonkern'!C37 -> 0 | L47: =K47/$K$68 -> 0 | M47: =G47*100/$C$7 -> 0 | N47: =M47*2 -> 0 | O47: =M47/$C$3 -> 0 | P47: =G47*100/$C$6 -> 0 | Q47: =P47*2 -> 0 | R47: =$V$70*D47 -> 0 | S47: =R47/2/$C$3 -> 0 | T47: =$V$70*I47 -> 0 | U47: =T47/2/$C$3 -> 0 | V47: =$V$70*L47 -> 0 | W47: ='Per woonkern'!H37 -> 0 | X47: =$E$4*C47 -> 0 | Y47: =IF(B47=0,0,IF((X47/2)/$E$3<=1,1,ROUND(((X47/2))/$E$3,0))) -> 0 | Z47: =$X$70*L47 -> 0 | AA47: =IF((Z47/2)/$E$3<=1,1,ROUND(((Z47/2))/$E$3,0)) -> 1 | AB47: =$F$4*C47*0.5 -> 0 | AC47: =IF(B47=0,0,IF(AB47/$F$3<=1,1,ROUND(AB47/$F$3,0))) -> 0 | AD47: =$F$4*C47 -> 0 | AE47: =IF(AD47/$F$3<=1,1,ROUND(AD47/$F$3,0)) -> 1 | AF47: =G47*$AF$70 -> 0 | AG47: =IF(AF47/$F$3<=1,1,ROUND(AF47/$F$3,0)) -> 1 | AH47: =$AD$70*L47 -> 0 | AI47: =IF(AH47/$F$3<=1,1,ROUND(AH47/$F$3,0)) -> 1 | AJ47: =$D$4*C47 -> 0 | AK47: =AJ47/2/$D$3 -> 0 | AL47: =G47*$AL$70 -> 0 | AM47: =(AL47/2)/$D$3 -> 0 | AN47: =$AJ$70*L47 -> 0 | AO47: ='Per woonkern'!J37 -> 0 | AP47: ='Per woonkern'!M37 -> 0 | AQ47: ='Per woonkern'!N37 -> 0 | AS47: =$AS$68*L47 -> 0 | AT47: =(AS47/2)/$C$3 -> 0 | AU47: =$X$70*L47 -> 0 | AV47: =(AU47/2)/$E$3 -> 0 | AW47: =$F$4*C47*0.5 -> 0 | AX47: =AW47/$F$3 -> 0 | AY47: =$AY$68*L47 -> 0 | AZ47: =(AY47/2)/$D$3 -> 0
A48: 37 | D48: =C48/$C$68 -> 0 | E48: =C48-G48 -> 0 | F48: =IF(E48=0,0,E48/C48) -> 0 | G48: ='Per woonkern'!D38 -> 0 | H48: =IF(G48=0,0,G48/C48) -> 0 | I48: =G48/$G$68 -> 0 | J48: ='Per woonkern'!B38 -> 0 | K48: ='Per woonkern'!C38 -> 0 | L48: =K48/$K$68 -> 0 | M48: =G48*100/$C$7 -> 0 | N48: =M48*2 -> 0 | O48: =M48/$C$3 -> 0 | P48: =G48*100/$C$6 -> 0 | Q48: =P48*2 -> 0 | R48: =$V$70*D48 -> 0 | S48: =R48/2/$C$3 -> 0 | T48: =$V$70*I48 -> 0 | U48: =T48/2/$C$3 -> 0 | V48: =$V$70*L48 -> 0 | W48: ='Per woonkern'!H38 -> 0 | X48: =$E$4*C48 -> 0 | Y48: =IF(B48=0,0,IF((X48/2)/$E$3<=1,1,ROUND(((X48/2))/$E$3,0))) -> 0 | Z48: =$X$70*L48 -> 0 | AA48: =IF((Z48/2)/$E$3<=1,1,ROUND(((Z48/2))/$E$3,0)) -> 1 | AB48: =$F$4*C48*0.5 -> 0 | AC48: =IF(B48=0,0,IF(AB48/$F$3<=1,1,ROUND(AB48/$F$3,0))) -> 0 | AD48: =$F$4*C48 -> 0 | AE48: =IF(AD48/$F$3<=1,1,ROUND(AD48/$F$3,0)) -> 1 | AF48: =G48*$AF$70 -> 0 | AG48: =IF(AF48/$F$3<=1,1,ROUND(AF48/$F$3,0)) -> 1 | AH48: =$AD$70*L48 -> 0 | AI48: =IF(AH48/$F$3<=1,1,ROUND(AH48/$F$3,0)) -> 1 | AJ48: =$D$4*C48 -> 0 | AK48: =AJ48/2/$D$3 -> 0 | AL48: =G48*$AL$70 -> 0 | AM48: =(AL48/2)/$D$3 -> 0 | AN48: =$AJ$70*L48 -> 0 | AO48: ='Per woonkern'!J38 -> 0 | AP48: ='Per woonkern'!M38 -> 0 | AQ48: ='Per woonkern'!N38 -> 0 | AS48: =$AS$68*L48 -> 0 | AT48: =(AS48/2)/$C$3 -> 0 | AU48: =$X$70*L48 -> 0 | AV48: =(AU48/2)/$E$3 -> 0 | AW48: =$F$4*C48*0.5 -> 0 | AX48: =AW48/$F$3 -> 0 | AY48: =$AY$68*L48 -> 0 | AZ48: =(AY48/2)/$D$3 -> 0
A49: 38 | D49: =C49/$C$68 -> 0 | E49: =C49-G49 -> 0 | F49: =IF(E49=0,0,E49/C49) -> 0 | G49: ='Per woonkern'!D39 -> 0 | H49: =IF(G49=0,0,G49/C49) -> 0 | I49: =G49/$G$68 -> 0 | J49: ='Per woonkern'!B39 -> 0 | K49: ='Per woonkern'!C39 -> 0 | L49: =K49/$K$68 -> 0 | M49: =G49*100/$C$7 -> 0 | N49: =M49*2 -> 0 | O49: =M49/$C$3 -> 0 | P49: =G49*100/$C$6 -> 0 | Q49: =P49*2 -> 0 | R49: =$V$70*D49 -> 0 | S49: =R49/2/$C$3 -> 0 | T49: =$V$70*I49 -> 0 | U49: =T49/2/$C$3 -> 0 | V49: =$V$70*L49 -> 0 | W49: ='Per woonkern'!H39 -> 0 | X49: =$E$4*C49 -> 0 | Y49: =IF(B49=0,0,IF((X49/2)/$E$3<=1,1,ROUND(((X49/2))/$E$3,0))) -> 0 | Z49: =$X$70*L49 -> 0 | AA49: =IF((Z49/2)/$E$3<=1,1,ROUND(((Z49/2))/$E$3,0)) -> 1 | AB49: =$F$4*C49*0.5 -> 0 | AC49: =IF(B49=0,0,IF(AB49/$F$3<=1,1,ROUND(AB49/$F$3,0))) -> 0 | AD49: =$F$4*C49 -> 0 | AE49: =IF(AD49/$F$3<=1,1,ROUND(AD49/$F$3,0)) -> 1 | AF49: =G49*$AF$70 -> 0 | AG49: =IF(AF49/$F$3<=1,1,ROUND(AF49/$F$3,0)) -> 1 | AH49: =$AD$70*L49 -> 0 | AI49: =IF(AH49/$F$3<=1,1,ROUND(AH49/$F$3,0)) -> 1 | AJ49: =$D$4*C49 -> 0 | AK49: =AJ49/2/$D$3 -> 0 | AL49: =G49*$AL$70 -> 0 | AM49: =(AL49/2)/$D$3 -> 0 | AN49: =$AJ$70*L49 -> 0 | AO49: ='Per woonkern'!J39 -> 0 | AP49: ='Per woonkern'!M39 -> 0 | AQ49: ='Per woonkern'!N39 -> 0 | AS49: =$AS$68*L49 -> 0 | AT49: =(AS49/2)/$C$3 -> 0 | AU49: =$X$70*L49 -> 0 | AV49: =(AU49/2)/$E$3 -> 0 | AW49: =$F$4*C49*0.5 -> 0 | AX49: =AW49/$F$3 -> 0 | AY49: =$AY$68*L49 -> 0 | AZ49: =(AY49/2)/$D$3 -> 0
A50: 39 | D50: =C50/$C$68 -> 0 | E50: =C50-G50 -> 0 | F50: =IF(E50=0,0,E50/C50) -> 0 | G50: ='Per woonkern'!D40 -> 0 | H50: =IF(G50=0,0,G50/C50) -> 0 | I50: =G50/$G$68 -> 0 | J50: ='Per woonkern'!B40 -> 0 | K50: ='Per woonkern'!C40 -> 0 | L50: =K50/$K$68 -> 0 | M50: =G50*100/$C$7 -> 0 | N50: =M50*2 -> 0 | O50: =M50/$C$3 -> 0 | P50: =G50*100/$C$6 -> 0 | Q50: =P50*2 -> 0 | R50: =$V$70*D50 -> 0 | S50: =R50/2/$C$3 -> 0 | T50: =$V$70*I50 -> 0 | U50: =T50/2/$C$3 -> 0 | V50: =$V$70*L50 -> 0 | W50: ='Per woonkern'!H40 -> 0 | X50: =$E$4*C50 -> 0 | Y50: =IF(B50=0,0,IF((X50/2)/$E$3<=1,1,ROUND(((X50/2))/$E$3,0))) -> 0 | Z50: =$X$70*L50 -> 0 | AA50: =IF((Z50/2)/$E$3<=1,1,ROUND(((Z50/2))/$E$3,0)) -> 1 | AB50: =$F$4*C50*0.5 -> 0 | AC50: =IF(B50=0,0,IF(AB50/$F$3<=1,1,ROUND(AB50/$F$3,0))) -> 0 | AD50: =$F$4*C50 -> 0 | AE50: =IF(AD50/$F$3<=1,1,ROUND(AD50/$F$3,0)) -> 1 | AF50: =G50*$AF$70 -> 0 | AG50: =IF(AF50/$F$3<=1,1,ROUND(AF50/$F$3,0)) -> 1 | AH50: =$AD$70*L50 -> 0 | AI50: =IF(AH50/$F$3<=1,1,ROUND(AH50/$F$3,0)) -> 1 | AJ50: =$D$4*C50 -> 0 | AK50: =AJ50/2/$D$3 -> 0 | AL50: =G50*$AL$70 -> 0 | AM50: =(AL50/2)/$D$3 -> 0 | AN50: =$AJ$70*L50 -> 0 | AO50: ='Per woonkern'!J40 -> 0 | AP50: ='Per woonkern'!M40 -> 0 | AQ50: ='Per woonkern'!N40 -> 0 | AS50: =$AS$68*L50 -> 0 | AT50: =(AS50/2)/$C$3 -> 0 | AU50: =$X$70*L50 -> 0 | AV50: =(AU50/2)/$E$3 -> 0 | AW50: =$F$4*C50*0.5 -> 0 | AX50: =AW50/$F$3 -> 0 | AY50: =$AY$68*L50 -> 0 | AZ50: =(AY50/2)/$D$3 -> 0
A51: 40 | D51: =C51/$C$68 -> 0 | E51: =C51-G51 -> 0 | F51: =IF(E51=0,0,E51/C51) -> 0 | G51: ='Per woonkern'!D41 -> 0 | H51: =IF(G51=0,0,G51/C51) -> 0 | I51: =G51/$G$68 -> 0 | J51: ='Per woonkern'!B41 -> 0 | K51: ='Per woonkern'!C41 -> 0 | L51: =K51/$K$68 -> 0 | M51: =G51*100/$C$7 -> 0 | N51: =M51*2 -> 0 | O51: =M51/$C$3 -> 0 | P51: =G51*100/$C$6 -> 0 | Q51: =P51*2 -> 0 | R51: =$V$70*D51 -> 0 | S51: =R51/2/$C$3 -> 0 | T51: =$V$70*I51 -> 0 | U51: =T51/2/$C$3 -> 0 | V51: =$V$70*L51 -> 0 | W51: ='Per woonkern'!H41 -> 0 | X51: =$E$4*C51 -> 0 | Y51: =IF(B51=0,0,IF((X51/2)/$E$3<=1,1,ROUND(((X51/2))/$E$3,0))) -> 0 | Z51: =$X$70*L51 -> 0 | AA51: =IF((Z51/2)/$E$3<=1,1,ROUND(((Z51/2))/$E$3,0)) -> 1 | AB51: =$F$4*C51*0.5 -> 0 | AC51: =IF(B51=0,0,IF(AB51/$F$3<=1,1,ROUND(AB51/$F$3,0))) -> 0 | AD51: =$F$4*C51 -> 0 | AE51: =IF(AD51/$F$3<=1,1,ROUND(AD51/$F$3,0)) -> 1 | AF51: =G51*$AF$70 -> 0 | AG51: =IF(AF51/$F$3<=1,1,ROUND(AF51/$F$3,0)) -> 1 | AH51: =$AD$70*L51 -> 0 | AI51: =IF(AH51/$F$3<=1,1,ROUND(AH51/$F$3,0)) -> 1 | AJ51: =$D$4*C51 -> 0 | AK51: =AJ51/2/$D$3 -> 0 | AL51: =G51*$AL$70 -> 0 | AM51: =(AL51/2)/$D$3 -> 0 | AN51: =$AJ$70*L51 -> 0 | AO51: ='Per woonkern'!J41 -> 0 | AP51: ='Per woonkern'!M41 -> 0 | AQ51: ='Per woonkern'!N41 -> 0 | AS51: =$AS$68*L51 -> 0 | AT51: =(AS51/2)/$C$3 -> 0 | AU51: =$X$70*L51 -> 0 | AV51: =(AU51/2)/$E$3 -> 0 | AW51: =$F$4*C51*0.5 -> 0 | AX51: =AW51/$F$3 -> 0 | AY51: =$AY$68*L51 -> 0 | AZ51: =(AY51/2)/$D$3 -> 0
A52: 41 | D52: =C52/$C$68 -> 0 | E52: =C52-G52 -> 0 | F52: =IF(E52=0,0,E52/C52) -> 0 | G52: ='Per woonkern'!D42 -> 0 | H52: =IF(G52=0,0,G52/C52) -> 0 | I52: =G52/$G$68 -> 0 | J52: ='Per woonkern'!B42 -> 0 | K52: ='Per woonkern'!C42 -> 0 | L52: =K52/$K$68 -> 0 | M52: =G52*100/$C$7 -> 0 | N52: =M52*2 -> 0 | O52: =M52/$C$3 -> 0 | P52: =G52*100/$C$6 -> 0 | Q52: =P52*2 -> 0 | R52: =$V$70*D52 -> 0 | S52: =R52/2/$C$3 -> 0 | T52: =$V$70*I52 -> 0 | U52: =T52/2/$C$3 -> 0 | V52: =$V$70*L52 -> 0 | W52: ='Per woonkern'!H42 -> 0 | X52: =$E$4*C52 -> 0 | Y52: =IF(B52=0,0,IF((X52/2)/$E$3<=1,1,ROUND(((X52/2))/$E$3,0))) -> 0 | Z52: =$X$70*L52 -> 0 | AA52: =IF((Z52/2)/$E$3<=1,1,ROUND(((Z52/2))/$E$3,0)) -> 1 | AB52: =$F$4*C52*0.5 -> 0 | AC52: =IF(B52=0,0,IF(AB52/$F$3<=1,1,ROUND(AB52/$F$3,0))) -> 0 | AD52: =$F$4*C52 -> 0 | AE52: =IF(AD52/$F$3<=1,1,ROUND(AD52/$F$3,0)) -> 1 | AF52: =G52*$AF$70 -> 0 | AG52: =IF(AF52/$F$3<=1,1,ROUND(AF52/$F$3,0)) -> 1 | AH52: =$AD$70*L52 -> 0 | AI52: =IF(AH52/$F$3<=1,1,ROUND(AH52/$F$3,0)) -> 1 | AJ52: =$D$4*C52 -> 0 | AK52: =AJ52/2/$D$3 -> 0 | AL52: =G52*$AL$70 -> 0 | AM52: =(AL52/2)/$D$3 -> 0 | AN52: =$AJ$70*L52 -> 0 | AO52: ='Per woonkern'!J42 -> 0 | AP52: ='Per woonkern'!M42 -> 0 | AQ52: ='Per woonkern'!N42 -> 0 | AS52: =$AS$68*L52 -> 0 | AT52: =(AS52/2)/$C$3 -> 0 | AU52: =$X$70*L52 -> 0 | AV52: =(AU52/2)/$E$3 -> 0 | AW52: =$F$4*C52*0.5 -> 0 | AX52: =AW52/$F$3 -> 0 | AY52: =$AY$68*L52 -> 0 | AZ52: =(AY52/2)/$D$3 -> 0
A53: 42 | D53: =C53/$C$68 -> 0 | E53: =C53-G53 -> 0 | F53: =IF(E53=0,0,E53/C53) -> 0 | G53: ='Per woonkern'!D43 -> 0 | H53: =IF(G53=0,0,G53/C53) -> 0 | I53: =G53/$G$68 -> 0 | J53: ='Per woonkern'!B43 -> 0 | K53: ='Per woonkern'!C43 -> 0 | L53: =K53/$K$68 -> 0 | M53: =G53*100/$C$7 -> 0 | N53: =M53*2 -> 0 | O53: =M53/$C$3 -> 0 | P53: =G53*100/$C$6 -> 0 | Q53: =P53*2 -> 0 | R53: =$V$70*D53 -> 0 | S53: =R53/2/$C$3 -> 0 | T53: =$V$70*I53 -> 0 | U53: =T53/2/$C$3 -> 0 | V53: =$V$70*L53 -> 0 | W53: ='Per woonkern'!H43 -> 0 | X53: =$E$4*C53 -> 0 | Y53: =IF(B53=0,0,IF((X53/2)/$E$3<=1,1,ROUND(((X53/2))/$E$3,0))) -> 0 | Z53: =$X$70*L53 -> 0 | AA53: =IF((Z53/2)/$E$3<=1,1,ROUND(((Z53/2))/$E$3,0)) -> 1 | AB53: =$F$4*C53*0.5 -> 0 | AC53: =IF(B53=0,0,IF(AB53/$F$3<=1,1,ROUND(AB53/$F$3,0))) -> 0 | AD53: =$F$4*C53 -> 0 | AE53: =IF(AD53/$F$3<=1,1,ROUND(AD53/$F$3,0)) -> 1 | AF53: =G53*$AF$70 -> 0 | AG53: =IF(AF53/$F$3<=1,1,ROUND(AF53/$F$3,0)) -> 1 | AH53: =$AD$70*L53 -> 0 | AI53: =IF(AH53/$F$3<=1,1,ROUND(AH53/$F$3,0)) -> 1 | AJ53: =$D$4*C53 -> 0 | AK53: =AJ53/2/$D$3 -> 0 | AL53: =G53*$AL$70 -> 0 | AM53: =(AL53/2)/$D$3 -> 0 | AN53: =$AJ$70*L53 -> 0 | AO53: ='Per woonkern'!J43 -> 0 | AP53: ='Per woonkern'!M43 -> 0 | AQ53: ='Per woonkern'!N43 -> 0 | AS53: =$AS$68*L53 -> 0 | AT53: =(AS53/2)/$C$3 -> 0 | AU53: =$X$70*L53 -> 0 | AV53: =(AU53/2)/$E$3 -> 0 | AW53: =$F$4*C53*0.5 -> 0 | AX53: =AW53/$F$3 -> 0 | AY53: =$AY$68*L53 -> 0 | AZ53: =(AY53/2)/$D$3 -> 0
A54: 43 | D54: =C54/$C$68 -> 0 | E54: =C54-G54 -> 0 | F54: =IF(E54=0,0,E54/C54) -> 0 | G54: ='Per woonkern'!D44 -> 0 | H54: =IF(G54=0,0,G54/C54) -> 0 | I54: =G54/$G$68 -> 0 | J54: ='Per woonkern'!B44 -> 0 | K54: ='Per woonkern'!C44 -> 0 | L54: =K54/$K$68 -> 0 | M54: =G54*100/$C$7 -> 0 | N54: =M54*2 -> 0 | O54: =M54/$C$3 -> 0 | P54: =G54*100/$C$6 -> 0 | Q54: =P54*2 -> 0 | R54: =$V$70*D54 -> 0 | S54: =R54/2/$C$3 -> 0 | T54: =$V$70*I54 -> 0 | U54: =T54/2/$C$3 -> 0 | V54: =$V$70*L54 -> 0 | W54: ='Per woonkern'!H44 -> 0 | X54: =$E$4*C54 -> 0 | Y54: =IF(B54=0,0,IF((X54/2)/$E$3<=1,1,ROUND(((X54/2))/$E$3,0))) -> 0 | Z54: =$X$70*L54 -> 0 | AA54: =IF((Z54/2)/$E$3<=1,1,ROUND(((Z54/2))/$E$3,0)) -> 1 | AB54: =$F$4*C54*0.5 -> 0 | AC54: =IF(B54=0,0,IF(AB54/$F$3<=1,1,ROUND(AB54/$F$3,0))) -> 0 | AD54: =$F$4*C54 -> 0 | AE54: =IF(AD54/$F$3<=1,1,ROUND(AD54/$F$3,0)) -> 1 | AF54: =G54*$AF$70 -> 0 | AG54: =IF(AF54/$F$3<=1,1,ROUND(AF54/$F$3,0)) -> 1 | AH54: =$AD$70*L54 -> 0 | AI54: =IF(AH54/$F$3<=1,1,ROUND(AH54/$F$3,0)) -> 1 | AJ54: =$D$4*C54 -> 0 | AK54: =AJ54/2/$D$3 -> 0 | AL54: =G54*$AL$70 -> 0 | AM54: =(AL54/2)/$D$3 -> 0 | AN54: =$AJ$70*L54 -> 0 | AO54: ='Per woonkern'!J44 -> 0 | AP54: ='Per woonkern'!M44 -> 0 | AQ54: ='Per woonkern'!N44 -> 0 | AS54: =$AS$68*L54 -> 0 | AT54: =(AS54/2)/$C$3 -> 0 | AU54: =$X$70*L54 -> 0 | AV54: =(AU54/2)/$E$3 -> 0 | AW54: =$F$4*C54*0.5 -> 0 | AX54: =AW54/$F$3 -> 0 | AY54: =$AY$68*L54 -> 0 | AZ54: =(AY54/2)/$D$3 -> 0
... A65: 54 | D65: =C65/$C$68 -> 0 | E65: =C65-G65 -> 0 | F65: =IF(E65=0,0,E65/C65) -> 0 | G65: ='Per woonkern'!D55 -> 0 | H65: =IF(G65=0,0,G65/C65) -> 0 | I65: =G65/$G$68 -> 0 | J65: ='Per woonkern'!B55 -> 0 | K65: ='Per woonkern'!C55 -> 0 | L65: =K65/$K$68 -> 0 | M65: =G65*100/$C$7 -> 0 | N65: =M65*2 -> 0 | O65: =M65/$C$3 -> 0 | P65: =G65*100/$C$6 -> 0 | Q65: =P65*2 -> 0 | R65: =$V$70*D65 -> 0 | S65: =R65/2/$C$3 -> 0 | T65: =$V$70*I65 -> 0 | U65: =T65/2/$C$3 -> 0 | V65: =$V$70*L65 -> 0 | W65: ='Per woonkern'!H55 -> 0 | X65: =$E$4*C65 -> 0 | Y65: =IF(B65=0,0,IF((X65/2)/$E$3<=1,1,ROUND(((X65/2))/$E$3,0))) -> 0 | Z65: =$X$70*L65 -> 0 | AA65: =IF((Z65/2)/$E$3<=1,1,ROUND(((Z65/2))/$E$3,0)) -> 1 | AB65: =$F$4*C65*0.5 -> 0 | AC65: =IF(B65=0,0,IF(AB65/$F$3<=1,1,ROUND(AB65/$F$3,0))) -> 0 | AD65: =$F$4*C65 -> 0 | AE65: =IF(AD65/$F$3<=1,1,ROUND(AD65/$F$3,0)) -> 1 | AF65: =G65*$AF$70 -> 0 | AG65: =IF(AF65/$F$3<=1,1,ROUND(AF65/$F$3,0)) -> 1 | AH65: =$AD$70*L65 -> 0 | AI65: =IF(AH65/$F$3<=1,1,ROUND(AH65/$F$3,0)) -> 1 | AJ65: =$D$4*C65 -> 0 | AK65: =AJ65/2/$D$3 -> 0 | AL65: =G65*$AL$70 -> 0 | AM65: =(AL65/2)/$D$3 -> 0 | AN65: =$AJ$70*L65 -> 0 | AO65: ='Per woonkern'!J55 -> 0 | AP65: ='Per woonkern'!M55 -> 0 | AQ65: ='Per woonkern'!N55 -> 0 | AS65: =$AS$68*L65 -> 0 | AT65: =(AS65/2)/$C$3 -> 0 | AU65: =$X$70*L65 -> 0 | AV65: =(AU65/2)/$E$3 -> 0 | AW65: =$F$4*C65*0.5 -> 0 | AX65: =AW65/$F$3 -> 0 | AY65: =$AY$68*L65 -> 0 | AZ65: =(AY65/2)/$D$3 -> 0
A66: 55 | D66: =C66/$C$68 -> 0 | E66: =C66-G66 -> 0 | F66: =IF(E66=0,0,E66/C66) -> 0 | G66: ='Per woonkern'!D56 -> 0 | H66: =IF(G66=0,0,G66/C66) -> 0 | I66: =G66/$G$68 -> 0 | J66: ='Per woonkern'!B56 -> 0 | K66: ='Per woonkern'!C56 -> 0 | L66: =K66/$K$68 -> 0 | M66: =G66*100/$C$7 -> 0 | N66: =M66*2 -> 0 | O66: =M66/$C$3 -> 0 | P66: =G66*100/$C$6 -> 0 | Q66: =P66*2 -> 0 | R66: =$V$70*D66 -> 0 | S66: =R66/2/$C$3 -> 0 | T66: =$V$70*I66 -> 0 | U66: =T66/2/$C$3 -> 0 | V66: =$V$70*L66 -> 0 | W66: ='Per woonkern'!H56 -> 0 | X66: =$E$4*C66 -> 0 | Y66: =IF(B66=0,0,IF((X66/2)/$E$3<=1,1,ROUND(((X66/2))/$E$3,0))) -> 0 | Z66: =$X$70*L66 -> 0 | AA66: =IF((Z66/2)/$E$3<=1,1,ROUND(((Z66/2))/$E$3,0)) -> 1 | AB66: =$F$4*C66*0.5 -> 0 | AC66: =IF(B66=0,0,IF(AB66/$F$3<=1,1,ROUND(AB66/$F$3,0))) -> 0 | AD66: =$F$4*C66 -> 0 | AE66: =IF(AD66/$F$3<=1,1,ROUND(AD66/$F$3,0)) -> 1 | AF66: =G66*$AF$70 -> 0 | AG66: =IF(AF66/$F$3<=1,1,ROUND(AF66/$F$3,0)) -> 1 | AH66: =$AD$70*L66 -> 0 | AI66: =IF(AH66/$F$3<=1,1,ROUND(AH66/$F$3,0)) -> 1 | AJ66: =$D$4*C66 -> 0 | AK66: =AJ66/2/$D$3 -> 0 | AL66: =G66*$AL$70 -> 0 | AM66: =(AL66/2)/$D$3 -> 0 | AN66: =$AJ$70*L66 -> 0 | AO66: ='Per woonkern'!J55 -> 0 | AP66: ='Per woonkern'!M56 -> 0 | AQ66: ='Per woonkern'!N56 -> 0 | AS66: =$AS$68*L66 -> 0 | AT66: =(AS66/2)/$C$3 -> 0 | AU66: =$X$70*L66 -> 0 | AV66: =(AU66/2)/$E$3 -> 0 | AW66: =$F$4*C66*0.5 -> 0 | AX66: =AW66/$F$3 -> 0 | AY66: =$AY$68*L66 -> 0 | AZ66: =(AY66/2)/$D$3 -> 0
A67: 56 | D67: =C67/$C$68 -> 0 | E67: =C67-G67 -> 0 | F67: =IF(E67=0,0,E67/C67) -> 0 | G67: ='Per woonkern'!D57 -> 0 | H67: =IF(G67=0,0,G67/C67) -> 0 | I67: =G67/$G$68 -> 0 | J67: ='Per woonkern'!B57 -> 0 | K67: ='Per woonkern'!C57 -> 0 | L67: =K67/$K$68 -> 0 | M67: =G67*100/$C$7 -> 0 | N67: =M67*2 -> 0 | O67: =M67/$C$3 -> 0 | P67: =G67*100/$C$6 -> 0 | Q67: =P67*2 -> 0 | R67: =$V$70*D67 -> 0 | S67: =R67/2/$C$3 -> 0 | T67: =$V$70*I67 -> 0 | U67: =T67/2/$C$3 -> 0 | V67: =$V$70*L67 -> 0 | W67: ='Per woonkern'!H57 -> 0 | X67: =$E$4*C67 -> 0 | Y67: =IF(B67=0,0,IF((X67/2)/$E$3<=1,1,ROUND(((X67/2))/$E$3,0))) -> 0 | Z67: =$X$70*L67 -> 0 | AA67: =IF((Z67/2)/$E$3<=1,1,ROUND(((Z67/2))/$E$3,0)) -> 1 | AB67: =$F$4*C67*0.5 -> 0 | AC67: =IF(B67=0,0,IF(AB67/$F$3<=1,1,ROUND(AB67/$F$3,0))) -> 0 | AD67: =$F$4*C67 -> 0 | AE67: =IF(AD67/$F$3<=1,1,ROUND(AD67/$F$3,0)) -> 1 | AF67: =G67*$AF$70 -> 0 | AG67: =IF(AF67/$F$3<=1,1,ROUND(AF67/$F$3,0)) -> 1 | AH67: =$AD$70*L67 -> 0 | AI67: =IF(AH67/$F$3<=1,1,ROUND(AH67/$F$3,0)) -> 1 | AJ67: =$D$4*C67 -> 0 | AK67: =AJ67/2/$D$3 -> 0 | AL67: =G67*$AL$70 -> 0 | AM67: =(AL67/2)/$D$3 -> 0 | AN67: =$AJ$70*L67 -> 0 | AO67: ='Per woonkern'!J57 -> 0 | AP67: ='Per woonkern'!M57 -> 0 | AQ67: ='Per woonkern'!N57 -> 0 | AS67: =$AS$68*L67 -> 0 | AT67: =(AS67/2)/$C$3 -> 0 | AU67: =$X$70*L67 -> 0 | AV67: =(AU67/2)/$E$3 -> 0 | AW67: =$F$4*C67*0.5 -> 0 | AX67: =AW67/$F$3 -> 0 | AY67: =$AY$68*L67 -> 0 | AZ67: =(AY67/2)/$D$3 -> 0
B68: ="Totaal Provincie "&B10&":" -> Totaal Provincie Limburg: | C68: =SUM(C12:C67) -> 2146.62 | D68: =SUM(D12:D67) -> 1 | E68: =SUM(E12:E67) -> 1813.4783 | G68: =SUM(G12:G67) -> 333.14174 | H68: =G68/C68 -> 0.15519363 | I68: =SUM(I12:I67) -> 1 | J68: =SUM(J12:J67) -> 217 | K68: =SUM(K12:K67) -> 1516.2932 | L68: =SUM(L12:L67) -> 1 | M68: =SUM(M12:M67) -> 11104.725 | N68: =M68*2 -> 22209.449 | O68: =M68/$C$3 -> 111.04725 | P68: =SUM(P12:P67) -> 27761.812 | Q68: =P68*2 -> 55523.623 | R68: =SUM(R12:R67) -> 51518.88 | S68: =SUM(S12:S67) -> 257.5944 | T68: =SUM(T12:T67) -> 51518.88 | U68: =T68/2/$C$3 -> 257.5944 | V68: =SUM(V12:V67) -> 51518.88 | W68: =SUM(W12:W67) -> 324 | X68: =SUM(X12:X67) -> 2103.6876 | Y68: =SUM(Y12:Y67) -> 88 | Z68: =SUM(Z12:Z67) -> 2103.6876 | AA68: =SUM(AA12:AA67) -> 113 | AB68: =SUM(AB12:AB67) -> 1781.6946 | AC68: =SUM(AC12:AC67) -> 105 | ... AQ68: =SUM(AQ12:AQ67) -> 11659.961 | AS68: =$C$5*C68 -> 37995.174 | AT68: =SUM(AT12:AT67) -> 189.97587 | AU68: =$D$5*C68 -> 2103.6876 | AV68: =SUM(AV12:AV67) -> 87.65365 | AW68: =$F$5*C68*0.5 -> 1781.6946 | AX68: =SUM(AX12:AX67) -> 104.80556 | AY68: =$D$5*C68 -> 2103.6876 | AZ68: =SUM(AZ12:AZ67) -> 42.073752
V70: =$C$4*C68 -> 51518.88 | W70: =V70/2/$C$3 -> 257.5944 | X70: =$E$4*C68 -> 2103.6876 | Y70: =X70/2/$E$3 -> 87.65365 | AD70: =$F$4*C68 -> 3563.3892 | AE70: =AD70/$F$3 -> 209.61113 | AF70: =AD70/G68 -> 10.696316 | AJ70: =$D$4*C68 -> 8586.48 | AK70: =AJ70/2/$D$3 -> 171.7296 | AL70: =AJ70/G68 -> 25.774255 | AP70: =G68*G4 -> 74956.891 | AQ70: =G68*H4 -> 11659.961
W71: =W70-W68 -> -66.4056 | Y71: =Y70-Y68 -> -0.34635 | AP71: =AP70-AP68 -> -277.3421

Sheet Per woonkern
A1: ="Gemeentes in "&Dichtheden!B10 -> Gemeentes in Limburg | B1: Aantal woonkernen | C1: Omtrek km | D1: Oppervlakte woonkernen | E1: % omtrek provinciaal | F1: % opp. provinciaal | G1: Populatie P.pip | H1: Kolonies P.pip | I1: Populatie E.ser | J1: Kolonies E.ser | K1: Populatie M.mys | L1: Populatie P.aur | M1: Broedparen P.dom | N1: Broedparen A.apus | Q1: pop. p.pip /opp kern | S1: Kol.p.pip /km omtrek
A2: =IF(Dichtheden!$B12="","",Dichtheden!$B12) -> Gemeente Beek | B2: =COUNTIF(AA$61:AA$560,">0") -> 4 | C2: =SUM(AA$61:AA$560) -> 21.580453 | D2: =SUM(CF$61:CF$560) -> 4.544259 | E2: =C2/$C$58 -> 0.014232375 | F2: =D2/$D$58 -> 0.013640617 | G2: =E2*Dichtheden!$V$70 -> 733.236 | H2: =SUM(EK$61:EK$560) -> 5 | I2: =E2*Dichtheden!$AJ$70 -> 122.206 | J2: =SUM(GP$61:GP$560) -> 4 | K2: =Dichtheden!$X12 -> 20.6094 | L2: =Dichtheden!$AB12 -> 17.4549 | M2: =SUM(IU$61:IU$560) -> 1035.0113 | N2: =SUM(KZ$61:KZ$560) -> 159.04906 | P2: Hier is een optelsom van de aantallen uit de woonkernen per gemeente hieronder weergegeven. | R2: =IF(D2=0,0,G2/D2) -> 161.35436 | S2: =IF(C2=0,0,H2/C2) -> 0.23169115
A3: =IF(Dichtheden!$B13="","",Dichtheden!$B13) -> Gemeente Beekdaelen | B3: =COUNTIF(AB$61:AB$560,">0") -> 17 | C3: =SUM(AB$61:AB$560) -> 77.843826 | D3: =SUM(CG$61:CG$560) -> 8.926804 | E3: =C3/$C$58 -> 0.051338241 | F3: =D3/$D$58 -> 0.026795814 | G3: =E3*Dichtheden!$V$70 -> 2644.8887 | H3: =SUM(EL$61:EL$560) -> 18 | I3: =E3*Dichtheden!$AJ$70 -> 440.81478 | J3: =SUM(GQ$61:GQ$560) -> 17 | K3: =Dichtheden!$X13 -> 76.734 | L3: =Dichtheden!$AB13 -> 64.989 | M3: =SUM(IV$61:IV$560) -> 2035.7294 | N3: =SUM(LA$61:LA$560) -> 312.43814 | R3: =IF(D3=0,0,G3/D3) -> 296.28618 | S3: =IF(C3=0,0,H3/C3) -> 0.23123221
A4: =IF(Dichtheden!$B14="","",Dichtheden!$B14) -> Gemeente Beesel | B4: =COUNTIF(AC$61:AC$560,">0") -> 2 | C4: =SUM(AC$61:AC$560) -> 19.920348 | D4: =SUM(CH$61:CH$560) -> 3.676458 | E4: =C4/$C$58 -> 0.01313753 | F4: =D4/$D$58 -> 0.011035717 | G4: =E4*Dichtheden!$V$70 -> 676.83085 | H4: =SUM(EM$61:EM$560) -> 3 | I4: =E4*Dichtheden!$AJ$70 -> 112.80514 | J4: =SUM(GR$61:GR$560) -> 2 | K4: =Dichtheden!$X14 -> 27.4302 | L4: =Dichtheden!$AB14 -> 23.2317 | M4: =SUM(IW$61:IW$560) -> 827.20305 | N4: =SUM(LB$61:LB$560) -> 128.67603 | R4: =IF(D4=0,0,G4/D4) -> 184.09862 | S4: =IF(C4=0,0,H4/C4) -> 0.15059978
A5: =IF(Dichtheden!$B15="","",Dichtheden!$B15) -> Gemeente Bergen (L) | B5: =COUNTIF(AD$61:AD$560,">0") -> 8 | C5: =SUM(AD$61:AD$560) -> 31.682117 | D5: =SUM(CI$61:CI$560) -> 3.854889 | E5: =C5/$C$58 -> 0.020894453 | F5: =D5/$D$58 -> 0.011571318 | G5: =E5*Dichtheden!$V$70 -> 1076.4588 | H5: =SUM(EN$61:EN$560) -> 8 | I5: =E5*Dichtheden!$AJ$70 -> 179.4098 | J5: =SUM(GS$61:GS$560) -> 8 | K5: =Dichtheden!$X15 -> 101.1752 | L5: =Dichtheden!$AB15 -> 85.6892 | M5: =SUM(IX$61:IX$560) -> 877.6427 | N5: =SUM(LC$61:LC$560) -> 134.92111 | R5: =IF(D5=0,0,G5/D5) -> 279.24509 | S5: =IF(C5=0,0,H5/C5) -> 0.25250838
A6: =IF(Dichtheden!$B16="","",Dichtheden!$B16) -> Gemeente Brunssum | B6: =COUNTIF(AE$61:AE$560,">0") -> 1 | C6: =SUM(AE$61:AE$560) -> 14.25287 | D6: =SUM(CJ$61:CJ$560) -> 7.75403 | E6: =C6/$C$58 -> 0.0093998113 | F6: =D6/$D$58 -> 0.023275468 | G6: =E6*Dichtheden!$V$70 -> 484.26775 | H6: =SUM(EO$61:EO$560) -> 2 | I6: =E6*Dichtheden!$AJ$70 -> 80.711292 | J6: =SUM(GT$61:GT$560) -> 2 | K6: =Dichtheden!$X16 -> 16.905 | L6: =Dichtheden!$AB16 -> 14.3175 | M6: =SUM(IY$61:IY$560) -> 1744.6568 | N6: =SUM(LD$61:LD$560) -> 271.39105 | R6: =IF(D6=0,0,G6/D6) -> 62.453685 | S6: =IF(C6=0,0,H6/C6) -> 0.14032262
A7: =IF(Dichtheden!$B17="","",Dichtheden!$B17) -> Gemeente Echt-Susteren | B7: =COUNTIF(AF$61:AF$560,">0") -> 9 | C7: =SUM(AF$61:AF$560) -> 63.199067 | D7: =SUM(CK$61:CK$560) -> 9.622976 | E7: =C7/$C$58 -> 0.041679978 | F7: =D7/$D$58 -> 0.028885531 | G7: =E7*Dichtheden!$V$70 -> 2147.3058 | H7: =SUM(EP$61:EP$560) -> 13 | I7: =E7*Dichtheden!$AJ$70 -> 357.88429 | J7: =SUM(GU$61:GU$560) -> 11 | K7: =Dichtheden!$X17 -> 101.0086 | L7: =Dichtheden!$AB17 -> 85.5481 | M7: =SUM(IZ$61:IZ$560) -> 2165.1696 | N7: =SUM(LE$61:LE$560) -> 336.80416 | R7: =IF(D7=0,0,G7/D7) -> 223.14363 | S7: =IF(C7=0,0,H7/C7) -> 0.20569924
A8: =IF(Dichtheden!$B18="","",Dichtheden!$B18) -> Gemeente Eijsden-Margraten | B8: =COUNTIF(AG$61:AG$560,">0") -> 15 | C8: =SUM(AG$61:AG$560) -> 65.005425 | D8: =SUM(CL$61:CL$560) -> 8.251961 | E8: =C8/$C$58 -> 0.042871276 | F8: =D8/$D$58 -> 0.02477012 | G8: =E8*Dichtheden!$V$70 -> 2208.6801 | H8: =SUM(EQ$61:EQ$560) -> 17 | I8: =E8*Dichtheden!$AJ$70 -> 368.11336 | J8: =SUM(GV$61:GV$560) -> 16 | K8: =Dichtheden!$X18 -> 75.999 | L8: =Dichtheden!$AB18 -> 64.3665 | M8: =SUM(JA$61:JA$560) -> 1880.1163 | N8: =SUM(LF$61:LF$560) -> 288.81864 | R8: =IF(D8=0,0,G8/D8) -> 267.65518 | S8: =IF(C8=0,0,H8/C8) -> 0.26151663
A9: =IF(Dichtheden!$B19="","",Dichtheden!$B19) -> Gemeente Gennep | B9: =COUNTIF(AH$61:AH$560,">0") -> 6 | C9: =SUM(AH$61:AH$560) -> 36.759596 | D9: =SUM(CM$61:CM$560) -> 5.354891 | E9: =C9/$C$58 -> 0.024243066 | F9: =D9/$D$58 -> 0.016073912 | G9: =E9*Dichtheden!$V$70 -> 1248.9756 | H9: =SUM(ER$61:ER$560) -> 8 | I9: =E9*Dichtheden!$AJ$70 -> 208.1626 | J9: =SUM(GW$61:GW$560) -> 6 | K9: =Dichtheden!$X19 -> 46.6676 | L9: =Dichtheden!$AB19 -> 39.5246 | M9: =SUM(JB$61:JB$560) -> 1211.7553 | N9: =SUM(LG$61:LG$560) -> 187.42119 | R9: =IF(D9=0,0,G9/D9) -> 233.24015 | S9: =IF(C9=0,0,H9/C9) -> 0.21763025
A10: =IF(Dichtheden!$B20="","",Dichtheden!$B20) -> Gemeente Gulpen-Wittem | B10: =COUNTIF(AI$61:AI$560,">0") -> 11 | C10: =SUM(AI$61:AI$560) -> 40.657441 | D10: =SUM(CN$61:CN$560) -> 3.54576 | E10: =C10/$C$58 -> 0.026813706 | F10: =D10/$D$58 -> 0.010643398 | G10: =E10*Dichtheden!$V$70 -> 1381.4121 | H10: =SUM(ES$61:ES$560) -> 11 | I10: =E10*Dichtheden!$AJ$70 -> 230.23535 | J10: =SUM(GX$61:GX$560) -> 11 | K10: =Dichtheden!$X20 -> 71.7164 | L10: =Dichtheden!$AB20 -> 60.7394 | M10: =SUM(JC$61:JC$560) -> 819.1985 | N10: =SUM(LH$61:LH$560) -> 124.1016 | R10: =IF(D10=0,0,G10/D10) -> 389.5955 | S10: =IF(C10=0,0,H10/C10) -> 0.27055318
