Workbook
Name afr: #REF!
Name afrind: 'General Info'!$B$19
Name cad: 'Bestand dd 1 januari 2026'!$AA$83
Name ign: 'General Info'!$B$5
Name igo: 'General Info'!$B$6
Name iin: 'General Info'!$B$7
Name iio: 'General Info'!$B$8
Name index: 'Bestand dd 1 januari 2026'!$X$83
Name index2002: 'Bestand dd 1 januari 2026'!#REF!
Name premieGM: 'General Info'!$B$13
Name premieOW: 'General Info'!$B$14
Name vvd: #REF!

Sheet General Info
A3: Index-cijfers:
A4: Omschrijving: | B4: Indexcijfer:
A5: Index geb Troostwijk nw | B5: 138.1
A6: Index geb Troostwijk oud | B6: 138.1
A7: Index inv troostwijk nw | B7: 133.4
A8: Index inv troostwijk oud | B8: 133.4
A11: Premietarieven
A12: Omschrijving: | B12: Premie o/oo:
A13: premieGM | B13: =Polisblad!#REF! -> #REF! | C13: Dit is een dooreen premie voor de doorberekening van de premie voor de klant
A14: premieOW | B14: =Polisblad!#REF! -> #REF!
A19: Afronding index | B19: -3

Sheet Polisblad
A1: Overzicht Polisblad d.d. 1 januari 2026
A2: ='Bestand dd 1 januari 2026'!B2 -> behorende bij polis nr. ten name van:
A3: ='Bestand dd 1 januari 2026'!B3 -> Gemeente Westerveld
A5: Gemeentelijk Bezit:
A6: 1. Gebouwen | B6: ='Bestand dd 1 januari 2026'!L55 -> 74210000 | D6: =ROUND(B6*C6/1000,2) -> 0
A7: 2. Inventaris | B7: ='Bestand dd 1 januari 2026'!M55 -> 8341000 | D7: =ROUND(B7*C7/1000,2) -> 0
A9: Primair Onderwijs:
A10: 3. Gebouwen | B10: ='Bestand dd 1 januari 2026'!L81 -> 45283000 | D10: =ROUND(B10*C10/1000,2) -> 0
A11: 4. Inventaris | B11: ='Bestand dd 1 januari 2026'!M81 -> 6991000 | D11: =ROUND(B11*C11/1000,2) -> 0
B13: =SUM(B6:B12) -> 134825000 | D13: =SUM(D6:D12) -> 0
A18: Stand per 1 januari 2026 | B18: ='Bestand dd 1 januari 2026'!U83 -> 128285000
A19: mutaties 2026 | B19: =cad -> 6540023
B20: =SUM(B18:B19) -> 134825023
A21: Index per 1 januari 2027 | B21: =index -> -23
A22: Stand per 1 januari 2027 | B22: =SUM(B20:B21) -> 134825000
A26: Verrekening termijn
A27: jaarpremie per | D27: 0
A28: reeds verrekend met
A29: nota nr. | D29: 0
A30: premie-boeking/restitutie | D30: =SUM(D27:D29) -> 0

Sheet Bestand dd 1 januari 2026
B1: Bestand d.d. 1 januari 2026
B2: behorende bij polis nr. ten name van:
B3: Gemeente Westerveld
L4: Stand per 1 januari 2027 (na indexering) | P4: Stand per 1 januari 2026 | S4: Stand per 1 januari 2026 | V4: Indexering per 1 januari 2027 | Y4: Mutaties termijn 1 januari 2026 | AC4: Risico Informatie:
A5: No. | B5: Adres: | C5: Postcode | D5: Rubr. | E5: Plaats | F5: Omschrijving | G5: Bouwaard | H5: Zonnepanelen aanwezig | I5: Gebouwen Taxatie 2017 | J5: Inventaris Taxatie 2017 | K5: Taxatiedatum: | L5: Gebouwen: | M5: Inventaris: | N5: Totaal | O5: Premie in EUR: | P5: Gebouwen: | Q5: Inventaris: | R5: Totaal | S5: Gebouwen: | T5: Inventaris: | U5: Totaal | V5: Gebouwen: | W5: Inventaris: | X5: Totaal | Y5: Gebouwen: | Z5: Inventaris: | AA5: Totaal | AB5: Premieverr. 50% | AC5: Inbraakmeld-installatie met doormelding | AD5: Brandmeld-installatie met doormelding | AE5: Sprinkler-installatie met doormelding | AF5: Leegstaand | AG5: Indien leegstaand: vorm van toezicht aanwezig (bijv. Anti-kraak | AH5: Zonnepanelen | AI5: Asbest in gebouw | AJ5: Omheind met hekwerken
B6: Gemeentelijk Bezit:
A7: 1 | B7: Wandelbosweg 10 27t/m38 | C7: 7971 AK | E7: Havelte | F7: Recreatiecentrum (12 Bungalow) | H7: nee | I7: ja | J7: nee | K7: 45474 | L7: =ROUND(P7*ign/igo,afrind) -> 1400000 | M7: =ROUND(Q7*iin/iio,afrind) -> 0 | N7: =SUM(L7:M7) -> 1400000 | O7: =ROUND(N7*premieGM/1000,2) -> #REF! | P7: 1400000 | Q7: 0 | R7: =SUM(P7:Q7) -> 1400000 | S7: 527000 | T7: 0 | U7: =SUM(S7:T7) -> 527000 | V7: =L7-P7 -> 0 | W7: =M7-Q7 -> 0 | X7: =SUM(V7:W7) -> 0 | Y7: =P7-S7 -> 873000 | Z7: =Q7-T7 -> 0 | AA7: =SUM(Y7:Z7) -> 873000 | AB7: =ROUND(AA7*premieGM,2) -> #REF! | AC7: nee | AD7: nee | AE7: nee | AF7: nee | AH7: nee | AI7: nee | AJ7: nee
A8: 2 | B8: Wandelbosweg 10 25 en 26 | C8: 7971 AK | E8: Havelte | F8: Recreatiecentrum (2 Bungalow) | H8: nee | I8: ja | J8: nee | K8: 45474 | L8: =ROUND(P8*ign/igo,afrind) -> 378000 | M8: =ROUND(Q8*iin/iio,afrind) -> 0 | N8: =SUM(L8:M8) -> 378000 | O8: =ROUND(N8*premieGM/1000,2) -> #REF! | P8: 378000 | Q8: 0 | R8: =SUM(P8:Q8) -> 378000 | S8: 378000 | T8: 0 | U8: =SUM(S8:T8) -> 378000 | V8: =L8-P8 -> 0 | W8: =M8-Q8 -> 0 | X8: =SUM(V8:W8) -> 0 | Y8: =P8-S8 -> 0 | Z8: =Q8-T8 -> 0 | AA8: =SUM(Y8:Z8) -> 0 | AB8: =ROUND(AA8*premieGM,2) -> #REF! | AC8: nee | AD8: nee | AE8: nee | AF8: nee | AH8: nee | AI8: nee | AJ8: nee
A9: 3 | B9: Wandelbosweg 10 43 46 55 | C9: 7971 AK | E9: Havelte | F9: Recreatiecentrum (3 Bungalow) | H9: nee | I9: ja | J9: nee | K9: 45474 | L9: =ROUND(P9*ign/igo,afrind) -> 410000 | M9: =ROUND(Q9*iin/iio,afrind) -> 0 | N9: =SUM(L9:M9) -> 410000 | O9: =ROUND(N9*premieGM/1000,2) -> #REF! | P9: 410000 | Q9: 0 | R9: =SUM(P9:Q9) -> 410000 | S9: 410000 | T9: 0 | U9: =SUM(S9:T9) -> 410000 | V9: =L9-P9 -> 0 | W9: =M9-Q9 -> 0 | X9: =SUM(V9:W9) -> 0 | Y9: =P9-S9 -> 0 | Z9: =Q9-T9 -> 0 | AA9: =SUM(Y9:Z9) -> 0 | AB9: =ROUND(AA9*premieGM,2) -> #REF! | AC9: nee | AD9: nee | AE9: nee | AF9: nee | AH9: nee | AI9: nee | AJ9: nee
A10: 4 | B10: Groningerweg 1 | C10: 7981 LA/ 1-A | E10: Diever | F10: stalling grasmachine | H10: nee | I10: ja | J10: nee | K10: 45474 | L10: =ROUND(P10*ign/igo,afrind) -> 123000 | M10: =ROUND(Q10*iin/iio,afrind) -> 0 | N10: =SUM(L10:M10) -> 123000 | O10: =ROUND(N10*premieGM/1000,2) -> #REF! | P10: 123000 | Q10: 0 | R10: =SUM(P10:Q10) -> 123000 | S10: 123000 | T10: 0 | U10: =SUM(S10:T10) -> 123000 | V10: =L10-P10 -> 0 | W10: =M10-Q10 -> 0 | X10: =SUM(V10:W10) -> 0 | Y10: =P10-S10 -> 0 | Z10: =Q10-T10 -> 0 | AA10: =SUM(Y10:Z10) -> 0 | AB10: =ROUND(AA10*premieGM,2) -> #REF! | AC10: nee | AD10: nee | AE10: nee | AF10: nee | AH10: nee | AI10: nee | AJ10: nee
A11: 5 | B11: Drift 19 | E11: Dwingeloo | F11: stalling grasmachine | H11: nee | I11: ja | J11: nee | K11: 45474 | L11: =ROUND(P11*ign/igo,afrind) -> 123000 | M11: =ROUND(Q11*iin/iio,afrind) -> 0 | N11: =SUM(L11:M11) -> 123000 | O11: =ROUND(N11*premieGM/1000,2) -> #REF! | P11: 123000 | Q11: 0 | R11: =SUM(P11:Q11) -> 123000 | S11: 123000 | T11: 0 | U11: =SUM(S11:T11) -> 123000 | V11: =L11-P11 -> 0 | W11: =M11-Q11 -> 0 | X11: =SUM(V11:W11) -> 0 | Y11: =P11-S11 -> 0 | Z11: =Q11-T11 -> 0 | AA11: =SUM(Y11:Z11) -> 0 | AB11: =ROUND(AA11*premieGM,2) -> #REF! | AC11: nee | AD11: nee | AE11: nee | AF11: nee | AH11: nee | AI11: nee | AJ11: nee
A12: 6 | B12: Middenweg 11f | E12: Vledder | F12: stalling grasmachine | H12: nee | I12: ja | J12: nee | K12: 45474 | L12: =ROUND(P12*ign/igo,afrind) -> 137000 | M12: =ROUND(Q12*iin/iio,afrind) -> 0 | N12: =SUM(L12:M12) -> 137000 | O12: =ROUND(N12*premieGM/1000,2) -> #REF! | P12: 137000 | Q12: 0 | R12: =SUM(P12:Q12) -> 137000 | S12: 137000 | T12: 0 | U12: =SUM(S12:T12) -> 137000 | V12: =L12-P12 -> 0 | W12: =M12-Q12 -> 0 | X12: =SUM(V12:W12) -> 0 | Y12: =P12-S12 -> 0 | Z12: =Q12-T12 -> 0 | AA12: =SUM(Y12:Z12) -> 0 | AB12: =ROUND(AA12*premieGM,2) -> #REF! | AC12: nee | AD12: nee | AE12: nee | AF12: nee | AH12: nee | AI12: nee | AJ12: nee
A13: 7 | B13: Molenweg 3a | C13: 7971 BJ/ 3-A | E13: Havelte | F13: Brandweerkazerne | H13: nee | I13: nee | J13: nee | K13: 45474 | L13: =ROUND(P13*ign/igo,afrind) -> 1808000 | M13: =ROUND(Q13*iin/iio,afrind) -> 173000 | N13: =SUM(L13:M13) -> 1981000 | O13: =ROUND(N13*premieGM/1000,2) -> #REF! | P13: 1808073 | Q13: 173000 | R13: =SUM(P13:Q13) -> 1981073 | S13: 574000 | T13: 173000 | U13: =SUM(S13:T13) -> 747000 | V13: =L13-P13 -> -73 | W13: =M13-Q13 -> 0 | X13: =SUM(V13:W13) -> -73 | Y13: =P13-S13 -> 1234073 | Z13: =Q13-T13 -> 0 | AA13: =SUM(Y13:Z13) -> 1234073 | AB13: =ROUND(AA13*premieGM,2) -> #REF! | AC13: nee | AD13: nee | AE13: nee | AF13: nee | AH13: nee | AI13: nee | AJ13: nee
A14: 8 | B14: Oeveraseweg 19 | C14: 7971 PA/ 19 | E14: Havelte | F14: Afvalbrengstation/kapschuur | H14: ja | I14: ja | J14: ja | K14: 45474 | L14: =ROUND(P14*ign/igo,afrind) -> 833000 | M14: =ROUND(Q14*iin/iio,afrind) -> 84000 | N14: =SUM(L14:M14) -> 917000 | O14: =ROUND(N14*premieGM/1000,2) -> #REF! | P14: 833000 | Q14: 84000 | R14: =SUM(P14:Q14) -> 917000 | S14: 833000 | T14: 84000 | U14: =SUM(S14:T14) -> 917000 | V14: =L14-P14 -> 0 | W14: =M14-Q14 -> 0 | X14: =SUM(V14:W14) -> 0 | Y14: =P14-S14 -> 0 | Z14: =Q14-T14 -> 0 | AA14: =SUM(Y14:Z14) -> 0 | AB14: =ROUND(AA14*premieGM,2) -> #REF! | AC14: nee | AD14: nee | AE14: nee | AF14: nee | AH14: nee | AI14: nee | AJ14: ja
A15: 9 | B15: Kerklaan 3 | C15: 7971 CV/ 1 | E15: Havelte | F15: Begraafplaats/ baarhuisje | H15: nee | I15: ja | J15: nee | K15: 45474 | L15: =ROUND(P15*ign/igo,afrind) -> 130000 | M15: =ROUND(Q15*iin/iio,afrind) -> 0 | N15: =SUM(L15:M15) -> 130000 | O15: =ROUND(N15*premieGM/1000,2) -> #REF! | P15: 130000 | Q15: 0 | R15: =SUM(P15:Q15) -> 130000 | S15: 130000 | T15: 0 | U15: =SUM(S15:T15) -> 130000 | V15: =L15-P15 -> 0 | W15: =M15-Q15 -> 0 | X15: =SUM(V15:W15) -> 0 | Y15: =P15-S15 -> 0 | Z15: =Q15-T15 -> 0 | AA15: =SUM(Y15:Z15) -> 0 | AB15: =ROUND(AA15*premieGM,2) -> #REF! | AC15: nee | AD15: nee | AE15: nee | AF15: nee | AH15: nee | AI15: nee | AJ15: nee
A16: 10 | B16: Uffelterkerkweg 1 | C16: 7971 PP/ 1 | E16: Havelte | F16: Kerktoren | H16: nee | I16: ja | J16: nee | K16: 45474 | L16: =ROUND(P16*ign/igo,afrind) -> 4066000 | M16: =ROUND(Q16*iin/iio,afrind) -> 0 | N16: =SUM(L16:M16) -> 4066000 | O16: =ROUND(N16*premieGM/1000,2) -> #REF! | P16: 4066000 | Q16: 0 | R16: =SUM(P16:Q16) -> 4066000 | S16: 4066000 | T16: 0 | U16: =SUM(S16:T16) -> 4066000 | V16: =L16-P16 -> 0 | W16: =M16-Q16 -> 0 | X16: =SUM(V16:W16) -> 0 | Y16: =P16-S16 -> 0 | Z16: =Q16-T16 -> 0 | AA16: =SUM(Y16:Z16) -> 0 | AB16: =ROUND(AA16*premieGM,2) -> #REF! | AC16: nee | AD16: nee | AE16: nee | AF16: nee | AH16: nee | AI16: nee | AJ16: nee
A17: 11 | B17: Hav. Schapendrift 22b | C17: 7971 BC/ 22B | E17: Havelte | F17: Peuterspeelzaal | H17: ja | I17: ja | J17: ja | K17: 45474 | L17: =ROUND(P17*ign/igo,afrind) -> 1224000 | M17: =ROUND(Q17*iin/iio,afrind) -> 259000 | N17: =SUM(L17:M17) -> 1483000 | O17: =ROUND(N17*premieGM/1000,2) -> #REF! | P17: 1224000 | Q17: 259000 | R17: =SUM(P17:Q17) -> 1483000 | S17: 1224000 | T17: 259000 | U17: =SUM(S17:T17) -> 1483000 | V17: =L17-P17 -> 0 | W17: =M17-Q17 -> 0 | X17: =SUM(V17:W17) -> 0 | Y17: =P17-S17 -> 0 | Z17: =Q17-T17 -> 0 | AA17: =SUM(Y17:Z17) -> 0 | AB17: =ROUND(AA17*premieGM,2) -> #REF! | AC17: nee | AD17: ja | AE17: nee | AF17: nee | AH17: nee | AI17: nee | AJ17: nee
A18: 12 | B18: van Helomaweg 39 | C18: 7973 JC/ 39 | E18: Havelte/ Darp | F18: Gemeentewerken | H18: nee | I18: ja | J18: nee | K18: 45474 | L18: =ROUND(P18*ign/igo,afrind) -> 1353000 | M18: =ROUND(Q18*iin/iio,afrind) -> 0 | N18: =SUM(L18:M18) -> 1353000 | O18: =ROUND(N18*premieGM/1000,2) -> #REF! | P18: 1353000 | Q18: 0 | R18: =SUM(P18:Q18) -> 1353000 | S18: 1353000 | T18: 0 | U18: =SUM(S18:T18) -> 1353000 | V18: =L18-P18 -> 0 | W18: =M18-Q18 -> 0 | X18: =SUM(V18:W18) -> 0 | Y18: =P18-S18 -> 0 | Z18: =Q18-T18 -> 0 | AA18: =SUM(Y18:Z18) -> 0 | AB18: =ROUND(AA18*premieGM,2) -> #REF! | AC18: nee | AD18: nee | AE18: nee | AF18: nee | AG18: anti-kraak | AH18: nee | AI18: ja | AJ18: ja
A19: 15 | B19: Ruiterweg 19 | C19: 7975 RP/ 19 | E19: Uffelte | F19: Begraafplaats/ baarhuisje | H19: nee | I19: ja | J19: nee | K19: 45474 | L19: =ROUND(P19*ign/igo,afrind) -> 123000 | M19: =ROUND(Q19*iin/iio,afrind) -> 0 | N19: =SUM(L19:M19) -> 123000 | O19: =ROUND(N19*premieGM/1000,2) -> #REF! | P19: 123000 | Q19: 0 | R19: =SUM(P19:Q19) -> 123000 | S19: 123000 | T19: 0 | U19: =SUM(S19:T19) -> 123000 | V19: =L19-P19 -> 0 | W19: =M19-Q19 -> 0 | X19: =SUM(V19:W19) -> 0 | Y19: =P19-S19 -> 0 | Z19: =Q19-T19 -> 0 | AA19: =SUM(Y19:Z19) -> 0 | AB19: =ROUND(AA19*premieGM,2) -> #REF! | AC19: nee | AD19: nee | AE19: nee | AF19: nee | AH19: nee | AI19: nee | AJ19: nee
A20: 16 | B20: Dingspil 17 | C20: 7981 BB/ 17 | E20: Diever | F20: Korenmolen De Vlijt | H20: nee | I20: ja | J20: nee | K20: 45474 | L20: =ROUND(P20*ign/igo,afrind) -> 1327000 | M20: =ROUND(Q20*iin/iio,afrind) -> 0 | N20: =SUM(L20:M20) -> 1327000 | O20: =ROUND(N20*premieGM/1000,2) -> #REF! | P20: 1327000 | Q20: 0 | R20: =SUM(P20:Q20) -> 1327000 | S20: 1327000 | T20: 0 | U20: =SUM(S20:T20) -> 1327000 | V20: =L20-P20 -> 0 | W20: =M20-Q20 -> 0 | X20: =SUM(V20:W20) -> 0 | Y20: =P20-S20 -> 0 | Z20: =Q20-T20 -> 0 | AA20: =SUM(Y20:Z20) -> 0 | AB20: =ROUND(AA20*premieGM,2) -> #REF! | AC20: nee | AD20: nee | AE20: nee | AF20: nee | AH20: nee | AI20: nee | AJ20: nee
A21: 17 | B21: Raadhuislaan 1 | C21: 7981 EL/ 1 | E21: Diever | F21: Gemeentehuis | H21: ja | I21: ja | J21: ja | K21: 45474 | L21: =ROUND(P21*ign/igo,afrind) -> 18155000 | M21: =ROUND(Q21*iin/iio,afrind) -> 3679000 | N21: =SUM(L21:M21) -> 21834000 | O21: =ROUND(N21*premieGM/1000,2) -> #REF! | P21: 18155000 | Q21: 3679000 | R21: =SUM(P21:Q21) -> 21834000 | S21: 18155000 | T21: 3679000 | U21: =SUM(S21:T21) -> 21834000 | V21: =L21-P21 -> 0 | W21: =M21-Q21 -> 0 | X21: =SUM(V21:W21) -> 0 | Y21: =P21-S21 -> 0 | Z21: =Q21-T21 -> 0 | AA21: =SUM(Y21:Z21) -> 0 | AB21: =ROUND(AA21*premieGM,2) -> #REF! | AC21: nee | AD21: nee | AE21: nee | AF21: nee | AH21: nee | AI21: nee | AJ21: nee
A22: 18 | B22: Groningerweg 1A | C22: 7981 LA/ 1-A | E22: Diever | F22: Begraafplaats/ baarhuisje | H22: nee | I22: ja | J22: nee | K22: 45474 | L22: =ROUND(P22*ign/igo,afrind) -> 117000 | M22: =ROUND(Q22*iin/iio,afrind) -> 0 | N22: =SUM(L22:M22) -> 117000 | O22: =ROUND(N22*premieGM/1000,2) -> #REF! | P22: 117000 | Q22: 0 | R22: =SUM(P22:Q22) -> 117000 | S22: 117000 | T22: 0 | U22: =SUM(S22:T22) -> 117000 | V22: =L22-P22 -> 0 | W22: =M22-Q22 -> 0 | X22: =SUM(V22:W22) -> 0 | Y22: =P22-S22 -> 0 | Z22: =Q22-T22 -> 0 | AA22: =SUM(Y22:Z22) -> 0 | AB22: =ROUND(AA22*premieGM,2) -> #REF! | AC22: ja | AD22: ja | AE22: nee | AF22: nee | AH22: nee | AI22: nee | AJ22: nee
A23: 19 | B23: Hoofdstraat 45 | C23: 7981 AD/ 45 | E23: Diever | F23: Kerktoren | H23: nee | I23: ja | J23: nee | K23: 45474 | L23: =ROUND(P23*ign/igo,afrind) -> 2610000 | M23: =ROUND(Q23*iin/iio,afrind) -> 0 | N23: =SUM(L23:M23) -> 2610000 | O23: =ROUND(N23*premieGM/1000,2) -> #REF! | P23: 2610000 | Q23: 0 | R23: =SUM(P23:Q23) -> 2610000 | S23: 2610000 | T23: 0 | U23: =SUM(S23:T23) -> 2610000 | V23: =L23-P23 -> 0 | W23: =M23-Q23 -> 0 | X23: =SUM(V23:W23) -> 0 | Y23: =P23-S23 -> 0 | Z23: =Q23-T23 -> 0 | AA23: =SUM(Y23:Z23) -> 0 | AB23: =ROUND(AA23*premieGM,2) -> #REF! | AC23: nee | AD23: nee | AE23: nee | AF23: nee | AH23: nee | AI23: nee | AJ23: nee
A24: 20 | B24: Rijksweg 36 a | C24: 7984 ND/ 36-A | E24: Dieverbrug | F24: Gemeentewerken Dieverbrug | H24: ja | I24: ja | J24: ja | K24: 45474 | L24: =ROUND(P24*ign/igo,afrind) -> 2792000 | M24: =ROUND(Q24*iin/iio,afrind) -> 1953000 | N24: =SUM(L24:M24) -> 4745000 | O24: =ROUND(N24*premieGM/1000,2) -> #REF! | P24: 2792000 | Q24: 1953000 | R24: =SUM(P24:Q24) -> 4745000 | S24: 2792000 | T24: 1953000 | U24: =SUM(S24:T24) -> 4745000 | V24: =L24-P24 -> 0 | W24: =M24-Q24 -> 0 | X24: =SUM(V24:W24) -> 0 | Y24: =P24-S24 -> 0 | Z24: =Q24-T24 -> 0 | AA24: =SUM(Y24:Z24) -> 0 | AB24: =ROUND(AA24*premieGM,2) -> #REF! | AC24: nee | AD24: nee | AE24: nee | AF24: nee | AH24: nee | AI24: nee | AJ24: ja
A25: 21 | B25: Brink | C25: 7991 CG / 1 | E25: Dwingeloo | F25: Muziekkoepel | H25: nee | I25: ja | J25: nee | K25: 45474 | L25: =ROUND(P25*ign/igo,afrind) -> 110000 | M25: =ROUND(Q25*iin/iio,afrind) -> 0 | N25: =SUM(L25:M25) -> 110000 | O25: =ROUND(N25*premieGM/1000,2) -> #REF! | P25: 110000 | Q25: 0 | R25: =SUM(P25:Q25) -> 110000 | S25: 110000 | T25: 0 | U25: =SUM(S25:T25) -> 110000 | V25: =L25-P25 -> 0 | W25: =M25-Q25 -> 0 | X25: =SUM(V25:W25) -> 0 | Y25: =P25-S25 -> 0 | Z25: =Q25-T25 -> 0 | AA25: =SUM(Y25:Z25) -> 0 | AB25: =ROUND(AA25*premieGM,2) -> #REF! | AC25: nee | AD25: nee | AE25: nee | AF25: nee | AH25: nee | AI25: nee | AJ25: nee
A26: 22 | B26: Westeinde 1 | C26: 7991 RS / 1 | E26: Dwingeloo | F26: Boerderij Hulsebosch | H26: nee | I26: ja | J26: nee | K26: 45474 | L26: =ROUND(P26*ign/igo,afrind) -> 2258000 | M26: =ROUND(Q26*iin/iio,afrind) -> 0 | N26: =SUM(L26:M26) -> 2258000 | O26: =ROUND(N26*premieGM/1000,2) -> #REF! | P26: 2258000 | Q26: 0 | R26: =SUM(P26:Q26) -> 2258000 | S26: 2258000 | T26: 0 | U26: =SUM(S26:T26) -> 2258000 | V26: =L26-P26 -> 0 | W26: =M26-Q26 -> 0 | X26: =SUM(V26:W26) -> 0 | Y26: =P26-S26 -> 0 | Z26: =Q26-T26 -> 0 | AA26: =SUM(Y26:Z26) -> 0 | AB26: =ROUND(AA26*premieGM,2) -> #REF! | AC26: nee | AD26: nee | AE26: nee | AF26: nee | AH26: nee | AI26: nee | AJ26: nee
A27: 23 | B27: Westeinde 1a | C27: 7991 RS / 1-A | E27: Dwingeloo | F27: Sportzaal/hal | H27: nee | I27: ja | J27: ja | K27: 45474 | L27: =ROUND(P27*ign/igo,afrind) -> 7060000 | M27: =ROUND(Q27*iin/iio,afrind) -> 461000 | N27: =SUM(L27:M27) -> 7521000 | O27: =ROUND(N27*premieGM/1000,2) -> #REF! | P27: 7060000 | Q27: 461000 | R27: =SUM(P27:Q27) -> 7521000 | S27: 7060000 | T27: 461000 | U27: =SUM(S27:T27) -> 7521000 | V27: =L27-P27 -> 0 | W27: =M27-Q27 -> 0 | X27: =SUM(V27:W27) -> 0 | Y27: =P27-S27 -> 0 | Z27: =Q27-T27 -> 0 | AA27: =SUM(Y27:Z27) -> 0 | AB27: =ROUND(AA27*premieGM,2) -> #REF! | AC27: nee | AD27: nee | AE27: nee | AF27: nee | AH27: nee | AI27: nee | AJ27: nee
A28: 24 | B28: Drift 19 | C28: 7991 AB / 19 | E28: Dwingeloo | F28: Begraafplaats | H28: nee | I28: ja | J28: ja | K28: 45474 | L28: =ROUND(P28*ign/igo,afrind) -> 71000 | M28: =ROUND(Q28*iin/iio,afrind) -> 33000 | N28: =SUM(L28:M28) -> 104000 | O28: =ROUND(N28*premieGM/1000,2) -> #REF! | P28: 71000 | Q28: 33000 | R28: =SUM(P28:Q28) -> 104000 | S28: 71000 | T28: 33000 | U28: =SUM(S28:T28) -> 104000 | V28: =L28-P28 -> 0 | W28: =M28-Q28 -> 0 | X28: =SUM(V28:W28) -> 0 | Y28: =P28-S28 -> 0 | Z28: =Q28-T28 -> 0 | AA28: =SUM(Y28:Z28) -> 0 | AB28: =ROUND(AA28*premieGM,2) -> #REF! | AC28: nee | AD28: ja | AE28: nee | AF28: nee | AH28: nee | AI28: nee | AJ28: nee
A29: 25 | B29: Brink 4 /4B | C29: 7991 CG / 4 | E29: Dwingeloo | F29: Boerderij (voorhuis in gebruik als woning, achterdeel staat leeg | H29: nee | I29: ja | J29: nee | K29: 45474 | L29: =ROUND(P29*ign/igo,afrind) -> 2267000 | M29: =ROUND(Q29*iin/iio,afrind) -> 0 | N29: =SUM(L29:M29) -> 2267000 | O29: =ROUND(N29*premieGM/1000,2) -> #REF! | P29: 2267000 | Q29: 0 | R29: =SUM(P29:Q29) -> 2267000 | S29: 2267000 | T29: 0 | U29: =SUM(S29:T29) -> 2267000 | V29: =L29-P29 -> 0 | W29: =M29-Q29 -> 0 | X29: =SUM(V29:W29) -> 0 | Y29: =P29-S29 -> 0 | Z29: =Q29-T29 -> 0 | AA29: =SUM(Y29:Z29) -> 0 | AB29: =ROUND(AA29*premieGM,2) -> #REF! | AC29: nee | AD29: nee | AE29: nee | AF29: nee | AH29: nee | AI29: nee | AJ29: nee
A30: 26 | B30: Brink 29 | C30: 7991 CH / 29 | E30: Dwingeloo | F30: Kerktoren | H30: nee | I30: ja | J30: nee | K30: 45474 | L30: =ROUND(P30*ign/igo,afrind) -> 2850000 | M30: =ROUND(Q30*iin/iio,afrind) -> 0 | N30: =SUM(L30:M30) -> 2850000 | O30: =ROUND(N30*premieGM/1000,2) -> #REF! | P30: 2850000 | Q30: 0 | R30: =SUM(P30:Q30) -> 2850000 | S30: 2850000 | T30: 0 | U30: =SUM(S30:T30) -> 2850000 | V30: =L30-P30 -> 0 | W30: =M30-Q30 -> 0 | X30: =SUM(V30:W30) -> 0 | Y30: =P30-S30 -> 0 | Z30: =Q30-T30 -> 0 | AA30: =SUM(Y30:Z30) -> 0 | AB30: =ROUND(AA30*premieGM,2) -> #REF! | AC30: nee | AD30: nee | AE30: nee | AF30: nee | AH30: nee | AI30: nee | AJ30: nee
... A44: 42 | B44: Van Helomaweg 18 | C44: 7971/PW/18 | E44: Havelte | F44: Infocentrum Holtingerveld | H44: ja | I44: ja | J44: nee | K44: 45474 | L44: =ROUND(P44*ign/igo,afrind) -> 742000 | M44: =ROUND(Q44*iin/iio,afrind) -> 0 | N44: =SUM(L44:M44) -> 742000 | O44: =ROUND(N44*premieGM/1000,2) -> #REF! | P44: 742000 | Q44: 0 | R44: =SUM(P44:Q44) -> 742000 | S44: 742000 | T44: 0 | U44: =SUM(S44:T44) -> 742000 | V44: =L44-P44 -> 0 | W44: =M44-Q44 -> 0 | X44: =SUM(V44:W44) -> 0 | Y44: =P44-S44 -> 0 | Z44: =Q44-T44 -> 0 | AA44: =SUM(Y44:Z44) -> 0 | AB44: =ROUND(AA44*premieGM,2) -> #REF! | AC44: nee | AD44: nee | AE44: nee | AF44: nee | AH44: nee | AI44: nee | AJ44: nee
A45: 43 | B45: Dorpstraat 5 | C45: 8337PA | E45: Zorgvlied | F45: Baarhuisje | H45: nee | I45: ja | J45: nee | K45: 45474 | L45: =ROUND(P45*ign/igo,afrind) -> 85000 | M45: =ROUND(Q45*iin/iio,afrind) -> 0 | N45: =SUM(L45:M45) -> 85000 | O45: =ROUND(N45*premieGM/1000,2) -> #REF! | P45: 85000 | Q45: 0 | R45: =SUM(P45:Q45) -> 85000 | S45: 85000 | T45: 0 | U45: =SUM(S45:T45) -> 85000 | V45: =L45-P45 -> 0 | W45: =M45-Q45 -> 0 | X45: =SUM(V45:W45) -> 0 | Y45: =P45-S45 -> 0 | Z45: =Q45-T45 -> 0 | AA45: =SUM(Y45:Z45) -> 0 | AB45: =ROUND(AA45*premieGM,2) -> #REF!
A46: 44 | B46: Wandelbosweg 10-44 en 47 | C46: 7971 AK | E46: Havelte | F46: Recreatiewoningen | H46: nee | I46: ja | J46: nee | K46: 45474 | L46: =ROUND(P46*ign/igo,afrind) -> 378000 | M46: =ROUND(Q46*iin/iio,afrind) -> 0 | N46: =SUM(L46:M46) -> 378000 | O46: =ROUND(N46*premieGM/1000,2) -> #REF! | P46: 378000 | Q46: 0 | R46: =SUM(P46:Q46) -> 378000 | S46: 378000 | T46: 0 | U46: =SUM(S46:T46) -> 378000 | V46: =L46-P46 -> 0 | W46: =M46-Q46 -> 0 | X46: =SUM(V46:W46) -> 0 | Y46: =P46-S46 -> 0 | Z46: =Q46-T46 -> 0 | AA46: =SUM(Y46:Z46) -> 0 | AB46: =ROUND(AA46*premieGM,2) -> #REF!
A47: 45 | B47: Wandelbosweg 10-53 en 54 | C47: 7971 AK | E47: Havelte | F47: Recreatiewoningen | H47: nee | I47: nee | J47: nee | K47: 45474 | L47: =ROUND(P47*ign/igo,afrind) -> 254000 | M47: =ROUND(Q47*iin/iio,afrind) -> 0 | N47: =SUM(L47:M47) -> 254000 | O47: =ROUND(N47*premieGM/1000,2) -> #REF! | P47: 254000 | Q47: 0 | R47: =SUM(P47:Q47) -> 254000 | S47: 254000 | T47: 0 | U47: =SUM(S47:T47) -> 254000 | V47: =L47-P47 -> 0 | W47: =M47-Q47 -> 0 | X47: =SUM(V47:W47) -> 0 | Y47: =P47-S47 -> 0 | Z47: =Q47-T47 -> 0 | AA47: =SUM(Y47:Z47) -> 0 | AB47: =ROUND(AA47*premieGM,2) -> #REF!
A48: 47 | B48: Havelter Schapendrift 22c | C48: 7971 BC | E48: Havelte | F48: Sporthal | H48: ja | I48: ja | J48: ja | K48: 45741 | L48: =ROUND(P48*ign/igo,afrind) -> 2420000 | M48: =ROUND(Q48*iin/iio,afrind) -> 115000 | N48: =SUM(L48:M48) -> 2535000 | O48: =ROUND(N48*premieGM/1000,2) -> #REF! | P48: 2420000 | Q48: 114950 | R48: =SUM(P48:Q48) -> 2534950 | S48: 0 | T48: 0 | U48: =SUM(S48:T48) -> 0 | V48: =L48-P48 -> 0 | W48: =M48-Q48 -> 50 | X48: =SUM(V48:W48) -> 50 | Y48: =P48-S48 -> 2420000 | Z48: =Q48-T48 -> 114950 | AA48: =SUM(Y48:Z48) -> 2534950 | AB48: =ROUND(AA48*premieGM,2) -> #REF! | AC48: nee | AF48: nee | AI48: nee | AJ48: nee
A49: 48 | B49: Westeinde 220 | C49: 8351 HP | E49: Wapserveen | F49: Groepsaccommodatie t.b.v. opvang Okraïnse vluchtelingen | I49: nee | J49: nee | L49: =ROUND(P49*ign/igo,afrind) -> 1877000 | M49: =ROUND(Q49*iin/iio,afrind) -> 21000 | N49: =SUM(L49:M49) -> 1898000 | O49: =ROUND(N49*premieGM/1000,2) -> #REF! | P49: 1877000 | Q49: 21000 | R49: =SUM(P49:Q49) -> 1898000 | S49: 0 | T49: 0 | U49: =SUM(S49:T49) -> 0 | V49: =L49-P49 -> 0 | W49: =M49-Q49 -> 0 | X49: =SUM(V49:W49) -> 0 | Y49: =P49-S49 -> 1877000 | Z49: =Q49-T49 -> 21000 | AA49: =SUM(Y49:Z49) -> 1898000 | AB49: =ROUND(AA49*premieGM,2) -> #REF! | AF49: nee | AI49: nee | AJ49: nee
A50: 49 | B50: Wandelbosweg 10 Fl 1 t/m 9 | C50: 7971 AK | E50: Havelte | F50: Flexwoningen Hesselte | H50: nee | I50: nee | J50: nee | L50: =ROUND(P50*ign/igo,afrind) -> 0 | M50: =ROUND(Q50*iin/iio,afrind) -> 0 | N50: =SUM(L50:M50) -> 0 | O50: =ROUND(N50*premieGM/1000,2) -> #REF! | P50: 0 | Q50: 0 | R50: =SUM(P50:Q50) -> 0 | S50: 0 | T50: 0 | U50: =SUM(S50:T50) -> 0 | V50: =L50-P50 -> 0 | W50: =M50-Q50 -> 0 | X50: =SUM(V50:W50) -> 0 | Y50: =P50-S50 -> 0 | Z50: =Q50-T50 -> 0 | AA50: =SUM(Y50:Z50) -> 0 | AB50: =ROUND(AA50*premieGM,2) -> #REF! | AC50: nee | AF50: nee | AI50: nee | AJ50: nee
B51: reserve | L51: =ROUND(P51*ign/igo,afrind) -> 0 | M51: =ROUND(Q51*iin/iio,afrind) -> 0 | N51: =SUM(L51:M51) -> 0 | O51: =ROUND(N51*premieGM/1000,2) -> #REF! | P51: 0 | Q51: 0 | R51: =SUM(P51:Q51) -> 0 | S51: 0 | T51: 0 | U51: =SUM(S51:T51) -> 0 | V51: =L51-P51 -> 0 | W51: =M51-Q51 -> 0 | X51: =SUM(V51:W51) -> 0 | Y51: =P51-S51 -> 0 | Z51: =Q51-T51 -> 0 | AA51: =SUM(Y51:Z51) -> 0 | AB51: =ROUND(AA51*premieGM,2) -> #REF!
B52: reserve | L52: =ROUND(P52*ign/igo,afrind) -> 0 | M52: =ROUND(Q52*iin/iio,afrind) -> 0 | N52: =SUM(L52:M52) -> 0 | O52: =ROUND(N52*premieGM/1000,2) -> #REF! | P52: 0 | Q52: 0 | R52: =SUM(P52:Q52) -> 0 | S52: 0 | T52: 0 | U52: =SUM(S52:T52) -> 0 | V52: =L52-P52 -> 0 | W52: =M52-Q52 -> 0 | X52: =SUM(V52:W52) -> 0 | Y52: =P52-S52 -> 0 | Z52: =Q52-T52 -> 0 | AA52: =SUM(Y52:Z52) -> 0 | AB52: =ROUND(AA52*premieGM,2) -> #REF!
B53: reserve | L53: =ROUND(P53*ign/igo,afrind) -> 0 | M53: =ROUND(Q53*iin/iio,afrind) -> 0 | N53: =SUM(L53:M53) -> 0 | O53: =ROUND(N53*premieGM/1000,2) -> #REF! | P53: 0 | Q53: 0 | R53: =SUM(P53:Q53) -> 0 | S53: 0 | T53: 0 | U53: =SUM(S53:T53) -> 0 | V53: =L53-P53 -> 0 | W53: =M53-Q53 -> 0 | X53: =SUM(V53:W53) -> 0 | Y53: =P53-S53 -> 0 | Z53: =Q53-T53 -> 0 | AA53: =SUM(Y53:Z53) -> 0 | AB53: =ROUND(AA53*premieGM,2) -> #REF!
...
