Workbook
Name afr: #REF!
Name afrind: 'General Info'!$B$19
Name cad: 'Bestand dd 1 januari 2026'!$AA$83
Name ign: 'General Info'!$B$5
Name igo: 'General Info'!$B$6
Name iin: 'General Info'!$B$7
Name iio: 'General Info'!$B$8
Name index: 'Bestand dd 1 januari 2026'!$X$83
Name index2002: 'Bestand dd 1 januari 2026'!#REF!
Name premieGM: 'General Info'!$B$13
Name premieOW: 'General Info'!$B$14
Name vvd: #REF!

Sheet General Info
A3: Index-cijfers:
A4: Omschrijving: | B4: Indexcijfer:
A5: Index geb Troostwijk nw | B5: 138.1
A6: Index geb Troostwijk oud | B6: 138.1
A7: Index inv troostwijk nw | B7: 133.4
A8: Index inv troostwijk oud | B8: 133.4
A11: Premietarieven
A12: Omschrijving: | B12: Premie o/oo:
A13: premieGM | B13: =Polisblad!#REF! -> #REF! | C13: Dit is een dooreen premie voor de doorberekening van de premie voor de klant
A14: premieOW | B14: =Polisblad!#REF! -> #REF!
A19: Afronding index | B19: -3

Sheet Polisblad
A1: Overzicht Polisblad d.d. 1 januari 2026
A2: ='Bestand dd 1 januari 2026'!B2 -> behorende bij polis nr. ten name van:
A3: ='Bestand dd 1 januari 2026'!B3 -> Gemeente Westerveld
A5: Gemeentelijk Bezit:
A6: 1. Gebouwen | B6: ='Bestand dd 1 januari 2026'!L55 -> 74210000 | D6: =ROUND(B6*C6/1000,2) -> 0
A7: 2. Inventaris | B7: ='Bestand dd 1 januari 2026'!M55 -> 8341000 | D7: =ROUND(B7*C7/1000,2) -> 0
A9: Primair Onderwijs:
A10: 3. Gebouwen | B10: ='Bestand dd 1 januari 2026'!L81 -> 45283000 | D10: =ROUND(B10*C10/1000,2) -> 0
A11: 4. Inventaris | B11: ='Bestand dd 1 januari 2026'!M81 -> 6991000 | D11: =ROUND(B11*C11/1000,2) -> 0
B13: =SUM(B6:B12) -> 134825000 | D13: =SUM(D6:D12) -> 0
A18: Stand per 1 januari 2026 | B18: ='Bestand dd 1 januari 2026'!U83 -> 128285000
A19: mutaties 2026 | B19: =cad -> 6540023
B20: =SUM(B18:B19) -> 134825023
A21: Index per 1 januari 2027 | B21: =index -> -23
A22: Stand per 1 januari 2027 | B22: =SUM(B20:B21) -> 134825000
A26: Verrekening termijn
A27: jaarpremie per | D27: 0
A28: reeds verrekend met
A29: nota nr. | D29: 0
A30: premie-boeking/restitutie | D30: =SUM(D27:D29) -> 0

Sheet Bestand dd 1 januari 2026
B1: Bestand d.d. 1 januari 2026
B2: behorende bij polis nr. ten name van:
B3: Gemeente Westerveld
L4: Stand per 1 januari 2027 (na indexering) | P4: Stand per 1 januari 2026 | S4: Stand per 1 januari 2026 | V4: Indexering per 1 januari 2027 | Y4: Mutaties termijn 1 januari 2026 | AC4: Risico Informatie:
A5: No. | B5: Adres: | C5: Postcode | D5: Rubr. | E5: Plaats | F5: Omschrijving | G5: Bouwaard | H5: Zonnepanelen aanwezig | I5: Gebouwen Taxatie 2017 | J5: Inventaris Taxatie 2017 | K5: Taxatiedatum: | L5: Gebouwen: | M5: Inventaris: | N5: Totaal | O5: Premie in EUR: | P5: Gebouwen: | Q5: Inventaris: | R5: Totaal | S5: Gebouwen: | T5: Inventaris: | U5: Totaal | V5: Gebouwen: | W5: Inventaris: | X5: Totaal | Y5: Gebouwen: | Z5: Inventaris: | AA5: Totaal | AB5: Premieverr. 50% | AC5: Inbraakmeld-installatie met doormelding | AD5: Brandmeld-installatie met doormelding | AE5: Sprinkler-installatie met doormelding | AF5: Leegstaand | AG5: Indien leegstaand: vorm van toezicht aanwezig (bijv. Anti-kraak | AH5: Zonnepanelen | AI5: Asbest in gebouw | AJ5: Omheind met hekwerken
B6: Gemeentelijk Bezit:
A7: 1 | B7: Wandelbosweg 10 27t/m38 | C7: 7971 AK | E7: Havelte | F7: Recreatiecentrum (12 Bungalow) | H7: nee | I7: ja | J7: nee | K7: 45474 | L7: =ROUND(P7*ign/igo,afrind) -> 1400000 | M7: =ROUND(Q7*iin/iio,afrind) -> 0 | N7: =SUM(L7:M7) -> 1400000 | O7: =ROUND(N7*premieGM/1000,2) -> #REF! | P7: 1400000 | Q7: 0 | R7: =SUM(P7:Q7) -> 1400000 | S7: 527000 | T7: 0 | U7: =SUM(S7:T7) -> 527000 | V7: =L7-P7 -> 0 | W7: =M7-Q7 -> 0 | X7: =SUM(V7:W7) -> 0 | Y7: =P7-S7 -> 873000 | Z7: =Q7-T7 -> 0 | AA7: =SUM(Y7:Z7) -> 873000 | AB7: =ROUND(AA7*premieGM,2) -> #REF! | AC7: nee | AD7: nee | AE7: nee | AF7: nee | AH7: nee | AI7: nee | AJ7: nee
A8: 2 | B8: Wandelbosweg 10 25 en 26 | C8: 7971 AK | E8: Havelte | F8: Recreatiecentrum (2 Bungalow) | H8: nee | I8: ja | J8: nee | K8: 45474 | L8: =ROUND(P8*ign/igo,afrind) -> 378000 | M8: =ROUND(Q8*iin/iio,afrind) -> 0 | N8: =SUM(L8:M8) -> 378000 | O8: =ROUND(N8*premieGM/1000,2) -> #REF! | P8: 378000 | Q8: 0 | R8: =SUM(P8:Q8) -> 378000 | S8: 378000 | T8: 0 | U8: =SUM(S8:T8) -> 378000 | V8: =L8-P8 -> 0 | W8: =M8-Q8 -> 0 | X8: =SUM(V8:W8) -> 0 | Y8: =P8-S8 -> 0 | Z8: =Q8-T8 -> 0 | AA8: =SUM(Y8:Z8) -> 0 | AB8: =ROUND(AA8*premieGM,2) -> #REF! | AC8: nee | AD8: nee | AE8: nee | AF8: nee | AH8: nee | AI8: nee | AJ8: nee
A9: 3 | B9: Wandelbosweg 10 43 46 55 | C9: 7971 AK | E9: Havelte | F9: Recreatiecentrum (3 Bungalow) | H9: nee | I9: ja | J9: nee | K9: 45474 | L9: =ROUND(P9*ign/igo,afrind) -> 410000 | M9: =ROUND(Q9*iin/iio,afrind) -> 0 | N9: =SUM(L9:M9) -> 410000 | O9: =ROUND(N9*premieGM/1000,2) -> #REF! | P9: 410000 | Q9: 0 | R9: =SUM(P9:Q9) -> 410000 | S9: 410000 | T9: 0 | U9: =SUM(S9:T9) -> 410000 | V9: =L9-P9 -> 0 | W9: =M9-Q9 -> 0 | X9: =SUM(V9:W9) -> 0 | Y9: =P9-S9 -> 0 | Z9: =Q9-T9 -> 0 | AA9: =SUM(Y9:Z9) -> 0 | AB9: =ROUND(AA9*premieGM,2) -> #REF! | AC9: nee | AD9: nee | AE9: nee | AF9: nee | AH9: nee | AI9: nee | AJ9: nee
A10: 4 | B10: Groningerweg 1 | C10: 7981 LA/ 1-A | E10: Diever | F10: stalling grasmachine | H10: nee | I10: ja | J10: nee | K10: 45474 | L10: =ROUND(P10*ign/igo,afrind) -> 123000 | M10: =ROUND(Q10*iin/iio,afrind) -> 0 | N10: =SUM(L10:M10) -> 123000 | O10: =ROUND(N10*premieGM/1000,2) -> #REF! | P10: 123000 | Q10: 0 | R10: =SUM(P10:Q10) -> 123000 | S10: 123000 | T10: 0 | U10: =SUM(S10:T10) -> 123000 | V10: =L10-P10 -> 0 | W10: =M10-Q10 -> 0 | X10: =SUM(V10:W10) -> 0 | Y10: =P10-S10 -> 0 | Z10: =Q10-T10 -> 0 | AA10: =SUM(Y10:Z10) -> 0 | AB10: =ROUND(AA10*premieGM,2) -> #REF! | AC10: nee | AD10: nee | AE10: nee | AF10: nee | AH10: nee | AI10: nee | AJ10: nee
A11: 5 | B11: Drift 19 | E11: Dwingeloo | F11: stalling grasmachine | H11: nee | I11: ja | J11: nee | K11: 45474 | L11: =ROUND(P11*ign/igo,afrind) -> 123000 | M11: =ROUND(Q11*iin/iio,afrind) -> 0 | N11: =SUM(L11:M11) -> 123000 | O11: =ROUND(N11*premieGM/1000,2) -> #REF! | P11: 123000 | Q11: 0 | R11: =SUM(P11:Q11) -> 123000 | S11: 123000 | T11: 0 | U11: =SUM(S11:T11) -> 123000 | V11: =L11-P11 -> 0 | W11: =M11-Q11 -> 0 | X11: =SUM(V11:W11) -> 0 | Y11: =P11-S11 -> 0 | Z11: =Q11-T11 -> 0 | AA11: =SUM(Y11:Z11) -> 0 | AB11: =ROUND(AA11*premieGM,2) -> #REF! | AC11: nee | AD11: nee | AE11: nee | AF11: nee | AH11: nee | AI11: nee | AJ11: nee
A12: 6 | B12: Middenweg 11f | E12: Vledder | F12: stalling grasmachine | H12: nee | I12: ja | J12: nee | K12: 45474 | L12: =ROUND(P12*ign/igo,afrind) -> 137000 | M12: =ROUND(Q12*iin/iio,afrind) -> 0 | N12: =SUM(L12:M12) -> 137000 | O12: =ROUND(N12*premieGM/1000,2) -> #REF! | P12: 137000 | Q12: 0 | R12: =SUM(P12:Q12) -> 137000 | S12: 137000 | T12: 0 | U12: =SUM(S12:T12) -> 137000 | V12: =L12-P12 -> 0 | W12: =M12-Q12 -> 0 | X12: =SUM(V12:W12) -> 0 | Y12: =P12-S12 -> 0 | Z12: =Q12-T12 -> 0 | AA12: =SUM(Y12:Z12) -> 0 | AB12: =ROUND(AA12*premieGM,2) -> #REF! | AC12: nee | AD12: nee | AE12: nee | AF12: nee | AH12: nee | AI12: nee | AJ12: nee
A13: 7 | B13: Molenweg 3a | C13: 7971 BJ/ 3-A | E13: Havelte | F13: Brandweerkazerne | H13: nee | I13: nee | J13: nee | K13: 45474 | L13: =ROUND(P13*ign/igo,afrind) -> 1808000 | M13: =ROUND(Q13*iin/iio,afrind) -> 173000 | N13: =SUM(L13:M13) -> 1981000 | O13: =ROUND(N13*premieGM/1000,2) -> #REF! | P13: 1808073 | Q13: 173000 | R13: =SUM(P13:Q13) -> 1981073 | S13: 574000 | T13: 173000 | U13: =SUM(S13:T13) -> 747000 | V13: =L13-P13 -> -73 | W13: =M13-Q13 -> 0 | X13: =SUM(V13:W13) -> -73 | Y13: =P13-S13 -> 1234073 | Z13: =Q13-T13 -> 0 | AA13: =SUM(Y13:Z13) -> 1234073 | AB13: =ROUND(AA13*premieGM,2) -> #REF! | AC13: nee | AD13: nee | AE13: nee | AF13: nee | AH13: nee | AI13: nee | AJ13: nee
A14: 8 | B14: Oeveraseweg 19 | C14: 7971 PA/ 19 | E14: Havelte | F14: Afvalbrengstation/kapschuur | H14: ja | I14: ja | J14: ja | K14: 45474 | L14: =ROUND(P14*ign/igo,afrind) -> 833000 | M14: =ROUND(Q14*iin/iio,afrind) -> 84000 | N14: =SUM(L14:M14) -> 917000 | O14: =ROUND(N14*premieGM/1000,2) -> #REF! | P14: 833000 | Q14: 84000 | R14: =SUM(P14:Q14) -> 917000 | S14: 833000 | T14: 84000 | U14: =SUM(S14:T14) -> 917000 | V14: =L14-P14 -> 0 | W14: =M14-Q14 -> 0 | X14: =SUM(V14:W14) -> 0 | Y14: =P14-S14 -> 0 | Z14: =Q14-T14 -> 0 | AA14: =SUM(Y14:Z14) -> 0 | AB14: =ROUND(AA14*premieGM,2) -> #REF! | AC14: nee | AD14: nee | AE14: nee | AF14: nee | AH14: nee | AI14: nee | AJ14: ja
A15: 9 | B15: Kerklaan 3 | C15: 7971 CV/ 1 | E15: Havelte | F15: Begraafplaats/ baarhuisje | H15: nee | I15: ja | J15: nee | K15: 45474 | L15: =ROUND(P15*ign/igo,afrind) -> 130000 | M15: =ROUND(Q15*iin/iio,afrind) -> 0 | N15: =SUM(L15:M15) -> 130000 | O15: =ROUND(N15*premieGM/1000,2) -> #REF! | P15: 130000 | Q15: 0 | R15: =SUM(P15:Q15) -> 130000 | S15: 130000 | T15: 0 | U15: =SUM(S15:T15) -> 130000 | V15: =L15-P15 -> 0 | W15: =M15-Q15 -> 0 | X15: =SUM(V15:W15) -> 0 | Y15: =P15-S15 -> 0 | Z15: =Q15-T15 -> 0 | AA15: =SUM(Y15:Z15) -> 0 | AB15: =ROUND(AA15*premieGM,2) -> #REF! | AC15: nee | AD15: nee | AE15: nee | AF15: nee | AH15: nee | AI15: nee | AJ15: nee
A16: 10 | B16: Uffelterkerkweg 1 | C16: 7971 PP/ 1 | E16: Havelte | F16: Kerktoren | H16: nee | I16: ja | J16: nee | K16: 45474 | L16: =ROUND(P16*ign/igo,afrind) -> 4066000 | M16: =ROUND(Q16*iin/iio,afrind) -> 0 | N16: =SUM(L16:M16) -> 4066000 | O16: =ROUND(N16*premieGM/1000,2) -> #REF! | P16: 4066000 | Q16: 0 | R16: =SUM(P16:Q16) -> 4066000 | S16: 4066000 | T16: 0 | U16: =SUM(S16:T16) -> 4066000 | V16: =L16-P16 -> 0 | W16: =M16-Q16 -> 0 | X16: =SUM(V16:W16) -> 0 | Y16: =P16-S16 -> 0 | Z16: =Q16-T16 -> 0 | AA16: =SUM(Y16:Z16) -> 0 | AB16: =ROUND(AA16*premieGM,2) -> #REF! | AC16: nee | AD16: nee | AE16: nee | AF16: nee | AH16: nee | AI16: nee | AJ16: nee
A17: 11 | B17: Hav. Schapendrift 22b | C17: 7971 BC/ 22B | E17: Havelte | F17: Peuterspeelzaal | H17: ja | I17: ja | J17: ja | K17: 45474 | L17: =ROUND(P17*ign/igo,afrind) -> 1224000 | M17: =ROUND(Q17*iin/iio,afrind) -> 259000 | N17: =SUM(L17:M17) -> 1483000 | O17: =ROUND(N17*premieGM/1000,2) -> #REF! | P17: 1224000 | Q17: 259000 | R17: =SUM(P17:Q17) -> 1483000 | S17: 1224000 | T17: 259000 | U17: =SUM(S17:T17) -> 1483000 | V17: =L17-P17 -> 0 | W17: =M17-Q17 -> 0 | X17: =SUM(V17:W17) -> 0 | Y17: =P17-S17 -> 0 | Z17: =Q17-T17 -> 0 | AA17: =SUM(Y17:Z17) -> 0 | AB17: =ROUND(AA17*premieGM,2) -> #REF! | AC17: nee | AD17: ja | AE17: nee | AF17: nee | AH17: nee | AI17: nee | AJ17: nee
A18: 12 | B18: van Helomaweg 39 | C18: 7973 JC/ 39 | E18: Havelte/ Darp | F18: Gemeentewerken | H18: nee | I18: ja | J18: nee | K18: 45474 | L18: =ROUND(P18*ign/igo,afrind) -> 1353000 | M18: =ROUND(Q18*iin/iio,afrind) -> 0 | N18: =SUM(L18:M18) -> 1353000 | O18: =ROUND(N18*premieGM/1000,2) -> #REF! | P18: 1353000 | Q18: 0 | R18: =SUM(P18:Q18) -> 1353000 | S18: 1353000 | T18: 0 | U18: =SUM(S18:T18) -> 1353000 | V18: =L18-P18 -> 0 | W18: =M18-Q18 -> 0 | X18: =SUM(V18:W18) -> 0 | Y18: =P18-S18 -> 0 | Z18: =Q18-T18 -> 0 | AA18: =SUM(Y18:Z18) -> 0 | AB18: =ROUND(AA18*premieGM,2) -> #REF! | AC18: nee | AD18: nee | AE18: nee | AF18: nee | AG18: anti-kraak | AH18: nee | AI18: ja | AJ18: ja
A19: 15 | B19: Ruiterweg 19 | C19: 7975 RP/ 19 | E19: Uffelte | F19: Begraafplaats/ baarhuisje | H19: nee | I19: ja | J19: nee | K19: 45474 | L19: =ROUND(P19*ign/igo,afrind) -> 123000 | M19: =ROUND(Q19*iin/iio,afrind) -> 0 | N19: =SUM(L19:M19) -> 123000 | O19: =ROUND(N19*premieGM/1000,2) -> #REF! | P19: 123000 | Q19: 0 | R19: =SUM(P19:Q19) -> 123000 | S19: 123000 | T19: 0 | U19: =SUM(S19:T19) -> 123000 | V19: =L19-P19 -> 0 | W19: =M19-Q19 -> 0 | X19: =SUM(V19:W19) -> 0 | Y19: =P19-S19 -> 0 | Z19: =Q19-T19 -> 0 | AA19: =SUM(Y19:Z19) -> 0 | AB19: =ROUND(AA19*premieGM,2) -> #REF! | AC19: nee | AD19: nee | AE19: nee | AF19: nee | AH19: nee | AI19: nee | AJ19: nee
A20: 16 | B20: Dingspil 17 | C20: 7981 BB/ 17 | E20: Diever | F20: Korenmolen De Vlijt | H20: nee | I20: ja | J20: nee | K20: 45474 | L20: =ROUND(P20*ign/igo,afrind) -> 1327000 | M20: =ROUND(Q20*iin/iio,afrind) -> 0 | N20: =SUM(L20:M20) -> 1327000 | O20: =ROUND(N20*premieGM/1000,2) -> #REF! | P20: 1327000 | Q20: 0 | R20: =SUM(P20:Q20) -> 1327000 | S20: 1327000 | T20: 0 | U20: =SUM(S20:T20) -> 1327000 | V20: =L20-P20 -> 0 | W20: =M20-Q20 -> 0 | X20: =SUM(V20:W20) -> 0 | Y20: =P20-S20 -> 0 | Z20: =Q20-T20 -> 0 | AA20: =SUM(Y20:Z20) -> 0 | AB20: =ROUND(AA20*premieGM,2) -> #REF! | AC20: nee | AD20: nee | AE20: nee | AF20: nee | AH20: nee | AI20: nee | AJ20: nee
A21: 17 | B21: Raadhuislaan 1 | C21: 7981 EL/ 1 | E21: Diever | F21: Gemeentehuis | H21: ja | I21: ja | J21: ja | K21: 45474 | L21: =ROUND(P21*ign/igo,afrind) -> 18155000 | M21: =ROUND(Q21*iin/iio,afrind) -> 3679000 | N21: =SUM(L21:M21) -> 21834000 | O21: =ROUND(N21*premieGM/1000,2) -> #REF! | P21: 18155000 | Q21: 3679000 | R21: =SUM(P21:Q21) -> 21834000 | S21: 18155000 | T21: 3679000 | U21: =SUM(S21:T21) -> 21834000 | V21: =L21-P21 -> 0 | W21: =M21-Q21 -> 0 | X21: =SUM(V21:W21) -> 0 | Y21: =P21-S21 -> 0 | Z21: =Q21-T21 -> 0 | AA21: =SUM(Y21:Z21) -> 0 | AB21: =ROUND(AA21*premieGM,2) -> #REF! | AC21: nee | AD21: nee | AE21: nee | AF21: nee | AH21: nee | AI21: nee | AJ21: nee
A22: 18 | B22: Groningerweg 1A | C22: 7981 LA/ 1-A | E22: Diever | F22: Begraafplaats/ baarhuisje | H22: nee | I22: ja | J22: nee | K22: 45474 | L22: =ROUND(P22*ign/igo,afrind) -> 117000 | M22: =ROUND(Q22*iin/iio,afrind) -> 0 | N22: =SUM(L22:M22) -> 117000 | O22: =ROUND(N22*premieGM/1000,2) -> #REF! | P22: 117000 | Q22: 0 | R22: =SUM(P22:Q22) -> 117000 | S22: 117000 | T22: 0 | U22: =SUM(S22:T22) -> 117000 | V22: =L22-P22 -> 0 | W22: =M22-Q22 -> 0 | X22: =SUM(V22:W22) -> 0 | Y22: =P22-S22 -> 0 | Z22: =Q22-T22 -> 0 | AA22: =SUM(Y22:Z22) -> 0 | AB22: =ROUND(AA22*premieGM,2) -> #REF! | AC22: ja | AD22: ja | AE22: nee | AF22: nee | AH22: nee | AI22: nee | AJ22: nee
A23: 19 | B23: Hoofdstraat 45 | C23: 7981 AD/ 45 | E23: Diever | F23: Kerktoren | H23: nee | I23: ja | J23: nee | K23: 45474 | L23: =ROUND(P23*ign/igo,afrind) -> 2610000 | M23: =ROUND(Q23*iin/iio,afrind) -> 0 | N23: =SUM(L23:M23) -> 2610000 | O23: =ROUND(N23*premieGM/1000,2) -> #REF! | P23: 2610000 | Q23: 0 | R23: =SUM(P23:Q23) -> 2610000 | S23: 2610000 | T23: 0 | U23: =SUM(S23:T23) -> 2610000 | V23: =L23-P23 -> 0 | W23: =M23-Q23 -> 0 | X23: =SUM(V23:W23) -> 0 | Y23: =P23-S23 -> 0 | Z23: =Q23-T23 -> 0 | AA23: =SUM(Y23:Z23) -> 0 | AB23: =ROUND(AA23*premieGM,2) -> #REF! | AC23: nee | AD23: nee | AE23: nee | AF23: nee | AH23: nee | AI23: nee | AJ23: nee
A24: 20 | B24: Rijksweg 36 a | C24: 7984 ND/ 36-A | E24: Dieverbrug | F24: Gemeentewerken Dieverbrug | H24: ja | I24: ja | J24: ja | K24: 45474 | L24: =ROUND(P24*ign/igo,afrind) -> 2792000 | M24: =ROUND(Q24*iin/iio,afrind) -> 1953000 | N24: =SUM(L24:M24) -> 4745000 | O24: =ROUND(N24*premieGM/1000,2) -> #REF! | P24: 2792000 | Q24: 1953000 | R24: =SUM(P24:Q24) -> 4745000 | S24: 2792000 | T24: 1953000 | U24: =SUM(S24:T24) -> 4745000 | V24: =L24-P24 -> 0 | W24: =M24-Q24 -> 0 | X24: =SUM(V24:W24) -> 0 | Y24: =P24-S24 -> 0 | Z24: =Q24-T24 -> 0 | AA24: =SUM(Y24:Z24) -> 0 | AB24: =ROUND(AA24*premieGM,2) -> #REF! | AC24: nee | AD24: nee | AE24: nee | AF24: nee | AH24: nee | AI24: nee | AJ24: ja
A25: 21 | B25: Brink | C25: 7991 CG / 1 | E25: Dwingeloo | F25: Muziekkoepel | H25: nee | I25: ja | J25: nee | K25: 45474 | L25: =ROUND(P25*ign/igo,afrind) -> 110000 | M25: =ROUND(Q25*iin/iio,afrind) -> 0 | N25: =SUM(L25:M25) -> 110000 | O25: =ROUND(N25*premieGM/1000,2) -> #REF! | P25: 110000 | Q25: 0 | R25: =SUM(P25:Q25) -> 110000 | S25: 110000 | T25: 0 | U25: =SUM(S25:T25) -> 110000 | V25: =L25-P25 -> 0 | W25: =M25-Q25 -> 0 | X25: =SUM(V25:W25) -> 0 | Y25: =P25-S25 -> 0 | Z25: =Q25-T25 -> 0 | AA25: =SUM(Y25:Z25) -> 0 | AB25: =ROUND(AA25*premieGM,2) -> #REF! | AC25: nee | AD25: nee | AE25: nee | AF25: nee | AH25: nee | AI25: nee | AJ25: nee
A26: 22 | B26: Westeinde 1 | C26: 7991 RS / 1 | E26: Dwingeloo | F26: Boerderij Hulsebosch | H26: nee | I26: ja | J26: nee | K26: 45474 | L26: =ROUND(P26*ign/igo,afrind) -> 2258000 | M26: =ROUND(Q26*iin/iio,afrind) -> 0 | N26: =SUM(L26:M26) -> 2258000 | O26: =ROUND(N26*premieGM/1000,2) -> #REF! | P26: 2258000 | Q26: 0 | R26: =SUM(P26:Q26) -> 2258000 | S26: 2258000 | T26: 0 | U26: =SUM(S26:T26) -> 2258000 | V26: =L26-P26 -> 0 | W26: =M26-Q26 -> 0 | X26: =SUM(V26:W26) -> 0 | Y26: =P26-S26 -> 0 | Z26: =Q26-T26 -> 0 | AA26: =SUM(Y26:Z26) -> 0 | AB26: =ROUND(AA26*premieGM,2) -> #REF! | AC26: nee | AD26: nee | AE26: nee | AF26: nee | AH26: nee | AI26: nee | AJ26: nee
A27: 23 | B27: Westeinde 1a | C27: 7991 RS / 1-A | E27: Dwingeloo | F27: Sportzaal/hal | H27: nee | I27: ja | J27: ja | K27: 45474 | L27: =ROUND(P27*ign/igo,afrind) -> 7060000 | M27: =ROUND(Q27*iin/iio,afrind) -> 461000 | N27: =SUM(L27:M27) -> 7521000 | O27: =ROUND(N27*premieGM/1000,2) -> #REF! | P27: 7060000 | Q27: 461000 | R27: =SUM(P27:Q27) -> 7521000 | S27: 7060000 | T27: 461000 | U27: =SUM(S27:T27) -> 7521000 | V27: =L27-P27 -> 0 | W27: =M27-Q27 -> 0 | X27: =SUM(V27:W27) -> 0 | Y27: =P27-S27 -> 0 | Z27: =Q27-T27 -> 0 | AA27: =SUM(Y27:Z27) -> 0 | AB27: =ROUND(AA27*premieGM,2) -> #REF! | AC27: nee | AD27: nee | AE27: nee | AF27: nee | AH27: nee | AI27: nee | AJ27: nee
A28: 24 | B28: Drift 19 | C28: 7991 AB / 19 | E28: Dwingeloo | F28: Begraafplaats | H28: nee | I28: ja | J28: ja | K28: 45474 | L28: =ROUND(P28*ign/igo,afrind) -> 71000 | M28: =ROUND(Q28*iin/iio,afrind) -> 33000 | N28: =SUM(L28:M28) -> 104000 | O28: =ROUND(N28*premieGM/1000,2) -> #REF! | P28: 71000 | Q28: 33000 | R28: =SUM(P28:Q28) -> 104000 | S28: 71000 | T28: 33000 | U28: =SUM(S28:T28) -> 104000 | V28: =L28-P28 -> 0 | W28: =M28-Q28 -> 0 | X28: =SUM(V28:W28) -> 0 | Y28: =P28-S28 -> 0 | Z28: =Q28-T28 -> 0 | AA28: =SUM(Y28:Z28) -> 0 | AB28: =ROUND(AA28*premieGM,2) -> #REF! | AC28: nee | AD28: ja | AE28: nee | AF28: nee | AH28: nee | AI28: nee | AJ28: nee
A29: 25 | B29: Brink 4 /4B | C29: 7991 CG / 4 | E29: Dwingeloo | F29: Boerderij (voorhuis in gebruik als woning, achterdeel staat leeg | H29: nee | I29: ja | J29: nee | K29: 45474 | L29: =ROUND(P29*ign/igo,afrind) -> 2267000 | M29: =ROUND(Q29*iin/iio,afrind) -> 0 | N29: =SUM(L29:M29) -> 2267000 | O29: =ROUND(N29*premieGM/1000,2) -> #REF! | P29: 2267000 | Q29: 0 | R29: =SUM(P29:Q29) -> 2267000 | S29: 2267000 | T29: 0 | U29: =SUM(S29:T29) -> 2267000 | V29: =L29-P29 -> 0 | W29: =M29-Q29 -> 0 | X29: =SUM(V29:W29) -> 0 | Y29: =P29-S29 -> 0 | Z29: =Q29-T29 -> 0 | AA29: =SUM(Y29:Z29) -> 0 | AB29: =ROUND(AA29*premieGM,2) -> #REF! | AC29: nee | AD29: nee | AE29: nee | AF29: nee | AH29: nee | AI29: nee | AJ29: nee
A30: 26 | B30: Brink 29 | C30: 7991 CH / 29 | E30: Dwingeloo | F30: Kerktoren | H30: nee | I30: ja | J30: nee | K30: 45474 | L30: =ROUND(P30*ign/igo,afrind) -> 2850000 | M30: =ROUND(Q30*iin/iio,afrind) -> 0 | N30: =SUM(L30:M30) -> 2850000 | O30: =ROUND(N30*premieGM/1000,2) -> #REF! | P30: 2850000 | Q30: 0 | R30: =SUM(P30:Q30) -> 2850000 | S30: 2850000 | T30: 0 | U30: =SUM(S30:T30) -> 2850000 | V30: =L30-P30 -> 0 | W30: =M30-Q30 -> 0 | X30: =SUM(V30:W30) -> 0 | Y30: =P30-S30 -> 0 | Z30: =Q30-T30 -> 0 | AA30: =SUM(Y30:Z30) -> 0 | AB30: =ROUND(AA30*premieGM,2) -> #REF! | AC30: nee | AD30: nee | AE30: nee | AF30: nee | AH30: nee | AI30: nee | AJ30: nee
... A44: 42 | B44: Van Helomaweg 18 | C44: 7971/PW/18 | E44: Havelte | F44: Infocentrum Holtingerveld | H44: ja | I44: ja | J44: nee | K44: 45474 | L44: =ROUND(P44*ign/igo,afrind) -> 742000 | M44: =ROUND(Q44*iin/iio,afrind) -> 0 | N44: =SUM(L44:M44) -> 742000 | O44: =ROUND(N44*premieGM/1000,2) -> #REF! | P44: 742000 | Q44: 0 | R44: =SUM(P44:Q44) -> 742000 | S44: 742000 | T44: 0 | U44: =SUM(S44:T44) -> 742000 | V44: =L44-P44 -> 0 | W44: =M44-Q44 -> 0 | X44: =SUM(V44:W44) -> 0 | Y44: =P44-S44 -> 0 | Z44: =Q44-T44 -> 0 | AA44: =SUM(Y44:Z44) -> 0 | AB44: =ROUND(AA44*premieGM,2) -> #REF! | AC44: nee | AD44: nee | AE44: nee | AF44: nee | AH44: nee | AI44: nee | AJ44: nee
A45: 43 | B45: Dorpstraat 5 | C45: 8337PA | E45: Zorgvlied | F45: Baarhuisje | H45: nee | I45: ja | J45: nee | K45: 45474 | L45: =ROUND(P45*ign/igo,afrind) -> 85000 | M45: =ROUND(Q45*iin/iio,afrind) -> 0 | N45: =SUM(L45:M45) -> 85000 | O45: =ROUND(N45*premieGM/1000,2) -> #REF! | P45: 85000 | Q45: 0 | R45: =SUM(P45:Q45) -> 85000 | S45: 85000 | T45: 0 | U45: =SUM(S45:T45) -> 85000 | V45: =L45-P45 -> 0 | W45: =M45-Q45 -> 0 | X45: =SUM(V45:W45) -> 0 | Y45: =P45-S45 -> 0 | Z45: =Q45-T45 -> 0 | AA45: =SUM(Y45:Z45) -> 0 | AB45: =ROUND(AA45*premieGM,2) -> #REF!
A46: 44 | B46: Wandelbosweg 10-44 en 47 | C46: 7971 AK | E46: Havelte | F46: Recreatiewoningen | H46: nee | I46: ja | J46: nee | K46: 45474 | L46: =ROUND(P46*ign/igo,afrind) -> 378000 | M46: =ROUND(Q46*iin/iio,afrind) -> 0 | N46: =SUM(L46:M46) -> 378000 | O46: =ROUND(N46*premieGM/1000,2) -> #REF! | P46: 378000 | Q46: 0 | R46: =SUM(P46:Q46) -> 378000 | S46: 378000 | T46: 0 | U46: =SUM(S46:T46) -> 378000 | V46: =L46-P46 -> 0 | W46: =M46-Q46 -> 0 | X46: =SUM(V46:W46) -> 0 | Y46: =P46-S46 -> 0 | Z46: =Q46-T46 -> 0 | AA46: =SUM(Y46:Z46) -> 0 | AB46: =ROUND(AA46*premieGM,2) -> #REF!
A47: 45 | B47: Wandelbosweg 10-53 en 54 | C47: 7971 AK | E47: Havelte | F47: Recreatiewoningen | H47: nee | I47: nee | J47: nee | K47: 45474 | L47: =ROUND(P47*ign/igo,afrind) -> 254000 | M47: =ROUND(Q47*iin/iio,afrind) -> 0 | N47: =SUM(L47:M47) -> 254000 | O47: =ROUND(N47*premieGM/1000,2) -> #REF! | P47: 254000 | Q47: 0 | R47: =SUM(P47:Q47) -> 254000 | S47: 254000 | T47: 0 | U47: =SUM(S47:T47) -> 254000 | V47: =L47-P47 -> 0 | W47: =M47-Q47 -> 0 | X47: =SUM(V47:W47) -> 0 | Y47: =P47-S47 -> 0 | Z47: =Q47-T47 -> 0 | AA47: =SUM(Y47:Z47) -> 0 | AB47: =ROUND(AA47*premieGM,2) -> #REF!
A48: 47 | B48: Havelter Schapendrift 22c | C48: 7971 BC | E48: Havelte | F48: Sporthal | H48: ja | I48: ja | J48: ja | K48: 45741 | L48: =ROUND(P48*ign/igo,afrind) -> 2420000 | M48: =ROUND(Q48*iin/iio,afrind) -> 115000 | N48: =SUM(L48:M48) -> 2535000 | O48: =ROUND(N48*premieGM/1000,2) -> #REF! | P48: 2420000 | Q48: 114950 | R48: =SUM(P48:Q48) -> 2534950 | S48: 0 | T48: 0 | U48: =SUM(S48:T48) -> 0 | V48: =L48-P48 -> 0 | W48: =M48-Q48 -> 50 | X48: =SUM(V48:W48) -> 50 | Y48: =P48-S48 -> 2420000 | Z48: =Q48-T48 -> 114950 | AA48: =SUM(Y48:Z48) -> 2534950 | AB48: =ROUND(AA48*premieGM,2) -> #REF! | AC48: nee | AF48: nee | AI48: nee | AJ48: nee
A49: 48 | B49: Westeinde 220 | C49: 8351 HP | E49: Wapserveen | F49: Groepsaccommodatie t.b.v. opvang Okraïnse vluchtelingen | I49: nee | J49: nee | L49: =ROUND(P49*ign/igo,afrind) -> 1877000 | M49: =ROUND(Q49*iin/iio,afrind) -> 21000 | N49: =SUM(L49:M49) -> 1898000 | O49: =ROUND(N49*premieGM/1000,2) -> #REF! | P49: 1877000 | Q49: 21000 | R49: =SUM(P49:Q49) -> 1898000 | S49: 0 | T49: 0 | U49: =SUM(S49:T49) -> 0 | V49: =L49-P49 -> 0 | W49: =M49-Q49 -> 0 | X49: =SUM(V49:W49) -> 0 | Y49: =P49-S49 -> 1877000 | Z49: =Q49-T49 -> 21000 | AA49: =SUM(Y49:Z49) -> 1898000 | AB49: =ROUND(AA49*premieGM,2) -> #REF! | AF49: nee | AI49: nee | AJ49: nee
A50: 49 | B50: Wandelbosweg 10 Fl 1 t/m 9 | C50: 7971 AK | E50: Havelte | F50: Flexwoningen Hesselte | H50: nee | I50: nee | J50: nee | L50: =ROUND(P50*ign/igo,afrind) -> 0 | M50: =ROUND(Q50*iin/iio,afrind) -> 0 | N50: =SUM(L50:M50) -> 0 | O50: =ROUND(N50*premieGM/1000,2) -> #REF! | P50: 0 | Q50: 0 | R50: =SUM(P50:Q50) -> 0 | S50: 0 | T50: 0 | U50: =SUM(S50:T50) -> 0 | V50: =L50-P50 -> 0 | W50: =M50-Q50 -> 0 | X50: =SUM(V50:W50) -> 0 | Y50: =P50-S50 -> 0 | Z50: =Q50-T50 -> 0 | AA50: =SUM(Y50:Z50) -> 0 | AB50: =ROUND(AA50*premieGM,2) -> #REF! | AC50: nee | AF50: nee | AI50: nee | AJ50: nee
B51: reserve | L51: =ROUND(P51*ign/igo,afrind) -> 0 | M51: =ROUND(Q51*iin/iio,afrind) -> 0 | N51: =SUM(L51:M51) -> 0 | O51: =ROUND(N51*premieGM/1000,2) -> #REF! | P51: 0 | Q51: 0 | R51: =SUM(P51:Q51) -> 0 | S51: 0 | T51: 0 | U51: =SUM(S51:T51) -> 0 | V51: =L51-P51 -> 0 | W51: =M51-Q51 -> 0 | X51: =SUM(V51:W51) -> 0 | Y51: =P51-S51 -> 0 | Z51: =Q51-T51 -> 0 | AA51: =SUM(Y51:Z51) -> 0 | AB51: =ROUND(AA51*premieGM,2) -> #REF!
B52: reserve | L52: =ROUND(P52*ign/igo,afrind) -> 0 | M52: =ROUND(Q52*iin/iio,afrind) -> 0 | N52: =SUM(L52:M52) -> 0 | O52: =ROUND(N52*premieGM/1000,2) -> #REF! | P52: 0 | Q52: 0 | R52: =SUM(P52:Q52) -> 0 | S52: 0 | T52: 0 | U52: =SUM(S52:T52) -> 0 | V52: =L52-P52 -> 0 | W52: =M52-Q52 -> 0 | X52: =SUM(V52:W52) -> 0 | Y52: =P52-S52 -> 0 | Z52: =Q52-T52 -> 0 | AA52: =SUM(Y52:Z52) -> 0 | AB52: =ROUND(AA52*premieGM,2) -> #REF!
B53: reserve | L53: =ROUND(P53*ign/igo,afrind) -> 0 | M53: =ROUND(Q53*iin/iio,afrind) -> 0 | N53: =SUM(L53:M53) -> 0 | O53: =ROUND(N53*premieGM/1000,2) -> #REF! | P53: 0 | Q53: 0 | R53: =SUM(P53:Q53) -> 0 | S53: 0 | T53: 0 | U53: =SUM(S53:T53) -> 0 | V53: =L53-P53 -> 0 | W53: =M53-Q53 -> 0 | X53: =SUM(V53:W53) -> 0 | Y53: =P53-S53 -> 0 | Z53: =Q53-T53 -> 0 | AA53: =SUM(Y53:Z53) -> 0 | AB53: =ROUND(AA53*premieGM,2) -> #REF!
B55: Totaal Gemeentelijk Bezit: | L55: =SUM(L6:L54) -> 74210000 | M55: =SUM(M6:M54) -> 8341000 | N55: =SUM(N6:N54) -> 82551000 | O55: =SUM(O6:O54) -> #REF! | P55: 67421000 | Q55: 8161000 | R55: =SUM(R6:R54) -> 82551023 | S55: 67421000 | T55: 8161000 | U55: =SUM(U6:U54) -> 76011000 | V55: =SUM(V6:V54) -> -73 | W55: =SUM(W6:W54) -> 50 | X55: =SUM(X6:X54) -> -23 | Y55: =SUM(Y6:Y54) -> 6404073 | Z55: =SUM(Z6:Z54) -> 135950 | AA55: =SUM(AA6:AA54) -> 6540023 | AB55: =SUM(AB6:AB54) -> #REF!
B57: Primair Onderwijs en Voortgezet Onderwijs:
A58: 1 | B58: Hav. Schapendrift 22A | C58: 7971 BC/ 22A | E58: Havelte | F58: OBS Havelte | H58: ja | I58: ja | J58: ja | K58: 45474 | L58: =ROUND(P58*ign/igo,afrind) -> 5779000 | M58: =ROUND(Q58*iin/iio,afrind) -> 941000 | N58: =SUM(L58:M58) -> 6720000 | O58: =ROUND(N58*premieOW/1000,2) -> #REF! | P58: 5779000 | Q58: 941000 | R58: =SUM(P58:Q58) -> 6720000 | S58: 5779000 | T58: 941000 | U58: =SUM(S58:T58) -> 6720000 | V58: =L58-P58 -> 0 | W58: =M58-Q58 -> 0 | X58: =SUM(V58:W58) -> 0 | Y58: =P58-S58 -> 0 | Z58: =Q58-T58 -> 0 | AA58: =SUM(Y58:Z58) -> 0 | AB58: =ROUND(AA58*premieGM,2) -> #REF! | AC58: nee | AD58: ja | AE58: nee | AF58: nee | AH58: ja | AI58: nee | AJ58: nee
A59: 2 | B59: Ten Darperweg 50 | C59: 7983 KN/50 | E59: Wapse | F59: OBS Ten Darperschoele | H59: nee | I59: ja | J59: ja | K59: 45474 | L59: =ROUND(P59*ign/igo,afrind) -> 1919000 | M59: =ROUND(Q59*iin/iio,afrind) -> 292000 | N59: =SUM(L59:M59) -> 2211000 | O59: =ROUND(N59*premieOW/1000,2) -> #REF! | P59: 1919000 | Q59: 292000 | R59: =SUM(P59:Q59) -> 2211000 | S59: 1919000 | T59: 292000 | U59: =SUM(S59:T59) -> 2211000 | V59: =L59-P59 -> 0 | W59: =M59-Q59 -> 0 | X59: =SUM(V59:W59) -> 0 | Y59: =P59-S59 -> 0 | Z59: =Q59-T59 -> 0 | AA59: =SUM(Y59:Z59) -> 0 | AB59: =ROUND(AA59*premieGM,2) -> #REF! | AC59: nee | AD59: nee | AE59: nee | AF59: ja | AG59: anti-kraak | AH59: nee | AI59: nee | AJ59: nee
A60: 3 | B60: Schoolstraat 4 | C60: 7975 AC/ 4 | E60: Uffelte | F60: OBS Oosterveldschool | H60: ja | I60: ja | J60: ja | K60: 45474 | L60: =ROUND(P60*ign/igo,afrind) -> 3325000 | M60: =ROUND(Q60*iin/iio,afrind) -> 422000 | N60: =SUM(L60:M60) -> 3747000 | O60: =ROUND(N60*premieOW/1000,2) -> #REF! | P60: 3325000 | Q60: 422000 | R60: =SUM(P60:Q60) -> 3747000 | S60: 3325000 | T60: 422000 | U60: =SUM(S60:T60) -> 3747000 | V60: =L60-P60 -> 0 | W60: =M60-Q60 -> 0 | X60: =SUM(V60:W60) -> 0 | Y60: =P60-S60 -> 0 | Z60: =Q60-T60 -> 0 | AA60: =SUM(Y60:Z60) -> 0 | AB60: =ROUND(AA60*premieGM,2) -> #REF! | AC60: nee | AD60: nee | AE60: nee | AF60: nee | AH60: ja | AI60: nee | AJ60: nee
A61: 4 | B61: Schipper 11 | C61: 7981 DV/ 11 | E61: Diever | F61: OBS De Singelier | H61: ja | I61: ja | J61: ja | K61: 45474 | L61: =ROUND(P61*ign/igo,afrind) -> 3605000 | M61: =ROUND(Q61*iin/iio,afrind) -> 519000 | N61: =SUM(L61:M61) -> 4124000 | O61: =ROUND(N61*premieOW/1000,2) -> #REF! | P61: 3605000 | Q61: 519000 | R61: =SUM(P61:Q61) -> 4124000 | S61: 3605000 | T61: 519000 | U61: =SUM(S61:T61) -> 4124000 | V61: =L61-P61 -> 0 | W61: =M61-Q61 -> 0 | X61: =SUM(V61:W61) -> 0 | Y61: =P61-S61 -> 0 | Z61: =Q61-T61 -> 0 | AA61: =SUM(Y61:Z61) -> 0 | AB61: =ROUND(AA61*premieGM,2) -> #REF! | AC61: nee | AD61: nee | AE61: nee | AF61: nee | AH61: ja | AI61: nee | AJ61: nee
A62: 5 | B62: Westeres 7 | C62: 7981 BC/ 7 | E62: Diever | F62: RSG Stad en Esch | H62: nee | I62: ja | J62: ja | K62: 45474 | L62: =ROUND(P62*ign/igo,afrind) -> 8603000 | M62: =ROUND(Q62*iin/iio,afrind) -> 1336000 | N62: =SUM(L62:M62) -> 9939000 | O62: =ROUND(N62*premieOW/1000,2) -> #REF! | P62: 8603000 | Q62: 1336000 | R62: =SUM(P62:Q62) -> 9939000 | S62: 8603000 | T62: 1336000 | U62: =SUM(S62:T62) -> 9939000 | V62: =L62-P62 -> 0 | W62: =M62-Q62 -> 0 | X62: =SUM(V62:W62) -> 0 | Y62: =P62-S62 -> 0 | Z62: =Q62-T62 -> 0 | AA62: =SUM(Y62:Z62) -> 0 | AB62: =ROUND(AA62*premieGM,2) -> #REF! | AC62: nee | AD62: nee | AE62: nee | AF62: nee | AH62: nee | AI62: nee | AJ62: nee
A63: 6 | B63: Hoofdstraat 23 | C63: 7981 AC/ 23 | E63: Diever | F63: PCB Roosjenschool | H63: nee | I63: ja | J63: ja | K63: 45474 | L63: =ROUND(P63*ign/igo,afrind) -> 3006000 | M63: =ROUND(Q63*iin/iio,afrind) -> 487000 | N63: =SUM(L63:M63) -> 3493000 | O63: =ROUND(N63*premieOW/1000,2) -> #REF! | P63: 3006000 | Q63: 487000 | R63: =SUM(P63:Q63) -> 3493000 | S63: 3006000 | T63: 487000 | U63: =SUM(S63:T63) -> 3493000 | V63: =L63-P63 -> 0 | W63: =M63-Q63 -> 0 | X63: =SUM(V63:W63) -> 0 | Y63: =P63-S63 -> 0 | Z63: =Q63-T63 -> 0 | AA63: =SUM(Y63:Z63) -> 0 | AB63: =ROUND(AA63*premieGM,2) -> #REF! | AC63: nee | AD63: nee | AE63: nee | AF63: nee | AH63: nee | AI63: nee | AJ63: nee
A64: 7 | B64: Hoofdstraat 23 | C64: 7981 AC/ 23 | E64: Diever | F64: PCB Roosjenschool/ speelplaats | H64: nee | I64: nee | J64: ja | K64: 45474 | L64: =ROUND(P64*ign/igo,afrind) -> 0 | M64: =ROUND(Q64*iin/iio,afrind) -> 98000 | N64: =SUM(L64:M64) -> 98000 | O64: =ROUND(N64*premieOW/1000,2) -> #REF! | P64: 0 | Q64: 98000 | R64: =SUM(P64:Q64) -> 98000 | S64: 0 | T64: 98000 | U64: =SUM(S64:T64) -> 98000 | V64: =L64-P64 -> 0 | W64: =M64-Q64 -> 0 | X64: =SUM(V64:W64) -> 0 | Y64: =P64-S64 -> 0 | Z64: =Q64-T64 -> 0 | AA64: =SUM(Y64:Z64) -> 0 | AB64: =ROUND(AA64*premieGM,2) -> #REF! | AC64: nee | AD64: nee | AE64: nee | AF64: nee | AH64: nee | AI64: nee | AJ64: nee
A65: 9 | B65: De Hoek 26 | C65: 8381 BL / 26 | E65: Vledder | F65: OBS De Hoekstee | H65: ja | I65: ja | J65: ja | K65: 45474 | L65: =ROUND(P65*ign/igo,afrind) -> 2674000 | M65: =ROUND(Q65*iin/iio,afrind) -> 454000 | N65: =SUM(L65:M65) -> 3128000 | O65: =ROUND(N65*premieOW/1000,2) -> #REF! | P65: 2674000 | Q65: 454000 | R65: =SUM(P65:Q65) -> 3128000 | S65: 2674000 | T65: 454000 | U65: =SUM(S65:T65) -> 3128000 | V65: =L65-P65 -> 0 | W65: =M65-Q65 -> 0 | X65: =SUM(V65:W65) -> 0 | Y65: =P65-S65 -> 0 | Z65: =Q65-T65 -> 0 | AA65: =SUM(Y65:Z65) -> 0 | AB65: =ROUND(AA65*premieGM,2) -> #REF! | AC65: nee | AD65: nee | AE65: nee | AF65: nee | AH65: ja | AI65: nee | AJ65: nee
A66: 10 | B66: Hoofdweg 136 | C66: 8383 EK/ 136 | E66: Nijensleek | F66: PCB De Bron | H66: nee | I66: ja | J66: ja | K66: 45474 | L66: =ROUND(P66*ign/igo,afrind) -> 2889000 | M66: =ROUND(Q66*iin/iio,afrind) -> 513000 | N66: =SUM(L66:M66) -> 3402000 | O66: =ROUND(N66*premieOW/1000,2) -> #REF! | P66: 2889000 | Q66: 513000 | R66: =SUM(P66:Q66) -> 3402000 | S66: 2889000 | T66: 513000 | U66: =SUM(S66:T66) -> 3402000 | V66: =L66-P66 -> 0 | W66: =M66-Q66 -> 0 | X66: =SUM(V66:W66) -> 0 | Y66: =P66-S66 -> 0 | Z66: =Q66-T66 -> 0 | AA66: =SUM(Y66:Z66) -> 0 | AB66: =ROUND(AA66*premieGM,2) -> #REF! | AC66: nee | AD66: nee | AE66: nee | AF66: nee | AH66: nee | AI66: nee | AJ66: nee
A67: 11 | B67: Linth Homanstraat 24 | C67: 8384 EE/ 24 | E67: Wilhelminaoord | F67: OBS De Kievitshoek | H67: ja | I67: ja | J67: ja | K67: 45474 | L67: =ROUND(P67*ign/igo,afrind) -> 2479000 | M67: =ROUND(Q67*iin/iio,afrind) -> 377000 | N67: =SUM(L67:M67) -> 2856000 | O67: =ROUND(N67*premieOW/1000,2) -> #REF! | P67: 2479000 | Q67: 377000 | R67: =SUM(P67:Q67) -> 2856000 | S67: 2479000 | T67: 377000 | U67: =SUM(S67:T67) -> 2856000 | V67: =L67-P67 -> 0 | W67: =M67-Q67 -> 0 | X67: =SUM(V67:W67) -> 0 | Y67: =P67-S67 -> 0 | Z67: =Q67-T67 -> 0 | AA67: =SUM(Y67:Z67) -> 0 | AB67: =ROUND(AA67*premieGM,2) -> #REF! | AC67: nee | AD67: nee | AE67: nee | AF67: nee | AH67: ja | AI67: nee | AJ67: nee
A68: 12 | B68: Oude Dijk 59 | C68: 8351 HR / 59 | E68: Wapserveen | F68: OBS Wapserveen | H68: ja | I68: ja | J68: ja | K68: 45474 | L68: =ROUND(P68*ign/igo,afrind) -> 2018000 | M68: =ROUND(Q68*iin/iio,afrind) -> 448000 | N68: =SUM(L68:M68) -> 2466000 | O68: =ROUND(N68*premieOW/1000,2) -> #REF! | P68: 2018000 | Q68: 448000 | R68: =SUM(P68:Q68) -> 2466000 | S68: 2018000 | T68: 448000 | U68: =SUM(S68:T68) -> 2466000 | V68: =L68-P68 -> 0 | W68: =M68-Q68 -> 0 | X68: =SUM(V68:W68) -> 0 | Y68: =P68-S68 -> 0 | Z68: =Q68-T68 -> 0 | AA68: =SUM(Y68:Z68) -> 0 | AB68: =ROUND(AA68*premieGM,2) -> #REF! | AC68: nee | AD68: nee | AE68: nee | AF68: nee | AH68: ja | AI68: nee | AJ68: nee
A69: 13 | B69: Oude Dijk 59 | C69: 8351 HR / 59 | E69: Wapserveen | F69: Buurthuis | H69: nee | I69: ja | J69: ja | K69: 45474 | L69: =ROUND(P69*ign/igo,afrind) -> 2284000 | M69: =ROUND(Q69*iin/iio,afrind) -> 169000 | N69: =SUM(L69:M69) -> 2453000 | O69: =ROUND(N69*premieOW/1000,2) -> #REF! | P69: 2284000 | Q69: 169000 | R69: =SUM(P69:Q69) -> 2453000 | S69: 2284000 | T69: 169000 | U69: =SUM(S69:T69) -> 2453000 | V69: =L69-P69 -> 0 | W69: =M69-Q69 -> 0 | X69: =SUM(V69:W69) -> 0 | Y69: =P69-S69 -> 0 | Z69: =Q69-T69 -> 0 | AA69: =SUM(Y69:Z69) -> 0 | AB69: =ROUND(AA69*premieGM,2) -> #REF! | AC69: nee | AD69: ja | AE69: nee | AF69: nee | AH69: nee | AI69: nee | AJ69: nee
A70: 14 | B70: Heuvelenweg 22A,22B,22C | C70: 7991 CL/ 22A,22B,22C | E70: Dwingeloo | F70: School Dwingeloo A, B, C | H70: ja | I70: ja | J70: ja | K70: 45474 | L70: =ROUND(P70*ign/igo,afrind) -> 6702000 | M70: =ROUND(Q70*iin/iio,afrind) -> 935000 | N70: =SUM(L70:M70) -> 7637000 | O70: =ROUND(N70*premieOW/1000,2) -> #REF! | P70: 6702000 | Q70: 935000 | R70: =SUM(P70:Q70) -> 7637000 | S70: 6702000 | T70: 935000 | U70: =SUM(S70:T70) -> 7637000 | V70: =L70-P70 -> 0 | W70: =M70-Q70 -> 0 | X70: =SUM(V70:W70) -> 0 | Y70: =P70-S70 -> 0 | Z70: =Q70-T70 -> 0 | AA70: =SUM(Y70:Z70) -> 0 | AB70: =ROUND(AA70*premieGM,2) -> #REF! | AC70: ja | AD70: onbekend | AE70: nee | AF70: nee | AH70: ja | AI70: nee | AJ70: nee
B71: Reserve | L71: =ROUND(P71*ign/igo,afrind) -> 0 | M71: =ROUND(Q71*iin/iio,afrind) -> 0 | N71: =SUM(L71:M71) -> 0 | O71: =ROUND(N71*premieOW/1000,2) -> #REF! | P71: 0 | Q71: 0 | R71: =SUM(P71:Q71) -> 0 | S71: 0 | T71: 0 | U71: =SUM(S71:T71) -> 0 | V71: =L71-P71 -> 0 | W71: =M71-Q71 -> 0 | X71: =SUM(V71:W71) -> 0 | Y71: =P71-S71 -> 0 | Z71: =Q71-T71 -> 0 | AA71: =SUM(Y71:Z71) -> 0 | AB71: =ROUND(AA71*premieGM,2) -> #REF!
B72: Reserve | L72: =ROUND(P72*ign/igo,afrind) -> 0 | M72: =ROUND(Q72*iin/iio,afrind) -> 0 | N72: =SUM(L72:M72) -> 0 | O72: =ROUND(N72*premieOW/1000,2) -> #REF! | P72: 0 | Q72: 0 | R72: =SUM(P72:Q72) -> 0 | S72: 0 | T72: 0 | U72: =SUM(S72:T72) -> 0 | V72: =L72-P72 -> 0 | W72: =M72-Q72 -> 0 | X72: =SUM(V72:W72) -> 0 | Y72: =P72-S72 -> 0 | Z72: =Q72-T72 -> 0 | AA72: =SUM(Y72:Z72) -> 0 | AB72: =ROUND(AA72*premieGM,2) -> #REF!
B73: Reserve | L73: =ROUND(P73*ign/igo,afrind) -> 0 | M73: =ROUND(Q73*iin/iio,afrind) -> 0 | N73: =SUM(L73:M73) -> 0 | O73: =ROUND(N73*premieOW/1000,2) -> #REF! | P73: 0 | Q73: 0 | R73: =SUM(P73:Q73) -> 0 | S73: 0 | T73: 0 | U73: =SUM(S73:T73) -> 0 | V73: =L73-P73 -> 0 | W73: =M73-Q73 -> 0 | X73: =SUM(V73:W73) -> 0 | Y73: =P73-S73 -> 0 | Z73: =Q73-T73 -> 0 | AA73: =SUM(Y73:Z73) -> 0 | AB73: =ROUND(AA73*premieGM,2) -> #REF!
B74: Reserve | L74: =ROUND(P74*ign/igo,afrind) -> 0 | M74: =ROUND(Q74*iin/iio,afrind) -> 0 | N74: =SUM(L74:M74) -> 0 | O74: =ROUND(N74*premieOW/1000,2) -> #REF! | P74: 0 | Q74: 0 | R74: =SUM(P74:Q74) -> 0 | S74: 0 | T74: 0 | U74: =SUM(S74:T74) -> 0 | V74: =L74-P74 -> 0 | W74: =M74-Q74 -> 0 | X74: =SUM(V74:W74) -> 0 | Y74: =P74-S74 -> 0 | Z74: =Q74-T74 -> 0 | AA74: =SUM(Y74:Z74) -> 0 | AB74: =ROUND(AA74*premieGM,2) -> #REF!
B75: Reserve | L75: =ROUND(P75*ign/igo,afrind) -> 0 | M75: =ROUND(Q75*iin/iio,afrind) -> 0 | N75: =SUM(L75:M75) -> 0 | O75: =ROUND(N75*premieOW/1000,2) -> #REF! | P75: 0 | Q75: 0 | R75: =SUM(P75:Q75) -> 0 | S75: 0 | T75: 0 | U75: =SUM(S75:T75) -> 0 | V75: =L75-P75 -> 0 | W75: =M75-Q75 -> 0 | X75: =SUM(V75:W75) -> 0 | Y75: =P75-S75 -> 0 | Z75: =Q75-T75 -> 0 | AA75: =SUM(Y75:Z75) -> 0 | AB75: =ROUND(AA75*premieGM,2) -> #REF!
B76: Reserve | L76: =ROUND(P76*ign/igo,afrind) -> 0 | M76: =ROUND(Q76*iin/iio,afrind) -> 0 | N76: =SUM(L76:M76) -> 0 | O76: =ROUND(N76*premieOW/1000,2) -> #REF! | P76: 0 | Q76: 0 | R76: =SUM(P76:Q76) -> 0 | S76: 0 | T76: 0 | U76: =SUM(S76:T76) -> 0 | V76: =L76-P76 -> 0 | W76: =M76-Q76 -> 0 | X76: =SUM(V76:W76) -> 0 | Y76: =P76-S76 -> 0 | Z76: =Q76-T76 -> 0 | AA76: =SUM(Y76:Z76) -> 0 | AB76: =ROUND(AA76*premieGM,2) -> #REF!
B77: Reserve | L77: =ROUND(P77*ign/igo,afrind) -> 0 | M77: =ROUND(Q77*iin/iio,afrind) -> 0 | N77: =SUM(L77:M77) -> 0 | O77: =ROUND(N77*premieOW/1000,2) -> #REF! | P77: 0 | Q77: 0 | R77: =SUM(P77:Q77) -> 0 | S77: 0 | T77: 0 | U77: =SUM(S77:T77) -> 0 | V77: =L77-P77 -> 0 | W77: =M77-Q77 -> 0 | X77: =SUM(V77:W77) -> 0 | Y77: =P77-S77 -> 0 | Z77: =Q77-T77 -> 0 | AA77: =SUM(Y77:Z77) -> 0 | AB77: =ROUND(AA77*premieGM,2) -> #REF!
B78: Reserve | L78: =ROUND(P78*ign/igo,afrind) -> 0 | M78: =ROUND(Q78*iin/iio,afrind) -> 0 | N78: =SUM(L78:M78) -> 0 | O78: =ROUND(N78*premieOW/1000,2) -> #REF! | P78: 0 | Q78: 0 | R78: =SUM(P78:Q78) -> 0 | S78: 0 | T78: 0 | U78: =SUM(S78:T78) -> 0 | V78: =L78-P78 -> 0 | W78: =M78-Q78 -> 0 | X78: =SUM(V78:W78) -> 0 | Y78: =P78-S78 -> 0 | Z78: =Q78-T78 -> 0 | AA78: =SUM(Y78:Z78) -> 0 | AB78: =ROUND(AA78*premieGM,2) -> #REF!
B79: Reserve | L79: =ROUND(P79*ign/igo,afrind) -> 0 | M79: =ROUND(Q79*iin/iio,afrind) -> 0 | N79: =SUM(L79:M79) -> 0 | O79: =ROUND(N79*premieOW/1000,2) -> #REF! | P79: 0 | Q79: 0 | R79: =SUM(P79:Q79) -> 0 | S79: 0 | T79: 0 | U79: =SUM(S79:T79) -> 0 | V79: =L79-P79 -> 0 | W79: =M79-Q79 -> 0 | X79: =SUM(V79:W79) -> 0 | Y79: =P79-S79 -> 0 | Z79: =Q79-T79 -> 0 | AA79: =SUM(Y79:Z79) -> 0 | AB79: =ROUND(AA79*premieGM,2) -> #REF!
B81: Totaal Primair Onderwijs en Voortgezet Onderwijs: | L81: =SUM(L58:L80) -> 45283000 | M81: =SUM(M58:M80) -> 6991000 | N81: =SUM(N58:N80) -> 52274000 | O81: =SUM(O58:O80) -> #REF! | P81: =SUM(P58:P80) -> 45283000 | Q81: =SUM(Q58:Q80) -> 6991000 | R81: =SUM(R58:R80) -> 52274000 | S81: =SUM(S58:S80) -> 45283000 | ... AB81: =SUM(AB58:AB80) -> #REF!
B83: Eindtotaal: | L83: =L55+L81 -> 119493000 | M83: =M55+M81 -> 15332000 | N83: =N55+N81 -> 134825000 | O83: =O55+O81 -> #REF! | P83: =P55+P81 -> 112704000 | Q83: =Q55+Q81 -> 15152000 | R83: =R55+R81 -> 134825023 | S83: =S55+S81 -> 112704000 | ... AB83: =AB55+AB81 -> #REF!
O84: In verband met tussentijds afronden kunnen er marginale verschillen plaatsvinden tussen het premiebedrag op dit tabblad en het Polisblad. Het polisblad is hier in leidend.
B86: Instructies voor het bijwerken van dit bestand:
B88: Algemeen:
B89: In deze spreadsheet zijn allleen die kolommen zichtbaar gemaakt die voor u voor het bijwerken van belang zijn.
B90: De niet zichtbare kolommen zijn verborgen omdat zich daarin rekenformules bevinden die niet mogen worden overschreven of gewist.
B91: De wijzigingen van de verzekerde waarden dienen handmatig uitsluitend en alleen in de kolommen P en Q te worden aangebracht.
B92: Dat wordt dan uiteindelijk de stand per 31 december van dit jaar
B94: Wijziging van de bedragen op bestaande objecten
B95: Het reeds vermelde bedrag in de desbestreffende regel van kolom P en Q waarnodig met het nieuwe bedrag overschrijven. (Alleen het getal invoeren)
B97: Afvoering van bestaande objecten:
B99: Het reeds vermelde bedrag in de desbetreffende regel van kolom P en Q waar van toepassing SVP met het getal 0 overschrijven.
B100: Let op: Ofschoon het object moet worden afgevoerd dient de regel zelf nog te blijven staan.
B101: Derhalve zoals vermeld alleen het verzekerde bedrag op 0 stellen. Meer niet! De regel zelf laten staan.
... B108: Alle niet genoemde verborgen kolommen worden vanzelf op de achtergronden aangepast.
