Workbook

Sheet Instructie
A1: Tarievenblad Circulair Kantoormeubilair Gemeente Haarlemmermeer
A2: Let op! Oranje gemarkeerde velden zijn invulvelden
A3: INVULINSTRUCTIE
A4: Algemeen
A5: De opgegeven aantallen in dit document dienen enkel als indicatie van de verwachte afname door opdrachtgever. Deze aantallen zijn bedoeld om inzicht te geven in wat opdrachtgever verwacht het meest of het minst af te nemen. Echter, deze aantallen zijn indicatief en niet bindend. Inschrijvers kunnen hier geen rechten aan ontlenen; het is mogelijk dat de werkelijke aantallen later anders blijken te zijn en er is geen afnameverplichting vanuit de opdrachtgever. Alle tarieven zijn all-in en exclusief BTW. Hiermee wordt bedoeld dat alle kosten in de tarieven verwerkt zijn, zoals bedrijfskosten, overhead, administratieve kosten, materialen, verzekering etc.
A6: Tabblad - Ondertekening
A7: Het tarievenblad moet rechtsgeldig worden ondertekend door een tekenbevoegde functionaris van de inschrijver.
A8: Tabblad 1 - Refurbishen van Meubilair:
A9: In dit deel van het prijzenblad wordt de inschrijver gevraagd om de prijzen op te geven voor het refurbishen van het in dit tabblad opgenomen standaard en representatief meubilair. Voor het nieuwe gemeentehuis is in bijlage H een overzicht van het meubilair dat gerefurbished moet worden, inclusief, indien beschikbaar, beeldmateriaal. Additionele uren voor herbeoordeling van meubilair dat nog niet in tabblad 1 is opgenomen worden op offerte basis in overleg met opdrachtgever bepaald. Het uurtarief hiervoor vermeldt inschrijver in Tabblad 6 Project nieuw gemeentehuis.
A10: Tabblad 2 - Kortingspercentages
A11: In dit deel van het prijzenblad vult de inschrijver de staffels voor kortingspercentages in voor het nieuw circulair meubilair voor het nieuwe gemeentehuis met de categorienummers T106, T112, T117, S01 en S115. Deze kortingen worden automatisch doorgerekend in tabblad 3 in de totaalprijs per categorienummer. De kortingspercentages zijn ook gedurende de looptijd van de raamovereenkomst van toepassing voor aanschaf van meubilair met de genoemde categorienummers op de andere gemeentelijke locaties .
A12: Tabblad 3 - Nieuw circulair Meubilair:
... A23: De totaalsom van tabblad 7 wordt in het tabblad "behaalde score op prijs" automatisch ingevuld. Inschrijver ziet hier hoeveel punten er zijn gescoord binnen de gestelde bandbreedte.

Sheet Ondertekening
A1: 1. Ondertekening
A3: Organisatie:
A4: Datum:
A5: Naam:
A6: Functie:
A7: Eigen referentie inschrijving:
A8: Handtekening:
A11: Door het indienen van het Tarievenblad verklaart Inschrijver dat deze zich volledig conformeert aan de aanbestedingsleidraad inclusief bijlagen. Tevens accepteert Inschrijver eventuele wijzigingen/ aanvullingen zoals opgenomen in de nota('s) van inlichtingen en gaat ermee akkoord dat de hierin opgenomen wijzigingen/ aanvullingen prevaleren boven hetgeen bepaald in eerder genoemde aanbestedingsleidraad inclusief bijlagen. Door het indienen van het Tarievenblad verklaart Inschrijver tevens dat de Inschrijving volledig is gebaseerd op en voldoet aan de bepalingen in de eerder genoemde aanbestedingsleidraad, Programma van Eisen, nota('s) van inlichtingen en de eigen beantwoording van de gunningscriteria. Alle kosten gerelateerd aan de uitvoering van de beantwoording van de gunningscriteria worden geacht in de aangeboden prijzen te zijn verdisconteerd. Inschrijver verklaart met het indienen van het Tarievenblad dat de door hem geoffreerde prijzen en tarieven zonder voorbehoud zijn.

Sheet 1. Refurbished
A1: 1. Bestaand meubilair te refurbishen
A3: Standaard meubilair zie bijlage H
A4: Categorie | B4: Nr | C4: Product | D4: Maatvoering | E4: Omschrijving refurbishen | F4: Aantal | G4: Prijs per stuk excl. Btw | H4: Totaal
A5: Bureau | B5: T01/T02/T03 | C5: Opbouwblokken Bachmann of gelijkwaardig ten behoeve van 328 bestaande werkplekken | D5: nvt | E5: Stabiel vast te zetten met twee klemmen, één opbouwblok per twee werkplekken. Ieder opbouwblok is voorzien van twee stroompunten en één USB-c. | F5: =328/2 -> 164 | H5: =F5*G5 -> 0
A6: Subtotaal | H6: =SUM(H5) -> 0
A9: Representatief meubilair zie bijlage H
A10: Categorie | B10: Nr. | C10: Product | D10: Maatvoering | E10: Omschrijving refurbishen | F10: Aantal | G10: Prijs per stuk excl. Btw | H10: Totaal
A11: Bureaustoel | B11: S02 | C11: Leren KLöber bureaustoelen met lederen stukken op armleuning | D11: nvt | E11: Herstofferen in Ohmann[Pd21.1] Leer collectie 1012 kleur 2846 | F11: 48 | H11: =F11*G11 -> 0
A12: Bureau-/Vergaderstoel | B12: S03 | C12: Vitra Charles Eames hoge rugleuning, verrijdbaar EA119 | D12: nvt | E12: Herstofferen in Vitra Cosy 2 kleur 17 (reed green) | F12: 12 | H12: =F12*G12 -> 0
A13: Bureau-/Vergaderstoel | B13: S04 | C13: Vitra Charles Eames lage rugleuning verrijdbaar EA117 | D13: nvt | E13: Herstofferen in Vitra Cosy 2 kleur 17 (reed green) | F13: 8 | H13: =F13*G13 -> 0
A14: Vergaderstoel | B14: S09/S10/S11/S12 | C14: Gispen Classic 201 en 101 vergaderstoel met en zonder armleuningen | D14: nvt | E14: Herstofferen Kvadrat Tonica 2 kleur 831 | F14: 64 | H14: =F14*G14 -> 0
A15: Vergaderstoel | B15: S14 | C15: Zinn met armleuning en sledeframe | D15: nvt | E15: Herstoffering kleur n.t.b. | F15: 40 | H15: =F15*G15 -> 0
A16: Vergaderstoel | B16: S16/S17/S18/S19 | C16: Grahl vergaderstoel met armleuning en 4 poots | D16: nvt | E16: Herstofferen Kvadrat Tonica 2 kleur 831 | F16: 112 | H16: =F16*G16 -> 0
A17: Vergaderstoel | B17: S24/S25 | C17: Casala vergaderstoel Lynx III en I, stapelbaar,koppelbaar, gestoffeerd in zwart en groen, met armleggers, met inhamming in rugleuning | D17: nvt | E17: Herstofferen Kvadrat Tonica 2 kleur 831 | F17: 99 | H17: =F17*G17 -> 0
A18: Fauteuil | B18: S06 | C18: Casala Parker VI rondom gestoffeerd | D18: nvt | E18: Herstofferen Kvadrat Tonica 2 kleur 831 | F18: 12 | H18: =F18*G18 -> 0
A19: Fauteuil | B19: S31 | C19: Arper Catifa met draaipoot geheel gestoffeerd | D19: nvt | E19: Herstofferen kleur ntb | F19: 8 | H19: =F19*G19 -> 0
A20: Fauteuil | B20: S37 | C20: Vergaderfauteuil in kuipvorm met vaste armleuning rondom gestoffeerd , verrijdbaar (Castelijn) | D20: nvt | E20: Herstofferen Kvadrat Vidar 4 kleur 472 | F20: 32 | H20: =F20*G20 -> 0
A21: Fauteuil | B21: S70 | C21: Ronde kuipstoel rondom gestoffeerd (Debi) | D21: nvt | E21: Herstofferen met Kvadrat Melange NAP kleur 0461 | F21: 17 | H21: =F21*G21 -> 0
A22: Fauteuil | B22: S71/72 | C22: Klein fauteuil met openrugleuning rondom gestoffeerd (Orangebox) | D22: nvt | E22: Herstofferen met Kvadrat Melange NAP kleur 0461 | F22: 16 | H22: =F22*G22 -> 0
A23: Poef | B23: S53/S54 | C23: Poefje, rondom gestoffeerd | D23: nvt | E23: herstofferen kleur ntb | F23: 18 | H23: =F23*G23 -> 0
A24: Vergadertafel | B24: T09/T16/T17/T19/T20/T30/T32/T38/T62/T63/T64 | C24: Inbouwblokken Bachmann of gelijkwaardig ten behoeve van 79 Vergadertafels | E24: Voorzien van twee inbouwblokken met klep, Bachmann of gelijkwaardig, elk blok met twee stroompunten | F24: 158 | H24: =F24*G24 -> 0
A25: Vergadertafel | B25: T55 | C25: Tafel met kolomvoet | D25: 80x120 cm | E25: Voorzien van één inbouwblok met klep, Bachmann of gelijkwaardig, elk blok met twee stroompunten | F25: 10 | H25: =F25*G25 -> 0
A26: Vergadertafel | B26: T88 | C26: Bijzettafeltje zwart blad en rvs poot, Satelliet | D26: diameter 50 cm | E26: nvt | F26: 2 | H26: =F26*G26 -> 0
A27: Vergadertafel | B27: T89 | C27: Bijzettafeltje Frits Hansen little friend | D27: diameter 45 cm | E27: nvt | F27: 5 | H27: =F27*G27 -> 0
A28: Subtotaal (exclusief btw) | H28: =SUM(H11:H27) -> 0
A30: Totaal Standaard en representatief exclusief btw | H30: =H6+H28 -> 0

Sheet 2.Kortingspercentages
A1: Kortingspercentages op nieuw circulair standaard meubilair
A2: Onderstaande kortingspercentages gelden gedurende de gehele looptijd van de raamovereenkomst op meubilair dat aangeboden wordt in tabblad 3. Nieuw circulair
A4: Korting in % bureaus
A5: Productnr: | B5: T106 zit-zit 120x80cm | C5: T106 zit-sta 120x80cm | D5: T106 zit-zit 160x80cm | E5: T106 zit-sta 160x80cm
A6: Ordergrootte: | B6: Korting % | C6: Korting % | D6: Korting % | E6: Korting %
A7: 1 stuk
A8: 2-5 stuks
A9: 6-10 stuks
A10: 11-25 stuks
A11: > 25 stuks
A13: Korting in % vergadertafels
A14: Productnr: | B14: T112 210x110cm | C14: T117 270x120cm
A15: Ordergrootte: | B15: Korting % | C15: Korting %
A16: 1 stuk
A17: 2-5 stuks
A18: >5 stuks
A20: Korting in % bureaustoelen kantoor
A21: Productnr: | B21: S01
A22: Ordergrootte: | B22: Korting %
A23: 1 stuk
A24: 2 - 5 stuks
A25: 6 - 10 stuks
A26: 11 - 25 stuks
A27: 26 - 50 stuks
A28: 51 - 100 stuks
A30: Korting in % vergaderstoelen
A31: Productnr: | B31: S115
A32: Ordergrootte: | B32: Korting %
A33: 1 stuk
A34: 2 - 5 stuks
A35: 6 - 10 stuks
A36: 11 - 20 stuks
A37: >20 stuks

Sheet 3.Nieuw circulair
A1: Nieuw circulair en refurbished meubilair
A2: Voor definitie "gelijkwaardig" zie definitielijst Programma van Eisen
A3: Kortingspercentages op de stuksprijs uit Tabblad 2 worden indien van toepassing automatisch in de totaalprijs berekend
A4: Standaard zie bijlage XX
A5: Categorie | B5: Product | C5: Omschrijving gewenst product | D5: Maatvoering | E5: Uw voorstel ( beeldmateriaal en technische specificatie in separate bijlage) | F5: Aantal | G5: Prijs per stuk excl. Btw | H5: Totaal prijs
A6: Bureau | B6: T106 | C6: Bureau 120x80 cm zit-zit blad eiken, T‐poot, inclusief goot met contactdoos, onderstel kleur ntb | D6: 120x80cm | F6: 5 | H6: =IF(OR(F6="",G6=""),"",F6*(G6-(G6*'2.Kortingspercentages'!B8)))
A7: Bureau | B7: T106 | C7: Bureau 120 x 80 cm zit-sta blad licht eiken, T‐poot, inclusief goot met contactdoos, onderstel kleur ntb | D7: 120x80cm | F7: 20 | H7: =IF(OR(F7="",G7=""),"",F7*(G7-(G7*'2.Kortingspercentages'!C10)))
A8: Bureau | B8: T106 | C8: Bureau 160 x 80 cm zit-zit blad licht eiken, T‐poot, inclusief goot met contactdoos, onderstel kleur ntb | D8: 160x80cm | F8: 8 | H8: =IF(OR(F8="",G8=""),"",F8*(G8-(G8*'2.Kortingspercentages'!D9)))
A9: Bureau | B9: T106 | C9: Bureau 160x80 cm zit-sta blad licht eiken, T‐poot, inclusief goot met contactdoos, onderstel kleur ntb | D9: 160x80cm | F9: 80 | H9: =IF(OR(F9="",G9=""),"",F9*(G9-(G9*'2.Kortingspercentages'!E11)))
A10: Opbouwblokken | C10: Opbouwblokken Bachmann of gelijkwaardig ten behoeve van 113 nieuwe bureaus, stabiel vast te zetten met twee klemmen, één blok per twee werkplekken, Ieder opbouwblok is voorzien van twee stroompunten en minimaal één USB-c | F10: 57 | H10: =F10*G10 -> 0
A11: Bureaustoel | B11: S01 | C11: Bureaustoelen Gispen Zinn 2.0 of gelijkwaardig De kleur en stof komt overeen met of is gelijkwaardig aan de kenmerken van de huidige bureaustoelen: stofkleur rug netbespanning 7319 Runner 60999, stofkleur zitting 3219 Fame 60999. | F11: 37 | H11: =IF(OR(F11="",G11=""),"",F11*(G11-(G11*'2.Kortingspercentages'!B27)))
A12: Subtotaal (exclusief btw) | H12: =SUM(H6:H11) -> 0
A14: Representatief zie bijlage XX
A15: Nr. | B15: Omschrijving | C15: Maatvoering | D15: Uw mogelijk vergelijkbaar alternatief ( beeldmateriaal en technische specificatie in bijlage) | E15: Aantal | F15: Prijs per stuk excl. Btw | G15: Totaal prijs
A16: S101 | B16: Aanlandstoel, Andreau World type Nuez SO2773, of gelijkwaardig, in hoogte verstelbaar en een comfortabele zit om aan een tafel met een laptop te kunnen werken. Onderstel wit, schaal Eco Thermo‐polymer kleur 6018 (zalm), schaal bekleding Kvadrat Remix3 kleur 0612 | C16: nvt | E16: 126 | G16: =E16*F16 -> 0
A17: S102 | B17: Aanlandstoel, Andreau World type Nuez SO2773 of gelijkwaardig, in hoogte verstelbaar en een comfortabele zit om aan een tafel met een laptop te kunnen werken. Onderstel wit, schaal Eco Thermo‐polymer kleur 6002, (beige), schaal bekleding Andreu World Circular One kleur 2424 | C17: nvt | E17: 12 | G17: =E17*F17 -> 0
A18: S103 | B18: Piiroinen type PI P2 of gelijkwaardig (kleine trouwzaal uiteindelijk 8 stoelen) zitschaal wit DuraSense® Pure S50 biocomposite, kussens in gerecycled PET‐felt, poten in eikenhout naturel. | C18: nvt | E18: 24 | G18: =E18*F18 -> 0
A19: S104 | B19: Vitra Charles Eames V of gelijkwaardig in Vitra Cosy 2 kleur 17 (reed green) | C19: nvt | E19: 18 | G19: =E19*F19 -> 0
A20: S105 | B20: Casala Parker VI of gelijkwaardig gestoffeerd in Kvadrat Tonica 2 kleur 831 | C20: nvt | E20: 6 | G20: =E20*F20 -> 0
A21: S107 | B21: HAY UCHIWA onderstel of gelijkwaardig onderstel blank eiken, bekleding Kvadrat Melange NAP kleur 0461 | C21: nvt | E21: 10 | G21: =E21*F21 -> 0
A22: S108 | B22: Vitra Petit Repos of gelijkwaardig onderstel gepolijst, bekleding Cosy 2, kleur 14 Canola | C22: nvt | E22: 4 | G22: =E22*F22 -> 0
A23: S109 | B23: Piiroinen type PI B.6 zonder armleggers of gelijkwaardig! (kleine trouwzaal ten behoeve van bruidspaar) zitschaal eiken, kussens in gerecycled PET‐felt, poten in hout naturel. Rondom gestoffeerd in Kvadrat Savanna kleur 122. | C23: nvt | E23: 2 | G23: =E23*F23 -> 0
A24: S67 | B24: Stoel of bank ten behoeve van kolfruimte • die een goede zit-houding en voldoende steun biedt in de rug om spierspanning te voorkomen. • die zo prettig zit dat de toeschietreflex goed op gang kan komen. • waarvan de zitting is gemaakt van een materiaal die eenvoudig is te reinigen of af te nemen bij eventuele vlekken of moedermelk. Stoel of bank ntb, alternatief wenselijk | C24: nvt | E24: 2 | G24: =E24*F24 -> 0
A25: S110 | B25: Muuto Visu sledestoel geheel gestoffeerd, onderstel zwart of gelijkwaardig geheel gestoffeerd, stoffering Kvadrat Remix 433 of 422, onderstel zwart | C25: nvt | E25: 46 | G25: =E25*F25 -> 0
A26: S115 | B26: Gispen Zinn of gelijkwaardig Indien stoel nieuw dan zitting in Kvadrat Tonica 2 kleur 831 en netweave in Gabriel Runner 60061 | C26: nvt | E26: 424 | G26: =IF(OR(E26="",F26=""),"",E26*(F26-(F26*'2.Kortingspercentages'!B37)))
A27: S117 | B27: De Vorm type Hale met armleggers of gelijkwaardig Pet schaal kleur Turquoise, zitting gestoffeerd kleur Tonica 2 kleur 831, Frame Ral 5021 | C27: nvt | E27: 114 | G27: =E27*F27 -> 0
A28: S125 | B28: Casala Lynx III, geheel gestoffeerd, model 2583/10, brede zitting of gelijkwaardig geheel gestoffeerd, model 2583/10, brede zitting | C28: nvt | E28: 240 | G28: =E28*F28 -> 0
A29: S128 | B29: Andreu World type Liceo SO1545 of gelijkwaardig Frame Ash, bekleding kunstleer wit/creme | C29: nvt | E29: 60 | G29: =E29*F29 -> 0
A30: S129 | B30: Houten stoeltje restaurant of gelijkwaardig Witte rugleuning en zitting | C30: nvt | E30: 32 | G30: =E30*F30 -> 0
A31: S130 | B31: Gubi Beetle Dinning Chair of gelijkwaardig Rondom gestoffeerd in Kvadrat Savanna kleur 122, poten RVS of chroom. | C31: nvt | E31: 48 | G31: =E31*F31 -> 0
A32: S131 | B32: Gubi Beetle Dinning Chair of gelijkwaardig Rondom gestoffeerd in Kvadrat Remix kleur 612, poten RVS of chroom. | E32: 22 | G32: =E32*F32 -> 0
A33: S150 | B33: COR DROP BENCH, frame wit of gelijkwaardig Bekleding Kvadrat Coda 2 kleur 0442 | C33: onbekend | E33: 3 | G33: =E33*F33 -> 0
A34: S151 | B34: COR DROP POEF GROOT, frame wit of gelijkwaardig Bekleding Vescom Wolin kleur 7050.20 | C34: onbekend | E34: 3 | G34: =E34*F34 -> 0
A35: S152 | B35: COR DROP POEF KLEIN, frame wit of gelijkwaardig Bekleding Vescom Wolin kleur 7050.20 | C35: onbekend | E35: 5 | G35: =E35*F35 -> 0
A36: S156 | B36: RONDE POEF VERRIJDBAAR, frame wit of gelijkwaardig Bekleding Oniro Niroxx Lamé kleur 68.027 80.000 Martindale; 100% | C36: diameter 33/37 cm | E36: 27 | G36: =E36*F36 -> 0
A37: S162 | B37: KRUK HOOG/BARSTOOL of gelijkwaardig Zeitraum Morph barkruk, eiken, zitting bekleed met kussen in | C37: zithoogte 80 cm | E37: 40 | G37: =E37*F37 -> 0
A38: S163 | B38: COR DROP KRUK HOOG, frame wit of gelijkwaardig Bekleding Vescom Wolin kleur 7050.20 | C38: onbekend | E38: 6 | G38: =E38*F38 -> 0
A39: S164 | B39: KRUK HOOG/BARSTOOL Pedrali Babila 2758 of gelijkwaardig Onderstel hout afwerking N1, zitschaal Sand(SA), zithoogte max 75cm | C39: zithoogte max. 75 cm | E39: 24 | G39: =E39*F39 -> 0
A40: S167 | B40: MONTIS, model Back me up Salon of gelijkwaardig Stoffering Kvadrat Melange NAP kleur 0461 poten eiken | C40: nvt | E40: 2 | G40: =E40*F40 -> 0
A41: S168 | B41: Johanson Atticus Lounge high fauteuil of gelijkwaardig Stoffering Kvadrat Atlas kleur 0461 frame en poten wit | C41: nvt | E41: 31 | G41: =E41*F41 -> 0
...

Sheet 4. Preventief Correctief
A1: Preventief en Correctief onderhoud
A3: Preventief onderhoud
A4: Meubelstuk | B4: Activiteit | C4: Prijs per stuk excl. BTW | D4: Fictief Aantal per jaar | E4: Fictief totaal excl. BTW per jaar
A5: Standaard bureaustoel | B5: jaarlijkse keuringsronde alle gemeentelijke locaties | D5: 650 | E5: =C5*D5 -> 0
A6: Elektrisch verstelbaar bureau (zit-zit zit-sta) | B6: jaarlijkse keuringsronde alle gemeentelijke locaties | D6: 300 | E6: =C6*D6 -> 0
A7: Representatieve bureaustoel | B7: jaarlijkse keuringsronde alle gemeentelijke locaties | D7: 90 | E7: =C7*D7 -> 0
A9: Correctief onderhoud standaard bureaustoel
A10: Meubelstuk | B10: Activiteit | C10: Prijs per stuk excl. BTW | D10: Fictief Aantal per jaar | E10: Fictief totaal excl. BTW per jaar
A11: Bureaustoel | B11: Vervangen set wielen | C11: 0 | D11: 20 | E11: =C11*D11 -> 0
A12: Bureaustoel | B12: Vervangen armleuningen | C12: 0 | D12: 10 | E12: =C12*D12 -> 0
A13: Bureaustoel | B13: Vervangen rugleuning | C13: 0 | D13: 5 | E13: =C13*D13 -> 0
A14: Bureaustoel | B14: Vervangen zitting | C14: 0 | D14: 5 | E14: =C14*D14 -> 0
A15: Bureaustoel | B15: Vervangen gasveer(mechaniek) | C15: 0 | D15: 5 | E15: =C15*D15 -> 0
A16: Bureaustoel | B16: Herstofferen zitting of rugleuning exclusief schuimvulling | C16: 0 | D16: 5 | E16: =C16*D16 -> 0
A17: Bureaustoel | B17: Herstofferen zitting of rugleuning inclusief schuimvulling | C17: 0 | D17: 5 | E17: =C17*D17 -> 0
A19: Correctief onderhoud vergaderstoel
A20: Meubelstuk | B20: Activiteit | C20: Prijs per stuk excl. BTW | D20: Fictief Aantal per jaar | E20: Fictief totaal excl. BTW per jaar
A21: Vergaderstoel | B21: Vervangen set wielen | C21: 0 | D21: 20 | E21: =C21*D21 -> 0
A22: Vergaderstoel | B22: Vervangen armleuningen | C22: 0 | D22: 15 | E22: =C22*D22 -> 0
A23: Vergaderstoel | B23: Vervangen set vloergeleiders | C23: 0 | D23: 15 | E23: =C23*D23 -> 0
A24: Vergaderstoel | B24: Vervangen set poten | C24: 0 | D24: 5 | E24: =C24*D24 -> 0
A25: Vergaderstoel | B25: Herstofferen zitting of rugleuning exclusief schuimvulling | C25: 0 | D25: 5 | E25: =C25*D25 -> 0
A26: Vergaderstoel | B26: Herstofferen zitting of rugleuning inclusief schuimvulling | C26: 0 | D26: 5 | E26: =C26*D26 -> 0
A27: Vergaderstoel | B27: Meerprijs voor herstofferen met kunstleer | C27: 0 | D27: 5 | E27: =C27*D27 -> 0
A28: Vergaderstoel | B28: Vervangen plastic kuip | C28: 0 | D28: 5 | E28: =C28*D28 -> 0
A29: Vergaderstoel | B29: Overspuiten (houten) stoel | C29: 0 | D29: 5 | E29: =C29*D29 -> 0
A31: Correctief onderhoud representatieve bureaustoel en fauteuil
A32: Meubelstuk | B32: Activiteit | C32: Prijs per stuk excl. BTW | D32: Fictief Aantal per jaar | E32: Fictief totaal excl. BTW per jaar
A33: Fauteuil | B33: Vervangen set wielen | C33: 0 | D33: 5 | E33: =C33*D33 -> 0
A34: Fauteuil | B34: Vervangen armleuningen | C34: 0 | D34: 10 | E34: =C34*D34 -> 0
A35: Fauteuil | B35: Vervangen mechaniek | C35: 0 | D35: 10 | E35: =C35*D35 -> 0
A36: Fauteuil | B36: Herstofferen zitting of rugleuning exclusief schuimvulling | C36: 0 | D36: 5 | E36: =C36*D36 -> 0
A37: Fauteuil | B37: Herstofferen zitting of rugleuning inclusief schuimvulling | C37: 0 | D37: 5 | E37: =C37*D37 -> 0
A38: Fauteuil | B38: Meerprijs voor herstofferen met kunstleer | C38: 0 | D38: 5 | E38: =C38*D38 -> 0
A40: Correctief onderhoud bureau
A41: Meubelstuk | B41: Activiteit | C41: Prijs per stuk excl. BTW | D41: Fictief Aantal per jaar | E41: Fictief totaal excl. BTW per jaar
A42: Bureau | B42: Vervangen tafelblad (120x80mm) | C42: 0 | D42: 5 | E42: =C42*D42 -> 0
A43: Bureau | B43: Vervangen tafelblad (160x 80mm) | C43: 0 | D43: 5 | E43: =C43*D43 -> 0
A44: Bureau | B44: Vervangen tafelblad (180x80mm) | C44: 0 | D44: 5 | E44: =C44*D44 -> 0
A45: Bureau | B45: Doorsmeren slingerloop | C45: 0 | D45: 15 | E45: =C45*D45 -> 0
...

Sheet 5. Thuiswerkplek
A1: Thuiswerkplek
A3: Levering thuiswerkplek
A4: Activiteit | B4: Fictief aantal per jaar | C4: prijs per stuk excl. Btw | D4: Totaal excl. Btw
A6: Bureaustoel | B6: 100 | C6: 0 | D6: =B6*C6 -> 0
A7: Bureau zit-zit 120X80cm handslinger* | B7: 40 | C7: 0 | D7: =B7*C7 -> 0
A8: Bureau zit-sta 120x80cm elektrisch* | B8: 10 | C8: 0 | D8: =B8*C8 -> 0
A9: Voetensteun | B9: 10 | C9: 0 | D9: =B9*C9 -> 0
A10: Levering + installatie van de werkplek op het priveadres | B10: 100 | C10: 0 | D10: =B10*C10 -> 0
A11: Retour halen priveadres: | B11: 30 | C11: 0 | D11: =B11*C11 -> 0
A12: Totaal (exclusief btw) | D12: =SUM(D6:D11) -> 0
A13: *Bureaus maken nog geen onderdeel uit van de dienstverlening van opdrachtgever

Sheet 6. Project nieuw gemeentehuis
A1: Project nieuw gemeentehuis
A3: Project nieuw gemeentehuis
A4: Activiteit | B4: Totale kosten exclusief BTW | C4: Totaal
A5: Projectorganisatie inrichting nieuw gemeentehuis gebaseerd op plan van aanpak in GC3 | C5: =B5 -> 0
A6: Herbeoordeling van bestaand meubilair op geschiktheid voor refurbishment, reparatie en hergebruik in het nieuwe gemeentehuis (zie tabblad 1)
A7: Intekenen in de plattegronden van het nieuw gemeentehuis met AutoCad of microstation waarbij de meubels ingetekend worden aan de hand van een door inschrijver aan te leveren cellenbibliotheek.
A8: Totaal (exclusief btw) | C8: =SUM(C5:C7) -> 0
A10: Activiteit | B10: Kosten per uur excl. BTW*
A11: Kosten per uur met een maximum van € 120,00 excl. BTW per uur voor herbeoordeling van meubilair dat nog niet opgenomen is in tabblad 1 Refurbished.
A13: *wordt niet meegenomen in de totale prijsscore

Sheet 7. Totaalprijs
A1: Totaalprijs
A3: Totaal prijs inschrijving
A4: Tabblad | B4: Totaal prijs
A5: Refurbished | B5: ='1. Refurbished'!H30 -> 0
A6: Nieuw Circulair | B6: ='3.Nieuw circulair'!G88 -> 0
A7: Preventief Correctief over 10 jaar | B7: =('4. Preventief Correctief'!E52)*10 -> 0
A8: Thuiswerkplek over 10 jaar | B8: =('5. Thuiswerkplek'!D12)*10 -> 0
A9: Project Nieuw Gemeentehuis | B9: ='6. Project nieuw gemeentehuis'!C8 -> 0
A10: Totaal (exclusief btw) | B10: =SUM(B5:B9) -> 0 | C10: =IF(OR(B5+B6>2700000,B7>300000,B8>500000,B10>3600000),"Ongeldig","")

Sheet 8. Scoremethode
B2: Lineaire scoremethode prijs
D7: Prijs | E7: Punten
B8: Prijs bij minimum aantal te behalen punten | D8: 3600000 | E8: 0 | F8: =IF(D9>D8,"Let op: de waarde in cel D9 moet lager zijn dan de waarde in cel D8","")
B9: Prijs bij maximum aantal te behalen punten | D9: 2800000 | E9: 30
B11: Score voor waarde van inschrijver | D11: ='7. Totaalprijs'!B10 -> 0 | E11: =IF(D11="","",IF(OR(D11>D8,D11<D9),"Ongeldig",E8+(E8-E9)/(D8-D9)*(D11-D8))) -> Ongeldig
E15: De formule rekent het onderstaande uit:
E16: =" = "&E8&" + ("&E8&-E9&") / ("&D8&"- "&D9&") * (Inschrijfprijs - "&D8&")" -> = 0 + (0-30) / (3600000- 2800000) * (Inschrijfprijs - 3600000)
