Workbook

Sheet Algemene gegevens
B1: Inschrijfbiljet
B5: Algemene gegevens
B7: Aanbestedende dienst | I7: Gemeente Steenwijkerland
B8: Vestigingsplaats | I8: Steenwijk
B9: Kvk-nummer | I9: 54137756
B10: Tekenbevoegde voor contract | I10: Mevr. H. Ziengs
B11: Functie | I11: Adviseur Facilitaire dienstverlening
B12: Tekenbevoegde wijzigingen | I12: mevr. H. Ziengs
B13: Functie | I13: Adviseur Facilitaire dienstverlening
B16: Volledige naam onderneming (Handelsnaam Kvk)
B17: Vestigingsplaats onderneming(Kvk)
B18: Kvk-nummer
B19: Tekenbevoegde voor contract
B20: Functie
B21: Tekenbevoegde wijzigingen
B22: Functie
B24: Contactpersoon offerte
B25: Telefoonnummer kantoor
B26: Postadres kantoor
B27: Postcode en plaats postadres
B28: Mobiel nummer contactpersoon offerte
B29: E-mail adres contactpersoon offerte

Sheet TOTAALBLAD
A1: Totaalblad prijzen
A3: Onderdeel | B3: Prijs per | C3: Prijs
A4: Prijs bruikleen automaten | B4: Jaar | C4: ='Invulblad prijzen'!E12 -> 0
A5: Prijs service - onderhoud | B5: Jaar | C5: ='Invulblad prijzen'!F22 -> 0
A6: ='Invulblad prijzen'!B24 -> Prijs Ingredienten | B6: Jaar | C6: ='Invulblad prijzen'!F31 -> #DIV/0!
A7: ='Invulblad prijzen'!B45 -> Prijzen Losse Verstrekking | B7: Jaar | C7: ='Invulblad prijzen'!G52 -> #DIV/0!
A9: Totaal inschrijfprijs ( excl. Btw) 8 jaren | C9: =(C4+C5+C6+C7)*8 -> #DIV/0!

Sheet Invulblad prijzen
B1: Prijzenblad kernassortiment
B4: Bruikleen automaten per jaar | C4: Aantal* | D4: Type en merk machine | E4: Prijs bruikleen per jaar | F4: Prijs bruikleen per jaar / per automaat | G4: Afbeelding of link naar website
E5: =C5*F5 -> 0
E6: =C6*F6 -> 0
E7: =C7*F7 -> 0
E8: =C8*F8 -> 0
B9: Verse Bonen 0-5 gebruikers tafelmodel | F9: =C9*E9 -> 0
B10: Freshbrew automaat 5-10 gebruikers Tafelmodel | F10: =C10*E10 -> 0
B11: Freshbrew automaat 10-20 gebruikers Tafelmodel | F11: =C11*E11 -> 0
B12: Totaal aantal automaten | C12: =SUM(C5:C11) -> 0 | D12: Totaal prijs per jaar: | E12: =E5+E6+E7+E8 -> 0
B14: Servicecontract per automaat per jaar | C14: Aantal* | D14: Type en merk machine | E14: Serviceprijs per automaat per jaar | F14: Serviceprijs per jaar | G14: Toelichting | H14: Afbeelding of link naar website
F15: =C15*E15 -> 0
F16: =C16*E16 -> 0
F17: =C17*E17 -> 0
F18: =C18*E18 -> 0
B19: Verse Bonen 0-5 gebruikers tafelmodel | F19: =C19*E19 -> 0
B20: Freshbrew automaat 5-10 gebruikers Tafelmodel | F20: =C20*E20 -> 0
B21: Freshbrew automaat 10-20 gebruikers Tafelmodel | F21: =C21*E21 -> 0
B22: Totaal aantal automaten | C22: =SUM(C15:C21) -> 0 | E22: Totale serviceprijs per jaar: | F22: =SUM(F15:F21) -> 0
B24: Prijs Ingredienten
B25: Soort consumptie en doseringen | C25: Aantal consumpties prognose ( per jaar) | D25: Aantal gram per consumptie | E25: Naam en Merk, (melange) | F25: Prijs per jaar (voor alle automaten) | G25: Inhoud verpakking in grammen | H25: Prijs per verpakking
B26: Koffie melange A | C26: 47500 | F26: =((C26*D26)/G26*H26) -> #DIV/0!
B27: Koffie melange B | C27: 47500 | F27: =((C27*D27)/G27*H27) -> #DIV/0!
B28: Koffie melange C | C28: 47500 | F28: =((C28*D28)/G28*H28) -> #DIV/0!
B29: Topping (gezoete melkpoeder) | C29: 25000 | F29: =((C29*D29)/G29*H29) -> #DIV/0!
B30: Cacao | C30: 14000 | F30: =((C30*D30)/G30*H30) -> #DIV/0!
B31: ( let op: totale koffieconsumptie is 147.500 per jaar) | E31: Prijs per jaar | F31: =SUM(F26:F30) -> #DIV/0!
B34: TCO Prijs per consumptie bij FreshBrew automaten
B35: Soort consumptie en doseringen | C35: Consumptieverdeling (indicatie) | D35: Geschat verbruik bij [aantal] consumpties per jaar* | E35: TCO** Prijs per consumptie/tellertik | F35: Naam en Merk, (melange) | G35: Prijs per jaar (voor alle automaten) | H35: Toelichting | I35: Afbeelding of link naar website
B36: Koffie | C36: 0.42 | D36: =(16640/100)*42 -> 6988.8 | G36: =D36*$E$36 -> 0
B37: Espresso | C37: 0.09 | D37: =(16640/100)*9 -> 1497.6 | G37: =D37*$E$36 -> 0
B38: Cappucino op basis van melkpoeder | C38: 0.2 | D38: =(16640/100)*20 -> 3328 | G38: =D38*$E$36 -> 0
B39: Warme Chocolade op basis van melkpoeder | C39: 0.08 | D39: =(16640/100)*8 -> 1331.2 | G39: =D39*$E$36 -> 0
B40: Heet water | C40: 0.21 | D40: =(16640/100)*21 -> 3494.4
B41: Volume per jaar | C41: 1 | D41: =SUM(D36:D40) -> 16640 | F41: TCO prijs consumpties per jaar | G41: =SUM(G36:G39) -> 0
B43: Hoveelheid vloeistof per consumptie: 125cc
B45: Prijzen Losse Verstrekking | C45: Aantal stuks per jaar | D45: inhoud stuks aangeboden verpakking | E45: prijs per verpakking | F45: Naam en Merk, (melange) | G45: Prijs per jaar (voor alle automaten)
B46: 1 kops theezakje Fair trade div. smaken | C46: 50000 | G46: =((C46/D46)*E46) -> #DIV/0!
B47: Melkcups 7,5 gram | C47: 1800 | G47: =((C47/D47)*E47) -> #DIV/0!
B48: Roersticks hout/bamboe | C48: 4000 | G48: =((C48/D48)*E48) -> #DIV/0!
B49: Roersticks karton | C49: 12000 | G49: =((C49/D49)*E49) -> #DIV/0!
B50: Halvamel 455 ml | C50: 180 | G50: =((C50/D50)*E50) -> #DIV/0!
B51: Suikerstick 3,8 gr | C51: 8000 | G51: =((C51/D51)*E51) -> #DIV/0!
F52: Prijs per jaar | G52: =SUM(G46:G51) -> #DIV/0!
B53: TCO * hieronder wordt verstaan: de totale kosten van aanschaf, installatie, instructie, arbeid, onderdelen, voorrijkosten, inclusief garantie.
B54: TCO** hieronder wordt verstaan: de totale kosten van ingrediënten, (preventief) onderhoud, voorrijkosten etc.
B55: TCO*** hieronder wordt verstaan: de totale kosten van de producten, verpakkingsmateriaal, arbeid, voorrijkosten etc.

Sheet Blad1
