Workbook

Sheet Prijsblad SG diagnostiek
B1: Formulier 2 Prijzenblad
B3: Invulinstructie:
B4: Inschrijver dient alleen de gele cellen van het Prijsblad in te vullen.
B5: Voorwaarden:
B6: Met het ondertekenen en indienen van dit Prijzenblad stemt inschrijver hiermee volledig in.
B7: De ingevulde prijzen zijn inclusief orderkosten, transportkosten en vervolg- en hertesten(kan meer dan 1x voorkomen) en alle overige kosten verbonden aan het voldoen aan het Programma van Eisen en de beantwoording van Opdrachtnemer op de gunningcriteria. Tevens inbegrepen zijn de benodigde swabs vaginaal, urethraal, oraal en rectaal. Er mogen geen aanvullende kosten in rekening worden gebracht door de Opdrachtnemer.
B8: De door de Opdrachtnemer aangeboden prijzen dienen exclusief BTW en inclusief overige belastingen en/of heffingen te zijn gesteld. De prijzen dienen te zijn gesteld in euro’s en de eventueel van toepassing zijnde BTW wordt separaat opgegeven door Opdrachtnemer in het Prijzenblad. Uitdrukkelijk wordt bepaald dat indien de Opdrachtnemer geen BTW in rekening brengt, maar voor (een deel van) de dienstverlening geen vrijstelling van BTW lijkt te bestaan, deze niet ten laste komen van de GGD.
B9: Uw totale inschrijfprijs staat onder aan het prijzenblad vermeld (zie cel E60). De formule waarmee uw inschrijfprijs berekend wordt is zichtbaar
B10: Alle ingevulde prijzen op dit prijzenblad zijn in euro en exclusief btw. En dienen afgerond te worden op twee decimalen achter de komma.
B11: *De in dit prijzenblad genoemde aantallen zijn bedoeld als indicatie gebaseerd op data uit voorgaande jaren. Aan genoemde gegevens op dit prijzenblad kunnen geen rechten worden ontleend.
B13: Onderzoek | C13: Prognose aantal per jaar* | D13: Stuksprijs excl. btw | E13: Calculatieve kosten per jaar excl. btw | F13: Btw | G13: Opmerking
B14: chlamydia - (ano)rectale swab | C14: 286 | E14: =SUM(C14*D14) -> 0 | F14: 0
B15: chlamydia - vaginale swab | C15: 489 | E15: =SUM(C15*D15) -> 0 | F15: 0
B16: chlamydia - urine | C16: 519 | E16: =SUM(C16*D16) -> 0 | F16: 0
B17: chlamydia - orale swab | C17: 0 | E17: =SUM(C17*D17) -> 0 | F17: 0
B18: chlamydia - oog swab | C18: 0 | E18: =SUM(C18*D18) -> 0 | F18: 0
B19: chlamydia - laesie/ulcus | C19: 1 | E19: =SUM(C19*D19) -> 0 | F19: 0
B20: chlamydia - urethrale swab | C20: 1 | E20: =SUM(C20*D20) -> 0 | F20: 0
B21: LGV - (ano)rectale swab | C21: 1852 | E21: =SUM(C21*D21) -> 0 | F21: 0
B22: LGV - vaginale swab | C22: 1 | E22: =SUM(C22*D22) -> 0 | F22: 0
B23: LGV - urine | C23: 5 | E23: =SUM(C23*D23) -> 0 | F23: 0
B24: LGV - laesie/ulcus | C24: 2 | E24: =SUM(C24*D24) -> 0 | F24: 0
B25: gonorroe - (ano)rectale swab | C25: 2163 | E25: =SUM(C25*D25) -> 0 | F25: 0
... B30: gonorroe - oog swab | C30: 0 | E30: =SUM(C30*D30) -> 0 | F30: 0
B31: syfilis - IgG-EIA/CMIA | C31: 1645 | E31: =SUM(C31*D31) -> 0 | F31: 0 | G31: Indien positieve testuitslag, dan doortesten op IgG-blot én VDRL/RPR
B32: syfilis - IgG-blot | C32: 104 | E32: =SUM(C32*D32) -> 0 | F32: 0
B33: syfilis - VDRL/RPR | C33: 742 | E33: =SUM(C33*D33) -> 0 | F33: 0
B34: syfilis - laesie/ulcus | C34: 47 | E34: =SUM(C34*D34) -> 0 | F34: 0 | G34: Indien positieve testuitslag, dan ook VDRL/RPR bepalen (als dat nog niet is gebeurd)
B35: hepatitis b - anti-HBc | C35: 228 | E35: =SUM(C35*D35) -> 0 | F35: 0 | G35: Indien postitieve testuitslag, dan doortesten op anti-HBe, anti-HBs, HBeAg en HBsAg
B36: hepatitis b - anti-HBe | C36: 7 | E36: =SUM(C36*D36) -> 0 | F36: 0
B37: hepatitis b - anti-HBs | C37: 82 | E37: =SUM(C37*D37) -> 0 | F37: 0 | G37: Ook altijd de daadwerkelijke titer doorgeven, ook indien <10
B38: hepatitis b - HBeAg | C38: 7 | E38: =SUM(C38*D38) -> 0 | F38: 0
B39: hepatitis b - HBsAg | C39: 4 | E39: =SUM(C39*D39) -> 0 | F39: 0
B40: HIV - combinatietest | C40: 2215 | E40: =SUM(C40*D40) -> 0 | F40: 0 | G40: Indien positieve testuitslag, dan doortesten op western blot.
B41: HIV - western blot | C41: 15 | E41: =SUM(C41*D41) -> 0 | F41: 0
B42: HIV - HIV PCR | C42: 1 | E42: =SUM(C42*D42) -> 0 | F42: 0
B43: hepatitis c - anti-HCV | C43: 428 | E43: =SUM(C43*D43) -> 0 | F43: 0 | G43: Indien positieve testuitslag, dan doortesten op hepatitis c blot en HCV RNA
B44: hepatitis c - blot | C44: 1 | E44: =SUM(C44*D44) -> 0 | F44: 0
B45: hepatitis c - HCV RNA | C45: 1 | E45: =SUM(C45*D45) -> 0 | F45: 0
B46: HSV - laesie/ulcus | C46: 4 | E46: =SUM(C46*D46) -> 0 | F46: 0
B47: HSV - peniele swab | C47: 7 | E47: =SUM(C47*D47) -> 0 | F47: 0
B48: HSV - (ano)rectale swab | C48: 2 | E48: =SUM(C48*D48) -> 0 | F48: 0
B49: HSV - vaginale swab | C49: 2 | E49: =SUM(C49*D49) -> 0 | F49: 0
B50: trichomoniasis - urine | C50: 1 | E50: =SUM(C50*D50) -> 0 | F50: 0 | G50: wordt bij grote uitzondering aangevraagd
B51: trichomoniasis - vaginale swab | C51: 1 | E51: =SUM(C51*D51) -> 0 | F51: 0 | G51: wordt bij grote uitzondering aangevraagd
F52: 0
B53: PCR mpox op swab laesies/ulcus, op (ano)rectale swab, of orale swab | C53: 6 | E53: =SUM(C53*D53) -> 0 | F53: 0
B55: Totale kosten | D55: Inschrijfprijs A | E55: =SUM(E47:E54) -> 0
B58: Aldus opgemaakt en naar waarheid rechtsgeldig (bevoegd) ondertekend:
B59: Naam Inschrijver
B60: <datum>
B61: <plaats>
B62: <naam functionaris>
B63: <handtekening>

Sheet Prijsblad IZB diagnostiek
B1: Formulier 2 Prijzenblad
B3: Invulinstructie:
B4: Inschrijver dient alleen de gele cellen van het Prijsblad in te vullen.
B5: Voorwaarden:
B6: Met het ondertekenen en indienen van dit Prijzenblad stemt inschrijver hiermee volledig in.
B7: De ingevulde prijzen zijn inclusief orderkosten, transportkosten en vervolg- en hertesten(kan meer dan 1x voorkomen) en alle overige kosten verbonden aan het voldoen aan het Programma van Eisen en de beantwoording van Opdrachtnemer op de gunningcriteria. Er mogen geen aanvullende kosten in rekening worden gebracht door de Opdrachtnemer.
B8: De door de Opdrachtnemer aangeboden prijzen dienen exclusief BTW en inclusief overige belastingen en/of heffingen te zijn gesteld. De prijzen dienen te zijn gesteld in euro’s en de eventueel van toepassing zijnde BTW wordt separaat opgegeven door Opdrachtnemer in het Prijzenblad. Uitdrukkelijk wordt bepaald dat indien de Opdrachtnemer geen BTW in rekening brengt, maar voor (een deel van) de dienstverlening geen vrijstelling van BTW lijkt te bestaan, deze niet ten laste komen van de GGD.
B9: Uw totale inschrijfprijs staat onder aan het prijzenblad vermeld (zie cel E18). De formule waarmee uw inschrijfprijs berekend wordt is zichtbaar
B10: Alle ingevulde prijzen op dit prijzenblad zijn in euro en exclusief btw. En dienen afgerond te worden op twee decimalen achter de komma.
B11: *De in dit prijzenblad genoemde aantallen zijn bedoeld als indicatie gebaseerd op data uit voorgaande jaren. Aan genoemde gegevens op dit prijzenblad kunnen geen rechten worden ontleend.
B12: Onderzoek | C12: Prognose aantal per jaar* | D12: Stuksprijs excl. btw | E12: Calculatieve kosten per jaar excl. btw | F12: BTW
B13: PCR feces: viraal en bacterieel panel | C13: 6 | E13: =SUM(C13*D13) -> 0 | F13: 0
B14: PCR keelswab mazelen | C14: 1 | E14: =SUM(C14*D14) -> 0 | F14: 0
B15: PCR swab mpox | C15: 6 | D15: =SUM('Prijsblad SG diagnostiek'!E53) -> 0 | E15: =SUM(C15*D15) -> 0 | F15: 0
B16: Feces kweek: VTEC/EHEC | C16: 1 | E16: =SUM(C16*D16) -> 0 | F16: 0
B18: Totale kosten per jaar | D18: Inschrijfprijs B | E18: =SUM(E13:E17) -> 0
B21: Aldus opgemaakt en naar waarheid rechtsgeldig (bevoegd) ondertekend:
B23: Naam Inschrijver:
B24: <datum>
B25: <plaats>
B26: <naam functionaris>
B27: <handtekening>

Sheet Prijsblad RZdiagnostiek
B1: Formulier 2 Prijzenblad
B3: Invulinstructie:
B4: Inschrijver dient alleen de gele cellen van het Prijsblad in te vullen.
B5: Voorwaarden:
B6: 1. Met het ondertekenen en indienen van dit Prijzenblad stemt inschrijver hiermee volledig in.
B7: 2. De ingevulde prijzen zijn inclusief orderkosten, transportkosten en vervolg- en hertesten(kan meer dan 1x voorkomen) en alle overige kosten verbonden aan het voldoen aan het Programma van Eisen en de beantwoording van Opdrachtnemer op de gunningcriteria.Er mogen geen aanvullende kosten in rekening worden gebracht door de Opdrachtnemer.
B8: De door de Opdrachtnemer aangeboden prijzen dienen exclusief BTW en inclusief overige belastingen en/of heffingen te zijn gesteld. De prijzen dienen te zijn gesteld in euro’s en de eventueel van toepassing zijnde BTW wordt separaat opgegeven door Opdrachtnemer in het Prijzenblad. Uitdrukkelijk wordt bepaald dat indien de Opdrachtnemer geen BTW in rekening brengt, maar voor (een deel van) de dienstverlening geen vrijstelling van BTW lijkt te bestaan, deze niet ten laste komen van de GGD.
B9: 3.Uw totale inschrijfprijs staat onder aan het prijzenblad vermeld (zie cel E31). De formule waarmee uw inschrijfprijs berekend wordt is zichtbaar
B10: 4. Alle ingevulde prijzen op dit prijzenblad zijn in euro en exclusief btw. En dienen afgerond te worden op twee decimalen achter de komma.
B11: 5. *De in dit prijzenblad genoemde aantallen zijn bedoeld als indicatie gebaseerd op data uit voorgaande jaren. Aan genoemde gegevens op dit prijzenblad kunnen geen rechten worden ontleend.
B12: Onderzoek | C12: Prognose aantal per jaar* | D12: Stuksprijs excl. btw | E12: Calculatieve kosten per jaar excl. btw | F12: btw
B13: Bloedonderzoek Hepatitis A | C13: 5 | E13: =SUM(C13*D13) -> 0 | F13: 0
B14: Bloedonderzoek Hepatitis A na vaccinatie | C14: 16 | E14: =SUM(C14*D14) -> 0 | F14: 0
B15: Bloedonderzoek Hepatitis B (anti HBc) | C15: 36 | D15: =SUM('Prijsblad SG diagnostiek'!E35) -> 0 | E15: =SUM(C15*D15) -> 0 | F15: 0
B16: Bloedonderzoek Hepatitis B na vaccinatie (anti HBs) | C16: 300 | D16: =SUM('Prijsblad SG diagnostiek'!E37) -> 0 | E16: =SUM(C16*D16) -> 0 | F16: 0
B17: Bloedonderzoek Hepatitis C (anti HCV) | C17: 2 | D17: =SUM('Prijsblad SG diagnostiek'!E43) -> 0 | E17: =SUM(C17*D17) -> 0 | F17: 0
B18: Bloedonderzoek Non-HIV | C18: 2 | D18: =SUM('Prijsblad SG diagnostiek'!E40) -> 0 | E18: =SUM(C18*D18) -> 0 | F18: 0
B19: Bloedonderzoek Rabiës | C19: 10 | E19: =SUM(C19*D19) -> 0 | F19: 0
B20: Bloedonderzoek Varicella | C20: 5 | E20: =SUM(C20*D20) -> 0 | F20: 0
B22: Totale kosten per jaar | D22: Inschrijfprijs C | E22: =SUM(E13:E20) -> 0
B25: Aldus opgemaakt en naar waarheid rechtsgeldig (bevoegd) ondertekend:
B27: Naam Inschrijver:
B28: <datum>
B29: <plaats>
B30: <naam functionaris>
B31: <handtekening>

Sheet Prijsblad TBC diagnostiek
B1: Formulier 5 Prijzenblad
B3: Invulinstructie:
B4: Inschrijver dient alleen de gele cellen van het Prijsblad in te vullen.
B5: Voorwaarden:
B6: 1. Met het ondertekenen en indienen van dit Prijzenblad stemt inschrijver hiermee volledig in.
B7: 2. De ingevulde prijzen zijn inclusief orderkosten, transportkosten en vervolg- en hertesten(kan meer dan 1x voorkomen) en alle overige kosten verbonden aan het voldoen aan het Programma van Eisen en de beantwoording van Opdrachtnemer op de gunningcriteria. Er mogen geen aanvullende kosten in rekening worden gebracht door de Opdrachtnemer.
B8: De door de Opdrachtnemer aangeboden prijzen dienen exclusief BTW en inclusief overige belastingen en/of heffingen te zijn gesteld. De prijzen dienen te zijn gesteld in euro’s en de eventueel van toepassing zijnde BTW wordt separaat opgegeven door Opdrachtnemer in het Prijzenblad. Uitdrukkelijk wordt bepaald dat indien de Opdrachtnemer geen BTW in rekening brengt, maar voor (een deel van) de dienstverlening geen vrijstelling van BTW lijkt te bestaan, deze niet ten laste komen van de GGD.
B9: 3.Uw totale inschrijfprijs staat onder aan het prijzenblad vermeld (zie cel E31). De formule waarmee uw inschrijfprijs berekend wordt is zichtbaar
B10: 4. Alle ingevulde prijzen op dit prijzenblad zijn in euro en exclusief btw. En dienen afgerond te worden op twee decimalen achter de komma.
B11: 5. *De in dit prijzenblad genoemde aantallen zijn bedoeld als indicatie gebaseerd op data uit voorgaande jaren. Aan genoemde gegevens op dit prijzenblad kunnen geen rechten worden ontleend.
B12: Onderzoek | C12: Prognose aantal per jaar* | D12: Stuksprijs excl. btw | E12: Calculatieve kosten per jaar excl. btw | F12: btw in %
B13: IGRA | C13: 30 | E13: =SUM(C13*D13) -> 0 | F13: 0
B14: Quantiferon | C14: 30 | E14: =SUM(C14*D14) -> 0 | F14: 0
B15: Sputum kweek | C15: 30 | E15: =SUM(C15*D15) -> 0 | F15: 0
B16: ZN Kleuring | C16: 30 | E16: =SUM(C16*D16) -> 0 | F16: 0
B17: Auraminekleuring | C17: 30 | E17: =SUM(C17*D17) -> 0 | F17: 0
B18: Determinatie (PCR (op isolaat) op M. tuberculosis complex | C18: 30 | E18: =SUM(C18*D18) -> 0 | F18: 0
B19: Determinatie (PCR (op materiaal) op M. tuberculosis complex | C19: 30 | E19: =SUM(C19*D19) -> 0 | F19: 0
B20: TBC kweek | C20: 30 | E20: =SUM(C20*D20) -> 0 | F20: 0
B21: Banale kweek | C21: 30 | E21: =SUM(C21*D21) -> 0 | F21: 0
B23: Totale kosten per jaar | D23: Inschrijfprijs D | E23: =SUM(E13:E22) -> 0
B26: Aldus opgemaakt en naar waarheid rechtsgeldig (bevoegd) ondertekend:
B28: Naam Inschrijver:
B29: <datum>
B30: <plaats>
B31: <naam functionaris>
B32: <handtekening>
