Workbook

Sheet Prijzenblad
B10: Aanbesteding Arbeidsmarktcommunicatie en jobmarketing
B11: Inschrijver
B12: Vestigingsplaats Inschrijver
B13: Naam rechtsgeldig vertegenwoordiger en handtekening
B15: A | C15: Prijs | D15: Fictief aantal (weging) | E15: Totaalprijs excl.btw
B16: All-in prijs
B17: A1: Beheren advertentie voor een campagne 3-5 functieprofielen voor 3 maanden | D17: 1 | E17: =D17*C17 -> 0
B18: A2: Beheren advertentie voor een campagne van 6+ functieprofielen voor 3 maanden | D18: 1 | E18: =D18*C18 -> 0
B19: A3: Advieskosten, zoals doelgroepanalyse, keuze media-inzet, etc. | D19: 25 | E19: =D19*C19 -> 0
B21: Fictieve inschrijfsom A | E21: =SUM(E17:E19) -> 0
B23: B | C23: Prijs | D23: Fictief aantal (weging) | E23: Totaalprijs excl.btw
B24: Plaatsing Mediakanalen
B25: B1: Handlingkosten per kanaal (1-5 kanalen) | D25: 150 | E25: =C25*D25 -> 0
B26: B2: Handlingkosten per kanaal (6+ kanalen) | D26: 125 | E26: =C26*D26 -> 0
B28: Fictieve inschrijfsom B | E28: =SUM(E25:E26) -> 0
B30: C | C30: Prijs | D30: Fictief aantal (weging) | E30: Totaalprijs excl.btw
B31: Dienstverleningstarief per uur, overige activiteiten
B32: Uurtarief overige activiteiten strategisch Bijvoorbeeld strategisch advies arbeidsmarktcommunicatie, trendanalyse arbeidsmarkt, advisering aan MT/hoger management | D32: 100 | E32: =D32*C32 -> 0
B33: Uurtarief overige activiteiten tactisch Bijvoorbeeld training on the job en workshops voor recruiters, advies over de inzet en uitvoering van jobmarketing | D33: 100 | E33: =D33*C33 -> 0
B34: Uurtartief overige activiteiten operationeel Bijvoorbeeld coaching on the job, incidentele ondersteuning buiten reguliere campagnes | D34: 100 | E34: =D34*C34 -> 0
B36: Fictieve inschrijfsom C | E36: =SUM(E32:E34) -> 0
D38: Totale fictieve inschrijfsom | E38: =E21+E28+E36 -> 0
D40: Score Prijs | E40: ='Grafiek prijsscore'!H9 -> 30
B43: Alle geel gemarkeerde cellen dienen ingevuld te worden.
B44: Het geoffreerde tarief betreft een all-in tarief en bevat alle kosten waaronder middelen en systemen, aflevering, overhead, reistijd, reiskosten, reisuren, nazorg, garantie en retouren. Deze opsomming is niet uitputtend.
B45: Tarieven opgeven met maximaal 2 decimalen achter de komma.
B46: Er mogen geen 0-bedragen of negatieve bedragen ingevuld worden.
B47: De opgegeven aantallen in kolom D zijn fictieve aantallen, hier kunnen gedurende de contractperiode geen rechten aan worden ontleend.
B48: De in dit document opgegeven prijzen zijn vast gedurende het eerste contractjaar van de (Raam)overeenkomst en mag daarna alleen in overeenstemming met de bepalingen in de Raamovereenkomst worden aangepast;

Sheet Score grafiek
F2: Pas aan naar gewenste score!
F3: Maximum | G3: 30
F4: Minimum | G4: 0
F7: Pas aan naar gewenste bandbreedte!
F8: Minimum | G8: 95000
C9: =Prijzenblad!B21 -> Fictieve inschrijfsom A | D9: =Prijzenblad!E38 -> 0 | F9: Maximum | G9: 135000
C10: Score | D10: =IF((G4-G3)/(G9-G8)*(D9-G9)>40,40,IF((G4-G3)/(G9-G8)*(D9-G9)<0,0,(G4-G3)/(G9-G8)*(D9-G9))) -> 40 | F10: 100000 | G10: 40

Sheet Score kromme
F2: Pas aan naar gewenste score!
F3: Maximum | G3: 40
F4: Minimum | G4: 0
F7: Pas aan naar gewenste bandbreedte!
F8: Minimum | G8: 100000
C9: =Prijzenblad!B21 -> Fictieve inschrijfsom A | D9: =Prijzenblad!E21 -> 0 | F9: Maximum | G9: 130000
C10: Score | D10: =IF($G$3-$G$3*((D9-$G$8)/($G$9-$G$8))^2<$G$4,$G$4,IF($G$3-$G$3*((D9-$G$8)/($G$9-$G$8))^2>$G$3,$G$3,$G$3-$G$3*((D9-$G$8)/(G9-$G$8))^2)) -> 0 | F10: 100000 | G10: 40
G12: =G9 -> 130000 | H12: =IF($G$3-$G$3*((G12-$G$8)/($G$9-$G$8))^2<$G$4,$G$4,IF($G$3-$G$3*((G12-$G$8)/($G$9-$G$8))^2>$G$3,$G$3,$G$3-$G$3*((G12-$G$8)/(G12-$G$8))^2)) -> 0 | I12: =IF($G$3-$G$3*((G12-$G$8)/($G$9-$G$8))^2<$G$4,$G$4,IF($G$3-$G$3*((G12-$G$8)/($G$9-$G$8))^2>$G$3,$G$3,$G$3-$G$3*((G12-$G$8)/(G12-$G$8))^2)) -> 0
G13: =G12*0.98 -> 127400 | I13: =$G$3-$G$3*((G13-$G$8)/($G$9-$G$8))^2 -> 6.6328889
G14: =($G$13-$G$25)*H14+$G$25 -> 126030 | H14: 0.95 | I14: =$G$3-$G$3*((G14-$G$8)/($G$9-$G$8))^2 -> 9.8861822
G15: =($G$13-$G$25)*H15+$G$25 -> 124660 | H15: 0.9 | I15: =$G$3-$G$3*((G15-$G$8)/($G$9-$G$8))^2 -> 12.97264
G16: =($G$13-$G$25)*H16+$G$25 -> 121920 | H16: 0.8 | I16: =$G$3-$G$3*((G16-$G$8)/($G$9-$G$8))^2 -> 18.645049
G17: =($G$13-$G$25)*H17+$G$25 -> 119180 | H17: 0.7 | I17: =$G$3-$G$3*((G17-$G$8)/($G$9-$G$8))^2 -> 23.650116
G18: =($G$13-$G$25)*H18+$G$25 -> 116440 | H18: 0.6 | I18: =$G$3-$G$3*((G18-$G$8)/($G$9-$G$8))^2 -> 27.98784
G19: =($G$13-$G$25)*H19+$G$25 -> 113700 | H19: 0.5 | I19: =$G$3-$G$3*((G19-$G$8)/($G$9-$G$8))^2 -> 31.658222
G20: =($G$13-$G$25)*H20+$G$25 -> 110960 | H20: 0.4 | I20: =$G$3-$G$3*((G20-$G$8)/($G$9-$G$8))^2 -> 34.661262
G21: =($G$13-$G$25)*H21+$G$25 -> 108220 | H21: 0.3 | I21: =$G$3-$G$3*((G21-$G$8)/($G$9-$G$8))^2 -> 36.99696
G22: =($G$13-$G$25)*H22+$G$25 -> 105480 | H22: 0.2 | I22: =$G$3-$G$3*((G22-$G$8)/($G$9-$G$8))^2 -> 38.665316
G23: =($G$13-$G$25)*H23+$G$25 -> 102740 | H23: 0.1 | I23: =$G$3-$G$3*((G23-$G$8)/($G$9-$G$8))^2 -> 39.666329
G24: =($G$13-$G$25)*H24+$G$25 -> 101370 | H24: 0.05 | I24: =$G$3-$G$3*((G24-$G$8)/($G$9-$G$8))^2 -> 39.916582
G25: =G8 -> 100000 | I25: =$G$3-$G$3*((G25-$G$8)/($G$9-$G$8))^2 -> 40

Sheet Score knik
F2: Pas aan naar gewenste score!
F3: Maximum | G3: 30
F4: Minimum | G4: 0
G5: 20
G6: 115000
F7: Pas aan naar gewenste bandbreedte!
F8: Minimum | G8: 95000
C9: =Prijzenblad!B21 -> Fictieve inschrijfsom A | D9: =Prijzenblad!E38 -> 0 | F9: Maximum | G9: 140000
C10: Score | D10: =IF((G4-G3)/(G9-G8)*(D9-G9)>30,30,IF((G4-G3)/(G9-G8)*(D9-G9)<0,0,(G4-G3)/(G9-G8)*(D9-G9))) -> 30 | F10: 100000 | G10: 40
I32: Gewogen totaalprijs | J32: Gewogen punten
D33: Totaalprijs bij max. aantal gewogen punten | I33: 100000 | J33: 30
D34: Totaalprijs bij knikpunt | I34: 110000 | J34: 25
D35: Totaalprijs bij min. aantal gewogen punten | I35: 135000 | J35: 0
D37: Uw ingediende prijs | I37: =A49 -> 0
D38: Uw behaalde gewogen punten | I38: =IF(I37>I35,J35,IF(I37>I34,J35+(J34-J35)/(I34-I35)*(I37-I35),IF(I37>I33,J34+(J33-J34)/(I33-I34)*(I37-I34),J33))) -> 30

Sheet Grafiek prijsscore
H3: Fictieve inschrijfsom | I3: Gewogen punten
C4: Fictieve inschrijfsom bij max. aantal gewogen punten | H4: 100000 | I4: 30
C5: Fictieve inschrijfsom bij knikpunt | H5: 110000 | I5: 25
C6: Fictieve inschrijfsom bij min. aantal gewogen punten | H6: 135000 | I6: 0
C8: Uw fictieve inschrijfsom | H8: =Prijzenblad!E38 -> 0
C9: Uw behaalde gewogen punten | H9: =IF(H8>H6,I6,IF(H8>H5,I6+(I5-I6)/(H5-H6)*(H8-H6),IF(H8>H4,I5+(I4-I5)/(H4-H5)*(H8-H5),I4))) -> 30

Sheet Blad1
A1: Geen
A2: Ja
A3: Nee
A4: Geen
A5: +1 jaar
A6: +2 jaar
