Workbook
Name \0: #REF!
Name \1: #REF!
Name \A: #REF!
Name \B: #REF!
Name \C: #REF!
Name \D: #REF!
Name \E: #REF!
Name \F: #REF!
Name \G: #REF!
Name \H: #REF!
Name \I: #REF!
Name \M: #REF!
Name \N: #REF!
Name \P: #REF!
Name \S: #REF!
Name \W: #REF!
Name \X: #REF!
Name _________DAT1: #REF!
Name _________DAT10: #REF!
Name _________DAT11: #REF!
Name _________DAT12: #REF!
Name _________DAT13: #REF!
Name _________DAT14: #REF!
Name _________DAT2: #REF!
Name _________DAT3: #REF!
Name _________DAT4: #REF!
Name _________DAT5: #REF!
Name _________DAT6: #REF!
Name _________DAT7: #REF!
Name _________DAT8: #REF!
Name _________DAT9: #REF!
Name ________DAT1: #REF!
Name ________DAT10: #REF!
Name ________DAT11: #REF!
Name ________DAT12: #REF!
Name ________DAT13: #REF!
Name ________DAT14: #REF!
Name ________DAT2: #REF!
Name ________DAT3: #REF!
Name ________DAT4: #REF!
Name ________DAT5: #REF!
Name ________DAT6: #REF!
Name ________DAT7: #REF!
Name ________DAT8: #REF!
Name ________DAT9: #REF!
Name _______DAT1: #REF!
Name _______DAT10: #REF!
Name _______DAT11: #REF!
Name _______DAT12: #REF!
Name _______DAT13: #REF!
Name _______DAT14: #REF!
Name _______DAT2: #REF!
Name _______DAT3: #REF!
Name _______DAT4: #REF!
Name _______DAT5: #REF!
Name _______DAT6: #REF!
Name _______DAT7: #REF!
Name _______DAT8: #REF!
Name _______DAT9: #REF!
Name ______DAT1: #REF!

Sheet Invulinstructie
C3: Naam opdrachtgever | D3: CBR
C4: Versienummer | D4: V1.0
C5: Prijspeil | D5: 46235
C6: Leverancier
C8: INSTRUCTIES VOOR HET INVULLEN VAN HET PRIJZENBLAD
C10: Algemeen | D10: - Inschrijver dient de tarieven in te vullen in het Prijzenblad zoals dat door Opdrachtgever is opgesteld en dit in te dienen bij het aanleveren van de Inschrijving. - Het Prijzenblad dient u (rechtsgeldig ondertekend) als pdf-document in te dienen en tevens in Excel format. Bij eventuele verschillen tussen deze documenten gaan wij uit van de prijzen zoals ingediend in het pdf-document. - Alle prijzen en tarieven zijn gebaseerd op de uitvraag, zie specifiek (maar niet uitsluitend) het Programma van Eisen. - Inschrijver dient enkel de lichtblauwe cellen in te vullen. - Inschrijver brengt geen wijzigen aan in het Prijzenblad (uitgezonderd natuurlijk het vak voor ondertekening en de in te vullen prijzen en tarieven). - Prijzen en tarieven zijn opgegeven in Euro's en exclusief BTW, tenzij ook om prijzen inclusief btw wordt gevraagd. - Prijzen en tarieven zijn "all-in" en op het prijspeil augustus 2026. - De prijzen en tarieven die in het Prijzenblad worden ingevuld zijn redelijk en marktconform (reëel). Niet reële tarieven en prijzen kunnen leiden tot een ongeldige inschrijving. - Het indienen van €0,- of negatieve prijzen of tarieven is niet toegestaan. - De begrotingen zijn gebaseerd op 255 werkbare dagen of zoveel werkdagen als is aangegeven. - Inschrijver kan aan de gegeven aantallen in dit Prijzenblad geen rechten ontlenen. Voor het werkelijk te betalen factuurbedrag hebben de fictieve aantallen geen betekenis. De fictieve aantallen worden alleen gehanteerd voor het berekenen van het aantal punten voor het gunningscriterium Prijs.
C11: 1. Ondertekening | D11: Inschrijver dient dit tabblad in te vullen en rechtsgeldig te ondertekenen.
C12: 2. Totaalbegroting | D12: Deze totaalbegroting wordt automatisch gegenereerd op basis van de tabbladen in dit Prijzenblad.
C13: 3a. Schoonmaak totaal | D13: Het totaal voor schoonmaak wordt automatisch gegenereerd op basis van tabblad 3b (Schoonmaak per locatie) en tabblad 9 (Machinekosten). Inschrijver vult cel E16 om het percentage leiding en toezicht te bepalen.
C14: 3b. Schoonmaak per locatie | D14: Dit tabblad wordt automatisch gegenereerd op basis van de tabbladen in dit Prijzenblad.
C15: 4. Productienormen | D15: - Inschrijver vult de productienormen in per ruimtecategorie en opleverfrequentie.
C16: 5. Basis ruimtestaat | D16: Tabblad 'Basis ruimtestaat' wordt automatisch ingevuld op basis van de opgegeven productienormen. Inschrijver kan in kolom J een correctiefactor gebruiken om de betreffende productienorm in een bepaalde ruimte aan te passen.
C17: 6. Premies en opslagen | D17: - Inschrijver vult hier de sociale verzekeringen en de berekening werkbare dagen in. - Hetgeen Inschrijver hier invult wordt meegenomen in de berekening van tabblad 7a en 7b. Opbouw uurtarief.
C18: 7a en 7b. Opbouw uurtarief productie en opbouw uurtarief toezicht | D18: - Inschrijver vult hier alle lichtblauwe cellen in t.b.v. het opbouwen van het uurtarief productie en leiding/toezicht. - De uurtarieven zijn gebaseerd op de van toepassing zijnde cao. - De uurtarieven worden gedurende de contractperiode (exclusief eventuele indexeringen) gebruikt voor alle reguliere inzet die door Inschrijver voor Opdrachtgever.
C19: 8. Regietarieven | D19: Inschrijver vult in de lichtblauwe cellen diverse tarieven in voor regiewerkzaamheden.
C20: 9. Machinekosten | D20: 'Inschrijver vult in de lichtblauwe cellen alle benodigde gegevens in ten behoeve van de inzet van machines >800 euro aanschafkosten. Machinekosten onder 800 euro dienen verdisconteerd te zitten in de uurtarieven.
C21: 10. Glasbewassing | D21: Inschrijver vult in de lichtblauwe cellen een prijs/m2 incl. bereikbaarheidsvoorzieningen in voor de diverse locaties en glassoorten.
... C23: 12. Ongediertebestrijding | D23: Inschrijver vult in de lichtblauwe cellen een prijs per beurt per locatie voor een preventieve inspectie t.b.v. ongediertebestrijding in.

Sheet 1. Ondertekening
C3: Naam opdrachtgever | D3: =+Invulinstructie!D3 -> CBR
C4: Versienummer | D4: =+Invulinstructie!D4 -> V1.0
C5: Prijspeil | D5: =+Invulinstructie!D5 -> 46235
C6: Leverancier | D6: =Invulinstructie!D6 -> 0
C10: RECHTSGELDIGE ONDERTEKENING*
C12: Organisatienaam
C15: Naam tekeningsbevoegde functionaris
C18: Functie tekeningsbevoegde functionaris
C21: Handtekening
C27: * Door het indienen van het Prijzenblad verklaart Inschrijver dat deze zich volledig conformeert aan het Beschrijvend Document inclusief bijlagen. Tevens accepteert Inschrijver eventuele wijzigingen/ aanvullingen zoals opgenomen in de Nota('s) van Inlichtingen en gaat ermee akkoord dat de hierin opgenomen wijzigingen/ aanvullingen prevaleren boven hetgeen bepaald in eerder genoemde Beschrijvend Document inclusief bijlagen. Door het indienen van het Prijzenblad verklaart Inschrijver tevens dat de Inschrijving volledig is gebaseerd op en voldoet aan de bepalingen in de eerder genoemde Beschrijvend Document, Programma van Eisen, Nota('s) van Inlichtingen en de eigen beantwoording van de gunningscriteria. Alle kosten gerelateerd aan de uitvoering van de beantwoording van de gunningscriteria worden geacht in de aangeboden prijzen te zijn verdisconteerd. Inschrijver verklaart met het indienen van het Prijzenblad dat de door hem geoffreerde prijzen en tarieven zonder voorbehoud zijn.

Sheet 2. Totaalbegroting
C3: Naam opdrachtgever | D3: CBR
C4: Versienummer | D4: =Invulinstructie!D4 -> V1.0
C5: Prijspeil | D5: 46235
C6: Leverancier | D6: 0
C10: TOTAAL BEGROTING
C12: Onderdeel | E12: Totaal
C14: 3a. Schoonmaak totaal (+9.Machinekosten) | D14: Contractjaarprijs | E14: =+'3a. Schoonmaak totaal'!I33 -> #DIV/0!
C15: 10. Glasbewassing | D15: Contractjaarprijs | E15: ='10. Glasbewassing'!G223 -> 0
C16: 11. Sanitaire voorzieningen | D16: Contractjaarprijs | E16: ='11. Sanitaire voorzieningen'!D28 -> 0
C17: 12. Ongediertebestrijding | D17: Contractjaarprijs | E17: 0
E18: 0
D19: Contractjaarprijs | E19: 0
C21: TOTALE (FICTIEVE) INSCHRIJFPRIJS | E21: =SUM(E14:E19) -> #DIV/0!
C26: Score prijs: | D26: =MAX(0,MIN(300,((2200000-E21)/(2200000-1200000))*300)) -> #DIV/0!

Sheet Mutatieblad
A1: Naam opdrachtgever | B1: =#REF! -> #REF!
A2: Calculatie onderdeel | B2: Mutatieblad
A3: Gebouw/plaats | B3: =#REF! -> #REF!
A4: Besteknummer | B4: CBR2026.001
A5: Naam dienstverlener | B5: =#REF! -> #REF!
A6: Prijspeil | B6: 46204
A9: MUTATIE DATUM | B9: Versie nummer | C9: Locatie/ Kostenplaats | D9: Soort mutaties | E9: Verdieping | F9: Ruimte nummer | G9: Ruimteomschrijving opdrachtgever | H9: Ruimte categorie

Sheet 3a. Schoonmaak totaal
A1: Invoervelden
A3: Naam opdrachtgever | B3: =+Invulinstructie!D3 -> CBR
A4: Calculatie onderdeel | B4: 3a-Contractblad Totaal
A5: Gebouw/plaats | B5: Landelijk
A6: Besteknummer | B6: =Mutatieblad!B4 -> CBR2026.001
A7: Versienummer | B7: =+Invulinstructie!D4 -> V1.0
A8: Naam dienstverlener | B8: =+Invulinstructie!D6 -> 0
A9: Prijspeil | B9: =Mutatieblad!B6 -> 46204
A11: Jaarprijs regulier schoonmaakonderhoud
A13: Categorie/medewerker | E13: Percentage | F13: Aantal uren per jaar | G13: Gemiddeld tarief | I13: Prijs per jaar
A14: Medewerker schoonmaak | B14: maandag t/m vrijdag | C14: 06:00 - 21:30 uur | E14: 1 | F14: =SUM('5. Basis ruimtestaat'!M:N)*E14 -> #DIV/0! | G14: ='7a. Opbouw uurtarief productie'!E48 -> 0 | I14: =G14*F14 -> #DIV/0!
A16: Medewerker leiding | B16: maandag t/m vrijdag | C16: 06:00 - 21:30 uur | F16: =SUM(F14:F14)*E16 -> #DIV/0! | G16: ='7b. Opbouw uurtarief toezicht'!E48 -> 0 | I16: =G16*F16 -> #DIV/0!
A18: Gemiddeld tarief inclusief toezicht | B18: maandag t/m vrijdag | C18: 06:00 - 21:30 uur | G18: =SUM(I14+I16)/F14 -> #DIV/0!
I19: Prijspeil 2026
A20: TOTAAL KOSTEN PER JAAR EXCLUSIEF BTW (REGULIER ONDERHOUD) | I20: =SUM(I14:I18) -> #DIV/0!
A21: B.T.W. | G21: 0.21 | I21: =G21*I20 -> #DIV/0!
A22: Totale kosten per jaar inclusief B.T.W. | I22: =I21+I20 -> #DIV/0!
A24: Jaarprijs aanvullende werzaamheden / extra kosten
A27: Machinekosten | B27: Tabblad 9 | I27: ='9. Machinekosten'!P25 -> 0
A29: TOTAAL KOSTEN PER JAAR EXCLUSIEF BTW (AANVULLENDE WERKZAAMHEDEN / EXTRA KOSTEN) | I29: =SUM(I25:I28) -> 0
A30: B.T.W. | G30: 0.21 | I30: =G30*I29 -> 0
A31: Totale kosten per jaar inclusief B.T.W. | I31: =I29+I30 -> 0
A33: EINDTOTAAL KOSTEN PER JAAR EXCLUSIEF BTW | I33: =I29+I20 -> #DIV/0!
A34: B.T.W. | G34: 0.21 | I34: =G34*I33 -> #DIV/0!
A35: Totale kosten per jaar inclusief B.T.W. | I35: =I33+I34 -> #DIV/0!

Sheet 3b. Schoonmaak per locatie
A1: Naam opdrachtgever | B1: =+Invulinstructie!D3 -> CBR
A2: Calculatie onderdeel | B2: 3b-Kosten per locatie
A3: Gebouw/plaats | B3: =+'3a. Schoonmaak totaal'!B5 -> Landelijk
A4: Besteknummer | B4: =Mutatieblad!B4 -> CBR2026.001
A5: Naam dienstverlener | B5: =+Invulinstructie!D6 -> 0
A6: Prijspeil | B6: =+Invulinstructie!D5 -> 46235
E8: Productie uren en kosten per jaar | J8: Toezicht uren en kosten per jaar | L8: Totaal kosten per jaar/maand
A9: Locatie/ Kostenplaats | B9: Adres | C9: Totaal m2 | D9: Hoogste opleverfrequentie | E9: Productie uren per jaar ma t/m vr | F9: Productie uren per jaar ma t/m vr naloop | G9: Toeslag minimale taakgrootte 255 uren/jaar | H9: Totaal productie uren per jaar ma t/m vr | I9: Productie kosten per jaar | J9: Toezicht uren per jaar ma t/m vr | K9: Toezicht kosten per jaar Ma tm/ Vr | L9: Totaal kosten per jaar excl. btw | M9: Totaal kosten per maand excl. btw
A10: Alkmaar | B10: Olympiaweg 28 | C10: =SUMIF('5. Basis ruimtestaat'!B:I,A10,'5. Basis ruimtestaat'!I:I) -> 608 | D10: 255 | E10: =SUMIF('5. Basis ruimtestaat'!B:M,'3b. Schoonmaak per locatie'!A10,'5. Basis ruimtestaat'!uren_mavr) -> #DIV/0! | F10: =SUMIF('5. Basis ruimtestaat'!B:P,'3b. Schoonmaak per locatie'!A10,'5. Basis ruimtestaat'!N:N) -> #DIV/0! | G10: =IF(E10+F10<D10,D10-(E10+F10),0) -> #DIV/0! | H10: =SUM(E10:G10) -> #DIV/0! | I10: =H10*'3a. Schoonmaak totaal'!$G$14 -> #DIV/0! | J10: =H10*'3a. Schoonmaak totaal'!$E$16 -> #DIV/0! | K10: =J10*'3a. Schoonmaak totaal'!$G$16 -> #DIV/0! | L10: =I10+K10 -> #DIV/0! | M10: =+L10/12 -> #DIV/0!
A11: Almelo | B11: Bedrijvenpark Twente 305 | C11: =SUMIF('5. Basis ruimtestaat'!B:I,A11,'5. Basis ruimtestaat'!I:I) -> 159.77 | D11: 255 | E11: =SUMIF('5. Basis ruimtestaat'!B:M,'3b. Schoonmaak per locatie'!A11,'5. Basis ruimtestaat'!uren_mavr) -> #DIV/0! | F11: =SUMIF('5. Basis ruimtestaat'!B:P,'3b. Schoonmaak per locatie'!A11,'5. Basis ruimtestaat'!N:N) -> 0 | G11: =IF(E11+F11<D11,D11-(E11+F11),0) -> #DIV/0! | H11: =SUM(E11:G11) -> #DIV/0! | I11: =H11*'3a. Schoonmaak totaal'!$G$14 -> #DIV/0! | J11: =H11*'3a. Schoonmaak totaal'!$E$16 -> #DIV/0! | K11: =J11*'3a. Schoonmaak totaal'!$G$16 -> #DIV/0! | L11: =I11+K11 -> #DIV/0! | M11: =+L11/12 -> #DIV/0!
A12: Amsterdam | B12: Naritaweg 150 | C12: =SUMIF('5. Basis ruimtestaat'!B:I,A12,'5. Basis ruimtestaat'!I:I) -> 3915.42 | D12: 255 | E12: =SUMIF('5. Basis ruimtestaat'!B:M,'3b. Schoonmaak per locatie'!A12,'5. Basis ruimtestaat'!uren_mavr) -> #DIV/0! | F12: =SUMIF('5. Basis ruimtestaat'!B:P,'3b. Schoonmaak per locatie'!A12,'5. Basis ruimtestaat'!N:N) -> #DIV/0! | G12: =IF(E12+F12<D12,D12-(E12+F12),0) -> #DIV/0! | H12: =SUM(E12:G12) -> #DIV/0! | I12: =H12*'3a. Schoonmaak totaal'!$G$14 -> #DIV/0! | J12: =H12*'3a. Schoonmaak totaal'!$E$16 -> #DIV/0! | K12: =J12*'3a. Schoonmaak totaal'!$G$16 -> #DIV/0! | L12: =I12+K12 -> #DIV/0! | M12: =+L12/12 -> #DIV/0!
A13: Apeldoorn | B13: Antillen 11 | C13: =SUMIF('5. Basis ruimtestaat'!B:I,A13,'5. Basis ruimtestaat'!I:I) -> 320.83 | D13: 255 | E13: =SUMIF('5. Basis ruimtestaat'!B:M,'3b. Schoonmaak per locatie'!A13,'5. Basis ruimtestaat'!uren_mavr) -> #DIV/0! | F13: =SUMIF('5. Basis ruimtestaat'!B:P,'3b. Schoonmaak per locatie'!A13,'5. Basis ruimtestaat'!N:N) -> 0 | G13: =IF(E13+F13<D13,D13-(E13+F13),0) -> #DIV/0! | H13: =SUM(E13:G13) -> #DIV/0! | I13: =H13*'3a. Schoonmaak totaal'!$G$14 -> #DIV/0! | J13: =H13*'3a. Schoonmaak totaal'!$E$16 -> #DIV/0! | K13: =J13*'3a. Schoonmaak totaal'!$G$16 -> #DIV/0! | L13: =I13+K13 -> #DIV/0! | M13: =+L13/12 -> #DIV/0!
A14: Arnhem | B14: Hazenkamp 10 | C14: =SUMIF('5. Basis ruimtestaat'!B:I,A14,'5. Basis ruimtestaat'!I:I) -> 1942.72 | D14: 255 | E14: =SUMIF('5. Basis ruimtestaat'!B:M,'3b. Schoonmaak per locatie'!A14,'5. Basis ruimtestaat'!uren_mavr) -> #DIV/0! | F14: =SUMIF('5. Basis ruimtestaat'!B:P,'3b. Schoonmaak per locatie'!A14,'5. Basis ruimtestaat'!N:N) -> #DIV/0! | G14: =IF(E14+F14<D14,D14-(E14+F14),0) -> #DIV/0! | H14: =SUM(E14:G14) -> #DIV/0! | I14: =H14*'3a. Schoonmaak totaal'!$G$14 -> #DIV/0! | J14: =H14*'3a. Schoonmaak totaal'!$E$16 -> #DIV/0! | K14: =J14*'3a. Schoonmaak totaal'!$G$16 -> #DIV/0! | L14: =I14+K14 -> #DIV/0! | M14: =+L14/12 -> #DIV/0!
A15: Arnhem - Wassenaarweg | B15: Wassenaarweg 20 | C15: =SUMIF('5. Basis ruimtestaat'!B:I,A15,'5. Basis ruimtestaat'!I:I) -> 2054.26 | D15: 255 | E15: =SUMIF('5. Basis ruimtestaat'!B:M,'3b. Schoonmaak per locatie'!A15,'5. Basis ruimtestaat'!uren_mavr) -> #DIV/0! | F15: =SUMIF('5. Basis ruimtestaat'!B:P,'3b. Schoonmaak per locatie'!A15,'5. Basis ruimtestaat'!N:N) -> 0 | G15: =IF(E15+F15<D15,D15-(E15+F15),0) -> #DIV/0! | H15: =SUM(E15:G15) -> #DIV/0! | I15: =H15*'3a. Schoonmaak totaal'!$G$14 -> #DIV/0! | J15: =H15*'3a. Schoonmaak totaal'!$E$16 -> #DIV/0! | K15: =J15*'3a. Schoonmaak totaal'!$G$16 -> #DIV/0! | L15: =I15+K15 -> #DIV/0! | M15: =+L15/12 -> #DIV/0!
A16: Arnhem - Bovenbeekstraat | B16: Bovenbeekstraat 26a | C16: =SUMIF('5. Basis ruimtestaat'!B:I,A16,'5. Basis ruimtestaat'!I:I) -> 475.9 | D16: 255 | E16: =SUMIF('5. Basis ruimtestaat'!B:M,'3b. Schoonmaak per locatie'!A16,'5. Basis ruimtestaat'!uren_mavr) -> #DIV/0! | F16: =SUMIF('5. Basis ruimtestaat'!B:P,'3b. Schoonmaak per locatie'!A16,'5. Basis ruimtestaat'!N:N) -> 0 | G16: =IF(E16+F16<D16,D16-(E16+F16),0) -> #DIV/0! | H16: =SUM(E16:G16) -> #DIV/0! | I16: =H16*'3a. Schoonmaak totaal'!$G$14 -> #DIV/0! | J16: =H16*'3a. Schoonmaak totaal'!$E$16 -> #DIV/0! | K16: =J16*'3a. Schoonmaak totaal'!$G$16 -> #DIV/0! | L16: =I16+K16 -> #DIV/0! | M16: =+L16/12 -> #DIV/0!
A17: Assen 1 | B17: Aziëweg 25A | C17: =SUMIF('5. Basis ruimtestaat'!B:I,A17,'5. Basis ruimtestaat'!I:I) -> 561.1 | D17: 255 | E17: =SUMIF('5. Basis ruimtestaat'!B:M,'3b. Schoonmaak per locatie'!A17,'5. Basis ruimtestaat'!uren_mavr) -> #DIV/0! | F17: =SUMIF('5. Basis ruimtestaat'!B:P,'3b. Schoonmaak per locatie'!A17,'5. Basis ruimtestaat'!N:N) -> 0 | G17: =IF(E17+F17<D17,D17-(E17+F17),0) -> #DIV/0! | H17: =SUM(E17:G17) -> #DIV/0! | I17: =H17*'3a. Schoonmaak totaal'!$G$14 -> #DIV/0! | J17: =H17*'3a. Schoonmaak totaal'!$E$16 -> #DIV/0! | K17: =J17*'3a. Schoonmaak totaal'!$G$16 -> #DIV/0! | L17: =I17+K17 -> #DIV/0! | M17: =+L17/12 -> #DIV/0!
A18: Assen 2 | B18: Overcingellaan 13 | C18: =SUMIF('5. Basis ruimtestaat'!B:I,A18,'5. Basis ruimtestaat'!I:I) -> 795.32 | D18: 255 | E18: =SUMIF('5. Basis ruimtestaat'!B:M,'3b. Schoonmaak per locatie'!A18,'5. Basis ruimtestaat'!uren_mavr) -> #DIV/0! | F18: =SUMIF('5. Basis ruimtestaat'!B:P,'3b. Schoonmaak per locatie'!A18,'5. Basis ruimtestaat'!N:N) -> 0 | G18: =IF(E18+F18<D18,D18-(E18+F18),0) -> #DIV/0! | H18: =SUM(E18:G18) -> #DIV/0! | I18: =H18*'3a. Schoonmaak totaal'!$G$14 -> #DIV/0! | J18: =H18*'3a. Schoonmaak totaal'!$E$16 -> #DIV/0! | K18: =J18*'3a. Schoonmaak totaal'!$G$16 -> #DIV/0! | L18: =I18+K18 -> #DIV/0! | M18: =+L18/12 -> #DIV/0!
A19: Barendrecht | B19: Zwaalweg 1 | C19: =SUMIF('5. Basis ruimtestaat'!B:I,A19,'5. Basis ruimtestaat'!I:I) -> 773.1 | D19: 255 | E19: =SUMIF('5. Basis ruimtestaat'!B:M,'3b. Schoonmaak per locatie'!A19,'5. Basis ruimtestaat'!uren_mavr) -> #DIV/0! | F19: =SUMIF('5. Basis ruimtestaat'!B:P,'3b. Schoonmaak per locatie'!A19,'5. Basis ruimtestaat'!N:N) -> #DIV/0! | G19: =IF(E19+F19<D19,D19-(E19+F19),0) -> #DIV/0! | H19: =SUM(E19:G19) -> #DIV/0! | I19: =H19*'3a. Schoonmaak totaal'!$G$14 -> #DIV/0! | J19: =H19*'3a. Schoonmaak totaal'!$E$16 -> #DIV/0! | K19: =J19*'3a. Schoonmaak totaal'!$G$16 -> #DIV/0! | L19: =I19+K19 -> #DIV/0! | M19: =+L19/12 -> #DIV/0!
A20: Bergen op Zoom | B20: Gagelboslaan 162 | C20: =SUMIF('5. Basis ruimtestaat'!B:I,A20,'5. Basis ruimtestaat'!I:I) -> 267.09 | D20: 255 | E20: =SUMIF('5. Basis ruimtestaat'!B:M,'3b. Schoonmaak per locatie'!A20,'5. Basis ruimtestaat'!uren_mavr) -> #DIV/0! | F20: =SUMIF('5. Basis ruimtestaat'!B:P,'3b. Schoonmaak per locatie'!A20,'5. Basis ruimtestaat'!N:N) -> 0 | G20: =IF(E20+F20<D20,D20-(E20+F20),0) -> #DIV/0! | H20: =SUM(E20:G20) -> #DIV/0! | I20: =H20*'3a. Schoonmaak totaal'!$G$14 -> #DIV/0! | J20: =H20*'3a. Schoonmaak totaal'!$E$16 -> #DIV/0! | K20: =J20*'3a. Schoonmaak totaal'!$G$16 -> #DIV/0! | L20: =I20+K20 -> #DIV/0! | M20: =+L20/12 -> #DIV/0!
A21: Breda | B21: Stationsplein 42 | C21: =SUMIF('5. Basis ruimtestaat'!B:I,A21,'5. Basis ruimtestaat'!I:I) -> 444.44 | D21: 255 | E21: =SUMIF('5. Basis ruimtestaat'!B:M,'3b. Schoonmaak per locatie'!A21,'5. Basis ruimtestaat'!uren_mavr) -> #DIV/0! | F21: =SUMIF('5. Basis ruimtestaat'!B:P,'3b. Schoonmaak per locatie'!A21,'5. Basis ruimtestaat'!N:N) -> 0 | G21: =IF(E21+F21<D21,D21-(E21+F21),0) -> #DIV/0! | H21: =SUM(E21:G21) -> #DIV/0! | I21: =H21*'3a. Schoonmaak totaal'!$G$14 -> #DIV/0! | J21: =H21*'3a. Schoonmaak totaal'!$E$16 -> #DIV/0! | K21: =J21*'3a. Schoonmaak totaal'!$G$16 -> #DIV/0! | L21: =I21+K21 -> #DIV/0! | M21: =+L21/12 -> #DIV/0!
... A60: Zwolle | B60: Branderweg 15 | C60: =SUMIF('5. Basis ruimtestaat'!B:I,A60,'5. Basis ruimtestaat'!I:I) -> 783.02 | D60: 255 | E60: =SUMIF('5. Basis ruimtestaat'!B:M,'3b. Schoonmaak per locatie'!A60,'5. Basis ruimtestaat'!uren_mavr) -> #DIV/0! | F60: =SUMIF('5. Basis ruimtestaat'!B:P,'3b. Schoonmaak per locatie'!A60,'5. Basis ruimtestaat'!N:N) -> #DIV/0! | G60: =IF(E60+F60<D60,D60-(E60+F60),0) -> #DIV/0! | H60: =SUM(E60:G60) -> #DIV/0! | I60: =H60*'3a. Schoonmaak totaal'!$G$14 -> #DIV/0! | J60: =H60*'3a. Schoonmaak totaal'!$E$16 -> #DIV/0! | K60: =J60*'3a. Schoonmaak totaal'!$G$16 -> #DIV/0! | L60: =I60+K60 -> #DIV/0! | M60: =+L60/12 -> #DIV/0!
C61: =SUM(C10:C60) -> 43502.56 | E61: =SUM(E10:E60) -> #DIV/0! | F61: =SUM(F10:F60) -> #DIV/0! | G61: =SUM(G10:G60) -> #DIV/0! | H61: =SUM(H10:H60) -> #DIV/0! | I61: =SUM(I10:I60) -> #DIV/0! | J61: =SUM(J10:J60) -> #DIV/0! | K61: =SUM(K10:K60) -> #DIV/0! | L61: =SUM(L10:L60) -> #DIV/0! | M61: =SUM(M10:M60) -> #DIV/0!

Sheet 4. Productie normen
A1: Invoervelden
A3: Naam opdrachtgever | B3: =+Invulinstructie!D3 -> CBR
A4: Calculatie onderdeel | B4: 4-Productie normen
A5: Gebouw/plaats | B5: =+'3a. Schoonmaak totaal'!B5 -> Landelijk
A6: Besteknummer | B6: =Mutatieblad!B4 -> CBR2026.001
A7: Naam leverancier | B7: =+Invulinstructie!D6 -> 0 | G7: Gewogen prestatie | I7: =SUM('5. Basis ruimtestaat'!T:T)/SUM('5. Basis ruimtestaat'!M:N) -> #DIV/0! | J7: m2/uur
A10: Frequentie van uitvoering (per jaar): | B10: 2 | C10: 4 | D10: 6 | E10: 12 | F10: 52 | G10: 104 | H10: 156 | I10: 255
A11: Kolom voor Matrix | B11: 2 | C11: 3 | D11: 4 | E11: 5 | F11: 6 | G11: 7 | H11: 8 | I11: 9
A12: Ruimtecategorie | B12: Prestatienorm in aantal m2 per uur | L12: VSR Code | N12: M2 Totaal | P12: Naloop opslag
A13: Buitenruimten | L13: V | N13: =SUMIF('5. Basis ruimtestaat'!G:G,'4. Productie normen'!A13,'5. Basis ruimtestaat'!I:I) -> 168
A14: Entree | L14: V | N14: =SUMIF('5. Basis ruimtestaat'!G:G,'4. Productie normen'!A14,'5. Basis ruimtestaat'!I:I) -> 455.15
A15: Examenzaal | L15: V | N15: =SUMIF('5. Basis ruimtestaat'!G:G,'4. Productie normen'!A15,'5. Basis ruimtestaat'!I:I) -> 7616.16
A16: Gang/hal | L16: V | N16: =SUMIF('5. Basis ruimtestaat'!G:G,'4. Productie normen'!A16,'5. Basis ruimtestaat'!I:I) -> 4130.7
A17: Garderobe | L17: V | N17: =SUMIF('5. Basis ruimtestaat'!G:G,'4. Productie normen'!A17,'5. Basis ruimtestaat'!I:I) -> 9.1999998
A18: Gebed/kolfruimte | L18: V | N18: =SUMIF('5. Basis ruimtestaat'!G:G,'4. Productie normen'!A18,'5. Basis ruimtestaat'!I:I) -> 12.55
A19: Kantine/pauzeruimte | L19: V | N19: =SUMIF('5. Basis ruimtestaat'!G:G,'4. Productie normen'!A19,'5. Basis ruimtestaat'!I:I) -> 2369.17
A20: Kantoorruimten | L20: B | N20: =SUMIF('5. Basis ruimtestaat'!G:G,'4. Productie normen'!A20,'5. Basis ruimtestaat'!I:I) -> 10806.41
A21: Kleedruimten | L21: V | N21: =SUMIF('5. Basis ruimtestaat'!G:G,'4. Productie normen'!A21,'5. Basis ruimtestaat'!I:I) -> 299.32
A22: Lift | L22: V | N22: =SUMIF('5. Basis ruimtestaat'!G:G,'4. Productie normen'!A22,'5. Basis ruimtestaat'!I:I) -> 38.37
A23: Opslagruimten | L23: V | N23: =SUMIF('5. Basis ruimtestaat'!G:G,'4. Productie normen'!A23,'5. Basis ruimtestaat'!I:I) -> 480.43
A24: Pantry | L24: V | N24: =SUMIF('5. Basis ruimtestaat'!G:G,'4. Productie normen'!A24,'5. Basis ruimtestaat'!I:I) -> 148.1
... A30: Wachtruimten | L30: V | N30: =SUMIF('5. Basis ruimtestaat'!G:G,'4. Productie normen'!A30,'5. Basis ruimtestaat'!I:I) -> 8214.58
A31: Niet in onderhoud | N31: =SUMIF('5. Basis ruimtestaat'!G:G,'4. Productie normen'!A31,'5. Basis ruimtestaat'!I:I) -> 681.42
A33: Totaal | N33: =SUM(N13:N32) -> 43502.56
N35: =N33-'5. Basis ruimtestaat'!I1258 -> 0

Sheet 5. Basis ruimtestaat
B1: Invoervelden
A2: 2
A3: 3 | B3: Naam opdrachtgever | D3: =+Invulinstructie!D3 -> CBR
A4: 4 | B4: Calculatie onderdeel | D4: 5-Basis ruimtestaat
A5: 5 | B5: Gebouw/plaats | D5: =+'3a. Schoonmaak totaal'!B5 -> Landelijk
A6: 6 | B6: Besteknummer | D6: =Mutatieblad!B4 -> CBR2026.001 | P6: % van reguliere norm
A7: 7 | B7: Naam dienstverlener | D7: =+Invulinstructie!D6 -> 0
A8: 8 | P8: ='4. Productie normen'!$P$10 -> 0
A9: 9 | B9: Locatie/kostenplaats | C9: Adres | D9: Verdieping | E9: Ruimte nummer | F9: Ruimteomschrijving opdrachtgever | G9: Ruimtecategorie | H9: Vloer soort | I9: M2 vloer | J9: Correctie factor ruimte | K9: Freq. ma-vr | L9: Freq. ma-vr naloop | M9: Uren p/j ma t/m vrij | N9: Uren p/j ma t/m vrij naloop | O9: Norm ma t/m vr | P9: Norm ma t/m vr naloop | Q9: VSR code | R9: Bijzonderheden / opmerkingen | T9: M2 per jaar
A10: 10 | B10: Alkmaar | C10: Olympiaweg 28 | D10: 00 Begane grond | E10: 0.02 | F10: Centrale ontvangst | G10: Wachtruimten | H10: PVC | I10: 80 | J10: 1 | K10: 255 | M10: =IF(K10="nio",0,IF(K10>0,K10*I10/O10,0))*J10 -> #DIV/0! | N10: =IF(L10>0,L10*I10/P10,0)*J10 -> 0 | O10: =IF(K10="nio",0,VLOOKUP(G10,'4. Productie normen'!A:J,HLOOKUP('5. Basis ruimtestaat'!K10,'4. Productie normen'!$10:$11,2,FALSE),FALSE)) -> 0 | P10: =IF(L10>0,O10*$P$8,0) -> 0 | Q10: =VLOOKUP(G10,'4. Productie normen'!$A:$L,12,FALSE) -> V | T10: =SUM(K10:L10)*I10 -> 20400
A11: 11 | B11: Alkmaar | C11: Olympiaweg 28 | D11: 00 Begane grond | E11: 0.03 | F11: Examenzaal theorie | G11: Examenzaal | H11: Tapijt | I11: 99 | J11: 1 | K11: 255 | M11: =IF(K11="nio",0,IF(K11>0,K11*I11/O11,0))*J11 -> #DIV/0! | N11: =IF(L11>0,L11*I11/P11,0)*J11 -> 0 | O11: =IF(K11="nio",0,VLOOKUP(G11,'4. Productie normen'!A:J,HLOOKUP('5. Basis ruimtestaat'!K11,'4. Productie normen'!$10:$11,2,FALSE),FALSE)) -> 0 | P11: =IF(L11>0,O11*$P$8,0) -> 0 | Q11: =VLOOKUP(G11,'4. Productie normen'!$A:$L,12,FALSE) -> V | T11: =SUM(K11:L11)*I11 -> 25245
A12: 12 | B12: Alkmaar | C12: Olympiaweg 28 | D12: 00 Begane grond | E12: 0.04 | F12: Examenruimte individueel | G12: Examenzaal | H12: Tapijt | I12: 10 | J12: 1 | K12: 255 | M12: =IF(K12="nio",0,IF(K12>0,K12*I12/O12,0))*J12 -> #DIV/0! | N12: =IF(L12>0,L12*I12/P12,0)*J12 -> 0 | O12: =IF(K12="nio",0,VLOOKUP(G12,'4. Productie normen'!A:J,HLOOKUP('5. Basis ruimtestaat'!K12,'4. Productie normen'!$10:$11,2,FALSE),FALSE)) -> 0 | P12: =IF(L12>0,O12*$P$8,0) -> 0 | Q12: =VLOOKUP(G12,'4. Productie normen'!$A:$L,12,FALSE) -> V | T12: =SUM(K12:L12)*I12 -> 2550
A13: 13 | B13: Alkmaar | C13: Olympiaweg 28 | D13: 00 Begane grond | E13: 0.05 | F13: Back office TEC | G13: Kantine/pauzeruimte | H13: Tapijt | I13: 12 | J13: 1 | K13: 255 | M13: =IF(K13="nio",0,IF(K13>0,K13*I13/O13,0))*J13 -> #DIV/0! | N13: =IF(L13>0,L13*I13/P13,0)*J13 -> 0 | O13: =IF(K13="nio",0,VLOOKUP(G13,'4. Productie normen'!A:J,HLOOKUP('5. Basis ruimtestaat'!K13,'4. Productie normen'!$10:$11,2,FALSE),FALSE)) -> 0 | P13: =IF(L13>0,O13*$P$8,0) -> 0 | Q13: =VLOOKUP(G13,'4. Productie normen'!$A:$L,12,FALSE) -> V | T13: =SUM(K13:L13)*I13 -> 3060
A14: 14 | B14: Alkmaar | C14: Olympiaweg 28 | D14: 00 Begane grond | E14: 0.12a | F14: Herentoilet | G14: Sanitaire ruimten | H14: Tegels | I14: 6 | J14: 1 | K14: 255 | L14: 255 | M14: =IF(K14="nio",0,IF(K14>0,K14*I14/O14,0))*J14 -> #DIV/0! | N14: =IF(L14>0,L14*I14/P14,0)*J14 -> #DIV/0! | O14: =IF(K14="nio",0,VLOOKUP(G14,'4. Productie normen'!A:J,HLOOKUP('5. Basis ruimtestaat'!K14,'4. Productie normen'!$10:$11,2,FALSE),FALSE)) -> 0 | P14: =IF(L14>0,O14*$P$8,0) -> 0 | Q14: =VLOOKUP(G14,'4. Productie normen'!$A:$L,12,FALSE) -> S | T14: =SUM(K14:L14)*I14 -> 3060
A15: 15 | B15: Alkmaar | C15: Olympiaweg 28 | D15: 00 Begane grond | E15: 0.12b | F15: Damestoilet | G15: Sanitaire ruimten | H15: Tegels | I15: 6 | J15: 1 | K15: 255 | L15: 255 | M15: =IF(K15="nio",0,IF(K15>0,K15*I15/O15,0))*J15 -> #DIV/0! | N15: =IF(L15>0,L15*I15/P15,0)*J15 -> #DIV/0! | O15: =IF(K15="nio",0,VLOOKUP(G15,'4. Productie normen'!A:J,HLOOKUP('5. Basis ruimtestaat'!K15,'4. Productie normen'!$10:$11,2,FALSE),FALSE)) -> 0 | P15: =IF(L15>0,O15*$P$8,0) -> 0 | Q15: =VLOOKUP(G15,'4. Productie normen'!$A:$L,12,FALSE) -> S | T15: =SUM(K15:L15)*I15 -> 3060
A16: 16 | B16: Alkmaar | C16: Olympiaweg 28 | D16: 00 Begane grond | E16: 0.12c | F16: Invalidetoilet | G16: Sanitaire ruimten | H16: Tegels | I16: 5 | J16: 1 | K16: 255 | L16: 255 | M16: =IF(K16="nio",0,IF(K16>0,K16*I16/O16,0))*J16 -> #DIV/0! | N16: =IF(L16>0,L16*I16/P16,0)*J16 -> #DIV/0! | O16: =IF(K16="nio",0,VLOOKUP(G16,'4. Productie normen'!A:J,HLOOKUP('5. Basis ruimtestaat'!K16,'4. Productie normen'!$10:$11,2,FALSE),FALSE)) -> 0 | P16: =IF(L16>0,O16*$P$8,0) -> 0 | Q16: =VLOOKUP(G16,'4. Productie normen'!$A:$L,12,FALSE) -> S | T16: =SUM(K16:L16)*I16 -> 2550
A17: 17 | B17: Alkmaar | C17: Olympiaweg 28 | D17: 00 Begane grond | E17: 0.13b | F17: Keuken | G17: Niet in onderhoud | H17: Tegels | I17: 10 | J17: 1 | K17: nio | M17: =IF(K17="nio",0,IF(K17>0,K17*I17/O17,0))*J17 -> 0 | N17: =IF(L17>0,L17*I17/P17,0)*J17 -> 0 | O17: =IF(K17="nio",0,VLOOKUP(G17,'4. Productie normen'!A:J,HLOOKUP('5. Basis ruimtestaat'!K17,'4. Productie normen'!$10:$11,2,FALSE),FALSE)) -> 0 | P17: =IF(L17>0,O17*$P$8,0) -> 0 | Q17: =VLOOKUP(G17,'4. Productie normen'!$A:$L,12,FALSE) -> 0 | T17: =SUM(K17:L17)*I17 -> 0
A18: 18 | B18: Alkmaar | C18: Olympiaweg 28 | D18: 00 Begane grond | E18: 0.21 | F18: Wachtruimte | G18: Wachtruimten | H18: PVC | I18: 117 | J18: 1 | K18: 255 | M18: =IF(K18="nio",0,IF(K18>0,K18*I18/O18,0))*J18 -> #DIV/0! | N18: =IF(L18>0,L18*I18/P18,0)*J18 -> 0 | O18: =IF(K18="nio",0,VLOOKUP(G18,'4. Productie normen'!A:J,HLOOKUP('5. Basis ruimtestaat'!K18,'4. Productie normen'!$10:$11,2,FALSE),FALSE)) -> 0 | P18: =IF(L18>0,O18*$P$8,0) -> 0 | Q18: =VLOOKUP(G18,'4. Productie normen'!$A:$L,12,FALSE) -> V | T18: =SUM(K18:L18)*I18 -> 29835
A19: 19 | B19: Alkmaar | C19: Olympiaweg 28 | D19: 00 Begane grond | E19: 0.22a | F19: Gang | G19: Gang/hal | H19: PVC | I19: 7.47 | J19: 1 | K19: 255 | M19: =IF(K19="nio",0,IF(K19>0,K19*I19/O19,0))*J19 -> #DIV/0! | N19: =IF(L19>0,L19*I19/P19,0)*J19 -> 0 | O19: =IF(K19="nio",0,VLOOKUP(G19,'4. Productie normen'!A:J,HLOOKUP('5. Basis ruimtestaat'!K19,'4. Productie normen'!$10:$11,2,FALSE),FALSE)) -> 0 | P19: =IF(L19>0,O19*$P$8,0) -> 0 | Q19: =VLOOKUP(G19,'4. Productie normen'!$A:$L,12,FALSE) -> V | T19: =SUM(K19:L19)*I19 -> 1904.85
A20: 20 | B20: Alkmaar | C20: Olympiaweg 28 | D20: 00 Begane grond | E20: 0.24a | F20: Trap | G20: Trappenhuis | H20: Tapijt | I20: 50 | J20: 1 | K20: 255 | M20: =IF(K20="nio",0,IF(K20>0,K20*I20/O20,0))*J20 -> #DIV/0! | N20: =IF(L20>0,L20*I20/P20,0)*J20 -> 0 | O20: =IF(K20="nio",0,VLOOKUP(G20,'4. Productie normen'!A:J,HLOOKUP('5. Basis ruimtestaat'!K20,'4. Productie normen'!$10:$11,2,FALSE),FALSE)) -> 0 | P20: =IF(L20>0,O20*$P$8,0) -> 0 | Q20: =VLOOKUP(G20,'4. Productie normen'!$A:$L,12,FALSE) -> V | T20: =SUM(K20:L20)*I20 -> 12750
A21: 21 | B21: Alkmaar | C21: Olympiaweg 28 | D21: 00 Begane grond | F21: Kantoor | G21: Kantoorruimten | H21: Tapijt | I21: 8 | J21: 1 | K21: 156 | M21: =IF(K21="nio",0,IF(K21>0,K21*I21/O21,0))*J21 -> #DIV/0! | N21: =IF(L21>0,L21*I21/P21,0)*J21 -> 0 | O21: =IF(K21="nio",0,VLOOKUP(G21,'4. Productie normen'!A:J,HLOOKUP('5. Basis ruimtestaat'!K21,'4. Productie normen'!$10:$11,2,FALSE),FALSE)) -> 0 | P21: =IF(L21>0,O21*$P$8,0) -> 0 | Q21: =VLOOKUP(G21,'4. Productie normen'!$A:$L,12,FALSE) -> B | T21: =SUM(K21:L21)*I21 -> 1248
A22: 22 | B22: Alkmaar | C22: Olympiaweg 28 | D22: 01 1e verdieping | F22: DPR | G22: Vergaderruimten | H22: Tapijt | I22: 12 | J22: 1 | K22: 255 | M22: =IF(K22="nio",0,IF(K22>0,K22*I22/O22,0))*J22 -> #DIV/0! | N22: =IF(L22>0,L22*I22/P22,0)*J22 -> 0 | O22: =IF(K22="nio",0,VLOOKUP(G22,'4. Productie normen'!A:J,HLOOKUP('5. Basis ruimtestaat'!K22,'4. Productie normen'!$10:$11,2,FALSE),FALSE)) -> 0 | P22: =IF(L22>0,O22*$P$8,0) -> 0 | Q22: =VLOOKUP(G22,'4. Productie normen'!$A:$L,12,FALSE) -> B | T22: =SUM(K22:L22)*I22 -> 3060
A23: 23 | B23: Alkmaar | C23: Olympiaweg 28 | D23: 01 1e verdieping | F23: Kantoor | G23: Kantoorruimten | H23: Tapijt | I23: 27 | J23: 1 | K23: 156 | M23: =IF(K23="nio",0,IF(K23>0,K23*I23/O23,0))*J23 -> #DIV/0! | N23: =IF(L23>0,L23*I23/P23,0)*J23 -> 0 | O23: =IF(K23="nio",0,VLOOKUP(G23,'4. Productie normen'!A:J,HLOOKUP('5. Basis ruimtestaat'!K23,'4. Productie normen'!$10:$11,2,FALSE),FALSE)) -> 0 | P23: =IF(L23>0,O23*$P$8,0) -> 0 | Q23: =VLOOKUP(G23,'4. Productie normen'!$A:$L,12,FALSE) -> B | T23: =SUM(K23:L23)*I23 -> 4212
A24: 24 | B24: Alkmaar | C24: Olympiaweg 28 | D24: 01 1e verdieping | F24: Sanitaire ruimte | G24: Sanitaire ruimten | H24: Tegels | I24: 2 | J24: 1 | K24: 255 | L24: 255 | M24: =IF(K24="nio",0,IF(K24>0,K24*I24/O24,0))*J24 -> #DIV/0! | N24: =IF(L24>0,L24*I24/P24,0)*J24 -> #DIV/0! | O24: =IF(K24="nio",0,VLOOKUP(G24,'4. Productie normen'!A:J,HLOOKUP('5. Basis ruimtestaat'!K24,'4. Productie normen'!$10:$11,2,FALSE),FALSE)) -> 0 | P24: =IF(L24>0,O24*$P$8,0) -> 0 | Q24: =VLOOKUP(G24,'4. Productie normen'!$A:$L,12,FALSE) -> S | T24: =SUM(K24:L24)*I24 -> 1020
A25: 25 | B25: Alkmaar | C25: Olympiaweg 28 | D25: 01 1e verdieping | F25: Gang | G25: Gang/hal | H25: PVC | I25: 15.53 | J25: 1 | K25: 255 | M25: =IF(K25="nio",0,IF(K25>0,K25*I25/O25,0))*J25 -> #DIV/0! | N25: =IF(L25>0,L25*I25/P25,0)*J25 -> 0 | O25: =IF(K25="nio",0,VLOOKUP(G25,'4. Productie normen'!A:J,HLOOKUP('5. Basis ruimtestaat'!K25,'4. Productie normen'!$10:$11,2,FALSE),FALSE)) -> 0 | P25: =IF(L25>0,O25*$P$8,0) -> 0 | Q25: =VLOOKUP(G25,'4. Productie normen'!$A:$L,12,FALSE) -> V | T25: =SUM(K25:L25)*I25 -> 3960.1499
A26: 26 | B26: Alkmaar | C26: Olympiaweg 28 | D26: 01 1e verdieping | F26: Kantoor | G26: Kantoorruimten | H26: Tapijt | I26: 10 | J26: 1 | K26: 156 | M26: =IF(K26="nio",0,IF(K26>0,K26*I26/O26,0))*J26 -> #DIV/0! | N26: =IF(L26>0,L26*I26/P26,0)*J26 -> 0 | O26: =IF(K26="nio",0,VLOOKUP(G26,'4. Productie normen'!A:J,HLOOKUP('5. Basis ruimtestaat'!K26,'4. Productie normen'!$10:$11,2,FALSE),FALSE)) -> 0 | P26: =IF(L26>0,O26*$P$8,0) -> 0 | Q26: =VLOOKUP(G26,'4. Productie normen'!$A:$L,12,FALSE) -> B | T26: =SUM(K26:L26)*I26 -> 1560
A27: 27 | B27: Alkmaar | C27: Olympiaweg 28 | D27: 01 1e verdieping | F27: Sanitaire ruimte | G27: Sanitaire ruimten | H27: Tegels | I27: 2 | J27: 1 | K27: 255 | L27: 255 | M27: =IF(K27="nio",0,IF(K27>0,K27*I27/O27,0))*J27 -> #DIV/0! | N27: =IF(L27>0,L27*I27/P27,0)*J27 -> #DIV/0! | O27: =IF(K27="nio",0,VLOOKUP(G27,'4. Productie normen'!A:J,HLOOKUP('5. Basis ruimtestaat'!K27,'4. Productie normen'!$10:$11,2,FALSE),FALSE)) -> 0 | P27: =IF(L27>0,O27*$P$8,0) -> 0 | Q27: =VLOOKUP(G27,'4. Productie normen'!$A:$L,12,FALSE) -> S | T27: =SUM(K27:L27)*I27 -> 1020
A28: 28 | B28: Alkmaar | C28: Olympiaweg 28 | D28: 01 1e verdieping | F28: Kantoor | G28: Kantoorruimten | H28: Tapijt | I28: 129 | J28: 1 | K28: 156 | M28: =IF(K28="nio",0,IF(K28>0,K28*I28/O28,0))*J28 -> #DIV/0! | N28: =IF(L28>0,L28*I28/P28,0)*J28 -> 0 | O28: =IF(K28="nio",0,VLOOKUP(G28,'4. Productie normen'!A:J,HLOOKUP('5. Basis ruimtestaat'!K28,'4. Productie normen'!$10:$11,2,FALSE),FALSE)) -> 0 | P28: =IF(L28>0,O28*$P$8,0) -> 0 | Q28: =VLOOKUP(G28,'4. Productie normen'!$A:$L,12,FALSE) -> B | T28: =SUM(K28:L28)*I28 -> 20124
A29: 29 | B29: Almelo | C29: Bedrijvenpark Twente 305 | D29: 00 Begane grond | E29: 07 | F29: Examenzaal praktijk | G29: Examenzaal | H29: Tapijt | I29: 90 | J29: 1 | K29: 255 | M29: =IF(K29="nio",0,IF(K29>0,K29*I29/O29,0))*J29 -> #DIV/0! | N29: =IF(L29>0,L29*I29/P29,0)*J29 -> 0 | O29: =IF(K29="nio",0,VLOOKUP(G29,'4. Productie normen'!A:J,HLOOKUP('5. Basis ruimtestaat'!K29,'4. Productie normen'!$10:$11,2,FALSE),FALSE)) -> 0 | P29: =IF(L29>0,O29*$P$8,0) -> 0 | Q29: =VLOOKUP(G29,'4. Productie normen'!$A:$L,12,FALSE) -> V | T29: =SUM(K29:L29)*I29 -> 22950
A30: 30 | B30: Almelo | C30: Bedrijvenpark Twente 305 | D30: 00 Begane grond | E30: 10 | F30: BOPEC | G30: Kantine/pauzeruimte | H30: Tapijt | I30: 43.67 | J30: 1 | K30: 255 | M30: =IF(K30="nio",0,IF(K30>0,K30*I30/O30,0))*J30 -> #DIV/0! | N30: =IF(L30>0,L30*I30/P30,0)*J30 -> 0 | O30: =IF(K30="nio",0,VLOOKUP(G30,'4. Productie normen'!A:J,HLOOKUP('5. Basis ruimtestaat'!K30,'4. Productie normen'!$10:$11,2,FALSE),FALSE)) -> 0 | P30: =IF(L30>0,O30*$P$8,0) -> 0 | Q30: =VLOOKUP(G30,'4. Productie normen'!$A:$L,12,FALSE) -> V | T30: =SUM(K30:L30)*I30 -> 11135.85
A31: 31 | B31: Almelo | C31: Bedrijvenpark Twente 305 | D31: 00 Begane grond | E31: 11 | F31: Kantoor | G31: Kantoorruimten | H31: Tapijt | I31: 14.92 | J31: 1 | K31: 156 | M31: =IF(K31="nio",0,IF(K31>0,K31*I31/O31,0))*J31 -> #DIV/0! | N31: =IF(L31>0,L31*I31/P31,0)*J31 -> 0 | O31: =IF(K31="nio",0,VLOOKUP(G31,'4. Productie normen'!A:J,HLOOKUP('5. Basis ruimtestaat'!K31,'4. Productie normen'!$10:$11,2,FALSE),FALSE)) -> 0 | P31: =IF(L31>0,O31*$P$8,0) -> 0 | Q31: =VLOOKUP(G31,'4. Productie normen'!$A:$L,12,FALSE) -> B | T31: =SUM(K31:L31)*I31 -> 2327.52
A32: 32 | B32: Almelo | C32: Bedrijvenpark Twente 305 | D32: 00 Begane grond | E32: 29 | F32: Kleedruimte | G32: Kleedruimten | H32: Tegels | I32: 11.18 | J32: 1 | K32: 255 | M32: =IF(K32="nio",0,IF(K32>0,K32*I32/O32,0))*J32 -> #DIV/0! | N32: =IF(L32>0,L32*I32/P32,0)*J32 -> 0 | O32: =IF(K32="nio",0,VLOOKUP(G32,'4. Productie normen'!A:J,HLOOKUP('5. Basis ruimtestaat'!K32,'4. Productie normen'!$10:$11,2,FALSE),FALSE)) -> 0 | P32: =IF(L32>0,O32*$P$8,0) -> 0 | Q32: =VLOOKUP(G32,'4. Productie normen'!$A:$L,12,FALSE) -> V | T32: =SUM(K32:L32)*I32 -> 2850.9
A33: 33 | B33: Amsterdam | C33: Naritaweg 150 | D33: 00 Begane grond | E33: 0.01 | F33: Entree | G33: Entree | H33: Tapijt | I33: 18 | J33: 1 | K33: 255 | M33: =IF(K33="nio",0,IF(K33>0,K33*I33/O33,0))*J33 -> #DIV/0! | N33: =IF(L33>0,L33*I33/P33,0)*J33 -> 0 | O33: =IF(K33="nio",0,VLOOKUP(G33,'4. Productie normen'!A:J,HLOOKUP('5. Basis ruimtestaat'!K33,'4. Productie normen'!$10:$11,2,FALSE),FALSE)) -> 0 | P33: =IF(L33>0,O33*$P$8,0) -> 0 | Q33: =VLOOKUP(G33,'4. Productie normen'!$A:$L,12,FALSE) -> V | T33: =SUM(K33:L33)*I33 -> 4590
A34: 34 | B34: Amsterdam | C34: Naritaweg 150 | D34: 00 Begane grond | E34: 0.02 | F34: Wachtruimte | G34: Wachtruimten | H34: PVC | I34: 166 | J34: 1 | K34: 255 | M34: =IF(K34="nio",0,IF(K34>0,K34*I34/O34,0))*J34 -> #DIV/0! | N34: =IF(L34>0,L34*I34/P34,0)*J34 -> 0 | O34: =IF(K34="nio",0,VLOOKUP(G34,'4. Productie normen'!A:J,HLOOKUP('5. Basis ruimtestaat'!K34,'4. Productie normen'!$10:$11,2,FALSE),FALSE)) -> 0 | P34: =IF(L34>0,O34*$P$8,0) -> 0 | Q34: =VLOOKUP(G34,'4. Productie normen'!$A:$L,12,FALSE) -> V | T34: =SUM(K34:L34)*I34 -> 42330
A35: 35 | B35: Amsterdam | C35: Naritaweg 150 | D35: 00 Begane grond | E35: 0.03 | F35: Kantoor | G35: Kantoorruimten | H35: Tapijt | I35: 114 | J35: 1 | K35: 156 | M35: =IF(K35="nio",0,IF(K35>0,K35*I35/O35,0))*J35 -> #DIV/0! | N35: =IF(L35>0,L35*I35/P35,0)*J35 -> 0 | O35: =IF(K35="nio",0,VLOOKUP(G35,'4. Productie normen'!A:J,HLOOKUP('5. Basis ruimtestaat'!K35,'4. Productie normen'!$10:$11,2,FALSE),FALSE)) -> 0 | P35: =IF(L35>0,O35*$P$8,0) -> 0 | Q35: =VLOOKUP(G35,'4. Productie normen'!$A:$L,12,FALSE) -> B | T35: =SUM(K35:L35)*I35 -> 17784
A36: 36 | B36: Amsterdam | C36: Naritaweg 150 | D36: 00 Begane grond | E36: 0.04 | F36: Kantoor | G36: Kantoorruimten | H36: Tapijt | I36: 12 | J36: 1 | K36: 156 | M36: =IF(K36="nio",0,IF(K36>0,K36*I36/O36,0))*J36 -> #DIV/0! | N36: =IF(L36>0,L36*I36/P36,0)*J36 -> 0 | O36: =IF(K36="nio",0,VLOOKUP(G36,'4. Productie normen'!A:J,HLOOKUP('5. Basis ruimtestaat'!K36,'4. Productie normen'!$10:$11,2,FALSE),FALSE)) -> 0 | P36: =IF(L36>0,O36*$P$8,0) -> 0 | Q36: =VLOOKUP(G36,'4. Productie normen'!$A:$L,12,FALSE) -> B | T36: =SUM(K36:L36)*I36 -> 1872
A37: 37 | B37: Amsterdam | C37: Naritaweg 150 | D37: 00 Begane grond | E37: 0.05 | F37: Kantoor | G37: Kantoorruimten | H37: Tapijt | I37: 12 | J37: 1 | K37: 156 | M37: =IF(K37="nio",0,IF(K37>0,K37*I37/O37,0))*J37 -> #DIV/0! | N37: =IF(L37>0,L37*I37/P37,0)*J37 -> 0 | O37: =IF(K37="nio",0,VLOOKUP(G37,'4. Productie normen'!A:J,HLOOKUP('5. Basis ruimtestaat'!K37,'4. Productie normen'!$10:$11,2,FALSE),FALSE)) -> 0 | P37: =IF(L37>0,O37*$P$8,0) -> 0 | Q37: =VLOOKUP(G37,'4. Productie normen'!$A:$L,12,FALSE) -> B | T37: =SUM(K37:L37)*I37 -> 1872
A38: 38 | B38: Amsterdam | C38: Naritaweg 150 | D38: 00 Begane grond | E38: 0.07 | F38: Kantoor | G38: Kantoorruimten | H38: Tapijt | I38: 169 | J38: 1 | K38: 156 | M38: =IF(K38="nio",0,IF(K38>0,K38*I38/O38,0))*J38 -> #DIV/0! | N38: =IF(L38>0,L38*I38/P38,0)*J38 -> 0 | O38: =IF(K38="nio",0,VLOOKUP(G38,'4. Productie normen'!A:J,HLOOKUP('5. Basis ruimtestaat'!K38,'4. Productie normen'!$10:$11,2,FALSE),FALSE)) -> 0 | P38: =IF(L38>0,O38*$P$8,0) -> 0 | Q38: =VLOOKUP(G38,'4. Productie normen'!$A:$L,12,FALSE) -> B | T38: =SUM(K38:L38)*I38 -> 26364
A39: 39 | B39: Amsterdam | C39: Naritaweg 150 | D39: 00 Begane grond | E39: 0.10 | F39: Kantoor | G39: Kantoorruimten | H39: Tapijt | I39: 36.099998 | J39: 1 | K39: 156 | M39: =IF(K39="nio",0,IF(K39>0,K39*I39/O39,0))*J39 -> #DIV/0! | N39: =IF(L39>0,L39*I39/P39,0)*J39 -> 0 | O39: =IF(K39="nio",0,VLOOKUP(G39,'4. Productie normen'!A:J,HLOOKUP('5. Basis ruimtestaat'!K39,'4. Productie normen'!$10:$11,2,FALSE),FALSE)) -> 0 | P39: =IF(L39>0,O39*$P$8,0) -> 0 | Q39: =VLOOKUP(G39,'4. Productie normen'!$A:$L,12,FALSE) -> B | T39: =SUM(K39:L39)*I39 -> 5631.5998
A40: 40 | B40: Amsterdam | C40: Naritaweg 150 | D40: 00 Begane grond | E40: 0.11 | F40: Kantoor | G40: Kantoorruimten | H40: Tapijt | I40: 15 | J40: 1 | K40: 156 | M40: =IF(K40="nio",0,IF(K40>0,K40*I40/O40,0))*J40 -> #DIV/0! | N40: =IF(L40>0,L40*I40/P40,0)*J40 -> 0 | O40: =IF(K40="nio",0,VLOOKUP(G40,'4. Productie normen'!A:J,HLOOKUP('5. Basis ruimtestaat'!K40,'4. Productie normen'!$10:$11,2,FALSE),FALSE)) -> 0 | P40: =IF(L40>0,O40*$P$8,0) -> 0 | Q40: =VLOOKUP(G40,'4. Productie normen'!$A:$L,12,FALSE) -> B | T40: =SUM(K40:L40)*I40 -> 2340
A41: 41 | B41: Amsterdam | C41: Naritaweg 150 | D41: 00 Begane grond | E41: 0.12a | F41: Sanitaire ruimte | G41: Sanitaire ruimten | H41: Gietvloer | I41: 18.139999 | J41: 1 | K41: 255 | L41: 255 | M41: =IF(K41="nio",0,IF(K41>0,K41*I41/O41,0))*J41 -> #DIV/0! | N41: =IF(L41>0,L41*I41/P41,0)*J41 -> #DIV/0! | O41: =IF(K41="nio",0,VLOOKUP(G41,'4. Productie normen'!A:J,HLOOKUP('5. Basis ruimtestaat'!K41,'4. Productie normen'!$10:$11,2,FALSE),FALSE)) -> 0 | P41: =IF(L41>0,O41*$P$8,0) -> 0 | Q41: =VLOOKUP(G41,'4. Productie normen'!$A:$L,12,FALSE) -> S | T41: =SUM(K41:L41)*I41 -> 9251.3997
A42: 42 | B42: Amsterdam | C42: Naritaweg 150 | D42: 00 Begane grond | E42: 0.12b | F42: Sanitaire ruimte | G42: Sanitaire ruimten | H42: Gietvloer | I42: 11.4 | J42: 1 | K42: 255 | L42: 255 | M42: =IF(K42="nio",0,IF(K42>0,K42*I42/O42,0))*J42 -> #DIV/0! | N42: =IF(L42>0,L42*I42/P42,0)*J42 -> #DIV/0! | O42: =IF(K42="nio",0,VLOOKUP(G42,'4. Productie normen'!A:J,HLOOKUP('5. Basis ruimtestaat'!K42,'4. Productie normen'!$10:$11,2,FALSE),FALSE)) -> 0 | P42: =IF(L42>0,O42*$P$8,0) -> 0 | Q42: =VLOOKUP(G42,'4. Productie normen'!$A:$L,12,FALSE) -> S | T42: =SUM(K42:L42)*I42 -> 5813.9998
A43: 43 | B43: Amsterdam | C43: Naritaweg 150 | D43: 00 Begane grond | E43: 0.12c | F43: Sanitaire ruimte | G43: Sanitaire ruimten | H43: Tegels | I43: 4.52 | J43: 1 | K43: 255 | L43: 255 | M43: =IF(K43="nio",0,IF(K43>0,K43*I43/O43,0))*J43 -> #DIV/0! | N43: =IF(L43>0,L43*I43/P43,0)*J43 -> #DIV/0! | O43: =IF(K43="nio",0,VLOOKUP(G43,'4. Productie normen'!A:J,HLOOKUP('5. Basis ruimtestaat'!K43,'4. Productie normen'!$10:$11,2,FALSE),FALSE)) -> 0 | P43: =IF(L43>0,O43*$P$8,0) -> 0 | Q43: =VLOOKUP(G43,'4. Productie normen'!$A:$L,12,FALSE) -> S | T43: =SUM(K43:L43)*I43 -> 2305.2
A44: 44 | B44: Amsterdam | C44: Naritaweg 150 | D44: 00 Begane grond | E44: 0.13a | F44: Keuken | G44: Niet in onderhoud | H44: Tegels | I44: 34 | J44: 1 | K44: nio | M44: =IF(K44="nio",0,IF(K44>0,K44*I44/O44,0))*J44 -> 0 | N44: =IF(L44>0,L44*I44/P44,0)*J44 -> 0 | O44: =IF(K44="nio",0,VLOOKUP(G44,'4. Productie normen'!A:J,HLOOKUP('5. Basis ruimtestaat'!K44,'4. Productie normen'!$10:$11,2,FALSE),FALSE)) -> 0 | P44: =IF(L44>0,O44*$P$8,0) -> 0 | Q44: =VLOOKUP(G44,'4. Productie normen'!$A:$L,12,FALSE) -> 0 | T44: =SUM(K44:L44)*I44 -> 0
A45: 45 | B45: Amsterdam | C45: Naritaweg 150 | D45: 00 Begane grond | E45: 0.21 | F45: Wachtruimte | G45: Wachtruimten | H45: PVC | I45: 182 | J45: 1 | K45: 255 | M45: =IF(K45="nio",0,IF(K45>0,K45*I45/O45,0))*J45 -> #DIV/0! | N45: =IF(L45>0,L45*I45/P45,0)*J45 -> 0 | O45: =IF(K45="nio",0,VLOOKUP(G45,'4. Productie normen'!A:J,HLOOKUP('5. Basis ruimtestaat'!K45,'4. Productie normen'!$10:$11,2,FALSE),FALSE)) -> 0 | P45: =IF(L45>0,O45*$P$8,0) -> 0 | Q45: =VLOOKUP(G45,'4. Productie normen'!$A:$L,12,FALSE) -> V | T45: =SUM(K45:L45)*I45 -> 46410
A46: 46 | B46: Amsterdam | C46: Naritaweg 150 | D46: 00 Begane grond | E46: 0.24a | F46: Trap | G46: Trappenhuis | H46: PVC | I46: 31.35 | J46: 1 | K46: 255 | M46: =IF(K46="nio",0,IF(K46>0,K46*I46/O46,0))*J46 -> #DIV/0! | N46: =IF(L46>0,L46*I46/P46,0)*J46 -> 0 | O46: =IF(K46="nio",0,VLOOKUP(G46,'4. Productie normen'!A:J,HLOOKUP('5. Basis ruimtestaat'!K46,'4. Productie normen'!$10:$11,2,FALSE),FALSE)) -> 0 | P46: =IF(L46>0,O46*$P$8,0) -> 0 | Q46: =VLOOKUP(G46,'4. Productie normen'!$A:$L,12,FALSE) -> V | T46: =SUM(K46:L46)*I46 -> 7994.2501
A47: 47 | B47: Amsterdam | C47: Naritaweg 150 | D47: 00 Begane grond | E47: 0.25a | F47: Lift | G47: Lift | H47: Linoleum | I47: 2.2 | J47: 1 | K47: 255 | M47: =IF(K47="nio",0,IF(K47>0,K47*I47/O47,0))*J47 -> #DIV/0! | N47: =IF(L47>0,L47*I47/P47,0)*J47 -> 0 | O47: =IF(K47="nio",0,VLOOKUP(G47,'4. Productie normen'!A:J,HLOOKUP('5. Basis ruimtestaat'!K47,'4. Productie normen'!$10:$11,2,FALSE),FALSE)) -> 0 | P47: =IF(L47>0,O47*$P$8,0) -> 0 | Q47: =VLOOKUP(G47,'4. Productie normen'!$A:$L,12,FALSE) -> V | T47: =SUM(K47:L47)*I47 -> 561.00001
A48: 48 | B48: Amsterdam | C48: Naritaweg 150 | D48: 00 Begane grond | E48: 0.39a | F48: Kantoor | G48: Kantoorruimten | H48: Tapijt | I48: 4 | J48: 1 | K48: 156 | M48: =IF(K48="nio",0,IF(K48>0,K48*I48/O48,0))*J48 -> #DIV/0! | N48: =IF(L48>0,L48*I48/P48,0)*J48 -> 0 | O48: =IF(K48="nio",0,VLOOKUP(G48,'4. Productie normen'!A:J,HLOOKUP('5. Basis ruimtestaat'!K48,'4. Productie normen'!$10:$11,2,FALSE),FALSE)) -> 0 | P48: =IF(L48>0,O48*$P$8,0) -> 0 | Q48: =VLOOKUP(G48,'4. Productie normen'!$A:$L,12,FALSE) -> B | T48: =SUM(K48:L48)*I48 -> 624
A49: 49 | B49: Amsterdam | C49: Naritaweg 150 | D49: 01 1e verdieping | E49: 1.01 | F49: Trap | G49: Trappenhuis | H49: Tapijt | I49: 12.2 | J49: 1 | K49: 255 | M49: =IF(K49="nio",0,IF(K49>0,K49*I49/O49,0))*J49 -> #DIV/0! | N49: =IF(L49>0,L49*I49/P49,0)*J49 -> 0 | O49: =IF(K49="nio",0,VLOOKUP(G49,'4. Productie normen'!A:J,HLOOKUP('5. Basis ruimtestaat'!K49,'4. Productie normen'!$10:$11,2,FALSE),FALSE)) -> 0 | P49: =IF(L49>0,O49*$P$8,0) -> 0 | Q49: =VLOOKUP(G49,'4. Productie normen'!$A:$L,12,FALSE) -> V | T49: =SUM(K49:L49)*I49 -> 3111
A50: 50 | B50: Amsterdam | C50: Naritaweg 150 | D50: 01 1e verdieping | E50: 1.04 | F50: Gang | G50: Gang/hal | H50: PVC | I50: 39.119999 | J50: 1 | K50: 255 | M50: =IF(K50="nio",0,IF(K50>0,K50*I50/O50,0))*J50 -> #DIV/0! | N50: =IF(L50>0,L50*I50/P50,0)*J50 -> 0 | O50: =IF(K50="nio",0,VLOOKUP(G50,'4. Productie normen'!A:J,HLOOKUP('5. Basis ruimtestaat'!K50,'4. Productie normen'!$10:$11,2,FALSE),FALSE)) -> 0 | P50: =IF(L50>0,O50*$P$8,0) -> 0 | Q50: =VLOOKUP(G50,'4. Productie normen'!$A:$L,12,FALSE) -> V | T50: =SUM(K50:L50)*I50 -> 9975.5997
A51: 51 | B51: Amsterdam | C51: Naritaweg 150 | D51: 01 1e verdieping | E51: 1.07 | F51: Sanitaire ruimte | G51: Sanitaire ruimten | H51: Tegels | I51: 9 | J51: 1 | K51: 255 | L51: 255 | M51: =IF(K51="nio",0,IF(K51>0,K51*I51/O51,0))*J51 -> #DIV/0! | N51: =IF(L51>0,L51*I51/P51,0)*J51 -> #DIV/0! | O51: =IF(K51="nio",0,VLOOKUP(G51,'4. Productie normen'!A:J,HLOOKUP('5. Basis ruimtestaat'!K51,'4. Productie normen'!$10:$11,2,FALSE),FALSE)) -> 0 | P51: =IF(L51>0,O51*$P$8,0) -> 0 | Q51: =VLOOKUP(G51,'4. Productie normen'!$A:$L,12,FALSE) -> S | T51: =SUM(K51:L51)*I51 -> 4590
A52: 52 | B52: Amsterdam | C52: Naritaweg 150 | D52: 01 1e verdieping | E52: 1.08 | F52: Sanitaire ruimte | G52: Sanitaire ruimten | H52: Tegels | I52: 10.29 | J52: 1 | K52: 255 | L52: 255 | M52: =IF(K52="nio",0,IF(K52>0,K52*I52/O52,0))*J52 -> #DIV/0! | N52: =IF(L52>0,L52*I52/P52,0)*J52 -> #DIV/0! | O52: =IF(K52="nio",0,VLOOKUP(G52,'4. Productie normen'!A:J,HLOOKUP('5. Basis ruimtestaat'!K52,'4. Productie normen'!$10:$11,2,FALSE),FALSE)) -> 0 | P52: =IF(L52>0,O52*$P$8,0) -> 0 | Q52: =VLOOKUP(G52,'4. Productie normen'!$A:$L,12,FALSE) -> S | T52: =SUM(K52:L52)*I52 -> 5247.9
A53: 53 | B53: Amsterdam | C53: Naritaweg 150 | D53: 01 1e verdieping | E53: 1.08a | F53: Kantoor | G53: Kantoorruimten | H53: Tapijt | I53: 70 | J53: 1 | K53: 156 | M53: =IF(K53="nio",0,IF(K53>0,K53*I53/O53,0))*J53 -> #DIV/0! | N53: =IF(L53>0,L53*I53/P53,0)*J53 -> 0 | O53: =IF(K53="nio",0,VLOOKUP(G53,'4. Productie normen'!A:J,HLOOKUP('5. Basis ruimtestaat'!K53,'4. Productie normen'!$10:$11,2,FALSE),FALSE)) -> 0 | P53: =IF(L53>0,O53*$P$8,0) -> 0 | Q53: =VLOOKUP(G53,'4. Productie normen'!$A:$L,12,FALSE) -> B | T53: =SUM(K53:L53)*I53 -> 10920
A54: 54 | B54: Amsterdam | C54: Naritaweg 150 | D54: 01 1e verdieping | E54: 1.08b | F54: Kantoor | G54: Kantoorruimten | H54: Tapijt | I54: 51.599998 | J54: 1 | K54: 156 | M54: =IF(K54="nio",0,IF(K54>0,K54*I54/O54,0))*J54 -> #DIV/0! | N54: =IF(L54>0,L54*I54/P54,0)*J54 -> 0 | O54: =IF(K54="nio",0,VLOOKUP(G54,'4. Productie normen'!A:J,HLOOKUP('5. Basis ruimtestaat'!K54,'4. Productie normen'!$10:$11,2,FALSE),FALSE)) -> 0 | P54: =IF(L54>0,O54*$P$8,0) -> 0 | Q54: =VLOOKUP(G54,'4. Productie normen'!$A:$L,12,FALSE) -> B | T54: =SUM(K54:L54)*I54 -> 8049.5998
A55: 55 | B55: Amsterdam | C55: Naritaweg 150 | D55: 01 1e verdieping | E55: 1.08c | F55: Kantoor | G55: Kantoorruimten | H55: Tapijt | I55: 44 | J55: 1 | K55: 156 | M55: =IF(K55="nio",0,IF(K55>0,K55*I55/O55,0))*J55 -> #DIV/0! | N55: =IF(L55>0,L55*I55/P55,0)*J55 -> 0 | O55: =IF(K55="nio",0,VLOOKUP(G55,'4. Productie normen'!A:J,HLOOKUP('5. Basis ruimtestaat'!K55,'4. Productie normen'!$10:$11,2,FALSE),FALSE)) -> 0 | P55: =IF(L55>0,O55*$P$8,0) -> 0 | Q55: =VLOOKUP(G55,'4. Productie normen'!$A:$L,12,FALSE) -> B | T55: =SUM(K55:L55)*I55 -> 6864
A56: 56 | B56: Amsterdam | C56: Naritaweg 150 | D56: 01 1e verdieping | E56: 1.08d | F56: Kantoor | G56: Kantoorruimten | H56: Tapijt | I56: 52 | J56: 1 | K56: 156 | M56: =IF(K56="nio",0,IF(K56>0,K56*I56/O56,0))*J56 -> #DIV/0! | N56: =IF(L56>0,L56*I56/P56,0)*J56 -> 0 | O56: =IF(K56="nio",0,VLOOKUP(G56,'4. Productie normen'!A:J,HLOOKUP('5. Basis ruimtestaat'!K56,'4. Productie normen'!$10:$11,2,FALSE),FALSE)) -> 0 | P56: =IF(L56>0,O56*$P$8,0) -> 0 | Q56: =VLOOKUP(G56,'4. Productie normen'!$A:$L,12,FALSE) -> B | T56: =SUM(K56:L56)*I56 -> 8112
A57: 57 | B57: Amsterdam | C57: Naritaweg 150 | D57: 01 1e verdieping | E57: 1.09a | F57: Kantoor | G57: Kantoorruimten | H57: Tapijt | I57: 25 | J57: 1 | K57: 156 | M57: =IF(K57="nio",0,IF(K57>0,K57*I57/O57,0))*J57 -> #DIV/0! | N57: =IF(L57>0,L57*I57/P57,0)*J57 -> 0 | O57: =IF(K57="nio",0,VLOOKUP(G57,'4. Productie normen'!A:J,HLOOKUP('5. Basis ruimtestaat'!K57,'4. Productie normen'!$10:$11,2,FALSE),FALSE)) -> 0 | P57: =IF(L57>0,O57*$P$8,0) -> 0 | Q57: =VLOOKUP(G57,'4. Productie normen'!$A:$L,12,FALSE) -> B | T57: =SUM(K57:L57)*I57 -> 3900
A58: 58 | B58: Amsterdam | C58: Naritaweg 150 | D58: 01 1e verdieping | E58: 1.09b | F58: Kantoor | G58: Kantoorruimten | H58: Tapijt | I58: 25 | J58: 1 | K58: 156 | M58: =IF(K58="nio",0,IF(K58>0,K58*I58/O58,0))*J58 -> #DIV/0! | N58: =IF(L58>0,L58*I58/P58,0)*J58 -> 0 | O58: =IF(K58="nio",0,VLOOKUP(G58,'4. Productie normen'!A:J,HLOOKUP('5. Basis ruimtestaat'!K58,'4. Productie normen'!$10:$11,2,FALSE),FALSE)) -> 0 | P58: =IF(L58>0,O58*$P$8,0) -> 0 | Q58: =VLOOKUP(G58,'4. Productie normen'!$A:$L,12,FALSE) -> B | T58: =SUM(K58:L58)*I58 -> 3900
A59: 59 | B59: Amsterdam | C59: Naritaweg 150 | D59: 01 1e verdieping | E59: 1.12 | F59: Gang/hal | G59: Gang/hal | H59: PVC | I59: 14.3 | J59: 1 | K59: 255 | M59: =IF(K59="nio",0,IF(K59>0,K59*I59/O59,0))*J59 -> #DIV/0! | N59: =IF(L59>0,L59*I59/P59,0)*J59 -> 0 | O59: =IF(K59="nio",0,VLOOKUP(G59,'4. Productie normen'!A:J,HLOOKUP('5. Basis ruimtestaat'!K59,'4. Productie normen'!$10:$11,2,FALSE),FALSE)) -> 0 | P59: =IF(L59>0,O59*$P$8,0) -> 0 | Q59: =VLOOKUP(G59,'4. Productie normen'!$A:$L,12,FALSE) -> V | T59: =SUM(K59:L59)*I59 -> 3646.5
A60: 60 | B60: Amsterdam | C60: Naritaweg 150 | D60: 01 1e verdieping | E60: 1.16 | F60: Gang | G60: Gang/hal | H60: Tapijt | I60: 11.88 | J60: 1 | K60: 255 | M60: =IF(K60="nio",0,IF(K60>0,K60*I60/O60,0))*J60 -> #DIV/0! | N60: =IF(L60>0,L60*I60/P60,0)*J60 -> 0 | O60: =IF(K60="nio",0,VLOOKUP(G60,'4. Productie normen'!A:J,HLOOKUP('5. Basis ruimtestaat'!K60,'4. Productie normen'!$10:$11,2,FALSE),FALSE)) -> 0 | P60: =IF(L60>0,O60*$P$8,0) -> 0 | Q60: =VLOOKUP(G60,'4. Productie normen'!$A:$L,12,FALSE) -> V | T60: =SUM(K60:L60)*I60 -> 3029.4
A61: 61 | B61: Amsterdam | C61: Naritaweg 150 | D61: 01 1e verdieping | E61: 1.17 | F61: Gang | G61: Gang/hal | H61: Tapijt | I61: 21.68 | J61: 1 | K61: 255 | M61: =IF(K61="nio",0,IF(K61>0,K61*I61/O61,0))*J61 -> #DIV/0! | N61: =IF(L61>0,L61*I61/P61,0)*J61 -> 0 | O61: =IF(K61="nio",0,VLOOKUP(G61,'4. Productie normen'!A:J,HLOOKUP('5. Basis ruimtestaat'!K61,'4. Productie normen'!$10:$11,2,FALSE),FALSE)) -> 0 | P61: =IF(L61>0,O61*$P$8,0) -> 0 | Q61: =VLOOKUP(G61,'4. Productie normen'!$A:$L,12,FALSE) -> V | T61: =SUM(K61:L61)*I61 -> 5528.4001
A62: 62 | B62: Amsterdam | C62: Naritaweg 150 | D62: 01 1e verdieping | E62: 1.22 | G62: Garderobe | H62: Tapijt | I62: 9.1999998 | J62: 1 | K62: 255 | M62: =IF(K62="nio",0,IF(K62>0,K62*I62/O62,0))*J62 -> #DIV/0! | N62: =IF(L62>0,L62*I62/P62,0)*J62 -> 0 | O62: =IF(K62="nio",0,VLOOKUP(G62,'4. Productie normen'!A:J,HLOOKUP('5. Basis ruimtestaat'!K62,'4. Productie normen'!$10:$11,2,FALSE),FALSE)) -> 0 | P62: =IF(L62>0,O62*$P$8,0) -> 0 | Q62: =VLOOKUP(G62,'4. Productie normen'!$A:$L,12,FALSE) -> V | T62: =SUM(K62:L62)*I62 -> 2346
A63: 63 | B63: Amsterdam | C63: Naritaweg 150 | D63: 01 1e verdieping | E63: 1.24b | F63: Trap | G63: Trappenhuis | H63: Hout | I63: 16.25 | J63: 1 | K63: 255 | M63: =IF(K63="nio",0,IF(K63>0,K63*I63/O63,0))*J63 -> #DIV/0! | N63: =IF(L63>0,L63*I63/P63,0)*J63 -> 0 | O63: =IF(K63="nio",0,VLOOKUP(G63,'4. Productie normen'!A:J,HLOOKUP('5. Basis ruimtestaat'!K63,'4. Productie normen'!$10:$11,2,FALSE),FALSE)) -> 0 | P63: =IF(L63>0,O63*$P$8,0) -> 0 | Q63: =VLOOKUP(G63,'4. Productie normen'!$A:$L,12,FALSE) -> V | T63: =SUM(K63:L63)*I63 -> 4143.75
A64: 64 | B64: Amsterdam | C64: Naritaweg 150 | D64: 01 1e verdieping | E64: 1.30a | F64: Kantoor | G64: Kantoorruimten | H64: Tapijt | I64: 9 | J64: 1 | K64: 156 | M64: =IF(K64="nio",0,IF(K64>0,K64*I64/O64,0))*J64 -> #DIV/0! | N64: =IF(L64>0,L64*I64/P64,0)*J64 -> 0 | O64: =IF(K64="nio",0,VLOOKUP(G64,'4. Productie normen'!A:J,HLOOKUP('5. Basis ruimtestaat'!K64,'4. Productie normen'!$10:$11,2,FALSE),FALSE)) -> 0 | P64: =IF(L64>0,O64*$P$8,0) -> 0 | Q64: =VLOOKUP(G64,'4. Productie normen'!$A:$L,12,FALSE) -> B | T64: =SUM(K64:L64)*I64 -> 1404
A65: 65 | B65: Amsterdam | C65: Naritaweg 150 | D65: 01 1e verdieping | E65: 1.30b | F65: Kantoor | G65: Kantoorruimten | H65: Tapijt | I65: 47.5 | J65: 1 | K65: 156 | M65: =IF(K65="nio",0,IF(K65>0,K65*I65/O65,0))*J65 -> #DIV/0! | N65: =IF(L65>0,L65*I65/P65,0)*J65 -> 0 | O65: =IF(K65="nio",0,VLOOKUP(G65,'4. Productie normen'!A:J,HLOOKUP('5. Basis ruimtestaat'!K65,'4. Productie normen'!$10:$11,2,FALSE),FALSE)) -> 0 | P65: =IF(L65>0,O65*$P$8,0) -> 0 | Q65: =VLOOKUP(G65,'4. Productie normen'!$A:$L,12,FALSE) -> B | T65: =SUM(K65:L65)*I65 -> 7410
A66: 66 | B66: Amsterdam | C66: Naritaweg 150 | D66: 01 1e verdieping | E66: 1.30c | F66: Kantoor | G66: Kantoorruimten | H66: Tapijt | I66: 9 | J66: 1 | K66: 156 | M66: =IF(K66="nio",0,IF(K66>0,K66*I66/O66,0))*J66 -> #DIV/0! | N66: =IF(L66>0,L66*I66/P66,0)*J66 -> 0 | O66: =IF(K66="nio",0,VLOOKUP(G66,'4. Productie normen'!A:J,HLOOKUP('5. Basis ruimtestaat'!K66,'4. Productie normen'!$10:$11,2,FALSE),FALSE)) -> 0 | P66: =IF(L66>0,O66*$P$8,0) -> 0 | Q66: =VLOOKUP(G66,'4. Productie normen'!$A:$L,12,FALSE) -> B | T66: =SUM(K66:L66)*I66 -> 1404
A67: 67 | B67: Amsterdam | C67: Naritaweg 150 | D67: 01 1e verdieping | E67: 1.32 | G67: Kantine/pauzeruimte | H67: PVC | I67: 132 | J67: 1 | K67: 255 | M67: =IF(K67="nio",0,IF(K67>0,K67*I67/O67,0))*J67 -> #DIV/0! | N67: =IF(L67>0,L67*I67/P67,0)*J67 -> 0 | O67: =IF(K67="nio",0,VLOOKUP(G67,'4. Productie normen'!A:J,HLOOKUP('5. Basis ruimtestaat'!K67,'4. Productie normen'!$10:$11,2,FALSE),FALSE)) -> 0 | P67: =IF(L67>0,O67*$P$8,0) -> 0 | Q67: =VLOOKUP(G67,'4. Productie normen'!$A:$L,12,FALSE) -> V | T67: =SUM(K67:L67)*I67 -> 33660
A68: 68 | B68: Amsterdam | C68: Naritaweg 150 | D68: 01 1e verdieping | F68: Gang | G68: Gang/hal | H68: PVC | I68: 7.5 | J68: 1 | K68: 255 | M68: =IF(K68="nio",0,IF(K68>0,K68*I68/O68,0))*J68 -> #DIV/0! | N68: =IF(L68>0,L68*I68/P68,0)*J68 -> 0 | O68: =IF(K68="nio",0,VLOOKUP(G68,'4. Productie normen'!A:J,HLOOKUP('5. Basis ruimtestaat'!K68,'4. Productie normen'!$10:$11,2,FALSE),FALSE)) -> 0 | P68: =IF(L68>0,O68*$P$8,0) -> 0 | Q68: =VLOOKUP(G68,'4. Productie normen'!$A:$L,12,FALSE) -> V | T68: =SUM(K68:L68)*I68 -> 1912.5
A69: 69 | B69: Amsterdam | C69: Naritaweg 150 | D69: 02 2e verdieping | E69: 2.1 | F69: Trap | G69: Trappenhuis | H69: Tapijt | I69: 12.7 | J69: 1 | K69: 255 | M69: =IF(K69="nio",0,IF(K69>0,K69*I69/O69,0))*J69 -> #DIV/0! | N69: =IF(L69>0,L69*I69/P69,0)*J69 -> 0 | O69: =IF(K69="nio",0,VLOOKUP(G69,'4. Productie normen'!A:J,HLOOKUP('5. Basis ruimtestaat'!K69,'4. Productie normen'!$10:$11,2,FALSE),FALSE)) -> 0 | P69: =IF(L69>0,O69*$P$8,0) -> 0 | Q69: =VLOOKUP(G69,'4. Productie normen'!$A:$L,12,FALSE) -> V | T69: =SUM(K69:L69)*I69 -> 3238.5
A70: 70 | B70: Amsterdam | C70: Naritaweg 150 | D70: 02 2e verdieping | E70: 2.13 | F70: Gang | G70: Gang/hal | H70: PVC | I70: 7.6799998 | J70: 1 | K70: 255 | M70: =IF(K70="nio",0,IF(K70>0,K70*I70/O70,0))*J70 -> #DIV/0! | N70: =IF(L70>0,L70*I70/P70,0)*J70 -> 0 | O70: =IF(K70="nio",0,VLOOKUP(G70,'4. Productie normen'!A:J,HLOOKUP('5. Basis ruimtestaat'!K70,'4. Productie normen'!$10:$11,2,FALSE),FALSE)) -> 0 | P70: =IF(L70>0,O70*$P$8,0) -> 0 | Q70: =VLOOKUP(G70,'4. Productie normen'!$A:$L,12,FALSE) -> V | T70: =SUM(K70:L70)*I70 -> 1958.4
A71: 71 | B71: Amsterdam | C71: Naritaweg 150 | D71: 02 2e verdieping | E71: 2.14 | F71: Gang | G71: Gang/hal | H71: PVC | I71: 21.030001 | J71: 1 | K71: 255 | M71: =IF(K71="nio",0,IF(K71>0,K71*I71/O71,0))*J71 -> #DIV/0! | N71: =IF(L71>0,L71*I71/P71,0)*J71 -> 0 | O71: =IF(K71="nio",0,VLOOKUP(G71,'4. Productie normen'!A:J,HLOOKUP('5. Basis ruimtestaat'!K71,'4. Productie normen'!$10:$11,2,FALSE),FALSE)) -> 0 | P71: =IF(L71>0,O71*$P$8,0) -> 0 | Q71: =VLOOKUP(G71,'4. Productie normen'!$A:$L,12,FALSE) -> V | T71: =SUM(K71:L71)*I71 -> 5362.6502
A72: 72 | B72: Amsterdam | C72: Naritaweg 150 | D72: 02 2e verdieping | E72: 2.15 | F72: Kantoor | G72: Kantoorruimten | H72: Tapijt | I72: 29.74 | J72: 1 | K72: 156 | M72: =IF(K72="nio",0,IF(K72>0,K72*I72/O72,0))*J72 -> #DIV/0! | N72: =IF(L72>0,L72*I72/P72,0)*J72 -> 0 | O72: =IF(K72="nio",0,VLOOKUP(G72,'4. Productie normen'!A:J,HLOOKUP('5. Basis ruimtestaat'!K72,'4. Productie normen'!$10:$11,2,FALSE),FALSE)) -> 0 | P72: =IF(L72>0,O72*$P$8,0) -> 0 | Q72: =VLOOKUP(G72,'4. Productie normen'!$A:$L,12,FALSE) -> B | T72: =SUM(K72:L72)*I72 -> 4639.44
A73: 73 | B73: Amsterdam | C73: Naritaweg 150 | D73: 02 2e verdieping | E73: 2.16 | F73: Kantoor | G73: Kantoorruimten | H73: Tapijt | I73: 21.360001 | J73: 1 | K73: 156 | M73: =IF(K73="nio",0,IF(K73>0,K73*I73/O73,0))*J73 -> #DIV/0! | N73: =IF(L73>0,L73*I73/P73,0)*J73 -> 0 | O73: =IF(K73="nio",0,VLOOKUP(G73,'4. Productie normen'!A:J,HLOOKUP('5. Basis ruimtestaat'!K73,'4. Productie normen'!$10:$11,2,FALSE),FALSE)) -> 0 | P73: =IF(L73>0,O73*$P$8,0) -> 0 | Q73: =VLOOKUP(G73,'4. Productie normen'!$A:$L,12,FALSE) -> B | T73: =SUM(K73:L73)*I73 -> 3332.1601
A74: 74 | B74: Amsterdam | C74: Naritaweg 150 | D74: 02 2e verdieping | E74: 2.17 | F74: Kantoor | G74: Kantoorruimten | H74: Tapijt | I74: 22 | J74: 1 | K74: 156 | M74: =IF(K74="nio",0,IF(K74>0,K74*I74/O74,0))*J74 -> #DIV/0! | N74: =IF(L74>0,L74*I74/P74,0)*J74 -> 0 | O74: =IF(K74="nio",0,VLOOKUP(G74,'4. Productie normen'!A:J,HLOOKUP('5. Basis ruimtestaat'!K74,'4. Productie normen'!$10:$11,2,FALSE),FALSE)) -> 0 | P74: =IF(L74>0,O74*$P$8,0) -> 0 | Q74: =VLOOKUP(G74,'4. Productie normen'!$A:$L,12,FALSE) -> B | T74: =SUM(K74:L74)*I74 -> 3432
A75: 75 | B75: Amsterdam | C75: Naritaweg 150 | D75: 02 2e verdieping | E75: 2.17a | F75: Kantoor | G75: Kantoorruimten | H75: Tapijt | I75: 22 | J75: 1 | K75: 156 | M75: =IF(K75="nio",0,IF(K75>0,K75*I75/O75,0))*J75 -> #DIV/0! | N75: =IF(L75>0,L75*I75/P75,0)*J75 -> 0 | O75: =IF(K75="nio",0,VLOOKUP(G75,'4. Productie normen'!A:J,HLOOKUP('5. Basis ruimtestaat'!K75,'4. Productie normen'!$10:$11,2,FALSE),FALSE)) -> 0 | P75: =IF(L75>0,O75*$P$8,0) -> 0 | Q75: =VLOOKUP(G75,'4. Productie normen'!$A:$L,12,FALSE) -> B | T75: =SUM(K75:L75)*I75 -> 3432
A76: 76 | B76: Amsterdam | C76: Naritaweg 150 | D76: 02 2e verdieping | E76: 2.18 | F76: Kantoor | G76: Kantoorruimten | H76: Tapijt | I76: 40.389999 | J76: 1 | K76: 156 | M76: =IF(K76="nio",0,IF(K76>0,K76*I76/O76,0))*J76 -> #DIV/0! | N76: =IF(L76>0,L76*I76/P76,0)*J76 -> 0 | O76: =IF(K76="nio",0,VLOOKUP(G76,'4. Productie normen'!A:J,HLOOKUP('5. Basis ruimtestaat'!K76,'4. Productie normen'!$10:$11,2,FALSE),FALSE)) -> 0 | P76: =IF(L76>0,O76*$P$8,0) -> 0 | Q76: =VLOOKUP(G76,'4. Productie normen'!$A:$L,12,FALSE) -> B | T76: =SUM(K76:L76)*I76 -> 6300.8399
A77: 77 | B77: Amsterdam | C77: Naritaweg 150 | D77: 02 2e verdieping | E77: 2.19 | F77: Kantoor | G77: Kantoorruimten | H77: Tapijt | I77: 16.93 | J77: 1 | K77: 156 | M77: =IF(K77="nio",0,IF(K77>0,K77*I77/O77,0))*J77 -> #DIV/0! | N77: =IF(L77>0,L77*I77/P77,0)*J77 -> 0 | O77: =IF(K77="nio",0,VLOOKUP(G77,'4. Productie normen'!A:J,HLOOKUP('5. Basis ruimtestaat'!K77,'4. Productie normen'!$10:$11,2,FALSE),FALSE)) -> 0 | P77: =IF(L77>0,O77*$P$8,0) -> 0 | Q77: =VLOOKUP(G77,'4. Productie normen'!$A:$L,12,FALSE) -> B | T77: =SUM(K77:L77)*I77 -> 2641.08
A78: 78 | B78: Amsterdam | C78: Naritaweg 150 | D78: 02 2e verdieping | E78: 2.20 | F78: Trap | G78: Trappenhuis | H78: Hout | I78: 8.1000004 | J78: 1 | K78: 255 | M78: =IF(K78="nio",0,IF(K78>0,K78*I78/O78,0))*J78 -> #DIV/0! | N78: =IF(L78>0,L78*I78/P78,0)*J78 -> 0 | O78: =IF(K78="nio",0,VLOOKUP(G78,'4. Productie normen'!A:J,HLOOKUP('5. Basis ruimtestaat'!K78,'4. Productie normen'!$10:$11,2,FALSE),FALSE)) -> 0 | P78: =IF(L78>0,O78*$P$8,0) -> 0 | Q78: =VLOOKUP(G78,'4. Productie normen'!$A:$L,12,FALSE) -> V | T78: =SUM(K78:L78)*I78 -> 2065.5001
A79: 79 | B79: Amsterdam | C79: Naritaweg 150 | D79: 02 2e verdieping | E79: 2.22 | G79: Gang/hal | H79: Tapijt | I79: 25.950001 | J79: 1 | K79: 255 | M79: =IF(K79="nio",0,IF(K79>0,K79*I79/O79,0))*J79 -> #DIV/0! | N79: =IF(L79>0,L79*I79/P79,0)*J79 -> 0 | O79: =IF(K79="nio",0,VLOOKUP(G79,'4. Productie normen'!A:J,HLOOKUP('5. Basis ruimtestaat'!K79,'4. Productie normen'!$10:$11,2,FALSE),FALSE)) -> 0 | P79: =IF(L79>0,O79*$P$8,0) -> 0 | Q79: =VLOOKUP(G79,'4. Productie normen'!$A:$L,12,FALSE) -> V | T79: =SUM(K79:L79)*I79 -> 6617.2502
A80: 80 | B80: Amsterdam | C80: Naritaweg 150 | D80: 02 2e verdieping | E80: 2.25 | F80: Gang | G80: Gang/hal | H80: PVC | I80: 7.5 | J80: 1 | K80: 255 | M80: =IF(K80="nio",0,IF(K80>0,K80*I80/O80,0))*J80 -> #DIV/0! | N80: =IF(L80>0,L80*I80/P80,0)*J80 -> 0 | O80: =IF(K80="nio",0,VLOOKUP(G80,'4. Productie normen'!A:J,HLOOKUP('5. Basis ruimtestaat'!K80,'4. Productie normen'!$10:$11,2,FALSE),FALSE)) -> 0 | P80: =IF(L80>0,O80*$P$8,0) -> 0 | Q80: =VLOOKUP(G80,'4. Productie normen'!$A:$L,12,FALSE) -> V | T80: =SUM(K80:L80)*I80 -> 1912.5
A81: 81 | B81: Amsterdam | C81: Naritaweg 150 | D81: 02 2e verdieping | E81: 2.29 | F81: Trappenhuis | G81: Trappenhuis | H81: Hout | I81: 16.25 | J81: 1 | K81: 255 | M81: =IF(K81="nio",0,IF(K81>0,K81*I81/O81,0))*J81 -> #DIV/0! | N81: =IF(L81>0,L81*I81/P81,0)*J81 -> 0 | O81: =IF(K81="nio",0,VLOOKUP(G81,'4. Productie normen'!A:J,HLOOKUP('5. Basis ruimtestaat'!K81,'4. Productie normen'!$10:$11,2,FALSE),FALSE)) -> 0 | P81: =IF(L81>0,O81*$P$8,0) -> 0 | Q81: =VLOOKUP(G81,'4. Productie normen'!$A:$L,12,FALSE) -> V | T81: =SUM(K81:L81)*I81 -> 4143.75
A82: 82 | B82: Amsterdam | C82: Naritaweg 150 | D82: 02 2e verdieping | E82: 2.3 | F82: Gang | G82: Gang/hal | H82: Tapijt | I82: 43.279999 | J82: 1 | K82: 255 | M82: =IF(K82="nio",0,IF(K82>0,K82*I82/O82,0))*J82 -> #DIV/0! | N82: =IF(L82>0,L82*I82/P82,0)*J82 -> 0 | O82: =IF(K82="nio",0,VLOOKUP(G82,'4. Productie normen'!A:J,HLOOKUP('5. Basis ruimtestaat'!K82,'4. Productie normen'!$10:$11,2,FALSE),FALSE)) -> 0 | P82: =IF(L82>0,O82*$P$8,0) -> 0 | Q82: =VLOOKUP(G82,'4. Productie normen'!$A:$L,12,FALSE) -> V | T82: =SUM(K82:L82)*I82 -> 11036.4
A83: 83 | B83: Amsterdam | C83: Naritaweg 150 | D83: 02 2e verdieping | E83: 2.30 | F83: Kantoor | G83: Kantoorruimten | H83: Tapijt | I83: 50.810001 | J83: 1 | K83: 156 | M83: =IF(K83="nio",0,IF(K83>0,K83*I83/O83,0))*J83 -> #DIV/0! | N83: =IF(L83>0,L83*I83/P83,0)*J83 -> 0 | O83: =IF(K83="nio",0,VLOOKUP(G83,'4. Productie normen'!A:J,HLOOKUP('5. Basis ruimtestaat'!K83,'4. Productie normen'!$10:$11,2,FALSE),FALSE)) -> 0 | P83: =IF(L83>0,O83*$P$8,0) -> 0 | Q83: =VLOOKUP(G83,'4. Productie normen'!$A:$L,12,FALSE) -> B | T83: =SUM(K83:L83)*I83 -> 7926.3602
A84: 84 | B84: Amsterdam | C84: Naritaweg 150 | D84: 02 2e verdieping | E84: 2.31 | F84: Kantoor | G84: Kantoorruimten | H84: Tapijt | I84: 51.939999 | J84: 1 | K84: 156 | M84: =IF(K84="nio",0,IF(K84>0,K84*I84/O84,0))*J84 -> #DIV/0! | N84: =IF(L84>0,L84*I84/P84,0)*J84 -> 0 | O84: =IF(K84="nio",0,VLOOKUP(G84,'4. Productie normen'!A:J,HLOOKUP('5. Basis ruimtestaat'!K84,'4. Productie normen'!$10:$11,2,FALSE),FALSE)) -> 0 | P84: =IF(L84>0,O84*$P$8,0) -> 0 | Q84: =VLOOKUP(G84,'4. Productie normen'!$A:$L,12,FALSE) -> B | T84: =SUM(K84:L84)*I84 -> 8102.6398
A85: 85 | B85: Amsterdam | C85: Naritaweg 150 | D85: 02 2e verdieping | E85: 2.32 | F85: Kantoortuin | G85: Kantoorruimten | H85: Tapijt | I85: 360 | J85: 1 | K85: 156 | M85: =IF(K85="nio",0,IF(K85>0,K85*I85/O85,0))*J85 -> #DIV/0! | N85: =IF(L85>0,L85*I85/P85,0)*J85 -> 0 | O85: =IF(K85="nio",0,VLOOKUP(G85,'4. Productie normen'!A:J,HLOOKUP('5. Basis ruimtestaat'!K85,'4. Productie normen'!$10:$11,2,FALSE),FALSE)) -> 0 | P85: =IF(L85>0,O85*$P$8,0) -> 0 | Q85: =VLOOKUP(G85,'4. Productie normen'!$A:$L,12,FALSE) -> B | T85: =SUM(K85:L85)*I85 -> 56160
A86: 86 | B86: Amsterdam | C86: Naritaweg 150 | D86: 02 2e verdieping | E86: 2.4 | F86: Kantoor | G86: Kantoorruimten | H86: Tapijt | I86: 31.4 | J86: 1 | K86: 156 | M86: =IF(K86="nio",0,IF(K86>0,K86*I86/O86,0))*J86 -> #DIV/0! | N86: =IF(L86>0,L86*I86/P86,0)*J86 -> 0 | O86: =IF(K86="nio",0,VLOOKUP(G86,'4. Productie normen'!A:J,HLOOKUP('5. Basis ruimtestaat'!K86,'4. Productie normen'!$10:$11,2,FALSE),FALSE)) -> 0 | P86: =IF(L86>0,O86*$P$8,0) -> 0 | Q86: =VLOOKUP(G86,'4. Productie normen'!$A:$L,12,FALSE) -> B | T86: =SUM(K86:L86)*I86 -> 4898.3999
A87: 87 | B87: Amsterdam | C87: Naritaweg 150 | D87: 02 2e verdieping | E87: 2.5 | F87: Kantoor | G87: Kantoorruimten | H87: Tapijt | I87: 32.41 | J87: 1 | K87: 156 | M87: =IF(K87="nio",0,IF(K87>0,K87*I87/O87,0))*J87 -> #DIV/0! | N87: =IF(L87>0,L87*I87/P87,0)*J87 -> 0 | O87: =IF(K87="nio",0,VLOOKUP(G87,'4. Productie normen'!A:J,HLOOKUP('5. Basis ruimtestaat'!K87,'4. Productie normen'!$10:$11,2,FALSE),FALSE)) -> 0 | P87: =IF(L87>0,O87*$P$8,0) -> 0 | Q87: =VLOOKUP(G87,'4. Productie normen'!$A:$L,12,FALSE) -> B | T87: =SUM(K87:L87)*I87 -> 5055.96
A88: 88 | B88: Amsterdam | C88: Naritaweg 150 | D88: 02 2e verdieping | E88: 2.6 | F88: Kantoor | G88: Kantoorruimten | H88: Tapijt | I88: 28.360001 | J88: 1 | K88: 156 | M88: =IF(K88="nio",0,IF(K88>0,K88*I88/O88,0))*J88 -> #DIV/0! | N88: =IF(L88>0,L88*I88/P88,0)*J88 -> 0 | O88: =IF(K88="nio",0,VLOOKUP(G88,'4. Productie normen'!A:J,HLOOKUP('5. Basis ruimtestaat'!K88,'4. Productie normen'!$10:$11,2,FALSE),FALSE)) -> 0 | P88: =IF(L88>0,O88*$P$8,0) -> 0 | Q88: =VLOOKUP(G88,'4. Productie normen'!$A:$L,12,FALSE) -> B | T88: =SUM(K88:L88)*I88 -> 4424.1601
A89: 89 | B89: Amsterdam | C89: Naritaweg 150 | D89: 02 2e verdieping | E89: 2.8 | F89: Herentoilet | G89: Sanitaire ruimten | H89: Tegels | I89: 9.0799999 | J89: 1 | K89: 255 | M89: =IF(K89="nio",0,IF(K89>0,K89*I89/O89,0))*J89 -> #DIV/0! | N89: =IF(L89>0,L89*I89/P89,0)*J89 -> 0 | O89: =IF(K89="nio",0,VLOOKUP(G89,'4. Productie normen'!A:J,HLOOKUP('5. Basis ruimtestaat'!K89,'4. Productie normen'!$10:$11,2,FALSE),FALSE)) -> 0 | P89: =IF(L89>0,O89*$P$8,0) -> 0 | Q89: =VLOOKUP(G89,'4. Productie normen'!$A:$L,12,FALSE) -> S | T89: =SUM(K89:L89)*I89 -> 2315.4
A90: 90 | B90: Amsterdam | C90: Naritaweg 150 | D90: 02 2e verdieping | E90: 2.9 | F90: Damestoilet | G90: Sanitaire ruimten | H90: Tegels | I90: 10.28 | J90: 1 | K90: 255 | M90: =IF(K90="nio",0,IF(K90>0,K90*I90/O90,0))*J90 -> #DIV/0! | N90: =IF(L90>0,L90*I90/P90,0)*J90 -> 0 | O90: =IF(K90="nio",0,VLOOKUP(G90,'4. Productie normen'!A:J,HLOOKUP('5. Basis ruimtestaat'!K90,'4. Productie normen'!$10:$11,2,FALSE),FALSE)) -> 0 | P90: =IF(L90>0,O90*$P$8,0) -> 0 | Q90: =VLOOKUP(G90,'4. Productie normen'!$A:$L,12,FALSE) -> S | T90: =SUM(K90:L90)*I90 -> 2621.3999
A91: 91 | B91: Amsterdam | C91: Naritaweg 150 | D91: Kelder | F91: Parkeergarage | G91: Parkeergarage | H91: Beton/steen | I91: 1600 | J91: 1 | K91: 6 | M91: =IF(K91="nio",0,IF(K91>0,K91*I91/O91,0))*J91 -> #DIV/0! | N91: =IF(L91>0,L91*I91/P91,0)*J91 -> 0 | O91: =IF(K91="nio",0,VLOOKUP(G91,'4. Productie normen'!A:J,HLOOKUP('5. Basis ruimtestaat'!K91,'4. Productie normen'!$10:$11,2,FALSE),FALSE)) -> 0 | P91: =IF(L91>0,O91*$P$8,0) -> 0 | Q91: =VLOOKUP(G91,'4. Productie normen'!$A:$L,12,FALSE) -> V | T91: =SUM(K91:L91)*I91 -> 9600
A92: 92 | B92: Apeldoorn | C92: Antillen 11 | D92: 00 Begane grond | E92: 0.01 | F92: Trap/gang | G92: Trappenhuis | H92: Tapijt | I92: 9.35 | J92: 1 | K92: 255 | M92: =IF(K92="nio",0,IF(K92>0,K92*I92/O92,0))*J92 -> #DIV/0! | N92: =IF(L92>0,L92*I92/P92,0)*J92 -> 0 | O92: =IF(K92="nio",0,VLOOKUP(G92,'4. Productie normen'!A:J,HLOOKUP('5. Basis ruimtestaat'!K92,'4. Productie normen'!$10:$11,2,FALSE),FALSE)) -> 0 | P92: =IF(L92>0,O92*$P$8,0) -> 0 | Q92: =VLOOKUP(G92,'4. Productie normen'!$A:$L,12,FALSE) -> V | T92: =SUM(K92:L92)*I92 -> 2384.25
A93: 93 | B93: Apeldoorn | C93: Antillen 11 | D93: 01 1e verdieping | E93: 1.01 | F93: Trap | G93: Trappenhuis | H93: Tapijt | I93: 4.73 | J93: 1 | K93: 255 | M93: =IF(K93="nio",0,IF(K93>0,K93*I93/O93,0))*J93 -> #DIV/0! | N93: =IF(L93>0,L93*I93/P93,0)*J93 -> 0 | O93: =IF(K93="nio",0,VLOOKUP(G93,'4. Productie normen'!A:J,HLOOKUP('5. Basis ruimtestaat'!K93,'4. Productie normen'!$10:$11,2,FALSE),FALSE)) -> 0 | P93: =IF(L93>0,O93*$P$8,0) -> 0 | Q93: =VLOOKUP(G93,'4. Productie normen'!$A:$L,12,FALSE) -> V | T93: =SUM(K93:L93)*I93 -> 1206.15
A94: 94 | B94: Apeldoorn | C94: Antillen 11 | D94: 01 1e verdieping | E94: 1.02 | F94: Wachtruimte | G94: Wachtruimten | H94: PVC | I94: 100.58 | J94: 1 | K94: 255 | M94: =IF(K94="nio",0,IF(K94>0,K94*I94/O94,0))*J94 -> #DIV/0! | N94: =IF(L94>0,L94*I94/P94,0)*J94 -> 0 | O94: =IF(K94="nio",0,VLOOKUP(G94,'4. Productie normen'!A:J,HLOOKUP('5. Basis ruimtestaat'!K94,'4. Productie normen'!$10:$11,2,FALSE),FALSE)) -> 0 | P94: =IF(L94>0,O94*$P$8,0) -> 0 | Q94: =VLOOKUP(G94,'4. Productie normen'!$A:$L,12,FALSE) -> V | T94: =SUM(K94:L94)*I94 -> 25647.9
A95: 95 | B95: Apeldoorn | C95: Antillen 11 | D95: 01 1e verdieping | E95: 1.03 | F95: Examenzaal | G95: Examenzaal | H95: Tapijt | I95: 118.54 | J95: 1 | K95: 255 | M95: =IF(K95="nio",0,IF(K95>0,K95*I95/O95,0))*J95 -> #DIV/0! | N95: =IF(L95>0,L95*I95/P95,0)*J95 -> 0 | O95: =IF(K95="nio",0,VLOOKUP(G95,'4. Productie normen'!A:J,HLOOKUP('5. Basis ruimtestaat'!K95,'4. Productie normen'!$10:$11,2,FALSE),FALSE)) -> 0 | P95: =IF(L95>0,O95*$P$8,0) -> 0 | Q95: =VLOOKUP(G95,'4. Productie normen'!$A:$L,12,FALSE) -> V | T95: =SUM(K95:L95)*I95 -> 30227.7
A96: 96 | B96: Apeldoorn | C96: Antillen 11 | D96: 01 1e verdieping | E96: 1.04 | F96: techniek | G96: Niet in onderhoud | H96: PVC | I96: 1.45 | J96: 1 | K96: nio | M96: =IF(K96="nio",0,IF(K96>0,K96*I96/O96,0))*J96 -> 0 | N96: =IF(L96>0,L96*I96/P96,0)*J96 -> 0 | O96: =IF(K96="nio",0,VLOOKUP(G96,'4. Productie normen'!A:J,HLOOKUP('5. Basis ruimtestaat'!K96,'4. Productie normen'!$10:$11,2,FALSE),FALSE)) -> 0 | P96: =IF(L96>0,O96*$P$8,0) -> 0 | Q96: =VLOOKUP(G96,'4. Productie normen'!$A:$L,12,FALSE) -> 0 | T96: =SUM(K96:L96)*I96 -> 0
A97: 97 | B97: Apeldoorn | C97: Antillen 11 | D97: 01 1e verdieping | E97: 1.05 | F97: Werkkast | G97: Niet in onderhoud | H97: Steen | I97: 3.37 | J97: 1 | K97: nio | M97: =IF(K97="nio",0,IF(K97>0,K97*I97/O97,0))*J97 -> 0 | N97: =IF(L97>0,L97*I97/P97,0)*J97 -> 0 | O97: =IF(K97="nio",0,VLOOKUP(G97,'4. Productie normen'!A:J,HLOOKUP('5. Basis ruimtestaat'!K97,'4. Productie normen'!$10:$11,2,FALSE),FALSE)) -> 0 | P97: =IF(L97>0,O97*$P$8,0) -> 0 | Q97: =VLOOKUP(G97,'4. Productie normen'!$A:$L,12,FALSE) -> 0 | T97: =SUM(K97:L97)*I97 -> 0
A98: 98 | B98: Apeldoorn | C98: Antillen 11 | D98: 01 1e verdieping | E98: 1.06 | F98: Bezoekerstoilet | G98: Sanitaire ruimten | H98: Steen | I98: 6.23 | J98: 1 | K98: 255 | M98: =IF(K98="nio",0,IF(K98>0,K98*I98/O98,0))*J98 -> #DIV/0! | N98: =IF(L98>0,L98*I98/P98,0)*J98 -> 0 | O98: =IF(K98="nio",0,VLOOKUP(G98,'4. Productie normen'!A:J,HLOOKUP('5. Basis ruimtestaat'!K98,'4. Productie normen'!$10:$11,2,FALSE),FALSE)) -> 0 | P98: =IF(L98>0,O98*$P$8,0) -> 0 | Q98: =VLOOKUP(G98,'4. Productie normen'!$A:$L,12,FALSE) -> S | T98: =SUM(K98:L98)*I98 -> 1588.65
A99: 99 | B99: Apeldoorn | C99: Antillen 11 | D99: 01 1e verdieping | E99: 1.07 | F99: Bezoekerstoilet | G99: Sanitaire ruimten | H99: Steen | I99: 6.33 | J99: 1 | K99: 255 | M99: =IF(K99="nio",0,IF(K99>0,K99*I99/O99,0))*J99 -> #DIV/0! | N99: =IF(L99>0,L99*I99/P99,0)*J99 -> 0 | O99: =IF(K99="nio",0,VLOOKUP(G99,'4. Productie normen'!A:J,HLOOKUP('5. Basis ruimtestaat'!K99,'4. Productie normen'!$10:$11,2,FALSE),FALSE)) -> 0 | P99: =IF(L99>0,O99*$P$8,0) -> 0 | Q99: =VLOOKUP(G99,'4. Productie normen'!$A:$L,12,FALSE) -> S | T99: =SUM(K99:L99)*I99 -> 1614.15
A100: 100 | B100: Apeldoorn | C100: Antillen 11 | D100: 01 1e verdieping | E100: 1.08 | F100: Toilet medewerkers | G100: Sanitaire ruimten | H100: Steen | I100: 7.25 | J100: 1 | K100: 255 | M100: =IF(K100="nio",0,IF(K100>0,K100*I100/O100,0))*J100 -> #DIV/0! | N100: =IF(L100>0,L100*I100/P100,0)*J100 -> 0 | O100: =IF(K100="nio",0,VLOOKUP(G100,'4. Productie normen'!A:J,HLOOKUP('5. Basis ruimtestaat'!K100,'4. Productie normen'!$10:$11,2,FALSE),FALSE)) -> 0 | P100: =IF(L100>0,O100*$P$8,0) -> 0 | Q100: =VLOOKUP(G100,'4. Productie normen'!$A:$L,12,FALSE) -> S | T100: =SUM(K100:L100)*I100 -> 1848.75
...

Sheet 6. Premies en opslagen
A1: Invoervelden
A3: Naam opdrachtgever | B3: =+Invulinstructie!D3 -> CBR
A4: Calculatie onderdeel | B4: 6-Premies en opslagen
A5: Gebouw/plaats | B5: =+'3a. Schoonmaak totaal'!B5 -> Landelijk
A6: Besteknummer | B6: =Mutatieblad!B4 -> CBR2026.001
A7: Naam dienstverlener | B7: =+Invulinstructie!D6 -> 0
A8: Prijspeil | B8: =+Invulinstructie!D5 -> 46235
A10: Sociale verzekeringen
C12: Bedrijfsgemiddelde
A13: WIA Basispremie
A14: WGA
A15: ZW-flex
A16: Transitievergoeding Wet werk en zekerheid reservering
A17: Totaal | C17: =SUM(C13:C16) -> 0
A19: WW premie- Algemeen Werkeloosheidsfonds (Awf)
A20: Wachtgeldfonds
A21: Zorgverzekeringswet (Zvw)
A22: OP/NP
A23: Pensioen overgangsregeling
A24: Kinderopvang
A25: RAS Heffing
A26: Totaal opslag sociale lasten | C26: =SUM(C17:C25) -> 0
A28: Sociale verzekeringen - Ouderdomspensioen (OP/NP)
C30: werkgeversdeel
A31: SV uurloon inclusief toeslagen
A32: Franchise OP-premie per uur | B32: Let op -/- bedrag
A33: Grondslag loon voor berekening OP premie
A34: Premie Ouderdomspensioen (OP)
A36: Effectieve OP premie | C36: =(C33/C31)*C34 -> #DIV/0!
A38: Berekening werkbaredagen
B40: Schoonmaak
A41: Aantal kalenderdagen
A42: Weekenddagen
A43: Werkdagen per jaar | B43: =B41-B42 -> 0
A45: Nat. feestdagen, kort verzuim, bijz. CAO
A46: Vakantiedagen
A47: Ziektedagen
A48: Vorstverlet
A49: Werkbare dagen per jaar | B49: =B43-SUM(B45:B48) -> 0
A51: Nat. feestdagen, kort verzuim, bijz CAO | B51: =IF(B45=0,0,B45/$B$49) -> 0
A52: Vakantiedagen | B52: =IF(B46=0,0,B46/$B$49) -> 0
A53: Ziektedagen | B53: =IF(B47=0,0,B47/$B$49) -> 0
A54: Vorstverlet | B54: =IF(B48=0,0,B48/$B$49) -> 0
A55: Totaal % opslag werkbare dagen | B55: =SUM(B51:B54) -> 0

Sheet 7a. Opbouw uurtarief productie
A1: Invoervelden
A3: Naam opdrachtgever | B3: =+Invulinstructie!D3 -> CBR
A4: Calculatie onderdeel | B4: 7a. Opbouw uurtarief productie
A5: Gebouw/plaats | B5: =+'3a. Schoonmaak totaal'!B5 -> Landelijk
A6: Besteknummer | B6: =Mutatieblad!B4 -> CBR2026.001
A7: Naam dienstverlener | B7: =+Invulinstructie!D6 -> 0
A8: Prijspeil | B8: =+Invulinstructie!D5 -> 46235
A10: Tariefopbouw per loongroep | E10: Gemiddeld tarief regulier onderhoud ma t/m vr | H10: Medewerker | I10: CAO basis uurlonen per 1 januari 2026
I11: 1 | J11: 2 | K11: 3 | L11: 4 | M11: 5 | N11: 6
A12: Basisuurloon | E12: =SUM(I44:N44) -> 0 | H12: 17 jaar en jonger | I12: 12 | J12: 12.43 | K12: 12.91 | L12: 13.55 | M12: 14.07 | N12: 14.78 | P12: Totaal indexering | Q12: =Q13*Q14*Q15*Q16 -> 1
A13: Specialistentoeslag | C13: Projectgebonden! | E13: 0 | H13: 18 jaar | I13: 12.74 | J13: 13.2 | K13: 13.71 | L13: 14.39 | M13: 14.94 | N13: 15.7 | P13: 2027 | Q13: 1
A14: Overgangsregeling | C14: Projectgebonden! | E14: 0 | H14: 19 jaar | I14: 13.49 | J14: 13.97 | K14: 14.51 | L14: 15.23 | M14: 15.82 | N14: 16.62 | P14: 2028 | Q14: 1
A15: Gevarentoeslag (indien van toepassing) | H15: Vakvolwassen 1 dienstjaar | I15: 15.52 | J15: 16.08 | K15: 16.7 | L15: 17.53 | M15: 18.2 | N15: 19.12 | P15: 2029 | Q15: 1
A16: Bruto uurloon | E16: =SUM(E12:E15) -> 0 | H16: Vakvolwassen 2 dienstjaren | I16: 16.08 | J16: 16.63 | K16: 17.3 | L16: 18.14 | M16: 18.82 | N16: 19.77 | P16: 2030 | Q16: 1
H17: Vakvolwassen 3 dienstjaren | I17: 16.55 | J17: 17.17 | K17: 17.84 | L17: 18.73 | M17: 19.45 | N17: 20.42
A18: Vakantietoeslag | E18: =$C18*E16 -> 0 | H18: Vakvolwassen 4 dienstjaren | I18: 17.05 | J18: 17.7 | K18: 18.44 | L18: 19.31 | M18: 20.06 | N18: 21.07
A19: Structurele eindejaarsuitkering | E19: =$C19*E16 -> 0
A20: Bruto uurloon inclusief toeslagen | E20: =SUM(E16:E19) -> 0 | F20: =IF(E20=0,0,E20/E$48) -> 0
A22: SV-loon grondslag voor berekening sociale verzekeringen | E22: =E20 -> 0 | H22: Medewerker | I22: Percentage per loongroep voor gemiddeld tarief
A23: Premies Sociale Verzekeringen | C23: [zie premies en opslagen] | I23: 1 | J23: 2 | K23: 3 | L23: 4 | M23: 5 | N23: 6
A24: Subtotaal loonkosten per uur inclusief sociale verzekeringen | E24: =E23+E20 -> 0 | F24: =IF(E24=0,0,E24/E$48) -> 0 | H24: 17 jaar en jonger
H25: 18 jaar
A26: Opslag niet werkbare dagen | C26: [zie premies en opslagen] | H26: 19 jaar
A27: Totaal loonkosten per uur | E27: =SUM(E24:E26) -> 0 | F27: =IF(E27=0,0,E27/E$48) -> 0 | H27: Vakvolwassen 1 dienstjaar | I27: 0
H28: Vakvolwassen 2 dienstjaren | J28: 0
A29: Materiaal/- en middelen | C29: Projectgebonden! | F29: 0 | H29: Vakvolwassen 3 dienstjaren
A30: Werkkleding en uitrusting | C30: Projectgebonden! | F30: 0 | H30: Vakvolwassen 4 dienstjaren | J30: 0
A31: Machinekosten | H31: Totaal per loongroepen | I31: =SUM(I24:I30) -> 0 | J31: =SUM(J24:J30) -> 0 | K31: =SUM(K24:K30) -> 0 | L31: =SUM(L24:L30) -> 0 | M31: =SUM(M24:M30) -> 0 | N31: =SUM(N24:N30) -> 0
A33: Totaal directe kosten | E33: =SUM(E27:E32) -> 0 | F33: =IF(E33=0,0,E33/E$48) -> 0
A35: Indirect toezicht | F35: 0 | H35: Medewerker | I35: Opbouw gemiddeld tarief | O35: =SUM(I31:N31) -> 0
A36: Managementkosten | F36: 0 | I36: 1 | J36: 2 | K36: 3 | L36: 4 | M36: 5 | N36: 6
A37: P.Z. kosten | F37: 0 | H37: 17 jaar en jonger | I37: =I24*I12 -> 0 | J37: =J24*J12 -> 0 | K37: =K24*K12 -> 0 | L37: =L24*L12 -> 0 | M37: =M24*M12 -> 0 | N37: =N24*N12 -> 0
A38: Opleiding | F38: 0 | H38: 18 jaar | I38: =I25*I13 -> 0 | J38: =J25*J13 -> 0 | K38: =K25*K13 -> 0 | L38: =L25*L13 -> 0 | M38: =M25*M13 -> 0 | N38: =N25*N13 -> 0
A39: Administratiekosten | F39: 0 | H39: 19 jaar | I39: =I26*I14 -> 0 | J39: =J26*J14 -> 0 | K39: =K26*K14 -> 0 | L39: =L26*L14 -> 0 | M39: =M26*M14 -> 0 | N39: =N26*N14 -> 0
A40: Huisvestingskosten | F40: 0 | H40: Vakvolwassen 1 dienstjaar | I40: =I27*I15 -> 0 | J40: =J27*J15 -> 0 | K40: =K27*K15 -> 0 | L40: =L27*L15 -> 0 | M40: =M27*M15 -> 0 | N40: =N27*N15 -> 0
A41: Reiskosten/autokosten | C41: Projectgebonden! | F41: 0 | H41: Vakvolwassen 2 dienstjaren | I41: =I28*I16 -> 0 | J41: =J28*J16 -> 0 | K41: =K28*K16 -> 0 | L41: =L28*L16 -> 0 | M41: =M28*M16 -> 0 | N41: =N28*N16 -> 0
A42: Kosten verzuimbegeleiding | F42: 0 | H42: Vakvolwassen 3 dienstjaren | I42: =I29*I17 -> 0 | J42: =J29*J17 -> 0 | K42: =K29*K17 -> 0 | L42: =L29*L17 -> 0 | M42: =M29*M17 -> 0 | N42: =N29*N17 -> 0
H43: Vakvolwassen 4 dienstjaren | I43: =I30*I18 -> 0 | J43: =J30*J18 -> 0 | K43: =K30*K18 -> 0 | L43: =L30*L18 -> 0 | M43: =M30*M18 -> 0 | N43: =N30*N18 -> 0
A44: Totaal indirecte kosten | E44: =SUM(E33:E43) -> 0 | F44: =IF(E44=0,0,E44/E$48) -> 0 | H44: Totaal per loongroepen | I44: =SUM(I37:I43) -> 0 | J44: =SUM(J37:J43) -> 0 | K44: =SUM(K37:K43) -> 0 | L44: =SUM(L37:L43) -> 0 | M44: =SUM(M37:M43) -> 0 | N44: =SUM(N37:N43) -> 0
A46: Risico en winst | F46: =(IF(E46=0,0,E46/E$48)) -> 0
A48: Totaal eindtarief normale werktijden [06.00-21.30 uur] | E48: =SUM(E44:E46)*Q12 -> 0 | F48: =SUM(F44:F47) -> 0
A50: Totaal eindtarief weekenden [incl. 50% toeslag] | E50: =(E$27*1.5)+($E$48-$E$27)*Q12 -> 0
A52: Totaal eindtarief feestdagen [incl. 150% toeslag] | E52: =(E$27*2.5)+($E$48-$E$27)*Q12 -> 0
A54: Gemiddeld voor za, zo en feestdagen | E54: =((E50*102)+(E52*9))/111*Q12 -> 0

Sheet 7b. Opbouw uurtarief toezicht
A1: Invoervelden
A3: Naam opdrachtgever | B3: =+Invulinstructie!D3 -> CBR
A4: Calculatie onderdeel | B4: 7b. Opbouw uurtarief toezicht
A5: Gebouw/plaats | B5: =+'3a. Schoonmaak totaal'!B5 -> Landelijk
A6: Besteknummer | B6: =Mutatieblad!B4 -> CBR2026.001
A7: Naam dienstverlener | B7: =+Invulinstructie!D6 -> 0
A8: Prijspeil | B8: =+Invulinstructie!D5 -> 46235
A10: Tariefopbouw per loongroep | E10: Gemiddeld tarief regulier onderhoud ma t/m vr | H10: Medewerker | I10: cao basis uurlonen per 1 januari 2026
I11: 1 | J11: 2 | K11: 3 | L11: 4 | M11: 5 | N11: 6
A12: Basisuurloon | E12: =SUM(I44:N44) -> 0 | H12: 17 jaar en jonger | I12: 12 | J12: 12.43 | K12: 12.91 | L12: 13.55 | M12: 14.07 | N12: 14.78
A13: Specialistentoeslag | C13: Projectgebonden! | E13: 0 | H13: 18 jaar | I13: 12.74 | J13: 13.2 | K13: 13.71 | L13: 14.39 | M13: 14.94 | N13: 15.7
A14: Overgangsregeling | C14: Projectgebonden! | E14: 0 | H14: 19 jaar | I14: 13.49 | J14: 13.97 | K14: 14.51 | L14: 15.23 | M14: 15.82 | N14: 16.62
A15: Gevarentoeslag (indien van toepassing) | H15: Vakvolwassen 1 dienstjaar | I15: 15.52 | J15: 16.08 | K15: 16.7 | L15: 17.53 | M15: 18.2 | N15: 19.12
A16: Bruto uurloon | E16: =SUM(E12:E15) -> 0 | H16: Vakvolwassen 2 dienstjaren | I16: 16.08 | J16: 16.63 | K16: 17.3 | L16: 18.14 | M16: 18.82 | N16: 19.77
H17: Vakvolwassen 3 dienstjaren | I17: 16.55 | J17: 17.17 | K17: 17.84 | L17: 18.73 | M17: 19.45 | N17: 20.42
A18: Vakantietoeslag | E18: =$C18*E16 -> 0 | H18: Vakvolwassen 4 dienstjaren | I18: 17.05 | J18: 17.7 | K18: 18.44 | L18: 19.31 | M18: 20.06 | N18: 21.07
A19: Structurele eindejaarsuitkering | E19: =$C19*E16 -> 0
A20: Bruto uurloon inclusief toeslagen | E20: =SUM(E16:E19) -> 0 | F20: =IF(E20=0,0,E20/E$48) -> 0
A22: SV-loon grondslag voor berekening sociale verzekeringen | E22: =E20 -> 0 | H22: Medewerker | I22: Percentage per loongroep voor gemiddeld tarief
A23: Premies Sociale Verzekeringen | C23: [zie premies en opslagen] | I23: 1 | J23: 2 | K23: 3 | L23: 4 | M23: 5 | N23: 6
A24: Subtotaal loonkosten per uur inclusief sociale verzekeringen | E24: =E23+E20 -> 0 | F24: =IF(E24=0,0,E24/E$48) -> 0 | H24: 17 jaar en jonger
H25: 18 jaar
A26: Opslag niet werkbare dagen | C26: [zie premies en opslagen] | H26: 19 jaar
A27: Totaal loonkosten per uur | E27: =SUM(E24:E26) -> 0 | F27: =IF(E27=0,0,E27/E$48) -> 0 | H27: Vakvolwassen 1 dienstjaar
H28: Vakvolwassen 2 dienstjaren
A29: Materiaal/- en middelen | C29: Projectgebonden! | E29: 0 | F29: 0 | H29: Vakvolwassen 3 dienstjaren
A30: Werkkleding en uitrusting | C30: Projectgebonden! | F30: 0 | H30: Vakvolwassen 4 dienstjaren
A31: Machinekosten | H31: Totaal per loongroepen | I31: =SUM(I24:I30) -> 0 | J31: =SUM(J24:J30) -> 0 | K31: =SUM(K24:K30) -> 0 | L31: =SUM(L24:L30) -> 0 | M31: =SUM(M24:M30) -> 0 | N31: =SUM(N24:N30) -> 0
A33: Totaal directe kosten | E33: =SUM(E27:E32) -> 0 | F33: =IF(E33=0,0,E33/E$48) -> 0
A35: Indirect toezicht | F35: 0 | H35: Medewerker | I35: Opbouw gemiddeld tarief | O35: =SUM(I31:N31) -> 0
A36: Managementkosten | F36: 0 | I36: 1 | J36: 2 | K36: 3 | L36: 4 | M36: 5 | N36: 6
A37: P.Z. kosten | F37: 0 | H37: 17 jaar en jonger | I37: =I24*I12 -> 0 | J37: =J24*J12 -> 0 | K37: =K24*K12 -> 0 | L37: =L24*L12 -> 0 | M37: =M24*M12 -> 0 | N37: =N24*N12 -> 0
A38: Opleiding | F38: 0 | H38: 18 jaar | I38: =I25*I13 -> 0 | J38: =J25*J13 -> 0 | K38: =K25*K13 -> 0 | L38: =L25*L13 -> 0 | M38: =M25*M13 -> 0 | N38: =N25*N13 -> 0
A39: Administratiekosten | F39: 0 | H39: 19 jaar | I39: =I26*I14 -> 0 | J39: =J26*J14 -> 0 | K39: =K26*K14 -> 0 | L39: =L26*L14 -> 0 | M39: =M26*M14 -> 0 | N39: =N26*N14 -> 0
A40: Huisvestingskosten | F40: 0 | H40: Vakvolwassen 1 dienstjaar | I40: =I27*I15 -> 0 | J40: =J27*J15 -> 0 | K40: =K27*K15 -> 0 | L40: =L27*L15 -> 0 | M40: =M27*M15 -> 0 | N40: =N27*N15 -> 0
A41: Reiskosten/autokosten | C41: Projectgebonden! | F41: 0 | H41: Vakvolwassen 2 dienstjaren | I41: =I28*I16 -> 0 | J41: =J28*J16 -> 0 | K41: =K28*K16 -> 0 | L41: =L28*L16 -> 0 | M41: =M28*M16 -> 0 | N41: =N28*N16 -> 0
A42: Kosten verzuimbegeleiding | F42: 0 | H42: Vakvolwassen 3 dienstjaren | I42: =I29*I17 -> 0 | J42: =J29*J17 -> 0 | K42: =K29*K17 -> 0 | L42: =L29*L17 -> 0 | M42: =M29*M17 -> 0 | N42: =N29*N17 -> 0
H43: Vakvolwassen 4 dienstjaren | I43: =I30*I18 -> 0 | J43: =J30*J18 -> 0 | K43: =K30*K18 -> 0 | L43: =L30*L18 -> 0 | M43: =M30*M18 -> 0 | N43: =N30*N18 -> 0
A44: Totaal indirecte kosten | E44: =SUM(E33:E43) -> 0 | F44: =IF(E44=0,0,E44/E$48) -> 0 | H44: Totaal per loongroepen | I44: =SUM(I37:I43) -> 0 | J44: =SUM(J37:J43) -> 0 | K44: =SUM(K37:K43) -> 0 | L44: =SUM(L37:L43) -> 0 | M44: =SUM(M37:M43) -> 0 | N44: =SUM(N37:N43) -> 0
A46: Risico en winst | F46: =(IF(E46=0,0,E46/E$48)) -> 0
A48: Totaal eindtarief normale werktijden [06.00-21.30 uur] | E48: =SUM(E44:E46)*'7a. Opbouw uurtarief productie'!Q12 -> 0 | F48: =SUM(F44:F47) -> 0
A50: Totaal eindtarief weekenden [incl. 50% toeslag] | E50: 51.747341
A52: Totaal eindtarief feestdagen [incl. 150% toeslag] | E52: 82.822204
A54: Gemiddeld voor za, zo en feestdagen | E54: 64.356383

Sheet 8. Regietarieven
A1: Invoervelden
A3: Naam opdrachtgever | B3: =+Invulinstructie!D3 -> CBR
A4: Calculatie onderdeel | B4: 8-Regietarieven
A5: Gebouw/plaats | B5: =+'3a. Schoonmaak totaal'!B5 -> Landelijk
A6: Besteknummer | B6: =Mutatieblad!B4 -> CBR2026.001
A7: Naam dienstverlener | B7: =+Invulinstructie!D6 -> 0
A8: Prijspeil | B8: =+Invulinstructie!D5 -> 46235
A11: Vloerenonderhoud (inclusief uit-/inruimen van het meubilair)
C13: Prijs p/m² excl. btw
A14: Activiteit | B14: Toelichting | C14: 0-100m² | D14: 101-500m² | E14: 501-1000m² | F14: > 1000m²
A15: Lino-/marmoleum conserveren | B15: 2 lagen | C15: 0 | D15: 0 | E15: 0 | F15: 0
A16: Lino-/marmoleum sprayen | B16: geheel | C16: 0 | D16: 0 | E16: 0 | F16: 0
A17: Steen/PVC schrobben | B17: geheel | C17: 0 | D17: 0 | E17: 0 | F17: 0
A18: Tapijt sproeiextraheren | B18: geheel | C18: 0 | D18: 0 | E18: 0 | F18: 0
A20: Reinigen Meubel en interieur
E22: Prijs p/stuk excl. btw
A23: Apparatuur/onderdeel | B23: Toelichting | E23: Aantal stuks 0-50 | F23: Aantal stuks > 50
A24: Bureaustoel | E24: 0 | F24: 0
A25: Overige stoel | E25: 0 | F25: 0
A26: Bank/fauteuil | E26: 0 | F26: 0
A27: Tuinmeubilair | E27: 0 | F27: 0
A29: Reinigen bureau-electronica reinigen
E31: Prijs p/stuk excl. btw
A32: Apparatuur/onderdeel | B32: Toelichting | E32: Aantal stuks 0-50 | F32: Aantal stuks > 50
A33: Systeemkast | B33: Inschuimen en afnemen. | E33: 0 | F33: 0
A34: Monitor | B34: Buitenzijde afnemen met speciale doek | E34: 0 | F34: 0
A35: Toetsenbord inclusief muis | B35: Uitzuigen en inschuimen | E35: 0 | F35: 0
A36: Printer klein | B36: Buitenzijde afnemen met speciale doek | E36: 0 | F36: 0
A37: Printer groot | B37: Buitenzijde afnemen met speciale doek | E37: 0 | F37: 0
A39: Reinigen raambekleding
A41: Apparatuur/onderdeel | B41: Toelichting | F41: Prijs p/ m2 excl. btw
A42: Lamellen/luxaflex | F42: 0
A43: Overige binnenzonwering | F43: 0
A45: Specialistische schoonmaak
C46: Prijs p/m2 excl. btw
A47: Activiteit | B47: Toelichting | C47: 0-100m² | D47: 101-500m² | E47: 501-1000m² | F47: > 1000m²
A48: Dieptereiniging sanitaire ruimte | B48: Middels stoomreiniging | C48: 0 | D48: 0 | E48: 0 | F48: 0
A49: Dieptereiniging keuken | C49: 0 | D49: 0 | E49: 0 | F49: 0
A52: Buitenterreinen en parkeerterreinen
C53: Prijs per beurt excl. btw
A54: Activiteit | B54: Toelichting
A55: Zwerfafval, peuken en overige vervuiling | B55: Per locatie | F55: 0
A58: Regietarieven
A60: Activiteit | B60: Toelichting | F60: Prijs p/uur excl. btw
A61: Schoonmaakonderhoud | B61: Maandag - Vrijdag | F61: 0
A62: Schoonmaakonderhoud | B62: Zaterdag - zondag (incl. 50% toeslag) | F62: 0
A63: Schoonmaakonderhoud | B63: Feestdagen (incl. 150% toeslag) | F63: 0
A66: Activiteit | B66: Toelichting | F66: Prijs p/ m2 excl. btw
A67: Glazenwasserswerkzaamheden | B67: Maandag - Vrijdag | F67: 0
A68: Glazenwasserswerkzaamheden | B68: Zaterdag - zondag | F68: 0
A70: Opmerking:
A71: Alle prijzen inclusief materialen en middelen, voorrijkosten en overige bijkomende kosten.
A72: Mits anders aangegeven is de uitvoering op reguliere werktijden: maandag t/m vrijdag [06.00 en 21.30 uur]

Sheet 9. Machinekosten
A1: Invoervelden
A3: Naam opdrachtgever | B3: =+Invulinstructie!D3 -> CBR
A4: Calculatie onderdeel | B4: 9. Machinekosten
A5: Gebouw/plaats | B5: =+'3a. Schoonmaak totaal'!B5 -> Landelijk
A6: Besteknummer | B6: =Mutatieblad!B4 -> CBR2026.001
A7: Naam dienstverlener | B7: =+Invulinstructie!D6 -> 0
A8: Prijspeil | B8: =+Invulinstructie!D5 -> 46235
A10: Locatie / kostenplaats | B10: Machine | C10: Catalogus prijs | D10: Korting | E10: Netto aanschaf prijs | F10: Afschrijvings termijn in jaren | G10: Restwaarde | H10: Afschrijvings kosten per jaar | I10: Onderhouds kosten per jaar | J10: Renteverlies per jaar | K10: Verzekerings kosten per jaar | M10: Totaal kosten per jaar per machine | O10: Inzet van het aantal machines [stuks] | P10: Totaal kosten per jaar
A11: Percentage
E12: =C12-D12 -> 0 | H12: =IF(F12=0,0,(E12-G12)/F12) -> 0 | I12: =C12*$I$11 -> 0 | J12: =C12*$J$11 -> 0 | K12: =C12*$K$11 -> 0 | M12: =SUM(H12:K12) -> 0 | P12: =M12*'7a. Opbouw uurtarief productie'!$Q$12*O12 -> 0
E13: =C13-D13 -> 0 | H13: =IF(F13=0,0,(E13-G13)/F13) -> 0 | I13: =C13*$I$11 -> 0 | J13: =C13*$J$11 -> 0 | K13: =C13*$K$11 -> 0 | M13: =SUM(H13:K13) -> 0 | P13: =M13*'7a. Opbouw uurtarief productie'!$Q$12*O13 -> 0
E14: =C14-D14 -> 0 | H14: =IF(F14=0,0,(E14-G14)/F14) -> 0 | I14: =C14*$I$11 -> 0 | J14: =C14*$J$11 -> 0 | K14: =C14*$K$11 -> 0 | M14: =SUM(H14:K14) -> 0 | P14: =M14*'7a. Opbouw uurtarief productie'!$Q$12*O14 -> 0
E15: =C15-D15 -> 0 | H15: =IF(F15=0,0,(E15-G15)/F15) -> 0 | I15: =C15*$I$11 -> 0 | J15: =C15*$J$11 -> 0 | K15: =$K$11*C15 -> 0 | M15: =SUM(H15:K15) -> 0 | P15: =M15*'7a. Opbouw uurtarief productie'!$Q$12*O15 -> 0
E16: =C16-D16 -> 0 | H16: =IF(F16=0,0,(E16-G16)/F16) -> 0 | I16: =C16*$I$11 -> 0 | J16: =C16*$J$11 -> 0 | K16: =$K$11*C16 -> 0 | M16: =SUM(H16:K16) -> 0 | P16: =M16*'7a. Opbouw uurtarief productie'!$Q$12*O16 -> 0
E17: =C17-D17 -> 0 | H17: =IF(F17=0,0,(E17-G17)/F17) -> 0 | I17: =C17*$I$11 -> 0 | J17: =C17*$J$11 -> 0 | K17: =$K$11*C17 -> 0 | M17: =SUM(H17:K17) -> 0 | P17: =M17*'7a. Opbouw uurtarief productie'!$Q$12*O17 -> 0
E18: =C18-D18 -> 0 | H18: =IF(F18=0,0,(E18-G18)/F18) -> 0 | I18: =C18*$I$11 -> 0 | J18: =C18*$J$11 -> 0 | K18: =$K$11*C18 -> 0 | M18: =SUM(H18:K18) -> 0 | P18: =M18*'7a. Opbouw uurtarief productie'!$Q$12*O18 -> 0
E19: =C19-D19 -> 0 | H19: =IF(F19=0,0,(E19-G19)/F19) -> 0 | I19: =C19*$I$11 -> 0 | J19: =C19*$J$11 -> 0 | K19: =$K$11*C19 -> 0 | M19: =SUM(H19:K19) -> 0 | P19: =M19*'7a. Opbouw uurtarief productie'!$Q$12*O19 -> 0
E20: =C20-D20 -> 0 | H20: =IF(F20=0,0,(E20-G20)/F20) -> 0 | I20: =C20*$I$11 -> 0 | J20: =C20*$J$11 -> 0 | K20: =$K$11*C20 -> 0 | M20: =SUM(H20:K20) -> 0 | P20: =M20*'7a. Opbouw uurtarief productie'!$Q$12*O20 -> 0
E21: =C21-D21 -> 0 | H21: =IF(F21=0,0,(E21-G21)/F21) -> 0 | I21: =C21*$I$11 -> 0 | J21: =C21*$J$11 -> 0 | K21: =$K$11*C21 -> 0 | M21: =SUM(H21:K21) -> 0 | P21: =M21*'7a. Opbouw uurtarief productie'!$Q$12*O21 -> 0
E22: =C22-D22 -> 0 | H22: =IF(F22=0,0,(E22-G22)/F22) -> 0 | I22: =C22*$I$11 -> 0 | J22: =C22*$J$11 -> 0 | K22: =$K$11*C22 -> 0 | M22: =SUM(H22:K22) -> 0 | P22: =M22*'7a. Opbouw uurtarief productie'!$Q$12*O22 -> 0
E23: =C23-D23 -> 0 | H23: =IF(F23=0,0,(E23-G23)/F23) -> 0 | I23: =C23*$I$11 -> 0 | J23: =C23*$J$11 -> 0 | K23: =$K$11*C23 -> 0 | M23: =SUM(H23:K23) -> 0 | P23: =M23*'7a. Opbouw uurtarief productie'!$Q$12*O23 -> 0
A25: Totaal | O25: =SUM(O12:O23) -> 0 | P25: =SUM(P12:P23) -> 0

Sheet 10. Glasbewassing
A1: Invoervelden
A3: Naam opdrachtgever | B3: CBR
A4: Versienummer | B4: =Invulinstructie!D4 -> V1.0
A5: Prijspeil | B5: 46235
A6: Leverancier | B6: 0
A10: GLASBEWASSING
A12: Locatie | B12: Adres | C12: Soort glas | D12: M2 | E12: Frequentie | F12: Prijs/m2 incl. bereikbaarheidsvoorzieningen | G12: Totaalprijs per jaar excl. BTW
A14: Alkmaar | B14: Olympiaweg 28 | C14: Buitengevelglas | D14: 113.53 | E14: 6 | F14: 0 | G14: =+D14*E14*F14 -> 0
A15: Alkmaar | B15: Olympiaweg 28 | C15: Binnengevelglas | D15: 106.28 | E15: 4 | F15: 0 | G15: =+D15*E15*F15 -> 0
A16: Alkmaar | B16: Olympiaweg 28 | C16: Separatieglas | D16: 55.43 | E16: 4 | F16: 0 | G16: =+D16*E16*F16 -> 0
A17: Alkmaar | B17: Olympiaweg 28 | C17: Overig glas | D17: 3.35 | E17: 2 | F17: 0 | G17: =+D17*E17*F17 -> 0
A18: Almelo | B18: Bedrijvenpark Twente 305 | C18: Buitengevelglas | D18: Verhuurder | E18: Verhuurder
A19: Almelo | B19: Bedrijvenpark Twente 305 | C19: Binnengevelglas | D19: 32.74 | E19: 4 | F19: 0 | G19: =+D19*E19*F19 -> 0
A20: Almelo | B20: Bedrijvenpark Twente 305 | C20: Separatieglas | D20: 3.59 | E20: 4 | F20: 0 | G20: =+D20*E20*F20 -> 0
A21: Amsterdam | B21: Naritaweg 150 | C21: Buitengevelglas | D21: 344.19 | E21: 6 | F21: 0 | G21: =+D21*E21*F21 -> 0
A22: Amsterdam | B22: Naritaweg 150 | C22: Binnengevelglas | D22: 341.39 | E22: 4 | F22: 0 | G22: =+D22*E22*F22 -> 0
A23: Amsterdam | B23: Naritaweg 150 | C23: Separatieglas | D23: 267.99 | E23: 4 | F23: 0 | G23: =+D23*E23*F23 -> 0
A24: Amsterdam | B24: Naritaweg 150 | C24: Overig glas | D24: 200 | E24: 2
A25: Apeldoorn | B25: Antillen 11 | C25: Buitengevelglas | D25: Verhuurder | E25: Verhuurder
A26: Apeldoorn | B26: Antillen 11 | C26: Binnengevelglas | D26: 34.51 | E26: 4 | F26: 0 | G26: =+D26*E26*F26 -> 0
A27: Apeldoorn | B27: Antillen 11 | C27: Separatieglas | D27: 8.12 | E27: 4 | F27: 0 | G27: =+D27*E27*F27 -> 0
A28: Arnhem (Hazenkamp) | B28: Hazenkamp 10 | C28: Buitengevelglas | D28: 489.67 | E28: 6 | F28: 0 | G28: =+D28*E28*F28 -> 0
A29: Arnhem (Hazenkamp) | B29: Hazenkamp 10 | C29: Binnengevelglas | D29: 489.67 | E29: 4 | F29: 0 | G29: =+D29*E29*F29 -> 0
A30: Arnhem (Hazenkamp) | B30: Hazenkamp 10 | C30: Separatieglas | D30: 213.81 | E30: 4 | F30: 0 | G30: =+D30*E30*F30 -> 0
A31: Arnhem (Wassenaarweg) | B31: Wassenaarweg 20 | C31: Buitengevelglas | D31: 514.3 | E31: 6 | F31: 0 | G31: =+D31*E31*F31 -> 0
A32: Arnhem (Wassenaarweg) | B32: Wassenaarweg 20 | C32: Binnengevelglas | D32: 542.92 | E32: 4 | F32: 0 | G32: =+D32*E32*F32 -> 0
A33: Arnhem (Wassenaarweg) | B33: Wassenaarweg 20 | C33: Separatieglas | D33: 248.4 | E33: 4 | F33: 0 | G33: =+D33*E33*F33 -> 0
A34: Arnhem (Bovenbeekstraat) | B34: Bovenbeekstraat 26a | C34: Buitengevelglas | D34: 82.14 | E34: 6 | F34: 0 | G34: =+D34*E34*F34 -> 0
A35: Arnhem (Bovenbeekstraat) | B35: Bovenbeekstraat 26a | C35: Binnengevelglas | D35: 68.2 | E35: 4 | F35: 0 | G35: =+D35*E35*F35 -> 0
A36: Arnhem (Bovenbeekstraat) | B36: Bovenbeekstraat 26a | C36: Separatieglas | D36: 35.3 | E36: 4 | F36: 0 | G36: =+D36*E36*F36 -> 0
A37: Assen (1/Aziëweg) | B37: Aziëweg 25 | C37: Buitengevelglas | D37: 109.36 | E37: 6 | F37: 0 | G37: =+D37*E37*F37 -> 0
... A45: Barendrecht | B45: Zwaalweg 1 | C45: Separatieglas | D45: 71.97 | E45: 4 | F45: 0 | G45: =+D45*E45*F45 -> 0
A46: Bergen op Zoom | B46: Gagelboslaan 162 | C46: Buitengevelglas | D46: Verhuurder | E46: Verhuurder
A47: Bergen op Zoom | B47: Gagelboslaan 162 | C47: Binnengevelglas | D47: 36.83 | E47: 4 | F47: 0 | G47: =+D47*E47*F47 -> 0
A48: Bergen op Zoom | B48: Gagelboslaan 162 | C48: Separatieglas | D48: 32.53 | E48: 4 | F48: 0 | G48: =+D48*E48*F48 -> 0
A49: Berkel Enschot | B49: Bosscheweg 11 | C49: Buitengevelglas | D49: Verhuurder | E49: Verhuurder
A50: Berkel Enschot | B50: Bosscheweg 11 | C50: Binnengevelglas | D50: Verhuurder | E50: Verhuurder
A51: Berkel Enschot | B51: Bosscheweg 11 | C51: Separatieglas | D51: Verhuurder | E51: Verhuurder
A52: Breda (Breepark) | B52: Bavelseparklaan 16 | C52: Buitengevelglas | D52: 161.27 | E52: 6 | F52: 0 | G52: =+D52*E52*F52 -> 0
A53: Breda (Breepark) | B53: Bavelseparklaan 16 | C53: Binnengevelglas | D53: 161.27 | E53: 4 | F53: 0 | G53: =+D53*E53*F53 -> 0
A54: Breda (Breepark) | B54: Bavelseparklaan 16 | C54: Separatieglas | D54: 205.26 | E54: 4 | F54: 0 | G54: =+D54*E54*F54 -> 0
A55: Breda (Breepark) | B55: Bavelseparklaan 16 | C55: Overig glas | D55: 12.74 | E55: 2 | F55: 0 | G55: =+D55*E55*F55 -> 0
A56: Breda (Stationsplein) | B56: Stationsplein 42 | C56: Buitengevelglas | D56: 81.34 | E56: 6 | F56: 0 | G56: =+D56*E56*F56 -> 0
A57: Breda (Stationsplein) | B57: Stationsplein 42 | C57: Binnengevelglas | D57: 81.34 | E57: 4 | F57: 0 | G57: =+D57*E57*F57 -> 0
A58: Breda (Stationsplein) | B58: Stationsplein 42 | C58: Separatieglas | D58: 125.21 | E58: 4 | F58: 0 | G58: =+D58*E58*F58 -> 0
A59: Den Bosch | B59: Hambakenwetering 13A | C59: Buitengevelglas | D59: Verhuurder | E59: Verhuurder
A60: Den Bosch | B60: Hambakenwetering 13A | C60: Binnengevelglas | D60: 85 | E60: 4 | F60: 0 | G60: =+D60*E60*F60 -> 0
A61: Den Bosch | B61: Hambakenwetering 13A | C61: Separatieglas | D61: 24 | E61: 4 | F61: 0 | G61: =+D61*E61*F61 -> 0
A62: Den Helder | B62: Nijverheidsweg 8C | C62: Buitengevelglas | D62: Verhuurder | E62: Verhuurder
A63: Den Helder | B63: Nijverheidsweg 8C | C63: Binnengevelglas | D63: 39.96 | E63: 4 | F63: 0 | G63: =+D63*E63*F63 -> 0
A64: Den Helder | B64: Nijverheidsweg 8C | C64: Separatieglas | D64: 15.28 | E64: 4 | F64: 0 | G64: =+D64*E64*F64 -> 0
A65: Deventer | B65: Duisburgstraat 10 | C65: Buitengevelglas | D65: 119.5 | E65: 6 | F65: 0 | G65: =+D65*E65*F65 -> 0
A66: Deventer | B66: Duisburgstraat 10 | C66: Binnengevelglas | D66: 119.5 | E66: 4 | F66: 0 | G66: =+D66*E66*F66 -> 0
A67: Deventer | B67: Duisburgstraat 10 | C67: Separatieglas | D67: 70.45 | E67: 4 | F67: 0 | G67: =+D67*E67*F67 -> 0
A68: Deventer | B68: Duisburgstraat 10 | C68: Overig glas | D68: 18 | E68: 2 | F68: 0 | G68: =+D68*E68*F68 -> 0
A69: Doetinchem | B69: Koopmanslaan 3 | C69: Buitengevelglas | D69: 63.94 | E69: 6 | F69: 0 | G69: =+D69*E69*F69 -> 0
A70: Doetinchem | B70: Koopmanslaan 3 | C70: Binnengevelglas | D70: 63.94 | E70: 4 | F70: 0 | G70: =+D70*E70*F70 -> 0
A71: Doetinchem | B71: Koopmanslaan 3 | C71: Separatieglas | D71: 8.42 | E71: 4 | F71: 0 | G71: =+D71*E71*F71 -> 0
A72: Dordrecht | B72: Egstraat 4 | C72: Buitengevelglas | D72: 100.9 | E72: 6 | F72: 0 | G72: =+D72*E72*F72 -> 0
A73: Dordrecht | B73: Egstraat 4 | C73: Binnengevelglas | D73: 100.9 | E73: 4 | F73: 0 | G73: =+D73*E73*F73 -> 0
A74: Dordrecht | B74: Egstraat 4 | C74: Separatieglas | D74: 33.08 | E74: 4 | F74: 0 | G74: =+D74*E74*F74 -> 0
... A82: Eindhoven | B82: Hoevenweg 20 | C82: Overig glas | D82: 34 | E82: 2 | F82: 0 | G82: =+D82*E82*F82 -> 0
A83: Emmeloord | B83: Het Hooivled 9 | C83: Buitengevelglas | D83: Verhuurder | E83: Verhuurder
A84: Emmeloord | B84: Het Hooivled 9 | C84: Binnengevelglas | D84: Verhuurder | E84: Verhuurder
A85: Emmeloord | B85: Het Hooivled 9 | C85: Separatieglas | D85: Verhuurder | E85: Verhuurder
A86: Emmen | B86: Nijbracht 112 | C86: Buitengevelglas | D86: 48.3 | E86: 6 | F86: 0 | G86: =+D86*E86*F86 -> 0
A87: Emmen | B87: Nijbracht 112 | C87: Binnengevelglas | D87: 48.3 | E87: 4 | F87: 0 | G87: =+D87*E87*F87 -> 0
A88: Emmen | B88: Nijbracht 112 | C88: Separatieglas | D88: 7.32 | E88: 4 | F88: 0 | G88: =+D88*E88*F88 -> 0
A89: Goes | B89: M.A. de Ruijterlaan 2 | C89: Buitengevelglas | D89: Verhuurder | E89: Verhuurder
A90: Goes | B90: M.A. de Ruijterlaan 2 | C90: Binnengevelglas | D90: Verhuurder | E90: Verhuurder
A91: Goes | B91: M.A. de Ruijterlaan 2 | C91: Separatieglas | D91: Verhuurder | E91: Verhuurder
A92: Gouda | B92: Zwolleweg 10 | C92: Buitengevelglas | D92: 123.01 | E92: 4 | F92: 0 | G92: =+D92*E92*F92 -> 0
A93: Gouda | B93: Zwolleweg 10 | C93: Binnengevelglas | D93: 123.01 | E93: 4 | F93: 0 | G93: =+D93*E93*F93 -> 0
A94: Gouda | B94: Zwolleweg 10 | C94: Separatieglas | D94: 9.82 | E94: 4 | F94: 0 | G94: =+D94*E94*F94 -> 0
A95: Groningen | B95: Protonstraat 3 | C95: Buitengevelglas | D95: 105.94 | E95: 6 | F95: 0 | G95: =+D95*E95*F95 -> 0
A96: Groningen | B96: Protonstraat 3 | C96: Binnengevelglas | D96: 105.94 | E96: 4 | F96: 0 | G96: =+D96*E96*F96 -> 0
A97: Groningen | B97: Protonstraat 3 | C97: Separatieglas | D97: 68.28 | E97: 4 | F97: 0 | G97: =+D97*E97*F97 -> 0
A98: Haarlem | B98: Prof. Eijkmanlaan 2 | C98: Buitengevelglas | D98: 241.5 | E98: 6 | F98: 0 | G98: =+D98*E98*F98 -> 0
A99: Haarlem | B99: Prof. Eijkmanlaan 2 | C99: Binnengevelglas | D99: 241.5 | E99: 4 | F99: 0 | G99: =+D99*E99*F99 -> 0
A100: Haarlem | B100: Prof. Eijkmanlaan 2 | C100: Separatieglas | D100: 127.06 | E100: 4 | F100: 0 | G100: =+D100*E100*F100 -> 0
A101: Harderwijk | B101: Tesselschadelaan 1 | C101: Buitengevelglas | D101: Verhuurder | E101: Verhuurder
A102: Harderwijk | B102: Tesselschadelaan 1 | C102: Binnengevelglas | D102: Verhuurder | E102: Verhuurder
A103: Harderwijk | B103: Tesselschadelaan 1 | C103: Separatieglas | D103: Verhuurder | E103: Verhuurder
A104: Heerenveen / Nijehaske | B104: Bussinesspark Friesland-West 41 | C104: Buitengevelglas | D104: Verhuurder | E104: Verhuurder
A105: Heerenveen / Nijehaske | B105: Bussinesspark Friesland-West 41 | C105: Binnengevelglas | D105: 37 | E105: 4 | F105: 0 | G105: =+D105*E105*F105 -> 0
A106: Heerenveen / Nijehaske | B106: Bussinesspark Friesland-West 41 | C106: Separatieglas | D106: 33.81 | E106: 4 | F106: 0 | G106: =+D106*E106*F106 -> 0
A107: Hengelo | B107: Jan Tinbergenstraat 115 | C107: Buitengevelglas | D107: Verhuurder | E107: Verhuurder
A108: Hengelo | B108: Jan Tinbergenstraat 115 | C108: Binnengevelglas | D108: 71.85 | E108: 4 | F108: 0 | G108: =+D108*E108*F108 -> 0
A109: Hengelo | B109: Jan Tinbergenstraat 115 | C109: Separatieglas | D109: 118.81 | E109: 4 | F109: 0 | G109: =+D109*E109*F109 -> 0
A110: Herten (Roermond) | B110: Oude Trambaan 27b | C110: Buitengevelglas | D110: 62.88 | E110: 6 | F110: 0 | G110: =+D110*E110*F110 -> 0
A111: Herten (Roermond) | B111: Oude Trambaan 27b | C111: Binnengevelglas | D111: 53.64 | E111: 4 | F111: 0 | G111: =+D111*E111*F111 -> 0
A112: Herten (Roermond) | B112: Oude Trambaan 27b | C112: Separatieglas | D112: 0.8 | E112: 4 | F112: 0 | G112: =+D112*E112*F112 -> 0
A113: Hoogeveen | B113: Grote Beer 20 | C113: Buitengevelglas | D113: Verhuurder | E113: Verhuurder
A114: Hoogeveen | B114: Grote Beer 20 | C114: Binnengevelglas | D114: Verhuurder | E114: Verhuurder
A115: Hoogeveen | B115: Grote Beer 20 | C115: Separatieglas | D115: Verhuurder | E115: Verhuurder
A116: Hoorn | B116: Holenweg 14 G | C116: Buitengevelglas | D116: Verhuurder | E116: Verhuurder
A117: Hoorn | B117: Holenweg 14 G | C117: Binnengevelglas | D117: 25.06 | E117: 6 | F117: 0 | G117: =+D117*E117*F117 -> 0
A118: Hoorn | B118: Holenweg 14 G | C118: Separatieglas | D118: 9.8 | E118: 6 | F118: 0 | G118: =+D118*E118*F118 -> 0
A119: Kerkrade | B119: Spekhofstraat 24 | C119: Buitengevelglas | D119: 23.92 | E119: 6 | F119: 0 | G119: =+D119*E119*F119 -> 0
A120: Kerkrade | B120: Spekhofstraat 24 | C120: Binnengevelglas | D120: 23.92 | E120: 4 | F120: 0 | G120: =+D120*E120*F120 -> 0
...

Sheet 11. Sanitaire voorzieningen
A1: Invoervelden
A3: Naam opdrachtgever | B3: CBR
A4: Versienummer | B4: =Invulinstructie!D4 -> V1.0
A5: Prijspeil | B5: 46235
A6: Leverancier | B6: 0
A10: SANITAIRE VOORZIENINGEN
A12: Soort dispenser | B12: Aantallen | C12: Huurprijs per maand | D12: Totaalprijs per jaar excl. BTW
A14: Handdoekdispenser papier | B14: 92 | C14: 0 | D14: =B14*C14 -> 0
A15: Geurdispenser | B15: 248 | C15: 0 | D15: =B15*C15 -> 0
A16: Dameshygienecontainer | B16: 241 | C16: 0 | D16: =B16*C16 -> 0
A17: Papierbak klein | B17: 109 | C17: 0 | D17: =B17*C17 -> 0
A18: Papierbak groot | B18: 27 | C18: 0 | D18: =B18*C18 -> 0
A19: Toiletbrilreinigingsdispenser | B19: 370 | C19: 0 | D19: =B19*C19 -> 0
A20: Zeepdispenser | B20: 331 | C20: 0 | D20: =B20*C20 -> 0
A21: Toiletborstel incl. houder | B21: 346 | C21: 0 | D21: =B21*C21 -> 0
A22: Toiletborstel incl. houder luxe | B22: 42 | C22: 0 | D22: =B22*C22 -> 0
A23: Toiletroldispenser | B23: 399 | C23: 0 | D23: =B23*C23 -> 0
A24: Handdoekroldispenser dubbel | B24: 138 | C24: 0 | D24: =B24*C24 -> 0
A25: Handdoekroldispenser enkel | B25: 134 | C25: 0 | D25: =B25*C25 -> 0
A26: Mat Sparkling Grey (Afroep november-februari) | B26: 37 | C26: 0 | D26: =B26*C26 -> 0
A28: TOTAALPRIJS PER JAAR | D28: =SUM(D14:D26) -> 0
A31: Soort dispenser | B31: Merk en productlijn | C31: Omschrijving verbruiksartikelen
A33: Handdoekdispenser papier
A34: Geurdispenser
A35: Dameshygienecontainer
A36: Papierbak klein
A37: Papierbak groot
A38: Toiletbrilreinigingsdispenser
A39: Zeepdispenser
A40: Toiletborstel incl. houder
A41: Toiletborstel incl. houder luxe
A42: Toiletroldispenser
A43: Handdoekroldispenser dubbel
A44: Handdoekroldispenser enkel
A45: Mat Sparkling Grey (Afroep november-februari)

Sheet 12. Ongediertebestrijding
A1: Invoervelden
A3: Naam opdrachtgever | B3: CBR
A4: Versienummer | B4: =Invulinstructie!D4 -> V1.0
A5: Prijspeil | B5: 46235
A6: Leverancier | B6: 0
A10: ONGEDIERTEBESTRIJDING
A12: Locatie | B12: Adres | C12: Grootte locatie | D12: Preventieve bestrijding ja/nee | E12: Frequentie | F12: Prijs per beurt | G12: Totaalprijs per jaar excl. BTW
A14: Alkmaar | B14: Olympiaweg 28 | D14: Ja | E14: 12 | F14: 0 | G14: =E14*F14 -> 0
A15: Almelo | B15: Bedrijvenpark Twente 305 | D15: Nee | E15: -
A16: Amsterdam | B16: Naritaweg 150 | D16: Ja | E16: 12 | F16: 0 | G16: =E16*F16 -> 0
A17: Apeldoorn | B17: Antillen 11 | D17: Nee | E17: -
A18: Arnhem (Hazenkamp) | B18: Hazenkamp 10 | D18: Ja | E18: 12 | F18: 0 | G18: =E18*F18 -> 0
A19: Arnhem (Wassenaarweg) | B19: Wassenaarweg 20 | D19: Ja | E19: 12 | F19: 0 | G19: =E19*F19 -> 0
A20: Arnhem (Bovenbeekstraat) | B20: Bovenbeekstraat 26a | D20: Ja | E20: 12 | F20: 0 | G20: =E20*F20 -> 0
A21: Assen (1/Aziëweg) | B21: Aziëweg 25 | D21: Ja | E21: 12 | F21: 0 | G21: =E21*F21 -> 0
A22: Assen (2/Overcingellaan) | B22: Overcingellaan 13 | D22: Ja | E22: 12 | F22: 0 | G22: =E22*F22 -> 0
A23: Barendrecht | B23: Zwaalweg 1 | D23: Ja | E23: 12 | F23: 0 | G23: =E23*F23 -> 0
A24: Bergen op Zoom | B24: Gagelboslaan 162 | D24: Nee | E24: -
A25: Berkel Enschot | B25: Bosscheweg 11 | D25: Nee | E25: -
A26: Breda (Breepark) | B26: Bavelseparklaan 16 | D26: Ja | E26: 12 | F26: 0 | G26: =E26*F26 -> 0
A27: Breda (Stationsplein) | B27: Stationsplein 42 | D27: Ja | E27: 12 | F27: 0 | G27: =E27*F27 -> 0
A28: Den Bosch | B28: Hambakenwetering 13A | D28: Ja | E28: 12 | F28: 0 | G28: =E28*F28 -> 0
A29: Den Helder | B29: Nijverheidsweg 8C | D29: Ja | E29: 12 | F29: 0 | G29: =E29*F29 -> 0
A30: Deventer | B30: Duisburgstraat 10 | D30: Nee | E30: -
A31: Doetinchem | B31: Koopmanslaan 3 | D31: Nee | E31: -
A32: Dordrecht | B32: Egstraat 4 | D32: Ja | E32: 12 | F32: 0 | G32: =E32*F32 -> 0
A33: Eemnes | B33: Bramenberg 6 | D33: Nee | E33: -
A34: Eindhoven | B34: Hoevenweg 20 | D34: Ja | E34: 12 | F34: 0 | G34: =E34*F34 -> 0
A35: Emmeloord | B35: Het Hooivled 9 | D35: Nee | E35: -
A36: Emmen | B36: Nijbracht 112 | D36: Nee | E36: -
A37: Goes | B37: M.A. de Ruijterlaan 2 | D37: Nee | E37: -
A38: Gouda | B38: Zwolleweg 10 | D38: Nee | E38: -
A39: Groningen | B39: Protonstraat 3 | D39: Ja | E39: 12 | F39: 0 | G39: =E39*F39 -> 0
A40: Haarlem | B40: Prof. Eijkmanlaan 2 | D40: Ja | E40: 12 | F40: 0 | G40: =E40*F40 -> 0
A41: Harderwijk | B41: Tesselschadelaan 1 | D41: Nee | E41: -
A42: Heerenveen / Nijehaske | B42: Bussinesspark Friesland-West 41 | D42: Nee | E42: -
A43: Hengelo | B43: Jan Tinbergenstraat 115 | D43: Ja | E43: 12 | F43: 0 | G43: =E43*F43 -> 0
A44: Herten (Roermond) | B44: Oude Trambaan 27b | D44: Nee | E44: -
A45: Hoogeveen | B45: Grote Beer 20 | D45: Nee | E45: -
A46: Hoorn | B46: Holenweg 14 G | D46: Nee | E46: -
A47: Kerkrade | B47: Spekhofstraat 24 | D47: Nee | E47: -
A48: Leeuwarden | B48: Douwe Tammingawei 30 | D48: Ja | E48: 12 | F48: 0 | G48: =E48*F48 -> 0
A49: Leiden | B49: Smaragdlaan 99a | D49: Nee | E49: -
A50: Leusden | B50: Fokkerstraat 21 | D50: Ja | E50: 12 | F50: 0 | G50: =E50*F50 -> 0
A51: Meppel | B51: Blankenstein 230 | D51: Nee | E51: -
A52: Mierlo (Helmond) | B52: Geldropseweg 10 | D52: Nee | E52: -
A53: Nijmegen | B53: Wijchenseweg 2 | D53: Ja | E53: 12 | F53: 0 | G53: =E53*F53 -> 0
A54: Rijswijk 30 (HQ) | B54: Lange Kleiweg 30 | D54: Ja | E54: 12 | F54: 0 | G54: =E54*F54 -> 0
A55: Rijswijk 54 | B55: Lange Kleiweg 54 (b.g.) | D55: Nee | E55: -
A56: Rijswijk 60 | B56: Lange Kleiweg 60 | D56: Nee | E56: -
A57: Rijswijk 62 | B57: Lange Kleiweg 62 (5e) | D57: Nee | E57: -
A58: Roermond | B58: Hamstraat 37 | D58: Ja | E58: 12 | F58: 0 | G58: =E58*F58 -> 0
A59: Ritthem (Vlissingen) | B59: Marie Curieweg 5b | D59: Nee | E59: -
A60: Rotterdam | B60: Noorderbocht 25 | D60: Ja | E60: 12 | F60: 0 | G60: =E60*F60 -> 0
A61: Schelluinen/Gorinchem | B61: Sportlaan 2a | D61: Nee | E61: -
A62: Sneek | B62: Smidsstraat 6 | D62: Nee | E62: -
A63: Spijkenisse | B63: Einsteinweg 6 | D63: Nee | E63: -
A64: Terneuzen | B64: Handelspoort 3a | D64: Nee | E64: -
A65: Tiel | B65: Stephensonstraat 25 | D65: Ja | E65: 12 | F65: 0 | G65: =E65*F65 -> 0
A66: Urmond | B66: Mauritslaan 49 | D66: Nee | E66: -
A67: Utrecht | B67: Mississippidreef 151A | D67: Ja | E67: 12 | F67: 0 | G67: =E67*F67 -> 0
A68: Venlo (1/Atoniusplein) | B68: Antoniusplein 2 | D68: Nee | E68: -
A69: Venlo (2/Parlevinkerweg) | B69: Parlevinkerweg 1 | D69: Nee | E69: -
A70: Weert | B70: Risseweg 46 | D70: Nee | E70: -
A71: Winschoten | B71: Zeefbaan 20A | D71: Nee | E71: -
A72: Zaandam | B72: Kuilpad 1 | D72: Ja | E72: 12 | F72: 0 | G72: =E72*F72 -> 0
A73: Zoetermeer | B73: Zilverstraat 40 | D73: Nee | E73: -
A74: Zwolle | B74: Branderweg 15 | D74: Nee | E74: -
A76: TOTAALPRIJS PER JAAR | G76: =SUM(G14:G74) -> 0
