Workbook
Name \0: #REF!
Name \1: #REF!
Name \A: #REF!
Name \B: #REF!
Name \C: #REF!
Name \D: #REF!
Name \E: #REF!
Name \F: #REF!
Name \G: #REF!
Name \H: #REF!
Name \I: #REF!
Name \M: #REF!
Name \N: #REF!
Name \P: #REF!
Name \S: #REF!
Name \W: #REF!
Name \X: #REF!
Name _________DAT1: #REF!
Name _________DAT10: #REF!
Name _________DAT11: #REF!
Name _________DAT12: #REF!
Name _________DAT13: #REF!
Name _________DAT14: #REF!
Name _________DAT2: #REF!
Name _________DAT3: #REF!
Name _________DAT4: #REF!
Name _________DAT5: #REF!
Name _________DAT6: #REF!
Name _________DAT7: #REF!
Name _________DAT8: #REF!
Name _________DAT9: #REF!
Name ________DAT1: #REF!
Name ________DAT10: #REF!
Name ________DAT11: #REF!
Name ________DAT12: #REF!
Name ________DAT13: #REF!
Name ________DAT14: #REF!
Name ________DAT2: #REF!
Name ________DAT3: #REF!
Name ________DAT4: #REF!
Name ________DAT5: #REF!
Name ________DAT6: #REF!
Name ________DAT7: #REF!
Name ________DAT8: #REF!
Name ________DAT9: #REF!
Name _______DAT1: #REF!
Name _______DAT10: #REF!
Name _______DAT11: #REF!
Name _______DAT12: #REF!
Name _______DAT13: #REF!
Name _______DAT14: #REF!
Name _______DAT2: #REF!
Name _______DAT3: #REF!
Name _______DAT4: #REF!
Name _______DAT5: #REF!
Name _______DAT6: #REF!
Name _______DAT7: #REF!
Name _______DAT8: #REF!
Name _______DAT9: #REF!
Name ______DAT1: #REF!

Sheet Invulinstructie
C3: Naam opdrachtgever | D3: CBR
C4: Versienummer | D4: V1.0
C5: Prijspeil | D5: 46235
C6: Leverancier
C8: INSTRUCTIES VOOR HET INVULLEN VAN HET PRIJZENBLAD
C10: Algemeen | D10: - Inschrijver dient de tarieven in te vullen in het Prijzenblad zoals dat door Opdrachtgever is opgesteld en dit in te dienen bij het aanleveren van de Inschrijving. - Het Prijzenblad dient u (rechtsgeldig ondertekend) als pdf-document in te dienen en tevens in Excel format. Bij eventuele verschillen tussen deze documenten gaan wij uit van de prijzen zoals ingediend in het pdf-document. - Alle prijzen en tarieven zijn gebaseerd op de uitvraag, zie specifiek (maar niet uitsluitend) het Programma van Eisen. - Inschrijver dient enkel de lichtblauwe cellen in te vullen. - Inschrijver brengt geen wijzigen aan in het Prijzenblad (uitgezonderd natuurlijk het vak voor ondertekening en de in te vullen prijzen en tarieven). - Prijzen en tarieven zijn opgegeven in Euro's en exclusief BTW, tenzij ook om prijzen inclusief btw wordt gevraagd. - Prijzen en tarieven zijn "all-in" en op het prijspeil augustus 2026. - De prijzen en tarieven die in het Prijzenblad worden ingevuld zijn redelijk en marktconform (reëel). Niet reële tarieven en prijzen kunnen leiden tot een ongeldige inschrijving. - Het indienen van €0,- of negatieve prijzen of tarieven is niet toegestaan. - De begrotingen zijn gebaseerd op 255 werkbare dagen of zoveel werkdagen als is aangegeven. - Inschrijver kan aan de gegeven aantallen in dit Prijzenblad geen rechten ontlenen. Voor het werkelijk te betalen factuurbedrag hebben de fictieve aantallen geen betekenis. De fictieve aantallen worden alleen gehanteerd voor het berekenen van het aantal punten voor het gunningscriterium Prijs.
C11: 1. Ondertekening | D11: Inschrijver dient dit tabblad in te vullen en rechtsgeldig te ondertekenen.
C12: 2. Totaalbegroting | D12: Deze totaalbegroting wordt automatisch gegenereerd op basis van de tabbladen in dit Prijzenblad.
C13: 3a. Schoonmaak totaal | D13: Het totaal voor schoonmaak wordt automatisch gegenereerd op basis van tabblad 3b (Schoonmaak per locatie) en tabblad 9 (Machinekosten). Inschrijver vult cel E16 om het percentage leiding en toezicht te bepalen.
C14: 3b. Schoonmaak per locatie | D14: Dit tabblad wordt automatisch gegenereerd op basis van de tabbladen in dit Prijzenblad.
C15: 4. Productienormen | D15: - Inschrijver vult de productienormen in per ruimtecategorie en opleverfrequentie.
C16: 5. Basis ruimtestaat | D16: Tabblad 'Basis ruimtestaat' wordt automatisch ingevuld op basis van de opgegeven productienormen. Inschrijver kan in kolom J een correctiefactor gebruiken om de betreffende productienorm in een bepaalde ruimte aan te passen.
C17: 6. Premies en opslagen | D17: - Inschrijver vult hier de sociale verzekeringen en de berekening werkbare dagen in. - Hetgeen Inschrijver hier invult wordt meegenomen in de berekening van tabblad 7a en 7b. Opbouw uurtarief.
C18: 7a en 7b. Opbouw uurtarief productie en opbouw uurtarief toezicht | D18: - Inschrijver vult hier alle lichtblauwe cellen in t.b.v. het opbouwen van het uurtarief productie en leiding/toezicht. - De uurtarieven zijn gebaseerd op de van toepassing zijnde cao. - De uurtarieven worden gedurende de contractperiode (exclusief eventuele indexeringen) gebruikt voor alle reguliere inzet die door Inschrijver voor Opdrachtgever.
C19: 8. Regietarieven | D19: Inschrijver vult in de lichtblauwe cellen diverse tarieven in voor regiewerkzaamheden.
C20: 9. Machinekosten | D20: 'Inschrijver vult in de lichtblauwe cellen alle benodigde gegevens in ten behoeve van de inzet van machines >800 euro aanschafkosten. Machinekosten onder 800 euro dienen verdisconteerd te zitten in de uurtarieven.
C21: 10. Glasbewassing | D21: Inschrijver vult in de lichtblauwe cellen een prijs/m2 incl. bereikbaarheidsvoorzieningen in voor de diverse locaties en glassoorten.
... C23: 12. Ongediertebestrijding | D23: Inschrijver vult in de lichtblauwe cellen een prijs per beurt per locatie voor een preventieve inspectie t.b.v. ongediertebestrijding in.

Sheet 1. Ondertekening
C3: Naam opdrachtgever | D3: =+Invulinstructie!D3 -> CBR
C4: Versienummer | D4: =+Invulinstructie!D4 -> V1.0
C5: Prijspeil | D5: =+Invulinstructie!D5 -> 46235
C6: Leverancier | D6: =Invulinstructie!D6 -> 0
C10: RECHTSGELDIGE ONDERTEKENING*
C12: Organisatienaam
C15: Naam tekeningsbevoegde functionaris
C18: Functie tekeningsbevoegde functionaris
C21: Handtekening
C27: * Door het indienen van het Prijzenblad verklaart Inschrijver dat deze zich volledig conformeert aan het Beschrijvend Document inclusief bijlagen. Tevens accepteert Inschrijver eventuele wijzigingen/ aanvullingen zoals opgenomen in de Nota('s) van Inlichtingen en gaat ermee akkoord dat de hierin opgenomen wijzigingen/ aanvullingen prevaleren boven hetgeen bepaald in eerder genoemde Beschrijvend Document inclusief bijlagen. Door het indienen van het Prijzenblad verklaart Inschrijver tevens dat de Inschrijving volledig is gebaseerd op en voldoet aan de bepalingen in de eerder genoemde Beschrijvend Document, Programma van Eisen, Nota('s) van Inlichtingen en de eigen beantwoording van de gunningscriteria. Alle kosten gerelateerd aan de uitvoering van de beantwoording van de gunningscriteria worden geacht in de aangeboden prijzen te zijn verdisconteerd. Inschrijver verklaart met het indienen van het Prijzenblad dat de door hem geoffreerde prijzen en tarieven zonder voorbehoud zijn.

Sheet 2. Totaalbegroting
C3: Naam opdrachtgever | D3: CBR
C4: Versienummer | D4: =Invulinstructie!D4 -> V1.0
C5: Prijspeil | D5: 46235
C6: Leverancier | D6: 0
C10: TOTAAL BEGROTING
C12: Onderdeel | E12: Totaal
C14: 3a. Schoonmaak totaal (+9.Machinekosten) | D14: Contractjaarprijs | E14: =+'3a. Schoonmaak totaal'!I33 -> #DIV/0!
C15: 10. Glasbewassing | D15: Contractjaarprijs | E15: ='10. Glasbewassing'!G223 -> 0
C16: 11. Sanitaire voorzieningen | D16: Contractjaarprijs | E16: ='11. Sanitaire voorzieningen'!D28 -> 0
C17: 12. Ongediertebestrijding | D17: Contractjaarprijs | E17: 0
E18: 0
D19: Contractjaarprijs | E19: 0
C21: TOTALE (FICTIEVE) INSCHRIJFPRIJS | E21: =SUM(E14:E19) -> #DIV/0!
C26: Score prijs: | D26: =MAX(0,MIN(300,((2200000-E21)/(2200000-1200000))*300)) -> #DIV/0!

Sheet Mutatieblad
A1: Naam opdrachtgever | B1: =#REF! -> #REF!
A2: Calculatie onderdeel | B2: Mutatieblad
A3: Gebouw/plaats | B3: =#REF! -> #REF!
A4: Besteknummer | B4: CBR2026.001
A5: Naam dienstverlener | B5: =#REF! -> #REF!
A6: Prijspeil | B6: 46204
A9: MUTATIE DATUM | B9: Versie nummer | C9: Locatie/ Kostenplaats | D9: Soort mutaties | E9: Verdieping | F9: Ruimte nummer | G9: Ruimteomschrijving opdrachtgever | H9: Ruimte categorie

Sheet 3a. Schoonmaak totaal
A1: Invoervelden
A3: Naam opdrachtgever | B3: =+Invulinstructie!D3 -> CBR
A4: Calculatie onderdeel | B4: 3a-Contractblad Totaal
A5: Gebouw/plaats | B5: Landelijk
A6: Besteknummer | B6: =Mutatieblad!B4 -> CBR2026.001
A7: Versienummer | B7: =+Invulinstructie!D4 -> V1.0
A8: Naam dienstverlener | B8: =+Invulinstructie!D6 -> 0
A9: Prijspeil | B9: =Mutatieblad!B6 -> 46204
A11: Jaarprijs regulier schoonmaakonderhoud
A13: Categorie/medewerker | E13: Percentage | F13: Aantal uren per jaar | G13: Gemiddeld tarief | I13: Prijs per jaar
A14: Medewerker schoonmaak | B14: maandag t/m vrijdag | C14: 06:00 - 21:30 uur | E14: 1 | F14: =SUM('5. Basis ruimtestaat'!M:N)*E14 -> #DIV/0! | G14: ='7a. Opbouw uurtarief productie'!E48 -> 0 | I14: =G14*F14 -> #DIV/0!
A16: Medewerker leiding | B16: maandag t/m vrijdag | C16: 06:00 - 21:30 uur | F16: =SUM(F14:F14)*E16 -> #DIV/0! | G16: ='7b. Opbouw uurtarief toezicht'!E48 -> 0 | I16: =G16*F16 -> #DIV/0!
A18: Gemiddeld tarief inclusief toezicht | B18: maandag t/m vrijdag | C18: 06:00 - 21:30 uur | G18: =SUM(I14+I16)/F14 -> #DIV/0!
I19: Prijspeil 2026
A20: TOTAAL KOSTEN PER JAAR EXCLUSIEF BTW (REGULIER ONDERHOUD) | I20: =SUM(I14:I18) -> #DIV/0!
A21: B.T.W. | G21: 0.21 | I21: =G21*I20 -> #DIV/0!
A22: Totale kosten per jaar inclusief B.T.W. | I22: =I21+I20 -> #DIV/0!
A24: Jaarprijs aanvullende werzaamheden / extra kosten
A27: Machinekosten | B27: Tabblad 9 | I27: ='9. Machinekosten'!P25 -> 0
A29: TOTAAL KOSTEN PER JAAR EXCLUSIEF BTW (AANVULLENDE WERKZAAMHEDEN / EXTRA KOSTEN) | I29: =SUM(I25:I28) -> 0
A30: B.T.W. | G30: 0.21 | I30: =G30*I29 -> 0
A31: Totale kosten per jaar inclusief B.T.W. | I31: =I29+I30 -> 0
A33: EINDTOTAAL KOSTEN PER JAAR EXCLUSIEF BTW | I33: =I29+I20 -> #DIV/0!
A34: B.T.W. | G34: 0.21 | I34: =G34*I33 -> #DIV/0!
A35: Totale kosten per jaar inclusief B.T.W. | I35: =I33+I34 -> #DIV/0!

Sheet 3b. Schoonmaak per locatie
A1: Naam opdrachtgever | B1: =+Invulinstructie!D3 -> CBR
A2: Calculatie onderdeel | B2: 3b-Kosten per locatie
A3: Gebouw/plaats | B3: =+'3a. Schoonmaak totaal'!B5 -> Landelijk
A4: Besteknummer | B4: =Mutatieblad!B4 -> CBR2026.001
A5: Naam dienstverlener | B5: =+Invulinstructie!D6 -> 0
A6: Prijspeil | B6: =+Invulinstructie!D5 -> 46235
E8: Productie uren en kosten per jaar | J8: Toezicht uren en kosten per jaar | L8: Totaal kosten per jaar/maand
A9: Locatie/ Kostenplaats | B9: Adres | C9: Totaal m2 | D9: Hoogste opleverfrequentie | E9: Productie uren per jaar ma t/m vr | F9: Productie uren per jaar ma t/m vr naloop | G9: Toeslag minimale taakgrootte 255 uren/jaar | H9: Totaal productie uren per jaar ma t/m vr | I9: Productie kosten per jaar | J9: Toezicht uren per jaar ma t/m vr | K9: Toezicht kosten per jaar Ma tm/ Vr | L9: Totaal kosten per jaar excl. btw | M9: Totaal kosten per maand excl. btw
A10: Alkmaar | B10: Olympiaweg 28 | C10: =SUMIF('5. Basis ruimtestaat'!B:I,A10,'5. Basis ruimtestaat'!I:I) -> 608 | D10: 255 | E10: =SUMIF('5. Basis ruimtestaat'!B:M,'3b. Schoonmaak per locatie'!A10,'5. Basis ruimtestaat'!uren_mavr) -> #DIV/0! | F10: =SUMIF('5. Basis ruimtestaat'!B:P,'3b. Schoonmaak per locatie'!A10,'5. Basis ruimtestaat'!N:N) -> #DIV/0! | G10: =IF(E10+F10<D10,D10-(E10+F10),0) -> #DIV/0! | H10: =SUM(E10:G10) -> #DIV/0! | I10: =H10*'3a. Schoonmaak totaal'!$G$14 -> #DIV/0! | J10: =H10*'3a. Schoonmaak totaal'!$E$16 -> #DIV/0! | K10: =J10*'3a. Schoonmaak totaal'!$G$16 -> #DIV/0! | L10: =I10+K10 -> #DIV/0! | M10: =+L10/12 -> #DIV/0!
A11: Almelo | B11: Bedrijvenpark Twente 305 | C11: =SUMIF('5. Basis ruimtestaat'!B:I,A11,'5. Basis ruimtestaat'!I:I) -> 159.77 | D11: 255 | E11: =SUMIF('5. Basis ruimtestaat'!B:M,'3b. Schoonmaak per locatie'!A11,'5. Basis ruimtestaat'!uren_mavr) -> #DIV/0! | F11: =SUMIF('5. Basis ruimtestaat'!B:P,'3b. Schoonmaak per locatie'!A11,'5. Basis ruimtestaat'!N:N) -> 0 | G11: =IF(E11+F11<D11,D11-(E11+F11),0) -> #DIV/0! | H11: =SUM(E11:G11) -> #DIV/0! | I11: =H11*'3a. Schoonmaak totaal'!$G$14 -> #DIV/0! | J11: =H11*'3a. Schoonmaak totaal'!$E$16 -> #DIV/0! | K11: =J11*'3a. Schoonmaak totaal'!$G$16 -> #DIV/0! | L11: =I11+K11 -> #DIV/0! | M11: =+L11/12 -> #DIV/0!
A12: Amsterdam | B12: Naritaweg 150 | C12: =SUMIF('5. Basis ruimtestaat'!B:I,A12,'5. Basis ruimtestaat'!I:I) -> 3915.42 | D12: 255 | E12: =SUMIF('5. Basis ruimtestaat'!B:M,'3b. Schoonmaak per locatie'!A12,'5. Basis ruimtestaat'!uren_mavr) -> #DIV/0! | F12: =SUMIF('5. Basis ruimtestaat'!B:P,'3b. Schoonmaak per locatie'!A12,'5. Basis ruimtestaat'!N:N) -> #DIV/0! | G12: =IF(E12+F12<D12,D12-(E12+F12),0) -> #DIV/0! | H12: =SUM(E12:G12) -> #DIV/0! | I12: =H12*'3a. Schoonmaak totaal'!$G$14 -> #DIV/0! | J12: =H12*'3a. Schoonmaak totaal'!$E$16 -> #DIV/0! | K12: =J12*'3a. Schoonmaak totaal'!$G$16 -> #DIV/0! | L12: =I12+K12 -> #DIV/0! | M12: =+L12/12 -> #DIV/0!
A13: Apeldoorn | B13: Antillen 11 | C13: =SUMIF('5. Basis ruimtestaat'!B:I,A13,'5. Basis ruimtestaat'!I:I) -> 320.83 | D13: 255 | E13: =SUMIF('5. Basis ruimtestaat'!B:M,'3b. Schoonmaak per locatie'!A13,'5. Basis ruimtestaat'!uren_mavr) -> #DIV/0! | F13: =SUMIF('5. Basis ruimtestaat'!B:P,'3b. Schoonmaak per locatie'!A13,'5. Basis ruimtestaat'!N:N) -> 0 | G13: =IF(E13+F13<D13,D13-(E13+F13),0) -> #DIV/0! | H13: =SUM(E13:G13) -> #DIV/0! | I13: =H13*'3a. Schoonmaak totaal'!$G$14 -> #DIV/0! | J13: =H13*'3a. Schoonmaak totaal'!$E$16 -> #DIV/0! | K13: =J13*'3a. Schoonmaak totaal'!$G$16 -> #DIV/0! | L13: =I13+K13 -> #DIV/0! | M13: =+L13/12 -> #DIV/0!
A14: Arnhem | B14: Hazenkamp 10 | C14: =SUMIF('5. Basis ruimtestaat'!B:I,A14,'5. Basis ruimtestaat'!I:I) -> 1942.72 | D14: 255 | E14: =SUMIF('5. Basis ruimtestaat'!B:M,'3b. Schoonmaak per locatie'!A14,'5. Basis ruimtestaat'!uren_mavr) -> #DIV/0! | F14: =SUMIF('5. Basis ruimtestaat'!B:P,'3b. Schoonmaak per locatie'!A14,'5. Basis ruimtestaat'!N:N) -> #DIV/0! | G14: =IF(E14+F14<D14,D14-(E14+F14),0) -> #DIV/0! | H14: =SUM(E14:G14) -> #DIV/0! | I14: =H14*'3a. Schoonmaak totaal'!$G$14 -> #DIV/0! | J14: =H14*'3a. Schoonmaak totaal'!$E$16 -> #DIV/0! | K14: =J14*'3a. Schoonmaak totaal'!$G$16 -> #DIV/0! | L14: =I14+K14 -> #DIV/0! | M14: =+L14/12 -> #DIV/0!
A15: Arnhem - Wassenaarweg | B15: Wassenaarweg 20 | C15: =SUMIF('5. Basis ruimtestaat'!B:I,A15,'5. Basis ruimtestaat'!I:I) -> 2054.26 | D15: 255 | E15: =SUMIF('5. Basis ruimtestaat'!B:M,'3b. Schoonmaak per locatie'!A15,'5. Basis ruimtestaat'!uren_mavr) -> #DIV/0! | F15: =SUMIF('5. Basis ruimtestaat'!B:P,'3b. Schoonmaak per locatie'!A15,'5. Basis ruimtestaat'!N:N) -> 0 | G15: =IF(E15+F15<D15,D15-(E15+F15),0) -> #DIV/0! | H15: =SUM(E15:G15) -> #DIV/0! | I15: =H15*'3a. Schoonmaak totaal'!$G$14 -> #DIV/0! | J15: =H15*'3a. Schoonmaak totaal'!$E$16 -> #DIV/0! | K15: =J15*'3a. Schoonmaak totaal'!$G$16 -> #DIV/0! | L15: =I15+K15 -> #DIV/0! | M15: =+L15/12 -> #DIV/0!
A16: Arnhem - Bovenbeekstraat | B16: Bovenbeekstraat 26a | C16: =SUMIF('5. Basis ruimtestaat'!B:I,A16,'5. Basis ruimtestaat'!I:I) -> 475.9 | D16: 255 | E16: =SUMIF('5. Basis ruimtestaat'!B:M,'3b. Schoonmaak per locatie'!A16,'5. Basis ruimtestaat'!uren_mavr) -> #DIV/0! | F16: =SUMIF('5. Basis ruimtestaat'!B:P,'3b. Schoonmaak per locatie'!A16,'5. Basis ruimtestaat'!N:N) -> 0 | G16: =IF(E16+F16<D16,D16-(E16+F16),0) -> #DIV/0! | H16: =SUM(E16:G16) -> #DIV/0! | I16: =H16*'3a. Schoonmaak totaal'!$G$14 -> #DIV/0! | J16: =H16*'3a. Schoonmaak totaal'!$E$16 -> #DIV/0! | K16: =J16*'3a. Schoonmaak totaal'!$G$16 -> #DIV/0! | L16: =I16+K16 -> #DIV/0! | M16: =+L16/12 -> #DIV/0!
A17: Assen 1 | B17: Aziëweg 25A | C17: =SUMIF('5. Basis ruimtestaat'!B:I,A17,'5. Basis ruimtestaat'!I:I) -> 561.1 | D17: 255 | E17: =SUMIF('5. Basis ruimtestaat'!B:M,'3b. Schoonmaak per locatie'!A17,'5. Basis ruimtestaat'!uren_mavr) -> #DIV/0! | F17: =SUMIF('5. Basis ruimtestaat'!B:P,'3b. Schoonmaak per locatie'!A17,'5. Basis ruimtestaat'!N:N) -> 0 | G17: =IF(E17+F17<D17,D17-(E17+F17),0) -> #DIV/0! | H17: =SUM(E17:G17) -> #DIV/0! | I17: =H17*'3a. Schoonmaak totaal'!$G$14 -> #DIV/0! | J17: =H17*'3a. Schoonmaak totaal'!$E$16 -> #DIV/0! | K17: =J17*'3a. Schoonmaak totaal'!$G$16 -> #DIV/0! | L17: =I17+K17 -> #DIV/0! | M17: =+L17/12 -> #DIV/0!
A18: Assen 2 | B18: Overcingellaan 13 | C18: =SUMIF('5. Basis ruimtestaat'!B:I,A18,'5. Basis ruimtestaat'!I:I) -> 795.32 | D18: 255 | E18: =SUMIF('5. Basis ruimtestaat'!B:M,'3b. Schoonmaak per locatie'!A18,'5. Basis ruimtestaat'!uren_mavr) -> #DIV/0! | F18: =SUMIF('5. Basis ruimtestaat'!B:P,'3b. Schoonmaak per locatie'!A18,'5. Basis ruimtestaat'!N:N) -> 0 | G18: =IF(E18+F18<D18,D18-(E18+F18),0) -> #DIV/0! | H18: =SUM(E18:G18) -> #DIV/0! | I18: =H18*'3a. Schoonmaak totaal'!$G$14 -> #DIV/0! | J18: =H18*'3a. Schoonmaak totaal'!$E$16 -> #DIV/0! | K18: =J18*'3a. Schoonmaak totaal'!$G$16 -> #DIV/0! | L18: =I18+K18 -> #DIV/0! | M18: =+L18/12 -> #DIV/0!
A19: Barendrecht | B19: Zwaalweg 1 | C19: =SUMIF('5. Basis ruimtestaat'!B:I,A19,'5. Basis ruimtestaat'!I:I) -> 773.1 | D19: 255 | E19: =SUMIF('5. Basis ruimtestaat'!B:M,'3b. Schoonmaak per locatie'!A19,'5. Basis ruimtestaat'!uren_mavr) -> #DIV/0! | F19: =SUMIF('5. Basis ruimtestaat'!B:P,'3b. Schoonmaak per locatie'!A19,'5. Basis ruimtestaat'!N:N) -> #DIV/0! | G19: =IF(E19+F19<D19,D19-(E19+F19),0) -> #DIV/0! | H19: =SUM(E19:G19) -> #DIV/0! | I19: =H19*'3a. Schoonmaak totaal'!$G$14 -> #DIV/0! | J19: =H19*'3a. Schoonmaak totaal'!$E$16 -> #DIV/0! | K19: =J19*'3a. Schoonmaak totaal'!$G$16 -> #DIV/0! | L19: =I19+K19 -> #DIV/0! | M19: =+L19/12 -> #DIV/0!
A20: Bergen op Zoom | B20: Gagelboslaan 162 | C20: =SUMIF('5. Basis ruimtestaat'!B:I,A20,'5. Basis ruimtestaat'!I:I) -> 267.09 | D20: 255 | E20: =SUMIF('5. Basis ruimtestaat'!B:M,'3b. Schoonmaak per locatie'!A20,'5. Basis ruimtestaat'!uren_mavr) -> #DIV/0! | F20: =SUMIF('5. Basis ruimtestaat'!B:P,'3b. Schoonmaak per locatie'!A20,'5. Basis ruimtestaat'!N:N) -> 0 | G20: =IF(E20+F20<D20,D20-(E20+F20),0) -> #DIV/0! | H20: =SUM(E20:G20) -> #DIV/0! | I20: =H20*'3a. Schoonmaak totaal'!$G$14 -> #DIV/0! | J20: =H20*'3a. Schoonmaak totaal'!$E$16 -> #DIV/0! | K20: =J20*'3a. Schoonmaak totaal'!$G$16 -> #DIV/0! | L20: =I20+K20 -> #DIV/0! | M20: =+L20/12 -> #DIV/0!
A21: Breda | B21: Stationsplein 42 | C21: =SUMIF('5. Basis ruimtestaat'!B:I,A21,'5. Basis ruimtestaat'!I:I) -> 444.44 | D21: 255 | E21: =SUMIF('5. Basis ruimtestaat'!B:M,'3b. Schoonmaak per locatie'!A21,'5. Basis ruimtestaat'!uren_mavr) -> #DIV/0! | F21: =SUMIF('5. Basis ruimtestaat'!B:P,'3b. Schoonmaak per locatie'!A21,'5. Basis ruimtestaat'!N:N) -> 0 | G21: =IF(E21+F21<D21,D21-(E21+F21),0) -> #DIV/0! | H21: =SUM(E21:G21) -> #DIV/0! | I21: =H21*'3a. Schoonmaak totaal'!$G$14 -> #DIV/0! | J21: =H21*'3a. Schoonmaak totaal'!$E$16 -> #DIV/0! | K21: =J21*'3a. Schoonmaak totaal'!$G$16 -> #DIV/0! | L21: =I21+K21 -> #DIV/0! | M21: =+L21/12 -> #DIV/0!
... A60: Zwolle | B60: Branderweg 15 | C60: =SUMIF('5. Basis ruimtestaat'!B:I,A60,'5. Basis ruimtestaat'!I:I) -> 783.02 | D60: 255 | E60: =SUMIF('5. Basis ruimtestaat'!B:M,'3b. Schoonmaak per locatie'!A60,'5. Basis ruimtestaat'!uren_mavr) -> #DIV/0! | F60: =SUMIF('5. Basis ruimtestaat'!B:P,'3b. Schoonmaak per locatie'!A60,'5. Basis ruimtestaat'!N:N) -> #DIV/0! | G60: =IF(E60+F60<D60,D60-(E60+F60),0) -> #DIV/0! | H60: =SUM(E60:G60) -> #DIV/0! | I60: =H60*'3a. Schoonmaak totaal'!$G$14 -> #DIV/0! | J60: =H60*'3a. Schoonmaak totaal'!$E$16 -> #DIV/0! | K60: =J60*'3a. Schoonmaak totaal'!$G$16 -> #DIV/0! | L60: =I60+K60 -> #DIV/0! | M60: =+L60/12 -> #DIV/0!
C61: =SUM(C10:C60) -> 43502.56 | E61: =SUM(E10:E60) -> #DIV/0! | F61: =SUM(F10:F60) -> #DIV/0! | G61: =SUM(G10:G60) -> #DIV/0! | H61: =SUM(H10:H60) -> #DIV/0! | I61: =SUM(I10:I60) -> #DIV/0! | J61: =SUM(J10:J60) -> #DIV/0! | K61: =SUM(K10:K60) -> #DIV/0! | L61: =SUM(L10:L60) -> #DIV/0! | M61: =SUM(M10:M60) -> #DIV/0!

Sheet 4. Productie normen
A1: Invoervelden
A3: Naam opdrachtgever | B3: =+Invulinstructie!D3 -> CBR
A4: Calculatie onderdeel | B4: 4-Productie normen
A5: Gebouw/plaats | B5: =+'3a. Schoonmaak totaal'!B5 -> Landelijk
A6: Besteknummer | B6: =Mutatieblad!B4 -> CBR2026.001
A7: Naam leverancier | B7: =+Invulinstructie!D6 -> 0 | G7: Gewogen prestatie | I7: =SUM('5. Basis ruimtestaat'!T:T)/SUM('5. Basis ruimtestaat'!M:N) -> #DIV/0! | J7: m2/uur
A10: Frequentie van uitvoering (per jaar): | B10: 2 | C10: 4 | D10: 6 | E10: 12 | F10: 52 | G10: 104 | H10: 156 | I10: 255
A11: Kolom voor Matrix | B11: 2 | C11: 3 | D11: 4 | E11: 5 | F11: 6 | G11: 7 | H11: 8 | I11: 9
A12: Ruimtecategorie | B12: Prestatienorm in aantal m2 per uur | L12: VSR Code | N12: M2 Totaal | P12: Naloop opslag
A13: Buitenruimten | L13: V | N13: =SUMIF('5. Basis ruimtestaat'!G:G,'4. Productie normen'!A13,'5. Basis ruimtestaat'!I:I) -> 168
A14: Entree | L14: V | N14: =SUMIF('5. Basis ruimtestaat'!G:G,'4. Productie normen'!A14,'5. Basis ruimtestaat'!I:I) -> 455.15
A15: Examenzaal | L15: V | N15: =SUMIF('5. Basis ruimtestaat'!G:G,'4. Productie normen'!A15,'5. Basis ruimtestaat'!I:I) -> 7616.16
A16: Gang/hal | L16: V | N16: =SUMIF('5. Basis ruimtestaat'!G:G,'4. Productie normen'!A16,'5. Basis ruimtestaat'!I:I) -> 4130.7
A17: Garderobe | L17: V | N17: =SUMIF('5. Basis ruimtestaat'!G:G,'4. Productie normen'!A17,'5. Basis ruimtestaat'!I:I) -> 9.1999998
A18: Gebed/kolfruimte | L18: V | N18: =SUMIF('5. Basis ruimtestaat'!G:G,'4. Productie normen'!A18,'5. Basis ruimtestaat'!I:I) -> 12.55
A19: Kantine/pauzeruimte | L19: V | N19: =SUMIF('5. Basis ruimtestaat'!G:G,'4. Productie normen'!A19,'5. Basis ruimtestaat'!I:I) -> 2369.17
A20: Kantoorruimten | L20: B | N20: =SUMIF('5. Basis ruimtestaat'!G:G,'4. Productie normen'!A20,'5. Basis ruimtestaat'!I:I) -> 10806.41
A21: Kleedruimten | L21: V | N21: =SUMIF('5. Basis ruimtestaat'!G:G,'4. Productie normen'!A21,'5. Basis ruimtestaat'!I:I) -> 299.32
A22: Lift | L22: V | N22: =SUMIF('5. Basis ruimtestaat'!G:G,'4. Productie normen'!A22,'5. Basis ruimtestaat'!I:I) -> 38.37
A23: Opslagruimten | L23: V | N23: =SUMIF('5. Basis ruimtestaat'!G:G,'4. Productie normen'!A23,'5. Basis ruimtestaat'!I:I) -> 480.43
A24: Pantry | L24: V | N24: =SUMIF('5. Basis ruimtestaat'!G:G,'4. Productie normen'!A24,'5. Basis ruimtestaat'!I:I) -> 148.1
... A30: Wachtruimten | L30: V | N30: =SUMIF('5. Basis ruimtestaat'!G:G,'4. Productie normen'!A30,'5. Basis ruimtestaat'!I:I) -> 8214.58
A31: Niet in onderhoud | N31: =SUMIF('5. Basis ruimtestaat'!G:G,'4. Productie normen'!A31,'5. Basis ruimtestaat'!I:I) -> 681.42
A33: Totaal | N33: =SUM(N13:N32) -> 43502.56
N35: =N33-'5. Basis ruimtestaat'!I1258 -> 0

Sheet 5. Basis ruimtestaat
B1: Invoervelden
A2: 2
A3: 3 | B3: Naam opdrachtgever | D3: =+Invulinstructie!D3 -> CBR
A4: 4 | B4: Calculatie onderdeel | D4: 5-Basis ruimtestaat
A5: 5 | B5: Gebouw/plaats | D5: =+'3a. Schoonmaak totaal'!B5 -> Landelijk
A6: 6 | B6: Besteknummer | D6: =Mutatieblad!B4 -> CBR2026.001 | P6: % van reguliere norm
A7: 7 | B7: Naam dienstverlener | D7: =+Invulinstructie!D6 -> 0
A8: 8 | P8: ='4. Productie normen'!$P$10 -> 0
A9: 9 | B9: Locatie/kostenplaats | C9: Adres | D9: Verdieping | E9: Ruimte nummer | F9: Ruimteomschrijving opdrachtgever | G9: Ruimtecategorie | H9: Vloer soort | I9: M2 vloer | J9: Correctie factor ruimte | K9: Freq. ma-vr | L9: Freq. ma-vr naloop | M9: Uren p/j ma t/m vrij | N9: Uren p/j ma t/m vrij naloop | O9: Norm ma t/m vr | P9: Norm ma t/m vr naloop | Q9: VSR code | R9: Bijzonderheden / opmerkingen | T9: M2 per jaar
A10: 10 | B10: Alkmaar | C10: Olympiaweg 28 | D10: 00 Begane grond | E10: 0.02 | F10: Centrale ontvangst | G10: Wachtruimten | H10: PVC | I10: 80 | J10: 1 | K10: 255 | M10: =IF(K10="nio",0,IF(K10>0,K10*I10/O10,0))*J10 -> #DIV/0! | N10: =IF(L10>0,L10*I10/P10,0)*J10 -> 0 | O10: =IF(K10="nio",0,VLOOKUP(G10,'4. Productie normen'!A:J,HLOOKUP('5. Basis ruimtestaat'!K10,'4. Productie normen'!$10:$11,2,FALSE),FALSE)) -> 0 | P10: =IF(L10>0,O10*$P$8,0) -> 0 | Q10: =VLOOKUP(G10,'4. Productie normen'!$A:$L,12,FALSE) -> V | T10: =SUM(K10:L10)*I10 -> 20400
A11: 11 | B11: Alkmaar | C11: Olympiaweg 28 | D11: 00 Begane grond | E11: 0.03 | F11: Examenzaal theorie | G11: Examenzaal | H11: Tapijt | I11: 99 | J11: 1 | K11: 255 | M11: =IF(K11="nio",0,IF(K11>0,K11*I11/O11,0))*J11 -> #DIV/0! | N11: =IF(L11>0,L11*I11/P11,0)*J11 -> 0 | O11: =IF(K11="nio",0,VLOOKUP(G11,'4. Productie normen'!A:J,HLOOKUP('5. Basis ruimtestaat'!K11,'4. Productie normen'!$10:$11,2,FALSE),FALSE)) -> 0 | P11: =IF(L11>0,O11*$P$8,0) -> 0 | Q11: =VLOOKUP(G11,'4. Productie normen'!$A:$L,12,FALSE) -> V | T11: =SUM(K11:L11)*I11 -> 25245
A12: 12 | B12: Alkmaar | C12: Olympiaweg 28 | D12: 00 Begane grond | E12: 0.04 | F12: Examenruimte individueel | G12: Examenzaal | H12: Tapijt | I12: 10 | J12: 1 | K12: 255 | M12: =IF(K12="nio",0,IF(K12>0,K12*I12/O12,0))*J12 -> #DIV/0! | N12: =IF(L12>0,L12*I12/P12,0)*J12 -> 0 | O12: =IF(K12="nio",0,VLOOKUP(G12,'4. Productie normen'!A:J,HLOOKUP('5. Basis ruimtestaat'!K12,'4. Productie normen'!$10:$11,2,FALSE),FALSE)) -> 0 | P12: =IF(L12>0,O12*$P$8,0) -> 0 | Q12: =VLOOKUP(G12,'4. Productie normen'!$A:$L,12,FALSE) -> V | T12: =SUM(K12:L12)*I12 -> 2550
A13: 13 | B13: Alkmaar | C13: Olympiaweg 28 | D13: 00 Begane grond | E13: 0.05 | F13: Back office TEC | G13: Kantine/pauzeruimte | H13: Tapijt | I13: 12 | J13: 1 | K13: 255 | M13: =IF(K13="nio",0,IF(K13>0,K13*I13/O13,0))*J13 -> #DIV/0! | N13: =IF(L13>0,L13*I13/P13,0)*J13 -> 0 | O13: =IF(K13="nio",0,VLOOKUP(G13,'4. Productie normen'!A:J,HLOOKUP('5. Basis ruimtestaat'!K13,'4. Productie normen'!$10:$11,2,FALSE),FALSE)) -> 0 | P13: =IF(L13>0,O13*$P$8,0) -> 0 | Q13: =VLOOKUP(G13,'4. Productie normen'!$A:$L,12,FALSE) -> V | T13: =SUM(K13:L13)*I13 -> 3060
A14: 14 | B14: Alkmaar | C14: Olympiaweg 28 | D14: 00 Begane grond | E14: 0.12a | F14: Herentoilet | G14: Sanitaire ruimten | H14: Tegels | I14: 6 | J14: 1 | K14: 255 | L14: 255 | M14: =IF(K14="nio",0,IF(K14>0,K14*I14/O14,0))*J14 -> #DIV/0! | N14: =IF(L14>0,L14*I14/P14,0)*J14 -> #DIV/0! | O14: =IF(K14="nio",0,VLOOKUP(G14,'4. Productie normen'!A:J,HLOOKUP('5. Basis ruimtestaat'!K14,'4. Productie normen'!$10:$11,2,FALSE),FALSE)) -> 0 | P14: =IF(L14>0,O14*$P$8,0) -> 0 | Q14: =VLOOKUP(G14,'4. Productie normen'!$A:$L,12,FALSE) -> S | T14: =SUM(K14:L14)*I14 -> 3060
A15: 15 | B15: Alkmaar | C15: Olympiaweg 28 | D15: 00 Begane grond | E15: 0.12b | F15: Damestoilet | G15: Sanitaire ruimten | H15: Tegels | I15: 6 | J15: 1 | K15: 255 | L15: 255 | M15: =IF(K15="nio",0,IF(K15>0,K15*I15/O15,0))*J15 -> #DIV/0! | N15: =IF(L15>0,L15*I15/P15,0)*J15 -> #DIV/0! | O15: =IF(K15="nio",0,VLOOKUP(G15,'4. Productie normen'!A:J,HLOOKUP('5. Basis ruimtestaat'!K15,'4. Productie normen'!$10:$11,2,FALSE),FALSE)) -> 0 | P15: =IF(L15>0,O15*$P$8,0) -> 0 | Q15: =VLOOKUP(G15,'4. Productie normen'!$A:$L,12,FALSE) -> S | T15: =SUM(K15:L15)*I15 -> 3060
A16: 16 | B16: Alkmaar | C16: Olympiaweg 28 | D16: 00 Begane grond | E16: 0.12c | F16: Invalidetoilet | G16: Sanitaire ruimten | H16: Tegels | I16: 5 | J16: 1 | K16: 255 | L16: 255 | M16: =IF(K16="nio",0,IF(K16>0,K16*I16/O16,0))*J16 -> #DIV/0! | N16: =IF(L16>0,L16*I16/P16,0)*J16 -> #DIV/0! | O16: =IF(K16="nio",0,VLOOKUP(G16,'4. Productie normen'!A:J,HLOOKUP('5. Basis ruimtestaat'!K16,'4. Productie normen'!$10:$11,2,FALSE),FALSE)) -> 0 | P16: =IF(L16>0,O16*$P$8,0) -> 0 | Q16: =VLOOKUP(G16,'4. Productie normen'!$A:$L,12,FALSE) -> S | T16: =SUM(K16:L16)*I16 -> 2550
A17: 17 | B17: Alkmaar | C17: Olympiaweg 28 | D17: 00 Begane grond | E17: 0.13b | F17: Keuken | G17: Niet in onderhoud | H17: Tegels | I17: 10 | J17: 1 | K17: nio | M17: =IF(K17="nio",0,IF(K17>0,K17*I17/O17,0))*J17 -> 0 | N17: =IF(L17>0,L17*I17/P17,0)*J17 -> 0 | O17: =IF(K17="nio",0,VLOOKUP(G17,'4. Productie normen'!A:J,HLOOKUP('5. Basis ruimtestaat'!K17,'4. Productie normen'!$10:$11,2,FALSE),FALSE)) -> 0 | P17: =IF(L17>0,O17*$P$8,0) -> 0 | Q17: =VLOOKUP(G17,'4. Productie normen'!$A:$L,12,FALSE) -> 0 | T17: =SUM(K17:L17)*I17 -> 0
A18: 18 | B18: Alkmaar | C18: Olympiaweg 28 | D18: 00 Begane grond | E18: 0.21 | F18: Wachtruimte | G18: Wachtruimten | H18: PVC | I18: 117 | J18: 1 | K18: 255 | M18: =IF(K18="nio",0,IF(K18>0,K18*I18/O18,0))*J18 -> #DIV/0! | N18: =IF(L18>0,L18*I18/P18,0)*J18 -> 0 | O18: =IF(K18="nio",0,VLOOKUP(G18,'4. Productie normen'!A:J,HLOOKUP('5. Basis ruimtestaat'!K18,'4. Productie normen'!$10:$11,2,FALSE),FALSE)) -> 0 | P18: =IF(L18>0,O18*$P$8,0) -> 0 | Q18: =VLOOKUP(G18,'4. Productie normen'!$A:$L,12,FALSE) -> V | T18: =SUM(K18:L18)*I18 -> 29835
A19: 19 | B19: Alkmaar | C19: Olympiaweg 28 | D19: 00 Begane grond | E19: 0.22a | F19: Gang | G19: Gang/hal | H19: PVC | I19: 7.47 | J19: 1 | K19: 255 | M19: =IF(K19="nio",0,IF(K19>0,K19*I19/O19,0))*J19 -> #DIV/0! | N19: =IF(L19>0,L19*I19/P19,0)*J19 -> 0 | O19: =IF(K19="nio",0,VLOOKUP(G19,'4. Productie normen'!A:J,HLOOKUP('5. Basis ruimtestaat'!K19,'4. Productie normen'!$10:$11,2,FALSE),FALSE)) -> 0 | P19: =IF(L19>0,O19*$P$8,0) -> 0 | Q19: =VLOOKUP(G19,'4. Productie normen'!$A:$L,12,FALSE) -> V | T19: =SUM(K19:L19)*I19 -> 1904.85
A20: 20 | B20: Alkmaar | C20: Olympiaweg 28 | D20: 00 Begane grond | E20: 0.24a | F20: Trap | G20: Trappenhuis | H20: Tapijt | I20: 50 | J20: 1 | K20: 255 | M20: =IF(K20="nio",0,IF(K20>0,K20*I20/O20,0))*J20 -> #DIV/0! | N20: =IF(L20>0,L20*I20/P20,0)*J20 -> 0 | O20: =IF(K20="nio",0,VLOOKUP(G20,'4. Productie normen'!A:J,HLOOKUP('5. Basis ruimtestaat'!K20,'4. Productie normen'!$10:$11,2,FALSE),FALSE)) -> 0 | P20: =IF(L20>0,O20*$P$8,0) -> 0 | Q20: =VLOOKUP(G20,'4. Productie normen'!$A:$L,12,FALSE) -> V | T20: =SUM(K20:L20)*I20 -> 12750
A21: 21 | B21: Alkmaar | C21: Olympiaweg 28 | D21: 00 Begane grond | F21: Kantoor | G21: Kantoorruimten | H21: Tapijt | I21: 8 | J21: 1 | K21: 156 | M21: =IF(K21="nio",0,IF(K21>0,K21*I21/O21,0))*J21 -> #DIV/0! | N21: =IF(L21>0,L21*I21/P21,0)*J21 -> 0 | O21: =IF(K21="nio",0,VLOOKUP(G21,'4. Productie normen'!A:J,HLOOKUP('5. Basis ruimtestaat'!K21,'4. Productie normen'!$10:$11,2,FALSE),FALSE)) -> 0 | P21: =IF(L21>0,O21*$P$8,0) -> 0 | Q21: =VLOOKUP(G21,'4. Productie normen'!$A:$L,12,FALSE) -> B | T21: =SUM(K21:L21)*I21 -> 1248
A22: 22 | B22: Alkmaar | C22: Olympiaweg 28 | D22: 01 1e verdieping | F22: DPR | G22: Vergaderruimten | H22: Tapijt | I22: 12 | J22: 1 | K22: 255 | M22: =IF(K22="nio",0,IF(K22>0,K22*I22/O22,0))*J22 -> #DIV/0! | N22: =IF(L22>0,L22*I22/P22,0)*J22 -> 0 | O22: =IF(K22="nio",0,VLOOKUP(G22,'4. Productie normen'!A:J,HLOOKUP('5. Basis ruimtestaat'!K22,'4. Productie normen'!$10:$11,2,FALSE),FALSE)) -> 0 | P22: =IF(L22>0,O22*$P$8,0) -> 0 | Q22: =VLOOKUP(G22,'4. Productie normen'!$A:$L,12,FALSE) -> B | T22: =SUM(K22:L22)*I22 -> 3060
A23: 23 | B23: Alkmaar | C23: Olympiaweg 28 | D23: 01 1e verdieping | F23: Kantoor | G23: Kantoorruimten | H23: Tapijt | I23: 27 | J23: 1 | K23: 156 | M23: =IF(K23="nio",0,IF(K23>0,K23*I23/O23,0))*J23 -> #DIV/0! | N23: =IF(L23>0,L23*I23/P23,0)*J23 -> 0 | O23: =IF(K23="nio",0,VLOOKUP(G23,'4. Productie normen'!A:J,HLOOKUP('5. Basis ruimtestaat'!K23,'4. Productie normen'!$10:$11,2,FALSE),FALSE)) -> 0 | P23: =IF(L23>0,O23*$P$8,0) -> 0 | Q23: =VLOOKUP(G23,'4. Productie normen'!$A:$L,12,FALSE) -> B | T23: =SUM(K23:L23)*I23 -> 4212
A24: 24 | B24: Alkmaar | C24: Olympiaweg 28 | D24: 01 1e verdieping | F24: Sanitaire ruimte | G24: Sanitaire ruimten | H24: Tegels | I24: 2 | J24: 1 | K24: 255 | L24: 255 | M24: =IF(K24="nio",0,IF(K24>0,K24*I24/O24,0))*J24 -> #DIV/0! | N24: =IF(L24>0,L24*I24/P24,0)*J24 -> #DIV/0! | O24: =IF(K24="nio",0,VLOOKUP(G24,'4. Productie normen'!A:J,HLOOKUP('5. Basis ruimtestaat'!K24,'4. Productie normen'!$10:$11,2,FALSE),FALSE)) -> 0 | P24: =IF(L24>0,O24*$P$8,0) -> 0 | Q24: =VLOOKUP(G24,'4. Productie normen'!$A:$L,12,FALSE) -> S | T24: =SUM(K24:L24)*I24 -> 1020
A25: 25 | B25: Alkmaar | C25: Olympiaweg 28 | D25: 01 1e verdieping | F25: Gang | G25: Gang/hal | H25: PVC | I25: 15.53 | J25: 1 | K25: 255 | M25: =IF(K25="nio",0,IF(K25>0,K25*I25/O25,0))*J25 -> #DIV/0! | N25: =IF(L25>0,L25*I25/P25,0)*J25 -> 0 | O25: =IF(K25="nio",0,VLOOKUP(G25,'4. Productie normen'!A:J,HLOOKUP('5. Basis ruimtestaat'!K25,'4. Productie normen'!$10:$11,2,FALSE),FALSE)) -> 0 | P25: =IF(L25>0,O25*$P$8,0) -> 0 | Q25: =VLOOKUP(G25,'4. Productie normen'!$A:$L,12,FALSE) -> V | T25: =SUM(K25:L25)*I25 -> 3960.1499
A26: 26 | B26: Alkmaar | C26: Olympiaweg 28 | D26: 01 1e verdieping | F26: Kantoor | G26: Kantoorruimten | H26: Tapijt | I26: 10 | J26: 1 | K26: 156 | M26: =IF(K26="nio",0,IF(K26>0,K26*I26/O26,0))*J26 -> #DIV/0! | N26: =IF(L26>0,L26*I26/P26,0)*J26 -> 0 | O26: =IF(K26="nio",0,VLOOKUP(G26,'4. Productie normen'!A:J,HLOOKUP('5. Basis ruimtestaat'!K26,'4. Productie normen'!$10:$11,2,FALSE),FALSE)) -> 0 | P26: =IF(L26>0,O26*$P$8,0) -> 0 | Q26: =VLOOKUP(G26,'4. Productie normen'!$A:$L,12,FALSE) -> B | T26: =SUM(K26:L26)*I26 -> 1560
A27: 27 | B27: Alkmaar | C27: Olympiaweg 28 | D27: 01 1e verdieping | F27: Sanitaire ruimte | G27: Sanitaire ruimten | H27: Tegels | I27: 2 | J27: 1 | K27: 255 | L27: 255 | M27: =IF(K27="nio",0,IF(K27>0,K27*I27/O27,0))*J27 -> #DIV/0! | N27: =IF(L27>0,L27*I27/P27,0)*J27 -> #DIV/0! | O27: =IF(K27="nio",0,VLOOKUP(G27,'4. Productie normen'!A:J,HLOOKUP('5. Basis ruimtestaat'!K27,'4. Productie normen'!$10:$11,2,FALSE),FALSE)) -> 0 | P27: =IF(L27>0,O27*$P$8,0) -> 0 | Q27: =VLOOKUP(G27,'4. Productie normen'!$A:$L,12,FALSE) -> S | T27: =SUM(K27:L27)*I27 -> 1020
A28: 28 | B28: Alkmaar | C28: Olympiaweg 28 | D28: 01 1e verdieping | F28: Kantoor | G28: Kantoorruimten | H28: Tapijt | I28: 129 | J28: 1 | K28: 156 | M28: =IF(K28="nio",0,IF(K28>0,K28*I28/O28,0))*J28 -> #DIV/0! | N28: =IF(L28>0,L28*I28/P28,0)*J28 -> 0 | O28: =IF(K28="nio",0,VLOOKUP(G28,'4. Productie normen'!A:J,HLOOKUP('5. Basis ruimtestaat'!K28,'4. Productie normen'!$10:$11,2,FALSE),FALSE)) -> 0 | P28: =IF(L28>0,O28*$P$8,0) -> 0 | Q28: =VLOOKUP(G28,'4. Productie normen'!$A:$L,12,FALSE) -> B | T28: =SUM(K28:L28)*I28 -> 20124
A29: 29 | B29: Almelo | C29: Bedrijvenpark Twente 305 | D29: 00 Begane grond | E29: 07 | F29: Examenzaal praktijk | G29: Examenzaal | H29: Tapijt | I29: 90 | J29: 1 | K29: 255 | M29: =IF(K29="nio",0,IF(K29>0,K29*I29/O29,0))*J29 -> #DIV/0! | N29: =IF(L29>0,L29*I29/P29,0)*J29 -> 0 | O29: =IF(K29="nio",0,VLOOKUP(G29,'4. Productie normen'!A:J,HLOOKUP('5. Basis ruimtestaat'!K29,'4. Productie normen'!$10:$11,2,FALSE),FALSE)) -> 0 | P29: =IF(L29>0,O29*$P$8,0) -> 0 | Q29: =VLOOKUP(G29,'4. Productie normen'!$A:$L,12,FALSE) -> V | T29: =SUM(K29:L29)*I29 -> 22950
A30: 30 | B30: Almelo | C30: Bedrijvenpark Twente 305 | D30: 00 Begane grond | E30: 10 | F30: BOPEC | G30: Kantine/pauzeruimte | H30: Tapijt | I30: 43.67 | J30: 1 | K30: 255 | M30: =IF(K30="nio",0,IF(K30>0,K30*I30/O30,0))*J30 -> #DIV/0! | N30: =IF(L30>0,L30*I30/P30,0)*J30 -> 0 | O30: =IF(K30="nio",0,VLOOKUP(G30,'4. Productie normen'!A:J,HLOOKUP('5. Basis ruimtestaat'!K30,'4. Productie normen'!$10:$11,2,FALSE),FALSE)) -> 0 | P30: =IF(L30>0,O30*$P$8,0) -> 0 | Q30: =VLOOKUP(G30,'4. Productie normen'!$A:$L,12,FALSE) -> V | T30: =SUM(K30:L30)*I30 -> 11135.85
A31: 31 | B31: Almelo | C31: Bedrijvenpark Twente 305 | D31: 00 Begane grond | E31: 11 | F31: Kantoor | G31: Kantoorruimten | H31: Tapijt | I31: 14.92 | J31: 1 | K31: 156 | M31: =IF(K31="nio",0,IF(K31>0,K31*I31/O31,0))*J31 -> #DIV/0! | N31: =IF(L31>0,L31*I31/P31,0)*J31 -> 0 | O31: =IF(K31="nio",0,VLOOKUP(G31,'4. Productie normen'!A:J,HLOOKUP('5. Basis ruimtestaat'!K31,'4. Productie normen'!$10:$11,2,FALSE),FALSE)) -> 0 | P31: =IF(L31>0,O31*$P$8,0) -> 0 | Q31: =VLOOKUP(G31,'4. Productie normen'!$A:$L,12,FALSE) -> B | T31: =SUM(K31:L31)*I31 -> 2327.52
A32: 32 | B32: Almelo | C32: Bedrijvenpark Twente 305 | D32: 00 Begane grond | E32: 29 | F32: Kleedruimte | G32: Kleedruimten | H32: Tegels | I32: 11.18 | J32: 1 | K32: 255 | M32: =IF(K32="nio",0,IF(K32>0,K32*I32/O32,0))*J32 -> #DIV/0! | N32: =IF(L32>0,L32*I32/P32,0)*J32 -> 0 | O32: =IF(K32="nio",0,VLOOKUP(G32,'4. Productie normen'!A:J,HLOOKUP('5. Basis ruimtestaat'!K32,'4. Productie normen'!$10:$11,2,FALSE),FALSE)) -> 0 | P32: =IF(L32>0,O32*$P$8,0) -> 0 | Q32: =VLOOKUP(G32,'4. Productie normen'!$A:$L,12,FALSE) -> V | T32: =SUM(K32:L32)*I32 -> 2850.9
A33: 33 | B33: Amsterdam | C33: Naritaweg 150 | D33: 00 Begane grond | E33: 0.01 | F33: Entree | G33: Entree | H33: Tapijt | I33: 18 | J33: 1 | K33: 255 | M33: =IF(K33="nio",0,IF(K33>0,K33*I33/O33,0))*J33 -> #DIV/0! | N33: =IF(L33>0,L33*I33/P33,0)*J33 -> 0 | O33: =IF(K33="nio",0,VLOOKUP(G33,'4. Productie normen'!A:J,HLOOKUP('5. Basis ruimtestaat'!K33,'4. Productie normen'!$10:$11,2,FALSE),FALSE)) -> 0 | P33: =IF(L33>0,O33*$P$8,0) -> 0 | Q33: =VLOOKUP(G33,'4. Productie normen'!$A:$L,12,FALSE) -> V | T33: =SUM(K33:L33)*I33 -> 4590
A34: 34 | B34: Amsterdam | C34: Naritaweg 150 | D34: 00 Begane grond | E34: 0.02 | F34: Wachtruimte | G34: Wachtruimten | H34: PVC | I34: 166 | J34: 1 | K34: 255 | M34: =IF(K34="nio",0,IF(K34>0,K34*I34/O34,0))*J34 -> #DIV/0! | N34: =IF(L34>0,L34*I34/P34,0)*J34 -> 0 | O34: =IF(K34="nio",0,VLOOKUP(G34,'4. Productie normen'!A:J,HLOOKUP('5. Basis ruimtestaat'!K34,'4. Productie normen'!$10:$11,2,FALSE),FALSE)) -> 0 | P34: =IF(L34>0,O34*$P$8,0) -> 0 | Q34: =VLOOKUP(G34,'4. Productie normen'!$A:$L,12,FALSE) -> V | T34: =SUM(K34:L34)*I34 -> 42330
A35: 35 | B35: Amsterdam | C35: Naritaweg 150 | D35: 00 Begane grond | E35: 0.03 | F35: Kantoor | G35: Kantoorruimten | H35: Tapijt | I35: 114 | J35: 1 | K35: 156 | M35: =IF(K35="nio",0,IF(K35>0,K35*I35/O35,0))*J35 -> #DIV/0! | N35: =IF(L35>0,L35*I35/P35,0)*J35 -> 0 | O35: =IF(K35="nio",0,VLOOKUP(G35,'4. Productie normen'!A:J,HLOOKUP('5. Basis ruimtestaat'!K35,'4. Productie normen'!$10:$11,2,FALSE),FALSE)) -> 0 | P35: =IF(L35>0,O35*$P$8,0) -> 0 | Q35: =VLOOKUP(G35,'4. Productie normen'!$A:$L,12,FALSE) -> B | T35: =SUM(K35:L35)*I35 -> 17784
A36: 36 | B36: Amsterdam | C36: Naritaweg 150 | D36: 00 Begane grond | E36: 0.04 | F36: Kantoor | G36: Kantoorruimten | H36: Tapijt | I36: 12 | J36: 1 | K36: 156 | M36: =IF(K36="nio",0,IF(K36>0,K36*I36/O36,0))*J36 -> #DIV/0! | N36: =IF(L36>0,L36*I36/P36,0)*J36 -> 0 | O36: =IF(K36="nio",0,VLOOKUP(G36,'4. Productie normen'!A:J,HLOOKUP('5. Basis ruimtestaat'!K36,'4. Productie normen'!$10:$11,2,FALSE),FALSE)) -> 0 | P36: =IF(L36>0,O36*$P$8,0) -> 0 | Q36: =VLOOKUP(G36,'4. Productie normen'!$A:$L,12,FALSE) -> B | T36: =SUM(K36:L36)*I36 -> 1872
A37: 37 | B37: Amsterdam | C37: Naritaweg 150 | D37: 00 Begane grond | E37: 0.05 | F37: Kantoor | G37: Kantoorruimten | H37: Tapijt | I37: 12 | J37: 1 | K37: 156 | M37: =IF(K37="nio",0,IF(K37>0,K37*I37/O37,0))*J37 -> #DIV/0! | N37: =IF(L37>0,L37*I37/P37,0)*J37 -> 0 | O37: =IF(K37="nio",0,VLOOKUP(G37,'4. Productie normen'!A:J,HLOOKUP('5. Basis ruimtestaat'!K37,'4. Productie normen'!$10:$11,2,FALSE),FALSE)) -> 0 | P37: =IF(L37>0,O37*$P$8,0) -> 0 | Q37: =VLOOKUP(G37,'4. Productie normen'!$A:$L,12,FALSE) -> B | T37: =SUM(K37:L37)*I37 -> 1872
A38: 38 | B38: Amsterdam | C38: Naritaweg 150 | D38: 00 Begane grond | E38: 0.07 | F38: Kantoor | G38: Kantoorruimten | H38: Tapijt | I38: 169 | J38: 1 | K38: 156 | M38: =IF(K38="nio",0,IF(K38>0,K38*I38/O38,0))*J38 -> #DIV/0! | N38: =IF(L38>0,L38*I38/P38,0)*J38 -> 0 | O38: =IF(K38="nio",0,VLOOKUP(G38,'4. Productie normen'!A:J,HLOOKUP('5. Basis ruimtestaat'!K38,'4. Productie normen'!$10:$11,2,FALSE),FALSE)) -> 0 | P38: =IF(L38>0,O38*$P$8,0) -> 0 | Q38: =VLOOKUP(G38,'4. Productie normen'!$A:$L,12,FALSE) -> B | T38: =SUM(K38:L38)*I38 -> 26364
A39: 39 | B39: Amsterdam | C39: Naritaweg 150 | D39: 00 Begane grond | E39: 0.10 | F39: Kantoor | G39: Kantoorruimten | H39: Tapijt | I39: 36.099998 | J39: 1 | K39: 156 | M39: =IF(K39="nio",0,IF(K39>0,K39*I39/O39,0))*J39 -> #DIV/0! | N39: =IF(L39>0,L39*I39/P39,0)*J39 -> 0 | O39: =IF(K39="nio",0,VLOOKUP(G39,'4. Productie normen'!A:J,HLOOKUP('5. Basis ruimtestaat'!K39,'4. Productie normen'!$10:$11,2,FALSE),FALSE)) -> 0 | P39: =IF(L39>0,O39*$P$8,0) -> 0 | Q39: =VLOOKUP(G39,'4. Productie normen'!$A:$L,12,FALSE) -> B | T39: =SUM(K39:L39)*I39 -> 5631.5998
A40: 40 | B40: Amsterdam | C40: Naritaweg 150 | D40: 00 Begane grond | E40: 0.11 | F40: Kantoor | G40: Kantoorruimten | H40: Tapijt | I40: 15 | J40: 1 | K40: 156 | M40: =IF(K40="nio",0,IF(K40>0,K40*I40/O40,0))*J40 -> #DIV/0! | N40: =IF(L40>0,L40*I40/P40,0)*J40 -> 0 | O40: =IF(K40="nio",0,VLOOKUP(G40,'4. Productie normen'!A:J,HLOOKUP('5. Basis ruimtestaat'!K40,'4. Productie normen'!$10:$11,2,FALSE),FALSE)) -> 0 | P40: =IF(L40>0,O40*$P$8,0) -> 0 | Q40: =VLOOKUP(G40,'4. Productie normen'!$A:$L,12,FALSE) -> B | T40: =SUM(K40:L40)*I40 -> 2340
...

Sheet 6. Premies en opslagen
A1: Invoervelden
A3: Naam opdrachtgever | B3: =+Invulinstructie!D3 -> CBR
A4: Calculatie onderdeel | B4: 6-Premies en opslagen
A5: Gebouw/plaats | B5: =+'3a. Schoonmaak totaal'!B5 -> Landelijk
A6: Besteknummer | B6: =Mutatieblad!B4 -> CBR2026.001
A7: Naam dienstverlener | B7: =+Invulinstructie!D6 -> 0
A8: Prijspeil | B8: =+Invulinstructie!D5 -> 46235
A10: Sociale verzekeringen
C12: Bedrijfsgemiddelde
A13: WIA Basispremie
A14: WGA
A15: ZW-flex
A16: Transitievergoeding Wet werk en zekerheid reservering
A17: Totaal | C17: =SUM(C13:C16) -> 0
A19: WW premie- Algemeen Werkeloosheidsfonds (Awf)
A20: Wachtgeldfonds
A21: Zorgverzekeringswet (Zvw)
A22: OP/NP
A23: Pensioen overgangsregeling
A24: Kinderopvang
A25: RAS Heffing
A26: Totaal opslag sociale lasten | C26: =SUM(C17:C25) -> 0
A28: Sociale verzekeringen - Ouderdomspensioen (OP/NP)
C30: werkgeversdeel
A31: SV uurloon inclusief toeslagen
A32: Franchise OP-premie per uur | B32: Let op -/- bedrag
A33: Grondslag loon voor berekening OP premie
A34: Premie Ouderdomspensioen (OP)
A36: Effectieve OP premie | C36: =(C33/C31)*C34 -> #DIV/0!
A38: Berekening werkbaredagen
B40: Schoonmaak
A41: Aantal kalenderdagen
A42: Weekenddagen
A43: Werkdagen per jaar | B43: =B41-B42 -> 0
A45: Nat. feestdagen, kort verzuim, bijz. CAO
A46: Vakantiedagen
A47: Ziektedagen
A48: Vorstverlet
A49: Werkbare dagen per jaar | B49: =B43-SUM(B45:B48) -> 0
A51: Nat. feestdagen, kort verzuim, bijz CAO | B51: =IF(B45=0,0,B45/$B$49) -> 0
...

Sheet 7a. Opbouw uurtarief productie
A1: Invoervelden
A3: Naam opdrachtgever | B3: =+Invulinstructie!D3 -> CBR
A4: Calculatie onderdeel | B4: 7a. Opbouw uurtarief productie
A5: Gebouw/plaats | B5: =+'3a. Schoonmaak totaal'!B5 -> Landelijk
A6: Besteknummer | B6: =Mutatieblad!B4 -> CBR2026.001
A7: Naam dienstverlener | B7: =+Invulinstructie!D6 -> 0
A8: Prijspeil | B8: =+Invulinstructie!D5 -> 46235
A10: Tariefopbouw per loongroep | E10: Gemiddeld tarief regulier onderhoud ma t/m vr | H10: Medewerker | I10: CAO basis uurlonen per 1 januari 2026
I11: 1 | J11: 2 | K11: 3 | L11: 4 | M11: 5 | N11: 6
A12: Basisuurloon | E12: =SUM(I44:N44) -> 0 | H12: 17 jaar en jonger | I12: 12 | J12: 12.43 | K12: 12.91 | L12: 13.55 | M12: 14.07 | N12: 14.78 | P12: Totaal indexering | Q12: =Q13*Q14*Q15*Q16 -> 1
A13: Specialistentoeslag | C13: Projectgebonden! | E13: 0 | H13: 18 jaar | I13: 12.74 | J13: 13.2 | K13: 13.71 | L13: 14.39 | M13: 14.94 | N13: 15.7 | P13: 2027 | Q13: 1
A14: Overgangsregeling | C14: Projectgebonden! | E14: 0 | H14: 19 jaar | I14: 13.49 | J14: 13.97 | K14: 14.51 | L14: 15.23 | M14: 15.82 | N14: 16.62 | P14: 2028 | Q14: 1
A15: Gevarentoeslag (indien van toepassing) | H15: Vakvolwassen 1 dienstjaar | I15: 15.52 | J15: 16.08 | K15: 16.7 | L15: 17.53 | M15: 18.2 | N15: 19.12 | P15: 2029 | Q15: 1
A16: Bruto uurloon | E16: =SUM(E12:E15) -> 0 | H16: Vakvolwassen 2 dienstjaren | I16: 16.08 | J16: 16.63 | K16: 17.3 | L16: 18.14 | M16: 18.82 | N16: 19.77 | P16: 2030 | Q16: 1
H17: Vakvolwassen 3 dienstjaren | I17: 16.55 | J17: 17.17 | K17: 17.84 | L17: 18.73 | M17: 19.45 | N17: 20.42
A18: Vakantietoeslag | E18: =$C18*E16 -> 0 | H18: Vakvolwassen 4 dienstjaren | I18: 17.05 | J18: 17.7 | K18: 18.44 | L18: 19.31 | M18: 20.06 | N18: 21.07
A19: Structurele eindejaarsuitkering | E19: =$C19*E16 -> 0
A20: Bruto uurloon inclusief toeslagen | E20: =SUM(E16:E19) -> 0 | F20: =IF(E20=0,0,E20/E$48) -> 0
A22: SV-loon grondslag voor berekening sociale verzekeringen | E22: =E20 -> 0 | H22: Medewerker | I22: Percentage per loongroep voor gemiddeld tarief
A23: Premies Sociale Verzekeringen | C23: [zie premies en opslagen] | I23: 1 | J23: 2 | K23: 3 | L23: 4 | M23: 5 | N23: 6
A24: Subtotaal loonkosten per uur inclusief sociale verzekeringen | E24: =E23+E20 -> 0 | F24: =IF(E24=0,0,E24/E$48) -> 0 | H24: 17 jaar en jonger
H25: 18 jaar
A26: Opslag niet werkbare dagen | C26: [zie premies en opslagen] | H26: 19 jaar
A27: Totaal loonkosten per uur | E27: =SUM(E24:E26) -> 0 | F27: =IF(E27=0,0,E27/E$48) -> 0 | H27: Vakvolwassen 1 dienstjaar | I27: 0
H28: Vakvolwassen 2 dienstjaren | J28: 0
A29: Materiaal/- en middelen | C29: Projectgebonden! | F29: 0 | H29: Vakvolwassen 3 dienstjaren
A30: Werkkleding en uitrusting | C30: Projectgebonden! | F30: 0 | H30: Vakvolwassen 4 dienstjaren | J30: 0
A31: Machinekosten | H31: Totaal per loongroepen | I31: =SUM(I24:I30) -> 0 | J31: =SUM(J24:J30) -> 0 | K31: =SUM(K24:K30) -> 0 | L31: =SUM(L24:L30) -> 0 | M31: =SUM(M24:M30) -> 0 | N31: =SUM(N24:N30) -> 0
A33: Totaal directe kosten | E33: =SUM(E27:E32) -> 0 | F33: =IF(E33=0,0,E33/E$48) -> 0
A35: Indirect toezicht | F35: 0 | H35: Medewerker | I35: Opbouw gemiddeld tarief | O35: =SUM(I31:N31) -> 0
A36: Managementkosten | F36: 0 | I36: 1 | J36: 2 | K36: 3 | L36: 4 | M36: 5 | N36: 6
A37: P.Z. kosten | F37: 0 | H37: 17 jaar en jonger | I37: =I24*I12 -> 0 | J37: =J24*J12 -> 0 | K37: =K24*K12 -> 0 | L37: =L24*L12 -> 0 | M37: =M24*M12 -> 0 | N37: =N24*N12 -> 0
A38: Opleiding | F38: 0 | H38: 18 jaar | I38: =I25*I13 -> 0 | J38: =J25*J13 -> 0 | K38: =K25*K13 -> 0 | L38: =L25*L13 -> 0 | M38: =M25*M13 -> 0 | N38: =N25*N13 -> 0
A39: Administratiekosten | F39: 0 | H39: 19 jaar | I39: =I26*I14 -> 0 | J39: =J26*J14 -> 0 | K39: =K26*K14 -> 0 | L39: =L26*L14 -> 0 | M39: =M26*M14 -> 0 | N39: =N26*N14 -> 0
A40: Huisvestingskosten | F40: 0 | H40: Vakvolwassen 1 dienstjaar | I40: =I27*I15 -> 0 | J40: =J27*J15 -> 0 | K40: =K27*K15 -> 0 | L40: =L27*L15 -> 0 | M40: =M27*M15 -> 0 | N40: =N27*N15 -> 0
A41: Reiskosten/autokosten | C41: Projectgebonden! | F41: 0 | H41: Vakvolwassen 2 dienstjaren | I41: =I28*I16 -> 0 | J41: =J28*J16 -> 0 | K41: =K28*K16 -> 0 | L41: =L28*L16 -> 0 | M41: =M28*M16 -> 0 | N41: =N28*N16 -> 0
A42: Kosten verzuimbegeleiding | F42: 0 | H42: Vakvolwassen 3 dienstjaren | I42: =I29*I17 -> 0 | J42: =J29*J17 -> 0 | K42: =K29*K17 -> 0 | L42: =L29*L17 -> 0 | M42: =M29*M17 -> 0 | N42: =N29*N17 -> 0
H43: Vakvolwassen 4 dienstjaren | I43: =I30*I18 -> 0 | J43: =J30*J18 -> 0 | K43: =K30*K18 -> 0 | L43: =L30*L18 -> 0 | M43: =M30*M18 -> 0 | N43: =N30*N18 -> 0
A44: Totaal indirecte kosten | E44: =SUM(E33:E43) -> 0 | F44: =IF(E44=0,0,E44/E$48) -> 0 | H44: Totaal per loongroepen | I44: =SUM(I37:I43) -> 0 | J44: =SUM(J37:J43) -> 0 | K44: =SUM(K37:K43) -> 0 | L44: =SUM(L37:L43) -> 0 | M44: =SUM(M37:M43) -> 0 | N44: =SUM(N37:N43) -> 0
A46: Risico en winst | F46: =(IF(E46=0,0,E46/E$48)) -> 0
...

Sheet 7b. Opbouw uurtarief toezicht
A1: Invoervelden
A3: Naam opdrachtgever | B3: =+Invulinstructie!D3 -> CBR
A4: Calculatie onderdeel | B4: 7b. Opbouw uurtarief toezicht
A5: Gebouw/plaats | B5: =+'3a. Schoonmaak totaal'!B5 -> Landelijk
A6: Besteknummer | B6: =Mutatieblad!B4 -> CBR2026.001
A7: Naam dienstverlener | B7: =+Invulinstructie!D6 -> 0
A8: Prijspeil | B8: =+Invulinstructie!D5 -> 46235
A10: Tariefopbouw per loongroep | E10: Gemiddeld tarief regulier onderhoud ma t/m vr | H10: Medewerker | I10: cao basis uurlonen per 1 januari 2026
I11: 1 | J11: 2 | K11: 3 | L11: 4 | M11: 5 | N11: 6
A12: Basisuurloon | E12: =SUM(I44:N44) -> 0 | H12: 17 jaar en jonger | I12: 12 | J12: 12.43 | K12: 12.91 | L12: 13.55 | M12: 14.07 | N12: 14.78
A13: Specialistentoeslag | C13: Projectgebonden! | E13: 0 | H13: 18 jaar | I13: 12.74 | J13: 13.2 | K13: 13.71 | L13: 14.39 | M13: 14.94 | N13: 15.7
A14: Overgangsregeling | C14: Projectgebonden! | E14: 0 | H14: 19 jaar | I14: 13.49 | J14: 13.97 | K14: 14.51 | L14: 15.23 | M14: 15.82 | N14: 16.62
A15: Gevarentoeslag (indien van toepassing) | H15: Vakvolwassen 1 dienstjaar | I15: 15.52 | J15: 16.08 | K15: 16.7 | L15: 17.53 | M15: 18.2 | N15: 19.12
A16: Bruto uurloon | E16: =SUM(E12:E15) -> 0 | H16: Vakvolwassen 2 dienstjaren | I16: 16.08 | J16: 16.63 | K16: 17.3 | L16: 18.14 | M16: 18.82 | N16: 19.77
H17: Vakvolwassen 3 dienstjaren | I17: 16.55 | J17: 17.17 | K17: 17.84 | L17: 18.73 | M17: 19.45 | N17: 20.42
A18: Vakantietoeslag | E18: =$C18*E16 -> 0 | H18: Vakvolwassen 4 dienstjaren | I18: 17.05 | J18: 17.7 | K18: 18.44 | L18: 19.31 | M18: 20.06 | N18: 21.07
A19: Structurele eindejaarsuitkering | E19: =$C19*E16 -> 0
A20: Bruto uurloon inclusief toeslagen | E20: =SUM(E16:E19) -> 0 | F20: =IF(E20=0,0,E20/E$48) -> 0
A22: SV-loon grondslag voor berekening sociale verzekeringen | E22: =E20 -> 0 | H22: Medewerker | I22: Percentage per loongroep voor gemiddeld tarief
A23: Premies Sociale Verzekeringen | C23: [zie premies en opslagen] | I23: 1 | J23: 2 | K23: 3 | L23: 4 | M23: 5 | N23: 6
A24: Subtotaal loonkosten per uur inclusief sociale verzekeringen | E24: =E23+E20 -> 0 | F24: =IF(E24=0,0,E24/E$48) -> 0 | H24: 17 jaar en jonger
H25: 18 jaar
A26: Opslag niet werkbare dagen | C26: [zie premies en opslagen] | H26: 19 jaar
A27: Totaal loonkosten per uur | E27: =SUM(E24:E26) -> 0 | F27: =IF(E27=0,0,E27/E$48) -> 0 | H27: Vakvolwassen 1 dienstjaar
H28: Vakvolwassen 2 dienstjaren
A29: Materiaal/- en middelen | C29: Projectgebonden! | E29: 0 | F29: 0 | H29: Vakvolwassen 3 dienstjaren
A30: Werkkleding en uitrusting | C30: Projectgebonden! | F30: 0 | H30: Vakvolwassen 4 dienstjaren
A31: Machinekosten | H31: Totaal per loongroepen | I31: =SUM(I24:I30) -> 0 | J31: =SUM(J24:J30) -> 0 | K31: =SUM(K24:K30) -> 0 | L31: =SUM(L24:L30) -> 0 | M31: =SUM(M24:M30) -> 0 | N31: =SUM(N24:N30) -> 0
A33: Totaal directe kosten | E33: =SUM(E27:E32) -> 0 | F33: =IF(E33=0,0,E33/E$48) -> 0
A35: Indirect toezicht | F35: 0 | H35: Medewerker | I35: Opbouw gemiddeld tarief | O35: =SUM(I31:N31) -> 0
A36: Managementkosten | F36: 0 | I36: 1 | J36: 2 | K36: 3 | L36: 4 | M36: 5 | N36: 6
A37: P.Z. kosten | F37: 0 | H37: 17 jaar en jonger | I37: =I24*I12 -> 0 | J37: =J24*J12 -> 0 | K37: =K24*K12 -> 0 | L37: =L24*L12 -> 0 | M37: =M24*M12 -> 0 | N37: =N24*N12 -> 0
A38: Opleiding | F38: 0 | H38: 18 jaar | I38: =I25*I13 -> 0 | J38: =J25*J13 -> 0 | K38: =K25*K13 -> 0 | L38: =L25*L13 -> 0 | M38: =M25*M13 -> 0 | N38: =N25*N13 -> 0
A39: Administratiekosten | F39: 0 | H39: 19 jaar | I39: =I26*I14 -> 0 | J39: =J26*J14 -> 0 | K39: =K26*K14 -> 0 | L39: =L26*L14 -> 0 | M39: =M26*M14 -> 0 | N39: =N26*N14 -> 0
A40: Huisvestingskosten | F40: 0 | H40: Vakvolwassen 1 dienstjaar | I40: =I27*I15 -> 0 | J40: =J27*J15 -> 0 | K40: =K27*K15 -> 0 | L40: =L27*L15 -> 0 | M40: =M27*M15 -> 0 | N40: =N27*N15 -> 0
A41: Reiskosten/autokosten | C41: Projectgebonden! | F41: 0 | H41: Vakvolwassen 2 dienstjaren | I41: =I28*I16 -> 0 | J41: =J28*J16 -> 0 | K41: =K28*K16 -> 0 | L41: =L28*L16 -> 0 | M41: =M28*M16 -> 0 | N41: =N28*N16 -> 0
A42: Kosten verzuimbegeleiding | F42: 0 | H42: Vakvolwassen 3 dienstjaren | I42: =I29*I17 -> 0 | J42: =J29*J17 -> 0 | K42: =K29*K17 -> 0 | L42: =L29*L17 -> 0 | M42: =M29*M17 -> 0 | N42: =N29*N17 -> 0
H43: Vakvolwassen 4 dienstjaren | I43: =I30*I18 -> 0 | J43: =J30*J18 -> 0 | K43: =K30*K18 -> 0 | L43: =L30*L18 -> 0 | M43: =M30*M18 -> 0 | N43: =N30*N18 -> 0
A44: Totaal indirecte kosten | E44: =SUM(E33:E43) -> 0 | F44: =IF(E44=0,0,E44/E$48) -> 0 | H44: Totaal per loongroepen | I44: =SUM(I37:I43) -> 0 | J44: =SUM(J37:J43) -> 0 | K44: =SUM(K37:K43) -> 0 | L44: =SUM(L37:L43) -> 0 | M44: =SUM(M37:M43) -> 0 | N44: =SUM(N37:N43) -> 0
A46: Risico en winst | F46: =(IF(E46=0,0,E46/E$48)) -> 0
...

Sheet 8. Regietarieven
A1: Invoervelden
A3: Naam opdrachtgever | B3: =+Invulinstructie!D3 -> CBR
A4: Calculatie onderdeel | B4: 8-Regietarieven
A5: Gebouw/plaats | B5: =+'3a. Schoonmaak totaal'!B5 -> Landelijk
A6: Besteknummer | B6: =Mutatieblad!B4 -> CBR2026.001
A7: Naam dienstverlener | B7: =+Invulinstructie!D6 -> 0
A8: Prijspeil | B8: =+Invulinstructie!D5 -> 46235
A11: Vloerenonderhoud (inclusief uit-/inruimen van het meubilair)
C13: Prijs p/m² excl. btw
A14: Activiteit | B14: Toelichting | C14: 0-100m² | D14: 101-500m² | E14: 501-1000m² | F14: > 1000m²
A15: Lino-/marmoleum conserveren | B15: 2 lagen | C15: 0 | D15: 0 | E15: 0 | F15: 0
A16: Lino-/marmoleum sprayen | B16: geheel | C16: 0 | D16: 0 | E16: 0 | F16: 0
A17: Steen/PVC schrobben | B17: geheel | C17: 0 | D17: 0 | E17: 0 | F17: 0
A18: Tapijt sproeiextraheren | B18: geheel | C18: 0 | D18: 0 | E18: 0 | F18: 0
A20: Reinigen Meubel en interieur
E22: Prijs p/stuk excl. btw
A23: Apparatuur/onderdeel | B23: Toelichting | E23: Aantal stuks 0-50 | F23: Aantal stuks > 50
A24: Bureaustoel | E24: 0 | F24: 0
A25: Overige stoel | E25: 0 | F25: 0
A26: Bank/fauteuil | E26: 0 | F26: 0
A27: Tuinmeubilair | E27: 0 | F27: 0
A29: Reinigen bureau-electronica reinigen
E31: Prijs p/stuk excl. btw
A32: Apparatuur/onderdeel | B32: Toelichting | E32: Aantal stuks 0-50 | F32: Aantal stuks > 50
A33: Systeemkast | B33: Inschuimen en afnemen. | E33: 0 | F33: 0
A34: Monitor | B34: Buitenzijde afnemen met speciale doek | E34: 0 | F34: 0
A35: Toetsenbord inclusief muis | B35: Uitzuigen en inschuimen | E35: 0 | F35: 0
A36: Printer klein | B36: Buitenzijde afnemen met speciale doek | E36: 0 | F36: 0
A37: Printer groot | B37: Buitenzijde afnemen met speciale doek | E37: 0 | F37: 0
A39: Reinigen raambekleding
A41: Apparatuur/onderdeel | B41: Toelichting | F41: Prijs p/ m2 excl. btw
A42: Lamellen/luxaflex | F42: 0
A43: Overige binnenzonwering | F43: 0
A45: Specialistische schoonmaak
C46: Prijs p/m2 excl. btw
A47: Activiteit | B47: Toelichting | C47: 0-100m² | D47: 101-500m² | E47: 501-1000m² | F47: > 1000m²
A48: Dieptereiniging sanitaire ruimte | B48: Middels stoomreiniging | C48: 0 | D48: 0 | E48: 0 | F48: 0
A49: Dieptereiniging keuken | C49: 0 | D49: 0 | E49: 0 | F49: 0
A52: Buitenterreinen en parkeerterreinen
C53: Prijs per beurt excl. btw
...

Sheet 9. Machinekosten
A1: Invoervelden
A3: Naam opdrachtgever | B3: =+Invulinstructie!D3 -> CBR
A4: Calculatie onderdeel | B4: 9. Machinekosten
A5: Gebouw/plaats | B5: =+'3a. Schoonmaak totaal'!B5 -> Landelijk
A6: Besteknummer | B6: =Mutatieblad!B4 -> CBR2026.001
A7: Naam dienstverlener | B7: =+Invulinstructie!D6 -> 0
A8: Prijspeil | B8: =+Invulinstructie!D5 -> 46235
A10: Locatie / kostenplaats | B10: Machine | C10: Catalogus prijs | D10: Korting | E10: Netto aanschaf prijs | F10: Afschrijvings termijn in jaren | G10: Restwaarde | H10: Afschrijvings kosten per jaar | I10: Onderhouds kosten per jaar | J10: Renteverlies per jaar | K10: Verzekerings kosten per jaar | M10: Totaal kosten per jaar per machine | O10: Inzet van het aantal machines [stuks] | P10: Totaal kosten per jaar
A11: Percentage
E12: =C12-D12 -> 0 | H12: =IF(F12=0,0,(E12-G12)/F12) -> 0 | I12: =C12*$I$11 -> 0 | J12: =C12*$J$11 -> 0 | K12: =C12*$K$11 -> 0 | M12: =SUM(H12:K12) -> 0 | P12: =M12*'7a. Opbouw uurtarief productie'!$Q$12*O12 -> 0
E13: =C13-D13 -> 0 | H13: =IF(F13=0,0,(E13-G13)/F13) -> 0 | I13: =C13*$I$11 -> 0 | J13: =C13*$J$11 -> 0 | K13: =C13*$K$11 -> 0 | M13: =SUM(H13:K13) -> 0 | P13: =M13*'7a. Opbouw uurtarief productie'!$Q$12*O13 -> 0
E14: =C14-D14 -> 0 | H14: =IF(F14=0,0,(E14-G14)/F14) -> 0 | I14: =C14*$I$11 -> 0 | J14: =C14*$J$11 -> 0 | K14: =C14*$K$11 -> 0 | M14: =SUM(H14:K14) -> 0 | P14: =M14*'7a. Opbouw uurtarief productie'!$Q$12*O14 -> 0
E15: =C15-D15 -> 0 | H15: =IF(F15=0,0,(E15-G15)/F15) -> 0 | I15: =C15*$I$11 -> 0 | J15: =C15*$J$11 -> 0 | K15: =$K$11*C15 -> 0 | M15: =SUM(H15:K15) -> 0 | P15: =M15*'7a. Opbouw uurtarief productie'!$Q$12*O15 -> 0
E16: =C16-D16 -> 0 | H16: =IF(F16=0,0,(E16-G16)/F16) -> 0 | I16: =C16*$I$11 -> 0 | J16: =C16*$J$11 -> 0 | K16: =$K$11*C16 -> 0 | M16: =SUM(H16:K16) -> 0 | P16: =M16*'7a. Opbouw uurtarief productie'!$Q$12*O16 -> 0
E17: =C17-D17 -> 0 | H17: =IF(F17=0,0,(E17-G17)/F17) -> 0 | I17: =C17*$I$11 -> 0 | J17: =C17*$J$11 -> 0 | K17: =$K$11*C17 -> 0 | M17: =SUM(H17:K17) -> 0 | P17: =M17*'7a. Opbouw uurtarief productie'!$Q$12*O17 -> 0
E18: =C18-D18 -> 0 | H18: =IF(F18=0,0,(E18-G18)/F18) -> 0 | I18: =C18*$I$11 -> 0 | J18: =C18*$J$11 -> 0 | K18: =$K$11*C18 -> 0 | M18: =SUM(H18:K18) -> 0 | P18: =M18*'7a. Opbouw uurtarief productie'!$Q$12*O18 -> 0
E19: =C19-D19 -> 0 | H19: =IF(F19=0,0,(E19-G19)/F19) -> 0 | I19: =C19*$I$11 -> 0 | J19: =C19*$J$11 -> 0 | K19: =$K$11*C19 -> 0 | M19: =SUM(H19:K19) -> 0 | P19: =M19*'7a. Opbouw uurtarief productie'!$Q$12*O19 -> 0
E20: =C20-D20 -> 0 | H20: =IF(F20=0,0,(E20-G20)/F20) -> 0 | I20: =C20*$I$11 -> 0 | J20: =C20*$J$11 -> 0 | K20: =$K$11*C20 -> 0 | M20: =SUM(H20:K20) -> 0 | P20: =M20*'7a. Opbouw uurtarief productie'!$Q$12*O20 -> 0
E21: =C21-D21 -> 0 | H21: =IF(F21=0,0,(E21-G21)/F21) -> 0 | I21: =C21*$I$11 -> 0 | J21: =C21*$J$11 -> 0 | K21: =$K$11*C21 -> 0 | M21: =SUM(H21:K21) -> 0 | P21: =M21*'7a. Opbouw uurtarief productie'!$Q$12*O21 -> 0
E22: =C22-D22 -> 0 | H22: =IF(F22=0,0,(E22-G22)/F22) -> 0 | I22: =C22*$I$11 -> 0 | J22: =C22*$J$11 -> 0 | K22: =$K$11*C22 -> 0 | M22: =SUM(H22:K22) -> 0 | P22: =M22*'7a. Opbouw uurtarief productie'!$Q$12*O22 -> 0
E23: =C23-D23 -> 0 | H23: =IF(F23=0,0,(E23-G23)/F23) -> 0 | I23: =C23*$I$11 -> 0 | J23: =C23*$J$11 -> 0 | K23: =$K$11*C23 -> 0 | M23: =SUM(H23:K23) -> 0 | P23: =M23*'7a. Opbouw uurtarief productie'!$Q$12*O23 -> 0
A25: Totaal | O25: =SUM(O12:O23) -> 0 | P25: =SUM(P12:P23) -> 0

Sheet 10. Glasbewassing
A1: Invoervelden
A3: Naam opdrachtgever | B3: CBR
A4: Versienummer | B4: =Invulinstructie!D4 -> V1.0
A5: Prijspeil | B5: 46235
A6: Leverancier | B6: 0
A10: GLASBEWASSING
A12: Locatie | B12: Adres | C12: Soort glas | D12: M2 | E12: Frequentie | F12: Prijs/m2 incl. bereikbaarheidsvoorzieningen | G12: Totaalprijs per jaar excl. BTW
A14: Alkmaar | B14: Olympiaweg 28 | C14: Buitengevelglas | D14: 113.53 | E14: 6 | F14: 0 | G14: =+D14*E14*F14 -> 0
A15: Alkmaar | B15: Olympiaweg 28 | C15: Binnengevelglas | D15: 106.28 | E15: 4 | F15: 0 | G15: =+D15*E15*F15 -> 0
A16: Alkmaar | B16: Olympiaweg 28 | C16: Separatieglas | D16: 55.43 | E16: 4 | F16: 0 | G16: =+D16*E16*F16 -> 0
A17: Alkmaar | B17: Olympiaweg 28 | C17: Overig glas | D17: 3.35 | E17: 2 | F17: 0 | G17: =+D17*E17*F17 -> 0
A18: Almelo | B18: Bedrijvenpark Twente 305 | C18: Buitengevelglas | D18: Verhuurder | E18: Verhuurder
A19: Almelo | B19: Bedrijvenpark Twente 305 | C19: Binnengevelglas | D19: 32.74 | E19: 4 | F19: 0 | G19: =+D19*E19*F19 -> 0
A20: Almelo | B20: Bedrijvenpark Twente 305 | C20: Separatieglas | D20: 3.59 | E20: 4 | F20: 0 | G20: =+D20*E20*F20 -> 0
A21: Amsterdam | B21: Naritaweg 150 | C21: Buitengevelglas | D21: 344.19 | E21: 6 | F21: 0 | G21: =+D21*E21*F21 -> 0
A22: Amsterdam | B22: Naritaweg 150 | C22: Binnengevelglas | D22: 341.39 | E22: 4 | F22: 0 | G22: =+D22*E22*F22 -> 0
A23: Amsterdam | B23: Naritaweg 150 | C23: Separatieglas | D23: 267.99 | E23: 4 | F23: 0 | G23: =+D23*E23*F23 -> 0
A24: Amsterdam | B24: Naritaweg 150 | C24: Overig glas | D24: 200 | E24: 2
A25: Apeldoorn | B25: Antillen 11 | C25: Buitengevelglas | D25: Verhuurder | E25: Verhuurder
A26: Apeldoorn | B26: Antillen 11 | C26: Binnengevelglas | D26: 34.51 | E26: 4 | F26: 0 | G26: =+D26*E26*F26 -> 0
A27: Apeldoorn | B27: Antillen 11 | C27: Separatieglas | D27: 8.12 | E27: 4 | F27: 0 | G27: =+D27*E27*F27 -> 0
A28: Arnhem (Hazenkamp) | B28: Hazenkamp 10 | C28: Buitengevelglas | D28: 489.67 | E28: 6 | F28: 0 | G28: =+D28*E28*F28 -> 0
A29: Arnhem (Hazenkamp) | B29: Hazenkamp 10 | C29: Binnengevelglas | D29: 489.67 | E29: 4 | F29: 0 | G29: =+D29*E29*F29 -> 0
A30: Arnhem (Hazenkamp) | B30: Hazenkamp 10 | C30: Separatieglas | D30: 213.81 | E30: 4 | F30: 0 | G30: =+D30*E30*F30 -> 0
A31: Arnhem (Wassenaarweg) | B31: Wassenaarweg 20 | C31: Buitengevelglas | D31: 514.3 | E31: 6 | F31: 0 | G31: =+D31*E31*F31 -> 0
A32: Arnhem (Wassenaarweg) | B32: Wassenaarweg 20 | C32: Binnengevelglas | D32: 542.92 | E32: 4 | F32: 0 | G32: =+D32*E32*F32 -> 0
A33: Arnhem (Wassenaarweg) | B33: Wassenaarweg 20 | C33: Separatieglas | D33: 248.4 | E33: 4 | F33: 0 | G33: =+D33*E33*F33 -> 0
A34: Arnhem (Bovenbeekstraat) | B34: Bovenbeekstraat 26a | C34: Buitengevelglas | D34: 82.14 | E34: 6 | F34: 0 | G34: =+D34*E34*F34 -> 0
