Workbook

Sheet A - Kortings% per groep
A2: Kortingsstaffel: kortingspercentage per categorie
B3: fictieve jaaromzet Da Vinci en Zadkine* | C3: kortings percentage | D3: fictieve totaalprijs Da Vinci en Zadkine*
A4: Food - Bier | B4: 4500 | D4: =B4-(B4*C4) -> 4500
A5: Food - Frisdrank (incl. vruchtensappen) | B5: 80000 | D5: =B5-(B5*C5) -> 80000
A6: Food - Gedistileerd | B6: 2500 | D6: =B6-(B6*C6) -> 2500
A7: Food - Vlees (vlees, vleeswaren, kip, gevogelte) | B7: 70000 | D7: =B7-(B7*C7) -> 70000
A8: Food - AGF | B8: 55000 | D8: =B8-(B8*C8) -> 55000
A9: Food - Vis | B9: 41000 | D9: =B9-(B9*C9) -> 41000
A10: Food - Zuivel | B10: 65000 | D10: =B10-(B10*C10) -> 65000
A11: Food - Diepvries (waaronder ijs, vlees, vis, groente en fruit) | B11: 51000 | D11: =B11-(B11*C11) -> 51000
A12: Food - DKW assortiment | B12: 134000 | D12: =B12-(B12*C12) -> 134000
A13: Non-food - Horecatoebehoren (keukenbenodigdheden, schoonmaakartikelen, overigen zoals servies, glaswerk, etc.) | B13: 67000 | D13: =B13-(B13*C13) -> 67000
B14: =SUM(B4:B13) -> 570000 | D14: =SUM(D4:D13) -> 570000
A16: * aan deze bedragen kunnen geen rechten ontleend worden.

Sheet B -Inschrijf obv korting% groep
A3: Er zijn geen rechten te ontlenen aan de genoemde aantallen in dit prijzenblad.
A4: De door u op te geven prijzen zijn franco huis inclusief bijkomende kosten, zoals verpakkingskosten, bezorgkosten, opslagkosten, kosten van administratie, facturering, creditering, voorraadkosten en alle eventuele overige kosten en ze worden vermeld exclusief BTW.
A6: Geschat aantal op jaarbasis * | B6: Bestel-eenheid | C6: Inhoud per bestel-eenheid | D6: Eenheid | E6: Inhoud per eenheid | F6: Artikelomschrijving | G6: Segment | H6: Basisprijs Inschrijver per besteleenheid | I6: Kortingspercentage groep | J6: Aanbiedingsprijs Inschrijver per besteleenheid | K6: Totaalprijs
A7: 22 | B7: krt | C7: 24 | D7: fles | E7: 30cl | F7: HERTOG JAN 0.0% 30CL | G7: Bier | I7: ='A - Kortings% per groep'!$C$4 -> 0 | J7: =H7-(H7*I7) -> 0 | K7: =J7*A7 -> 0
A8: 29 | B8: krt | C8: 24 | D8: fles | E8: 30cl | F8: HERTOG JAN WEIZENER 30CL | G8: Bier | I8: ='A - Kortings% per groep'!$C$4 -> 0 | J8: =H8-(H8*I8) -> 0 | K8: =J8*A8 -> 0
A9: 43 | B9: krt | C9: 24 | D9: fles | E9: 30cl | F9: HERTOG JAN 30CL | G9: Bier | I9: ='A - Kortings% per groep'!$C$4 -> 0 | J9: =H9-(H9*I9) -> 0 | K9: =J9*A9 -> 0
A11: 156 | B11: krt | C11: 24 | D11: fles | E11: 25cl | F11: CHAUDFONTAINE SPARKLING 25CL | G11: Frisdrank | I11: ='A - Kortings% per groep'!$C$5 -> 0 | J11: =H11-(H11*I11) -> 0 | K11: =J11*A11 -> 0
A12: 108 | B12: krt | C12: 24 | D12: fles | E12: 20cl | F12: COCA-COLA ZERO SUGAR 20CL | G12: Frisdrank | I12: ='A - Kortings% per groep'!$C$5 -> 0 | J12: =H12-(H12*I12) -> 0 | K12: =J12*A12 -> 0
A13: 118 | B13: krt | C13: 24 | D13: fles | E13: 20cl | F13: COCA COLA REGULAR 20CL GLAS | G13: Frisdrank | I13: ='A - Kortings% per groep'!$C$5 -> 0 | J13: =H13-(H13*I13) -> 0 | K13: =J13*A13 -> 0
A14: 29 | B14: krt | C14: 24 | D14: fles | E14: 20cl | F14: FUZE TEA GREEN GLAS 0,2L | G14: Frisdrank | I14: ='A - Kortings% per groep'!$C$5 -> 0 | J14: =H14-(H14*I14) -> 0 | K14: =J14*A14 -> 0
A15: 9 | B15: krt | C15: 24 | D15: fles | E15: 20cl | F15: ROYAL BLISS BITTER LEMON 20CL | G15: Frisdrank | I15: ='A - Kortings% per groep'!$C$5 -> 0 | J15: =H15-(H15*I15) -> 0 | K15: =J15*A15 -> 0
A16: 79 | B16: can | C16: 8 | D16: can | E16: 2L | F16: SINAASAPPELSAP DAGVERS | G16: Frisdrank | I16: ='A - Kortings% per groep'!$C$5 -> 0 | J16: =H16-(H16*I16) -> 0 | K16: =J16*A16 -> 0
A18: 3 | B18: fles | C18: 1 | D18: fles | E18: 70cl | F18: GIN MARE | G18: Gedistileerd | I18: ='A - Kortings% per groep'!$C$6 -> 0 | J18: =H18-(H18*I18) -> 0 | K18: =J18*A18 -> 0
A19: 5 | B19: fles | C19: 1 | D19: fles | E19: 1L | F19: BACARDI CARTA BLANCA | G19: Gedistileerd | I19: ='A - Kortings% per groep'!$C$6 -> 0 | J19: =H19-(H19*I19) -> 0 | K19: =J19*A19 -> 0
A20: 3 | B20: fles | C20: 1 | D20: fles | E20: 70cl | F20: LUXARDO LIMONCELLO | G20: Gedistileerd | I20: ='A - Kortings% per groep'!$C$6 -> 0 | J20: =H20-(H20*I20) -> 0 | K20: =J20*A20 -> 0
A22: 69 | B22: pak | C22: 1 | D22: pak | E22: 18 st | F22: TORTILLA WRAP 16,3CM | G22: DKW | I22: ='A - Kortings% per groep'!$C$12 -> 0 | J22: =H22-(H22*I22) -> 0 | K22: =J22*A22 -> 0
A23: 7 | B23: zak | C23: 1 | D23: zak | E23: 1L | F23: GEVOGELTEFOND AUTHENTIEK | G23: DKW | I23: ='A - Kortings% per groep'!$C$12 -> 0 | J23: =H23-(H23*I23) -> 0 | K23: =J23*A23 -> 0
A24: 9 | B24: zak | C24: 1 | D24: zak | E24: 1kg | F24: MAIZENA WIT GLUTENVRIJ | G24: DKW | I24: ='A - Kortings% per groep'!$C$12 -> 0 | J24: =H24-(H24*I24) -> 0 | K24: =J24*A24 -> 0
A25: 4 | B25: folie | C25: 6 | D25: pak | E25: 1kg | F25: PATENTBLOEM 1KG BLOEM VOOR PATISSERIE | G25: DKW | I25: ='A - Kortings% per groep'!$C$12 -> 0 | J25: =H25-(H25*I25) -> 0 | K25: =J25*A25 -> 0
A26: 4 | B26: zak | C26: 1 | D26: zak | E26: 3kg | F26: PENNE RIGATE STANDARD | G26: DKW | I26: ='A - Kortings% per groep'!$C$12 -> 0 | J26: =H26-(H26*I26) -> 0 | K26: =J26*A26 -> 0
A27: 11 | B27: zak | C27: 1 | D27: zak | E27: 1kg | F27: GROENE LINZEN | G27: DKW | I27: ='A - Kortings% per groep'!$C$12 -> 0 | J27: =H27-(H27*I27) -> 0 | K27: =J27*A27 -> 0
A28: 67 | B28: emmer | C28: 1 | D28: emmer | E28: 2500ml | F28: MAYONAISE | G28: DKW | I28: ='A - Kortings% per groep'!$C$12 -> 0 | J28: =H28-(H28*I28) -> 0 | K28: =J28*A28 -> 0
A29: 5 | B29: emmer | C29: 1 | D29: emmer | E29: 2500gr | F29: WIJKO SATESAUS KANT&KLAAR | G29: DKW | I29: ='A - Kortings% per groep'!$C$12 -> 0 | J29: =H29-(H29*I29) -> 0 | K29: =J29*A29 -> 0
A30: 11 | B30: pot | C30: 1 | D30: pot | E30: 865gr | F30: MOSTERD DIJON | G30: DKW | I30: ='A - Kortings% per groep'!$C$12 -> 0 | J30: =H30-(H30*I30) -> 0 | K30: =J30*A30 -> 0
A31: 7 | B31: zak | C31: 1 | D31: zak | E31: 1kg | F31: BASMATI RIJST | G31: DKW | I31: ='A - Kortings% per groep'!$C$12 -> 0 | J31: =H31-(H31*I31) -> 0 | K31: =J31*A31 -> 0
A32: 12 | B32: fles | C32: 1 | D32: fles | E32: 3L | F32: ZONNEBLOEMOLIE | G32: DKW | I32: ='A - Kortings% per groep'!$C$12 -> 0 | J32: =H32-(H32*I32) -> 0 | K32: =J32*A32 -> 0
A33: 14 | B33: emmer | C33: 1 | D33: emmer | E33: 10L | F33: FRITUUROLIE | G33: DKW | I33: ='A - Kortings% per groep'!$C$12 -> 0 | J33: =H33-(H33*I33) -> 0 | K33: =J33*A33 -> 0
... A35: 24 | B35: emmer | C35: 1 | D35: emmer | E35: 10L | F35: FRITUURVET VLOEIBAAR | G35: DKW | I35: ='A - Kortings% per groep'!$C$12 -> 0 | J35: =H35-(H35*I35) -> 0 | K35: =J35*A35 -> 0
A37: 14 | B37: can | C37: 1 | D37: can | E37: 5L | F37: MR.PROPER OCEAANFRIS ALLESREINIGER | G37: Non food | I37: ='A - Kortings% per groep'!$C$13 -> 0 | J37: =H37-(H37*I37) -> 0 | K37: =J37*A37 -> 0
A38: 102 | B38: fles | C38: 1 | D38: fles | E38: 900ml | F38: DUBRO AFWASMIDDEL LIMOEN FRIS 900ML | G38: Non food | I38: ='A - Kortings% per groep'!$C$13 -> 0 | J38: =H38-(H38*I38) -> 0 | K38: =J38*A38 -> 0
A39: 30 | B39: kf | C39: 10 | D39: kf | E39: st | F39: SCHUURSPONS MET GREEP, KRACHTIG SCHUREND | G39: Non food | I39: ='A - Kortings% per groep'!$C$13 -> 0 | J39: =H39-(H39*I39) -> 0 | K39: =J39*A39 -> 0
A40: 55 | B40: fles | C40: 1 | D40: fles | E40: 650ml | F40: DUBRO KEUKENONTVETTERSPRAY 650ML | G40: Non food | I40: ='A - Kortings% per groep'!$C$13 -> 0 | J40: =H40-(H40*I40) -> 0 | K40: =J40*A40 -> 0
A41: 17 | B41: pak | C41: 1 | D41: pak | E41: 300 st | F41: SERVET TISSUE 2LGS 24CM 1/4V ZWART | G41: Non food | I41: ='A - Kortings% per groep'!$C$13 -> 0 | J41: =H41-(H41*I41) -> 0 | K41: =J41*A41 -> 0
A43: 22 | B43: kg | C43: 1 | E43: 1kg | F43: RUNDERKOGELBIEFSTUK NORLAND | G43: Vlees | I43: ='A - Kortings% per groep'!$C$7 -> 0 | J43: =H43-(H43*I43) -> 0 | K43: =J43*A43 -> 0
A44: 118 | B44: kg | C44: 1 | E44: 1kg | F44: RUNDERGEHAKT ONGEKRUID | G44: Vlees | I44: ='A - Kortings% per groep'!$C$7 -> 0 | J44: =H44-(H44*I44) -> 0 | K44: =J44*A44 -> 0
A45: 45 | B45: kg | C45: 1 | E45: 1kg | F45: KIPFILET HAASJES - 1KG VAC | G45: Vlees | I45: ='A - Kortings% per groep'!$C$7 -> 0 | J45: =H45-(H45*I45) -> 0 | K45: =J45*A45 -> 0
A46: 16 | B46: kg | C46: 1 | E46: 1kg | F46: HERT BIEFSTUK GEVLIESD 5TD | G46: Vlees | I46: ='A - Kortings% per groep'!$C$7 -> 0 | J46: =H46-(H46*I46) -> 0 | K46: =J46*A46 -> 0
A47: 50 | B47: kg | C47: 1 | E47: 1kg | F47: KIPFILET GEROOKT | G47: Vlees | I47: ='A - Kortings% per groep'!$C$7 -> 0 | J47: =H47-(H47*I47) -> 0 | K47: =J47*A47 -> 0
A48: 3 | B48: kg | C48: 1 | E48: 1kg | F48: KATENSPEK | G48: Vlees | I48: ='A - Kortings% per groep'!$C$7 -> 0 | J48: =H48-(H48*I48) -> 0 | K48: =J48*A48 -> 0
A49: 18 | B49: kg | C49: 1 | E49: 1kg | F49: VARKENS SPARE RIB M/K DIK VAC. | G49: Vlees | I49: ='A - Kortings% per groep'!$C$7 -> 0 | J49: =H49-(H49*I49) -> 0 | K49: =J49*A49 -> 0
A50: 51 | B50: kg | C50: 1 | E50: 1kg | F50: RUNDERENTRECOTE 180GR | G50: Vlees | I50: ='A - Kortings% per groep'!$C$7 -> 0 | J50: =H50-(H50*I50) -> 0 | K50: =J50*A50 -> 0
A52: 298 | B52: stuk | C52: 1 | D52: stuk | F52: KOMKOMMER | G52: AGF | I52: ='A - Kortings% per groep'!$C$8 -> 0 | J52: =H52-(H52*I52) -> 0 | K52: =J52*A52 -> 0
A53: 401 | B53: zak | C53: 1 | D53: zak | E53: 1kg | F53: PAPRIKA ROOD | G53: AGF | I53: ='A - Kortings% per groep'!$C$8 -> 0 | J53: =H53-(H53*I53) -> 0 | K53: =J53*A53 -> 0
A54: 230 | B54: stuk | C54: 1 | D54: stuk | F54: COURGETTE GROEN | G54: AGF | I54: ='A - Kortings% per groep'!$C$8 -> 0 | J54: =H54-(H54*I54) -> 0 | K54: =J54*A54 -> 0
A55: 101 | B55: stuk | C55: 1 | D55: stuk | F55: SLA ROMAINE KL1 | G55: AGF | I55: ='A - Kortings% per groep'!$C$8 -> 0 | J55: =H55-(H55*I55) -> 0 | K55: =J55*A55 -> 0
A56: 182 | B56: stuk | C56: 1 | D56: stuk | F56: AUBERGINE | G56: AGF | I56: ='A - Kortings% per groep'!$C$8 -> 0 | J56: =H56-(H56*I56) -> 0 | K56: =J56*A56 -> 0
A57: 565 | B57: zak | C57: 1 | D57: zak | E57: 1kg | F57: AARDAPPELEN BONKEN (GEWASSEN) | G57: AGF | I57: ='A - Kortings% per groep'!$C$8 -> 0 | J57: =H57-(H57*I57) -> 0 | K57: =J57*A57 -> 0
A59: 22 | B59: doos | C59: 1 | D59: doos | E59: 800gr | F59: BLACK TIGER GARNAAL MET KOP 16/20 RC | G59: Vis | I59: ='A - Kortings% per groep'!$C$9 -> 0 | J59: =H59-(H59*I59) -> 0 | K59: =J59*A59 -> 0
A60: 36 | B60: doos | C60: 1 | D60: doos | E60: 800gr | F60: COQUILLEVLEES 10/20 DV | G60: Vis | I60: ='A - Kortings% per groep'!$C$9 -> 0 | J60: =H60-(H60*I60) -> 0 | K60: =J60*A60 -> 0
A61: 16 | B61: doos | C61: 1 | D61: doos | E61: 1kg | F61: ZALM GEROOKT ZIJDE GESNEDEN ROYAL CATCH | G61: Vis | I61: ='A - Kortings% per groep'!$C$9 -> 0 | J61: =H61-(H61*I61) -> 0 | K61: =J61*A61 -> 0
A62: 106 | B62: doos | C62: 1 | D62: doos | E62: 1kg | F62: ZALMFILET ZONDER VEL UITSNIJ | G62: Vis | I62: ='A - Kortings% per groep'!$C$9 -> 0 | J62: =H62-(H62*I62) -> 0 | K62: =J62*A62 -> 0
A64: 499 | B64: pak | C64: 1 | D64: pak | E64: 1L | F64: MELK VOL HOUDBAAR BIO | G64: Zuivel | I64: ='A - Kortings% per groep'!$C$10 -> 0 | J64: =H64-(H64*I64) -> 0 | K64: =J64*A64 -> 0
A65: 21 | B65: doos | C65: 6 | D65: pak | E65: 250ml | F65: KARNEMELK | G65: Zuivel | I65: ='A - Kortings% per groep'!$C$10 -> 0 | J65: =H65-(H65*I65) -> 0 | K65: =J65*A65 -> 0
A66: 270 | B66: pak | C66: 1 | D66: pak | E66: 1L | F66: KOOKROOM 20% | G66: Zuivel | I66: ='A - Kortings% per groep'!$C$10 -> 0 | J66: =H66-(H66*I66) -> 0 | K66: =J66*A66 -> 0
A68: 15 | B68: doos | C68: 1 | D68: stuk | E68: 100st | F68: VLEESBITTERBAL 20% | G68: Diepvries | I68: ='A - Kortings% per groep'!$C$11 -> 0 | J68: =H68-(H68*I68) -> 0 | K68: =J68*A68 -> 0
A69: 25 | B69: doos | C69: 6 | D69: zak | E69: 2kg | F69: IJSBLOKJES | G69: Diepvries | I69: ='A - Kortings% per groep'!$C$11 -> 0 | J69: =H69-(H69*I69) -> 0 | K69: =J69*A69 -> 0
A71: * aan deze geschatte aantallen kunnen geen rechten ontleend worden. | K71: =SUM(K7:K69) -> 0
