Workbook

Sheet Voorblad
B2: Bijlage 5AD Prijsformulier - Invulinstructie
B3: Invulinstructie
B4: Hieronder volgen toelichting, instructies, eisen en voorwaarden voor het invullen van het invulblad van Bijlage 5AD Prijsformulier.
B5: Let op! Groen gemarkeerde velden zijn invulvelden
B6: Door invulling en ondertekening van dit prijsformulier verklaart Inschrijver dat:
B7: 1. de Inschrijving geschiedt overeenkomstig de bepalingen van het Aanbestedingsdocument 'Camerabeveiliging (CCTV) en toegangsregistratiesysteem (TRS)' met referentienummer TN612786 en de eventuele Nota(s) van Inlichtingen.
B8: 2. alle prijzen, tarieven en kosten integraal (all-in), reëel en marktconform zijn. All-in prijzen zijn inclusief alle logischerwijs tot de Opdracht behorende onderdelen en/of zaken, waaronder bijvoorbeeld en niet uitputtend kosten voor vervoer, voorrijdkosten, verzekeringen, opslagkosten, overhead, uitvoeringskosten, reiskosten, algemene kosten, winst en risico, afschrijvingskosten e.d..
B9: 3. Voor het doen van een prijsopgave voor de Opdracht uitsluitend het invulblad in dit prijsformulier is gebruikt en er geen wijzigingen in de opmaak of structuur van deze tabel, op straffe van uitsluiting van de aanbestedingsprocedure zijn aangebracht.
B10: 4. de aangeboden prijzen in euro’s exclusief btw zijn;
B11: 5. het prijsformulier volledig ingevuld en rechtsgeldig ondertekend is;
B12: 6. aan de genoemde aantallen kunnen geen rechten worden ontleend;
B13: 7. Inschrijver zelf verantwoordelijk is voor de formules en de getallen die door Inschrijver gebruikt zijn voor het invullen van de prijzen in het invulblad;
... B16: Totaal inschrijfprijs
B17: Type | L17: Prijs
B18: =Invulblad!B13 -> Totaal levering hardware en installatie CCTV & TRS Gemeentehuis | L18: =Invulblad!F13 -> 0
B19: =Invulblad!B23 -> Totaal levering hardware en installatie CCTV & TRS Werf | L19: =Invulblad!F23 -> 0
B20: =Invulblad!B29 -> Totaal Licentiekosten (10 jaar) | L20: =Invulblad!F29 -> 0
B21: =Invulblad!B36 -> Totaal Diensten en oplevering | L21: =Invulblad!F36 -> 0
B22: =Invulblad!B41 -> Totaal Brand- en inbraakbeveiliging (10 jaar) | L22: =Invulblad!F41 -> 0
B23: =Invulblad!B48 -> Overig, … | L23: =Invulblad!F48 -> 0
B24: Totaalprijs gehele looptijd overeenkomst (10 jaar) | L24: =SUM(L18:M23) -> 0
B26: Inschrijver:
B27: Datum:
B28: Naam rechtsgeldig ondertekenaar:
B29: Functie:
B30: Handtekening:

Sheet Invulblad
B2: Bijlage 5AD Prijsformulier - invulblad
B5: Levering hardware CCTV, incl. installatie voor het Gemeentehuis
B6: Onderdeel | C6: Opmerking/ eenheid | D6: Aantal | E6: Prijs per stuk excl BTW | F6: Totaal
B7: Hardware CCTV conform Aanbestedingsdocument | C7: Zie o.a. 1.6.6 Scope overzicht in Aanbestedingsdocument | D7: 1 | E7: 0 | F7: =E7*D7 -> 0
B8: Hardware TRS conform Aanbestedingsdocument | C8: Zie o.a. 1.6.6 Scope overzicht in Aanbestedingsdocument | D8: 1 | E8: 0 | F8: =E8*D8 -> 0
B9: Benodigde infrastructuur CCTV | C9: Netwerkaanpassingen, bekabeling, etc. | D9: 1 | E9: 0 | F9: =E9*D9 -> 0
B10: Benodigde infrastructuur TRS | C10: Netwerkaanpassingen, bekabeling, etc. | D10: 1 | E10: 0 | F10: =E10*D10 -> 0
B11: Installeren en in bedrijfstelling hardware CCTV | C11: Volledige installatie en gebruiksklaar maken per ruimte * | D11: 1 | E11: 0 | F11: =E11*D11 -> 0
B12: Installeren en inbedrijfstelling hardware TRS | C12: Volledige installatie en gebruiksklaar maken per ruimte * | D12: 1 | E12: 0 | F12: =E12*D12 -> 0
B13: Totaal levering hardware en installatie CCTV & TRS Gemeentehuis | F13: =F7+F8+F11+F12 -> 0
B15: Levering hardware CCTV, incl. installatie voor de Werf
B16: Onderdeel | C16: Opmerking/ eenheid | D16: Aantal | E16: Prijs per stuk excl BTW | F16: Totaal
B17: Hardware CCTV conform Anbestedingsdocument | C17: Zie o.a. 1.6.6 Scope overzicht in Aanbestedingsdocument | D17: 1 | E17: 0 | F17: =E17*D17 -> 0
B18: Hardware TRS conform Aanbestedingsdocument | C18: Zie o.a. 1.6.6 Scope overzicht in Aanbestedingsdocument | D18: 1 | E18: 0 | F18: =E18*D18 -> 0
B19: Benodigde infrastructuur CCTV | C19: Netwerkaanpassingen, bekabeling, etc. | D19: 1 | E19: 0 | F19: =E19*D19 -> 0
B20: Benodigde infrastructuur TRS | C20: Netwerkaanpassingen, bekabeling, etc. | D20: 1 | E20: 0 | F20: =E20*D20 -> 0
B21: Installeren hardware CCTV | C21: Volledige installatie en gebruiksklaar maken per ruimte * | D21: 1 | E21: 0 | F21: =E21*D21 -> 0
B22: Installeren hardware TRS | C22: Volledige installatie en gebruiksklaar maken per ruimte * | D22: 1 | E22: 0 | F22: =E22*D22 -> 0
B23: Totaal levering hardware en installatie CCTV & TRS Werf | F23: =F17+F18+F21+F22 -> 0
B25: Licentiekosten benodigde software
B26: Onderdeel | C26: Opmerking/ eenheid | D26: Aantal | E26: Prijs per jaar excl BTW | F26: Totaal
B27: Licentiekosten conform de eisen die aan de Opdracht zijn gesteld, zoals beschreven in het Aanbestedingsdocument | C27: Per jaar | D27: 10 | E27: 0 | F27: =E27*D27 -> 0
B28: Koppeling met Microsoft EntraID (of personeelssysteem AFAS) | C28: Per jaar | D28: 10 | E28: 0 | F28: =E28*D28 -> 0
B29: Totaal Licentiekosten (10 jaar) | F29: =F27 -> 0
B31: Diensten en oplevering
B32: Onderdeel | C32: Opmerking/ eenheid | D32: Aantal | E32: Prijs per stuk excl BTW | F32: Totaal
B33: Ontwerp & engineering beide locaties | C33: Eenmalig | D33: 1 | E33: 0 | F33: =E33*D33 -> 0
B34: Training functioneel beheerders (4-6 personen) en gebruikers (medewerkers Gemeente,circa 20 key-users) | C34: Eenmalig | D34: 1 | E34: 0 | F34: =E34*D34 -> 0
B35: Up-to-date documentatie (technisch, gebruikers, procedures) | C35: Eenmalig | D35: 1 | F35: =E35*D35 -> 0
B36: Totaal Diensten en oplevering | F36: =F33 -> 0
B38: Brand- en inbraakbeveiliging
B39: Onderdeel | C39: Opmerking/ eenheid | D39: Aantal
B40: Integratie CCTV & TRS met het bestaande Brand- en inbraakbeveiligingssysteem, inclusief paniekknoppen | C40: Per jaar | D40: 10 | F40: =E40*D40 -> 0
B41: Totaal Brand- en inbraakbeveiliging (10 jaar) | F41: =F40 -> 0
B43: Overig, …
B44: Onderdeel | C44: Opmerking/ eenheid | D44: Aantal
D45: 0 | E45: 0 | F45: =E45*D45 -> 0
D46: 0 | E46: 0 | F46: =E46*D46 -> 0
D47: 0 | E47: 0 | F47: =E47*D47 -> 0
B48: Overig, … | F48: =F47 -> 0
B50: * Met volledige installatie bedoelt de gemeente Barneveld dat na installatie de apparatuur bruikbaar is voor het doel zoals beschreven in de aanbestedingsdocumenten
B51: Daartoe behoort dus ook de afstemming met afdeling I&A en FZ om de volledige installatie te kunnen installeren en gebruiksklaar maken conform het PvE.
