Workbook

Sheet Totaal
A2: Bijlage E Prijzenblad
A3: Overzichtsblad prijs - inschrijving Europese aanbesteding AV-middelen Gemeente Zuidplas
A5: Invulinstructie
A6: 1. Vul alleen de grijzen cellen in
A7: 2. Alle aangeboden prijzen zijn ALL-IN, inclusief bijkomende kosten (zoals o.a.transport, montage, installatie, testen en afvoeren verpakkingsmaterialen). Indien componenten vergeten worden om te prijzen maar wel benodigd zijn voor de installatie van de apparatuur dan zijn deze kosten voor opdrachtnemer. Het is daarom de verantwoording van opdrachtnemer om een goede inventarisatie te maken van de benodigde apparatuur en middelen om de installatie conform het PvE op te leveren.
A8: 3. Alle prijzen en tarieven in € exclusief BTW.
A9: 4. Alle eisen, omschrijven in het Pogramma van Eisen dienen opgenomen te worden in het Prijzenblad.
A10: 5. De onderbouwing van de keuzes wordt toegelicht in de gunningsdocumentatie (G1 plan van aanpak inclusief communicatieplan)
A12: LET OP! Plafondbedrag is €650.000,00 exclusief btw. Inschrijvingen boven dit bedrag worden uitgesloten.
A15: Totale kosten op basis van tabbladen
A16: Fase 1 - Vergaderlocaties | B16: ='Fase 1'!J137 -> 0
A17: Fase 2 - Multifunctionele ruimte/trouwzaal | B17: ='Fase 2'!J28 -> 0
A18: Fase 3 - Raadzaal | B18: ='Fase 3'!I36 -> 0
A19: Overige kosten | B19: ='Overig '!H20 -> 0
A20: SLA (inclusief optiejaren) | B20: =SLA!E11 -> 0
A22: Totaal inschrijfsom | B22: =SUM(B16:B20) -> 0
A25: Ondertekening
A26: Naam aanbieder | B26: Nader in te vullen door inschrijver
A27: Rechtsgeldige vertegenwoordiger | B27: Nader in te vullen door inschrijver
A28: Functie | B28: Nader in te vullen door inschrijver
A29: Plaats en datum | B29: Nader in te vullen door inschrijver
A30: Handtekening | B30: Nader in te vullen door inschrijver

Sheet Fase 1
A2: Fase 1 - Vergaderlocaties
A5: Ruimte | B5: AV-syseem | C5: Omschrijving | D5: Eis | E5: Merk | F5: Type | G5: Uitvoering | H5: Prijs per stuk | I5: Aantal | J5: Sub totaal | K5: Extra omschrijving/toelichting
A6: 1.02 vergaderkamer | D6: Hoofdstuk 6.1 + 6.2 + 6.3+ 6.5 PvE
J7: =H7*I7 -> 0
J8: =H8*I8 -> 0
J9: =H9*I9 -> 0
J10: =H10*I10 -> 0
J11: =H11*I11 -> 0
J12: =H12*I12 -> 0
J13: =H13*I13 -> 0
J14: =H14*I14 -> 0
J15: =H15*I15 -> 0
A16: 1.04 Projectruimte | D16: Hoofdstuk 6.1 + 6.2 + 6.3+ 6.5 PvE
J17: =H17*I17 -> 0
J18: =H18*I18 -> 0
J19: =H19*I19 -> 0
J20: =H20*I20 -> 0
J21: =H21*I21 -> 0
J22: =H22*I22 -> 0
J23: =H23*I23 -> 0
J24: =H24*I24 -> 0
J25: =H25*I25 -> 0
A26: 1.08 Burgemeesterkamer/crisisruimte | D26: Hoofdstuk 6.1 + 6.2 + 6.3+ 6.5 PvE
J27: =H27*I27 -> 0
J28: =H28*I28 -> 0
J29: =H29*I29 -> 0
J30: =H30*I30 -> 0
J31: =H31*I31 -> 0
J32: =H32*I32 -> 0
J33: =H33*I33 -> 0
J34: =H34*I34 -> 0
J35: =H35*I35 -> 0
A36: 1.10 Vergaderkamer | D36: Hoofdstuk 6.1 + 6.2 + 6.3+ 6.5 PvE
J37: =H37*I37 -> 0
J38: =H38*I38 -> 0
J39: =H39*I39 -> 0
J40: =H40*I40 -> 0
J41: =H41*I41 -> 0
J42: =H42*I42 -> 0
J43: =H43*I43 -> 0
...

Sheet Fase 2
A2: Fase 2 - Multifunctionele ruimte/trouwzaal
A5: Ruimte | B5: AV-syseem | C5: Omschrijving | D5: Eis | E5: Merk | F5: Type | G5: Uitvoering | H5: Prijs per stuk | I5: Aantal | J5: Sub totaal | K5: Extra omschrijving/toelichting
A6: Multifunctionele zaal 0.12 | D6: Hoofdstuk 6.1 + 6.2 + 6.3+ 6.5 PvE
J7: =H7*I7 -> 0
J8: =H8*I8 -> 0
J9: =H9*I9 -> 0
J10: =H10*I10 -> 0
J11: =H11*I11 -> 0
J12: =H12*I12 -> 0
J13: =H13*I13 -> 0
J14: =H14*I14 -> 0
J15: =H15*I15 -> 0
A16: Trouwzaal 0.03 | D16: Hoofdstuk 6.1 + 6.2 + 6.3+ 6.4 PvE
J17: =H17*I17 -> 0
J18: =H18*I18 -> 0
J19: =H19*I19 -> 0
J20: =H20*I20 -> 0
J21: =H21*I21 -> 0
J22: =H22*I22 -> 0
J23: =H23*I23 -> 0
J24: =H24*I24 -> 0
J25: =H25*I25 -> 0
J26: =H26*I26 -> 0
I28: Totaal fase 2 | J28: =SUM(J6:J26) -> 0

Sheet Fase 3
A2: Fase 3 - Raadzaal
A5: AV-syseem | B5: Omschrijving | C5: Eis | D5: Merk | E5: Type | F5: Uitvoering | G5: Prijs per stuk | H5: Aantal | I5: Sub totaal | J5: Extra omschrijving/toelichting
C6: Hoofdstuk 4 PvE
I7: =G7*H7 -> 0
I8: =G8*H8 -> 0
I9: =G9*H9 -> 0
I10: =G10*H10 -> 0
I11: =G11*H11 -> 0
I12: =G12*H12 -> 0
I13: =G13*H13 -> 0
I14: =G14*H14 -> 0
I15: =G15*H15 -> 0
I16: =G16*H16 -> 0
I17: =G17*H17 -> 0
I18: =G18*H18 -> 0
... I34: =G34*H34 -> 0
H36: Totaal fase 3 | I36: =SUM(I6:I34) -> 0

Sheet Overig 
A2: Overige specificatie kosten
A5: Omschrijving | B5: Eis | C5: Merk | D5: Type | E5: Uitvoering | F5: Prijs per stuk/uur | G5: Aantal | H5: Sub totaal | I5: Extra omschrijving/toelichting
A6: Ruimtereserveringssysteem | B6: Hoofdstuk 7 PvE | H6: =F6*G6 -> 0
A7: Trainingen | B7: Hoofdstuk 1 en 7 PvE | H7: =F7*G7 -> 0 | I7: Prijs per training opgeven
A8: Software | B8: Hoofdstuk 5 PvE | H8: =F8*G8 -> 0
H9: =F9*G9 -> 0
H10: =F10*G10 -> 0
H11: =F11*G11 -> 0
H12: =F12*G12 -> 0
H13: =F13*G13 -> 0
H14: =F14*G14 -> 0
H15: =F15*G15 -> 0
H16: =F16*G16 -> 0
H17: =F17*G17 -> 0
H18: =F18*G18 -> 0
G20: Totaal overige kosten | H20: =SUM(H6:H18) -> 0

Sheet SLA
A2: Service Level Agreement (SLA) voor support en onderhoud
A3: SLA kosten op basis van 4 jaar en 4 x 1 optiejaar
A6: Omschrijving | B6: Aantal | C6: Eenheid | D6: Prijs | E6: Subtotaal
A7: SLA jaar 1 | B7: 8 | C7: jaar | E7: =B7*D7 -> 0
A9: Licentiekosten | B9: 8 | C9: jaar | E9: =B9*D9 -> 0
D11: Totaal SLA | E11: =SUM(E7:E9) -> 0
