Workbook
Name catdw_1_BKHB_1: Categorienormen!$F$6
Name catdw_1_BKHV_51: Categorienormen!$F$7
Name catdw_1_BKZB_1: Categorienormen!$F$8
Name catdw_1_BKZV_51: Categorienormen!$F$9
Name catdw_1_BRHB_1: Categorienormen!$F$10
Name catdw_1_BRHV_51: Categorienormen!$F$11
Name catdw_1_BRZB_1: Categorienormen!$F$12
Name catdw_1_BRZV_51: Categorienormen!$F$13
Name catdw_1_BVHB_1: Categorienormen!$F$14
Name catdw_1_BVHB_51: Categorienormen!$F$15
Name catdw_1_BVZB_1: Categorienormen!$F$16
Name catdw_1_BVZV_51: Categorienormen!$F$17
Name catdw_1_LOHB_1: Categorienormen!$F$18
Name catdw_1_LOHV_51: Categorienormen!$F$19
Name catdw_1_RKHB_1: Categorienormen!$F$26
Name catdw_1_RKHV_51: Categorienormen!$F$27
Name catdw_1_RPHB_1: Categorienormen!$F$28
Name catdw_1_RPHV_51: Categorienormen!$F$29
Name catdw_1_RRHB_1: Categorienormen!$F$30
Name catdw_1_RRHV_51: Categorienormen!$F$31
Name catdw_1_SDHB_1: Categorienormen!$F$20
Name catdw_1_SDHV_51: Categorienormen!$F$21
Name catdw_1_SKHB_1: Categorienormen!$F$22
Name catdw_1_SKHV_51: Categorienormen!$F$23
Name catdw_1_STHB_1: Categorienormen!$F$24
Name catdw_1_STHV_51: Categorienormen!$F$25
Name catdw_1_VAHB_1: Categorienormen!$F$32
Name catdw_1_VAHV_51: Categorienormen!$F$33
Name catdw_1_VAZB_1: Categorienormen!$F$34
Name catdw_1_VAZV_51: Categorienormen!$F$35
Name catdw_1_VEHB_1: Categorienormen!$F$36
Name catdw_1_VEHV_51: Categorienormen!$F$37
Name catdw_1_VEZB_1: Categorienormen!$F$38
Name catdw_1_VEZV_51: Categorienormen!$F$39
Name catdw_1_VLHB_1: Categorienormen!$F$40
Name catdw_1_VLHV_51: Categorienormen!$F$41
Name catdw_1_VOHB_1: Categorienormen!$F$42
Name catdw_1_VOHV_51: Categorienormen!$F$43
Name catdw_1_VTHB_1: Categorienormen!$F$44
Name catdw_1_VTHV_51: Categorienormen!$F$45
Name catfd_1_BKHB_1: Categorienormen!$C$6
Name catfd_1_BKHV_51: Categorienormen!$C$7
Name catfd_1_BKZB_1: Categorienormen!$C$8
Name catfd_1_BKZV_51: Categorienormen!$C$9
Name catfd_1_BRHB_1: Categorienormen!$C$10
Name catfd_1_BRHV_51: Categorienormen!$C$11
Name catfd_1_BRZB_1: Categorienormen!$C$12
Name catfd_1_BRZV_51: Categorienormen!$C$13
Name catfd_1_BVHB_1: Categorienormen!$C$14
Name catfd_1_BVHB_51: Categorienormen!$C$15
Name catfd_1_BVZB_1: Categorienormen!$C$16
Name catfd_1_BVZV_51: Categorienormen!$C$17
Name catfd_1_LOHB_1: Categorienormen!$C$18
Name catfd_1_LOHV_51: Categorienormen!$C$19
Name catfd_1_RKHB_1: Categorienormen!$C$26
Name catfd_1_RKHV_51: Categorienormen!$C$27
Name catfd_1_RPHB_1: Categorienormen!$C$28
Name catfd_1_RPHV_51: Categorienormen!$C$29
Name catfd_1_RRHB_1: Categorienormen!$C$30
Name catfd_1_RRHV_51: Categorienormen!$C$31

Sheet Omreken
A1: Blad 'Omreken'
A3: Dit blad mag niet worden gewijzigd!
A5: Type: | B5: Invultabel
A7: Werkdagen
A9: per jaar: | B9: 255
A10: per week: | B10: 5
A12: FREQ | B12: FACTOR
A13: 5W | B13: =IF(A13="2½W",2.5/dagenperweek1,IF(RIGHT(A13,1)="W",VALUE(LEFT(A13,LEN(A13)-1))/dagenperweek1,IF(RIGHT(A13,1)="J",VALUE(LEFT(A13,LEN(A13)-1))/dagenperjaar1,IF(RIGHT(A13,1)="D",VALUE(LEFT(A13,LEN(A13)-1)),"handmatig!")))) -> 1
A14: 4W | B14: =IF(A14="2½W",2.5/dagenperweek1,IF(RIGHT(A14,1)="W",VALUE(LEFT(A14,LEN(A14)-1))/dagenperweek1,IF(RIGHT(A14,1)="J",VALUE(LEFT(A14,LEN(A14)-1))/dagenperjaar1,IF(RIGHT(A14,1)="D",VALUE(LEFT(A14,LEN(A14)-1)),"handmatig!")))) -> 0.8
A15: 3W | B15: =IF(A15="2½W",2.5/dagenperweek1,IF(RIGHT(A15,1)="W",VALUE(LEFT(A15,LEN(A15)-1))/dagenperweek1,IF(RIGHT(A15,1)="J",VALUE(LEFT(A15,LEN(A15)-1))/dagenperjaar1,IF(RIGHT(A15,1)="D",VALUE(LEFT(A15,LEN(A15)-1)),"handmatig!")))) -> 0.6
A16: 2W | B16: =IF(A16="2½W",2.5/dagenperweek1,IF(RIGHT(A16,1)="W",VALUE(LEFT(A16,LEN(A16)-1))/dagenperweek1,IF(RIGHT(A16,1)="J",VALUE(LEFT(A16,LEN(A16)-1))/dagenperjaar1,IF(RIGHT(A16,1)="D",VALUE(LEFT(A16,LEN(A16)-1)),"handmatig!")))) -> 0.4
A17: 1W | B17: =IF(A17="2½W",2.5/dagenperweek1,IF(RIGHT(A17,1)="W",VALUE(LEFT(A17,LEN(A17)-1))/dagenperweek1,IF(RIGHT(A17,1)="J",VALUE(LEFT(A17,LEN(A17)-1))/dagenperjaar1,IF(RIGHT(A17,1)="D",VALUE(LEFT(A17,LEN(A17)-1)),"handmatig!")))) -> 0.2
A18: 26J | B18: =IF(A18="2½W",2.5/dagenperweek1,IF(RIGHT(A18,1)="W",VALUE(LEFT(A18,LEN(A18)-1))/dagenperweek1,IF(RIGHT(A18,1)="J",VALUE(LEFT(A18,LEN(A18)-1))/dagenperjaar1,IF(RIGHT(A18,1)="D",VALUE(LEFT(A18,LEN(A18)-1)),"handmatig!")))) -> 0.10196078
A19: 12J | B19: =IF(A19="2½W",2.5/dagenperweek1,IF(RIGHT(A19,1)="W",VALUE(LEFT(A19,LEN(A19)-1))/dagenperweek1,IF(RIGHT(A19,1)="J",VALUE(LEFT(A19,LEN(A19)-1))/dagenperjaar1,IF(RIGHT(A19,1)="D",VALUE(LEFT(A19,LEN(A19)-1)),"handmatig!")))) -> 0.047058824
A20: 10J | B20: =IF(A20="2½W",2.5/dagenperweek1,IF(RIGHT(A20,1)="W",VALUE(LEFT(A20,LEN(A20)-1))/dagenperweek1,IF(RIGHT(A20,1)="J",VALUE(LEFT(A20,LEN(A20)-1))/dagenperjaar1,IF(RIGHT(A20,1)="D",VALUE(LEFT(A20,LEN(A20)-1)),"handmatig!")))) -> 0.039215686
A21: 6J | B21: =IF(A21="2½W",2.5/dagenperweek1,IF(RIGHT(A21,1)="W",VALUE(LEFT(A21,LEN(A21)-1))/dagenperweek1,IF(RIGHT(A21,1)="J",VALUE(LEFT(A21,LEN(A21)-1))/dagenperjaar1,IF(RIGHT(A21,1)="D",VALUE(LEFT(A21,LEN(A21)-1)),"handmatig!")))) -> 0.023529412
A22: 4J | B22: =IF(A22="2½W",2.5/dagenperweek1,IF(RIGHT(A22,1)="W",VALUE(LEFT(A22,LEN(A22)-1))/dagenperweek1,IF(RIGHT(A22,1)="J",VALUE(LEFT(A22,LEN(A22)-1))/dagenperjaar1,IF(RIGHT(A22,1)="D",VALUE(LEFT(A22,LEN(A22)-1)),"handmatig!")))) -> 0.015686275
A23: 3J | B23: =IF(A23="2½W",2.5/dagenperweek1,IF(RIGHT(A23,1)="W",VALUE(LEFT(A23,LEN(A23)-1))/dagenperweek1,IF(RIGHT(A23,1)="J",VALUE(LEFT(A23,LEN(A23)-1))/dagenperjaar1,IF(RIGHT(A23,1)="D",VALUE(LEFT(A23,LEN(A23)-1)),"handmatig!")))) -> 0.011764706
A24: 2J | B24: =IF(A24="2½W",2.5/dagenperweek1,IF(RIGHT(A24,1)="W",VALUE(LEFT(A24,LEN(A24)-1))/dagenperweek1,IF(RIGHT(A24,1)="J",VALUE(LEFT(A24,LEN(A24)-1))/dagenperjaar1,IF(RIGHT(A24,1)="D",VALUE(LEFT(A24,LEN(A24)-1)),"handmatig!")))) -> 0.0078431373
A25: 1J | B25: =IF(A25="2½W",2.5/dagenperweek1,IF(RIGHT(A25,1)="W",VALUE(LEFT(A25,LEN(A25)-1))/dagenperweek1,IF(RIGHT(A25,1)="J",VALUE(LEFT(A25,LEN(A25)-1))/dagenperjaar1,IF(RIGHT(A25,1)="D",VALUE(LEFT(A25,LEN(A25)-1)),"handmatig!")))) -> 0.0039215686

Sheet Tariefopbouw
A1: Opbouw uurtarief
B3: Regulier werk | D3: Regulier werk | F3: Regulier werk | H3: Regulier werk | J3: Regulier werk | L3: Regie werk | N3: Regie werk | P3: Regie werk
B4: Uitvoering | D4: Uitvoering | F4: Uitvoering | H4: Directe leiding | J4: Directe leiding | L4: Uitvoering | N4: Uitvoering | P4: Directe leiding
A5: ONDERDEEL | B5: Vakvolwassene | D5: Vakvolwassene | F5: Leiding (meewerkend) | H5: Leiding (niet-meewerkend) | J5: Leiding (niet-meewerkend) | L5: Vakvolwassene regie | N5: Vakvolwassene regie | P5: Leiding regie
A6: Loongroep/ervaring | B6: >3 dienstjaren | F6: voorman/vrouw | H6: voorman/vrouw | J6: objectleider | N6: specialist
A7: Basis uurloon (CAO)
A8: Basis toeslagen
A9: Totaal basisloon | B9: =SUM(B7:B8) -> 0 | D9: =SUM(D7:D8) -> 0 | F9: =SUM(F7:F8) -> 0 | H9: =SUM(H7:H8) -> 0 | J9: =SUM(J7:J8) -> 0 | L9: =SUM(L7:L8) -> 0 | N9: =SUM(N7:N8) -> 0 | P9: =SUM(P7:P8) -> 0
A10: Vakantietoeslag | C10: =TariefOpbouwBasisloon1*B10 -> 0 | E10: =TariefOpbouwBasisloon2*D10 -> 0 | G10: =TariefOpbouwBasisloon3*F10 -> 0 | I10: =TariefOpbouwBasisloon4*H10 -> 0 | K10: =TariefOpbouwBasisloon5*J10 -> 0 | M10: =TariefOpbouwBasisloon6*L10 -> 0 | O10: =TariefOpbouwBasisloon7*N10 -> 0 | Q10: =TariefOpbouwBasisloon8*P10 -> 0
A11: Overige structurele uitkeringen | C11: =TariefOpbouwBasisloon1*B11 -> 0 | E11: =TariefOpbouwBasisloon2*D11 -> 0 | G11: =TariefOpbouwBasisloon3*F11 -> 0 | I11: =TariefOpbouwBasisloon4*H11 -> 0 | K11: =TariefOpbouwBasisloon5*J11 -> 0 | M11: =TariefOpbouwBasisloon6*L11 -> 0 | O11: =TariefOpbouwBasisloon7*N11 -> 0 | Q11: =TariefOpbouwBasisloon8*P11 -> 0
A12: Totaal uurloon inclusief toeslagen | B12: =SUM(TariefOpbouwBasisloon1,C10:C11) -> 0 | D12: =SUM(TariefOpbouwBasisloon2,E10:E11) -> 0 | F12: =SUM(TariefOpbouwBasisloon3,G10:G11) -> 0 | H12: =SUM(TariefOpbouwBasisloon4,I10:I11) -> 0 | J12: =SUM(TariefOpbouwBasisloon5,K10:K11) -> 0 | L12: =SUM(TariefOpbouwBasisloon6,M10:M11) -> 0 | N12: =SUM(TariefOpbouwBasisloon7,O10:O11) -> 0 | P12: =SUM(TariefOpbouwBasisloon8,Q10:Q11) -> 0
A13: Sociale lasten | C13: =TariefOpbouwUurloon1*B13 -> 0 | E13: =TariefOpbouwUurloon2*D13 -> 0 | G13: =TariefOpbouwUurloon3*F13 -> 0 | I13: =TariefOpbouwUurloon4*H13 -> 0 | K13: =TariefOpbouwUurloon5*J13 -> 0 | M13: =TariefOpbouwUurloon6*L13 -> 0 | O13: =TariefOpbouwUurloon7*N13 -> 0 | Q13: =TariefOpbouwUurloon8*P13 -> 0
A14: Totaal uurloon inclusief sociale lasten | B14: =SUM(TariefOpbouwUurloon1,C13:C13) -> 0 | D14: =SUM(TariefOpbouwUurloon2,E13:E13) -> 0 | F14: =SUM(TariefOpbouwUurloon3,G13:G13) -> 0 | H14: =SUM(TariefOpbouwUurloon4,I13:I13) -> 0 | J14: =SUM(TariefOpbouwUurloon5,K13:K13) -> 0 | L14: =SUM(TariefOpbouwUurloon6,M13:M13) -> 0 | N14: =SUM(TariefOpbouwUurloon7,O13:O13) -> 0 | P14: =SUM(TariefOpbouwUurloon8,Q13:Q13) -> 0
A15: Vakantiedagen | C15: =TariefOpbouwUurloonkosten1*B15 -> 0 | E15: =TariefOpbouwUurloonkosten2*D15 -> 0 | G15: =TariefOpbouwUurloonkosten3*F15 -> 0 | I15: =TariefOpbouwUurloonkosten4*H15 -> 0 | K15: =TariefOpbouwUurloonkosten5*J15 -> 0 | M15: =TariefOpbouwUurloonkosten6*L15 -> 0 | O15: =TariefOpbouwUurloonkosten7*N15 -> 0 | Q15: =TariefOpbouwUurloonkosten8*P15 -> 0
A16: Betaalde feestdagen | C16: =TariefOpbouwUurloonkosten1*B16 -> 0 | E16: =TariefOpbouwUurloonkosten2*D16 -> 0 | G16: =TariefOpbouwUurloonkosten3*F16 -> 0 | I16: =TariefOpbouwUurloonkosten4*H16 -> 0 | K16: =TariefOpbouwUurloonkosten5*J16 -> 0 | M16: =TariefOpbouwUurloonkosten6*L16 -> 0 | O16: =TariefOpbouwUurloonkosten7*N16 -> 0 | Q16: =TariefOpbouwUurloonkosten8*P16 -> 0
A17: Ziektedagen | C17: =TariefOpbouwUurloonkosten1*B17 -> 0 | E17: =TariefOpbouwUurloonkosten2*D17 -> 0 | G17: =TariefOpbouwUurloonkosten3*F17 -> 0 | I17: =TariefOpbouwUurloonkosten4*H17 -> 0 | K17: =TariefOpbouwUurloonkosten5*J17 -> 0 | M17: =TariefOpbouwUurloonkosten6*L17 -> 0 | O17: =TariefOpbouwUurloonkosten7*N17 -> 0 | Q17: =TariefOpbouwUurloonkosten8*P17 -> 0
A18: Overige niet werkbare dagen | C18: =TariefOpbouwUurloonkosten1*B18 -> 0 | E18: =TariefOpbouwUurloonkosten2*D18 -> 0 | G18: =TariefOpbouwUurloonkosten3*F18 -> 0 | I18: =TariefOpbouwUurloonkosten4*H18 -> 0 | K18: =TariefOpbouwUurloonkosten5*J18 -> 0 | M18: =TariefOpbouwUurloonkosten6*L18 -> 0 | O18: =TariefOpbouwUurloonkosten7*N18 -> 0 | Q18: =TariefOpbouwUurloonkosten8*P18 -> 0
A19: TOTAAL LOONKOSTEN PER UUR | B19: =SUM(TariefOpbouwUurloonkosten1,C15:C18) -> 0 | D19: =SUM(TariefOpbouwUurloonkosten2,E15:E18) -> 0 | F19: =SUM(TariefOpbouwUurloonkosten3,G15:G18) -> 0 | H19: =SUM(TariefOpbouwUurloonkosten4,I15:I18) -> 0 | J19: =SUM(TariefOpbouwUurloonkosten5,K15:K18) -> 0 | L19: =SUM(TariefOpbouwUurloonkosten6,M15:M18) -> 0 | N19: =SUM(TariefOpbouwUurloonkosten7,O15:O18) -> 0 | P19: =SUM(TariefOpbouwUurloonkosten8,Q15:Q18) -> 0
A20: Materialen en middelen | C20: =TariefOpbouwTotaalLoonkosten1*B20 -> 0 | E20: =TariefOpbouwTotaalLoonkosten2*D20 -> 0 | G20: =TariefOpbouwTotaalLoonkosten3*F20 -> 0 | I20: =TariefOpbouwTotaalLoonkosten4*H20 -> 0 | K20: =TariefOpbouwTotaalLoonkosten5*J20 -> 0 | M20: =TariefOpbouwTotaalLoonkosten6*L20 -> 0 | O20: =TariefOpbouwTotaalLoonkosten7*N20 -> 0 | Q20: =TariefOpbouwTotaalLoonkosten8*P20 -> 0
A21: Machinekosten | C21: =TariefOpbouwTotaalLoonkosten1*B21 -> 0 | E21: =TariefOpbouwTotaalLoonkosten2*D21 -> 0 | G21: =TariefOpbouwTotaalLoonkosten3*F21 -> 0 | I21: =TariefOpbouwTotaalLoonkosten4*H21 -> 0 | K21: =TariefOpbouwTotaalLoonkosten5*J21 -> 0 | M21: =TariefOpbouwTotaalLoonkosten6*L21 -> 0 | O21: =TariefOpbouwTotaalLoonkosten7*N21 -> 0 | Q21: =TariefOpbouwTotaalLoonkosten8*P21 -> 0
A22: Werkkleding en uitrusting | C22: =TariefOpbouwTotaalLoonkosten1*B22 -> 0 | E22: =TariefOpbouwTotaalLoonkosten2*D22 -> 0 | G22: =TariefOpbouwTotaalLoonkosten3*F22 -> 0 | I22: =TariefOpbouwTotaalLoonkosten4*H22 -> 0 | K22: =TariefOpbouwTotaalLoonkosten5*J22 -> 0 | M22: =TariefOpbouwTotaalLoonkosten6*L22 -> 0 | O22: =TariefOpbouwTotaalLoonkosten7*N22 -> 0 | Q22: =TariefOpbouwTotaalLoonkosten8*P22 -> 0
A23: Afvalzakken | C23: =TariefOpbouwTotaalLoonkosten1*B23 -> 0 | E23: =TariefOpbouwTotaalLoonkosten2*D23 -> 0 | G23: =TariefOpbouwTotaalLoonkosten3*F23 -> 0 | I23: =TariefOpbouwTotaalLoonkosten4*H23 -> 0 | K23: =TariefOpbouwTotaalLoonkosten5*J23 -> 0 | M23: =TariefOpbouwTotaalLoonkosten6*L23 -> 0 | O23: =TariefOpbouwTotaalLoonkosten7*N23 -> 0 | Q23: =TariefOpbouwTotaalLoonkosten8*P23 -> 0
A24: Reiskosten/vervoerskosten/parkeergelden | C24: =TariefOpbouwTotaalLoonkosten1*B24 -> 0 | E24: =TariefOpbouwTotaalLoonkosten2*D24 -> 0 | G24: =TariefOpbouwTotaalLoonkosten3*F24 -> 0 | I24: =TariefOpbouwTotaalLoonkosten4*H24 -> 0 | K24: =TariefOpbouwTotaalLoonkosten5*J24 -> 0 | M24: =TariefOpbouwTotaalLoonkosten6*L24 -> 0 | O24: =TariefOpbouwTotaalLoonkosten7*N24 -> 0 | Q24: =TariefOpbouwTotaalLoonkosten8*P24 -> 0
A25: Overige directe kosten | C25: =TariefOpbouwTotaalLoonkosten1*B25 -> 0 | E25: =TariefOpbouwTotaalLoonkosten2*D25 -> 0 | G25: =TariefOpbouwTotaalLoonkosten3*F25 -> 0 | I25: =TariefOpbouwTotaalLoonkosten4*H25 -> 0 | K25: =TariefOpbouwTotaalLoonkosten5*J25 -> 0 | M25: =TariefOpbouwTotaalLoonkosten6*L25 -> 0 | O25: =TariefOpbouwTotaalLoonkosten7*N25 -> 0 | Q25: =TariefOpbouwTotaalLoonkosten8*P25 -> 0
A26: TOTAAL DIRECTE KOSTEN | B26: =SUM(TariefOpbouwTotaalLoonkosten1,C20:C25) -> 0 | D26: =SUM(TariefOpbouwTotaalLoonkosten2,E20:E25) -> 0 | F26: =SUM(TariefOpbouwTotaalLoonkosten3,G20:G25) -> 0 | H26: =SUM(TariefOpbouwTotaalLoonkosten4,I20:I25) -> 0 | J26: =SUM(TariefOpbouwTotaalLoonkosten5,K20:K25) -> 0 | L26: =SUM(TariefOpbouwTotaalLoonkosten6,M20:M25) -> 0 | N26: =SUM(TariefOpbouwTotaalLoonkosten7,O20:O25) -> 0 | P26: =SUM(TariefOpbouwTotaalLoonkosten8,Q20:Q25) -> 0
A28: Indirecte leiding | C28: =TariefOpbouwDirecteKosten1*B28 -> 0 | E28: =TariefOpbouwDirecteKosten2*D28 -> 0 | G28: =TariefOpbouwDirecteKosten3*F28 -> 0 | I28: =TariefOpbouwDirecteKosten4*H28 -> 0 | K28: =TariefOpbouwDirecteKosten5*J28 -> 0 | M28: =TariefOpbouwDirecteKosten6*L28 -> 0 | O28: =TariefOpbouwDirecteKosten7*N28 -> 0 | Q28: =TariefOpbouwDirecteKosten8*P28 -> 0
A29: Managementkosten | C29: =TariefOpbouwDirecteKosten1*B29 -> 0 | E29: =TariefOpbouwDirecteKosten2*D29 -> 0 | G29: =TariefOpbouwDirecteKosten3*F29 -> 0 | I29: =TariefOpbouwDirecteKosten4*H29 -> 0 | K29: =TariefOpbouwDirecteKosten5*J29 -> 0 | M29: =TariefOpbouwDirecteKosten6*L29 -> 0 | O29: =TariefOpbouwDirecteKosten7*N29 -> 0 | Q29: =TariefOpbouwDirecteKosten8*P29 -> 0
A30: P.Z. kosten | C30: =TariefOpbouwDirecteKosten1*B30 -> 0 | E30: =TariefOpbouwDirecteKosten2*D30 -> 0 | G30: =TariefOpbouwDirecteKosten3*F30 -> 0 | I30: =TariefOpbouwDirecteKosten4*H30 -> 0 | K30: =TariefOpbouwDirecteKosten5*J30 -> 0 | M30: =TariefOpbouwDirecteKosten6*L30 -> 0 | O30: =TariefOpbouwDirecteKosten7*N30 -> 0 | Q30: =TariefOpbouwDirecteKosten8*P30 -> 0
A31: Opleiding | C31: =TariefOpbouwDirecteKosten1*B31 -> 0 | E31: =TariefOpbouwDirecteKosten2*D31 -> 0 | G31: =TariefOpbouwDirecteKosten3*F31 -> 0 | I31: =TariefOpbouwDirecteKosten4*H31 -> 0 | K31: =TariefOpbouwDirecteKosten5*J31 -> 0 | M31: =TariefOpbouwDirecteKosten6*L31 -> 0 | O31: =TariefOpbouwDirecteKosten7*N31 -> 0 | Q31: =TariefOpbouwDirecteKosten8*P31 -> 0
A32: Huisvesting | C32: =TariefOpbouwDirecteKosten1*B32 -> 0 | E32: =TariefOpbouwDirecteKosten2*D32 -> 0 | G32: =TariefOpbouwDirecteKosten3*F32 -> 0 | I32: =TariefOpbouwDirecteKosten4*H32 -> 0 | K32: =TariefOpbouwDirecteKosten5*J32 -> 0 | M32: =TariefOpbouwDirecteKosten6*L32 -> 0 | O32: =TariefOpbouwDirecteKosten7*N32 -> 0 | Q32: =TariefOpbouwDirecteKosten8*P32 -> 0
A33: Administratiekosten | C33: =TariefOpbouwDirecteKosten1*B33 -> 0 | E33: =TariefOpbouwDirecteKosten2*D33 -> 0 | G33: =TariefOpbouwDirecteKosten3*F33 -> 0 | I33: =TariefOpbouwDirecteKosten4*H33 -> 0 | K33: =TariefOpbouwDirecteKosten5*J33 -> 0 | M33: =TariefOpbouwDirecteKosten6*L33 -> 0 | O33: =TariefOpbouwDirecteKosten7*N33 -> 0 | Q33: =TariefOpbouwDirecteKosten8*P33 -> 0
A34: Overige overhead | C34: =TariefOpbouwDirecteKosten1*B34 -> 0 | E34: =TariefOpbouwDirecteKosten2*D34 -> 0 | G34: =TariefOpbouwDirecteKosten3*F34 -> 0 | I34: =TariefOpbouwDirecteKosten4*H34 -> 0 | K34: =TariefOpbouwDirecteKosten5*J34 -> 0 | M34: =TariefOpbouwDirecteKosten6*L34 -> 0 | O34: =TariefOpbouwDirecteKosten7*N34 -> 0 | Q34: =TariefOpbouwDirecteKosten8*P34 -> 0
A35: TOTAAL INDIRECTE KOSTEN | B35: =SUM(C28:C34) -> 0 | D35: =SUM(E28:E34) -> 0 | F35: =SUM(G28:G34) -> 0 | H35: =SUM(I28:I34) -> 0 | J35: =SUM(K28:K34) -> 0 | L35: =SUM(M28:M34) -> 0 | N35: =SUM(O28:O34) -> 0 | P35: =SUM(Q28:Q34) -> 0
A37: RISICO EN WINST | C37: =(TariefOpbouwDirecteKosten1+TariefOpbouwIndirecteKosten1)*B37 -> 0 | E37: =(TariefOpbouwDirecteKosten2+TariefOpbouwIndirecteKosten2)*D37 -> 0 | G37: =(TariefOpbouwDirecteKosten3+TariefOpbouwIndirecteKosten3)*F37 -> 0 | I37: =(TariefOpbouwDirecteKosten4+TariefOpbouwIndirecteKosten4)*H37 -> 0 | K37: =(TariefOpbouwDirecteKosten5+TariefOpbouwIndirecteKosten5)*J37 -> 0 | M37: =(TariefOpbouwDirecteKosten6+TariefOpbouwIndirecteKosten6)*L37 -> 0 | O37: =(TariefOpbouwDirecteKosten7+TariefOpbouwIndirecteKosten7)*N37 -> 0 | Q37: =(TariefOpbouwDirecteKosten8+TariefOpbouwIndirecteKosten8)*P37 -> 0
A39: TOTAAL UURTARIEF (excl. BTW) | B39: =TariefOpbouwDirecteKosten1+TariefOpbouwIndirecteKosten1+TariefOpbouwRisicoWinst1 -> 0 | D39: =TariefOpbouwDirecteKosten2+TariefOpbouwIndirecteKosten2+TariefOpbouwRisicoWinst2 -> 0 | F39: =TariefOpbouwDirecteKosten3+TariefOpbouwIndirecteKosten3+TariefOpbouwRisicoWinst3 -> 0 | H39: =TariefOpbouwDirecteKosten4+TariefOpbouwIndirecteKosten4+TariefOpbouwRisicoWinst4 -> 0 | J39: =TariefOpbouwDirecteKosten5+TariefOpbouwIndirecteKosten5+TariefOpbouwRisicoWinst5 -> 0 | L39: =TariefOpbouwDirecteKosten6+TariefOpbouwIndirecteKosten6+TariefOpbouwRisicoWinst6 -> 0 | N39: =TariefOpbouwDirecteKosten7+TariefOpbouwIndirecteKosten7+TariefOpbouwRisicoWinst7 -> 0 | P39: =TariefOpbouwDirecteKosten8+TariefOpbouwIndirecteKosten8+TariefOpbouwRisicoWinst8 -> 0
A40: Onregelmatigheids tijdstip: | B40: toeslag | C40: tarief | D40: toeslag | E40: tarief | F40: toeslag | G40: tarief | H40: toeslag | I40: tarief | J40: toeslag | K40: tarief | L40: toeslag | M40: tarief | N40: toeslag | O40: tarief | P40: toeslag | Q40: tarief
A41: - DN: ma-vr nacht | B41: 0.3 | C41: =((1+B41)*TariefOpbouwTotaalLoonkosten1+TariefOpbouwDirecteKosten1-TariefOpbouwTotaalLoonkosten1+TariefOpbouwIndirecteKosten1)*(1+TariefOpbouwRisicoWinstPercentage1) -> 0 | D41: 0.3 | E41: =((1+D41)*TariefOpbouwTotaalLoonkosten2+TariefOpbouwDirecteKosten2-TariefOpbouwTotaalLoonkosten2+TariefOpbouwIndirecteKosten2)*(1+TariefOpbouwRisicoWinstPercentage2) -> 0 | F41: 0.3 | G41: =((1+F41)*TariefOpbouwTotaalLoonkosten3+TariefOpbouwDirecteKosten3-TariefOpbouwTotaalLoonkosten3+TariefOpbouwIndirecteKosten3)*(1+TariefOpbouwRisicoWinstPercentage3) -> 0 | H41: 0.3 | I41: =((1+H41)*TariefOpbouwTotaalLoonkosten4+TariefOpbouwDirecteKosten4-TariefOpbouwTotaalLoonkosten4+TariefOpbouwIndirecteKosten4)*(1+TariefOpbouwRisicoWinstPercentage4) -> 0 | J41: 0.3 | K41: =((1+J41)*TariefOpbouwTotaalLoonkosten5+TariefOpbouwDirecteKosten5-TariefOpbouwTotaalLoonkosten5+TariefOpbouwIndirecteKosten5)*(1+TariefOpbouwRisicoWinstPercentage5) -> 0 | L41: 0.3 | M41: =((1+L41)*TariefOpbouwTotaalLoonkosten6+TariefOpbouwDirecteKosten6-TariefOpbouwTotaalLoonkosten6+TariefOpbouwIndirecteKosten6)*(1+TariefOpbouwRisicoWinstPercentage6) -> 0 | N41: 0.3 | O41: =((1+N41)*TariefOpbouwTotaalLoonkosten7+TariefOpbouwDirecteKosten7-TariefOpbouwTotaalLoonkosten7+TariefOpbouwIndirecteKosten7)*(1+TariefOpbouwRisicoWinstPercentage7) -> 0 | P41: 0.3 | Q41: =((1+P41)*TariefOpbouwTotaalLoonkosten8+TariefOpbouwDirecteKosten8-TariefOpbouwTotaalLoonkosten8+TariefOpbouwIndirecteKosten8)*(1+TariefOpbouwRisicoWinstPercentage8) -> 0
A42: - W: weekend | B42: 0.5 | C42: =((1+B42)*TariefOpbouwTotaalLoonkosten1+TariefOpbouwDirecteKosten1-TariefOpbouwTotaalLoonkosten1+TariefOpbouwIndirecteKosten1)*(1+TariefOpbouwRisicoWinstPercentage1) -> 0 | D42: 0.5 | E42: =((1+D42)*TariefOpbouwTotaalLoonkosten2+TariefOpbouwDirecteKosten2-TariefOpbouwTotaalLoonkosten2+TariefOpbouwIndirecteKosten2)*(1+TariefOpbouwRisicoWinstPercentage2) -> 0 | F42: 0.5 | G42: =((1+F42)*TariefOpbouwTotaalLoonkosten3+TariefOpbouwDirecteKosten3-TariefOpbouwTotaalLoonkosten3+TariefOpbouwIndirecteKosten3)*(1+TariefOpbouwRisicoWinstPercentage3) -> 0 | H42: 0.5 | I42: =((1+H42)*TariefOpbouwTotaalLoonkosten4+TariefOpbouwDirecteKosten4-TariefOpbouwTotaalLoonkosten4+TariefOpbouwIndirecteKosten4)*(1+TariefOpbouwRisicoWinstPercentage4) -> 0 | J42: 0.5 | K42: =((1+J42)*TariefOpbouwTotaalLoonkosten5+TariefOpbouwDirecteKosten5-TariefOpbouwTotaalLoonkosten5+TariefOpbouwIndirecteKosten5)*(1+TariefOpbouwRisicoWinstPercentage5) -> 0 | L42: 0.5 | M42: =((1+L42)*TariefOpbouwTotaalLoonkosten6+TariefOpbouwDirecteKosten6-TariefOpbouwTotaalLoonkosten6+TariefOpbouwIndirecteKosten6)*(1+TariefOpbouwRisicoWinstPercentage6) -> 0 | N42: 0.5 | O42: =((1+N42)*TariefOpbouwTotaalLoonkosten7+TariefOpbouwDirecteKosten7-TariefOpbouwTotaalLoonkosten7+TariefOpbouwIndirecteKosten7)*(1+TariefOpbouwRisicoWinstPercentage7) -> 0 | P42: 0.5 | Q42: =((1+P42)*TariefOpbouwTotaalLoonkosten8+TariefOpbouwDirecteKosten8-TariefOpbouwTotaalLoonkosten8+TariefOpbouwIndirecteKosten8)*(1+TariefOpbouwRisicoWinstPercentage8) -> 0
A43: - X: feestdag | B43: 1.5 | C43: =((1+B43)*TariefOpbouwTotaalLoonkosten1+TariefOpbouwDirecteKosten1-TariefOpbouwTotaalLoonkosten1+TariefOpbouwIndirecteKosten1)*(1+TariefOpbouwRisicoWinstPercentage1) -> 0 | D43: 1.5 | E43: =((1+D43)*TariefOpbouwTotaalLoonkosten2+TariefOpbouwDirecteKosten2-TariefOpbouwTotaalLoonkosten2+TariefOpbouwIndirecteKosten2)*(1+TariefOpbouwRisicoWinstPercentage2) -> 0 | F43: 1.5 | G43: =((1+F43)*TariefOpbouwTotaalLoonkosten3+TariefOpbouwDirecteKosten3-TariefOpbouwTotaalLoonkosten3+TariefOpbouwIndirecteKosten3)*(1+TariefOpbouwRisicoWinstPercentage3) -> 0 | H43: 1.5 | I43: =((1+H43)*TariefOpbouwTotaalLoonkosten4+TariefOpbouwDirecteKosten4-TariefOpbouwTotaalLoonkosten4+TariefOpbouwIndirecteKosten4)*(1+TariefOpbouwRisicoWinstPercentage4) -> 0 | J43: 1.5 | K43: =((1+J43)*TariefOpbouwTotaalLoonkosten5+TariefOpbouwDirecteKosten5-TariefOpbouwTotaalLoonkosten5+TariefOpbouwIndirecteKosten5)*(1+TariefOpbouwRisicoWinstPercentage5) -> 0 | L43: 1.5 | M43: =((1+L43)*TariefOpbouwTotaalLoonkosten6+TariefOpbouwDirecteKosten6-TariefOpbouwTotaalLoonkosten6+TariefOpbouwIndirecteKosten6)*(1+TariefOpbouwRisicoWinstPercentage6) -> 0 | N43: 1.5 | O43: =((1+N43)*TariefOpbouwTotaalLoonkosten7+TariefOpbouwDirecteKosten7-TariefOpbouwTotaalLoonkosten7+TariefOpbouwIndirecteKosten7)*(1+TariefOpbouwRisicoWinstPercentage7) -> 0 | P43: 1.5 | Q43: =((1+P43)*TariefOpbouwTotaalLoonkosten8+TariefOpbouwDirecteKosten8-TariefOpbouwTotaalLoonkosten8+TariefOpbouwIndirecteKosten8)*(1+TariefOpbouwRisicoWinstPercentage8) -> 0
A45: TARIEVEN REGULIER WERK | B45: Werkdag | D45: Glasbewassing | F45: Specialistisch vloeronderhoud | H45: Weekend | J45: Feestdag
...

Sheet Categorienormen
A1: =CONCATENATE("Bijlage D.1: ",tabeltype," categorienormen") -> Bijlage D.1: Invultabel categorienormen
A3: NORM-CODE | B3: CATEGORIE | C3: DAGEN/JAAR | D3: OMSCHRIJVING | E3: PRODUCTIE-NORM | F3: % HOOG-FREQUENT | G3: EENHEID | H3: TARIEF (EURO)
A5: WERKDAG
A6: BKHB | B6: B | C6: 1 | D6: Kantoorruimte hard (basis) | G6: m²/uur | H6: =Tariefopbouw1 -> 0
A7: BKHV | B7: B | C7: 51 | D7: Kantoorruimte hard (volledig) | G7: m²/uur | H7: =Tariefopbouw1 -> 0
A8: BKZB | B8: B | C8: 1 | D8: Kantoorruimte zacht (basis) | G8: m²/uur | H8: =Tariefopbouw1 -> 0
A9: BKZV | B9: B | C9: 51 | D9: Kantoorruimte zacht (volledig) | G9: m²/uur | H9: =Tariefopbouw1 -> 0
A10: BRHB | B10: B | C10: 1 | D10: Receptie/ontvangst/wachtruimte - hard (basis) | G10: m²/uur | H10: =Tariefopbouw1 -> 0
A11: BRHV | B11: B | C11: 51 | D11: Receptie/ontvangst/wachtruimte - hard (volledig) | G11: m²/uur | H11: =Tariefopbouw1 -> 0
A12: BRZB | B12: B | C12: 1 | D12: Receptie/ontvangst/wachtruimte - zacht (basis) | G12: m²/uur | H12: =Tariefopbouw1 -> 0
A13: BRZV | B13: B | C13: 51 | D13: Receptie/ontvangst/wachtruimte -zacht (volledig) | G13: m²/uur | H13: =Tariefopbouw1 -> 0
A14: BVHB | B14: B | C14: 1 | D14: Spreek-/overleg-/vergaderruimte/studio hard (basis) | G14: m²/uur | H14: =Tariefopbouw1 -> 0
A15: BVHB | B15: B | C15: 51 | D15: Spreek-/overleg-/vergaderruimte/studio hard (volledig) | G15: m²/uur | H15: =Tariefopbouw1 -> 0
A16: BVZB | B16: B | C16: 1 | D16: Spreek-/overleg-/vergaderruimte/studio zacht (basis) | G16: m²/uur | H16: =Tariefopbouw1 -> 0
A17: BVZV | B17: B | C17: 51 | D17: Spreek-/overleg-/vergaderruimte/studio zacht (volledig) | G17: m²/uur | H17: =Tariefopbouw1 -> 0
... A45: VTHV | B45: V | C45: 51 | D45: Trappenhuis/tapr hard (volledig) | G45: m²/uur | H45: =Tariefopbouw1 -> 0

Sheet Regulier werk
A1: =CONCATENATE("Bijlage D.2: ",tabeltype," regulier werk") -> Bijlage D.2: Invultabel regulier werk
A3: TAAK | B3: FREQ | C3: WERK- SOORT | D3: OMSCHRIJVING | E3: OPP OF AANTAL | F3: OPP OF AANTAL /DAG | G3: PRODUCTIE-NORM | H3: % HOOG-FREQUENT | I3: EENHEID | J3: TARIEF (EURO) | K3: UREN/ DAG | L3: PRIJS/ DAG | M3: UREN/ JAAR | N3: PRIJS/ JAAR
A5: WERKDAG
A6: BKH | B6: 5W | C6: interieur | D6: Kantoorruimte harde vloer | E6: 106.4 | F6: =E6*VLOOKUP(B6,dagsoorttabel1,2,FALSE) -> 106.4 | G6: =IF(AND(catpn_1_BKHB_1>0,catpn_1_BKHV_51>0),(dagenperjaar1*VLOOKUP(B6,dagsoorttabel1,2,FALSE))/(((dagenperjaar1*VLOOKUP(B6,dagsoorttabel1,2,FALSE))-catfd_1_BKHV_51)/catpn_1_BKHB_1+catfd_1_BKHV_51/catpn_1_BKHV_51),0) -> 0 | H6: =IF(AND(catpn_1_BKHB_1>0,catpn_1_BKHV_51>0),(catdw_1_BKHB_1*((dagenperjaar1*VLOOKUP(B6,dagsoorttabel1,2,FALSE))-catfd_1_BKHV_51)/catpn_1_BKHB_1+catdw_1_BKHV_51*catfd_1_BKHV_51/catpn_1_BKHV_51)/(((dagenperjaar1*VLOOKUP(B6,dagsoorttabel1,2,FALSE))-catfd_1_BKHV_51)/catpn_1_BKHB_1+catfd_1_BKHV_51/catpn_1_BKHV_51),0) -> 0 | I6: m²/uur | J6: =IF(AND(catpn_1_BKHB_1>0,catpn_1_BKHV_51>0),(cattf_1_BKHB_1*((dagenperjaar1*VLOOKUP(B6,dagsoorttabel1,2,FALSE))-catfd_1_BKHV_51)/catpn_1_BKHB_1+cattf_1_BKHV_51*catfd_1_BKHV_51/catpn_1_BKHV_51)/(((dagenperjaar1*VLOOKUP(B6,dagsoorttabel1,2,FALSE))-catfd_1_BKHV_51)/catpn_1_BKHB_1+catfd_1_BKHV_51/catpn_1_BKHV_51),0) -> 0 | K6: =IF(OR(ISBLANK(G6),G6=0),0,F6/ROUND(G6,4)) -> 0 | L6: =ROUND(J6,2)*K6 -> 0 | M6: =K6*dagenperjaar1 -> 0 | N6: =M6*ROUND(J6,2) -> 0
A7: BKZ | B7: 5W | C7: interieur | D7: Kantoor/personeelsruimte zachte vloer | E7: 1914.8 | F7: =E7*VLOOKUP(B7,dagsoorttabel1,2,FALSE) -> 1914.8 | G7: =IF(AND(catpn_1_BKZB_1>0,catpn_1_BKZV_51>0),(dagenperjaar1*VLOOKUP(B7,dagsoorttabel1,2,FALSE))/(((dagenperjaar1*VLOOKUP(B7,dagsoorttabel1,2,FALSE))-catfd_1_BKZV_51)/catpn_1_BKZB_1+catfd_1_BKZV_51/catpn_1_BKZV_51),0) -> 0 | H7: =IF(AND(catpn_1_BKZB_1>0,catpn_1_BKZV_51>0),(catdw_1_BKZB_1*((dagenperjaar1*VLOOKUP(B7,dagsoorttabel1,2,FALSE))-catfd_1_BKZV_51)/catpn_1_BKZB_1+catdw_1_BKZV_51*catfd_1_BKZV_51/catpn_1_BKZV_51)/(((dagenperjaar1*VLOOKUP(B7,dagsoorttabel1,2,FALSE))-catfd_1_BKZV_51)/catpn_1_BKZB_1+catfd_1_BKZV_51/catpn_1_BKZV_51),0) -> 0 | I7: m²/uur | J7: =IF(AND(catpn_1_BKZB_1>0,catpn_1_BKZV_51>0),(cattf_1_BKZB_1*((dagenperjaar1*VLOOKUP(B7,dagsoorttabel1,2,FALSE))-catfd_1_BKZV_51)/catpn_1_BKZB_1+cattf_1_BKZV_51*catfd_1_BKZV_51/catpn_1_BKZV_51)/(((dagenperjaar1*VLOOKUP(B7,dagsoorttabel1,2,FALSE))-catfd_1_BKZV_51)/catpn_1_BKZB_1+catfd_1_BKZV_51/catpn_1_BKZV_51),0) -> 0 | K7: =IF(OR(ISBLANK(G7),G7=0),0,F7/ROUND(G7,4)) -> 0 | L7: =ROUND(J7,2)*K7 -> 0 | M7: =K7*dagenperjaar1 -> 0 | N7: =M7*ROUND(J7,2) -> 0
A8: BRH | B8: 5W | C8: interieur | D8: Receptie/ontvangst-/wachtruimte harde vloer | E8: 135 | F8: =E8*VLOOKUP(B8,dagsoorttabel1,2,FALSE) -> 135 | G8: =IF(AND(catpn_1_BRHB_1>0,catpn_1_BRHV_51>0),(dagenperjaar1*VLOOKUP(B8,dagsoorttabel1,2,FALSE))/(((dagenperjaar1*VLOOKUP(B8,dagsoorttabel1,2,FALSE))-catfd_1_BRHV_51)/catpn_1_BRHB_1+catfd_1_BRHV_51/catpn_1_BRHV_51),0) -> 0 | H8: =IF(AND(catpn_1_BRHB_1>0,catpn_1_BRHV_51>0),(catdw_1_BRHB_1*((dagenperjaar1*VLOOKUP(B8,dagsoorttabel1,2,FALSE))-catfd_1_BRHV_51)/catpn_1_BRHB_1+catdw_1_BRHV_51*catfd_1_BRHV_51/catpn_1_BRHV_51)/(((dagenperjaar1*VLOOKUP(B8,dagsoorttabel1,2,FALSE))-catfd_1_BRHV_51)/catpn_1_BRHB_1+catfd_1_BRHV_51/catpn_1_BRHV_51),0) -> 0 | I8: m²/uur | J8: =IF(AND(catpn_1_BRHB_1>0,catpn_1_BRHV_51>0),(cattf_1_BRHB_1*((dagenperjaar1*VLOOKUP(B8,dagsoorttabel1,2,FALSE))-catfd_1_BRHV_51)/catpn_1_BRHB_1+cattf_1_BRHV_51*catfd_1_BRHV_51/catpn_1_BRHV_51)/(((dagenperjaar1*VLOOKUP(B8,dagsoorttabel1,2,FALSE))-catfd_1_BRHV_51)/catpn_1_BRHB_1+catfd_1_BRHV_51/catpn_1_BRHV_51),0) -> 0 | K8: =IF(OR(ISBLANK(G8),G8=0),0,F8/ROUND(G8,4)) -> 0 | L8: =ROUND(J8,2)*K8 -> 0 | M8: =K8*dagenperjaar1 -> 0 | N8: =M8*ROUND(J8,2) -> 0
A9: BRZ | B9: 1W | C9: interieur | D9: Receptie/ontvangst-/wachtruimte zachte vloer | E9: 56.71 | F9: =E9*VLOOKUP(B9,dagsoorttabel1,2,FALSE) -> 11.342 | G9: =IF(AND(catpn_1_BRZB_1>0,catpn_1_BRZV_51>0),(dagenperjaar1*VLOOKUP(B9,dagsoorttabel1,2,FALSE))/(((dagenperjaar1*VLOOKUP(B9,dagsoorttabel1,2,FALSE))-catfd_1_BRZV_51)/catpn_1_BRZB_1+catfd_1_BRZV_51/catpn_1_BRZV_51),0) -> 0 | H9: =IF(AND(catpn_1_BRZB_1>0,catpn_1_BRZV_51>0),(catdw_1_BRZB_1*((dagenperjaar1*VLOOKUP(B9,dagsoorttabel1,2,FALSE))-catfd_1_BRZV_51)/catpn_1_BRZB_1+catdw_1_BRZV_51*catfd_1_BRZV_51/catpn_1_BRZV_51)/(((dagenperjaar1*VLOOKUP(B9,dagsoorttabel1,2,FALSE))-catfd_1_BRZV_51)/catpn_1_BRZB_1+catfd_1_BRZV_51/catpn_1_BRZV_51),0) -> 0 | I9: m²/uur | J9: =IF(AND(catpn_1_BRZB_1>0,catpn_1_BRZV_51>0),(cattf_1_BRZB_1*((dagenperjaar1*VLOOKUP(B9,dagsoorttabel1,2,FALSE))-catfd_1_BRZV_51)/catpn_1_BRZB_1+cattf_1_BRZV_51*catfd_1_BRZV_51/catpn_1_BRZV_51)/(((dagenperjaar1*VLOOKUP(B9,dagsoorttabel1,2,FALSE))-catfd_1_BRZV_51)/catpn_1_BRZB_1+catfd_1_BRZV_51/catpn_1_BRZV_51),0) -> 0 | K9: =IF(OR(ISBLANK(G9),G9=0),0,F9/ROUND(G9,4)) -> 0 | L9: =ROUND(J9,2)*K9 -> 0 | M9: =K9*dagenperjaar1 -> 0 | N9: =M9*ROUND(J9,2) -> 0
A10: BRZ | B10: 5W | C10: interieur | D10: Receptie/ontvangst-/wachtruimte zachte vloer | E10: 425.31 | F10: =E10*VLOOKUP(B10,dagsoorttabel1,2,FALSE) -> 425.31 | G10: =IF(AND(catpn_1_BRZB_1>0,catpn_1_BRZV_51>0),(dagenperjaar1*VLOOKUP(B10,dagsoorttabel1,2,FALSE))/(((dagenperjaar1*VLOOKUP(B10,dagsoorttabel1,2,FALSE))-catfd_1_BRZV_51)/catpn_1_BRZB_1+catfd_1_BRZV_51/catpn_1_BRZV_51),0) -> 0 | H10: =IF(AND(catpn_1_BRZB_1>0,catpn_1_BRZV_51>0),(catdw_1_BRZB_1*((dagenperjaar1*VLOOKUP(B10,dagsoorttabel1,2,FALSE))-catfd_1_BRZV_51)/catpn_1_BRZB_1+catdw_1_BRZV_51*catfd_1_BRZV_51/catpn_1_BRZV_51)/(((dagenperjaar1*VLOOKUP(B10,dagsoorttabel1,2,FALSE))-catfd_1_BRZV_51)/catpn_1_BRZB_1+catfd_1_BRZV_51/catpn_1_BRZV_51),0) -> 0 | I10: m²/uur | J10: =IF(AND(catpn_1_BRZB_1>0,catpn_1_BRZV_51>0),(cattf_1_BRZB_1*((dagenperjaar1*VLOOKUP(B10,dagsoorttabel1,2,FALSE))-catfd_1_BRZV_51)/catpn_1_BRZB_1+cattf_1_BRZV_51*catfd_1_BRZV_51/catpn_1_BRZV_51)/(((dagenperjaar1*VLOOKUP(B10,dagsoorttabel1,2,FALSE))-catfd_1_BRZV_51)/catpn_1_BRZB_1+catfd_1_BRZV_51/catpn_1_BRZV_51),0) -> 0 | K10: =IF(OR(ISBLANK(G10),G10=0),0,F10/ROUND(G10,4)) -> 0 | L10: =ROUND(J10,2)*K10 -> 0 | M10: =K10*dagenperjaar1 -> 0 | N10: =M10*ROUND(J10,2) -> 0
A11: BVH | B11: 5W | C11: interieur | D11: Spreek-/overleg-/vergaderruimte/studio harde vloer | E11: 354.21 | F11: =E11*VLOOKUP(B11,dagsoorttabel1,2,FALSE) -> 354.21 | G11: =IF(AND(catpn_1_BVHB_1>0,catpn_1_BVHB_51>0),(dagenperjaar1*VLOOKUP(B11,dagsoorttabel1,2,FALSE))/(((dagenperjaar1*VLOOKUP(B11,dagsoorttabel1,2,FALSE))-catfd_1_BVHB_51)/catpn_1_BVHB_1+catfd_1_BVHB_51/catpn_1_BVHB_51),0) -> 0 | H11: =IF(AND(catpn_1_BVHB_1>0,catpn_1_BVHB_51>0),(catdw_1_BVHB_1*((dagenperjaar1*VLOOKUP(B11,dagsoorttabel1,2,FALSE))-catfd_1_BVHB_51)/catpn_1_BVHB_1+catdw_1_BVHB_51*catfd_1_BVHB_51/catpn_1_BVHB_51)/(((dagenperjaar1*VLOOKUP(B11,dagsoorttabel1,2,FALSE))-catfd_1_BVHB_51)/catpn_1_BVHB_1+catfd_1_BVHB_51/catpn_1_BVHB_51),0) -> 0 | I11: m²/uur | J11: =IF(AND(catpn_1_BVHB_1>0,catpn_1_BVHB_51>0),(cattf_1_BVHB_1*((dagenperjaar1*VLOOKUP(B11,dagsoorttabel1,2,FALSE))-catfd_1_BVHB_51)/catpn_1_BVHB_1+cattf_1_BVHB_51*catfd_1_BVHB_51/catpn_1_BVHB_51)/(((dagenperjaar1*VLOOKUP(B11,dagsoorttabel1,2,FALSE))-catfd_1_BVHB_51)/catpn_1_BVHB_1+catfd_1_BVHB_51/catpn_1_BVHB_51),0) -> 0 | K11: =IF(OR(ISBLANK(G11),G11=0),0,F11/ROUND(G11,4)) -> 0 | L11: =ROUND(J11,2)*K11 -> 0 | M11: =K11*dagenperjaar1 -> 0 | N11: =M11*ROUND(J11,2) -> 0
A12: BVZ | B12: 5W | C12: interieur | D12: Spreek-/overleg-/vergaderruimte/studio zachte vloer | E12: 648.86 | F12: =E12*VLOOKUP(B12,dagsoorttabel1,2,FALSE) -> 648.86 | G12: =IF(AND(catpn_1_BVZB_1>0,catpn_1_BVZV_51>0),(dagenperjaar1*VLOOKUP(B12,dagsoorttabel1,2,FALSE))/(((dagenperjaar1*VLOOKUP(B12,dagsoorttabel1,2,FALSE))-catfd_1_BVZV_51)/catpn_1_BVZB_1+catfd_1_BVZV_51/catpn_1_BVZV_51),0) -> 0 | H12: =IF(AND(catpn_1_BVZB_1>0,catpn_1_BVZV_51>0),(catdw_1_BVZB_1*((dagenperjaar1*VLOOKUP(B12,dagsoorttabel1,2,FALSE))-catfd_1_BVZV_51)/catpn_1_BVZB_1+catdw_1_BVZV_51*catfd_1_BVZV_51/catpn_1_BVZV_51)/(((dagenperjaar1*VLOOKUP(B12,dagsoorttabel1,2,FALSE))-catfd_1_BVZV_51)/catpn_1_BVZB_1+catfd_1_BVZV_51/catpn_1_BVZV_51),0) -> 0 | I12: m²/uur | J12: =IF(AND(catpn_1_BVZB_1>0,catpn_1_BVZV_51>0),(cattf_1_BVZB_1*((dagenperjaar1*VLOOKUP(B12,dagsoorttabel1,2,FALSE))-catfd_1_BVZV_51)/catpn_1_BVZB_1+cattf_1_BVZV_51*catfd_1_BVZV_51/catpn_1_BVZV_51)/(((dagenperjaar1*VLOOKUP(B12,dagsoorttabel1,2,FALSE))-catfd_1_BVZV_51)/catpn_1_BVZB_1+catfd_1_BVZV_51/catpn_1_BVZV_51),0) -> 0 | K12: =IF(OR(ISBLANK(G12),G12=0),0,F12/ROUND(G12,4)) -> 0 | L12: =ROUND(J12,2)*K12 -> 0 | M12: =K12*dagenperjaar1 -> 0 | N12: =M12*ROUND(J12,2) -> 0
A13: LOH | B13: 5W | C13: interieur | D13: Multifunctionele ruimte harde vloeren | E13: 75.26 | F13: =E13*VLOOKUP(B13,dagsoorttabel1,2,FALSE) -> 75.26 | G13: =IF(AND(catpn_1_LOHB_1>0,catpn_1_LOHV_51>0),(dagenperjaar1*VLOOKUP(B13,dagsoorttabel1,2,FALSE))/(((dagenperjaar1*VLOOKUP(B13,dagsoorttabel1,2,FALSE))-catfd_1_LOHV_51)/catpn_1_LOHB_1+catfd_1_LOHV_51/catpn_1_LOHV_51),0) -> 0 | H13: =IF(AND(catpn_1_LOHB_1>0,catpn_1_LOHV_51>0),(catdw_1_LOHB_1*((dagenperjaar1*VLOOKUP(B13,dagsoorttabel1,2,FALSE))-catfd_1_LOHV_51)/catpn_1_LOHB_1+catdw_1_LOHV_51*catfd_1_LOHV_51/catpn_1_LOHV_51)/(((dagenperjaar1*VLOOKUP(B13,dagsoorttabel1,2,FALSE))-catfd_1_LOHV_51)/catpn_1_LOHB_1+catfd_1_LOHV_51/catpn_1_LOHV_51),0) -> 0 | I13: m²/uur | J13: =IF(AND(catpn_1_LOHB_1>0,catpn_1_LOHV_51>0),(cattf_1_LOHB_1*((dagenperjaar1*VLOOKUP(B13,dagsoorttabel1,2,FALSE))-catfd_1_LOHV_51)/catpn_1_LOHB_1+cattf_1_LOHV_51*catfd_1_LOHV_51/catpn_1_LOHV_51)/(((dagenperjaar1*VLOOKUP(B13,dagsoorttabel1,2,FALSE))-catfd_1_LOHV_51)/catpn_1_LOHB_1+catfd_1_LOHV_51/catpn_1_LOHV_51),0) -> 0 | K13: =IF(OR(ISBLANK(G13),G13=0),0,F13/ROUND(G13,4)) -> 0 | L13: =ROUND(J13,2)*K13 -> 0 | M13: =K13*dagenperjaar1 -> 0 | N13: =M13*ROUND(J13,2) -> 0
A14: RKH | B14: 5W | C14: interieur | D14: Keuken harde vloer | E14: 30.12 | F14: =E14*VLOOKUP(B14,dagsoorttabel1,2,FALSE) -> 30.12 | G14: =IF(AND(catpn_1_RKHB_1>0,catpn_1_RKHV_51>0),(dagenperjaar1*VLOOKUP(B14,dagsoorttabel1,2,FALSE))/(((dagenperjaar1*VLOOKUP(B14,dagsoorttabel1,2,FALSE))-catfd_1_RKHV_51)/catpn_1_RKHB_1+catfd_1_RKHV_51/catpn_1_RKHV_51),0) -> 0 | H14: =IF(AND(catpn_1_RKHB_1>0,catpn_1_RKHV_51>0),(catdw_1_RKHB_1*((dagenperjaar1*VLOOKUP(B14,dagsoorttabel1,2,FALSE))-catfd_1_RKHV_51)/catpn_1_RKHB_1+catdw_1_RKHV_51*catfd_1_RKHV_51/catpn_1_RKHV_51)/(((dagenperjaar1*VLOOKUP(B14,dagsoorttabel1,2,FALSE))-catfd_1_RKHV_51)/catpn_1_RKHB_1+catfd_1_RKHV_51/catpn_1_RKHV_51),0) -> 0 | I14: m²/uur | J14: =IF(AND(catpn_1_RKHB_1>0,catpn_1_RKHV_51>0),(cattf_1_RKHB_1*((dagenperjaar1*VLOOKUP(B14,dagsoorttabel1,2,FALSE))-catfd_1_RKHV_51)/catpn_1_RKHB_1+cattf_1_RKHV_51*catfd_1_RKHV_51/catpn_1_RKHV_51)/(((dagenperjaar1*VLOOKUP(B14,dagsoorttabel1,2,FALSE))-catfd_1_RKHV_51)/catpn_1_RKHB_1+catfd_1_RKHV_51/catpn_1_RKHV_51),0) -> 0 | K14: =IF(OR(ISBLANK(G14),G14=0),0,F14/ROUND(G14,4)) -> 0 | L14: =ROUND(J14,2)*K14 -> 0 | M14: =K14*dagenperjaar1 -> 0 | N14: =M14*ROUND(J14,2) -> 0
A15: RPH | B15: 5W | C15: interieur | D15: Pantry/koffiehoek harde vloer | E15: 18.12 | F15: =E15*VLOOKUP(B15,dagsoorttabel1,2,FALSE) -> 18.12 | G15: =IF(AND(catpn_1_RPHB_1>0,catpn_1_RPHV_51>0),(dagenperjaar1*VLOOKUP(B15,dagsoorttabel1,2,FALSE))/(((dagenperjaar1*VLOOKUP(B15,dagsoorttabel1,2,FALSE))-catfd_1_RPHV_51)/catpn_1_RPHB_1+catfd_1_RPHV_51/catpn_1_RPHV_51),0) -> 0 | H15: =IF(AND(catpn_1_RPHB_1>0,catpn_1_RPHV_51>0),(catdw_1_RPHB_1*((dagenperjaar1*VLOOKUP(B15,dagsoorttabel1,2,FALSE))-catfd_1_RPHV_51)/catpn_1_RPHB_1+catdw_1_RPHV_51*catfd_1_RPHV_51/catpn_1_RPHV_51)/(((dagenperjaar1*VLOOKUP(B15,dagsoorttabel1,2,FALSE))-catfd_1_RPHV_51)/catpn_1_RPHB_1+catfd_1_RPHV_51/catpn_1_RPHV_51),0) -> 0 | I15: m²/uur | J15: =IF(AND(catpn_1_RPHB_1>0,catpn_1_RPHV_51>0),(cattf_1_RPHB_1*((dagenperjaar1*VLOOKUP(B15,dagsoorttabel1,2,FALSE))-catfd_1_RPHV_51)/catpn_1_RPHB_1+cattf_1_RPHV_51*catfd_1_RPHV_51/catpn_1_RPHV_51)/(((dagenperjaar1*VLOOKUP(B15,dagsoorttabel1,2,FALSE))-catfd_1_RPHV_51)/catpn_1_RPHB_1+catfd_1_RPHV_51/catpn_1_RPHV_51),0) -> 0 | K15: =IF(OR(ISBLANK(G15),G15=0),0,F15/ROUND(G15,4)) -> 0 | L15: =ROUND(J15,2)*K15 -> 0 | M15: =K15*dagenperjaar1 -> 0 | N15: =M15*ROUND(J15,2) -> 0
A16: RRH | B16: 5W | C16: interieur | D16: Restaurant/kantine/verblijfsruimte harde vloer | E16: 105 | F16: =E16*VLOOKUP(B16,dagsoorttabel1,2,FALSE) -> 105 | G16: =IF(AND(catpn_1_RRHB_1>0,catpn_1_RRHV_51>0),(dagenperjaar1*VLOOKUP(B16,dagsoorttabel1,2,FALSE))/(((dagenperjaar1*VLOOKUP(B16,dagsoorttabel1,2,FALSE))-catfd_1_RRHV_51)/catpn_1_RRHB_1+catfd_1_RRHV_51/catpn_1_RRHV_51),0) -> 0 | H16: =IF(AND(catpn_1_RRHB_1>0,catpn_1_RRHV_51>0),(catdw_1_RRHB_1*((dagenperjaar1*VLOOKUP(B16,dagsoorttabel1,2,FALSE))-catfd_1_RRHV_51)/catpn_1_RRHB_1+catdw_1_RRHV_51*catfd_1_RRHV_51/catpn_1_RRHV_51)/(((dagenperjaar1*VLOOKUP(B16,dagsoorttabel1,2,FALSE))-catfd_1_RRHV_51)/catpn_1_RRHB_1+catfd_1_RRHV_51/catpn_1_RRHV_51),0) -> 0 | I16: m²/uur | J16: =IF(AND(catpn_1_RRHB_1>0,catpn_1_RRHV_51>0),(cattf_1_RRHB_1*((dagenperjaar1*VLOOKUP(B16,dagsoorttabel1,2,FALSE))-catfd_1_RRHV_51)/catpn_1_RRHB_1+cattf_1_RRHV_51*catfd_1_RRHV_51/catpn_1_RRHV_51)/(((dagenperjaar1*VLOOKUP(B16,dagsoorttabel1,2,FALSE))-catfd_1_RRHV_51)/catpn_1_RRHB_1+catfd_1_RRHV_51/catpn_1_RRHV_51),0) -> 0 | K16: =IF(OR(ISBLANK(G16),G16=0),0,F16/ROUND(G16,4)) -> 0 | L16: =ROUND(J16,2)*K16 -> 0 | M16: =K16*dagenperjaar1 -> 0 | N16: =M16*ROUND(J16,2) -> 0
A17: SDH | B17: 5W | C17: interieur | D17: Douche/wasruimte harde vloer | E17: 97.96 | F17: =E17*VLOOKUP(B17,dagsoorttabel1,2,FALSE) -> 97.96 | G17: =IF(AND(catpn_1_SDHB_1>0,catpn_1_SDHV_51>0),(dagenperjaar1*VLOOKUP(B17,dagsoorttabel1,2,FALSE))/(((dagenperjaar1*VLOOKUP(B17,dagsoorttabel1,2,FALSE))-catfd_1_SDHV_51)/catpn_1_SDHB_1+catfd_1_SDHV_51/catpn_1_SDHV_51),0) -> 0 | H17: =IF(AND(catpn_1_SDHB_1>0,catpn_1_SDHV_51>0),(catdw_1_SDHB_1*((dagenperjaar1*VLOOKUP(B17,dagsoorttabel1,2,FALSE))-catfd_1_SDHV_51)/catpn_1_SDHB_1+catdw_1_SDHV_51*catfd_1_SDHV_51/catpn_1_SDHV_51)/(((dagenperjaar1*VLOOKUP(B17,dagsoorttabel1,2,FALSE))-catfd_1_SDHV_51)/catpn_1_SDHB_1+catfd_1_SDHV_51/catpn_1_SDHV_51),0) -> 0 | I17: m²/uur | J17: =IF(AND(catpn_1_SDHB_1>0,catpn_1_SDHV_51>0),(cattf_1_SDHB_1*((dagenperjaar1*VLOOKUP(B17,dagsoorttabel1,2,FALSE))-catfd_1_SDHV_51)/catpn_1_SDHB_1+cattf_1_SDHV_51*catfd_1_SDHV_51/catpn_1_SDHV_51)/(((dagenperjaar1*VLOOKUP(B17,dagsoorttabel1,2,FALSE))-catfd_1_SDHV_51)/catpn_1_SDHB_1+catfd_1_SDHV_51/catpn_1_SDHV_51),0) -> 0 | K17: =IF(OR(ISBLANK(G17),G17=0),0,F17/ROUND(G17,4)) -> 0 | L17: =ROUND(J17,2)*K17 -> 0 | M17: =K17*dagenperjaar1 -> 0 | N17: =M17*ROUND(J17,2) -> 0
A18: SKH | B18: 5W | C18: interieur | D18: Kleedruimte harde vloer | E18: 18.63 | F18: =E18*VLOOKUP(B18,dagsoorttabel1,2,FALSE) -> 18.63 | G18: =IF(AND(catpn_1_SKHB_1>0,catpn_1_SKHV_51>0),(dagenperjaar1*VLOOKUP(B18,dagsoorttabel1,2,FALSE))/(((dagenperjaar1*VLOOKUP(B18,dagsoorttabel1,2,FALSE))-catfd_1_SKHV_51)/catpn_1_SKHB_1+catfd_1_SKHV_51/catpn_1_SKHV_51),0) -> 0 | H18: =IF(AND(catpn_1_SKHB_1>0,catpn_1_SKHV_51>0),(catdw_1_SKHB_1*((dagenperjaar1*VLOOKUP(B18,dagsoorttabel1,2,FALSE))-catfd_1_SKHV_51)/catpn_1_SKHB_1+catdw_1_SKHV_51*catfd_1_SKHV_51/catpn_1_SKHV_51)/(((dagenperjaar1*VLOOKUP(B18,dagsoorttabel1,2,FALSE))-catfd_1_SKHV_51)/catpn_1_SKHB_1+catfd_1_SKHV_51/catpn_1_SKHV_51),0) -> 0 | I18: m²/uur | J18: =IF(AND(catpn_1_SKHB_1>0,catpn_1_SKHV_51>0),(cattf_1_SKHB_1*((dagenperjaar1*VLOOKUP(B18,dagsoorttabel1,2,FALSE))-catfd_1_SKHV_51)/catpn_1_SKHB_1+cattf_1_SKHV_51*catfd_1_SKHV_51/catpn_1_SKHV_51)/(((dagenperjaar1*VLOOKUP(B18,dagsoorttabel1,2,FALSE))-catfd_1_SKHV_51)/catpn_1_SKHB_1+catfd_1_SKHV_51/catpn_1_SKHV_51),0) -> 0 | K18: =IF(OR(ISBLANK(G18),G18=0),0,F18/ROUND(G18,4)) -> 0 | L18: =ROUND(J18,2)*K18 -> 0 | M18: =K18*dagenperjaar1 -> 0 | N18: =M18*ROUND(J18,2) -> 0
A19: STH | B19: 5W | C19: interieur | D19: Sanitaire ruimte/toiletten harde vloer | E19: 147.7 | F19: =E19*VLOOKUP(B19,dagsoorttabel1,2,FALSE) -> 147.7 | G19: =IF(AND(catpn_1_STHB_1>0,catpn_1_STHV_51>0),(dagenperjaar1*VLOOKUP(B19,dagsoorttabel1,2,FALSE))/(((dagenperjaar1*VLOOKUP(B19,dagsoorttabel1,2,FALSE))-catfd_1_STHV_51)/catpn_1_STHB_1+catfd_1_STHV_51/catpn_1_STHV_51),0) -> 0 | H19: =IF(AND(catpn_1_STHB_1>0,catpn_1_STHV_51>0),(catdw_1_STHB_1*((dagenperjaar1*VLOOKUP(B19,dagsoorttabel1,2,FALSE))-catfd_1_STHV_51)/catpn_1_STHB_1+catdw_1_STHV_51*catfd_1_STHV_51/catpn_1_STHV_51)/(((dagenperjaar1*VLOOKUP(B19,dagsoorttabel1,2,FALSE))-catfd_1_STHV_51)/catpn_1_STHB_1+catfd_1_STHV_51/catpn_1_STHV_51),0) -> 0 | I19: m²/uur | J19: =IF(AND(catpn_1_STHB_1>0,catpn_1_STHV_51>0),(cattf_1_STHB_1*((dagenperjaar1*VLOOKUP(B19,dagsoorttabel1,2,FALSE))-catfd_1_STHV_51)/catpn_1_STHB_1+cattf_1_STHV_51*catfd_1_STHV_51/catpn_1_STHV_51)/(((dagenperjaar1*VLOOKUP(B19,dagsoorttabel1,2,FALSE))-catfd_1_STHV_51)/catpn_1_STHB_1+catfd_1_STHV_51/catpn_1_STHV_51),0) -> 0 | K19: =IF(OR(ISBLANK(G19),G19=0),0,F19/ROUND(G19,4)) -> 0 | L19: =ROUND(J19,2)*K19 -> 0 | M19: =K19*dagenperjaar1 -> 0 | N19: =M19*ROUND(J19,2) -> 0
A20: VAH | B20: 5W | C20: interieur | D20: Verkeersruimte algemeen harde vloer | E20: 649.91 | F20: =E20*VLOOKUP(B20,dagsoorttabel1,2,FALSE) -> 649.91 | G20: =IF(AND(catpn_1_VAHB_1>0,catpn_1_VAHV_51>0),(dagenperjaar1*VLOOKUP(B20,dagsoorttabel1,2,FALSE))/(((dagenperjaar1*VLOOKUP(B20,dagsoorttabel1,2,FALSE))-catfd_1_VAHV_51)/catpn_1_VAHB_1+catfd_1_VAHV_51/catpn_1_VAHV_51),0) -> 0 | H20: =IF(AND(catpn_1_VAHB_1>0,catpn_1_VAHV_51>0),(catdw_1_VAHB_1*((dagenperjaar1*VLOOKUP(B20,dagsoorttabel1,2,FALSE))-catfd_1_VAHV_51)/catpn_1_VAHB_1+catdw_1_VAHV_51*catfd_1_VAHV_51/catpn_1_VAHV_51)/(((dagenperjaar1*VLOOKUP(B20,dagsoorttabel1,2,FALSE))-catfd_1_VAHV_51)/catpn_1_VAHB_1+catfd_1_VAHV_51/catpn_1_VAHV_51),0) -> 0 | I20: m²/uur | J20: =IF(AND(catpn_1_VAHB_1>0,catpn_1_VAHV_51>0),(cattf_1_VAHB_1*((dagenperjaar1*VLOOKUP(B20,dagsoorttabel1,2,FALSE))-catfd_1_VAHV_51)/catpn_1_VAHB_1+cattf_1_VAHV_51*catfd_1_VAHV_51/catpn_1_VAHV_51)/(((dagenperjaar1*VLOOKUP(B20,dagsoorttabel1,2,FALSE))-catfd_1_VAHV_51)/catpn_1_VAHB_1+catfd_1_VAHV_51/catpn_1_VAHV_51),0) -> 0 | K20: =IF(OR(ISBLANK(G20),G20=0),0,F20/ROUND(G20,4)) -> 0 | L20: =ROUND(J20,2)*K20 -> 0 | M20: =K20*dagenperjaar1 -> 0 | N20: =M20*ROUND(J20,2) -> 0
A21: VAZ | B21: 5W | C21: interieur | D21: Verkeersruimte algemeen zachte vloer | E21: 510.33 | F21: =E21*VLOOKUP(B21,dagsoorttabel1,2,FALSE) -> 510.33 | G21: =IF(AND(catpn_1_VAZB_1>0,catpn_1_VAZV_51>0),(dagenperjaar1*VLOOKUP(B21,dagsoorttabel1,2,FALSE))/(((dagenperjaar1*VLOOKUP(B21,dagsoorttabel1,2,FALSE))-catfd_1_VAZV_51)/catpn_1_VAZB_1+catfd_1_VAZV_51/catpn_1_VAZV_51),0) -> 0 | H21: =IF(AND(catpn_1_VAZB_1>0,catpn_1_VAZV_51>0),(catdw_1_VAZB_1*((dagenperjaar1*VLOOKUP(B21,dagsoorttabel1,2,FALSE))-catfd_1_VAZV_51)/catpn_1_VAZB_1+catdw_1_VAZV_51*catfd_1_VAZV_51/catpn_1_VAZV_51)/(((dagenperjaar1*VLOOKUP(B21,dagsoorttabel1,2,FALSE))-catfd_1_VAZV_51)/catpn_1_VAZB_1+catfd_1_VAZV_51/catpn_1_VAZV_51),0) -> 0 | I21: m²/uur | J21: =IF(AND(catpn_1_VAZB_1>0,catpn_1_VAZV_51>0),(cattf_1_VAZB_1*((dagenperjaar1*VLOOKUP(B21,dagsoorttabel1,2,FALSE))-catfd_1_VAZV_51)/catpn_1_VAZB_1+cattf_1_VAZV_51*catfd_1_VAZV_51/catpn_1_VAZV_51)/(((dagenperjaar1*VLOOKUP(B21,dagsoorttabel1,2,FALSE))-catfd_1_VAZV_51)/catpn_1_VAZB_1+catfd_1_VAZV_51/catpn_1_VAZV_51),0) -> 0 | K21: =IF(OR(ISBLANK(G21),G21=0),0,F21/ROUND(G21,4)) -> 0 | L21: =ROUND(J21,2)*K21 -> 0 | M21: =K21*dagenperjaar1 -> 0 | N21: =M21*ROUND(J21,2) -> 0
A22: VEH | B22: 5W | C22: interieur | D22: Entree harde vloer | E22: 483.31 | F22: =E22*VLOOKUP(B22,dagsoorttabel1,2,FALSE) -> 483.31 | G22: =IF(AND(catpn_1_VEHB_1>0,catpn_1_VEHV_51>0),(dagenperjaar1*VLOOKUP(B22,dagsoorttabel1,2,FALSE))/(((dagenperjaar1*VLOOKUP(B22,dagsoorttabel1,2,FALSE))-catfd_1_VEHV_51)/catpn_1_VEHB_1+catfd_1_VEHV_51/catpn_1_VEHV_51),0) -> 0 | H22: =IF(AND(catpn_1_VEHB_1>0,catpn_1_VEHV_51>0),(catdw_1_VEHB_1*((dagenperjaar1*VLOOKUP(B22,dagsoorttabel1,2,FALSE))-catfd_1_VEHV_51)/catpn_1_VEHB_1+catdw_1_VEHV_51*catfd_1_VEHV_51/catpn_1_VEHV_51)/(((dagenperjaar1*VLOOKUP(B22,dagsoorttabel1,2,FALSE))-catfd_1_VEHV_51)/catpn_1_VEHB_1+catfd_1_VEHV_51/catpn_1_VEHV_51),0) -> 0 | I22: m²/uur | J22: =IF(AND(catpn_1_VEHB_1>0,catpn_1_VEHV_51>0),(cattf_1_VEHB_1*((dagenperjaar1*VLOOKUP(B22,dagsoorttabel1,2,FALSE))-catfd_1_VEHV_51)/catpn_1_VEHB_1+cattf_1_VEHV_51*catfd_1_VEHV_51/catpn_1_VEHV_51)/(((dagenperjaar1*VLOOKUP(B22,dagsoorttabel1,2,FALSE))-catfd_1_VEHV_51)/catpn_1_VEHB_1+catfd_1_VEHV_51/catpn_1_VEHV_51),0) -> 0 | K22: =IF(OR(ISBLANK(G22),G22=0),0,F22/ROUND(G22,4)) -> 0 | L22: =ROUND(J22,2)*K22 -> 0 | M22: =K22*dagenperjaar1 -> 0 | N22: =M22*ROUND(J22,2) -> 0
A23: VEZ | B23: 5W | C23: interieur | D23: Entree zachte vloer | E23: 142.12 | F23: =E23*VLOOKUP(B23,dagsoorttabel1,2,FALSE) -> 142.12 | G23: =IF(AND(catpn_1_VEZB_1>0,catpn_1_VEZV_51>0),(dagenperjaar1*VLOOKUP(B23,dagsoorttabel1,2,FALSE))/(((dagenperjaar1*VLOOKUP(B23,dagsoorttabel1,2,FALSE))-catfd_1_VEZV_51)/catpn_1_VEZB_1+catfd_1_VEZV_51/catpn_1_VEZV_51),0) -> 0 | H23: =IF(AND(catpn_1_VEZB_1>0,catpn_1_VEZV_51>0),(catdw_1_VEZB_1*((dagenperjaar1*VLOOKUP(B23,dagsoorttabel1,2,FALSE))-catfd_1_VEZV_51)/catpn_1_VEZB_1+catdw_1_VEZV_51*catfd_1_VEZV_51/catpn_1_VEZV_51)/(((dagenperjaar1*VLOOKUP(B23,dagsoorttabel1,2,FALSE))-catfd_1_VEZV_51)/catpn_1_VEZB_1+catfd_1_VEZV_51/catpn_1_VEZV_51),0) -> 0 | I23: m²/uur | J23: =IF(AND(catpn_1_VEZB_1>0,catpn_1_VEZV_51>0),(cattf_1_VEZB_1*((dagenperjaar1*VLOOKUP(B23,dagsoorttabel1,2,FALSE))-catfd_1_VEZV_51)/catpn_1_VEZB_1+cattf_1_VEZV_51*catfd_1_VEZV_51/catpn_1_VEZV_51)/(((dagenperjaar1*VLOOKUP(B23,dagsoorttabel1,2,FALSE))-catfd_1_VEZV_51)/catpn_1_VEZB_1+catfd_1_VEZV_51/catpn_1_VEZV_51),0) -> 0 | K23: =IF(OR(ISBLANK(G23),G23=0),0,F23/ROUND(G23,4)) -> 0 | L23: =ROUND(J23,2)*K23 -> 0 | M23: =K23*dagenperjaar1 -> 0 | N23: =M23*ROUND(J23,2) -> 0
A24: VLH | B24: 5W | C24: interieur | D24: Lift harde vloer | E24: 6.3 | F24: =E24*VLOOKUP(B24,dagsoorttabel1,2,FALSE) -> 6.3 | G24: =IF(AND(catpn_1_VLHB_1>0,catpn_1_VLHV_51>0),(dagenperjaar1*VLOOKUP(B24,dagsoorttabel1,2,FALSE))/(((dagenperjaar1*VLOOKUP(B24,dagsoorttabel1,2,FALSE))-catfd_1_VLHV_51)/catpn_1_VLHB_1+catfd_1_VLHV_51/catpn_1_VLHV_51),0) -> 0 | H24: =IF(AND(catpn_1_VLHB_1>0,catpn_1_VLHV_51>0),(catdw_1_VLHB_1*((dagenperjaar1*VLOOKUP(B24,dagsoorttabel1,2,FALSE))-catfd_1_VLHV_51)/catpn_1_VLHB_1+catdw_1_VLHV_51*catfd_1_VLHV_51/catpn_1_VLHV_51)/(((dagenperjaar1*VLOOKUP(B24,dagsoorttabel1,2,FALSE))-catfd_1_VLHV_51)/catpn_1_VLHB_1+catfd_1_VLHV_51/catpn_1_VLHV_51),0) -> 0 | I24: m²/uur | J24: =IF(AND(catpn_1_VLHB_1>0,catpn_1_VLHV_51>0),(cattf_1_VLHB_1*((dagenperjaar1*VLOOKUP(B24,dagsoorttabel1,2,FALSE))-catfd_1_VLHV_51)/catpn_1_VLHB_1+cattf_1_VLHV_51*catfd_1_VLHV_51/catpn_1_VLHV_51)/(((dagenperjaar1*VLOOKUP(B24,dagsoorttabel1,2,FALSE))-catfd_1_VLHV_51)/catpn_1_VLHB_1+catfd_1_VLHV_51/catpn_1_VLHV_51),0) -> 0 | K24: =IF(OR(ISBLANK(G24),G24=0),0,F24/ROUND(G24,4)) -> 0 | L24: =ROUND(J24,2)*K24 -> 0 | M24: =K24*dagenperjaar1 -> 0 | N24: =M24*ROUND(J24,2) -> 0
A25: VOH | B25: 5W | C25: interieur | D25: Kopieer/printer ruimten, reprografie, garderoberuimten, kluisjesruimte | E25: 22.2 | F25: =E25*VLOOKUP(B25,dagsoorttabel1,2,FALSE) -> 22.2 | G25: =IF(AND(catpn_1_VOHB_1>0,catpn_1_VOHV_51>0),(dagenperjaar1*VLOOKUP(B25,dagsoorttabel1,2,FALSE))/(((dagenperjaar1*VLOOKUP(B25,dagsoorttabel1,2,FALSE))-catfd_1_VOHV_51)/catpn_1_VOHB_1+catfd_1_VOHV_51/catpn_1_VOHV_51),0) -> 0 | H25: =IF(AND(catpn_1_VOHB_1>0,catpn_1_VOHV_51>0),(catdw_1_VOHB_1*((dagenperjaar1*VLOOKUP(B25,dagsoorttabel1,2,FALSE))-catfd_1_VOHV_51)/catpn_1_VOHB_1+catdw_1_VOHV_51*catfd_1_VOHV_51/catpn_1_VOHV_51)/(((dagenperjaar1*VLOOKUP(B25,dagsoorttabel1,2,FALSE))-catfd_1_VOHV_51)/catpn_1_VOHB_1+catfd_1_VOHV_51/catpn_1_VOHV_51),0) -> 0 | I25: m²/uur | J25: =IF(AND(catpn_1_VOHB_1>0,catpn_1_VOHV_51>0),(cattf_1_VOHB_1*((dagenperjaar1*VLOOKUP(B25,dagsoorttabel1,2,FALSE))-catfd_1_VOHV_51)/catpn_1_VOHB_1+cattf_1_VOHV_51*catfd_1_VOHV_51/catpn_1_VOHV_51)/(((dagenperjaar1*VLOOKUP(B25,dagsoorttabel1,2,FALSE))-catfd_1_VOHV_51)/catpn_1_VOHB_1+catfd_1_VOHV_51/catpn_1_VOHV_51),0) -> 0 | K25: =IF(OR(ISBLANK(G25),G25=0),0,F25/ROUND(G25,4)) -> 0 | L25: =ROUND(J25,2)*K25 -> 0 | M25: =K25*dagenperjaar1 -> 0 | N25: =M25*ROUND(J25,2) -> 0
A26: VTH | B26: 5W | C26: interieur | D26: Trappenhuis harde vloer | E26: 142.85 | F26: =E26*VLOOKUP(B26,dagsoorttabel1,2,FALSE) -> 142.85 | G26: =IF(AND(catpn_1_VTHB_1>0,catpn_1_VTHV_51>0),(dagenperjaar1*VLOOKUP(B26,dagsoorttabel1,2,FALSE))/(((dagenperjaar1*VLOOKUP(B26,dagsoorttabel1,2,FALSE))-catfd_1_VTHV_51)/catpn_1_VTHB_1+catfd_1_VTHV_51/catpn_1_VTHV_51),0) -> 0 | H26: =IF(AND(catpn_1_VTHB_1>0,catpn_1_VTHV_51>0),(catdw_1_VTHB_1*((dagenperjaar1*VLOOKUP(B26,dagsoorttabel1,2,FALSE))-catfd_1_VTHV_51)/catpn_1_VTHB_1+catdw_1_VTHV_51*catfd_1_VTHV_51/catpn_1_VTHV_51)/(((dagenperjaar1*VLOOKUP(B26,dagsoorttabel1,2,FALSE))-catfd_1_VTHV_51)/catpn_1_VTHB_1+catfd_1_VTHV_51/catpn_1_VTHV_51),0) -> 0 | I26: m²/uur | J26: =IF(AND(catpn_1_VTHB_1>0,catpn_1_VTHV_51>0),(cattf_1_VTHB_1*((dagenperjaar1*VLOOKUP(B26,dagsoorttabel1,2,FALSE))-catfd_1_VTHV_51)/catpn_1_VTHB_1+cattf_1_VTHV_51*catfd_1_VTHV_51/catpn_1_VTHV_51)/(((dagenperjaar1*VLOOKUP(B26,dagsoorttabel1,2,FALSE))-catfd_1_VTHV_51)/catpn_1_VTHB_1+catfd_1_VTHV_51/catpn_1_VTHV_51),0) -> 0 | K26: =IF(OR(ISBLANK(G26),G26=0),0,F26/ROUND(G26,4)) -> 0 | L26: =ROUND(J26,2)*K26 -> 0 | M26: =K26*dagenperjaar1 -> 0 | N26: =M26*ROUND(J26,2) -> 0
A27: Totaal werkdag | K27: =SUM(K6:K26) -> 0 | L27: =SUM(L6:L26) -> 0 | M27: =SUM(M6:M26) -> 0 | N27: =SUM(N6:N26) -> 0
A29: Gemiddeld uurtarief werkdag | J29: =IF(urenjaar1>0,SUMIF(M6:M26,">0",N6:N26)/urenjaar1,0) -> 0
A32: Totaal regulier werk excl. BTW | M32: =urenjaar1 -> 0 | N32: =prijsjaar1 -> 0

Sheet Ruimten werkdag
A1: =CONCATENATE("Bijlage D.3: ",tabeltype," ruimten werkdag") -> Bijlage D.3: Invultabel ruimten werkdag
A3: OBJECT | B3: BOUW-DEEL | C3: ETAGE | D3: RUIMTENR | E3: RUIMTENAAM | F3: VLOER | G3: TAAK | H3: FREQ | I3: WERK-SOORT | J3: TAAK OMSCHRIJVING | K3: OPP OF AANTAL | L3: OPP OF AANTAL /DAG | M3: PRODUCTIE-NORM | N3: % HOOG-FREQUENT | O3: EENHEID | P3: TARIEF (EURO) | Q3: UREN/ DAG | R3: UREN HOOG-FREQUENT/ DAG | S3: PRIJS/ DAG | T3: UREN/ JAAR | U3: PRIJS/ JAAR
A4: 001 - Gemeentehuis Montferland, Bergvredestraat 10, Didam
A5: 001 | C5: 00 | D5: 0.01 | E5: Tochtsluis | F5: schoonloopmat | G5: VEZ | H5: 5W | I5: interieur | J5: Entree zachte vloer | K5: 20.16 | L5: =K5*VLOOKUP(H5,dagsoorttabel1,2,FALSE) -> 20.16 | M5: =prodnorm28 -> 0 | N5: =dagwerk28 -> 0 | O5: m²/uur | P5: =uurtarief28 -> 0 | Q5: =IF(ISBLANK(M5),0,L5/ROUND(M5,4)) -> #DIV/0! | R5: =IF(ISBLANK(M5),0,Q5*ROUND(N5,2)) -> #DIV/0! | S5: =ROUND(P5,2)*Q5 -> #DIV/0! | T5: =Q5*dagenperjaar1 -> #DIV/0! | U5: =T5*ROUND(P5,2) -> #DIV/0!
A6: 001 | C6: 00 | D6: 0.02 | E6: Entree | F6: tegelvloer | G6: VEZ | H6: 5W | I6: interieur | J6: Entree zachte vloer | K6: 104.1 | L6: =K6*VLOOKUP(H6,dagsoorttabel1,2,FALSE) -> 104.1 | M6: =prodnorm28 -> 0 | N6: =dagwerk28 -> 0 | O6: m²/uur | P6: =uurtarief28 -> 0 | Q6: =IF(ISBLANK(M6),0,L6/ROUND(M6,4)) -> #DIV/0! | R6: =IF(ISBLANK(M6),0,Q6*ROUND(N6,2)) -> #DIV/0! | S6: =ROUND(P6,2)*Q6 -> #DIV/0! | T6: =Q6*dagenperjaar1 -> #DIV/0! | U6: =T6*ROUND(P6,2) -> #DIV/0!
A7: 001 | C7: 00 | D7: 0.03 | E7: Wachtruimte/ expositie | F7: projecttapijt | G7: BRZ | H7: 5W | I7: interieur | J7: Receptie/ontvangst-/wachtruimte zachte vloer | K7: 307.11 | L7: =K7*VLOOKUP(H7,dagsoorttabel1,2,FALSE) -> 307.11 | M7: =prodnorm15 -> 0 | N7: =dagwerk15 -> 0 | O7: m²/uur | P7: =uurtarief15 -> 0 | Q7: =IF(ISBLANK(M7),0,L7/ROUND(M7,4)) -> #DIV/0! | R7: =IF(ISBLANK(M7),0,Q7*ROUND(N7,2)) -> #DIV/0! | S7: =ROUND(P7,2)*Q7 -> #DIV/0! | T7: =Q7*dagenperjaar1 -> #DIV/0! | U7: =T7*ROUND(P7,2) -> #DIV/0!
A8: 001 | C8: 00 | D8: 0.04 | E8: Receptie | F8: projecttapijt | G8: BRZ | H8: 5W | I8: interieur | J8: Receptie/ontvangst-/wachtruimte zachte vloer | K8: 21.2 | L8: =K8*VLOOKUP(H8,dagsoorttabel1,2,FALSE) -> 21.2 | M8: =prodnorm15 -> 0 | N8: =dagwerk15 -> 0 | O8: m²/uur | P8: =uurtarief15 -> 0 | Q8: =IF(ISBLANK(M8),0,L8/ROUND(M8,4)) -> #DIV/0! | R8: =IF(ISBLANK(M8),0,Q8*ROUND(N8,2)) -> #DIV/0! | S8: =ROUND(P8,2)*Q8 -> #DIV/0! | T8: =Q8*dagenperjaar1 -> #DIV/0! | U8: =T8*ROUND(P8,2) -> #DIV/0!
A9: 001 | C9: 00 | D9: 0.05 | E9: Hoofdgang | F9: marmoleum | G9: VEH | H9: 5W | I9: interieur | J9: Entree harde vloer | K9: 63.75 | L9: =K9*VLOOKUP(H9,dagsoorttabel1,2,FALSE) -> 63.75 | M9: =prodnorm27 -> 0 | N9: =dagwerk27 -> 0 | O9: m²/uur | P9: =uurtarief27 -> 0 | Q9: =IF(ISBLANK(M9),0,L9/ROUND(M9,4)) -> #DIV/0! | R9: =IF(ISBLANK(M9),0,Q9*ROUND(N9,2)) -> #DIV/0! | S9: =ROUND(P9,2)*Q9 -> #DIV/0! | T9: =Q9*dagenperjaar1 -> #DIV/0! | U9: =T9*ROUND(P9,2) -> #DIV/0!
A10: 001 | C10: 00 | D10: 0.06 | E10: callcenter | F10: projecttapijt | G10: BKH | H10: 5W | I10: interieur | J10: Kantoorruimte harde vloer | K10: 36.4 | L10: =K10*VLOOKUP(H10,dagsoorttabel1,2,FALSE) -> 36.4 | M10: =prodnorm11 -> 0 | N10: =dagwerk11 -> 0 | O10: m²/uur | P10: =uurtarief11 -> 0 | Q10: =IF(ISBLANK(M10),0,L10/ROUND(M10,4)) -> #DIV/0! | R10: =IF(ISBLANK(M10),0,Q10*ROUND(N10,2)) -> #DIV/0! | S10: =ROUND(P10,2)*Q10 -> #DIV/0! | T10: =Q10*dagenperjaar1 -> #DIV/0! | U10: =T10*ROUND(P10,2) -> #DIV/0!
A11: 001 | C11: 00 | D11: 0.07 | E11: Spreekkamer | F11: projecttapijt | G11: BVZ | H11: 5W | I11: interieur | J11: Spreek-/overleg-/vergaderruimte/studio zachte vloer | K11: 13.52 | L11: =K11*VLOOKUP(H11,dagsoorttabel1,2,FALSE) -> 13.52 | M11: =prodnorm17 -> 0 | N11: =dagwerk17 -> 0 | O11: m²/uur | P11: =uurtarief17 -> 0 | Q11: =IF(ISBLANK(M11),0,L11/ROUND(M11,4)) -> #DIV/0! | R11: =IF(ISBLANK(M11),0,Q11*ROUND(N11,2)) -> #DIV/0! | S11: =ROUND(P11,2)*Q11 -> #DIV/0! | T11: =Q11*dagenperjaar1 -> #DIV/0! | U11: =T11*ROUND(P11,2) -> #DIV/0!
A12: 001 | C12: 00 | D12: 0.08 | E12: Spreekkamer | F12: projecttapijt | G12: BVZ | H12: 5W | I12: interieur | J12: Spreek-/overleg-/vergaderruimte/studio zachte vloer | K12: 13.52 | L12: =K12*VLOOKUP(H12,dagsoorttabel1,2,FALSE) -> 13.52 | M12: =prodnorm17 -> 0 | N12: =dagwerk17 -> 0 | O12: m²/uur | P12: =uurtarief17 -> 0 | Q12: =IF(ISBLANK(M12),0,L12/ROUND(M12,4)) -> #DIV/0! | R12: =IF(ISBLANK(M12),0,Q12*ROUND(N12,2)) -> #DIV/0! | S12: =ROUND(P12,2)*Q12 -> #DIV/0! | T12: =Q12*dagenperjaar1 -> #DIV/0! | U12: =T12*ROUND(P12,2) -> #DIV/0!
A13: 001 | C13: 00 | D13: 0.09 | E13: Spreekkamer | F13: projecttapijt | G13: BVZ | H13: 5W | I13: interieur | J13: Spreek-/overleg-/vergaderruimte/studio zachte vloer | K13: 11.7 | L13: =K13*VLOOKUP(H13,dagsoorttabel1,2,FALSE) -> 11.7 | M13: =prodnorm17 -> 0 | N13: =dagwerk17 -> 0 | O13: m²/uur | P13: =uurtarief17 -> 0 | Q13: =IF(ISBLANK(M13),0,L13/ROUND(M13,4)) -> #DIV/0! | R13: =IF(ISBLANK(M13),0,Q13*ROUND(N13,2)) -> #DIV/0! | S13: =ROUND(P13,2)*Q13 -> #DIV/0! | T13: =Q13*dagenperjaar1 -> #DIV/0! | U13: =T13*ROUND(P13,2) -> #DIV/0!
A14: 001 | C14: 00 | D14: 0.10 | E14: Spreekkamer | F14: projecttapijt | G14: BVZ | H14: 5W | I14: interieur | J14: Spreek-/overleg-/vergaderruimte/studio zachte vloer | K14: 15.75 | L14: =K14*VLOOKUP(H14,dagsoorttabel1,2,FALSE) -> 15.75 | M14: =prodnorm17 -> 0 | N14: =dagwerk17 -> 0 | O14: m²/uur | P14: =uurtarief17 -> 0 | Q14: =IF(ISBLANK(M14),0,L14/ROUND(M14,4)) -> #DIV/0! | R14: =IF(ISBLANK(M14),0,Q14*ROUND(N14,2)) -> #DIV/0! | S14: =ROUND(P14,2)*Q14 -> #DIV/0! | T14: =Q14*dagenperjaar1 -> #DIV/0! | U14: =T14*ROUND(P14,2) -> #DIV/0!
A15: 001 | C15: 00 | D15: 0.11 | E15: Spreekkamer WMO | F15: projecttapijt | G15: BVZ | H15: 5W | I15: interieur | J15: Spreek-/overleg-/vergaderruimte/studio zachte vloer | K15: 22.79 | L15: =K15*VLOOKUP(H15,dagsoorttabel1,2,FALSE) -> 22.79 | M15: =prodnorm17 -> 0 | N15: =dagwerk17 -> 0 | O15: m²/uur | P15: =uurtarief17 -> 0 | Q15: =IF(ISBLANK(M15),0,L15/ROUND(M15,4)) -> #DIV/0! | R15: =IF(ISBLANK(M15),0,Q15*ROUND(N15,2)) -> #DIV/0! | S15: =ROUND(P15,2)*Q15 -> #DIV/0! | T15: =Q15*dagenperjaar1 -> #DIV/0! | U15: =T15*ROUND(P15,2) -> #DIV/0!
A16: 001 | C16: 00 | D16: 0.12 | E16: Balies | F16: projecttapijt | G16: BRZ | H16: 1W | I16: interieur | J16: Receptie/ontvangst-/wachtruimte zachte vloer | K16: 56.71 | L16: =K16*VLOOKUP(H16,dagsoorttabel1,2,FALSE) -> 11.342 | M16: =prodnorm14 -> 0 | N16: =dagwerk14 -> 0 | O16: m²/uur | P16: =uurtarief14 -> 0 | Q16: =IF(ISBLANK(M16),0,L16/ROUND(M16,4)) -> #DIV/0! | R16: =IF(ISBLANK(M16),0,Q16*ROUND(N16,2)) -> #DIV/0! | S16: =ROUND(P16,2)*Q16 -> #DIV/0! | T16: =Q16*dagenperjaar1 -> #DIV/0! | U16: =T16*ROUND(P16,2) -> #DIV/0!
A17: 001 | C17: 00 | D17: 0.13 | E17: Spreekkamer | F17: projecttapijt | G17: BVZ | H17: 5W | I17: interieur | J17: Spreek-/overleg-/vergaderruimte/studio zachte vloer | K17: 15.9 | L17: =K17*VLOOKUP(H17,dagsoorttabel1,2,FALSE) -> 15.9 | M17: =prodnorm17 -> 0 | N17: =dagwerk17 -> 0 | O17: m²/uur | P17: =uurtarief17 -> 0 | Q17: =IF(ISBLANK(M17),0,L17/ROUND(M17,4)) -> #DIV/0! | R17: =IF(ISBLANK(M17),0,Q17*ROUND(N17,2)) -> #DIV/0! | S17: =ROUND(P17,2)*Q17 -> #DIV/0! | T17: =Q17*dagenperjaar1 -> #DIV/0! | U17: =T17*ROUND(P17,2) -> #DIV/0!
A18: 001 | C18: 00 | D18: 0.14 | E18: Gang | F18: marmoleum | G18: VAH | H18: 5W | I18: interieur | J18: Verkeersruimte algemeen harde vloer | K18: 24.65 | L18: =K18*VLOOKUP(H18,dagsoorttabel1,2,FALSE) -> 24.65 | M18: =prodnorm25 -> 0 | N18: =dagwerk25 -> 0 | O18: m²/uur | P18: =uurtarief25 -> 0 | Q18: =IF(ISBLANK(M18),0,L18/ROUND(M18,4)) -> #DIV/0! | R18: =IF(ISBLANK(M18),0,Q18*ROUND(N18,2)) -> #DIV/0! | S18: =ROUND(P18,2)*Q18 -> #DIV/0! | T18: =Q18*dagenperjaar1 -> #DIV/0! | U18: =T18*ROUND(P18,2) -> #DIV/0!
A19: 001 | C19: 00 | D19: 0.14 | E19: Gang | F19: projecttapijt | G19: VAZ | H19: 5W | I19: interieur | J19: Verkeersruimte algemeen zachte vloer | K19: 21.25 | L19: =K19*VLOOKUP(H19,dagsoorttabel1,2,FALSE) -> 21.25 | M19: =prodnorm26 -> 0 | N19: =dagwerk26 -> 0 | O19: m²/uur | P19: =uurtarief26 -> 0 | Q19: =IF(ISBLANK(M19),0,L19/ROUND(M19,4)) -> #DIV/0! | R19: =IF(ISBLANK(M19),0,Q19*ROUND(N19,2)) -> #DIV/0! | S19: =ROUND(P19,2)*Q19 -> #DIV/0! | T19: =Q19*dagenperjaar1 -> #DIV/0! | U19: =T19*ROUND(P19,2) -> #DIV/0!
A20: 001 | C20: 00 | D20: 0.14 | E20: Gang | F20: projecttapijt | G20: VAZ | H20: 5W | I20: interieur | J20: Verkeersruimte algemeen zachte vloer | K20: 6.8 | L20: =K20*VLOOKUP(H20,dagsoorttabel1,2,FALSE) -> 6.8 | M20: =prodnorm26 -> 0 | N20: =dagwerk26 -> 0 | O20: m²/uur | P20: =uurtarief26 -> 0 | Q20: =IF(ISBLANK(M20),0,L20/ROUND(M20,4)) -> #DIV/0! | R20: =IF(ISBLANK(M20),0,Q20*ROUND(N20,2)) -> #DIV/0! | S20: =ROUND(P20,2)*Q20 -> #DIV/0! | T20: =Q20*dagenperjaar1 -> #DIV/0! | U20: =T20*ROUND(P20,2) -> #DIV/0!
A21: 001 | C21: 00 | D21: 0.14a | E21: Portaal | F21: projecttapijt | G21: VAH | H21: 5W | I21: interieur | J21: Verkeersruimte algemeen harde vloer | K21: 7.26 | L21: =K21*VLOOKUP(H21,dagsoorttabel1,2,FALSE) -> 7.26 | M21: =prodnorm25 -> 0 | N21: =dagwerk25 -> 0 | O21: m²/uur | P21: =uurtarief25 -> 0 | Q21: =IF(ISBLANK(M21),0,L21/ROUND(M21,4)) -> #DIV/0! | R21: =IF(ISBLANK(M21),0,Q21*ROUND(N21,2)) -> #DIV/0! | S21: =ROUND(P21,2)*Q21 -> #DIV/0! | T21: =Q21*dagenperjaar1 -> #DIV/0! | U21: =T21*ROUND(P21,2) -> #DIV/0!
