Workbook
Name catdw_1_BKHB_1: Categorienormen!$F$6
Name catdw_1_BKHV_51: Categorienormen!$F$7
Name catdw_1_BKZB_1: Categorienormen!$F$8
Name catdw_1_BKZV_51: Categorienormen!$F$9
Name catdw_1_BRHB_1: Categorienormen!$F$10
Name catdw_1_BRHV_51: Categorienormen!$F$11
Name catdw_1_BRZB_1: Categorienormen!$F$12
Name catdw_1_BRZV_51: Categorienormen!$F$13
Name catdw_1_BVHB_1: Categorienormen!$F$14
Name catdw_1_BVHB_51: Categorienormen!$F$15
Name catdw_1_BVZB_1: Categorienormen!$F$16
Name catdw_1_BVZV_51: Categorienormen!$F$17
Name catdw_1_LOHB_1: Categorienormen!$F$18
Name catdw_1_LOHV_51: Categorienormen!$F$19
Name catdw_1_RKHB_1: Categorienormen!$F$26
Name catdw_1_RKHV_51: Categorienormen!$F$27
Name catdw_1_RPHB_1: Categorienormen!$F$28
Name catdw_1_RPHV_51: Categorienormen!$F$29
Name catdw_1_RRHB_1: Categorienormen!$F$30
Name catdw_1_RRHV_51: Categorienormen!$F$31
Name catdw_1_SDHB_1: Categorienormen!$F$20
Name catdw_1_SDHV_51: Categorienormen!$F$21
Name catdw_1_SKHB_1: Categorienormen!$F$22
Name catdw_1_SKHV_51: Categorienormen!$F$23
Name catdw_1_STHB_1: Categorienormen!$F$24
Name catdw_1_STHV_51: Categorienormen!$F$25
Name catdw_1_VAHB_1: Categorienormen!$F$32
Name catdw_1_VAHV_51: Categorienormen!$F$33
Name catdw_1_VAZB_1: Categorienormen!$F$34
Name catdw_1_VAZV_51: Categorienormen!$F$35
Name catdw_1_VEHB_1: Categorienormen!$F$36
Name catdw_1_VEHV_51: Categorienormen!$F$37
Name catdw_1_VEZB_1: Categorienormen!$F$38
Name catdw_1_VEZV_51: Categorienormen!$F$39
Name catdw_1_VLHB_1: Categorienormen!$F$40
Name catdw_1_VLHV_51: Categorienormen!$F$41
Name catdw_1_VOHB_1: Categorienormen!$F$42
Name catdw_1_VOHV_51: Categorienormen!$F$43
Name catdw_1_VTHB_1: Categorienormen!$F$44
Name catdw_1_VTHV_51: Categorienormen!$F$45
Name catfd_1_BKHB_1: Categorienormen!$C$6
Name catfd_1_BKHV_51: Categorienormen!$C$7
Name catfd_1_BKZB_1: Categorienormen!$C$8
Name catfd_1_BKZV_51: Categorienormen!$C$9
Name catfd_1_BRHB_1: Categorienormen!$C$10
Name catfd_1_BRHV_51: Categorienormen!$C$11
Name catfd_1_BRZB_1: Categorienormen!$C$12
Name catfd_1_BRZV_51: Categorienormen!$C$13
Name catfd_1_BVHB_1: Categorienormen!$C$14
Name catfd_1_BVHB_51: Categorienormen!$C$15
Name catfd_1_BVZB_1: Categorienormen!$C$16
Name catfd_1_BVZV_51: Categorienormen!$C$17
Name catfd_1_LOHB_1: Categorienormen!$C$18
Name catfd_1_LOHV_51: Categorienormen!$C$19
Name catfd_1_RKHB_1: Categorienormen!$C$26
Name catfd_1_RKHV_51: Categorienormen!$C$27
Name catfd_1_RPHB_1: Categorienormen!$C$28
Name catfd_1_RPHV_51: Categorienormen!$C$29
Name catfd_1_RRHB_1: Categorienormen!$C$30
Name catfd_1_RRHV_51: Categorienormen!$C$31

Sheet Omreken
A1: Blad 'Omreken'
A3: Dit blad mag niet worden gewijzigd!
A5: Type: | B5: Invultabel
A7: Werkdagen
A9: per jaar: | B9: 255
A10: per week: | B10: 5
A12: FREQ | B12: FACTOR
A13: 5W | B13: =IF(A13="2½W",2.5/dagenperweek1,IF(RIGHT(A13,1)="W",VALUE(LEFT(A13,LEN(A13)-1))/dagenperweek1,IF(RIGHT(A13,1)="J",VALUE(LEFT(A13,LEN(A13)-1))/dagenperjaar1,IF(RIGHT(A13,1)="D",VALUE(LEFT(A13,LEN(A13)-1)),"handmatig!")))) -> 1
A14: 4W | B14: =IF(A14="2½W",2.5/dagenperweek1,IF(RIGHT(A14,1)="W",VALUE(LEFT(A14,LEN(A14)-1))/dagenperweek1,IF(RIGHT(A14,1)="J",VALUE(LEFT(A14,LEN(A14)-1))/dagenperjaar1,IF(RIGHT(A14,1)="D",VALUE(LEFT(A14,LEN(A14)-1)),"handmatig!")))) -> 0.8
A15: 3W | B15: =IF(A15="2½W",2.5/dagenperweek1,IF(RIGHT(A15,1)="W",VALUE(LEFT(A15,LEN(A15)-1))/dagenperweek1,IF(RIGHT(A15,1)="J",VALUE(LEFT(A15,LEN(A15)-1))/dagenperjaar1,IF(RIGHT(A15,1)="D",VALUE(LEFT(A15,LEN(A15)-1)),"handmatig!")))) -> 0.6
A16: 2W | B16: =IF(A16="2½W",2.5/dagenperweek1,IF(RIGHT(A16,1)="W",VALUE(LEFT(A16,LEN(A16)-1))/dagenperweek1,IF(RIGHT(A16,1)="J",VALUE(LEFT(A16,LEN(A16)-1))/dagenperjaar1,IF(RIGHT(A16,1)="D",VALUE(LEFT(A16,LEN(A16)-1)),"handmatig!")))) -> 0.4
A17: 1W | B17: =IF(A17="2½W",2.5/dagenperweek1,IF(RIGHT(A17,1)="W",VALUE(LEFT(A17,LEN(A17)-1))/dagenperweek1,IF(RIGHT(A17,1)="J",VALUE(LEFT(A17,LEN(A17)-1))/dagenperjaar1,IF(RIGHT(A17,1)="D",VALUE(LEFT(A17,LEN(A17)-1)),"handmatig!")))) -> 0.2
A18: 26J | B18: =IF(A18="2½W",2.5/dagenperweek1,IF(RIGHT(A18,1)="W",VALUE(LEFT(A18,LEN(A18)-1))/dagenperweek1,IF(RIGHT(A18,1)="J",VALUE(LEFT(A18,LEN(A18)-1))/dagenperjaar1,IF(RIGHT(A18,1)="D",VALUE(LEFT(A18,LEN(A18)-1)),"handmatig!")))) -> 0.10196078
A19: 12J | B19: =IF(A19="2½W",2.5/dagenperweek1,IF(RIGHT(A19,1)="W",VALUE(LEFT(A19,LEN(A19)-1))/dagenperweek1,IF(RIGHT(A19,1)="J",VALUE(LEFT(A19,LEN(A19)-1))/dagenperjaar1,IF(RIGHT(A19,1)="D",VALUE(LEFT(A19,LEN(A19)-1)),"handmatig!")))) -> 0.047058824
A20: 10J | B20: =IF(A20="2½W",2.5/dagenperweek1,IF(RIGHT(A20,1)="W",VALUE(LEFT(A20,LEN(A20)-1))/dagenperweek1,IF(RIGHT(A20,1)="J",VALUE(LEFT(A20,LEN(A20)-1))/dagenperjaar1,IF(RIGHT(A20,1)="D",VALUE(LEFT(A20,LEN(A20)-1)),"handmatig!")))) -> 0.039215686
A21: 6J | B21: =IF(A21="2½W",2.5/dagenperweek1,IF(RIGHT(A21,1)="W",VALUE(LEFT(A21,LEN(A21)-1))/dagenperweek1,IF(RIGHT(A21,1)="J",VALUE(LEFT(A21,LEN(A21)-1))/dagenperjaar1,IF(RIGHT(A21,1)="D",VALUE(LEFT(A21,LEN(A21)-1)),"handmatig!")))) -> 0.023529412
A22: 4J | B22: =IF(A22="2½W",2.5/dagenperweek1,IF(RIGHT(A22,1)="W",VALUE(LEFT(A22,LEN(A22)-1))/dagenperweek1,IF(RIGHT(A22,1)="J",VALUE(LEFT(A22,LEN(A22)-1))/dagenperjaar1,IF(RIGHT(A22,1)="D",VALUE(LEFT(A22,LEN(A22)-1)),"handmatig!")))) -> 0.015686275
A23: 3J | B23: =IF(A23="2½W",2.5/dagenperweek1,IF(RIGHT(A23,1)="W",VALUE(LEFT(A23,LEN(A23)-1))/dagenperweek1,IF(RIGHT(A23,1)="J",VALUE(LEFT(A23,LEN(A23)-1))/dagenperjaar1,IF(RIGHT(A23,1)="D",VALUE(LEFT(A23,LEN(A23)-1)),"handmatig!")))) -> 0.011764706
A24: 2J | B24: =IF(A24="2½W",2.5/dagenperweek1,IF(RIGHT(A24,1)="W",VALUE(LEFT(A24,LEN(A24)-1))/dagenperweek1,IF(RIGHT(A24,1)="J",VALUE(LEFT(A24,LEN(A24)-1))/dagenperjaar1,IF(RIGHT(A24,1)="D",VALUE(LEFT(A24,LEN(A24)-1)),"handmatig!")))) -> 0.0078431373
A25: 1J | B25: =IF(A25="2½W",2.5/dagenperweek1,IF(RIGHT(A25,1)="W",VALUE(LEFT(A25,LEN(A25)-1))/dagenperweek1,IF(RIGHT(A25,1)="J",VALUE(LEFT(A25,LEN(A25)-1))/dagenperjaar1,IF(RIGHT(A25,1)="D",VALUE(LEFT(A25,LEN(A25)-1)),"handmatig!")))) -> 0.0039215686

Sheet Tariefopbouw
A1: Opbouw uurtarief
B3: Regulier werk | D3: Regulier werk | F3: Regulier werk | H3: Regulier werk | J3: Regulier werk | L3: Regie werk | N3: Regie werk | P3: Regie werk
B4: Uitvoering | D4: Uitvoering | F4: Uitvoering | H4: Directe leiding | J4: Directe leiding | L4: Uitvoering | N4: Uitvoering | P4: Directe leiding
A5: ONDERDEEL | B5: Vakvolwassene | D5: Vakvolwassene | F5: Leiding (meewerkend) | H5: Leiding (niet-meewerkend) | J5: Leiding (niet-meewerkend) | L5: Vakvolwassene regie | N5: Vakvolwassene regie | P5: Leiding regie
A6: Loongroep/ervaring | B6: >3 dienstjaren | F6: voorman/vrouw | H6: voorman/vrouw | J6: objectleider | N6: specialist
A7: Basis uurloon (CAO)
A8: Basis toeslagen
A9: Totaal basisloon | B9: =SUM(B7:B8) -> 0 | D9: =SUM(D7:D8) -> 0 | F9: =SUM(F7:F8) -> 0 | H9: =SUM(H7:H8) -> 0 | J9: =SUM(J7:J8) -> 0 | L9: =SUM(L7:L8) -> 0 | N9: =SUM(N7:N8) -> 0 | P9: =SUM(P7:P8) -> 0
A10: Vakantietoeslag | C10: =TariefOpbouwBasisloon1*B10 -> 0 | E10: =TariefOpbouwBasisloon2*D10 -> 0 | G10: =TariefOpbouwBasisloon3*F10 -> 0 | I10: =TariefOpbouwBasisloon4*H10 -> 0 | K10: =TariefOpbouwBasisloon5*J10 -> 0 | M10: =TariefOpbouwBasisloon6*L10 -> 0 | O10: =TariefOpbouwBasisloon7*N10 -> 0 | Q10: =TariefOpbouwBasisloon8*P10 -> 0
A11: Overige structurele uitkeringen | C11: =TariefOpbouwBasisloon1*B11 -> 0 | E11: =TariefOpbouwBasisloon2*D11 -> 0 | G11: =TariefOpbouwBasisloon3*F11 -> 0 | I11: =TariefOpbouwBasisloon4*H11 -> 0 | K11: =TariefOpbouwBasisloon5*J11 -> 0 | M11: =TariefOpbouwBasisloon6*L11 -> 0 | O11: =TariefOpbouwBasisloon7*N11 -> 0 | Q11: =TariefOpbouwBasisloon8*P11 -> 0
A12: Totaal uurloon inclusief toeslagen | B12: =SUM(TariefOpbouwBasisloon1,C10:C11) -> 0 | D12: =SUM(TariefOpbouwBasisloon2,E10:E11) -> 0 | F12: =SUM(TariefOpbouwBasisloon3,G10:G11) -> 0 | H12: =SUM(TariefOpbouwBasisloon4,I10:I11) -> 0 | J12: =SUM(TariefOpbouwBasisloon5,K10:K11) -> 0 | L12: =SUM(TariefOpbouwBasisloon6,M10:M11) -> 0 | N12: =SUM(TariefOpbouwBasisloon7,O10:O11) -> 0 | P12: =SUM(TariefOpbouwBasisloon8,Q10:Q11) -> 0
A13: Sociale lasten | C13: =TariefOpbouwUurloon1*B13 -> 0 | E13: =TariefOpbouwUurloon2*D13 -> 0 | G13: =TariefOpbouwUurloon3*F13 -> 0 | I13: =TariefOpbouwUurloon4*H13 -> 0 | K13: =TariefOpbouwUurloon5*J13 -> 0 | M13: =TariefOpbouwUurloon6*L13 -> 0 | O13: =TariefOpbouwUurloon7*N13 -> 0 | Q13: =TariefOpbouwUurloon8*P13 -> 0
A14: Totaal uurloon inclusief sociale lasten | B14: =SUM(TariefOpbouwUurloon1,C13:C13) -> 0 | D14: =SUM(TariefOpbouwUurloon2,E13:E13) -> 0 | F14: =SUM(TariefOpbouwUurloon3,G13:G13) -> 0 | H14: =SUM(TariefOpbouwUurloon4,I13:I13) -> 0 | J14: =SUM(TariefOpbouwUurloon5,K13:K13) -> 0 | L14: =SUM(TariefOpbouwUurloon6,M13:M13) -> 0 | N14: =SUM(TariefOpbouwUurloon7,O13:O13) -> 0 | P14: =SUM(TariefOpbouwUurloon8,Q13:Q13) -> 0
A15: Vakantiedagen | C15: =TariefOpbouwUurloonkosten1*B15 -> 0 | E15: =TariefOpbouwUurloonkosten2*D15 -> 0 | G15: =TariefOpbouwUurloonkosten3*F15 -> 0 | I15: =TariefOpbouwUurloonkosten4*H15 -> 0 | K15: =TariefOpbouwUurloonkosten5*J15 -> 0 | M15: =TariefOpbouwUurloonkosten6*L15 -> 0 | O15: =TariefOpbouwUurloonkosten7*N15 -> 0 | Q15: =TariefOpbouwUurloonkosten8*P15 -> 0
A16: Betaalde feestdagen | C16: =TariefOpbouwUurloonkosten1*B16 -> 0 | E16: =TariefOpbouwUurloonkosten2*D16 -> 0 | G16: =TariefOpbouwUurloonkosten3*F16 -> 0 | I16: =TariefOpbouwUurloonkosten4*H16 -> 0 | K16: =TariefOpbouwUurloonkosten5*J16 -> 0 | M16: =TariefOpbouwUurloonkosten6*L16 -> 0 | O16: =TariefOpbouwUurloonkosten7*N16 -> 0 | Q16: =TariefOpbouwUurloonkosten8*P16 -> 0
A17: Ziektedagen | C17: =TariefOpbouwUurloonkosten1*B17 -> 0 | E17: =TariefOpbouwUurloonkosten2*D17 -> 0 | G17: =TariefOpbouwUurloonkosten3*F17 -> 0 | I17: =TariefOpbouwUurloonkosten4*H17 -> 0 | K17: =TariefOpbouwUurloonkosten5*J17 -> 0 | M17: =TariefOpbouwUurloonkosten6*L17 -> 0 | O17: =TariefOpbouwUurloonkosten7*N17 -> 0 | Q17: =TariefOpbouwUurloonkosten8*P17 -> 0
A18: Overige niet werkbare dagen | C18: =TariefOpbouwUurloonkosten1*B18 -> 0 | E18: =TariefOpbouwUurloonkosten2*D18 -> 0 | G18: =TariefOpbouwUurloonkosten3*F18 -> 0 | I18: =TariefOpbouwUurloonkosten4*H18 -> 0 | K18: =TariefOpbouwUurloonkosten5*J18 -> 0 | M18: =TariefOpbouwUurloonkosten6*L18 -> 0 | O18: =TariefOpbouwUurloonkosten7*N18 -> 0 | Q18: =TariefOpbouwUurloonkosten8*P18 -> 0
A19: TOTAAL LOONKOSTEN PER UUR | B19: =SUM(TariefOpbouwUurloonkosten1,C15:C18) -> 0 | D19: =SUM(TariefOpbouwUurloonkosten2,E15:E18) -> 0 | F19: =SUM(TariefOpbouwUurloonkosten3,G15:G18) -> 0 | H19: =SUM(TariefOpbouwUurloonkosten4,I15:I18) -> 0 | J19: =SUM(TariefOpbouwUurloonkosten5,K15:K18) -> 0 | L19: =SUM(TariefOpbouwUurloonkosten6,M15:M18) -> 0 | N19: =SUM(TariefOpbouwUurloonkosten7,O15:O18) -> 0 | P19: =SUM(TariefOpbouwUurloonkosten8,Q15:Q18) -> 0
A20: Materialen en middelen | C20: =TariefOpbouwTotaalLoonkosten1*B20 -> 0 | E20: =TariefOpbouwTotaalLoonkosten2*D20 -> 0 | G20: =TariefOpbouwTotaalLoonkosten3*F20 -> 0 | I20: =TariefOpbouwTotaalLoonkosten4*H20 -> 0 | K20: =TariefOpbouwTotaalLoonkosten5*J20 -> 0 | M20: =TariefOpbouwTotaalLoonkosten6*L20 -> 0 | O20: =TariefOpbouwTotaalLoonkosten7*N20 -> 0 | Q20: =TariefOpbouwTotaalLoonkosten8*P20 -> 0
A21: Machinekosten | C21: =TariefOpbouwTotaalLoonkosten1*B21 -> 0 | E21: =TariefOpbouwTotaalLoonkosten2*D21 -> 0 | G21: =TariefOpbouwTotaalLoonkosten3*F21 -> 0 | I21: =TariefOpbouwTotaalLoonkosten4*H21 -> 0 | K21: =TariefOpbouwTotaalLoonkosten5*J21 -> 0 | M21: =TariefOpbouwTotaalLoonkosten6*L21 -> 0 | O21: =TariefOpbouwTotaalLoonkosten7*N21 -> 0 | Q21: =TariefOpbouwTotaalLoonkosten8*P21 -> 0
A22: Werkkleding en uitrusting | C22: =TariefOpbouwTotaalLoonkosten1*B22 -> 0 | E22: =TariefOpbouwTotaalLoonkosten2*D22 -> 0 | G22: =TariefOpbouwTotaalLoonkosten3*F22 -> 0 | I22: =TariefOpbouwTotaalLoonkosten4*H22 -> 0 | K22: =TariefOpbouwTotaalLoonkosten5*J22 -> 0 | M22: =TariefOpbouwTotaalLoonkosten6*L22 -> 0 | O22: =TariefOpbouwTotaalLoonkosten7*N22 -> 0 | Q22: =TariefOpbouwTotaalLoonkosten8*P22 -> 0
A23: Afvalzakken | C23: =TariefOpbouwTotaalLoonkosten1*B23 -> 0 | E23: =TariefOpbouwTotaalLoonkosten2*D23 -> 0 | G23: =TariefOpbouwTotaalLoonkosten3*F23 -> 0 | I23: =TariefOpbouwTotaalLoonkosten4*H23 -> 0 | K23: =TariefOpbouwTotaalLoonkosten5*J23 -> 0 | M23: =TariefOpbouwTotaalLoonkosten6*L23 -> 0 | O23: =TariefOpbouwTotaalLoonkosten7*N23 -> 0 | Q23: =TariefOpbouwTotaalLoonkosten8*P23 -> 0
A24: Reiskosten/vervoerskosten/parkeergelden | C24: =TariefOpbouwTotaalLoonkosten1*B24 -> 0 | E24: =TariefOpbouwTotaalLoonkosten2*D24 -> 0 | G24: =TariefOpbouwTotaalLoonkosten3*F24 -> 0 | I24: =TariefOpbouwTotaalLoonkosten4*H24 -> 0 | K24: =TariefOpbouwTotaalLoonkosten5*J24 -> 0 | M24: =TariefOpbouwTotaalLoonkosten6*L24 -> 0 | O24: =TariefOpbouwTotaalLoonkosten7*N24 -> 0 | Q24: =TariefOpbouwTotaalLoonkosten8*P24 -> 0
A25: Overige directe kosten | C25: =TariefOpbouwTotaalLoonkosten1*B25 -> 0 | E25: =TariefOpbouwTotaalLoonkosten2*D25 -> 0 | G25: =TariefOpbouwTotaalLoonkosten3*F25 -> 0 | I25: =TariefOpbouwTotaalLoonkosten4*H25 -> 0 | K25: =TariefOpbouwTotaalLoonkosten5*J25 -> 0 | M25: =TariefOpbouwTotaalLoonkosten6*L25 -> 0 | O25: =TariefOpbouwTotaalLoonkosten7*N25 -> 0 | Q25: =TariefOpbouwTotaalLoonkosten8*P25 -> 0
A26: TOTAAL DIRECTE KOSTEN | B26: =SUM(TariefOpbouwTotaalLoonkosten1,C20:C25) -> 0 | D26: =SUM(TariefOpbouwTotaalLoonkosten2,E20:E25) -> 0 | F26: =SUM(TariefOpbouwTotaalLoonkosten3,G20:G25) -> 0 | H26: =SUM(TariefOpbouwTotaalLoonkosten4,I20:I25) -> 0 | J26: =SUM(TariefOpbouwTotaalLoonkosten5,K20:K25) -> 0 | L26: =SUM(TariefOpbouwTotaalLoonkosten6,M20:M25) -> 0 | N26: =SUM(TariefOpbouwTotaalLoonkosten7,O20:O25) -> 0 | P26: =SUM(TariefOpbouwTotaalLoonkosten8,Q20:Q25) -> 0
A28: Indirecte leiding | C28: =TariefOpbouwDirecteKosten1*B28 -> 0 | E28: =TariefOpbouwDirecteKosten2*D28 -> 0 | G28: =TariefOpbouwDirecteKosten3*F28 -> 0 | I28: =TariefOpbouwDirecteKosten4*H28 -> 0 | K28: =TariefOpbouwDirecteKosten5*J28 -> 0 | M28: =TariefOpbouwDirecteKosten6*L28 -> 0 | O28: =TariefOpbouwDirecteKosten7*N28 -> 0 | Q28: =TariefOpbouwDirecteKosten8*P28 -> 0
A29: Managementkosten | C29: =TariefOpbouwDirecteKosten1*B29 -> 0 | E29: =TariefOpbouwDirecteKosten2*D29 -> 0 | G29: =TariefOpbouwDirecteKosten3*F29 -> 0 | I29: =TariefOpbouwDirecteKosten4*H29 -> 0 | K29: =TariefOpbouwDirecteKosten5*J29 -> 0 | M29: =TariefOpbouwDirecteKosten6*L29 -> 0 | O29: =TariefOpbouwDirecteKosten7*N29 -> 0 | Q29: =TariefOpbouwDirecteKosten8*P29 -> 0
A30: P.Z. kosten | C30: =TariefOpbouwDirecteKosten1*B30 -> 0 | E30: =TariefOpbouwDirecteKosten2*D30 -> 0 | G30: =TariefOpbouwDirecteKosten3*F30 -> 0 | I30: =TariefOpbouwDirecteKosten4*H30 -> 0 | K30: =TariefOpbouwDirecteKosten5*J30 -> 0 | M30: =TariefOpbouwDirecteKosten6*L30 -> 0 | O30: =TariefOpbouwDirecteKosten7*N30 -> 0 | Q30: =TariefOpbouwDirecteKosten8*P30 -> 0
A31: Opleiding | C31: =TariefOpbouwDirecteKosten1*B31 -> 0 | E31: =TariefOpbouwDirecteKosten2*D31 -> 0 | G31: =TariefOpbouwDirecteKosten3*F31 -> 0 | I31: =TariefOpbouwDirecteKosten4*H31 -> 0 | K31: =TariefOpbouwDirecteKosten5*J31 -> 0 | M31: =TariefOpbouwDirecteKosten6*L31 -> 0 | O31: =TariefOpbouwDirecteKosten7*N31 -> 0 | Q31: =TariefOpbouwDirecteKosten8*P31 -> 0
A32: Huisvesting | C32: =TariefOpbouwDirecteKosten1*B32 -> 0 | E32: =TariefOpbouwDirecteKosten2*D32 -> 0 | G32: =TariefOpbouwDirecteKosten3*F32 -> 0 | I32: =TariefOpbouwDirecteKosten4*H32 -> 0 | K32: =TariefOpbouwDirecteKosten5*J32 -> 0 | M32: =TariefOpbouwDirecteKosten6*L32 -> 0 | O32: =TariefOpbouwDirecteKosten7*N32 -> 0 | Q32: =TariefOpbouwDirecteKosten8*P32 -> 0
A33: Administratiekosten | C33: =TariefOpbouwDirecteKosten1*B33 -> 0 | E33: =TariefOpbouwDirecteKosten2*D33 -> 0 | G33: =TariefOpbouwDirecteKosten3*F33 -> 0 | I33: =TariefOpbouwDirecteKosten4*H33 -> 0 | K33: =TariefOpbouwDirecteKosten5*J33 -> 0 | M33: =TariefOpbouwDirecteKosten6*L33 -> 0 | O33: =TariefOpbouwDirecteKosten7*N33 -> 0 | Q33: =TariefOpbouwDirecteKosten8*P33 -> 0
A34: Overige overhead | C34: =TariefOpbouwDirecteKosten1*B34 -> 0 | E34: =TariefOpbouwDirecteKosten2*D34 -> 0 | G34: =TariefOpbouwDirecteKosten3*F34 -> 0 | I34: =TariefOpbouwDirecteKosten4*H34 -> 0 | K34: =TariefOpbouwDirecteKosten5*J34 -> 0 | M34: =TariefOpbouwDirecteKosten6*L34 -> 0 | O34: =TariefOpbouwDirecteKosten7*N34 -> 0 | Q34: =TariefOpbouwDirecteKosten8*P34 -> 0
A35: TOTAAL INDIRECTE KOSTEN | B35: =SUM(C28:C34) -> 0 | D35: =SUM(E28:E34) -> 0 | F35: =SUM(G28:G34) -> 0 | H35: =SUM(I28:I34) -> 0 | J35: =SUM(K28:K34) -> 0 | L35: =SUM(M28:M34) -> 0 | N35: =SUM(O28:O34) -> 0 | P35: =SUM(Q28:Q34) -> 0
A37: RISICO EN WINST | C37: =(TariefOpbouwDirecteKosten1+TariefOpbouwIndirecteKosten1)*B37 -> 0 | E37: =(TariefOpbouwDirecteKosten2+TariefOpbouwIndirecteKosten2)*D37 -> 0 | G37: =(TariefOpbouwDirecteKosten3+TariefOpbouwIndirecteKosten3)*F37 -> 0 | I37: =(TariefOpbouwDirecteKosten4+TariefOpbouwIndirecteKosten4)*H37 -> 0 | K37: =(TariefOpbouwDirecteKosten5+TariefOpbouwIndirecteKosten5)*J37 -> 0 | M37: =(TariefOpbouwDirecteKosten6+TariefOpbouwIndirecteKosten6)*L37 -> 0 | O37: =(TariefOpbouwDirecteKosten7+TariefOpbouwIndirecteKosten7)*N37 -> 0 | Q37: =(TariefOpbouwDirecteKosten8+TariefOpbouwIndirecteKosten8)*P37 -> 0
A39: TOTAAL UURTARIEF (excl. BTW) | B39: =TariefOpbouwDirecteKosten1+TariefOpbouwIndirecteKosten1+TariefOpbouwRisicoWinst1 -> 0 | D39: =TariefOpbouwDirecteKosten2+TariefOpbouwIndirecteKosten2+TariefOpbouwRisicoWinst2 -> 0 | F39: =TariefOpbouwDirecteKosten3+TariefOpbouwIndirecteKosten3+TariefOpbouwRisicoWinst3 -> 0 | H39: =TariefOpbouwDirecteKosten4+TariefOpbouwIndirecteKosten4+TariefOpbouwRisicoWinst4 -> 0 | J39: =TariefOpbouwDirecteKosten5+TariefOpbouwIndirecteKosten5+TariefOpbouwRisicoWinst5 -> 0 | L39: =TariefOpbouwDirecteKosten6+TariefOpbouwIndirecteKosten6+TariefOpbouwRisicoWinst6 -> 0 | N39: =TariefOpbouwDirecteKosten7+TariefOpbouwIndirecteKosten7+TariefOpbouwRisicoWinst7 -> 0 | P39: =TariefOpbouwDirecteKosten8+TariefOpbouwIndirecteKosten8+TariefOpbouwRisicoWinst8 -> 0
A40: Onregelmatigheids tijdstip: | B40: toeslag | C40: tarief | D40: toeslag | E40: tarief | F40: toeslag | G40: tarief | H40: toeslag | I40: tarief | J40: toeslag | K40: tarief | L40: toeslag | M40: tarief | N40: toeslag | O40: tarief | P40: toeslag | Q40: tarief
A41: - DN: ma-vr nacht | B41: 0.3 | C41: =((1+B41)*TariefOpbouwTotaalLoonkosten1+TariefOpbouwDirecteKosten1-TariefOpbouwTotaalLoonkosten1+TariefOpbouwIndirecteKosten1)*(1+TariefOpbouwRisicoWinstPercentage1) -> 0 | D41: 0.3 | E41: =((1+D41)*TariefOpbouwTotaalLoonkosten2+TariefOpbouwDirecteKosten2-TariefOpbouwTotaalLoonkosten2+TariefOpbouwIndirecteKosten2)*(1+TariefOpbouwRisicoWinstPercentage2) -> 0 | F41: 0.3 | G41: =((1+F41)*TariefOpbouwTotaalLoonkosten3+TariefOpbouwDirecteKosten3-TariefOpbouwTotaalLoonkosten3+TariefOpbouwIndirecteKosten3)*(1+TariefOpbouwRisicoWinstPercentage3) -> 0 | H41: 0.3 | I41: =((1+H41)*TariefOpbouwTotaalLoonkosten4+TariefOpbouwDirecteKosten4-TariefOpbouwTotaalLoonkosten4+TariefOpbouwIndirecteKosten4)*(1+TariefOpbouwRisicoWinstPercentage4) -> 0 | J41: 0.3 | K41: =((1+J41)*TariefOpbouwTotaalLoonkosten5+TariefOpbouwDirecteKosten5-TariefOpbouwTotaalLoonkosten5+TariefOpbouwIndirecteKosten5)*(1+TariefOpbouwRisicoWinstPercentage5) -> 0 | L41: 0.3 | M41: =((1+L41)*TariefOpbouwTotaalLoonkosten6+TariefOpbouwDirecteKosten6-TariefOpbouwTotaalLoonkosten6+TariefOpbouwIndirecteKosten6)*(1+TariefOpbouwRisicoWinstPercentage6) -> 0 | N41: 0.3 | O41: =((1+N41)*TariefOpbouwTotaalLoonkosten7+TariefOpbouwDirecteKosten7-TariefOpbouwTotaalLoonkosten7+TariefOpbouwIndirecteKosten7)*(1+TariefOpbouwRisicoWinstPercentage7) -> 0 | P41: 0.3 | Q41: =((1+P41)*TariefOpbouwTotaalLoonkosten8+TariefOpbouwDirecteKosten8-TariefOpbouwTotaalLoonkosten8+TariefOpbouwIndirecteKosten8)*(1+TariefOpbouwRisicoWinstPercentage8) -> 0
A42: - W: weekend | B42: 0.5 | C42: =((1+B42)*TariefOpbouwTotaalLoonkosten1+TariefOpbouwDirecteKosten1-TariefOpbouwTotaalLoonkosten1+TariefOpbouwIndirecteKosten1)*(1+TariefOpbouwRisicoWinstPercentage1) -> 0 | D42: 0.5 | E42: =((1+D42)*TariefOpbouwTotaalLoonkosten2+TariefOpbouwDirecteKosten2-TariefOpbouwTotaalLoonkosten2+TariefOpbouwIndirecteKosten2)*(1+TariefOpbouwRisicoWinstPercentage2) -> 0 | F42: 0.5 | G42: =((1+F42)*TariefOpbouwTotaalLoonkosten3+TariefOpbouwDirecteKosten3-TariefOpbouwTotaalLoonkosten3+TariefOpbouwIndirecteKosten3)*(1+TariefOpbouwRisicoWinstPercentage3) -> 0 | H42: 0.5 | I42: =((1+H42)*TariefOpbouwTotaalLoonkosten4+TariefOpbouwDirecteKosten4-TariefOpbouwTotaalLoonkosten4+TariefOpbouwIndirecteKosten4)*(1+TariefOpbouwRisicoWinstPercentage4) -> 0 | J42: 0.5 | K42: =((1+J42)*TariefOpbouwTotaalLoonkosten5+TariefOpbouwDirecteKosten5-TariefOpbouwTotaalLoonkosten5+TariefOpbouwIndirecteKosten5)*(1+TariefOpbouwRisicoWinstPercentage5) -> 0 | L42: 0.5 | M42: =((1+L42)*TariefOpbouwTotaalLoonkosten6+TariefOpbouwDirecteKosten6-TariefOpbouwTotaalLoonkosten6+TariefOpbouwIndirecteKosten6)*(1+TariefOpbouwRisicoWinstPercentage6) -> 0 | N42: 0.5 | O42: =((1+N42)*TariefOpbouwTotaalLoonkosten7+TariefOpbouwDirecteKosten7-TariefOpbouwTotaalLoonkosten7+TariefOpbouwIndirecteKosten7)*(1+TariefOpbouwRisicoWinstPercentage7) -> 0 | P42: 0.5 | Q42: =((1+P42)*TariefOpbouwTotaalLoonkosten8+TariefOpbouwDirecteKosten8-TariefOpbouwTotaalLoonkosten8+TariefOpbouwIndirecteKosten8)*(1+TariefOpbouwRisicoWinstPercentage8) -> 0
A43: - X: feestdag | B43: 1.5 | C43: =((1+B43)*TariefOpbouwTotaalLoonkosten1+TariefOpbouwDirecteKosten1-TariefOpbouwTotaalLoonkosten1+TariefOpbouwIndirecteKosten1)*(1+TariefOpbouwRisicoWinstPercentage1) -> 0 | D43: 1.5 | E43: =((1+D43)*TariefOpbouwTotaalLoonkosten2+TariefOpbouwDirecteKosten2-TariefOpbouwTotaalLoonkosten2+TariefOpbouwIndirecteKosten2)*(1+TariefOpbouwRisicoWinstPercentage2) -> 0 | F43: 1.5 | G43: =((1+F43)*TariefOpbouwTotaalLoonkosten3+TariefOpbouwDirecteKosten3-TariefOpbouwTotaalLoonkosten3+TariefOpbouwIndirecteKosten3)*(1+TariefOpbouwRisicoWinstPercentage3) -> 0 | H43: 1.5 | I43: =((1+H43)*TariefOpbouwTotaalLoonkosten4+TariefOpbouwDirecteKosten4-TariefOpbouwTotaalLoonkosten4+TariefOpbouwIndirecteKosten4)*(1+TariefOpbouwRisicoWinstPercentage4) -> 0 | J43: 1.5 | K43: =((1+J43)*TariefOpbouwTotaalLoonkosten5+TariefOpbouwDirecteKosten5-TariefOpbouwTotaalLoonkosten5+TariefOpbouwIndirecteKosten5)*(1+TariefOpbouwRisicoWinstPercentage5) -> 0 | L43: 1.5 | M43: =((1+L43)*TariefOpbouwTotaalLoonkosten6+TariefOpbouwDirecteKosten6-TariefOpbouwTotaalLoonkosten6+TariefOpbouwIndirecteKosten6)*(1+TariefOpbouwRisicoWinstPercentage6) -> 0 | N43: 1.5 | O43: =((1+N43)*TariefOpbouwTotaalLoonkosten7+TariefOpbouwDirecteKosten7-TariefOpbouwTotaalLoonkosten7+TariefOpbouwIndirecteKosten7)*(1+TariefOpbouwRisicoWinstPercentage7) -> 0 | P43: 1.5 | Q43: =((1+P43)*TariefOpbouwTotaalLoonkosten8+TariefOpbouwDirecteKosten8-TariefOpbouwTotaalLoonkosten8+TariefOpbouwIndirecteKosten8)*(1+TariefOpbouwRisicoWinstPercentage8) -> 0
A45: TARIEVEN REGULIER WERK | B45: Werkdag | D45: Glasbewassing | F45: Specialistisch vloeronderhoud | H45: Weekend | J45: Feestdag
B46: Aandeel | C46: Tarief | D46: Aandeel | E46: Tarief | F46: Aandeel | G46: Tarief | H46: Aandeel | I46: Tarief | J46: Aandeel | K46: Tarief
A47: =TariefOpbouwNaam1&" "&TariefOpbouwErvaring1 -> Vakvolwassene >3 dienstjaren | C47: =TariefOpbouwTarief1 -> 0 | E47: =TariefOpbouwTarief1 -> 0 | G47: =TariefOpbouwTarief1 -> 0 | I47: =TariefOpbouwTarief1W -> 0 | K47: =TariefOpbouwTarief1X -> 0
A48: =TariefOpbouwNaam2&" "&TariefOpbouwErvaring2 -> Vakvolwassene | C48: =TariefOpbouwTarief2 -> 0 | E48: =TariefOpbouwTarief2 -> 0 | G48: =TariefOpbouwTarief2 -> 0 | I48: =TariefOpbouwTarief2W -> 0 | K48: =TariefOpbouwTarief2X -> 0
A49: =TariefOpbouwNaam3&" "&TariefOpbouwErvaring3 -> Leiding (meewerkend) voorman/vrouw | C49: =TariefOpbouwTarief3 -> 0 | E49: =TariefOpbouwTarief3 -> 0 | G49: =TariefOpbouwTarief3 -> 0 | I49: =TariefOpbouwTarief3W -> 0 | K49: =TariefOpbouwTarief3X -> 0
A50: Gewogen tarief uitvoering | B50: =IF(SUM(B47:B49)=1,SUM(B47:B49),"ongeldig") -> ongeldig | C50: =SUMPRODUCT(B47:B49,C47:C49) -> 0 | D50: =IF(SUM(D47:D49)=1,SUM(D47:D49),"ongeldig") -> ongeldig | E50: =SUMPRODUCT(D47:D49,E47:E49) -> 0 | F50: =IF(SUM(F47:F49)=1,SUM(F47:F49),"ongeldig") -> ongeldig | G50: =SUMPRODUCT(F47:F49,G47:G49) -> 0 | H50: =IF(SUM(H47:H49)=1,SUM(H47:H49),"ongeldig") -> ongeldig | I50: =SUMPRODUCT(H47:H49,I47:I49) -> 0 | J50: =IF(SUM(J47:J49)=1,SUM(J47:J49),"ongeldig") -> ongeldig | K50: =SUMPRODUCT(J47:J49,K47:K49) -> 0
A51: =TariefOpbouwNaam4&" "&TariefOpbouwErvaring4 -> Leiding (niet-meewerkend) voorman/vrouw | C51: =TariefOpbouwTarief4 -> 0 | E51: =TariefOpbouwTarief4 -> 0 | G51: =TariefOpbouwTarief4 -> 0 | I51: =TariefOpbouwTarief4W -> 0 | K51: =TariefOpbouwTarief4X -> 0
A52: =TariefOpbouwNaam5&" "&TariefOpbouwErvaring5 -> Leiding (niet-meewerkend) objectleider | C52: =TariefOpbouwTarief5 -> 0 | E52: =TariefOpbouwTarief5 -> 0 | G52: =TariefOpbouwTarief5 -> 0 | I52: =TariefOpbouwTarief5W -> 0 | K52: =TariefOpbouwTarief5X -> 0
A53: Tarieven regulier werk | B53: =TariefUitvoering1+IF(SUM(B51:B52)>0,SUMPRODUCT(B51:B52,C51:C52)) -> 0 | D53: =TariefUitvoering4+IF(SUM(D51:D52)>0,SUMPRODUCT(D51:D52,E51:E52)) -> 0 | F53: =TariefUitvoering5+IF(SUM(F51:F52)>0,SUMPRODUCT(F51:F52,G51:G52)) -> 0 | H53: =TariefUitvoering6+IF(SUM(H51:H52)>0,SUMPRODUCT(H51:H52,I51:I52)) -> 0 | J53: =TariefUitvoering7+IF(SUM(J51:J52)>0,SUMPRODUCT(J51:J52,K51:K52)) -> 0
A55: TARIEVEN REGIE WERK | B55: Regie | D55: Regie specialist
B56: Aandeel | C56: Tarief | D56: Aandeel | E56: Tarief
A57: =TariefOpbouwNaam6&" "&TariefOpbouwErvaring6 -> Vakvolwassene regie | C57: =TariefOpbouwTarief6 -> 0 | E57: =TariefOpbouwTarief6 -> 0
A58: =TariefOpbouwNaam7&" "&TariefOpbouwErvaring7 -> Vakvolwassene regie specialist | C58: =TariefOpbouwTarief7 -> 0 | E58: =TariefOpbouwTarief7 -> 0
A59: Gewogen tarief uitvoering | B59: =IF(SUM(B57:B58)=1,SUM(B57:B58),"ongeldig") -> ongeldig | C59: =SUMPRODUCT(B57:B58,C57:C58) -> 0 | D59: =IF(SUM(D57:D58)=1,SUM(D57:D58),"ongeldig") -> ongeldig | E59: =SUMPRODUCT(D57:D58,E57:E58) -> 0
A60: =TariefOpbouwNaam8&" "&TariefOpbouwErvaring8 -> Leiding regie | C60: =TariefOpbouwTarief8 -> 0 | E60: =TariefOpbouwTarief8 -> 0
A61: Tarieven regie werk | B61: =TariefUitvoering2+IF(SUM(B60:B60)>0,SUMPRODUCT(B60:B60,C60:C60)) -> 0 | D61: =TariefUitvoering3+IF(SUM(D60:D60)>0,SUMPRODUCT(D60:D60,E60:E60)) -> 0

Sheet Categorienormen
A1: =CONCATENATE("Bijlage D.1: ",tabeltype," categorienormen") -> Bijlage D.1: Invultabel categorienormen
A3: NORM-CODE | B3: CATEGORIE | C3: DAGEN/JAAR | D3: OMSCHRIJVING | E3: PRODUCTIE-NORM | F3: % HOOG-FREQUENT | G3: EENHEID | H3: TARIEF (EURO)
A5: WERKDAG
A6: BKHB | B6: B | C6: 1 | D6: Kantoorruimte hard (basis) | G6: m²/uur | H6: =Tariefopbouw1 -> 0
A7: BKHV | B7: B | C7: 51 | D7: Kantoorruimte hard (volledig) | G7: m²/uur | H7: =Tariefopbouw1 -> 0
A8: BKZB | B8: B | C8: 1 | D8: Kantoorruimte zacht (basis) | G8: m²/uur | H8: =Tariefopbouw1 -> 0
A9: BKZV | B9: B | C9: 51 | D9: Kantoorruimte zacht (volledig) | G9: m²/uur | H9: =Tariefopbouw1 -> 0
A10: BRHB | B10: B | C10: 1 | D10: Receptie/ontvangst/wachtruimte - hard (basis) | G10: m²/uur | H10: =Tariefopbouw1 -> 0
A11: BRHV | B11: B | C11: 51 | D11: Receptie/ontvangst/wachtruimte - hard (volledig) | G11: m²/uur | H11: =Tariefopbouw1 -> 0
A12: BRZB | B12: B | C12: 1 | D12: Receptie/ontvangst/wachtruimte - zacht (basis) | G12: m²/uur | H12: =Tariefopbouw1 -> 0
A13: BRZV | B13: B | C13: 51 | D13: Receptie/ontvangst/wachtruimte -zacht (volledig) | G13: m²/uur | H13: =Tariefopbouw1 -> 0
A14: BVHB | B14: B | C14: 1 | D14: Spreek-/overleg-/vergaderruimte/studio hard (basis) | G14: m²/uur | H14: =Tariefopbouw1 -> 0
A15: BVHB | B15: B | C15: 51 | D15: Spreek-/overleg-/vergaderruimte/studio hard (volledig) | G15: m²/uur | H15: =Tariefopbouw1 -> 0
A16: BVZB | B16: B | C16: 1 | D16: Spreek-/overleg-/vergaderruimte/studio zacht (basis) | G16: m²/uur | H16: =Tariefopbouw1 -> 0
A17: BVZV | B17: B | C17: 51 | D17: Spreek-/overleg-/vergaderruimte/studio zacht (volledig) | G17: m²/uur | H17: =Tariefopbouw1 -> 0
... A45: VTHV | B45: V | C45: 51 | D45: Trappenhuis/tapr hard (volledig) | G45: m²/uur | H45: =Tariefopbouw1 -> 0

Sheet Regulier werk
A1: =CONCATENATE("Bijlage D.2: ",tabeltype," regulier werk") -> Bijlage D.2: Invultabel regulier werk
A3: TAAK | B3: FREQ | C3: WERK- SOORT | D3: OMSCHRIJVING | E3: OPP OF AANTAL | F3: OPP OF AANTAL /DAG | G3: PRODUCTIE-NORM | H3: % HOOG-FREQUENT | I3: EENHEID | J3: TARIEF (EURO) | K3: UREN/ DAG | L3: PRIJS/ DAG | M3: UREN/ JAAR | N3: PRIJS/ JAAR
A5: WERKDAG
A6: BKH | B6: 5W | C6: interieur | D6: Kantoorruimte harde vloer | E6: 106.4 | F6: =E6*VLOOKUP(B6,dagsoorttabel1,2,FALSE) -> 106.4 | G6: =IF(AND(catpn_1_BKHB_1>0,catpn_1_BKHV_51>0),(dagenperjaar1*VLOOKUP(B6,dagsoorttabel1,2,FALSE))/(((dagenperjaar1*VLOOKUP(B6,dagsoorttabel1,2,FALSE))-catfd_1_BKHV_51)/catpn_1_BKHB_1+catfd_1_BKHV_51/catpn_1_BKHV_51),0) -> 0 | H6: =IF(AND(catpn_1_BKHB_1>0,catpn_1_BKHV_51>0),(catdw_1_BKHB_1*((dagenperjaar1*VLOOKUP(B6,dagsoorttabel1,2,FALSE))-catfd_1_BKHV_51)/catpn_1_BKHB_1+catdw_1_BKHV_51*catfd_1_BKHV_51/catpn_1_BKHV_51)/(((dagenperjaar1*VLOOKUP(B6,dagsoorttabel1,2,FALSE))-catfd_1_BKHV_51)/catpn_1_BKHB_1+catfd_1_BKHV_51/catpn_1_BKHV_51),0) -> 0 | I6: m²/uur | J6: =IF(AND(catpn_1_BKHB_1>0,catpn_1_BKHV_51>0),(cattf_1_BKHB_1*((dagenperjaar1*VLOOKUP(B6,dagsoorttabel1,2,FALSE))-catfd_1_BKHV_51)/catpn_1_BKHB_1+cattf_1_BKHV_51*catfd_1_BKHV_51/catpn_1_BKHV_51)/(((dagenperjaar1*VLOOKUP(B6,dagsoorttabel1,2,FALSE))-catfd_1_BKHV_51)/catpn_1_BKHB_1+catfd_1_BKHV_51/catpn_1_BKHV_51),0) -> 0 | K6: =IF(OR(ISBLANK(G6),G6=0),0,F6/ROUND(G6,4)) -> 0 | L6: =ROUND(J6,2)*K6 -> 0 | M6: =K6*dagenperjaar1 -> 0 | N6: =M6*ROUND(J6,2) -> 0
A7: BKZ | B7: 5W | C7: interieur | D7: Kantoor/personeelsruimte zachte vloer | E7: 1914.8 | F7: =E7*VLOOKUP(B7,dagsoorttabel1,2,FALSE) -> 1914.8 | G7: =IF(AND(catpn_1_BKZB_1>0,catpn_1_BKZV_51>0),(dagenperjaar1*VLOOKUP(B7,dagsoorttabel1,2,FALSE))/(((dagenperjaar1*VLOOKUP(B7,dagsoorttabel1,2,FALSE))-catfd_1_BKZV_51)/catpn_1_BKZB_1+catfd_1_BKZV_51/catpn_1_BKZV_51),0) -> 0 | H7: =IF(AND(catpn_1_BKZB_1>0,catpn_1_BKZV_51>0),(catdw_1_BKZB_1*((dagenperjaar1*VLOOKUP(B7,dagsoorttabel1,2,FALSE))-catfd_1_BKZV_51)/catpn_1_BKZB_1+catdw_1_BKZV_51*catfd_1_BKZV_51/catpn_1_BKZV_51)/(((dagenperjaar1*VLOOKUP(B7,dagsoorttabel1,2,FALSE))-catfd_1_BKZV_51)/catpn_1_BKZB_1+catfd_1_BKZV_51/catpn_1_BKZV_51),0) -> 0 | I7: m²/uur | J7: =IF(AND(catpn_1_BKZB_1>0,catpn_1_BKZV_51>0),(cattf_1_BKZB_1*((dagenperjaar1*VLOOKUP(B7,dagsoorttabel1,2,FALSE))-catfd_1_BKZV_51)/catpn_1_BKZB_1+cattf_1_BKZV_51*catfd_1_BKZV_51/catpn_1_BKZV_51)/(((dagenperjaar1*VLOOKUP(B7,dagsoorttabel1,2,FALSE))-catfd_1_BKZV_51)/catpn_1_BKZB_1+catfd_1_BKZV_51/catpn_1_BKZV_51),0) -> 0 | K7: =IF(OR(ISBLANK(G7),G7=0),0,F7/ROUND(G7,4)) -> 0 | L7: =ROUND(J7,2)*K7 -> 0 | M7: =K7*dagenperjaar1 -> 0 | N7: =M7*ROUND(J7,2) -> 0
A8: BRH | B8: 5W | C8: interieur | D8: Receptie/ontvangst-/wachtruimte harde vloer | E8: 135 | F8: =E8*VLOOKUP(B8,dagsoorttabel1,2,FALSE) -> 135 | G8: =IF(AND(catpn_1_BRHB_1>0,catpn_1_BRHV_51>0),(dagenperjaar1*VLOOKUP(B8,dagsoorttabel1,2,FALSE))/(((dagenperjaar1*VLOOKUP(B8,dagsoorttabel1,2,FALSE))-catfd_1_BRHV_51)/catpn_1_BRHB_1+catfd_1_BRHV_51/catpn_1_BRHV_51),0) -> 0 | H8: =IF(AND(catpn_1_BRHB_1>0,catpn_1_BRHV_51>0),(catdw_1_BRHB_1*((dagenperjaar1*VLOOKUP(B8,dagsoorttabel1,2,FALSE))-catfd_1_BRHV_51)/catpn_1_BRHB_1+catdw_1_BRHV_51*catfd_1_BRHV_51/catpn_1_BRHV_51)/(((dagenperjaar1*VLOOKUP(B8,dagsoorttabel1,2,FALSE))-catfd_1_BRHV_51)/catpn_1_BRHB_1+catfd_1_BRHV_51/catpn_1_BRHV_51),0) -> 0 | I8: m²/uur | J8: =IF(AND(catpn_1_BRHB_1>0,catpn_1_BRHV_51>0),(cattf_1_BRHB_1*((dagenperjaar1*VLOOKUP(B8,dagsoorttabel1,2,FALSE))-catfd_1_BRHV_51)/catpn_1_BRHB_1+cattf_1_BRHV_51*catfd_1_BRHV_51/catpn_1_BRHV_51)/(((dagenperjaar1*VLOOKUP(B8,dagsoorttabel1,2,FALSE))-catfd_1_BRHV_51)/catpn_1_BRHB_1+catfd_1_BRHV_51/catpn_1_BRHV_51),0) -> 0 | K8: =IF(OR(ISBLANK(G8),G8=0),0,F8/ROUND(G8,4)) -> 0 | L8: =ROUND(J8,2)*K8 -> 0 | M8: =K8*dagenperjaar1 -> 0 | N8: =M8*ROUND(J8,2) -> 0
A9: BRZ | B9: 1W | C9: interieur | D9: Receptie/ontvangst-/wachtruimte zachte vloer | E9: 56.71 | F9: =E9*VLOOKUP(B9,dagsoorttabel1,2,FALSE) -> 11.342 | G9: =IF(AND(catpn_1_BRZB_1>0,catpn_1_BRZV_51>0),(dagenperjaar1*VLOOKUP(B9,dagsoorttabel1,2,FALSE))/(((dagenperjaar1*VLOOKUP(B9,dagsoorttabel1,2,FALSE))-catfd_1_BRZV_51)/catpn_1_BRZB_1+catfd_1_BRZV_51/catpn_1_BRZV_51),0) -> 0 | H9: =IF(AND(catpn_1_BRZB_1>0,catpn_1_BRZV_51>0),(catdw_1_BRZB_1*((dagenperjaar1*VLOOKUP(B9,dagsoorttabel1,2,FALSE))-catfd_1_BRZV_51)/catpn_1_BRZB_1+catdw_1_BRZV_51*catfd_1_BRZV_51/catpn_1_BRZV_51)/(((dagenperjaar1*VLOOKUP(B9,dagsoorttabel1,2,FALSE))-catfd_1_BRZV_51)/catpn_1_BRZB_1+catfd_1_BRZV_51/catpn_1_BRZV_51),0) -> 0 | I9: m²/uur | J9: =IF(AND(catpn_1_BRZB_1>0,catpn_1_BRZV_51>0),(cattf_1_BRZB_1*((dagenperjaar1*VLOOKUP(B9,dagsoorttabel1,2,FALSE))-catfd_1_BRZV_51)/catpn_1_BRZB_1+cattf_1_BRZV_51*catfd_1_BRZV_51/catpn_1_BRZV_51)/(((dagenperjaar1*VLOOKUP(B9,dagsoorttabel1,2,FALSE))-catfd_1_BRZV_51)/catpn_1_BRZB_1+catfd_1_BRZV_51/catpn_1_BRZV_51),0) -> 0 | K9: =IF(OR(ISBLANK(G9),G9=0),0,F9/ROUND(G9,4)) -> 0 | L9: =ROUND(J9,2)*K9 -> 0 | M9: =K9*dagenperjaar1 -> 0 | N9: =M9*ROUND(J9,2) -> 0
A10: BRZ | B10: 5W | C10: interieur | D10: Receptie/ontvangst-/wachtruimte zachte vloer | E10: 425.31 | F10: =E10*VLOOKUP(B10,dagsoorttabel1,2,FALSE) -> 425.31 | G10: =IF(AND(catpn_1_BRZB_1>0,catpn_1_BRZV_51>0),(dagenperjaar1*VLOOKUP(B10,dagsoorttabel1,2,FALSE))/(((dagenperjaar1*VLOOKUP(B10,dagsoorttabel1,2,FALSE))-catfd_1_BRZV_51)/catpn_1_BRZB_1+catfd_1_BRZV_51/catpn_1_BRZV_51),0) -> 0 | H10: =IF(AND(catpn_1_BRZB_1>0,catpn_1_BRZV_51>0),(catdw_1_BRZB_1*((dagenperjaar1*VLOOKUP(B10,dagsoorttabel1,2,FALSE))-catfd_1_BRZV_51)/catpn_1_BRZB_1+catdw_1_BRZV_51*catfd_1_BRZV_51/catpn_1_BRZV_51)/(((dagenperjaar1*VLOOKUP(B10,dagsoorttabel1,2,FALSE))-catfd_1_BRZV_51)/catpn_1_BRZB_1+catfd_1_BRZV_51/catpn_1_BRZV_51),0) -> 0 | I10: m²/uur | J10: =IF(AND(catpn_1_BRZB_1>0,catpn_1_BRZV_51>0),(cattf_1_BRZB_1*((dagenperjaar1*VLOOKUP(B10,dagsoorttabel1,2,FALSE))-catfd_1_BRZV_51)/catpn_1_BRZB_1+cattf_1_BRZV_51*catfd_1_BRZV_51/catpn_1_BRZV_51)/(((dagenperjaar1*VLOOKUP(B10,dagsoorttabel1,2,FALSE))-catfd_1_BRZV_51)/catpn_1_BRZB_1+catfd_1_BRZV_51/catpn_1_BRZV_51),0) -> 0 | K10: =IF(OR(ISBLANK(G10),G10=0),0,F10/ROUND(G10,4)) -> 0 | L10: =ROUND(J10,2)*K10 -> 0 | M10: =K10*dagenperjaar1 -> 0 | N10: =M10*ROUND(J10,2) -> 0
A11: BVH | B11: 5W | C11: interieur | D11: Spreek-/overleg-/vergaderruimte/studio harde vloer | E11: 354.21 | F11: =E11*VLOOKUP(B11,dagsoorttabel1,2,FALSE) -> 354.21 | G11: =IF(AND(catpn_1_BVHB_1>0,catpn_1_BVHB_51>0),(dagenperjaar1*VLOOKUP(B11,dagsoorttabel1,2,FALSE))/(((dagenperjaar1*VLOOKUP(B11,dagsoorttabel1,2,FALSE))-catfd_1_BVHB_51)/catpn_1_BVHB_1+catfd_1_BVHB_51/catpn_1_BVHB_51),0) -> 0 | H11: =IF(AND(catpn_1_BVHB_1>0,catpn_1_BVHB_51>0),(catdw_1_BVHB_1*((dagenperjaar1*VLOOKUP(B11,dagsoorttabel1,2,FALSE))-catfd_1_BVHB_51)/catpn_1_BVHB_1+catdw_1_BVHB_51*catfd_1_BVHB_51/catpn_1_BVHB_51)/(((dagenperjaar1*VLOOKUP(B11,dagsoorttabel1,2,FALSE))-catfd_1_BVHB_51)/catpn_1_BVHB_1+catfd_1_BVHB_51/catpn_1_BVHB_51),0) -> 0 | I11: m²/uur | J11: =IF(AND(catpn_1_BVHB_1>0,catpn_1_BVHB_51>0),(cattf_1_BVHB_1*((dagenperjaar1*VLOOKUP(B11,dagsoorttabel1,2,FALSE))-catfd_1_BVHB_51)/catpn_1_BVHB_1+cattf_1_BVHB_51*catfd_1_BVHB_51/catpn_1_BVHB_51)/(((dagenperjaar1*VLOOKUP(B11,dagsoorttabel1,2,FALSE))-catfd_1_BVHB_51)/catpn_1_BVHB_1+catfd_1_BVHB_51/catpn_1_BVHB_51),0) -> 0 | K11: =IF(OR(ISBLANK(G11),G11=0),0,F11/ROUND(G11,4)) -> 0 | L11: =ROUND(J11,2)*K11 -> 0 | M11: =K11*dagenperjaar1 -> 0 | N11: =M11*ROUND(J11,2) -> 0
A12: BVZ | B12: 5W | C12: interieur | D12: Spreek-/overleg-/vergaderruimte/studio zachte vloer | E12: 648.86 | F12: =E12*VLOOKUP(B12,dagsoorttabel1,2,FALSE) -> 648.86 | G12: =IF(AND(catpn_1_BVZB_1>0,catpn_1_BVZV_51>0),(dagenperjaar1*VLOOKUP(B12,dagsoorttabel1,2,FALSE))/(((dagenperjaar1*VLOOKUP(B12,dagsoorttabel1,2,FALSE))-catfd_1_BVZV_51)/catpn_1_BVZB_1+catfd_1_BVZV_51/catpn_1_BVZV_51),0) -> 0 | H12: =IF(AND(catpn_1_BVZB_1>0,catpn_1_BVZV_51>0),(catdw_1_BVZB_1*((dagenperjaar1*VLOOKUP(B12,dagsoorttabel1,2,FALSE))-catfd_1_BVZV_51)/catpn_1_BVZB_1+catdw_1_BVZV_51*catfd_1_BVZV_51/catpn_1_BVZV_51)/(((dagenperjaar1*VLOOKUP(B12,dagsoorttabel1,2,FALSE))-catfd_1_BVZV_51)/catpn_1_BVZB_1+catfd_1_BVZV_51/catpn_1_BVZV_51),0) -> 0 | I12: m²/uur | J12: =IF(AND(catpn_1_BVZB_1>0,catpn_1_BVZV_51>0),(cattf_1_BVZB_1*((dagenperjaar1*VLOOKUP(B12,dagsoorttabel1,2,FALSE))-catfd_1_BVZV_51)/catpn_1_BVZB_1+cattf_1_BVZV_51*catfd_1_BVZV_51/catpn_1_BVZV_51)/(((dagenperjaar1*VLOOKUP(B12,dagsoorttabel1,2,FALSE))-catfd_1_BVZV_51)/catpn_1_BVZB_1+catfd_1_BVZV_51/catpn_1_BVZV_51),0) -> 0 | K12: =IF(OR(ISBLANK(G12),G12=0),0,F12/ROUND(G12,4)) -> 0 | L12: =ROUND(J12,2)*K12 -> 0 | M12: =K12*dagenperjaar1 -> 0 | N12: =M12*ROUND(J12,2) -> 0
A13: LOH | B13: 5W | C13: interieur | D13: Multifunctionele ruimte harde vloeren | E13: 75.26 | F13: =E13*VLOOKUP(B13,dagsoorttabel1,2,FALSE) -> 75.26 | G13: =IF(AND(catpn_1_LOHB_1>0,catpn_1_LOHV_51>0),(dagenperjaar1*VLOOKUP(B13,dagsoorttabel1,2,FALSE))/(((dagenperjaar1*VLOOKUP(B13,dagsoorttabel1,2,FALSE))-catfd_1_LOHV_51)/catpn_1_LOHB_1+catfd_1_LOHV_51/catpn_1_LOHV_51),0) -> 0 | H13: =IF(AND(catpn_1_LOHB_1>0,catpn_1_LOHV_51>0),(catdw_1_LOHB_1*((dagenperjaar1*VLOOKUP(B13,dagsoorttabel1,2,FALSE))-catfd_1_LOHV_51)/catpn_1_LOHB_1+catdw_1_LOHV_51*catfd_1_LOHV_51/catpn_1_LOHV_51)/(((dagenperjaar1*VLOOKUP(B13,dagsoorttabel1,2,FALSE))-catfd_1_LOHV_51)/catpn_1_LOHB_1+catfd_1_LOHV_51/catpn_1_LOHV_51),0) -> 0 | I13: m²/uur | J13: =IF(AND(catpn_1_LOHB_1>0,catpn_1_LOHV_51>0),(cattf_1_LOHB_1*((dagenperjaar1*VLOOKUP(B13,dagsoorttabel1,2,FALSE))-catfd_1_LOHV_51)/catpn_1_LOHB_1+cattf_1_LOHV_51*catfd_1_LOHV_51/catpn_1_LOHV_51)/(((dagenperjaar1*VLOOKUP(B13,dagsoorttabel1,2,FALSE))-catfd_1_LOHV_51)/catpn_1_LOHB_1+catfd_1_LOHV_51/catpn_1_LOHV_51),0) -> 0 | K13: =IF(OR(ISBLANK(G13),G13=0),0,F13/ROUND(G13,4)) -> 0 | L13: =ROUND(J13,2)*K13 -> 0 | M13: =K13*dagenperjaar1 -> 0 | N13: =M13*ROUND(J13,2) -> 0
A14: RKH | B14: 5W | C14: interieur | D14: Keuken harde vloer | E14: 30.12 | F14: =E14*VLOOKUP(B14,dagsoorttabel1,2,FALSE) -> 30.12 | G14: =IF(AND(catpn_1_RKHB_1>0,catpn_1_RKHV_51>0),(dagenperjaar1*VLOOKUP(B14,dagsoorttabel1,2,FALSE))/(((dagenperjaar1*VLOOKUP(B14,dagsoorttabel1,2,FALSE))-catfd_1_RKHV_51)/catpn_1_RKHB_1+catfd_1_RKHV_51/catpn_1_RKHV_51),0) -> 0 | H14: =IF(AND(catpn_1_RKHB_1>0,catpn_1_RKHV_51>0),(catdw_1_RKHB_1*((dagenperjaar1*VLOOKUP(B14,dagsoorttabel1,2,FALSE))-catfd_1_RKHV_51)/catpn_1_RKHB_1+catdw_1_RKHV_51*catfd_1_RKHV_51/catpn_1_RKHV_51)/(((dagenperjaar1*VLOOKUP(B14,dagsoorttabel1,2,FALSE))-catfd_1_RKHV_51)/catpn_1_RKHB_1+catfd_1_RKHV_51/catpn_1_RKHV_51),0) -> 0 | I14: m²/uur | J14: =IF(AND(catpn_1_RKHB_1>0,catpn_1_RKHV_51>0),(cattf_1_RKHB_1*((dagenperjaar1*VLOOKUP(B14,dagsoorttabel1,2,FALSE))-catfd_1_RKHV_51)/catpn_1_RKHB_1+cattf_1_RKHV_51*catfd_1_RKHV_51/catpn_1_RKHV_51)/(((dagenperjaar1*VLOOKUP(B14,dagsoorttabel1,2,FALSE))-catfd_1_RKHV_51)/catpn_1_RKHB_1+catfd_1_RKHV_51/catpn_1_RKHV_51),0) -> 0 | K14: =IF(OR(ISBLANK(G14),G14=0),0,F14/ROUND(G14,4)) -> 0 | L14: =ROUND(J14,2)*K14 -> 0 | M14: =K14*dagenperjaar1 -> 0 | N14: =M14*ROUND(J14,2) -> 0
A15: RPH | B15: 5W | C15: interieur | D15: Pantry/koffiehoek harde vloer | E15: 18.12 | F15: =E15*VLOOKUP(B15,dagsoorttabel1,2,FALSE) -> 18.12 | G15: =IF(AND(catpn_1_RPHB_1>0,catpn_1_RPHV_51>0),(dagenperjaar1*VLOOKUP(B15,dagsoorttabel1,2,FALSE))/(((dagenperjaar1*VLOOKUP(B15,dagsoorttabel1,2,FALSE))-catfd_1_RPHV_51)/catpn_1_RPHB_1+catfd_1_RPHV_51/catpn_1_RPHV_51),0) -> 0 | H15: =IF(AND(catpn_1_RPHB_1>0,catpn_1_RPHV_51>0),(catdw_1_RPHB_1*((dagenperjaar1*VLOOKUP(B15,dagsoorttabel1,2,FALSE))-catfd_1_RPHV_51)/catpn_1_RPHB_1+catdw_1_RPHV_51*catfd_1_RPHV_51/catpn_1_RPHV_51)/(((dagenperjaar1*VLOOKUP(B15,dagsoorttabel1,2,FALSE))-catfd_1_RPHV_51)/catpn_1_RPHB_1+catfd_1_RPHV_51/catpn_1_RPHV_51),0) -> 0 | I15: m²/uur | J15: =IF(AND(catpn_1_RPHB_1>0,catpn_1_RPHV_51>0),(cattf_1_RPHB_1*((dagenperjaar1*VLOOKUP(B15,dagsoorttabel1,2,FALSE))-catfd_1_RPHV_51)/catpn_1_RPHB_1+cattf_1_RPHV_51*catfd_1_RPHV_51/catpn_1_RPHV_51)/(((dagenperjaar1*VLOOKUP(B15,dagsoorttabel1,2,FALSE))-catfd_1_RPHV_51)/catpn_1_RPHB_1+catfd_1_RPHV_51/catpn_1_RPHV_51),0) -> 0 | K15: =IF(OR(ISBLANK(G15),G15=0),0,F15/ROUND(G15,4)) -> 0 | L15: =ROUND(J15,2)*K15 -> 0 | M15: =K15*dagenperjaar1 -> 0 | N15: =M15*ROUND(J15,2) -> 0
A16: RRH | B16: 5W | C16: interieur | D16: Restaurant/kantine/verblijfsruimte harde vloer | E16: 105 | F16: =E16*VLOOKUP(B16,dagsoorttabel1,2,FALSE) -> 105 | G16: =IF(AND(catpn_1_RRHB_1>0,catpn_1_RRHV_51>0),(dagenperjaar1*VLOOKUP(B16,dagsoorttabel1,2,FALSE))/(((dagenperjaar1*VLOOKUP(B16,dagsoorttabel1,2,FALSE))-catfd_1_RRHV_51)/catpn_1_RRHB_1+catfd_1_RRHV_51/catpn_1_RRHV_51),0) -> 0 | H16: =IF(AND(catpn_1_RRHB_1>0,catpn_1_RRHV_51>0),(catdw_1_RRHB_1*((dagenperjaar1*VLOOKUP(B16,dagsoorttabel1,2,FALSE))-catfd_1_RRHV_51)/catpn_1_RRHB_1+catdw_1_RRHV_51*catfd_1_RRHV_51/catpn_1_RRHV_51)/(((dagenperjaar1*VLOOKUP(B16,dagsoorttabel1,2,FALSE))-catfd_1_RRHV_51)/catpn_1_RRHB_1+catfd_1_RRHV_51/catpn_1_RRHV_51),0) -> 0 | I16: m²/uur | J16: =IF(AND(catpn_1_RRHB_1>0,catpn_1_RRHV_51>0),(cattf_1_RRHB_1*((dagenperjaar1*VLOOKUP(B16,dagsoorttabel1,2,FALSE))-catfd_1_RRHV_51)/catpn_1_RRHB_1+cattf_1_RRHV_51*catfd_1_RRHV_51/catpn_1_RRHV_51)/(((dagenperjaar1*VLOOKUP(B16,dagsoorttabel1,2,FALSE))-catfd_1_RRHV_51)/catpn_1_RRHB_1+catfd_1_RRHV_51/catpn_1_RRHV_51),0) -> 0 | K16: =IF(OR(ISBLANK(G16),G16=0),0,F16/ROUND(G16,4)) -> 0 | L16: =ROUND(J16,2)*K16 -> 0 | M16: =K16*dagenperjaar1 -> 0 | N16: =M16*ROUND(J16,2) -> 0
A17: SDH | B17: 5W | C17: interieur | D17: Douche/wasruimte harde vloer | E17: 97.96 | F17: =E17*VLOOKUP(B17,dagsoorttabel1,2,FALSE) -> 97.96 | G17: =IF(AND(catpn_1_SDHB_1>0,catpn_1_SDHV_51>0),(dagenperjaar1*VLOOKUP(B17,dagsoorttabel1,2,FALSE))/(((dagenperjaar1*VLOOKUP(B17,dagsoorttabel1,2,FALSE))-catfd_1_SDHV_51)/catpn_1_SDHB_1+catfd_1_SDHV_51/catpn_1_SDHV_51),0) -> 0 | H17: =IF(AND(catpn_1_SDHB_1>0,catpn_1_SDHV_51>0),(catdw_1_SDHB_1*((dagenperjaar1*VLOOKUP(B17,dagsoorttabel1,2,FALSE))-catfd_1_SDHV_51)/catpn_1_SDHB_1+catdw_1_SDHV_51*catfd_1_SDHV_51/catpn_1_SDHV_51)/(((dagenperjaar1*VLOOKUP(B17,dagsoorttabel1,2,FALSE))-catfd_1_SDHV_51)/catpn_1_SDHB_1+catfd_1_SDHV_51/catpn_1_SDHV_51),0) -> 0 | I17: m²/uur | J17: =IF(AND(catpn_1_SDHB_1>0,catpn_1_SDHV_51>0),(cattf_1_SDHB_1*((dagenperjaar1*VLOOKUP(B17,dagsoorttabel1,2,FALSE))-catfd_1_SDHV_51)/catpn_1_SDHB_1+cattf_1_SDHV_51*catfd_1_SDHV_51/catpn_1_SDHV_51)/(((dagenperjaar1*VLOOKUP(B17,dagsoorttabel1,2,FALSE))-catfd_1_SDHV_51)/catpn_1_SDHB_1+catfd_1_SDHV_51/catpn_1_SDHV_51),0) -> 0 | K17: =IF(OR(ISBLANK(G17),G17=0),0,F17/ROUND(G17,4)) -> 0 | L17: =ROUND(J17,2)*K17 -> 0 | M17: =K17*dagenperjaar1 -> 0 | N17: =M17*ROUND(J17,2) -> 0
A18: SKH | B18: 5W | C18: interieur | D18: Kleedruimte harde vloer | E18: 18.63 | F18: =E18*VLOOKUP(B18,dagsoorttabel1,2,FALSE) -> 18.63 | G18: =IF(AND(catpn_1_SKHB_1>0,catpn_1_SKHV_51>0),(dagenperjaar1*VLOOKUP(B18,dagsoorttabel1,2,FALSE))/(((dagenperjaar1*VLOOKUP(B18,dagsoorttabel1,2,FALSE))-catfd_1_SKHV_51)/catpn_1_SKHB_1+catfd_1_SKHV_51/catpn_1_SKHV_51),0) -> 0 | H18: =IF(AND(catpn_1_SKHB_1>0,catpn_1_SKHV_51>0),(catdw_1_SKHB_1*((dagenperjaar1*VLOOKUP(B18,dagsoorttabel1,2,FALSE))-catfd_1_SKHV_51)/catpn_1_SKHB_1+catdw_1_SKHV_51*catfd_1_SKHV_51/catpn_1_SKHV_51)/(((dagenperjaar1*VLOOKUP(B18,dagsoorttabel1,2,FALSE))-catfd_1_SKHV_51)/catpn_1_SKHB_1+catfd_1_SKHV_51/catpn_1_SKHV_51),0) -> 0 | I18: m²/uur | J18: =IF(AND(catpn_1_SKHB_1>0,catpn_1_SKHV_51>0),(cattf_1_SKHB_1*((dagenperjaar1*VLOOKUP(B18,dagsoorttabel1,2,FALSE))-catfd_1_SKHV_51)/catpn_1_SKHB_1+cattf_1_SKHV_51*catfd_1_SKHV_51/catpn_1_SKHV_51)/(((dagenperjaar1*VLOOKUP(B18,dagsoorttabel1,2,FALSE))-catfd_1_SKHV_51)/catpn_1_SKHB_1+catfd_1_SKHV_51/catpn_1_SKHV_51),0) -> 0 | K18: =IF(OR(ISBLANK(G18),G18=0),0,F18/ROUND(G18,4)) -> 0 | L18: =ROUND(J18,2)*K18 -> 0 | M18: =K18*dagenperjaar1 -> 0 | N18: =M18*ROUND(J18,2) -> 0
A19: STH | B19: 5W | C19: interieur | D19: Sanitaire ruimte/toiletten harde vloer | E19: 147.7 | F19: =E19*VLOOKUP(B19,dagsoorttabel1,2,FALSE) -> 147.7 | G19: =IF(AND(catpn_1_STHB_1>0,catpn_1_STHV_51>0),(dagenperjaar1*VLOOKUP(B19,dagsoorttabel1,2,FALSE))/(((dagenperjaar1*VLOOKUP(B19,dagsoorttabel1,2,FALSE))-catfd_1_STHV_51)/catpn_1_STHB_1+catfd_1_STHV_51/catpn_1_STHV_51),0) -> 0 | H19: =IF(AND(catpn_1_STHB_1>0,catpn_1_STHV_51>0),(catdw_1_STHB_1*((dagenperjaar1*VLOOKUP(B19,dagsoorttabel1,2,FALSE))-catfd_1_STHV_51)/catpn_1_STHB_1+catdw_1_STHV_51*catfd_1_STHV_51/catpn_1_STHV_51)/(((dagenperjaar1*VLOOKUP(B19,dagsoorttabel1,2,FALSE))-catfd_1_STHV_51)/catpn_1_STHB_1+catfd_1_STHV_51/catpn_1_STHV_51),0) -> 0 | I19: m²/uur | J19: =IF(AND(catpn_1_STHB_1>0,catpn_1_STHV_51>0),(cattf_1_STHB_1*((dagenperjaar1*VLOOKUP(B19,dagsoorttabel1,2,FALSE))-catfd_1_STHV_51)/catpn_1_STHB_1+cattf_1_STHV_51*catfd_1_STHV_51/catpn_1_STHV_51)/(((dagenperjaar1*VLOOKUP(B19,dagsoorttabel1,2,FALSE))-catfd_1_STHV_51)/catpn_1_STHB_1+catfd_1_STHV_51/catpn_1_STHV_51),0) -> 0 | K19: =IF(OR(ISBLANK(G19),G19=0),0,F19/ROUND(G19,4)) -> 0 | L19: =ROUND(J19,2)*K19 -> 0 | M19: =K19*dagenperjaar1 -> 0 | N19: =M19*ROUND(J19,2) -> 0
A20: VAH | B20: 5W | C20: interieur | D20: Verkeersruimte algemeen harde vloer | E20: 649.91 | F20: =E20*VLOOKUP(B20,dagsoorttabel1,2,FALSE) -> 649.91 | G20: =IF(AND(catpn_1_VAHB_1>0,catpn_1_VAHV_51>0),(dagenperjaar1*VLOOKUP(B20,dagsoorttabel1,2,FALSE))/(((dagenperjaar1*VLOOKUP(B20,dagsoorttabel1,2,FALSE))-catfd_1_VAHV_51)/catpn_1_VAHB_1+catfd_1_VAHV_51/catpn_1_VAHV_51),0) -> 0 | H20: =IF(AND(catpn_1_VAHB_1>0,catpn_1_VAHV_51>0),(catdw_1_VAHB_1*((dagenperjaar1*VLOOKUP(B20,dagsoorttabel1,2,FALSE))-catfd_1_VAHV_51)/catpn_1_VAHB_1+catdw_1_VAHV_51*catfd_1_VAHV_51/catpn_1_VAHV_51)/(((dagenperjaar1*VLOOKUP(B20,dagsoorttabel1,2,FALSE))-catfd_1_VAHV_51)/catpn_1_VAHB_1+catfd_1_VAHV_51/catpn_1_VAHV_51),0) -> 0 | I20: m²/uur | J20: =IF(AND(catpn_1_VAHB_1>0,catpn_1_VAHV_51>0),(cattf_1_VAHB_1*((dagenperjaar1*VLOOKUP(B20,dagsoorttabel1,2,FALSE))-catfd_1_VAHV_51)/catpn_1_VAHB_1+cattf_1_VAHV_51*catfd_1_VAHV_51/catpn_1_VAHV_51)/(((dagenperjaar1*VLOOKUP(B20,dagsoorttabel1,2,FALSE))-catfd_1_VAHV_51)/catpn_1_VAHB_1+catfd_1_VAHV_51/catpn_1_VAHV_51),0) -> 0 | K20: =IF(OR(ISBLANK(G20),G20=0),0,F20/ROUND(G20,4)) -> 0 | L20: =ROUND(J20,2)*K20 -> 0 | M20: =K20*dagenperjaar1 -> 0 | N20: =M20*ROUND(J20,2) -> 0
A21: VAZ | B21: 5W | C21: interieur | D21: Verkeersruimte algemeen zachte vloer | E21: 510.33 | F21: =E21*VLOOKUP(B21,dagsoorttabel1,2,FALSE) -> 510.33 | G21: =IF(AND(catpn_1_VAZB_1>0,catpn_1_VAZV_51>0),(dagenperjaar1*VLOOKUP(B21,dagsoorttabel1,2,FALSE))/(((dagenperjaar1*VLOOKUP(B21,dagsoorttabel1,2,FALSE))-catfd_1_VAZV_51)/catpn_1_VAZB_1+catfd_1_VAZV_51/catpn_1_VAZV_51),0) -> 0 | H21: =IF(AND(catpn_1_VAZB_1>0,catpn_1_VAZV_51>0),(catdw_1_VAZB_1*((dagenperjaar1*VLOOKUP(B21,dagsoorttabel1,2,FALSE))-catfd_1_VAZV_51)/catpn_1_VAZB_1+catdw_1_VAZV_51*catfd_1_VAZV_51/catpn_1_VAZV_51)/(((dagenperjaar1*VLOOKUP(B21,dagsoorttabel1,2,FALSE))-catfd_1_VAZV_51)/catpn_1_VAZB_1+catfd_1_VAZV_51/catpn_1_VAZV_51),0) -> 0 | I21: m²/uur | J21: =IF(AND(catpn_1_VAZB_1>0,catpn_1_VAZV_51>0),(cattf_1_VAZB_1*((dagenperjaar1*VLOOKUP(B21,dagsoorttabel1,2,FALSE))-catfd_1_VAZV_51)/catpn_1_VAZB_1+cattf_1_VAZV_51*catfd_1_VAZV_51/catpn_1_VAZV_51)/(((dagenperjaar1*VLOOKUP(B21,dagsoorttabel1,2,FALSE))-catfd_1_VAZV_51)/catpn_1_VAZB_1+catfd_1_VAZV_51/catpn_1_VAZV_51),0) -> 0 | K21: =IF(OR(ISBLANK(G21),G21=0),0,F21/ROUND(G21,4)) -> 0 | L21: =ROUND(J21,2)*K21 -> 0 | M21: =K21*dagenperjaar1 -> 0 | N21: =M21*ROUND(J21,2) -> 0
A22: VEH | B22: 5W | C22: interieur | D22: Entree harde vloer | E22: 483.31 | F22: =E22*VLOOKUP(B22,dagsoorttabel1,2,FALSE) -> 483.31 | G22: =IF(AND(catpn_1_VEHB_1>0,catpn_1_VEHV_51>0),(dagenperjaar1*VLOOKUP(B22,dagsoorttabel1,2,FALSE))/(((dagenperjaar1*VLOOKUP(B22,dagsoorttabel1,2,FALSE))-catfd_1_VEHV_51)/catpn_1_VEHB_1+catfd_1_VEHV_51/catpn_1_VEHV_51),0) -> 0 | H22: =IF(AND(catpn_1_VEHB_1>0,catpn_1_VEHV_51>0),(catdw_1_VEHB_1*((dagenperjaar1*VLOOKUP(B22,dagsoorttabel1,2,FALSE))-catfd_1_VEHV_51)/catpn_1_VEHB_1+catdw_1_VEHV_51*catfd_1_VEHV_51/catpn_1_VEHV_51)/(((dagenperjaar1*VLOOKUP(B22,dagsoorttabel1,2,FALSE))-catfd_1_VEHV_51)/catpn_1_VEHB_1+catfd_1_VEHV_51/catpn_1_VEHV_51),0) -> 0 | I22: m²/uur | J22: =IF(AND(catpn_1_VEHB_1>0,catpn_1_VEHV_51>0),(cattf_1_VEHB_1*((dagenperjaar1*VLOOKUP(B22,dagsoorttabel1,2,FALSE))-catfd_1_VEHV_51)/catpn_1_VEHB_1+cattf_1_VEHV_51*catfd_1_VEHV_51/catpn_1_VEHV_51)/(((dagenperjaar1*VLOOKUP(B22,dagsoorttabel1,2,FALSE))-catfd_1_VEHV_51)/catpn_1_VEHB_1+catfd_1_VEHV_51/catpn_1_VEHV_51),0) -> 0 | K22: =IF(OR(ISBLANK(G22),G22=0),0,F22/ROUND(G22,4)) -> 0 | L22: =ROUND(J22,2)*K22 -> 0 | M22: =K22*dagenperjaar1 -> 0 | N22: =M22*ROUND(J22,2) -> 0
A23: VEZ | B23: 5W | C23: interieur | D23: Entree zachte vloer | E23: 142.12 | F23: =E23*VLOOKUP(B23,dagsoorttabel1,2,FALSE) -> 142.12 | G23: =IF(AND(catpn_1_VEZB_1>0,catpn_1_VEZV_51>0),(dagenperjaar1*VLOOKUP(B23,dagsoorttabel1,2,FALSE))/(((dagenperjaar1*VLOOKUP(B23,dagsoorttabel1,2,FALSE))-catfd_1_VEZV_51)/catpn_1_VEZB_1+catfd_1_VEZV_51/catpn_1_VEZV_51),0) -> 0 | H23: =IF(AND(catpn_1_VEZB_1>0,catpn_1_VEZV_51>0),(catdw_1_VEZB_1*((dagenperjaar1*VLOOKUP(B23,dagsoorttabel1,2,FALSE))-catfd_1_VEZV_51)/catpn_1_VEZB_1+catdw_1_VEZV_51*catfd_1_VEZV_51/catpn_1_VEZV_51)/(((dagenperjaar1*VLOOKUP(B23,dagsoorttabel1,2,FALSE))-catfd_1_VEZV_51)/catpn_1_VEZB_1+catfd_1_VEZV_51/catpn_1_VEZV_51),0) -> 0 | I23: m²/uur | J23: =IF(AND(catpn_1_VEZB_1>0,catpn_1_VEZV_51>0),(cattf_1_VEZB_1*((dagenperjaar1*VLOOKUP(B23,dagsoorttabel1,2,FALSE))-catfd_1_VEZV_51)/catpn_1_VEZB_1+cattf_1_VEZV_51*catfd_1_VEZV_51/catpn_1_VEZV_51)/(((dagenperjaar1*VLOOKUP(B23,dagsoorttabel1,2,FALSE))-catfd_1_VEZV_51)/catpn_1_VEZB_1+catfd_1_VEZV_51/catpn_1_VEZV_51),0) -> 0 | K23: =IF(OR(ISBLANK(G23),G23=0),0,F23/ROUND(G23,4)) -> 0 | L23: =ROUND(J23,2)*K23 -> 0 | M23: =K23*dagenperjaar1 -> 0 | N23: =M23*ROUND(J23,2) -> 0
A24: VLH | B24: 5W | C24: interieur | D24: Lift harde vloer | E24: 6.3 | F24: =E24*VLOOKUP(B24,dagsoorttabel1,2,FALSE) -> 6.3 | G24: =IF(AND(catpn_1_VLHB_1>0,catpn_1_VLHV_51>0),(dagenperjaar1*VLOOKUP(B24,dagsoorttabel1,2,FALSE))/(((dagenperjaar1*VLOOKUP(B24,dagsoorttabel1,2,FALSE))-catfd_1_VLHV_51)/catpn_1_VLHB_1+catfd_1_VLHV_51/catpn_1_VLHV_51),0) -> 0 | H24: =IF(AND(catpn_1_VLHB_1>0,catpn_1_VLHV_51>0),(catdw_1_VLHB_1*((dagenperjaar1*VLOOKUP(B24,dagsoorttabel1,2,FALSE))-catfd_1_VLHV_51)/catpn_1_VLHB_1+catdw_1_VLHV_51*catfd_1_VLHV_51/catpn_1_VLHV_51)/(((dagenperjaar1*VLOOKUP(B24,dagsoorttabel1,2,FALSE))-catfd_1_VLHV_51)/catpn_1_VLHB_1+catfd_1_VLHV_51/catpn_1_VLHV_51),0) -> 0 | I24: m²/uur | J24: =IF(AND(catpn_1_VLHB_1>0,catpn_1_VLHV_51>0),(cattf_1_VLHB_1*((dagenperjaar1*VLOOKUP(B24,dagsoorttabel1,2,FALSE))-catfd_1_VLHV_51)/catpn_1_VLHB_1+cattf_1_VLHV_51*catfd_1_VLHV_51/catpn_1_VLHV_51)/(((dagenperjaar1*VLOOKUP(B24,dagsoorttabel1,2,FALSE))-catfd_1_VLHV_51)/catpn_1_VLHB_1+catfd_1_VLHV_51/catpn_1_VLHV_51),0) -> 0 | K24: =IF(OR(ISBLANK(G24),G24=0),0,F24/ROUND(G24,4)) -> 0 | L24: =ROUND(J24,2)*K24 -> 0 | M24: =K24*dagenperjaar1 -> 0 | N24: =M24*ROUND(J24,2) -> 0
A25: VOH | B25: 5W | C25: interieur | D25: Kopieer/printer ruimten, reprografie, garderoberuimten, kluisjesruimte | E25: 22.2 | F25: =E25*VLOOKUP(B25,dagsoorttabel1,2,FALSE) -> 22.2 | G25: =IF(AND(catpn_1_VOHB_1>0,catpn_1_VOHV_51>0),(dagenperjaar1*VLOOKUP(B25,dagsoorttabel1,2,FALSE))/(((dagenperjaar1*VLOOKUP(B25,dagsoorttabel1,2,FALSE))-catfd_1_VOHV_51)/catpn_1_VOHB_1+catfd_1_VOHV_51/catpn_1_VOHV_51),0) -> 0 | H25: =IF(AND(catpn_1_VOHB_1>0,catpn_1_VOHV_51>0),(catdw_1_VOHB_1*((dagenperjaar1*VLOOKUP(B25,dagsoorttabel1,2,FALSE))-catfd_1_VOHV_51)/catpn_1_VOHB_1+catdw_1_VOHV_51*catfd_1_VOHV_51/catpn_1_VOHV_51)/(((dagenperjaar1*VLOOKUP(B25,dagsoorttabel1,2,FALSE))-catfd_1_VOHV_51)/catpn_1_VOHB_1+catfd_1_VOHV_51/catpn_1_VOHV_51),0) -> 0 | I25: m²/uur | J25: =IF(AND(catpn_1_VOHB_1>0,catpn_1_VOHV_51>0),(cattf_1_VOHB_1*((dagenperjaar1*VLOOKUP(B25,dagsoorttabel1,2,FALSE))-catfd_1_VOHV_51)/catpn_1_VOHB_1+cattf_1_VOHV_51*catfd_1_VOHV_51/catpn_1_VOHV_51)/(((dagenperjaar1*VLOOKUP(B25,dagsoorttabel1,2,FALSE))-catfd_1_VOHV_51)/catpn_1_VOHB_1+catfd_1_VOHV_51/catpn_1_VOHV_51),0) -> 0 | K25: =IF(OR(ISBLANK(G25),G25=0),0,F25/ROUND(G25,4)) -> 0 | L25: =ROUND(J25,2)*K25 -> 0 | M25: =K25*dagenperjaar1 -> 0 | N25: =M25*ROUND(J25,2) -> 0
A26: VTH | B26: 5W | C26: interieur | D26: Trappenhuis harde vloer | E26: 142.85 | F26: =E26*VLOOKUP(B26,dagsoorttabel1,2,FALSE) -> 142.85 | G26: =IF(AND(catpn_1_VTHB_1>0,catpn_1_VTHV_51>0),(dagenperjaar1*VLOOKUP(B26,dagsoorttabel1,2,FALSE))/(((dagenperjaar1*VLOOKUP(B26,dagsoorttabel1,2,FALSE))-catfd_1_VTHV_51)/catpn_1_VTHB_1+catfd_1_VTHV_51/catpn_1_VTHV_51),0) -> 0 | H26: =IF(AND(catpn_1_VTHB_1>0,catpn_1_VTHV_51>0),(catdw_1_VTHB_1*((dagenperjaar1*VLOOKUP(B26,dagsoorttabel1,2,FALSE))-catfd_1_VTHV_51)/catpn_1_VTHB_1+catdw_1_VTHV_51*catfd_1_VTHV_51/catpn_1_VTHV_51)/(((dagenperjaar1*VLOOKUP(B26,dagsoorttabel1,2,FALSE))-catfd_1_VTHV_51)/catpn_1_VTHB_1+catfd_1_VTHV_51/catpn_1_VTHV_51),0) -> 0 | I26: m²/uur | J26: =IF(AND(catpn_1_VTHB_1>0,catpn_1_VTHV_51>0),(cattf_1_VTHB_1*((dagenperjaar1*VLOOKUP(B26,dagsoorttabel1,2,FALSE))-catfd_1_VTHV_51)/catpn_1_VTHB_1+cattf_1_VTHV_51*catfd_1_VTHV_51/catpn_1_VTHV_51)/(((dagenperjaar1*VLOOKUP(B26,dagsoorttabel1,2,FALSE))-catfd_1_VTHV_51)/catpn_1_VTHB_1+catfd_1_VTHV_51/catpn_1_VTHV_51),0) -> 0 | K26: =IF(OR(ISBLANK(G26),G26=0),0,F26/ROUND(G26,4)) -> 0 | L26: =ROUND(J26,2)*K26 -> 0 | M26: =K26*dagenperjaar1 -> 0 | N26: =M26*ROUND(J26,2) -> 0
A27: Totaal werkdag | K27: =SUM(K6:K26) -> 0 | L27: =SUM(L6:L26) -> 0 | M27: =SUM(M6:M26) -> 0 | N27: =SUM(N6:N26) -> 0
A29: Gemiddeld uurtarief werkdag | J29: =IF(urenjaar1>0,SUMIF(M6:M26,">0",N6:N26)/urenjaar1,0) -> 0
A32: Totaal regulier werk excl. BTW | M32: =urenjaar1 -> 0 | N32: =prijsjaar1 -> 0

Sheet Ruimten werkdag
A1: =CONCATENATE("Bijlage D.3: ",tabeltype," ruimten werkdag") -> Bijlage D.3: Invultabel ruimten werkdag
A3: OBJECT | B3: BOUW-DEEL | C3: ETAGE | D3: RUIMTENR | E3: RUIMTENAAM | F3: VLOER | G3: TAAK | H3: FREQ | I3: WERK-SOORT | J3: TAAK OMSCHRIJVING | K3: OPP OF AANTAL | L3: OPP OF AANTAL /DAG | M3: PRODUCTIE-NORM | N3: % HOOG-FREQUENT | O3: EENHEID | P3: TARIEF (EURO) | Q3: UREN/ DAG | R3: UREN HOOG-FREQUENT/ DAG | S3: PRIJS/ DAG | T3: UREN/ JAAR | U3: PRIJS/ JAAR
A4: 001 - Gemeentehuis Montferland, Bergvredestraat 10, Didam
A5: 001 | C5: 00 | D5: 0.01 | E5: Tochtsluis | F5: schoonloopmat | G5: VEZ | H5: 5W | I5: interieur | J5: Entree zachte vloer | K5: 20.16 | L5: =K5*VLOOKUP(H5,dagsoorttabel1,2,FALSE) -> 20.16 | M5: =prodnorm28 -> 0 | N5: =dagwerk28 -> 0 | O5: m²/uur | P5: =uurtarief28 -> 0 | Q5: =IF(ISBLANK(M5),0,L5/ROUND(M5,4)) -> #DIV/0! | R5: =IF(ISBLANK(M5),0,Q5*ROUND(N5,2)) -> #DIV/0! | S5: =ROUND(P5,2)*Q5 -> #DIV/0! | T5: =Q5*dagenperjaar1 -> #DIV/0! | U5: =T5*ROUND(P5,2) -> #DIV/0!
A6: 001 | C6: 00 | D6: 0.02 | E6: Entree | F6: tegelvloer | G6: VEZ | H6: 5W | I6: interieur | J6: Entree zachte vloer | K6: 104.1 | L6: =K6*VLOOKUP(H6,dagsoorttabel1,2,FALSE) -> 104.1 | M6: =prodnorm28 -> 0 | N6: =dagwerk28 -> 0 | O6: m²/uur | P6: =uurtarief28 -> 0 | Q6: =IF(ISBLANK(M6),0,L6/ROUND(M6,4)) -> #DIV/0! | R6: =IF(ISBLANK(M6),0,Q6*ROUND(N6,2)) -> #DIV/0! | S6: =ROUND(P6,2)*Q6 -> #DIV/0! | T6: =Q6*dagenperjaar1 -> #DIV/0! | U6: =T6*ROUND(P6,2) -> #DIV/0!
A7: 001 | C7: 00 | D7: 0.03 | E7: Wachtruimte/ expositie | F7: projecttapijt | G7: BRZ | H7: 5W | I7: interieur | J7: Receptie/ontvangst-/wachtruimte zachte vloer | K7: 307.11 | L7: =K7*VLOOKUP(H7,dagsoorttabel1,2,FALSE) -> 307.11 | M7: =prodnorm15 -> 0 | N7: =dagwerk15 -> 0 | O7: m²/uur | P7: =uurtarief15 -> 0 | Q7: =IF(ISBLANK(M7),0,L7/ROUND(M7,4)) -> #DIV/0! | R7: =IF(ISBLANK(M7),0,Q7*ROUND(N7,2)) -> #DIV/0! | S7: =ROUND(P7,2)*Q7 -> #DIV/0! | T7: =Q7*dagenperjaar1 -> #DIV/0! | U7: =T7*ROUND(P7,2) -> #DIV/0!
A8: 001 | C8: 00 | D8: 0.04 | E8: Receptie | F8: projecttapijt | G8: BRZ | H8: 5W | I8: interieur | J8: Receptie/ontvangst-/wachtruimte zachte vloer | K8: 21.2 | L8: =K8*VLOOKUP(H8,dagsoorttabel1,2,FALSE) -> 21.2 | M8: =prodnorm15 -> 0 | N8: =dagwerk15 -> 0 | O8: m²/uur | P8: =uurtarief15 -> 0 | Q8: =IF(ISBLANK(M8),0,L8/ROUND(M8,4)) -> #DIV/0! | R8: =IF(ISBLANK(M8),0,Q8*ROUND(N8,2)) -> #DIV/0! | S8: =ROUND(P8,2)*Q8 -> #DIV/0! | T8: =Q8*dagenperjaar1 -> #DIV/0! | U8: =T8*ROUND(P8,2) -> #DIV/0!
A9: 001 | C9: 00 | D9: 0.05 | E9: Hoofdgang | F9: marmoleum | G9: VEH | H9: 5W | I9: interieur | J9: Entree harde vloer | K9: 63.75 | L9: =K9*VLOOKUP(H9,dagsoorttabel1,2,FALSE) -> 63.75 | M9: =prodnorm27 -> 0 | N9: =dagwerk27 -> 0 | O9: m²/uur | P9: =uurtarief27 -> 0 | Q9: =IF(ISBLANK(M9),0,L9/ROUND(M9,4)) -> #DIV/0! | R9: =IF(ISBLANK(M9),0,Q9*ROUND(N9,2)) -> #DIV/0! | S9: =ROUND(P9,2)*Q9 -> #DIV/0! | T9: =Q9*dagenperjaar1 -> #DIV/0! | U9: =T9*ROUND(P9,2) -> #DIV/0!
A10: 001 | C10: 00 | D10: 0.06 | E10: callcenter | F10: projecttapijt | G10: BKH | H10: 5W | I10: interieur | J10: Kantoorruimte harde vloer | K10: 36.4 | L10: =K10*VLOOKUP(H10,dagsoorttabel1,2,FALSE) -> 36.4 | M10: =prodnorm11 -> 0 | N10: =dagwerk11 -> 0 | O10: m²/uur | P10: =uurtarief11 -> 0 | Q10: =IF(ISBLANK(M10),0,L10/ROUND(M10,4)) -> #DIV/0! | R10: =IF(ISBLANK(M10),0,Q10*ROUND(N10,2)) -> #DIV/0! | S10: =ROUND(P10,2)*Q10 -> #DIV/0! | T10: =Q10*dagenperjaar1 -> #DIV/0! | U10: =T10*ROUND(P10,2) -> #DIV/0!
A11: 001 | C11: 00 | D11: 0.07 | E11: Spreekkamer | F11: projecttapijt | G11: BVZ | H11: 5W | I11: interieur | J11: Spreek-/overleg-/vergaderruimte/studio zachte vloer | K11: 13.52 | L11: =K11*VLOOKUP(H11,dagsoorttabel1,2,FALSE) -> 13.52 | M11: =prodnorm17 -> 0 | N11: =dagwerk17 -> 0 | O11: m²/uur | P11: =uurtarief17 -> 0 | Q11: =IF(ISBLANK(M11),0,L11/ROUND(M11,4)) -> #DIV/0! | R11: =IF(ISBLANK(M11),0,Q11*ROUND(N11,2)) -> #DIV/0! | S11: =ROUND(P11,2)*Q11 -> #DIV/0! | T11: =Q11*dagenperjaar1 -> #DIV/0! | U11: =T11*ROUND(P11,2) -> #DIV/0!
A12: 001 | C12: 00 | D12: 0.08 | E12: Spreekkamer | F12: projecttapijt | G12: BVZ | H12: 5W | I12: interieur | J12: Spreek-/overleg-/vergaderruimte/studio zachte vloer | K12: 13.52 | L12: =K12*VLOOKUP(H12,dagsoorttabel1,2,FALSE) -> 13.52 | M12: =prodnorm17 -> 0 | N12: =dagwerk17 -> 0 | O12: m²/uur | P12: =uurtarief17 -> 0 | Q12: =IF(ISBLANK(M12),0,L12/ROUND(M12,4)) -> #DIV/0! | R12: =IF(ISBLANK(M12),0,Q12*ROUND(N12,2)) -> #DIV/0! | S12: =ROUND(P12,2)*Q12 -> #DIV/0! | T12: =Q12*dagenperjaar1 -> #DIV/0! | U12: =T12*ROUND(P12,2) -> #DIV/0!
A13: 001 | C13: 00 | D13: 0.09 | E13: Spreekkamer | F13: projecttapijt | G13: BVZ | H13: 5W | I13: interieur | J13: Spreek-/overleg-/vergaderruimte/studio zachte vloer | K13: 11.7 | L13: =K13*VLOOKUP(H13,dagsoorttabel1,2,FALSE) -> 11.7 | M13: =prodnorm17 -> 0 | N13: =dagwerk17 -> 0 | O13: m²/uur | P13: =uurtarief17 -> 0 | Q13: =IF(ISBLANK(M13),0,L13/ROUND(M13,4)) -> #DIV/0! | R13: =IF(ISBLANK(M13),0,Q13*ROUND(N13,2)) -> #DIV/0! | S13: =ROUND(P13,2)*Q13 -> #DIV/0! | T13: =Q13*dagenperjaar1 -> #DIV/0! | U13: =T13*ROUND(P13,2) -> #DIV/0!
A14: 001 | C14: 00 | D14: 0.10 | E14: Spreekkamer | F14: projecttapijt | G14: BVZ | H14: 5W | I14: interieur | J14: Spreek-/overleg-/vergaderruimte/studio zachte vloer | K14: 15.75 | L14: =K14*VLOOKUP(H14,dagsoorttabel1,2,FALSE) -> 15.75 | M14: =prodnorm17 -> 0 | N14: =dagwerk17 -> 0 | O14: m²/uur | P14: =uurtarief17 -> 0 | Q14: =IF(ISBLANK(M14),0,L14/ROUND(M14,4)) -> #DIV/0! | R14: =IF(ISBLANK(M14),0,Q14*ROUND(N14,2)) -> #DIV/0! | S14: =ROUND(P14,2)*Q14 -> #DIV/0! | T14: =Q14*dagenperjaar1 -> #DIV/0! | U14: =T14*ROUND(P14,2) -> #DIV/0!
A15: 001 | C15: 00 | D15: 0.11 | E15: Spreekkamer WMO | F15: projecttapijt | G15: BVZ | H15: 5W | I15: interieur | J15: Spreek-/overleg-/vergaderruimte/studio zachte vloer | K15: 22.79 | L15: =K15*VLOOKUP(H15,dagsoorttabel1,2,FALSE) -> 22.79 | M15: =prodnorm17 -> 0 | N15: =dagwerk17 -> 0 | O15: m²/uur | P15: =uurtarief17 -> 0 | Q15: =IF(ISBLANK(M15),0,L15/ROUND(M15,4)) -> #DIV/0! | R15: =IF(ISBLANK(M15),0,Q15*ROUND(N15,2)) -> #DIV/0! | S15: =ROUND(P15,2)*Q15 -> #DIV/0! | T15: =Q15*dagenperjaar1 -> #DIV/0! | U15: =T15*ROUND(P15,2) -> #DIV/0!
A16: 001 | C16: 00 | D16: 0.12 | E16: Balies | F16: projecttapijt | G16: BRZ | H16: 1W | I16: interieur | J16: Receptie/ontvangst-/wachtruimte zachte vloer | K16: 56.71 | L16: =K16*VLOOKUP(H16,dagsoorttabel1,2,FALSE) -> 11.342 | M16: =prodnorm14 -> 0 | N16: =dagwerk14 -> 0 | O16: m²/uur | P16: =uurtarief14 -> 0 | Q16: =IF(ISBLANK(M16),0,L16/ROUND(M16,4)) -> #DIV/0! | R16: =IF(ISBLANK(M16),0,Q16*ROUND(N16,2)) -> #DIV/0! | S16: =ROUND(P16,2)*Q16 -> #DIV/0! | T16: =Q16*dagenperjaar1 -> #DIV/0! | U16: =T16*ROUND(P16,2) -> #DIV/0!
A17: 001 | C17: 00 | D17: 0.13 | E17: Spreekkamer | F17: projecttapijt | G17: BVZ | H17: 5W | I17: interieur | J17: Spreek-/overleg-/vergaderruimte/studio zachte vloer | K17: 15.9 | L17: =K17*VLOOKUP(H17,dagsoorttabel1,2,FALSE) -> 15.9 | M17: =prodnorm17 -> 0 | N17: =dagwerk17 -> 0 | O17: m²/uur | P17: =uurtarief17 -> 0 | Q17: =IF(ISBLANK(M17),0,L17/ROUND(M17,4)) -> #DIV/0! | R17: =IF(ISBLANK(M17),0,Q17*ROUND(N17,2)) -> #DIV/0! | S17: =ROUND(P17,2)*Q17 -> #DIV/0! | T17: =Q17*dagenperjaar1 -> #DIV/0! | U17: =T17*ROUND(P17,2) -> #DIV/0!
A18: 001 | C18: 00 | D18: 0.14 | E18: Gang | F18: marmoleum | G18: VAH | H18: 5W | I18: interieur | J18: Verkeersruimte algemeen harde vloer | K18: 24.65 | L18: =K18*VLOOKUP(H18,dagsoorttabel1,2,FALSE) -> 24.65 | M18: =prodnorm25 -> 0 | N18: =dagwerk25 -> 0 | O18: m²/uur | P18: =uurtarief25 -> 0 | Q18: =IF(ISBLANK(M18),0,L18/ROUND(M18,4)) -> #DIV/0! | R18: =IF(ISBLANK(M18),0,Q18*ROUND(N18,2)) -> #DIV/0! | S18: =ROUND(P18,2)*Q18 -> #DIV/0! | T18: =Q18*dagenperjaar1 -> #DIV/0! | U18: =T18*ROUND(P18,2) -> #DIV/0!
A19: 001 | C19: 00 | D19: 0.14 | E19: Gang | F19: projecttapijt | G19: VAZ | H19: 5W | I19: interieur | J19: Verkeersruimte algemeen zachte vloer | K19: 21.25 | L19: =K19*VLOOKUP(H19,dagsoorttabel1,2,FALSE) -> 21.25 | M19: =prodnorm26 -> 0 | N19: =dagwerk26 -> 0 | O19: m²/uur | P19: =uurtarief26 -> 0 | Q19: =IF(ISBLANK(M19),0,L19/ROUND(M19,4)) -> #DIV/0! | R19: =IF(ISBLANK(M19),0,Q19*ROUND(N19,2)) -> #DIV/0! | S19: =ROUND(P19,2)*Q19 -> #DIV/0! | T19: =Q19*dagenperjaar1 -> #DIV/0! | U19: =T19*ROUND(P19,2) -> #DIV/0!
A20: 001 | C20: 00 | D20: 0.14 | E20: Gang | F20: projecttapijt | G20: VAZ | H20: 5W | I20: interieur | J20: Verkeersruimte algemeen zachte vloer | K20: 6.8 | L20: =K20*VLOOKUP(H20,dagsoorttabel1,2,FALSE) -> 6.8 | M20: =prodnorm26 -> 0 | N20: =dagwerk26 -> 0 | O20: m²/uur | P20: =uurtarief26 -> 0 | Q20: =IF(ISBLANK(M20),0,L20/ROUND(M20,4)) -> #DIV/0! | R20: =IF(ISBLANK(M20),0,Q20*ROUND(N20,2)) -> #DIV/0! | S20: =ROUND(P20,2)*Q20 -> #DIV/0! | T20: =Q20*dagenperjaar1 -> #DIV/0! | U20: =T20*ROUND(P20,2) -> #DIV/0!
A21: 001 | C21: 00 | D21: 0.14a | E21: Portaal | F21: projecttapijt | G21: VAH | H21: 5W | I21: interieur | J21: Verkeersruimte algemeen harde vloer | K21: 7.26 | L21: =K21*VLOOKUP(H21,dagsoorttabel1,2,FALSE) -> 7.26 | M21: =prodnorm25 -> 0 | N21: =dagwerk25 -> 0 | O21: m²/uur | P21: =uurtarief25 -> 0 | Q21: =IF(ISBLANK(M21),0,L21/ROUND(M21,4)) -> #DIV/0! | R21: =IF(ISBLANK(M21),0,Q21*ROUND(N21,2)) -> #DIV/0! | S21: =ROUND(P21,2)*Q21 -> #DIV/0! | T21: =Q21*dagenperjaar1 -> #DIV/0! | U21: =T21*ROUND(P21,2) -> #DIV/0!
A22: 001 | C22: 00 | D22: 0.14b | E22: Gang | F22: projecttapijt | G22: VAZ | H22: 5W | I22: interieur | J22: Verkeersruimte algemeen zachte vloer | K22: 87.72 | L22: =K22*VLOOKUP(H22,dagsoorttabel1,2,FALSE) -> 87.72 | M22: =prodnorm26 -> 0 | N22: =dagwerk26 -> 0 | O22: m²/uur | P22: =uurtarief26 -> 0 | Q22: =IF(ISBLANK(M22),0,L22/ROUND(M22,4)) -> #DIV/0! | R22: =IF(ISBLANK(M22),0,Q22*ROUND(N22,2)) -> #DIV/0! | S22: =ROUND(P22,2)*Q22 -> #DIV/0! | T22: =Q22*dagenperjaar1 -> #DIV/0! | U22: =T22*ROUND(P22,2) -> #DIV/0!
A23: 001 | C23: 00 | D23: 0.16 | E23: garderobe | F23: marmoleum | G23: VOH | H23: 5W | I23: interieur | J23: Kopieer/printer ruimten, reprografie, garderoberuimten, kluisjesruimte | K23: 3.64 | L23: =K23*VLOOKUP(H23,dagsoorttabel1,2,FALSE) -> 3.64 | M23: =prodnorm30 -> 0 | N23: =dagwerk30 -> 0 | O23: m²/uur | P23: =uurtarief30 -> 0 | Q23: =IF(ISBLANK(M23),0,L23/ROUND(M23,4)) -> #DIV/0! | R23: =IF(ISBLANK(M23),0,Q23*ROUND(N23,2)) -> #DIV/0! | S23: =ROUND(P23,2)*Q23 -> #DIV/0! | T23: =Q23*dagenperjaar1 -> #DIV/0! | U23: =T23*ROUND(P23,2) -> #DIV/0!
A24: 001 | C24: 00 | D24: 0.17 | E24: machineruimte | F24: geen afwerking | G24: N.I.O. | K24: 4.2
A25: 001 | C25: 00 | D25: 0.18 | E25: Facilitair | F25: projecttapijt | G25: BKZ | H25: 5W | I25: interieur | J25: Kantoor/personeelsruimte zachte vloer | K25: 25.5 | L25: =K25*VLOOKUP(H25,dagsoorttabel1,2,FALSE) -> 25.5 | M25: =prodnorm12 -> 0 | N25: =dagwerk12 -> 0 | O25: m²/uur | P25: =uurtarief12 -> 0 | Q25: =IF(ISBLANK(M25),0,L25/ROUND(M25,4)) -> #DIV/0! | R25: =IF(ISBLANK(M25),0,Q25*ROUND(N25,2)) -> #DIV/0! | S25: =ROUND(P25,2)*Q25 -> #DIV/0! | T25: =Q25*dagenperjaar1 -> #DIV/0! | U25: =T25*ROUND(P25,2) -> #DIV/0!
A26: 001 | C26: 00 | D26: 0.19 | E26: Raasruimte | F26: marmoleum | G26: N.I.O. | K26: 23.76
A27: 001 | C27: 00 | D27: 0.21 | E27: leidingschacht | F27: geen afwerking | G27: N.I.O. | K27: 1.5
A28: 001 | C28: 00 | D28: 0.22 | E28: kantoor | F28: projecttapijt | G28: BKZ | H28: 5W | I28: interieur | J28: Kantoor/personeelsruimte zachte vloer | K28: 35 | L28: =K28*VLOOKUP(H28,dagsoorttabel1,2,FALSE) -> 35 | M28: =prodnorm12 -> 0 | N28: =dagwerk12 -> 0 | O28: m²/uur | P28: =uurtarief12 -> 0 | Q28: =IF(ISBLANK(M28),0,L28/ROUND(M28,4)) -> #DIV/0! | R28: =IF(ISBLANK(M28),0,Q28*ROUND(N28,2)) -> #DIV/0! | S28: =ROUND(P28,2)*Q28 -> #DIV/0! | T28: =Q28*dagenperjaar1 -> #DIV/0! | U28: =T28*ROUND(P28,2) -> #DIV/0!
A29: 001 | C29: 00 | D29: 0.23 | E29: kantoor | F29: projecttapijt | G29: BKZ | H29: 5W | I29: interieur | J29: Kantoor/personeelsruimte zachte vloer | K29: 25 | L29: =K29*VLOOKUP(H29,dagsoorttabel1,2,FALSE) -> 25 | M29: =prodnorm12 -> 0 | N29: =dagwerk12 -> 0 | O29: m²/uur | P29: =uurtarief12 -> 0 | Q29: =IF(ISBLANK(M29),0,L29/ROUND(M29,4)) -> #DIV/0! | R29: =IF(ISBLANK(M29),0,Q29*ROUND(N29,2)) -> #DIV/0! | S29: =ROUND(P29,2)*Q29 -> #DIV/0! | T29: =Q29*dagenperjaar1 -> #DIV/0! | U29: =T29*ROUND(P29,2) -> #DIV/0!
A30: 001 | C30: 00 | D30: 0.24 | E30: kantoor | F30: projecttapijt | G30: BKZ | H30: 5W | I30: interieur | J30: Kantoor/personeelsruimte zachte vloer | K30: 7.26 | L30: =K30*VLOOKUP(H30,dagsoorttabel1,2,FALSE) -> 7.26 | M30: =prodnorm12 -> 0 | N30: =dagwerk12 -> 0 | O30: m²/uur | P30: =uurtarief12 -> 0 | Q30: =IF(ISBLANK(M30),0,L30/ROUND(M30,4)) -> #DIV/0! | R30: =IF(ISBLANK(M30),0,Q30*ROUND(N30,2)) -> #DIV/0! | S30: =ROUND(P30,2)*Q30 -> #DIV/0! | T30: =Q30*dagenperjaar1 -> #DIV/0! | U30: =T30*ROUND(P30,2) -> #DIV/0!
A31: 001 | C31: 00 | D31: 0.26 | E31: kantoor | F31: projecttapijt | G31: BKZ | H31: 5W | I31: interieur | J31: Kantoor/personeelsruimte zachte vloer | K31: 26.5 | L31: =K31*VLOOKUP(H31,dagsoorttabel1,2,FALSE) -> 26.5 | M31: =prodnorm12 -> 0 | N31: =dagwerk12 -> 0 | O31: m²/uur | P31: =uurtarief12 -> 0 | Q31: =IF(ISBLANK(M31),0,L31/ROUND(M31,4)) -> #DIV/0! | R31: =IF(ISBLANK(M31),0,Q31*ROUND(N31,2)) -> #DIV/0! | S31: =ROUND(P31,2)*Q31 -> #DIV/0! | T31: =Q31*dagenperjaar1 -> #DIV/0! | U31: =T31*ROUND(P31,2) -> #DIV/0!
A32: 001 | C32: 00 | D32: 0.27 | E32: kantoor | F32: projecttapijt | G32: BKZ | H32: 5W | I32: interieur | J32: Kantoor/personeelsruimte zachte vloer | K32: 7.26 | L32: =K32*VLOOKUP(H32,dagsoorttabel1,2,FALSE) -> 7.26 | M32: =prodnorm12 -> 0 | N32: =dagwerk12 -> 0 | O32: m²/uur | P32: =uurtarief12 -> 0 | Q32: =IF(ISBLANK(M32),0,L32/ROUND(M32,4)) -> #DIV/0! | R32: =IF(ISBLANK(M32),0,Q32*ROUND(N32,2)) -> #DIV/0! | S32: =ROUND(P32,2)*Q32 -> #DIV/0! | T32: =Q32*dagenperjaar1 -> #DIV/0! | U32: =T32*ROUND(P32,2) -> #DIV/0!
A33: 001 | C33: 00 | D33: 0.28 | E33: kantoor | F33: projecttapijt | G33: BKZ | H33: 5W | I33: interieur | J33: Kantoor/personeelsruimte zachte vloer | K33: 26.5 | L33: =K33*VLOOKUP(H33,dagsoorttabel1,2,FALSE) -> 26.5 | M33: =prodnorm12 -> 0 | N33: =dagwerk12 -> 0 | O33: m²/uur | P33: =uurtarief12 -> 0 | Q33: =IF(ISBLANK(M33),0,L33/ROUND(M33,4)) -> #DIV/0! | R33: =IF(ISBLANK(M33),0,Q33*ROUND(N33,2)) -> #DIV/0! | S33: =ROUND(P33,2)*Q33 -> #DIV/0! | T33: =Q33*dagenperjaar1 -> #DIV/0! | U33: =T33*ROUND(P33,2) -> #DIV/0!
A34: 001 | C34: 00 | D34: 0.29 | E34: kantoor | F34: projecttapijt | G34: BKZ | H34: 5W | I34: interieur | J34: Kantoor/personeelsruimte zachte vloer | K34: 26.5 | L34: =K34*VLOOKUP(H34,dagsoorttabel1,2,FALSE) -> 26.5 | M34: =prodnorm12 -> 0 | N34: =dagwerk12 -> 0 | O34: m²/uur | P34: =uurtarief12 -> 0 | Q34: =IF(ISBLANK(M34),0,L34/ROUND(M34,4)) -> #DIV/0! | R34: =IF(ISBLANK(M34),0,Q34*ROUND(N34,2)) -> #DIV/0! | S34: =ROUND(P34,2)*Q34 -> #DIV/0! | T34: =Q34*dagenperjaar1 -> #DIV/0! | U34: =T34*ROUND(P34,2) -> #DIV/0!
A35: 001 | C35: 00 | D35: 0.29a | E35: kantoor | F35: projecttapijt | G35: BKZ | H35: 5W | I35: interieur | J35: Kantoor/personeelsruimte zachte vloer | K35: 7.26 | L35: =K35*VLOOKUP(H35,dagsoorttabel1,2,FALSE) -> 7.26 | M35: =prodnorm12 -> 0 | N35: =dagwerk12 -> 0 | O35: m²/uur | P35: =uurtarief12 -> 0 | Q35: =IF(ISBLANK(M35),0,L35/ROUND(M35,4)) -> #DIV/0! | R35: =IF(ISBLANK(M35),0,Q35*ROUND(N35,2)) -> #DIV/0! | S35: =ROUND(P35,2)*Q35 -> #DIV/0! | T35: =Q35*dagenperjaar1 -> #DIV/0! | U35: =T35*ROUND(P35,2) -> #DIV/0!
A36: 001 | C36: 00 | D36: 0.30 | E36: lift gang | F36: marmoleum | G36: VAH | H36: 5W | I36: interieur | J36: Verkeersruimte algemeen harde vloer | K36: 5.5 | L36: =K36*VLOOKUP(H36,dagsoorttabel1,2,FALSE) -> 5.5 | M36: =prodnorm25 -> 0 | N36: =dagwerk25 -> 0 | O36: m²/uur | P36: =uurtarief25 -> 0 | Q36: =IF(ISBLANK(M36),0,L36/ROUND(M36,4)) -> #DIV/0! | R36: =IF(ISBLANK(M36),0,Q36*ROUND(N36,2)) -> #DIV/0! | S36: =ROUND(P36,2)*Q36 -> #DIV/0! | T36: =Q36*dagenperjaar1 -> #DIV/0! | U36: =T36*ROUND(P36,2) -> #DIV/0!
A37: 001 | C37: 00 | D37: 0.30a | E37: lift | F37: marmoleum | G37: VLH | H37: 5W | I37: interieur | J37: Lift harde vloer | K37: 2 | L37: =K37*VLOOKUP(H37,dagsoorttabel1,2,FALSE) -> 2 | M37: =prodnorm29 -> 0 | N37: =dagwerk29 -> 0 | O37: m²/uur | P37: =uurtarief29 -> 0 | Q37: =IF(ISBLANK(M37),0,L37/ROUND(M37,4)) -> #DIV/0! | R37: =IF(ISBLANK(M37),0,Q37*ROUND(N37,2)) -> #DIV/0! | S37: =ROUND(P37,2)*Q37 -> #DIV/0! | T37: =Q37*dagenperjaar1 -> #DIV/0! | U37: =T37*ROUND(P37,2) -> #DIV/0!
A38: 001 | C38: 00 | D38: 0.31 | E38: sluis | F38: marmoleum | G38: VAH | H38: 5W | I38: interieur | J38: Verkeersruimte algemeen harde vloer | K38: 2.08 | L38: =K38*VLOOKUP(H38,dagsoorttabel1,2,FALSE) -> 2.08 | M38: =prodnorm25 -> 0 | N38: =dagwerk25 -> 0 | O38: m²/uur | P38: =uurtarief25 -> 0 | Q38: =IF(ISBLANK(M38),0,L38/ROUND(M38,4)) -> #DIV/0! | R38: =IF(ISBLANK(M38),0,Q38*ROUND(N38,2)) -> #DIV/0! | S38: =ROUND(P38,2)*Q38 -> #DIV/0! | T38: =Q38*dagenperjaar1 -> #DIV/0! | U38: =T38*ROUND(P38,2) -> #DIV/0!
A39: 001 | C39: 00 | D39: 0.32 | E39: Schoonmaakruimte | F39: geen afwerking | G39: N.I.O. | K39: 6.46
A40: 001 | C40: 00 | D40: 0.33 | E40: Dames toilet | F40: pvc-vloerafwerking | G40: STH | H40: 5W | I40: interieur | J40: Sanitaire ruimte/toiletten harde vloer | K40: 6 | L40: =K40*VLOOKUP(H40,dagsoorttabel1,2,FALSE) -> 6 | M40: =prodnorm24 -> 0 | N40: =dagwerk24 -> 0 | O40: m²/uur | P40: =uurtarief24 -> 0 | Q40: =IF(ISBLANK(M40),0,L40/ROUND(M40,4)) -> #DIV/0! | R40: =IF(ISBLANK(M40),0,Q40*ROUND(N40,2)) -> #DIV/0! | S40: =ROUND(P40,2)*Q40 -> #DIV/0! | T40: =Q40*dagenperjaar1 -> #DIV/0! | U40: =T40*ROUND(P40,2) -> #DIV/0!
A41: 001 | C41: 00 | D41: 0.34 | E41: Dames toilet hok 1 | F41: pvc-vloerafwerking | G41: STH | H41: 5W | I41: interieur | J41: Sanitaire ruimte/toiletten harde vloer | K41: 0.96 | L41: =K41*VLOOKUP(H41,dagsoorttabel1,2,FALSE) -> 0.96 | M41: =prodnorm24 -> 0 | N41: =dagwerk24 -> 0 | O41: m²/uur | P41: =uurtarief24 -> 0 | Q41: =IF(ISBLANK(M41),0,L41/ROUND(M41,4)) -> #DIV/0! | R41: =IF(ISBLANK(M41),0,Q41*ROUND(N41,2)) -> #DIV/0! | S41: =ROUND(P41,2)*Q41 -> #DIV/0! | T41: =Q41*dagenperjaar1 -> #DIV/0! | U41: =T41*ROUND(P41,2) -> #DIV/0!
A42: 001 | C42: 00 | D42: 0.35 | E42: Dames toilet hok 2 | F42: pvc-vloerafwerking | G42: STH | H42: 5W | I42: interieur | J42: Sanitaire ruimte/toiletten harde vloer | K42: 0.96 | L42: =K42*VLOOKUP(H42,dagsoorttabel1,2,FALSE) -> 0.96 | M42: =prodnorm24 -> 0 | N42: =dagwerk24 -> 0 | O42: m²/uur | P42: =uurtarief24 -> 0 | Q42: =IF(ISBLANK(M42),0,L42/ROUND(M42,4)) -> #DIV/0! | R42: =IF(ISBLANK(M42),0,Q42*ROUND(N42,2)) -> #DIV/0! | S42: =ROUND(P42,2)*Q42 -> #DIV/0! | T42: =Q42*dagenperjaar1 -> #DIV/0! | U42: =T42*ROUND(P42,2) -> #DIV/0!
A43: 001 | C43: 00 | D43: 0.36 | E43: Dames toilet hok 3 | F43: pvc-vloerafwerking | G43: STH | H43: 5W | I43: interieur | J43: Sanitaire ruimte/toiletten harde vloer | K43: 0.96 | L43: =K43*VLOOKUP(H43,dagsoorttabel1,2,FALSE) -> 0.96 | M43: =prodnorm24 -> 0 | N43: =dagwerk24 -> 0 | O43: m²/uur | P43: =uurtarief24 -> 0 | Q43: =IF(ISBLANK(M43),0,L43/ROUND(M43,4)) -> #DIV/0! | R43: =IF(ISBLANK(M43),0,Q43*ROUND(N43,2)) -> #DIV/0! | S43: =ROUND(P43,2)*Q43 -> #DIV/0! | T43: =Q43*dagenperjaar1 -> #DIV/0! | U43: =T43*ROUND(P43,2) -> #DIV/0!
A44: 001 | C44: 00 | D44: 0.37 | E44: Trappenhuis | F44: marmoleum | G44: VTH | H44: 5W | I44: interieur | J44: Trappenhuis harde vloer | K44: 48.4 | L44: =K44*VLOOKUP(H44,dagsoorttabel1,2,FALSE) -> 48.4 | M44: =prodnorm31 -> 0 | N44: =dagwerk31 -> 0 | O44: m²/uur | P44: =uurtarief31 -> 0 | Q44: =IF(ISBLANK(M44),0,L44/ROUND(M44,4)) -> #DIV/0! | R44: =IF(ISBLANK(M44),0,Q44*ROUND(N44,2)) -> #DIV/0! | S44: =ROUND(P44,2)*Q44 -> #DIV/0! | T44: =Q44*dagenperjaar1 -> #DIV/0! | U44: =T44*ROUND(P44,2) -> #DIV/0!
A45: 001 | C45: 00 | D45: 0.37a | E45: hoofdgang | F45: marmoleum | G45: VEH | H45: 5W | I45: interieur | J45: Entree harde vloer | K45: 63.69 | L45: =K45*VLOOKUP(H45,dagsoorttabel1,2,FALSE) -> 63.69 | M45: =prodnorm27 -> 0 | N45: =dagwerk27 -> 0 | O45: m²/uur | P45: =uurtarief27 -> 0 | Q45: =IF(ISBLANK(M45),0,L45/ROUND(M45,4)) -> #DIV/0! | R45: =IF(ISBLANK(M45),0,Q45*ROUND(N45,2)) -> #DIV/0! | S45: =ROUND(P45,2)*Q45 -> #DIV/0! | T45: =Q45*dagenperjaar1 -> #DIV/0! | U45: =T45*ROUND(P45,2) -> #DIV/0!
A46: 001 | C46: 00 | D46: 0.38 | E46: opslag diversen | F46: marmoleum | G46: N.I.O. | K46: 12.8
A47: 001 | C47: 00 | D47: 0.39 | E47: Verdeelkast | F47: geen afwerking | G47: N.I.O. | K47: 1.02
A48: 001 | C48: 00 | D48: 0.40 | E48: opslag | F48: pvc-vloerafwerking | G48: N.I.O. | K48: 6.23
A49: 001 | C49: 00 | D49: 0.40a | E49: papier | F49: pvc-vloerafwerking | G49: N.I.O. | K49: 5.76
A50: 001 | C50: 00 | D50: 0.41 | E50: gang | F50: marmoleum | G50: VAH | H50: 5W | I50: interieur | J50: Verkeersruimte algemeen harde vloer | K50: 42.88 | L50: =K50*VLOOKUP(H50,dagsoorttabel1,2,FALSE) -> 42.88 | M50: =prodnorm25 -> 0 | N50: =dagwerk25 -> 0 | O50: m²/uur | P50: =uurtarief25 -> 0 | Q50: =IF(ISBLANK(M50),0,L50/ROUND(M50,4)) -> #DIV/0! | R50: =IF(ISBLANK(M50),0,Q50*ROUND(N50,2)) -> #DIV/0! | S50: =ROUND(P50,2)*Q50 -> #DIV/0! | T50: =Q50*dagenperjaar1 -> #DIV/0! | U50: =T50*ROUND(P50,2) -> #DIV/0!
A51: 001 | C51: 00 | D51: 0.42 | E51: Heren kleedruimte | F51: pvc-vloerafwerking | G51: SKH | H51: 5W | I51: interieur | J51: Kleedruimte harde vloer | K51: 8.9 | L51: =K51*VLOOKUP(H51,dagsoorttabel1,2,FALSE) -> 8.9 | M51: =prodnorm23 -> 0 | N51: =dagwerk23 -> 0 | O51: m²/uur | P51: =uurtarief23 -> 0 | Q51: =IF(ISBLANK(M51),0,L51/ROUND(M51,4)) -> #DIV/0! | R51: =IF(ISBLANK(M51),0,Q51*ROUND(N51,2)) -> #DIV/0! | S51: =ROUND(P51,2)*Q51 -> #DIV/0! | T51: =Q51*dagenperjaar1 -> #DIV/0! | U51: =T51*ROUND(P51,2) -> #DIV/0!
A52: 001 | C52: 00 | D52: 0.43 | E52: Heren douche | F52: pvc-vloerafwerking | G52: SDH | H52: 5W | I52: interieur | J52: Douche/wasruimte harde vloer | K52: 1.98 | L52: =K52*VLOOKUP(H52,dagsoorttabel1,2,FALSE) -> 1.98 | M52: =prodnorm22 -> 0 | N52: =dagwerk22 -> 0 | O52: m²/uur | P52: =uurtarief22 -> 0 | Q52: =IF(ISBLANK(M52),0,L52/ROUND(M52,4)) -> #DIV/0! | R52: =IF(ISBLANK(M52),0,Q52*ROUND(N52,2)) -> #DIV/0! | S52: =ROUND(P52,2)*Q52 -> #DIV/0! | T52: =Q52*dagenperjaar1 -> #DIV/0! | U52: =T52*ROUND(P52,2) -> #DIV/0!
A53: 001 | C53: 00 | D53: 0.44 | E53: Dames kleedruimte | F53: pvc-vloerafwerking | G53: SKH | H53: 5W | I53: interieur | J53: Kleedruimte harde vloer | K53: 5.89 | L53: =K53*VLOOKUP(H53,dagsoorttabel1,2,FALSE) -> 5.89 | M53: =prodnorm23 -> 0 | N53: =dagwerk23 -> 0 | O53: m²/uur | P53: =uurtarief23 -> 0 | Q53: =IF(ISBLANK(M53),0,L53/ROUND(M53,4)) -> #DIV/0! | R53: =IF(ISBLANK(M53),0,Q53*ROUND(N53,2)) -> #DIV/0! | S53: =ROUND(P53,2)*Q53 -> #DIV/0! | T53: =Q53*dagenperjaar1 -> #DIV/0! | U53: =T53*ROUND(P53,2) -> #DIV/0!
A54: 001 | C54: 00 | D54: 0.45 | E54: Dames douche | F54: pvc-vloerafwerking | G54: SDH | H54: 5W | I54: interieur | J54: Douche/wasruimte harde vloer | K54: 1.98 | L54: =K54*VLOOKUP(H54,dagsoorttabel1,2,FALSE) -> 1.98 | M54: =prodnorm22 -> 0 | N54: =dagwerk22 -> 0 | O54: m²/uur | P54: =uurtarief22 -> 0 | Q54: =IF(ISBLANK(M54),0,L54/ROUND(M54,4)) -> #DIV/0! | R54: =IF(ISBLANK(M54),0,Q54*ROUND(N54,2)) -> #DIV/0! | S54: =ROUND(P54,2)*Q54 -> #DIV/0! | T54: =Q54*dagenperjaar1 -> #DIV/0! | U54: =T54*ROUND(P54,2) -> #DIV/0!
A55: 001 | C55: 00 | D55: 0.46 | E55: kantoor | F55: projecttapijt | G55: BKZ | H55: 5W | I55: interieur | J55: Kantoor/personeelsruimte zachte vloer | K55: 26 | L55: =K55*VLOOKUP(H55,dagsoorttabel1,2,FALSE) -> 26 | M55: =prodnorm12 -> 0 | N55: =dagwerk12 -> 0 | O55: m²/uur | P55: =uurtarief12 -> 0 | Q55: =IF(ISBLANK(M55),0,L55/ROUND(M55,4)) -> #DIV/0! | R55: =IF(ISBLANK(M55),0,Q55*ROUND(N55,2)) -> #DIV/0! | S55: =ROUND(P55,2)*Q55 -> #DIV/0! | T55: =Q55*dagenperjaar1 -> #DIV/0! | U55: =T55*ROUND(P55,2) -> #DIV/0!
A56: 001 | C56: 00 | D56: 0.47 | E56: centrale repro-/boderuimte | F56: marmoleum | G56: BRH | H56: 5W | I56: interieur | J56: Receptie/ontvangst-/wachtruimte harde vloer | K56: 35 | L56: =K56*VLOOKUP(H56,dagsoorttabel1,2,FALSE) -> 35 | M56: =prodnorm13 -> 0 | N56: =dagwerk13 -> 0 | O56: m²/uur | P56: =uurtarief13 -> 0 | Q56: =IF(ISBLANK(M56),0,L56/ROUND(M56,4)) -> #DIV/0! | R56: =IF(ISBLANK(M56),0,Q56*ROUND(N56,2)) -> #DIV/0! | S56: =ROUND(P56,2)*Q56 -> #DIV/0! | T56: =Q56*dagenperjaar1 -> #DIV/0! | U56: =T56*ROUND(P56,2) -> #DIV/0!
A57: 001 | C57: 00 | D57: 0.48 | E57: Personeelentree | F57: schoonloopmat | G57: VEZ | H57: 5W | I57: interieur | J57: Entree zachte vloer | K57: 17.86 | L57: =K57*VLOOKUP(H57,dagsoorttabel1,2,FALSE) -> 17.86 | M57: =prodnorm28 -> 0 | N57: =dagwerk28 -> 0 | O57: m²/uur | P57: =uurtarief28 -> 0 | Q57: =IF(ISBLANK(M57),0,L57/ROUND(M57,4)) -> #DIV/0! | R57: =IF(ISBLANK(M57),0,Q57*ROUND(N57,2)) -> #DIV/0! | S57: =ROUND(P57,2)*Q57 -> #DIV/0! | T57: =Q57*dagenperjaar1 -> #DIV/0! | U57: =T57*ROUND(P57,2) -> #DIV/0!
A58: 001 | C58: 00 | D58: 0.49 | E58: Kolf BHV | F58: pvc-vloerafwerking | G58: BVH | H58: 5W | I58: interieur | J58: Spreek-/overleg-/vergaderruimte/studio harde vloer | K58: 5.28 | L58: =K58*VLOOKUP(H58,dagsoorttabel1,2,FALSE) -> 5.28 | M58: =prodnorm16 -> 0 | N58: =dagwerk16 -> 0 | O58: m²/uur | P58: =uurtarief16 -> 0 | Q58: =IF(ISBLANK(M58),0,L58/ROUND(M58,4)) -> #DIV/0! | R58: =IF(ISBLANK(M58),0,Q58*ROUND(N58,2)) -> #DIV/0! | S58: =ROUND(P58,2)*Q58 -> #DIV/0! | T58: =Q58*dagenperjaar1 -> #DIV/0! | U58: =T58*ROUND(P58,2) -> #DIV/0!
A59: 001 | C59: 00 | D59: 0.50 | E59: Ruimte bode postkamer | F59: marmoleum | G59: VAH | H59: 5W | I59: interieur | J59: Verkeersruimte algemeen harde vloer | K59: 26 | L59: =K59*VLOOKUP(H59,dagsoorttabel1,2,FALSE) -> 26 | M59: =prodnorm25 -> 0 | N59: =dagwerk25 -> 0 | O59: m²/uur | P59: =uurtarief25 -> 0 | Q59: =IF(ISBLANK(M59),0,L59/ROUND(M59,4)) -> #DIV/0! | R59: =IF(ISBLANK(M59),0,Q59*ROUND(N59,2)) -> #DIV/0! | S59: =ROUND(P59,2)*Q59 -> #DIV/0! | T59: =Q59*dagenperjaar1 -> #DIV/0! | U59: =T59*ROUND(P59,2) -> #DIV/0!
A60: 001 | C60: 00 | D60: 0.51 | E60: bestaand techniekruimte | F60: geen afwerking | G60: N.I.O. | K60: 6.2
A61: 001 | C61: 00 | D61: 0.52 | E61: berging | F61: marmoleum | G61: N.I.O. | K61: 2.4
A62: 001 | C62: 00 | D62: 0.53 | E62: machineruimte | F62: geen afwerking | G62: N.I.O. | K62: 4.2
A63: 001 | C63: 00 | D63: 0.54 | E63: Laad en los ruimte | F63: marmoleum | G63: N.I.O. | K63: 37.63
A64: 001 | C64: 00 | D64: 0.55 | E64: Gang | F64: marmoleum | G64: VAH | H64: 5W | I64: interieur | J64: Verkeersruimte algemeen harde vloer | K64: 20.4 | L64: =K64*VLOOKUP(H64,dagsoorttabel1,2,FALSE) -> 20.4 | M64: =prodnorm25 -> 0 | N64: =dagwerk25 -> 0 | O64: m²/uur | P64: =uurtarief25 -> 0 | Q64: =IF(ISBLANK(M64),0,L64/ROUND(M64,4)) -> #DIV/0! | R64: =IF(ISBLANK(M64),0,Q64*ROUND(N64,2)) -> #DIV/0! | S64: =ROUND(P64,2)*Q64 -> #DIV/0! | T64: =Q64*dagenperjaar1 -> #DIV/0! | U64: =T64*ROUND(P64,2) -> #DIV/0!
A65: 001 | C65: 00 | D65: 0.55a | E65: Gang | F65: marmoleum | G65: VAH | H65: 5W | I65: interieur | J65: Verkeersruimte algemeen harde vloer | K65: 99.14 | L65: =K65*VLOOKUP(H65,dagsoorttabel1,2,FALSE) -> 99.14 | M65: =prodnorm25 -> 0 | N65: =dagwerk25 -> 0 | O65: m²/uur | P65: =uurtarief25 -> 0 | Q65: =IF(ISBLANK(M65),0,L65/ROUND(M65,4)) -> #DIV/0! | R65: =IF(ISBLANK(M65),0,Q65*ROUND(N65,2)) -> #DIV/0! | S65: =ROUND(P65,2)*Q65 -> #DIV/0! | T65: =Q65*dagenperjaar1 -> #DIV/0! | U65: =T65*ROUND(P65,2) -> #DIV/0!
A66: 001 | C66: 00 | D66: 0.55b | E66: Gang | F66: marmoleum | G66: VAH | H66: 5W | I66: interieur | J66: Verkeersruimte algemeen harde vloer | K66: 20.16 | L66: =K66*VLOOKUP(H66,dagsoorttabel1,2,FALSE) -> 20.16 | M66: =prodnorm25 -> 0 | N66: =dagwerk25 -> 0 | O66: m²/uur | P66: =uurtarief25 -> 0 | Q66: =IF(ISBLANK(M66),0,L66/ROUND(M66,4)) -> #DIV/0! | R66: =IF(ISBLANK(M66),0,Q66*ROUND(N66,2)) -> #DIV/0! | S66: =ROUND(P66,2)*Q66 -> #DIV/0! | T66: =Q66*dagenperjaar1 -> #DIV/0! | U66: =T66*ROUND(P66,2) -> #DIV/0!
A67: 001 | C67: 00 | D67: 0.56 | E67: Keuken | F67: troffelvloer | G67: N.I.O. | K67: 37.95
A68: 001 | C68: 00 | D68: 0.56b | E68: Spoelkeuken | F68: troffelvloer | G68: N.I.O. | K68: 12.54
A69: 001 | C69: 00 | D69: 0.56c | E69: magazijn | F69: troffelvloer | G69: N.I.O. | K69: 4.29
A70: 001 | C70: 00 | D70: 0.57 | E70: leidingschacht | F70: geen afwerking | G70: N.I.O. | K70: 1.75
A71: 001 | C71: 00 | D71: 0.58 | E71: uitgifte keuken | F71: marmoleum | G71: N.I.O. | K71: 19.68
A72: 001 | C72: 00 | D72: 0.59 | E72: vergaderruimte sHeerenberg | F72: marmoleum | G72: BVH | H72: 5W | I72: interieur | J72: Spreek-/overleg-/vergaderruimte/studio harde vloer | K72: 27.56 | L72: =K72*VLOOKUP(H72,dagsoorttabel1,2,FALSE) -> 27.56 | M72: =prodnorm16 -> 0 | N72: =dagwerk16 -> 0 | O72: m²/uur | P72: =uurtarief16 -> 0 | Q72: =IF(ISBLANK(M72),0,L72/ROUND(M72,4)) -> #DIV/0! | R72: =IF(ISBLANK(M72),0,Q72*ROUND(N72,2)) -> #DIV/0! | S72: =ROUND(P72,2)*Q72 -> #DIV/0! | T72: =Q72*dagenperjaar1 -> #DIV/0! | U72: =T72*ROUND(P72,2) -> #DIV/0!
A73: 001 | C73: 00 | D73: 0.61 | E73: Trappenhuis | F73: projecttapijt | G73: VTH | H73: 5W | I73: interieur | J73: Trappenhuis harde vloer | K73: 11.25 | L73: =K73*VLOOKUP(H73,dagsoorttabel1,2,FALSE) -> 11.25 | M73: =prodnorm31 -> 0 | N73: =dagwerk31 -> 0 | O73: m²/uur | P73: =uurtarief31 -> 0 | Q73: =IF(ISBLANK(M73),0,L73/ROUND(M73,4)) -> #DIV/0! | R73: =IF(ISBLANK(M73),0,Q73*ROUND(N73,2)) -> #DIV/0! | S73: =ROUND(P73,2)*Q73 -> #DIV/0! | T73: =Q73*dagenperjaar1 -> #DIV/0! | U73: =T73*ROUND(P73,2) -> #DIV/0!
A74: 001 | C74: 00 | D74: 0.63 | E74: vergaderruimte Didam | F74: marmoleum | G74: BVH | H74: 5W | I74: interieur | J74: Spreek-/overleg-/vergaderruimte/studio harde vloer | K74: 37.1 | L74: =K74*VLOOKUP(H74,dagsoorttabel1,2,FALSE) -> 37.1 | M74: =prodnorm16 -> 0 | N74: =dagwerk16 -> 0 | O74: m²/uur | P74: =uurtarief16 -> 0 | Q74: =IF(ISBLANK(M74),0,L74/ROUND(M74,4)) -> #DIV/0! | R74: =IF(ISBLANK(M74),0,Q74*ROUND(N74,2)) -> #DIV/0! | S74: =ROUND(P74,2)*Q74 -> #DIV/0! | T74: =Q74*dagenperjaar1 -> #DIV/0! | U74: =T74*ROUND(P74,2) -> #DIV/0!
A75: 001 | C75: 00 | D75: 0.64 | E75: kleedruimte | F75: marmoleum | G75: SKH | H75: 5W | I75: interieur | J75: Kleedruimte harde vloer | K75: 3.84 | L75: =K75*VLOOKUP(H75,dagsoorttabel1,2,FALSE) -> 3.84 | M75: =prodnorm23 -> 0 | N75: =dagwerk23 -> 0 | O75: m²/uur | P75: =uurtarief23 -> 0 | Q75: =IF(ISBLANK(M75),0,L75/ROUND(M75,4)) -> #DIV/0! | R75: =IF(ISBLANK(M75),0,Q75*ROUND(N75,2)) -> #DIV/0! | S75: =ROUND(P75,2)*Q75 -> #DIV/0! | T75: =Q75*dagenperjaar1 -> #DIV/0! | U75: =T75*ROUND(P75,2) -> #DIV/0!
A76: 001 | C76: 00 | D76: 0.65 | E76: Trouwzaal | F76: marmoleum | G76: BVH | H76: 5W | I76: interieur | J76: Spreek-/overleg-/vergaderruimte/studio harde vloer | K76: 36.4 | L76: =K76*VLOOKUP(H76,dagsoorttabel1,2,FALSE) -> 36.4 | M76: =prodnorm16 -> 0 | N76: =dagwerk16 -> 0 | O76: m²/uur | P76: =uurtarief16 -> 0 | Q76: =IF(ISBLANK(M76),0,L76/ROUND(M76,4)) -> #DIV/0! | R76: =IF(ISBLANK(M76),0,Q76*ROUND(N76,2)) -> #DIV/0! | S76: =ROUND(P76,2)*Q76 -> #DIV/0! | T76: =Q76*dagenperjaar1 -> #DIV/0! | U76: =T76*ROUND(P76,2) -> #DIV/0!
A77: 001 | C77: 00 | D77: 0.66 | E77: Werkcafé | F77: marmoleum | G77: LOH | H77: 5W | I77: interieur | J77: Multifunctionele ruimte harde vloeren | K77: 75.26 | L77: =K77*VLOOKUP(H77,dagsoorttabel1,2,FALSE) -> 75.26 | M77: =prodnorm18 -> 0 | N77: =dagwerk18 -> 0 | O77: m²/uur | P77: =uurtarief18 -> 0 | Q77: =IF(ISBLANK(M77),0,L77/ROUND(M77,4)) -> #DIV/0! | R77: =IF(ISBLANK(M77),0,Q77*ROUND(N77,2)) -> #DIV/0! | S77: =ROUND(P77,2)*Q77 -> #DIV/0! | T77: =Q77*dagenperjaar1 -> #DIV/0! | U77: =T77*ROUND(P77,2) -> #DIV/0!
A78: 001 | C78: 00 | D78: 0.67 | E78: Server ruimte | F78: bestaande computervloer | G78: N.I.O. | K78: 22.79
A79: 001 | C79: 00 | D79: 0.68 | E79: Opslag ICT | F79: marmoleum | G79: N.I.O. | K79: 18.9
A80: 001 | C80: 00 | D80: 0.69 | E80: Kantoorartikelen | F80: marmoleum | G80: N.I.O. | K80: 28.08
A81: 001 | C81: 00 | D81: 0.70 | E81: Lift | F81: marmoleum | G81: VLH | H81: 5W | I81: interieur | J81: Lift harde vloer | K81: 2.3 | L81: =K81*VLOOKUP(H81,dagsoorttabel1,2,FALSE) -> 2.3 | M81: =prodnorm29 -> 0 | N81: =dagwerk29 -> 0 | O81: m²/uur | P81: =uurtarief29 -> 0 | Q81: =IF(ISBLANK(M81),0,L81/ROUND(M81,4)) -> #DIV/0! | R81: =IF(ISBLANK(M81),0,Q81*ROUND(N81,2)) -> #DIV/0! | S81: =ROUND(P81,2)*Q81 -> #DIV/0! | T81: =Q81*dagenperjaar1 -> #DIV/0! | U81: =T81*ROUND(P81,2) -> #DIV/0!
A82: 001 | C82: 00 | D82: 0.71 | E82: Toilet publiek | F82: pvc-vloerafwerking | G82: STH | H82: 5W | I82: interieur | J82: Sanitaire ruimte/toiletten harde vloer | K82: 2.4 | L82: =K82*VLOOKUP(H82,dagsoorttabel1,2,FALSE) -> 2.4 | M82: =prodnorm24 -> 0 | N82: =dagwerk24 -> 0 | O82: m²/uur | P82: =uurtarief24 -> 0 | Q82: =IF(ISBLANK(M82),0,L82/ROUND(M82,4)) -> #DIV/0! | R82: =IF(ISBLANK(M82),0,Q82*ROUND(N82,2)) -> #DIV/0! | S82: =ROUND(P82,2)*Q82 -> #DIV/0! | T82: =Q82*dagenperjaar1 -> #DIV/0! | U82: =T82*ROUND(P82,2) -> #DIV/0!
A83: 001 | C83: 00 | D83: 0.72 | E83: Toilet | F83: pvc-vloerafwerking | G83: STH | H83: 5W | I83: interieur | J83: Sanitaire ruimte/toiletten harde vloer | K83: 1.14 | L83: =K83*VLOOKUP(H83,dagsoorttabel1,2,FALSE) -> 1.14 | M83: =prodnorm24 -> 0 | N83: =dagwerk24 -> 0 | O83: m²/uur | P83: =uurtarief24 -> 0 | Q83: =IF(ISBLANK(M83),0,L83/ROUND(M83,4)) -> #DIV/0! | R83: =IF(ISBLANK(M83),0,Q83*ROUND(N83,2)) -> #DIV/0! | S83: =ROUND(P83,2)*Q83 -> #DIV/0! | T83: =Q83*dagenperjaar1 -> #DIV/0! | U83: =T83*ROUND(P83,2) -> #DIV/0!
A84: 001 | C84: 00 | D84: 0.74 | E84: heren toilet | F84: pvc-vloerafwerking | G84: STH | H84: 5W | I84: interieur | J84: Sanitaire ruimte/toiletten harde vloer | K84: 5.8 | L84: =K84*VLOOKUP(H84,dagsoorttabel1,2,FALSE) -> 5.8 | M84: =prodnorm24 -> 0 | N84: =dagwerk24 -> 0 | O84: m²/uur | P84: =uurtarief24 -> 0 | Q84: =IF(ISBLANK(M84),0,L84/ROUND(M84,4)) -> #DIV/0! | R84: =IF(ISBLANK(M84),0,Q84*ROUND(N84,2)) -> #DIV/0! | S84: =ROUND(P84,2)*Q84 -> #DIV/0! | T84: =Q84*dagenperjaar1 -> #DIV/0! | U84: =T84*ROUND(P84,2) -> #DIV/0!
A85: 001 | C85: 00 | D85: 0.75 | E85: Toilet | F85: pvc-vloerafwerking | G85: STH | H85: 5W | I85: interieur | J85: Sanitaire ruimte/toiletten harde vloer | K85: 1.14 | L85: =K85*VLOOKUP(H85,dagsoorttabel1,2,FALSE) -> 1.14 | M85: =prodnorm24 -> 0 | N85: =dagwerk24 -> 0 | O85: m²/uur | P85: =uurtarief24 -> 0 | Q85: =IF(ISBLANK(M85),0,L85/ROUND(M85,4)) -> #DIV/0! | R85: =IF(ISBLANK(M85),0,Q85*ROUND(N85,2)) -> #DIV/0! | S85: =ROUND(P85,2)*Q85 -> #DIV/0! | T85: =Q85*dagenperjaar1 -> #DIV/0! | U85: =T85*ROUND(P85,2) -> #DIV/0!
A86: 001 | C86: 00 | D86: 0.76 | E86: urinoir | F86: pvc-vloerafwerking | G86: STH | H86: 5W | I86: interieur | J86: Sanitaire ruimte/toiletten harde vloer | K86: 1.14 | L86: =K86*VLOOKUP(H86,dagsoorttabel1,2,FALSE) -> 1.14 | M86: =prodnorm24 -> 0 | N86: =dagwerk24 -> 0 | O86: m²/uur | P86: =uurtarief24 -> 0 | Q86: =IF(ISBLANK(M86),0,L86/ROUND(M86,4)) -> #DIV/0! | R86: =IF(ISBLANK(M86),0,Q86*ROUND(N86,2)) -> #DIV/0! | S86: =ROUND(P86,2)*Q86 -> #DIV/0! | T86: =Q86*dagenperjaar1 -> #DIV/0! | U86: =T86*ROUND(P86,2) -> #DIV/0!
A87: 001 | C87: 00 | D87: 0.77 | E87: urinoir | F87: pvc-vloerafwerking | G87: STH | H87: 5W | I87: interieur | J87: Sanitaire ruimte/toiletten harde vloer | K87: 1.14 | L87: =K87*VLOOKUP(H87,dagsoorttabel1,2,FALSE) -> 1.14 | M87: =prodnorm24 -> 0 | N87: =dagwerk24 -> 0 | O87: m²/uur | P87: =uurtarief24 -> 0 | Q87: =IF(ISBLANK(M87),0,L87/ROUND(M87,4)) -> #DIV/0! | R87: =IF(ISBLANK(M87),0,Q87*ROUND(N87,2)) -> #DIV/0! | S87: =ROUND(P87,2)*Q87 -> #DIV/0! | T87: =Q87*dagenperjaar1 -> #DIV/0! | U87: =T87*ROUND(P87,2) -> #DIV/0!
A88: 001 | C88: 00 | D88: 0.78 | E88: Elektrakast | F88: geen afwerking | G88: N.I.O. | K88: 1.02
A89: 001 | C89: 00 | D89: 0.79 | E89: E-kast | F89: geen afwerking | G89: N.I.O. | K89: 5.04
A90: 001 | C90: 00 | D90: 0.81 | E90: Gas-kast | F90: geen afwerking | G90: N.I.O. | K90: 1.98
A91: 001 | C91: 01 | D91: 1.01 | E91: Hoofdtrappenhuis | F91: geen afwerking | G91: VTH | H91: 5W | I91: interieur | J91: Trappenhuis harde vloer | K91: 19.35 | L91: =K91*VLOOKUP(H91,dagsoorttabel1,2,FALSE) -> 19.35 | M91: =prodnorm31 -> 0 | N91: =dagwerk31 -> 0 | O91: m²/uur | P91: =uurtarief31 -> 0 | Q91: =IF(ISBLANK(M91),0,L91/ROUND(M91,4)) -> #DIV/0! | R91: =IF(ISBLANK(M91),0,Q91*ROUND(N91,2)) -> #DIV/0! | S91: =ROUND(P91,2)*Q91 -> #DIV/0! | T91: =Q91*dagenperjaar1 -> #DIV/0! | U91: =T91*ROUND(P91,2) -> #DIV/0!
A92: 001 | C92: 01 | D92: 1.02 | E92: Hoofdgang | F92: marmoleum | G92: VEH | H92: 5W | I92: interieur | J92: Entree harde vloer | K92: 170.24 | L92: =K92*VLOOKUP(H92,dagsoorttabel1,2,FALSE) -> 170.24 | M92: =prodnorm27 -> 0 | N92: =dagwerk27 -> 0 | O92: m²/uur | P92: =uurtarief27 -> 0 | Q92: =IF(ISBLANK(M92),0,L92/ROUND(M92,4)) -> #DIV/0! | R92: =IF(ISBLANK(M92),0,Q92*ROUND(N92,2)) -> #DIV/0! | S92: =ROUND(P92,2)*Q92 -> #DIV/0! | T92: =Q92*dagenperjaar1 -> #DIV/0! | U92: =T92*ROUND(P92,2) -> #DIV/0!
A93: 001 | C93: 01 | D93: 1.03a | E93: Vergader/lounge | F93: marmoleum | G93: BVH | H93: 5W | I93: interieur | J93: Spreek-/overleg-/vergaderruimte/studio harde vloer | K93: 44.55 | L93: =K93*VLOOKUP(H93,dagsoorttabel1,2,FALSE) -> 44.55 | M93: =prodnorm16 -> 0 | N93: =dagwerk16 -> 0 | O93: m²/uur | P93: =uurtarief16 -> 0 | Q93: =IF(ISBLANK(M93),0,L93/ROUND(M93,4)) -> #DIV/0! | R93: =IF(ISBLANK(M93),0,Q93*ROUND(N93,2)) -> #DIV/0! | S93: =ROUND(P93,2)*Q93 -> #DIV/0! | T93: =Q93*dagenperjaar1 -> #DIV/0! | U93: =T93*ROUND(P93,2) -> #DIV/0!
A94: 001 | C94: 01 | D94: 1.03b | E94: Vergader/lounge | F94: marmoleum | G94: BVH | H94: 5W | I94: interieur | J94: Spreek-/overleg-/vergaderruimte/studio harde vloer | K94: 29.16 | L94: =K94*VLOOKUP(H94,dagsoorttabel1,2,FALSE) -> 29.16 | M94: =prodnorm16 -> 0 | N94: =dagwerk16 -> 0 | O94: m²/uur | P94: =uurtarief16 -> 0 | Q94: =IF(ISBLANK(M94),0,L94/ROUND(M94,4)) -> #DIV/0! | R94: =IF(ISBLANK(M94),0,Q94*ROUND(N94,2)) -> #DIV/0! | S94: =ROUND(P94,2)*Q94 -> #DIV/0! | T94: =Q94*dagenperjaar1 -> #DIV/0! | U94: =T94*ROUND(P94,2) -> #DIV/0!
A95: 001 | C95: 01 | D95: 1.04 | E95: Verdeelkast | F95: geen afwerking | G95: N.I.O. | K95: 1.08
A96: 001 | C96: 01 | D96: 1.05 | E96: Keuken | F96: marmoleum | G96: RKH | H96: 5W | I96: interieur | J96: Keuken harde vloer | K96: 7.2 | L96: =K96*VLOOKUP(H96,dagsoorttabel1,2,FALSE) -> 7.2 | M96: =prodnorm19 -> 0 | N96: =dagwerk19 -> 0 | O96: m²/uur | P96: =uurtarief19 -> 0 | Q96: =IF(ISBLANK(M96),0,L96/ROUND(M96,4)) -> #DIV/0! | R96: =IF(ISBLANK(M96),0,Q96*ROUND(N96,2)) -> #DIV/0! | S96: =ROUND(P96,2)*Q96 -> #DIV/0! | T96: =Q96*dagenperjaar1 -> #DIV/0! | U96: =T96*ROUND(P96,2) -> #DIV/0!
A97: 001 | C97: 01 | D97: 1.06 | E97: kantoor | F97: projecttapijt | G97: BKZ | H97: 5W | I97: interieur | J97: Kantoor/personeelsruimte zachte vloer | K97: 29.16 | L97: =K97*VLOOKUP(H97,dagsoorttabel1,2,FALSE) -> 29.16 | M97: =prodnorm12 -> 0 | N97: =dagwerk12 -> 0 | O97: m²/uur | P97: =uurtarief12 -> 0 | Q97: =IF(ISBLANK(M97),0,L97/ROUND(M97,4)) -> #DIV/0! | R97: =IF(ISBLANK(M97),0,Q97*ROUND(N97,2)) -> #DIV/0! | S97: =ROUND(P97,2)*Q97 -> #DIV/0! | T97: =Q97*dagenperjaar1 -> #DIV/0! | U97: =T97*ROUND(P97,2) -> #DIV/0!
A98: 001 | C98: 01 | D98: 1.07 | E98: vergaderuimte Lengel | F98: projecttapijt | G98: BVZ | H98: 5W | I98: interieur | J98: Spreek-/overleg-/vergaderruimte/studio zachte vloer | K98: 17.94 | L98: =K98*VLOOKUP(H98,dagsoorttabel1,2,FALSE) -> 17.94 | M98: =prodnorm17 -> 0 | N98: =dagwerk17 -> 0 | O98: m²/uur | P98: =uurtarief17 -> 0 | Q98: =IF(ISBLANK(M98),0,L98/ROUND(M98,4)) -> #DIV/0! | R98: =IF(ISBLANK(M98),0,Q98*ROUND(N98,2)) -> #DIV/0! | S98: =ROUND(P98,2)*Q98 -> #DIV/0! | T98: =Q98*dagenperjaar1 -> #DIV/0! | U98: =T98*ROUND(P98,2) -> #DIV/0!
A99: 001 | C99: 01 | D99: 1.08 | E99: heren toilet | F99: pvc-vloerafwerking | G99: STH | H99: 5W | I99: interieur | J99: Sanitaire ruimte/toiletten harde vloer | K99: 9.3 | L99: =K99*VLOOKUP(H99,dagsoorttabel1,2,FALSE) -> 9.3 | M99: =prodnorm24 -> 0 | N99: =dagwerk24 -> 0 | O99: m²/uur | P99: =uurtarief24 -> 0 | Q99: =IF(ISBLANK(M99),0,L99/ROUND(M99,4)) -> #DIV/0! | R99: =IF(ISBLANK(M99),0,Q99*ROUND(N99,2)) -> #DIV/0! | S99: =ROUND(P99,2)*Q99 -> #DIV/0! | T99: =Q99*dagenperjaar1 -> #DIV/0! | U99: =T99*ROUND(P99,2) -> #DIV/0!
A100: 001 | C100: 01 | D100: 1.09 | E100: heren toilet | F100: pvc-vloerafwerking | G100: STH | H100: 5W | I100: interieur | J100: Sanitaire ruimte/toiletten harde vloer | K100: 1.17 | L100: =K100*VLOOKUP(H100,dagsoorttabel1,2,FALSE) -> 1.17 | M100: =prodnorm24 -> 0 | N100: =dagwerk24 -> 0 | O100: m²/uur | P100: =uurtarief24 -> 0 | Q100: =IF(ISBLANK(M100),0,L100/ROUND(M100,4)) -> #DIV/0! | R100: =IF(ISBLANK(M100),0,Q100*ROUND(N100,2)) -> #DIV/0! | S100: =ROUND(P100,2)*Q100 -> #DIV/0! | T100: =Q100*dagenperjaar1 -> #DIV/0! | U100: =T100*ROUND(P100,2) -> #DIV/0!
A101: 001 | C101: 01 | D101: 1.10 | E101: heren toilet | F101: pvc-vloerafwerking | G101: STH | H101: 5W | I101: interieur | J101: Sanitaire ruimte/toiletten harde vloer | K101: 1.17 | L101: =K101*VLOOKUP(H101,dagsoorttabel1,2,FALSE) -> 1.17 | M101: =prodnorm24 -> 0 | N101: =dagwerk24 -> 0 | O101: m²/uur | P101: =uurtarief24 -> 0 | Q101: =IF(ISBLANK(M101),0,L101/ROUND(M101,4)) -> #DIV/0! | R101: =IF(ISBLANK(M101),0,Q101*ROUND(N101,2)) -> #DIV/0! | S101: =ROUND(P101,2)*Q101 -> #DIV/0! | T101: =Q101*dagenperjaar1 -> #DIV/0! | U101: =T101*ROUND(P101,2) -> #DIV/0!
...

Sheet Objectinformatie
A1: Omrekentabel t.b.v. Invultabel Objecten (niet afdrukken)
A3: TAAK | B3: FREQ | C3: DAGSOORT | D3: WERKSOORT | E3: FREQ DECIMAAL | F3: UURFACTOR | G3: KENGETAL | H3: % HOOG-FREQUENT | I3: TARIEF | J3: 001 | K3: 002 | L3: 003
J4: OPP OF AANTAL | K4: OPP OF AANTAL | L4: OPP OF AANTAL
A5: BKH | B5: 5W | C5: werkdag | D5: interieur | E5: =IF(B5="","",VLOOKUP(B5,dagsoorttabel1,2,FALSE)) -> 1 | F5: 1 | G5: =IF(prodnorm11>0,1/ROUND(prodnorm11,4),0) -> 0 | H5: =ROUND(dagwerk11,4+2) -> 0 | I5: =ROUND(uurtarief11,2) -> 0 | J5: 36.4 | K5: 70 | L5: 0
A6: BKZ | B6: 5W | C6: werkdag | D6: interieur | E6: =IF(B6="","",VLOOKUP(B6,dagsoorttabel1,2,FALSE)) -> 1 | F6: 1 | G6: =IF(prodnorm12>0,1/ROUND(prodnorm12,4),0) -> 0 | H6: =ROUND(dagwerk12,4+2) -> 0 | I6: =ROUND(uurtarief12,2) -> 0 | J6: 1749.8 | K6: 0 | L6: 165
A7: BRH | B7: 5W | C7: werkdag | D7: interieur | E7: =IF(B7="","",VLOOKUP(B7,dagsoorttabel1,2,FALSE)) -> 1 | F7: 1 | G7: =IF(prodnorm13>0,1/ROUND(prodnorm13,4),0) -> 0 | H7: =ROUND(dagwerk13,4+2) -> 0 | I7: =ROUND(uurtarief13,2) -> 0 | J7: 35 | K7: 100 | L7: 0
A8: BRZ | B8: 1W | C8: werkdag | D8: interieur | E8: =IF(B8="","",VLOOKUP(B8,dagsoorttabel1,2,FALSE)) -> 0.2 | F8: 1 | G8: =IF(prodnorm14>0,1/ROUND(prodnorm14,4),0) -> 0 | H8: =ROUND(dagwerk14,4+2) -> 0 | I8: =ROUND(uurtarief14,2) -> 0 | J8: 56.71 | K8: 0 | L8: 0
A9: BRZ | B9: 5W | C9: werkdag | D9: interieur | E9: =IF(B9="","",VLOOKUP(B9,dagsoorttabel1,2,FALSE)) -> 1 | F9: 1 | G9: =IF(prodnorm15>0,1/ROUND(prodnorm15,4),0) -> 0 | H9: =ROUND(dagwerk15,4+2) -> 0 | I9: =ROUND(uurtarief15,2) -> 0 | J9: 328.31 | K9: 97 | L9: 0
A10: BVH | B10: 5W | C10: werkdag | D10: interieur | E10: =IF(B10="","",VLOOKUP(B10,dagsoorttabel1,2,FALSE)) -> 1 | F10: 1 | G10: =IF(prodnorm16>0,1/ROUND(prodnorm16,4),0) -> 0 | H10: =ROUND(dagwerk16,4+2) -> 0 | I10: =ROUND(uurtarief16,2) -> 0 | J10: 209.21 | K10: 145 | L10: 0
A11: BVZ | B11: 5W | C11: werkdag | D11: interieur | E11: =IF(B11="","",VLOOKUP(B11,dagsoorttabel1,2,FALSE)) -> 1 | F11: 1 | G11: =IF(prodnorm17>0,1/ROUND(prodnorm17,4),0) -> 0 | H11: =ROUND(dagwerk17,4+2) -> 0 | I11: =ROUND(uurtarief17,2) -> 0 | J11: 514.86 | K11: 99 | L11: 35
A12: LOH | B12: 5W | C12: werkdag | D12: interieur | E12: =IF(B12="","",VLOOKUP(B12,dagsoorttabel1,2,FALSE)) -> 1 | F12: 1 | G12: =IF(prodnorm18>0,1/ROUND(prodnorm18,4),0) -> 0 | H12: =ROUND(dagwerk18,4+2) -> 0 | I12: =ROUND(uurtarief18,2) -> 0 | J12: 75.26 | K12: 0 | L12: 0
A13: RKH | B13: 5W | C13: werkdag | D13: interieur | E13: =IF(B13="","",VLOOKUP(B13,dagsoorttabel1,2,FALSE)) -> 1 | F13: 1 | G13: =IF(prodnorm19>0,1/ROUND(prodnorm19,4),0) -> 0 | H13: =ROUND(dagwerk19,4+2) -> 0 | I13: =ROUND(uurtarief19,2) -> 0 | J13: 15.12 | K13: 15 | L13: 0
A14: RPH | B14: 5W | C14: werkdag | D14: interieur | E14: =IF(B14="","",VLOOKUP(B14,dagsoorttabel1,2,FALSE)) -> 1 | F14: 1 | G14: =IF(prodnorm20>0,1/ROUND(prodnorm20,4),0) -> 0 | H14: =ROUND(dagwerk20,4+2) -> 0 | I14: =ROUND(uurtarief20,2) -> 0 | J14: 15.12 | K14: 0 | L14: 3
A15: RRH | B15: 5W | C15: werkdag | D15: interieur | E15: =IF(B15="","",VLOOKUP(B15,dagsoorttabel1,2,FALSE)) -> 1 | F15: 1 | G15: =IF(prodnorm21>0,1/ROUND(prodnorm21,4),0) -> 0 | H15: =ROUND(dagwerk21,4+2) -> 0 | I15: =ROUND(uurtarief21,2) -> 0 | J15: 0 | K15: 0 | L15: 105
A16: SDH | B16: 5W | C16: werkdag | D16: interieur | E16: =IF(B16="","",VLOOKUP(B16,dagsoorttabel1,2,FALSE)) -> 1 | F16: 1 | G16: =IF(prodnorm22>0,1/ROUND(prodnorm22,4),0) -> 0 | H16: =ROUND(dagwerk22,4+2) -> 0 | I16: =ROUND(uurtarief22,2) -> 0 | J16: 3.96 | K16: 0 | L16: 94
A17: SKH | B17: 5W | C17: werkdag | D17: interieur | E17: =IF(B17="","",VLOOKUP(B17,dagsoorttabel1,2,FALSE)) -> 1 | F17: 1 | G17: =IF(prodnorm23>0,1/ROUND(prodnorm23,4),0) -> 0 | H17: =ROUND(dagwerk23,4+2) -> 0 | I17: =ROUND(uurtarief23,2) -> 0 | J17: 18.63 | K17: 0 | L17: 0
A18: STH | B18: 5W | C18: werkdag | D18: interieur | E18: =IF(B18="","",VLOOKUP(B18,dagsoorttabel1,2,FALSE)) -> 1 | F18: 1 | G18: =IF(prodnorm24>0,1/ROUND(prodnorm24,4),0) -> 0 | H18: =ROUND(dagwerk24,4+2) -> 0 | I18: =ROUND(uurtarief24,2) -> 0 | J18: 100.7 | K18: 23 | L18: 24
A19: VAH | B19: 5W | C19: werkdag | D19: interieur | E19: =IF(B19="","",VLOOKUP(B19,dagsoorttabel1,2,FALSE)) -> 1 | F19: 1 | G19: =IF(prodnorm25>0,1/ROUND(prodnorm25,4),0) -> 0 | H19: =ROUND(dagwerk25,4+2) -> 0 | I19: =ROUND(uurtarief25,2) -> 0 | J19: 308.91 | K19: 259 | L19: 82
A20: VAZ | B20: 5W | C20: werkdag | D20: interieur | E20: =IF(B20="","",VLOOKUP(B20,dagsoorttabel1,2,FALSE)) -> 1 | F20: 1 | G20: =IF(prodnorm26>0,1/ROUND(prodnorm26,4),0) -> 0 | H20: =ROUND(dagwerk26,4+2) -> 0 | I20: =ROUND(uurtarief26,2) -> 0 | J20: 420.33 | K20: 55 | L20: 35
A21: VEH | B21: 5W | C21: werkdag | D21: interieur | E21: =IF(B21="","",VLOOKUP(B21,dagsoorttabel1,2,FALSE)) -> 1 | F21: 1 | G21: =IF(prodnorm27>0,1/ROUND(prodnorm27,4),0) -> 0 | H21: =ROUND(dagwerk27,4+2) -> 0 | I21: =ROUND(uurtarief27,2) -> 0 | J21: 483.31 | K21: 0 | L21: 0
A22: VEZ | B22: 5W | C22: werkdag | D22: interieur | E22: =IF(B22="","",VLOOKUP(B22,dagsoorttabel1,2,FALSE)) -> 1 | F22: 1 | G22: =IF(prodnorm28>0,1/ROUND(prodnorm28,4),0) -> 0 | H22: =ROUND(dagwerk28,4+2) -> 0 | I22: =ROUND(uurtarief28,2) -> 0 | J22: 142.12 | K22: 0 | L22: 0
A23: VLH | B23: 5W | C23: werkdag | D23: interieur | E23: =IF(B23="","",VLOOKUP(B23,dagsoorttabel1,2,FALSE)) -> 1 | F23: 1 | G23: =IF(prodnorm29>0,1/ROUND(prodnorm29,4),0) -> 0 | H23: =ROUND(dagwerk29,4+2) -> 0 | I23: =ROUND(uurtarief29,2) -> 0 | J23: 4.3 | K23: 0 | L23: 2
A24: VOH | B24: 5W | C24: werkdag | D24: interieur | E24: =IF(B24="","",VLOOKUP(B24,dagsoorttabel1,2,FALSE)) -> 1 | F24: 1 | G24: =IF(prodnorm30>0,1/ROUND(prodnorm30,4),0) -> 0 | H24: =ROUND(dagwerk30,4+2) -> 0 | I24: =ROUND(uurtarief30,2) -> 0 | J24: 22.2 | K24: 0 | L24: 0
A25: VTH | B25: 5W | C25: werkdag | D25: interieur | E25: =IF(B25="","",VLOOKUP(B25,dagsoorttabel1,2,FALSE)) -> 1 | F25: 1 | G25: =IF(prodnorm31>0,1/ROUND(prodnorm31,4),0) -> 0 | H25: =ROUND(dagwerk31,4+2) -> 0 | I25: =ROUND(uurtarief31,2) -> 0 | J25: 142.85 | K25: 0 | L25: 0
A26: Totaal werkdag

Sheet Objecten
A1: =CONCATENATE("Bijlage D.4: ",tabeltype," objecten") -> Bijlage D.4: Invultabel objecten
A3: OBJECT | B3: NAAM | C3: ADRES | D3: PLAATS | E3: FREQ | F3: BASIS UUR- TARIEF | G3: UREN/ UITVOERING | H3: UREN HOOG-FREQUENT/ UITVOERING | I3: UREN HOOG-FREQUENT SUPPLETIE/ UITVOERING | J3: UREN HOOG-FREQUENT TOTAAL/ UITVOERING | K3: UREN TOTAAL/ UITVOERING | L3: PRIJS/ UITVOERING | M3: PRIJS SUPPLETIE/ UITVOERING | N3: PRIJS TOTAAL/ UITVOERING | O3: UREN HOOG-FREQUENT/ JAAR | P3: UREN/ JAAR | Q3: PRIJS/ JAAR | R3: PRIJS/ MAAND (EURO)
A5: WERKDAG
A6: 001 | B6: Gemeentehuis Montferland | C6: Bergvredestraat 10 | D6: Didam | E6: 5W | F6: =gemuurtarief1 -> 0 | G6: =SUMPRODUCT(taakfreqtabel1,uurfactortabel1,kengetaltabel1,object1_opptabel1)*(1/VLOOKUP(E6,dagsoorttabel1,2,FALSE)) -> 0 | H6: =SUMPRODUCT(dagwerktabel1,taakfreqtabel1,uurfactortabel1,kengetaltabel1,object1_opptabel1)*(1/VLOOKUP(E6,dagsoorttabel1,2,FALSE)) -> 0 | J6: =H6+I6 -> 0 | K6: =G6+I6 -> 0 | L6: =SUMPRODUCT(taakfreqtabel1,kengetaltabel1,tarieftabel1,object1_opptabel1)*(1/VLOOKUP(E6,dagsoorttabel1,2,FALSE)) -> 0 | M6: =F6*I6 -> 0 | N6: =SUM(L6:M6) -> 0 | O6: =J6*dagenperjaar1*VLOOKUP(E6,dagsoorttabel1,2,FALSE) -> 0 | P6: =K6*dagenperjaar1*VLOOKUP(E6,dagsoorttabel1,2,FALSE) -> 0 | Q6: =N6*dagenperjaar1*VLOOKUP(E6,dagsoorttabel1,2,FALSE) -> 0 | R6: =Q6/12 -> 0
A7: 002 | B7: Gouden Handen | C7: Emmerikseweg 17 | D7: s-Heerenberg | E7: 5W | F7: =gemuurtarief1 -> 0 | G7: =SUMPRODUCT(taakfreqtabel1,uurfactortabel1,kengetaltabel1,object2_opptabel1)*(1/VLOOKUP(E7,dagsoorttabel1,2,FALSE)) -> 0 | H7: =SUMPRODUCT(dagwerktabel1,taakfreqtabel1,uurfactortabel1,kengetaltabel1,object2_opptabel1)*(1/VLOOKUP(E7,dagsoorttabel1,2,FALSE)) -> 0 | J7: =H7+I7 -> 0 | K7: =G7+I7 -> 0 | L7: =SUMPRODUCT(taakfreqtabel1,kengetaltabel1,tarieftabel1,object2_opptabel1)*(1/VLOOKUP(E7,dagsoorttabel1,2,FALSE)) -> 0 | M7: =F7*I7 -> 0 | N7: =SUM(L7:M7) -> 0 | O7: =J7*dagenperjaar1*VLOOKUP(E7,dagsoorttabel1,2,FALSE) -> 0 | P7: =K7*dagenperjaar1*VLOOKUP(E7,dagsoorttabel1,2,FALSE) -> 0 | Q7: =N7*dagenperjaar1*VLOOKUP(E7,dagsoorttabel1,2,FALSE) -> 0 | R7: =Q7/12 -> 0
A8: 003 | B8: Gemeentewerf Montferland | C8: Leigraaf 9 | D8: Beek | E8: 5W | F8: =gemuurtarief1 -> 0 | G8: =SUMPRODUCT(taakfreqtabel1,uurfactortabel1,kengetaltabel1,object3_opptabel1)*(1/VLOOKUP(E8,dagsoorttabel1,2,FALSE)) -> 0 | H8: =SUMPRODUCT(dagwerktabel1,taakfreqtabel1,uurfactortabel1,kengetaltabel1,object3_opptabel1)*(1/VLOOKUP(E8,dagsoorttabel1,2,FALSE)) -> 0 | J8: =H8+I8 -> 0 | K8: =G8+I8 -> 0 | L8: =SUMPRODUCT(taakfreqtabel1,kengetaltabel1,tarieftabel1,object3_opptabel1)*(1/VLOOKUP(E8,dagsoorttabel1,2,FALSE)) -> 0 | M8: =F8*I8 -> 0 | N8: =SUM(L8:M8) -> 0 | O8: =J8*dagenperjaar1*VLOOKUP(E8,dagsoorttabel1,2,FALSE) -> 0 | P8: =K8*dagenperjaar1*VLOOKUP(E8,dagsoorttabel1,2,FALSE) -> 0 | Q8: =N8*dagenperjaar1*VLOOKUP(E8,dagsoorttabel1,2,FALSE) -> 0 | R8: =Q8/12 -> 0
A9: Totaal werkdag | O9: =SUM(O6:O8) -> 0 | P9: =SUM(P6:P8) -> 0 | Q9: =SUM(Q6:Q8) -> 0 | R9: =SUM(R6:R8) -> 0
A12: Totaal regulier werk incl. suppleties (excl. BTW) | O12: =urenjaartotaalhf1 -> 0 | P12: =urenjaartotaal1 -> 0 | Q12: =prijsjaartotaal1 -> 0 | R12: =prijsmaandtotaal1 -> 0
A14: Totaal regulier werk incl. suppleties (incl. BTW) | Q14: =Q12*1.21 -> 0 | R14: =R12*1.21 -> 0

Sheet Totaalblad Objecten
A1: =CONCATENATE("Bijlage D.5: ",tabeltype," totaalblad objecten") -> Bijlage D.5: Invultabel totaalblad objecten
A3: OBJECT | B3: NAAM | C3: ADRES | D3: PLAATS | E3: UREN HOOG-FREQUENT/ JAAR | F3: UREN/ JAAR | G3: PRIJS/ JAAR | H3: PRIJS/ MAAND EXCL.BTW | I3: PRIJS/ MAAND INCL.BTW
A4: 001 | B4: Gemeentehuis Montferland | C4: Bergvredestraat 10 | D4: Didam | E4: =objecturenhf1_1 -> 0 | F4: =objecturen1_1 -> 0 | G4: =objectprijs1_1 -> 0 | H4: =G4/12 -> 0 | I4: =H4*1.21 -> 0
A5: 002 | B5: Gouden Handen | C5: Emmerikseweg 17 | D5: s-Heerenberg | E5: =objecturenhf2_1 -> 0 | F5: =objecturen2_1 -> 0 | G5: =objectprijs2_1 -> 0 | H5: =G5/12 -> 0 | I5: =H5*1.21 -> 0
A6: 003 | B6: Gemeentewerf Montferland | C6: Leigraaf 9 | D6: Beek | E6: =objecturenhf3_1 -> 0 | F6: =objecturen3_1 -> 0 | G6: =objectprijs3_1 -> 0 | H6: =G6/12 -> 0 | I6: =H6*1.21 -> 0
A8: Totaal van alle objecten | E8: =SUM(E4:E6) -> 0 | F8: =SUM(F4:F6) -> 0 | G8: =SUM(G4:G6) -> 0 | H8: =SUM(H4:H6) -> 0 | I8: =SUM(I4:I6) -> 0

Sheet Additioneel werk
A1: =CONCATENATE("Bijlage D.6: ",tabeltype," additioneel werk") -> Bijlage D.6: Invultabel additioneel werk
A3: BEURT | B3: FREQ | C3: FREQ (DAGEN) | D3: OMSCHRIJVING | E3: EENHEID | F3: HOEVEELHEID /KEER | G3: UURTARIEF (EURO) | H3: NORM | I3: PRIJS/ EENHEID (EURO) | J3: PRIJS/ KEER | K3: PRIJS/ JAAR | L3: PRIJS/ MAAND (EURO)
A5: WERKDAG
A6: 9700 | B6: 1J | C6: =IF(ISBLANK(B6),0,IF(ISERROR(VALUE(B6)),VLOOKUP(B6,dagsoorttabel1,2,FALSE)*dagenperjaar1,VALUE(B6))) -> 1 | D6: Periodiek beschermde vloeren | E6: tijdsnorm in vloer m²/uur | F6: 1353.01 | G6: =Tariefopbouw5 -> 0 | J6: =IF(ISBLANK(H6),0,F6 / ROUND(H6,4) * ROUND(G6,2)) -> 0 | K6: =C6*J6 -> 0 | L6: =K6/12 -> 0
A7: Totaal werkdag | K7: =SUM(K6:K6) -> 0 | L7: =K7/12 -> 0
A9: Totaal additioneel werk excl. BTW | K9: =prijsjaaradditioneel1 -> 0 | L9: =K9/12 -> 0

Sheet Afroep incidenteel
A1: =CONCATENATE("Bijlage D.7: ",tabeltype," afroep incidenteel") -> Bijlage D.7: Invultabel afroep incidenteel
A3: BEURT | B3: OMSCHRIJVING | C3: EENHEID | D3: STAFFEL | E3: PRIJS/ EENHEID (EURO)
A5: WERKDAG
A6: 2000A | B6: Systeemkast/monitor reinigen | C6: prijs per stuk | D6: < 25 stuks
A7: 2000B | B7: Systeemkast/monitor reinigen | C7: prijs per stuk | D7: 25 tot 100 stuks
A8: 2000C | B8: Systeemkast/monitor reinigen | C8: prijs per stuk | D8: 100 tot 500 stuks
A9: 2000D | B9: Systeemkast/monitor reinigen | C9: prijs per stuk | D9: >= 500 stuks
A10: 2010A | B10: Printer uitwendig reinigen | C10: prijs per stuk | D10: < 25 stuks
A11: 2010B | B11: Printer uitwendig reinigen | C11: prijs per stuk | D11: 25 tot 100 stuks
A12: 2010C | B12: Printer uitwendig reinigen | C12: prijs per stuk | D12: 100 tot 500 stuks
A13: 2010D | B13: Printer uitwendig reinigen | C13: prijs per stuk | D13: >= 500 stuks
A14: 2030A | B14: Toetsenbord reinigen | C14: prijs per stuk | D14: < 25 stuks
A15: 2030B | B15: Toetsenbord reinigen | C15: prijs per stuk | D15: 25 tot 100 stuks
A16: 2030C | B16: Toetsenbord reinigen | C16: prijs per stuk | D16: 100 tot 500 stuks
A17: 2030D | B17: Toetsenbord reinigen | C17: prijs per stuk | D17: >= 500 stuks
... A45: 3020D | B45: Gordijnen reinigen | C45: prijs per m² | D45: >=100 m²
A46: 3030 | B46: Graffiti verwijderen | C46: prijs per m²
A47: 3040 | B47: Graffiti verwijderen spec. | C47: prijs per uur
A48: 4000A | B48: Vloer schrobben/waterzuigen | C48: prijs per m² | D48: < 500 m²
A49: 4000B | B49: Vloer schrobben/waterzuigen | C49: prijs per m² | D49: 500 < 1000 m²
A50: 4000C | B50: Vloer schrobben/waterzuigen | C50: prijs per m² | D50: 1000 < 2000 m²
A51: 4000D | B51: Vloer schrobben/waterzuigen | C51: prijs per m² | D51: >= 2000 m²
A52: 4010A | B52: Sure step vloeren opwrijven | C52: prijs per m² | D52: < 500 m²
A53: 4010B | B53: Sure step vloeren opwrijven | C53: prijs per m² | D53: 500 < 1000 m²
A54: 4010C | B54: Sure step vloeren opwrijven | C54: prijs per m² | D54: 1000 < 2000 m²
A55: 4010D | B55: Sure step vloeren opwrijven | C55: prijs per m² | D55: >= 2000 m²
A56: 4020A | B56: Linoleum sprayen /opwrijven | C56: prijs per m² | D56: < 500 m²
A57: 4020B | B57: Linoleum sprayen /opwrijven | C57: prijs per m² | D57: 500 < 1000 m²
A58: 4020C | B58: Linoleum sprayen /opwrijven | C58: prijs per m² | D58: 1000 < 2000 m²
A59: 4020D | B59: Linoleum sprayen /opwrijven | C59: prijs per m² | D59: >= 2000 m²
... A91: 4090D | B91: Inloopmatten uitkloppen | C91: prijs per stuk | D91: >= 500 stuks
A92: Totaal werkdag
A94: Totaal afroep incidenteel excl. BTW

Sheet Regiewerk
A1: =CONCATENATE("Bijlage D.8: ",tabeltype," regiewerk") -> Bijlage D.8: Invultabel regiewerk
A3: BEURT | B3: FREQ | C3: FREQ (DAGEN) | D3: OMSCHRIJVING | E3: EENHEID | F3: HOEVEELHEID /KEER | G3: UURTARIEF (EURO) | H3: NORM | I3: PRIJS/ EENHEID (EURO) | J3: PRIJS/ KEER | K3: PRIJS/ JAAR | L3: PRIJS/ MAAND (EURO)
A5: WERKDAG
A6: 9000 | B6: 10J | C6: =IF(ISBLANK(B6),0,IF(ISERROR(VALUE(B6)),VLOOKUP(B6,dagsoorttabel1,2,FALSE)*dagenperjaar1,VALUE(B6))) -> 10 | D6: Medewerker regiewerkzaamheden | E6: prijs per uur | F6: 20 | G6: =Tariefopbouw2 -> 0 | I6: =G6 -> 0 | J6: =IF(ISBLANK(F6),0,F6)*ROUND(I6,2) -> 0 | K6: =C6*J6 -> 0 | L6: =K6/12 -> 0
A7: 9100 | B7: 10J | C7: =IF(ISBLANK(B7),0,IF(ISERROR(VALUE(B7)),VLOOKUP(B7,dagsoorttabel1,2,FALSE)*dagenperjaar1,VALUE(B7))) -> 10 | D7: Medewerker specialistische werkzaamheden | E7: prijs per uur | F7: 4 | G7: =Tariefopbouw3 -> 0 | I7: =G7 -> 0 | J7: =IF(ISBLANK(F7),0,F7)*ROUND(I7,2) -> 0 | K7: =C7*J7 -> 0 | L7: =K7/12 -> 0
A8: 9200 | B8: 10J | C8: =IF(ISBLANK(B8),0,IF(ISERROR(VALUE(B8)),VLOOKUP(B8,dagsoorttabel1,2,FALSE)*dagenperjaar1,VALUE(B8))) -> 10 | D8: Uurtarief vervanging eigen beheer | E8: prijs per uur | F8: 1 | G8: =Tariefopbouw2 -> 0 | I8: =G8 -> 0 | J8: =IF(ISBLANK(F8),0,F8)*ROUND(I8,2) -> 0 | K8: =C8*J8 -> 0 | L8: =K8/12 -> 0
A9: Totaal werkdag | K9: =SUM(K6:K8) -> 0 | L9: =K9/12 -> 0
A11: Totaal regiewerk excl. BTW | K11: =prijsjaarregie1 -> 0 | L11: =K11/12 -> 0

Sheet Glas
A1: =CONCATENATE("Bijlage D.9: ",tabeltype," glas") -> Bijlage D.9: Invultabel glas
A3: BEURT | B3: FREQ | C3: FREQ (DAGEN) | D3: OMSCHRIJVING | E3: EENHEID | F3: HOEVEELHEID /KEER | G3: UURTARIEF (EURO) | H3: NORM | I3: PRIJS/ EENHEID (EURO) | J3: PRIJS/ KEER | K3: PRIJS/ JAAR | L3: PRIJS/ MAAND (EURO)
A5: WERKDAG
A6: 8000 | B6: 2J | C6: =IF(ISBLANK(B6),0,IF(ISERROR(VALUE(B6)),VLOOKUP(B6,dagsoorttabel1,2,FALSE)*dagenperjaar1,VALUE(B6))) -> 2 | D6: Gevelglas buitenzijde | E6: prijs per m² | F6: 673 | G6: =Tariefopbouw4 -> 0 | J6: =IF(ISBLANK(F6),0,F6)*ROUND(I6,2) -> 0 | K6: =C6*J6 -> 0 | L6: =K6/12 -> 0
A7: 8000 | B7: 4J | C7: =IF(ISBLANK(B7),0,IF(ISERROR(VALUE(B7)),VLOOKUP(B7,dagsoorttabel1,2,FALSE)*dagenperjaar1,VALUE(B7))) -> 4 | D7: Gevelglas buitenzijde | E7: prijs per m² | F7: 99.12 | G7: =Tariefopbouw4 -> 0 | J7: =IF(ISBLANK(F7),0,F7)*ROUND(I7,2) -> 0 | K7: =C7*J7 -> 0 | L7: =K7/12 -> 0
A8: 8010 | B8: 2J | C8: =IF(ISBLANK(B8),0,IF(ISERROR(VALUE(B8)),VLOOKUP(B8,dagsoorttabel1,2,FALSE)*dagenperjaar1,VALUE(B8))) -> 2 | D8: Gevelglas binnenzijde | E8: prijs per m² | F8: 74 | G8: =Tariefopbouw4 -> 0 | J8: =IF(ISBLANK(F8),0,F8)*ROUND(I8,2) -> 0 | K8: =C8*J8 -> 0 | L8: =K8/12 -> 0
A9: 8020 | B9: 2J | C9: =IF(ISBLANK(B9),0,IF(ISERROR(VALUE(B9)),VLOOKUP(B9,dagsoorttabel1,2,FALSE)*dagenperjaar1,VALUE(B9))) -> 2 | D9: Separatieglas (m ² is totaal) | E9: prijs per m² | F9: 324.4 | G9: =Tariefopbouw4 -> 0 | J9: =IF(ISBLANK(F9),0,F9)*ROUND(I9,2) -> 0 | K9: =C9*J9 -> 0 | L9: =K9/12 -> 0
A10: 8070 | B10: 2J | C10: =IF(ISBLANK(B10),0,IF(ISERROR(VALUE(B10)),VLOOKUP(B10,dagsoorttabel1,2,FALSE)*dagenperjaar1,VALUE(B10))) -> 2 | D10: Videglas totaal | E10: prijs per m² | F10: 232.2 | G10: =Tariefopbouw4 -> 0 | J10: =IF(ISBLANK(F10),0,F10)*ROUND(I10,2) -> 0 | K10: =C10*J10 -> 0 | L10: =K10/12 -> 0
A11: 8080 | B11: 2J | C11: =IF(ISBLANK(B11),0,IF(ISERROR(VALUE(B11)),VLOOKUP(B11,dagsoorttabel1,2,FALSE)*dagenperjaar1,VALUE(B11))) -> 2 | D11: Lichtkoepel binnenzijde | E11: prijs per m² | F11: 25 | G11: =Tariefopbouw4 -> 0 | J11: =IF(ISBLANK(F11),0,F11)*ROUND(I11,2) -> 0 | K11: =C11*J11 -> 0 | L11: =K11/12 -> 0
A12: 8090 | B12: 2J | C12: =IF(ISBLANK(B12),0,IF(ISERROR(VALUE(B12)),VLOOKUP(B12,dagsoorttabel1,2,FALSE)*dagenperjaar1,VALUE(B12))) -> 2 | D12: Lichtkoepel buitenzijde | E12: prijs per m² | F12: 25 | G12: =Tariefopbouw4 -> 0 | J12: =IF(ISBLANK(F12),0,F12)*ROUND(I12,2) -> 0 | K12: =C12*J12 -> 0 | L12: =K12/12 -> 0
A13: 8095 | B13: 1J | C13: =IF(ISBLANK(B13),0,IF(ISERROR(VALUE(B13)),VLOOKUP(B13,dagsoorttabel1,2,FALSE)*dagenperjaar1,VALUE(B13))) -> 1 | D13: Reinigen zonnepanelen | E13: prijs per m² | F13: 50 | G13: =Tariefopbouw4 -> 0 | J13: =IF(ISBLANK(F13),0,F13)*ROUND(I13,2) -> 0 | K13: =C13*J13 -> 0 | L13: =K13/12 -> 0
A14: 8100 | B14: 1J | C14: =IF(ISBLANK(B14),0,IF(ISERROR(VALUE(B14)),VLOOKUP(B14,dagsoorttabel1,2,FALSE)*dagenperjaar1,VALUE(B14))) -> 1 | D14: Inzet hoogwerker Gemeentehuis | E14: totaalprijs | F14: 1 | G14: =Tariefopbouw4 -> 0 | J14: =IF(ISBLANK(F14),1,F14)*ROUND(I14,2) -> 0 | K14: =C14*J14 -> 0 | L14: =K14/12 -> 0
A15: 8200 | B15: 1J | C15: =IF(ISBLANK(B15),0,IF(ISERROR(VALUE(B15)),VLOOKUP(B15,dagsoorttabel1,2,FALSE)*dagenperjaar1,VALUE(B15))) -> 1 | D15: Inzet tuckerpole Gemeentehuis | E15: totaalprijs | F15: 1 | G15: =Tariefopbouw4 -> 0 | J15: =IF(ISBLANK(F15),1,F15)*ROUND(I15,2) -> 0 | K15: =C15*J15 -> 0 | L15: =K15/12 -> 0
A16: Totaal werkdag | K16: =SUM(K6:K15) -> 0 | L16: =K16/12 -> 0
A18: Totaal glas excl. BTW | K18: =prijsjaarglas1 -> 0 | L18: =K18/12 -> 0

Sheet Glas per locatie
A1: =CONCATENATE("Bijlage D.10: ",tabeltype," glas per locatie") -> Bijlage D.10: Invultabel glas per locatie
A3: BEURT | B3: FREQ | C3: FREQ (DAGEN) | D3: DAGSOORT | E3: OMSCHRIJVING | F3: EENHEID | G3: HOEVEELHEID /KEER | H3: UURTARIEF (EURO) | I3: NORM | J3: PRIJS/ EENHEID (EURO) | K3: PRIJS/ KEER | L3: PRIJS/ JAAR | M3: PRIJS/ MAAND (EURO)
A5: 001 - Gemeentehuis Montferland, Bergvredestraat 10, Didam
A6: 8000 | B6: 2J | C6: =IF(ISBLANK(B6),0,IF(ISERROR(VALUE(B6)),VLOOKUP(B6,dagsoorttabel1,2,FALSE)*dagenperjaar1,VALUE(B6))) -> 2 | D6: werkdag | E6: Gevelglas buitenzijde | F6: prijs per m² | G6: 673 | H6: =Glas!G6 -> 0 | J6: =Glas!I6 -> 0 | K6: =IF(ISBLANK(G6),0,G6)*ROUND(J6,2) -> 0 | L6: =C6*K6 -> 0 | M6: =L6/12 -> 0
A7: 8070 | B7: 2J | C7: =IF(ISBLANK(B7),0,IF(ISERROR(VALUE(B7)),VLOOKUP(B7,dagsoorttabel1,2,FALSE)*dagenperjaar1,VALUE(B7))) -> 2 | D7: werkdag | E7: Videglas totaal | F7: prijs per m² | G7: 232.2 | H7: =Glas!G10 -> 0 | J7: =Glas!I10 -> 0 | K7: =IF(ISBLANK(G7),0,G7)*ROUND(J7,2) -> 0 | L7: =C7*K7 -> 0 | M7: =L7/12 -> 0
A8: 8100 | B8: 1J | C8: =IF(ISBLANK(B8),0,IF(ISERROR(VALUE(B8)),VLOOKUP(B8,dagsoorttabel1,2,FALSE)*dagenperjaar1,VALUE(B8))) -> 1 | D8: werkdag | E8: Inzet hoogwerker Gemeentehuis | F8: totaalprijs | G8: 1 | H8: =Glas!G14 -> 0 | J8: =Glas!I14 -> 0 | K8: =IF(ISBLANK(G8),1,G8)*ROUND(J8,2) -> 0 | L8: =C8*K8 -> 0 | M8: =L8/12 -> 0
A9: 8200 | B9: 1J | C9: =IF(ISBLANK(B9),0,IF(ISERROR(VALUE(B9)),VLOOKUP(B9,dagsoorttabel1,2,FALSE)*dagenperjaar1,VALUE(B9))) -> 1 | D9: werkdag | E9: Inzet tuckerpole Gemeentehuis | F9: totaalprijs | G9: 1 | H9: =Glas!G15 -> 0 | J9: =Glas!I15 -> 0 | K9: =IF(ISBLANK(G9),1,G9)*ROUND(J9,2) -> 0 | L9: =C9*K9 -> 0 | M9: =L9/12 -> 0
A10: Totaal 001 - Gemeentehuis Montferland, Bergvredestraat 10, Didam | K10: =SUM(K6:K9) -> 0 | L10: =SUM(L6:L9) -> 0 | M10: =L10/12 -> 0
A12: 002 - Gouden Handen, Emmerikseweg 17, 's-Heerenberg
A13: 8010 | B13: 2J | C13: =IF(ISBLANK(B13),0,IF(ISERROR(VALUE(B13)),VLOOKUP(B13,dagsoorttabel1,2,FALSE)*dagenperjaar1,VALUE(B13))) -> 2 | D13: werkdag | E13: Gevelglas binnenzijde | F13: prijs per m² | G13: 74 | H13: =Glas!G8 -> 0 | J13: =Glas!I8 -> 0 | K13: =IF(ISBLANK(G13),0,G13)*ROUND(J13,2) -> 0 | L13: =C13*K13 -> 0 | M13: =L13/12 -> 0
A14: 8020 | B14: 2J | C14: =IF(ISBLANK(B14),0,IF(ISERROR(VALUE(B14)),VLOOKUP(B14,dagsoorttabel1,2,FALSE)*dagenperjaar1,VALUE(B14))) -> 2 | D14: werkdag | E14: Separatieglas (m ² is totaal) | F14: prijs per m² | G14: 324.4 | H14: =Glas!G9 -> 0 | J14: =Glas!I9 -> 0 | K14: =IF(ISBLANK(G14),0,G14)*ROUND(J14,2) -> 0 | L14: =C14*K14 -> 0 | M14: =L14/12 -> 0
A15: Totaal 002 - Gouden Handen, Emmerikseweg 17, 's-Heerenberg | K15: =SUM(K13:K14) -> 0 | L15: =SUM(L13:L14) -> 0 | M15: =L15/12 -> 0
A17: 003 - Gemeentewerf Montferland, Leigraaf 9, Beek
A18: 8000 | B18: 4J | C18: =IF(ISBLANK(B18),0,IF(ISERROR(VALUE(B18)),VLOOKUP(B18,dagsoorttabel1,2,FALSE)*dagenperjaar1,VALUE(B18))) -> 4 | D18: werkdag | E18: Gevelglas buitenzijde | F18: prijs per m² | G18: 99.12 | H18: =Glas!G7 -> 0 | J18: =Glas!I7 -> 0 | K18: =IF(ISBLANK(G18),0,G18)*ROUND(J18,2) -> 0 | L18: =C18*K18 -> 0 | M18: =L18/12 -> 0
A19: Totaal 003 - Gemeentewerf Montferland, Leigraaf 9, Beek | K19: =SUM(K18:K18) -> 0 | L19: =SUM(L18:L18) -> 0 | M19: =L19/12 -> 0

Sheet Totaal
A1: =CONCATENATE("Bijlage D.11: ",tabeltype," totaalblad schoonmaakwerk") -> Bijlage D.11: Invultabel totaalblad schoonmaakwerk
A3: Soort werk | B3: Uren per jaar uitvoering | C3: Uren hoogfrequent per jaar uitvoering | D3: Bedrag per jaar excl. BTW (euro) | E3: Bedrag per jaar incl. BTW (euro)
A4: Regulier werk | B4: =urenjaartotaaloverzicht -> 0 | C4: =urenjaartotaaloverzichthf -> 0 | D4: =prijsjaartotaaloverzicht -> 0 | E4: =D4*1.21 -> 0
A5: Additioneel werk | D5: =prijsjaaradditioneel -> 0 | E5: =D5*1.21 -> 0
A6: Regie (geschat) | D6: =prijsjaarregie -> 0 | E6: =D6*1.21 -> 0
A7: Glas (geschat) | D7: =prijsjaarglas -> 0 | E7: =D7*1.21 -> 0
A9: Totaal generaal | B9: =SUM(B4:B7) -> 0 | C9: =SUM(C4:C7) -> 0 | D9: =SUM(D4:D7) -> 0 | E9: =D9*1.21 -> 0
