Workbook

Sheet Invulinstructie
B2: Naam opdrachtgever | C2: GVB
B3: Versienummer | C3: V1.0
B5: INSTRUCTIES VOOR HET INVULLEN VAN HET PRIJZENBLAD
B7: Algemeen | C7: - Inschrijver dient de tarieven in te vullen in het Prijzenblad zoals dat door Opdrachtgever is opgesteld. - Het Prijzenblad dient u (rechtsgeldig ondertekend) als pdf-document in te dienen en tevens in Excel format. Bij eventuele verschillen tussen deze documenten gaan wij uit van de prijzen zoals ingediend in het pdf-document. - Alle prijzen en tarieven zijn gebaseerd op de uitvraag Kantoormeubilair zie specifiek (maar niet uitsluitend) de aanbestedingsdocumenten en het Programma van Eisen. - Inschrijver dient enkel de lichtgele cellen in te vullen. - Inschrijver brengt geen wijzigen aan in het Prijzenblad (uitgezonderd natuurlijk het vak voor ondertekening en de in te vullen prijzen en tarieven). - Prijzen en tarieven zijn opgegeven in Euro's en exclusief BTW, tenzij ook om prijzen inclusief btw wordt gevraagd. - Prijzen, aanschafprijzen en tarieven zijn "all-in" (Ter vermijding van misverstanden wordt opgemerkt dat in de vergoeding voor het nieuwe meubillair dus onder meer, maar niet beperkt tot begrepen zit, alle arbeidskosten, materiaalkosten, transportkosten (leveren en ophalen), transportmiddelen, voorrijkosten, parkeerkosten, verzekeringen, kosten voor informatiesystemen en belasting (m.u.v. BTW), alsmede de kosten voor preventief onderhoud, maatregelen gericht op levensduurverlenging en de overeengekomen garantie gedurende de garantietermijn. Deze aspecten maken integraal onderdeel uit van de aanschafprijs). - Het indienen van negatieve prijzen of tarieven is niet toegestaan.
B8: 1. Ondertekening | C8: Inschrijver dient dit tabblad in te vullen en rechtsgeldig te ondertekenen.
B9: 2. Inschrijfprijs | C9: In dit tabblad wordt de inschrijfprijs automatisch gegenereerd op basis van de andere tabbladen.
B10: 3. Meubilair | C10: - In dit tabblad geeft de inschrijver het meubilair aan dat zij voorstelt. Inschrijver vult het artikelnummer en de omschrijving van het artikel in. Vermeld bij de omschrijving minimaal de fabrikant/ merk, artikelnaam en -serie, type-/ modelnummer, afmetingen, kleur/ afwerking en materiaal. Het voorgestelde meubilair dient te voldoen aan de eisen zoals gesteld in het Programma van Eisen (inclusief bijlage 7A Eisen standaard kantoormeubilair). - Aan de fictieve afnames kunnen geen rechten worden ontleend. - Inschrijver vult de aanschafwaarde per artikel in. De aanschafwaarde is per stuk en exclusief btw. De aanschafprijs is een all-in tarief en omvat alle kosten zoals genoemd onder het onderdeel "Algemeen". - Een beschrijving van de specificaties van het standaard meubilair is opgenomen als bijlage 7A van het Programma van Eisen.
B11: 4. Staffel | C11: - Inschrijver vult kortingspercentages in die worden gehanteerd bij afname van meerdere identieke artikelen binnen één bestelling, ongeacht of deze worden geleverd op één of meerdere locaties. Deze korting wordt direct op de factuur van de bestelling verwerkt.
B12: 5. Overig | C12: - Inschrijver vult de kosten in voor de overige onderdelen zoals beschreven in dit tabblad: - Uurtarief voor advies: Inschrijver vult een uurtarief in voor advies conform paragraaf 3.3 van het Programma van Eisen. Dit tarief kan uitsluitend worden ingezet op verzoek van Opdrachtgever. Alle reguliere adviserende werkzaamheden die redelijkerwijs verband houden met de geleverde producten vallen binnen de aangeboden aanschafprijs. - Uurtarief voor correctief onderhoud: Inschrijver vult een uurtarief in voor correctief onderhoud. Dit uurtarief wordt gerekend wanneer correctief onderhoud nodig is voor zowel huidig als nieuw meubilair dat niet meer binnen de garantie valt, of wanneer het meubilair aantoonbaar verkeerd is gebruikt door GVB. - Het uurtarief voor correctief onderhoud is een all-in tarief. In het all-in tarief is in ieder geval (maar niet gelimiteerd tot) opgenomen de arbeidskosten, reistijd, kilometerkosten, voorrijkosten, parkeerkosten, administratieve kosten (bijv, werkvoorbereiding, registratie en rapport), gebruik van gereedschap. - Uurtarief voor preventief onderhoud: Inschrijver vult een uurtarief in voor preventief onderhoud van het huidige meubilair. Voor nieuw meubilair dient preventief onderhoud dit in de aanschaprijs opgenomen te zijn. - Thuiswerkmeubilair: kosten voor opslaan (inclusief verzelering), schoonmaak, gereedmaken nieuw gebruik per thuiswerkwerkplek: Inschrijver vult de kosten in voor het opslaan (inclusief transport en ophalen (van en naar opslag)), schoonmaken en gereedmaken per thuiswerkplek.

Sheet 1. Ondertekening
B3: Naam opdrachtgever | C3: =Invulinstructie!C2 -> GVB
B4: Versienummer | C4: =Invulinstructie!C3 -> V1.0
B5: Inschrijver
B7: RECHTSGELDIGE ONDERTEKENING*
B9: Organisatienaam
B12: Naam tekeningsbevoegde functionaris
B15: Functie tekeningsbevoegde functionaris
B18: Inschrijfprijs
B19: ='2. Inschrijfprijs'!C12 -> 0
B21: Datum van ondertekening
B24: Handtekening
B30: * Door het indienen van het Prijzenblad verklaart Inschrijver tevens dat de Inschrijving volledig is gebaseerd op en voldoet aan de bepalingen in de eerder genoemde aanbestedingsleidraad, programma van eisen, nota('s) van inlichtingen en de eigen beantwoording van de gunningscriteria. Alle kosten gerelateerd aan de uitvoering van de beantwoording van de gunningscriteria worden geacht in de aangeboden prijzen te zijn verdisconteerd. Inschrijver verklaart met het indienen van het Prijzenblad dat de door hem geoffreerde prijzen en tarieven zonder voorbehoud zijn.

Sheet 2. Inschrijfprijs
B3: Naam opdrachtgever | C3: =Invulinstructie!C2 -> GVB
B4: Versienummer | C4: =Invulinstructie!C3 -> V1.0
B5: Inschrijver | C5: ='1. Ondertekening'!C5 -> 0
B7: Inschrijfprijs
B9: ='3. Meubilair'!B76 -> Totaal kosten meubilair | C9: ='3. Meubilair'!G76 -> 0
B10: ='5. Overig'!B16 -> Totaal overige kosten | C10: ='5. Overig'!E16 -> 0
B12: Totaal inschrijfprijs | C12: =C9+C10 -> 0

Sheet 3. Meubilair
B3: Naam opdrachtgever | C3: =Invulinstructie!C2 -> GVB
B4: Versienummer | C4: =Invulinstructie!C3 -> V1.0
B5: Leverancier | C5: ='1. Ondertekening'!C5 -> 0
B7: Kosten meubilair
B9: Bureaus en tafels
B10: Specificatie | C10: Artikelnummer | D10: Omschrijving | E10: Fictieve afname | F10: Aanschafprijs per stuk excl. btw | G10: TOTAAL
B11: Zitbureau, elektrisch in hoogte instelbaar, 160 x 80 cm | E11: 20 | F11: 0 | G11: =E11*(SUM(F11:F11)) -> 0
B12: Zit-staburau, elektisch in hoogte instelbaar, 160 x 80 cm | E12: 20 | F12: 0 | G12: =E12*(SUM(F12:F12)) -> 0
B13: Vergadertafel, rechthoekig met vier poten, 90 x 180 cm | E13: 10 | F13: 0 | G13: =E13*(SUM(F13:F13)) -> 0
B14: Vergadertafel, rechthoekig met vier poten, 100 x 200 cm | E14: 10 | F14: 0 | G14: =E14*(SUM(F14:F14)) -> 0
B15: Vergadertafel, rechthoekig met vier poten, 100 x 240 cm | E15: 10 | F15: 0 | G15: =E15*(SUM(F15:F15)) -> 0
B16: Vergadertafel, ronde vorm met een diameter van 120 cm | E16: 10 | F16: 0 | G16: =E16*(SUM(F16:F16)) -> 0
B17: Klaptafel met wielen en voetrem, 80 x 160 cm | E17: 5 | F17: 0 | G17: =E17*(SUM(F17:F17)) -> 0
B18: Bartafel, rechthoekig met vier poten, 110 x 90 x 180 cm | E18: 5 | F18: 0 | G18: =E18*(SUM(F18:F18)) -> 0
B19: Bartafel, rechthoekig met vier poten, 110 x 90 x 200 cm | E19: 5 | F19: 0 | G19: =E19*(SUM(F19:F19)) -> 0
B20: Bartafel, rechthoekig met vier poten, 110 x 90 x 220 cm | E20: 5 | F20: 0 | G20: =E20*(SUM(F20:F20)) -> 0
B22: Stoelen
B23: Specificatie | C23: Artikelnummer | D23: Omschrijving | E23: Fictieve afname | F23: Aanschafprijs per stuk excl. btw | G23: TOTAAL
B24: Bureaustoel met synchroon mechanisme | E24: 35 | F24: 0 | G24: =E24*(SUM(F24:F24)) -> 0
B25: Bureaustoel met multidynamisch mechanisme | E25: 35 | F25: 0 | G25: =E25*(SUM(F25:F25)) -> 0
B26: 24-uursstoel | E26: 5 | F26: 0 | G26: =E26*(SUM(F26:F26)) -> 0
B27: Vergaderstoel | E27: 50 | F27: 0 | G27: =E27*(SUM(F27:F27)) -> 0
B28: Stoel ten behoeve van restaurant en opkomstruimte | E28: 50 | F28: 0 | G28: =E28*(SUM(F28:F28)) -> 0
B29: Barkruk | E29: 10 | F29: 0 | G29: =E29*(SUM(F29:F29)) -> 0
B31: Kasten
B32: Specificatie | C32: Artikelnummer | D32: Omschrijving | E32: Fictieve afname | F32: Aanschafprijs per stuk excl. btw | G32: TOTAAL
B33: Jaloeziedeurkast laag, breedte 80 cm, diepte 45 cm, hoogte 80 cm | E33: 4 | F33: 0 | G33: =E33*(SUM(F33:F33)) -> 0
B34: Jaloeziedeurkast middel, breedte 120 cm, diepte 45 cm, hoogte 130 cm | E34: 4 | F34: 0 | G34: =E34*(SUM(F34:F34)) -> 0
B35: Jaloeziedeurkast hoog, breedte 120 cm, diepte 45 cm, hoogte 190 cm | E35: 4 | F35: 0 | G35: =E35*(SUM(F35:F35)) -> 0
B36: Lockerkast: breedte 40 cm, diepte 50 cm, hoogte 35 cm. 4 lockers 2 kolom | E36: 8 | F36: 0 | G36: =E36*(SUM(F36:F36)) -> 0
B37: Kledingkast: breedte 40 cm, diepte 50 cm, hoogte 180 cm | E37: 4 | F37: 0 | G37: =E37*(SUM(F37:F37)) -> 0
B39: Thuiswerkmeubilair
B40: Specificatie | C40: Artikelnummer | D40: Omschrijving | E40: Fictieve afname | F40: Aanschafprijs per stuk excl. btw | G40: TOTAAL
B41: Zitbureau, manueel in hoogte instelbaar breedte 120 cm en diepte 80 cm | E41: 5 | F41: 0 | G41: =E41*(SUM(F41:F41)) -> 0
B42: Zitbureau, manueel in hoogte instelbaar breedte 140 cm en diepte 80 cm | E42: 5 | F42: 0 | G42: =E42*(SUM(F42:F42)) -> 0
B43: Zitbureau, manueel in hoogte instelbaar breedte 160 cm en diepte 80 cm | E43: 5 | F43: 0 | G43: =E43*(SUM(F43:F43)) -> 0
B44: Zit-staburau, elektisch in hoogte instelbaar breedte 120cm en diepte 60 cm | E44: 10 | F44: 0 | G44: =E44*(SUM(F44:F44)) -> 0
B45: Bureaustoel, zitting en rugleuning van stof | E45: 15 | F45: 0 | G45: =E45*(SUM(F45:F45)) -> 0
B46: Bureaustoel, zitting van stof en rugleuning van netbespanning | E46: 15 | F46: 0 | G46: =E46*(SUM(F46:F46)) -> 0
B47: Bureaulamp Unilux Sol led zwart | E47: 15 | F47: 0 | G47: =E47*(SUM(F47:F47)) -> 0
...

Sheet 4. Staffel
B3: Naam opdrachtgever | C3: =Invulinstructie!C2 -> GVB
B4: Versienummer | C4: =Invulinstructie!C3 -> V1.0
B5: Leverancier | C5: ='1. Ondertekening'!C5 -> 0
B7: Staffelkorting
B9: Staffelkorting
B10: Aantallen | D10: Kortingspercentage | E10: Weging
B11: 6 t/m 10 stuks | E11: 0.5
B12: 11 t/m 25 stuks | E12: 0.3
B13: 26 t/m 50 stuks | E13: 0.1
B14: 51 of meer | E14: 0.1
B16: Totaal percentage staffelkorting incl. weging | E16: =AVERAGE(((E11*D11)+(E12*D12)+(E13*D13)+(E14*D14))) -> 0
B18: De bovenstaande kortingen worden direct op de factuur verrekend.

Sheet 5. Overig
B3: Naam opdrachtgever | C3: =Invulinstructie!C2 -> GVB
B4: Versienummer | C4: =Invulinstructie!C3 -> V1.0
B5: Leverancier | C5: ='1. Ondertekening'!C5 -> 0
B7: Overige kosten
B9: Overige kosten
B10: Specificatie | C10: Fictieve aantallen/uur | D10: Kosten | E10: Totaal
B11: Uurtarief voor advies | C11: 25 | D11: 0 | E11: =C11*D11 -> 0
B12: Uurtarief voor correctief onderhoud | C12: 100 | D12: 0 | E12: =C12*D12 -> 0
B13: Kosten voor preventief onderhoud per jaar voor huidige meubilair gebaseerd op het huidig aantal werkplekken | C13: 800 | D13: 0 | E13: =C13*D13 -> 0
B14: Thuiswerkmeubilair: kosten voor opslaan, schoonmaak, gereedmaken nieuw gebruik per thuiswerkwerkplek | C14: 150 | D14: 0 | E14: =C14*D14 -> 0
B16: Totaal overige kosten | E16: =SUM(E11:E14) -> 0
