Workbook

Sheet Voorblad
B6: Operationele lease van speciale voertuigen en materieel
D10: Inhoud:
D11: Prijsinvulformulieren

Sheet Prijsinvulf overige zaken
A1: Prijsinvulformulier overige zaken | B1: Naam inschrijver: …………………………………….
A2: Omschrijving | C2: Percentage *
A4: Wat is de vaste opslag op het IRS rentepercentage dat inschrijver gedurende de looptijd van de overeenkomst hanteert? Deze opslag dient gelijk te zijn aan de toegepaste opslag in de calculaties in de prijsinvulformulieren. | C4: 0 | E4: 1 2 3
A6: Velden in te vullen door inschrijver
A8: * De prijzen zoals ingevuld op het prijsinvul formulier zijn inclusief alle kosten voortkomend uit de beschreven voorwaarden in de aanbestedingsdocumenten en de kwalitatieve gunningscriteria.

Sheet 1. Opzetstrooier compact
A1: Categorie/segment | B1: Onderdeel 1. Opzetstrooier compact
A2: De Inschrijver hoeft alleen de gele velden in te vullen. Dit formulier wordt verder automatisch gevuld.
A3: Objectgegevens | B3: Strooier 1 | C3: Strooier 2
A4: Merk | B4: Nido | C4: Epoke
A5: Model | B5: Syntos | C5: Igloo
A6: Type | B6: B08-24 | C6: S2700-R 800L
A7: Soort materieel | B7: Opzetstrooier | C7: Opzetstrooier
A8: Aandrijving | B8: Voertuighydrauliek | C8: Voertuighydrauliek
A11: Prijzen
A12: Omschrijving | B12: Bunkerinhoud 0,8 m³ (800 liter) Strooibreedte 1 – 6 meter Strooimiddel droog zout / natzout (FS30) Vulkoppeling Camlock 2" RVS Doseersysteem Transportband Besturing ES elektronisch Aandrijving Voertuighydrauliek Onderframe voor afzetpoten (tot 3,5T) Afzetpoten (4 st.) met draaispindel Zwaailamp met LED Derde achterlicht Rood-witmarkering aan achterzijde op de machine | C12: Bunkerinhoud 0,8 m³ (800 liter) Strooibreedte 1 – 6 meter Epomaster X2 bedieningskast Natzout uitvoering en voorzien van natzout-tanks Doseersysteem Transportband Aandrijving Voertuighydrauliek Vulkoppeling Camlock 2" RVS Minimum niveauschakelaar Onderframe voor afzetpoten (tot 3,5T) Afzetpoten (4 st.) met draaispindel Zwaailamp met LED Derde achterlicht Rood-witmarkering aan achterzijde op de machine
A13: Totaal excl. BTW | B13: 34000 | C13: 34000
A15: Contractgevens
A16: Looptijd (maanden) | B16: 96 | C16: 96
A17: Jaarkilometrage (km) | B17: N.v.t. | C17: N.v.t.
A18: IRS rente (hiervan dient Inschrijver uit te gaan voor de calculatie) | B18: 0.035
A19: Renteopslag in percentage. Wordt gevuld vanuit tabblad "Prijzenblad overige zaken" | B19: ='Prijsinvulf overige zaken'!C4 -> 0
A20: Totale calculatierente | B20: =B18+B19 -> 0.035
A21: Restwaarde bij einde looptijd excl. BTW | B21: 3000 | C21: 3000
A22: Reparatie en onderhoud (€/jaar) | B22: 0 | C22: 0
A25: Prijzen per maand excl. BTW
A26: Afschrijvingskosten | B26: 0 | C26: 0
A27: Rentekosten | B27: 0 | C27: 0
A28: Reparatie en Onderhoud. Dit dient een realistische opgave te zijn. | B28: 0 | C28: 0
A29: Banden. Dit dient een realistische opgave te zijn. | B29: N.v.t. | C29: N.v.t.
A30: WA+Casco verzekering | B30: N.v.t. | C30: N.v.t.
A31: SVI -verzekering | B31: N.v.t. | C31: N.v.t.
A32: Motorrijtuigenbelasting (MRB) | B32: N.v.t. | C32: N.v.t.
A33: Administratiekosten en beheersfee | B33: 0 | C33: 0
A34: Overige kosten / kortingen | B34: 0 | C34: 0
A35: Specificatie overige kosten/kortingen (zover van toepassing): | B35: BESCHRIJVING
A36: Maandprijs totaal excl. BTW | B36: =SUM(B26:B34) -> 0 | C36: =SUM(C26:C34) -> 0
A38: Weging
A39: Gezien de contractvorm (ROB en Restwaarde risico bij opdrachtgever) worden alleen de componenten waarbij het risico bij de opdrachtnemer ligt meegewogen in de gunning. Dit betreft de volgende componenten: - Rentekosten - Administratiekosten en beheersfee - Overige kosten (indien van toepassing).
A41: Gewogen prijs totaal excl. BTW | B41: =B33+B34+B27 -> 0 | C41: =C33+C34+C27 -> 0
A43: * Inschrijver dient voor de bepaling van de maandprijs uit te gaan van de bovenstaande fabrieksspecificaties, gewichten en prijzen. De werkelijke maandprijs op het moment van bestelling dient gebaseerd te worden op de actuele fabrieksspecificaties, gewichten en prijzen ten tijde van het moment van bestelling. * De genoemde merken en typen zijn indicatief. De keuze voor merk en type zal gemaakt worden op het moment van de daadwerkelijke bestelling. * Alle door inschrijver verstrekte tarieven en prijzen zijn marktconform en realistisch. Indien blijkt dat er niet marktconform of realistisch wordt aangeboden, is Opdrachtgever gerechtigd de inschrijving ongeldig te verklaren. * De prijzen zoals ingevuld op het Prijzeninvulformulier zijn inclusief alle kosten voortkomend uit het Programma van eisen en Kwalitatieve gunningscriteria.

Sheet 2. Opzetstrooier groot
A1: Categorie/segment | B1: Onderdeel 2. Opzetstrooier groot
A2: De Inschrijver hoeft alleen de gele velden in te vullen. Dit formulier wordt verder automatisch gevuld.
A3: Objectgegevens | B3: Strooier 1 | C3: Strooier 2
A4: Merk | B4: Nido | C4: Epoke
A5: Model | B5: Stratos | C5: SIRIUS AST
A6: Type | B6: B40-36 | C6: 4m3 vth
A7: Soort materieel | B7: Opzetstrooier | C7: zoutstrooier
A8: Aandrijving | B8: Voertuighydrauliek | C8: Voertuighydrauliek
A9: Gewicht (kg)
A11: Prijzen
A12: Omschrijving | B12: Inhoud strooibak 4,0 m³ Pekeltank Tot ca. 1.850 liter Strooimiddel Droog zout, nat zout (FS30/FS50) en pekel Strooibreedte 3–12 m Strooischijf Ø 700 mm Transportsysteem Transportband Aandrijving Voertuighydrauliek Besturing ES (elektronische besturing) Framebreedte 1.950–2.000 mm Bakhoogte ca. 1.490 mm Opbouw met afzetpoten Afzetpoten (4 st.) met draaispindel Zwaailamp met LED Derde achterlicht Rood-witmarkering aan achterzijde op de machine | C12: Bakinhoud 4,0 m³ Strooibreedte 2–12 meter Strooimateriaal Droog zout, nat zout, zand/zoutmengsels Doseersysteem Doseerrol met onbelaste transportband Aandrijving Voertuighydrauliek Besturing EpoMaster® IV Strooisysteem Synchroon; constante dosering onafhankelijk van rijsnelheid Service IP44-machinekast, geïntegreerde ladder, opklapbaar afdekzeil Onderframe voor afzetpoten (tot 3,5T) Afzetpoten (4 st.) met draaispindel Zwaailamp met LED Derde achterlicht Rood-witmarkering aan achterzijde op de machine
A13: Totaal excl. BTW | B13: 56000 | C13: 56000
A15: Contractgevens
A16: Looptijd (maanden) | B16: 96 | C16: 96
A17: Jaarkilometrage (km) | B17: N.v.t. | C17: N.v.t.
A18: IRS rente (hiervan dient Inschrijver uit te gaan voor de calculatie) | B18: 0.035
A19: Renteopslag in percentage. Wordt gevuld vanuit tabblad "Prijzenblad overige zaken" | B19: ='Prijsinvulf overige zaken'!C4 -> 0
A20: Totale calculatierente | B20: =B18+B19 -> 0.035
A21: Restwaarde bij einde looptijd excl. BTW | B21: 5000 | C21: 5000
A22: Reparatie en onderhoud (€/jaar) | B22: 0 | C22: 0
A23: Banden (€/km) | B23: 0 | C23: 0
A25: Prijzen per maand excl. BTW
A26: Afschrijvingskosten | B26: 0 | C26: 0
A27: Rentekosten | B27: 0 | C27: 0
A28: Reparatie en Onderhoud. Dit dient een realistische opgave te zijn. | B28: 0 | C28: 0
A29: Banden. Dit dient een realistische opgave te zijn. | B29: N.v.t. | C29: N.v.t.
A30: WA+Casco verzekering | B30: N.v.t. | C30: N.v.t.
A31: SVI -verzekering | B31: N.v.t. | C31: N.v.t.
A32: Motorrijtuigenbelasting (MRB) | B32: N.v.t. | C32: N.v.t.
A33: Administratiekosten en beheersfee | B33: 0 | C33: 0
A34: Overige kosten / kortingen | B34: 0 | C34: 0
A35: Specificatie overige kosten/kortingen (zover van toepassing): | B35: BESCHRIJVING
A36: Maandprijs totaal excl. BTW | B36: =SUM(B26:B34) -> 0 | C36: =SUM(C26:C34) -> 0
A38: Weging
A39: Gezien de contractvorm (ROB en Restwaarde risico bij opdrachtgever) worden alleen de componenten waarbij het risico bij de opdrachtnemer ligt meegewogen in de gunning. Dit betreft de volgende componenten: - Rentekosten - Administratiekosten en beheersfee - Overige kosten (indien van toepassing).
A41: Gewogen prijs totaal excl. BTW | B41: =B33+B34+B27 -> 0 | C41: =C33+C34+C27 -> 0
A43: * Inschrijver dient voor de bepaling van de maandprijs uit te gaan van de bovenstaande fabrieksspecificaties, gewichten en prijzen. De werkelijke maandprijs op het moment van bestelling dient gebaseerd te worden op de actuele fabrieksspecificaties, gewichten en prijzen ten tijde van het moment van bestelling. * De genoemde merken en typen zijn indicatief. De keuze voor merk en type zal gemaakt worden op het moment van de daadwerkelijke bestelling. * Alle door inschrijver verstrekte tarieven en prijzen zijn marktconform en realistisch. Indien blijkt dat er niet marktconform of realistisch wordt aangeboden, is Opdrachtgever gerechtigd de inschrijving ongeldig te verklaren. * De prijzen zoals ingevuld op het Prijzeninvulformulier zijn inclusief alle kosten voortkomend uit het Programma van eisen en Kwalitatieve gunningscriteria.

Sheet 3. Winterdienst aanhanger
A1: Categorie/segment | B1: Onderdeel 3. Winterdienst aanhanger
A2: De Inschrijver hoeft alleen de gele velden in te vullen. Dit formulier wordt verder automatisch gevuld.
A3: Objectgegevens | B3: Strooier 1 | C3: Strooier 2
A4: Merk | B4: Nido | C4: Epoke
A5: Model | B5: Stratos | C5: IGLOO S 2700 RDW
A6: Type | B6: B08L-15 AWCLN-280 | C6: IGLOO S 2700 RDW 800 liter
A7: Soort materieel | B7: Natzoutstrooier t.b.v. fietspaden | C7: Natzoutstrooier t.b.v. fietspaden
A8: Aandrijving | B8: op de as van de aanhanger | C8: op de as van de aanhanger
A9: Gewicht (kg) | B9: 2000 | C9: 1800
A11: Prijzen
A12: Omschrijving | B12: Bunkerinhoud: minimaal 800 liter. Geïntegreerde pekeltank met een inhoud van minimaal 350 liter Geschikt voor het strooien van droog zout en natzout (FS30) Instelbare strooibreedte van ca. 1,5 tot 6 meter Rijsnelheidafhankelijke dosering met elektronische besturing Hydraulisch aangedreven doseer- en strooisysteem Transportbandsysteem voor gelijkmatige materiaaltoevoer Geschikt voor montage achter een compacttractor of werktuigdrager Voorzien van verlichting conform de geldende verkeersvoorschriften Voorzien van afdekzeil/deksel | C12: Bunkerinhoud: minimaal 800 liter. Pekeltank voor voorbevochtiging: minimaal 300 liter. Geschikt voor het strooien van droog zout en natzout. Strooibreedte traploos instelbaar van circa 1,5 tot 6,0 meter. Doseersysteem met transportband en doseerwals Hydraulisch aangedreven strooischijf. Snelheidsafhankelijke dosering met automatische compensatie van rijsnelheid Elektronische bediening vanuit de cabine met instelbare strooibreedte en strooidosis. Bunker vervaardigd uit corrosiebestendig materiaal (RVS of gelijkwaardig) Strooischijf uitgevoerd in RVS Voorzien van verlichting conform de geldende verkeersvoorschriften Voorzien van afdekzeil/deksel, veiligheidsrooster
A13: Totaal excl. BTW | B13: 42000 | C13: 42000
A15: Contractgevens
A16: Looptijd (maanden) | B16: 96 | C16: 96
A17: Jaarkilometrage (km) | B17: N.v.t. | C17: N.v.t.
A18: IRS rente (hiervan dient Inschrijver uit te gaan voor de calculatie) | B18: 0.035
A19: Renteopslag in percentage. Wordt gevuld vanuit tabblad "Prijzenblad overige zaken" | B19: ='Prijsinvulf overige zaken'!C4 -> 0
A20: Totale calculatierente | B20: =B18+B19 -> 0.035
A21: Restwaarde bij einde looptijd excl. BTW | B21: 4000 | C21: 4000
A22: Reparatie en onderhoud (€/jaar) | B22: 0 | C22: 0
A23: Banden (€/jaar) | B23: 0 | C23: 0
A25: Prijzen per maand excl. BTW
A26: Afschrijvingskosten | B26: 0 | C26: 0
A27: Rentekosten | B27: 0 | C27: 0
A28: Reparatie en Onderhoud. Dit dient een realistische opgave te zijn. | B28: 0 | C28: 0
A29: Banden. Dit dient een realistische opgave te zijn. | B29: 0 | C29: 0
A30: WA+Casco verzekering | B30: 0 | C30: 0
A31: SVI -verzekering | B31: N.v.t. | C31: N.v.t.
A32: Motorrijtuigenbelasting (MRB) | B32: N.v.t. | C32: N.v.t.
A33: Administratiekosten en beheersfee | B33: 0 | C33: 0
A34: Overige kosten / kortingen | B34: 0 | C34: 0
A35: Specificatie overige kosten/kortingen (zover van toepassing): | B35: BESCHRIJVING
A36: Maandprijs totaal excl. BTW | B36: =SUM(B26:B34) -> 0 | C36: =SUM(C26:C34) -> 0
A38: Weging
A39: Gezien de contractvorm (ROB en Restwaarde risico bij opdrachtgever) worden alleen de componenten waarbij het risico bij de opdrachtnemer ligt meegewogen in de gunning. Dit betreft de volgende componenten: - Rentekosten - WA+Casco verzekering - Administratiekosten en beheersfee - Overige kosten (indien van toepassing).
A41: Gewogen prijs totaal excl. BTW | B41: =B33+B34+B27+B30 -> 0 | C41: =C33+C34+C27+C30 -> 0
A43: * Inschrijver dient voor de bepaling van de maandprijs uit te gaan van de bovenstaande fabrieksspecificaties, gewichten en prijzen. De werkelijke maandprijs op het moment van bestelling dient gebaseerd te worden op de actuele fabrieksspecificaties, gewichten en prijzen ten tijde van het moment van bestelling. * De genoemde merken en typen zijn indicatief. De keuze voor merk en type zal gemaakt worden op het moment van de daadwerkelijke bestelling. * Alle door inschrijver verstrekte tarieven en prijzen zijn marktconform en realistisch. Indien blijkt dat er niet marktconform of realistisch wordt aangeboden, is Opdrachtgever gerechtigd de inschrijving ongeldig te verklaren. * De prijzen zoals ingevuld op het Prijzeninvulformulier zijn inclusief alle kosten voortkomend uit het Programma van eisen en Kwalitatieve gunningscriteria.

Sheet 4. Sneeuwschuif
A1: Categorie/segment | B1: Onderdeel 4. Sneeuwschuif
A2: De Inschrijver hoeft alleen de gele velden in te vullen. Dit formulier wordt verder automatisch gevuld.
A3: Objectgegevens | B3: Sneeuwschuif 1 | C3: Sneeuwschuif 2
A4: Merk | B4: Nido | C4: Villeton
A5: Model | B5: SNK | C5: LR
A6: Type | B6: 27 | C6: 2800
A7: Soort materieel | B7: vrachtwagenploeg | C7: vrachtwagenploeg
A8: Aandrijving | B8: 24 Volt | C8: 24 volt
A9: Gewicht (kg) | B9: 700 | C9: 500
A11: Prijzen
A12: Omschrijving | B12: Werkbreedte: 2.400 mm Recht sneeuwschuifblad voor sneeuwruimen op wegen. Hydraulische hoekverstelling naar links en rechts. Kunststof schuifblad met verwisselbare slijtstrip van rubber Veerbeveiligde slijtstrip (obstakelbeveiliging) met afzonderlijk geveerde segmenten. Voorzien van verstelbare glijschoenen. Markeringsstokken en markeringsverlichting. Corrosiebestendige afwerking door poedercoating of gelijkwaardig CE-gemarkeerd en geleverd met Nederlandstalige gebruikershandleiding | C12: Werkbreedte: 2.425 mm Recht sneeuwschuifblad voor sneeuwruimen op wegen. Hydraulische hoekverstelling naar links en rechts. Kunststof schuifblad met verwisselbare slijtstrip van rubber. Voorzien van verstelbare glijschoenen. Markeringsstokken en markeringsverlichting. Corrosiebestendige afwerking door poedercoating of gelijkwaardig CE-gemarkeerd en geleverd met Nederlandstalige gebruikershandleiding.
A13: Totaal excl. BTW | B13: 14000 | C13: 14000
A15: Contractgevens
A16: Looptijd (maanden) | B16: 96 | C16: 96
A17: Jaarkilometrage (km) | B17: N.v.t. | C17: N.v.t.
A18: IRS rente (hiervan dient Inschrijver uit te gaan voor de calculatie) | B18: 0.035
A19: Renteopslag in percentage. Wordt gevuld vanuit tabblad "Prijzenblad overige zaken" | B19: ='Prijsinvulf overige zaken'!C4 -> 0
A20: Totale calculatierente | B20: =B18+B19 -> 0.035
A21: Restwaarde bij einde looptijd excl. BTW | B21: 2000 | C21: 2000
A22: Reparatie en onderhoud (€/jaar) | B22: 0 | C22: 0
A24: Prijzen per maand excl. BTW
A25: Afschrijvingskosten | B25: 0 | C25: 0
A26: Rentekosten | B26: 0 | C26: 0
A27: Reparatie en Onderhoud. Dit dient een realistische opgave te zijn. | B27: 0 | C27: 0
A28: Banden. Dit dient een realistische opgave te zijn. | B28: N.v.t. | C28: N.v.t.
A29: WA+Casco verzekering | B29: N.v.t. | C29: N.v.t.
A30: SVI -verzekering | B30: N.v.t. | C30: N.v.t.
A31: Motorrijtuigenbelasting (MRB) | B31: N.v.t. | C31: N.v.t.
A32: Administratiekosten en beheersfee | B32: 0 | C32: 0
A33: Overige kosten / kortingen | B33: 0 | C33: 0
A34: Specificatie overige kosten/kortingen (zover van toepassing): | B34: BESCHRIJVING
A35: Maandprijs totaal excl. BTW | B35: =SUM(B25:B33) -> 0 | C35: =SUM(C25:C33) -> 0
A37: Weging
A38: Gezien de contractvorm (ROB en Restwaarde risico bij opdrachtgever) worden alleen de componenten waarbij het risico bij de opdrachtnemer ligt meegewogen in de gunning. Dit betreft de volgende componenten: - Rentekosten - Administratiekosten en beheersfee - Overige kosten (indien van toepassing).
A40: Gewogen prijs totaal excl. BTW | B40: =B32+B33+B26 -> 0 | C40: =C32+C33+C26 -> 0
A42: * Inschrijver dient voor de bepaling van de maandprijs uit te gaan van de bovenstaande fabrieksspecificaties, gewichten en prijzen. De werkelijke maandprijs op het moment van bestelling dient gebaseerd te worden op de actuele fabrieksspecificaties, gewichten en prijzen ten tijde van het moment van bestelling. * De genoemde merken en typen zijn indicatief. De keuze voor merk en type zal gemaakt worden op het moment van de daadwerkelijke bestelling. * Alle door inschrijver verstrekte tarieven en prijzen zijn marktconform en realistisch. Indien blijkt dat er niet marktconform of realistisch wordt aangeboden, is Opdrachtgever gerechtigd de inschrijving ongeldig te verklaren. * De prijzen zoals ingevuld op het Prijzeninvulformulier zijn inclusief alle kosten voortkomend uit het Programma van eisen en Kwalitatieve gunningscriteria.

Sheet 5. Compacte tractor
A1: Categorie/segment | B1: Onderdeel 5. Compacte tractor
A2: De Inschrijver hoeft alleen de gele velden in te vullen. Dit formulier wordt verder automatisch gevuld.
A3: Objectgegevens | B3: Tractor 1 | C3: Tractor 2
A4: Merk | B4: MC Cormick | C4: Fendt
A5: Model | B5: X4,090 | C5: 209
A6: Type | B6: F 90 pk | C6: F Vario
A7: Soort materieel | B7: 4 WD tractor | C7: 4 WD tractor
A8: Aandrijving | B8: Diesel | C8: Diesel
A9: Gewicht (kg) | B9: 2800 | C9: 2795
A11: Prijzen
A12: Omschrijving | B12: Motortype Deutz TCD 2.9 L4 HT, 4-cilinder turbodiesel Cilinderinhoud 2,9 liter Maximaal vermogen 66 kW (90 pk) Maximaal koppel 378 Nm bij 1.600 t/min Emissienorm Stage V Transmissie 12 vooruit / 12 achteruit mechanisch Maximumsnelheid 40 km/u Aandrijving 4WD Achterhef Categorie II Hydraulische ventielen 1 dubbelwerkend Leeggewicht ca. 2.800 kg Transportbreedte 1.855 m Voorbanden 7.50 R18 Achterbanden 13.6 R28 PTO speed 540/1000 rpm Trailer rem Lucht Gazon banden Zwaailamp en werklichten | C12: Motor 3-cilinder AGCO Power diesel Cilinderinhoud 3,3 liter Max. vermogen 71 kW (96,5 pk) Max. koppel 389 Nm bij 1.600 t/min Transmissie Traploze Vario (CVT) Aandrijving 4WD Topsnelheid 40 km/u Eigen gewicht ca. 2.940 kg Lengte 3,71 m Breedte 1,37 m Hoogte 2,46 m Hefcategorie Cat. II Cabine Standaard stoel Achterhef Op-neer-zwevend met positie controle Koppeling hef CAT.II PTO speed 540/1000 rpm Remtype Schijfremmen, nat Trailer rem Lucht Gazon banden Zwaailamp en werklichten
A13: Totaal excl. BTW | B13: 81000 | C13: 125000
A15: Contractgevens
A16: Looptijd (maanden) | B16: 96 | C16: 96
A17: Jaaruren | B17: 800 | C17: 800
A18: IRS rente (hiervan dient Inschrijver uit te gaan voor de calculatie) | B18: 0.035
A19: Renteopslag in percentage. Wordt gevuld vanuit tabblad "Prijzenblad overige zaken" | B19: ='Prijsinvulf overige zaken'!C4 -> 0
A20: Totale calculatierente | B20: =B18+B19 -> 0.035
A21: Restwaarde bij einde looptijd excl. BTW | B21: 15000 | C21: 35000
A22: Reparatie en onderhoud (€/uur) | B22: 0 | C22: 0
A23: Banden (€/uur) | B23: 0 | C23: 0
A25: Prijzen per maand excl. BTW
A26: Afschrijvingskosten | B26: 0 | C26: 0
A27: Rentekosten | B27: 0 | C27: 0
A28: Reparatie en Onderhoud. Dit dient een realistische opgave te zijn. | B28: 0 | C28: 0
A29: Banden. Dit dient een realistische opgave te zijn. | B29: 0 | C29: 0
A30: WA+Casco verzekering | B30: 0 | C30: 0
A31: SVI -verzekering | B31: 0 | C31: 0
A32: Motorrijtuigenbelasting (MRB) | B32: N.v.t. | C32: N.v.t.
A33: Administratiekosten en beheersfee | B33: 0 | C33: 0
A34: Overige kosten / kortingen | B34: 0 | C34: 0
A35: Specificatie overige kosten/kortingen (zover van toepassing): | B35: BESCHRIJVING
A36: Maandprijs totaal excl. BTW | B36: =SUM(B26:B34) -> 0 | C36: =SUM(C26:C34) -> 0
A38: Weging
A39: Gezien de contractvorm (ROB en Restwaarde risico bij opdrachtgever) worden alleen de componenten waarbij het risico bij de opdrachtnemer ligt meegewogen in de gunning. Dit betreft de volgende componenten: - Rentekosten - WA+Casco verzekering - Administratiekosten en beheersfee - Overige kosten (indien van toepassing).
A41: Gewogen prijs totaal excl. BTW | B41: =B33+B34+B27+B30+B31 -> 0 | C41: =C33+C34+C27+C30+C31 -> 0
A43: * Inschrijver dient voor de bepaling van de maandprijs uit te gaan van de bovenstaande fabrieksspecificaties, gewichten en prijzen. De werkelijke maandprijs op het moment van bestelling dient gebaseerd te worden op de actuele fabrieksspecificaties, gewichten en prijzen ten tijde van het moment van bestelling. * De genoemde merken en typen zijn indicatief. De keuze voor merk en type zal gemaakt worden op het moment van de daadwerkelijke bestelling. * Alle door inschrijver verstrekte tarieven en prijzen zijn marktconform en realistisch. Indien blijkt dat er niet marktconform of realistisch wordt aangeboden, is Opdrachtgever gerechtigd de inschrijving ongeldig te verklaren. * De prijzen zoals ingevuld op het Prijzeninvulformulier zijn inclusief alle kosten voortkomend uit het Programma van eisen en Kwalitatieve gunningscriteria.

Sheet 6. Middelgrote tractor
A1: Categorie/segment | B1: Onderdeel 6. Middelgrote tractor
A2: De Inschrijver hoeft alleen de gele velden in te vullen. Dit formulier wordt verder automatisch gevuld.
A3: Objectgegevens | B3: Tractor 1 | C3: Tractor 2
A4: Merk | B4: MC Cormick | C4: Fendt
A5: Model | B5: X5.120 | C5: 211
A6: Type | B6: 114 pk | C6: Vario
A7: Soort materieel | B7: 4 WD tractor | C7: 4 WD tractor
A8: Aandrijving | B8: Diesel | C8: Diesel
A9: Gewicht (kg) | B9: 4650 | C9: 4300
A11: Prijzen
A12: Omschrijving | B12: Motor FPT F36, 4-cilinder turbodiesel Cilinderinhoud 3,6 liter Max. vermogen 114 pk (84 kW) Max. koppel 460 Nm bij 1.400 t/min Transmissie 12/12 synchro Topsnelheid 40 km/u Aandrijving 4WD Eigen gewicht ca. 4.650 kg Hydrauliek Tot ca. 82 l/min (driepompsysteem) Hefvermogen achter Tot ongeveer 4.500 kg Zwaailamp Gazon banden | C12: Motor AGCO Power 3-cilinder turbodiesel Cilinderinhoud 3,3 liter Nominaal vermogen 99 pk (74 kW) Max. vermogen 110–114 pk (82–85 kW), Max. koppel ca. 458 Nm bij 1.600 t/min Transmissie Traploze Fendt Vario (CVT) Aandrijving 4WD Topsnelheid 40 km/u Hydrauliekopbrengst 48 l/min Hefvermogen achter ca. 4.200 kg Eigen gewicht ca. 4.300 kg Brandstoftank 125 liter Wielbasis 2,29 m Zwaailamp Gazon banden
A13: Totaal excl. BTW | B13: 81000 | C13: 125000
A15: Contractgevens
A16: Looptijd (maanden) | B16: 96 | C16: 96
A17: Jaaruren | B17: 800 | C17: 800
A18: IRS rente (hiervan dient Inschrijver uit te gaan voor de calculatie) | B18: 0.035
A19: Renteopslag in percentage. Wordt gevuld vanuit tabblad "Prijzenblad overige zaken" | B19: ='Prijsinvulf overige zaken'!C4 -> 0
A20: Totale calculatierente | B20: =B18+B19 -> 0.035
A21: Restwaarde bij einde looptijd excl. BTW | B21: 12500 | C21: 40000
A22: Reparatie en onderhoud (€/uur) | B22: 0 | C22: 0
A23: Banden (€/uur) | B23: 0 | C23: 0
A25: Prijzen per maand excl. BTW
A26: Afschrijvingskosten | B26: 0 | C26: 0
A27: Rentekosten | B27: 0 | C27: 0
A28: Reparatie en Onderhoud. Dit dient een realistische opgave te zijn. | B28: 0 | C28: 0
A29: Banden. Dit dient een realistische opgave te zijn. | B29: 0 | C29: 0
A30: WA+Casco verzekering | B30: 0 | C30: 0
A31: SVI -verzekering | B31: 0 | C31: 0
A32: Motorrijtuigenbelasting (MRB) | B32: N.v.t. | C32: N.v.t.
A33: Administratiekosten en beheersfee | B33: 0 | C33: 0
A34: Overige kosten / kortingen | B34: 0 | C34: 0
A35: Specificatie overige kosten/kortingen (zover van toepassing): | B35: BESCHRIJVING
A36: Maandprijs totaal excl. BTW | B36: =SUM(B26:B34) -> 0 | C36: =SUM(C26:C34) -> 0
A38: Weging
A39: Gezien de contractvorm (ROB en Restwaarde risico bij opdrachtgever) worden alleen de componenten waarbij het risico bij de opdrachtnemer ligt meegewogen in de gunning. Dit betreft de volgende componenten: - Rentekosten - WA+Casco verzekering - Administratiekosten en beheersfee - Overige kosten (indien van toepassing).
A41: Gewogen prijs totaal excl. BTW | B41: =B33+B34+B27+B30+B31 -> 0 | C41: =C33+C34+C27+C30+C31 -> 0
A43: * Inschrijver dient voor de bepaling van de maandprijs uit te gaan van de bovenstaande fabrieksspecificaties, gewichten en prijzen. De werkelijke maandprijs op het moment van bestelling dient gebaseerd te worden op de actuele fabrieksspecificaties, gewichten en prijzen ten tijde van het moment van bestelling. * De genoemde merken en typen zijn indicatief. De keuze voor merk en type zal gemaakt worden op het moment van de daadwerkelijke bestelling. * Alle door inschrijver verstrekte tarieven en prijzen zijn marktconform en realistisch. Indien blijkt dat er niet marktconform of realistisch wordt aangeboden, is Opdrachtgever gerechtigd de inschrijving ongeldig te verklaren. * De prijzen zoals ingevuld op het Prijzeninvulformulier zijn inclusief alle kosten voortkomend uit het Programma van eisen en Kwalitatieve gunningscriteria.

Sheet 7. Vorkheftruck
A1: Categorie/segment | B1: Onderdeel 7. Vorkheftruck
A2: De Inschrijver hoeft alleen de gele velden in te vullen. Dit formulier wordt verder automatisch gevuld.
A3: Objectgegevens | B3: Heftruck 1 | C3: Heftruck 2
A4: Merk | B4: Yale | C4: Still
A5: Model | B5: ERP | C5: RX60
A6: Type | B6: 25UX(L) | C6: 25
A7: Soort materieel | B7: heftruck | C7: heftruck
A8: Aandrijving | B8: elektrisch | C8: elektrisch
A9: Gewicht (kg) | B9: 4226 | C9: 3500
A11: Prijzen
A12: Omschrijving | B12: Ergonomisch chauffeurscompartiment Hefhoogte tot ca. 6 m. 4 wiels Zwaailamp | C12: Ergonomisch chauffeurscompartiment Hefhoogte tot ca. 6 m. 4 wiels Zwaailamp
A13: Totaal excl. BTW | B13: 60000 | C13: 63000
A15: Contractgevens
A16: Looptijd (maanden) | B16: 96 | C16: 96
A17: Jaaruren | B17: 200 | C17: 200
A18: IRS rente (hiervan dient Inschrijver uit te gaan voor de calculatie) | B18: 0.035
A19: Renteopslag in percentage. Wordt gevuld vanuit tabblad "Prijzenblad overige zaken" | B19: ='Prijsinvulf overige zaken'!C4 -> 0
A20: Totale calculatierente | B20: =B18+B19 -> 0.035
A21: Restwaarde bij einde looptijd excl. BTW | B21: 7000 | C21: 7000
A22: Reparatie en onderhoud (€/uur) | B22: 0 | C22: 0
A23: Banden (€/uur) | B23: 0 | C23: 0
A25: Prijzen per maand excl. BTW
A26: Afschrijvingskosten | B26: 0 | C26: 0
A27: Rentekosten | B27: 0 | C27: 0
A28: Reparatie en Onderhoud. Dit dient een realistische opgave te zijn. | B28: 0 | C28: 0
A29: Banden. Dit dient een realistische opgave te zijn. | B29: 0 | C29: 0
A30: WA+Casco verzekering | B30: 0 | C30: 0
A31: SVI -verzekering | B31: N.v.t. | C31: N.v.t.
A32: Motorrijtuigenbelasting (MRB) | B32: N.v.t. | C32: N.v.t.
A33: Administratiekosten en beheersfee | B33: 0 | C33: 0
A34: Overige kosten / kortingen | B34: 0 | C34: 0
A35: Specificatie overige kosten/kortingen (zover van toepassing): | B35: BESCHRIJVING
A36: Maandprijs totaal excl. BTW | B36: =SUM(B26:B34) -> 0 | C36: =SUM(C26:C34) -> 0
A38: Weging
A39: Gezien de contractvorm (ROB en Restwaarde risico bij opdrachtgever) worden alleen de componenten waarbij het risico bij de opdrachtnemer ligt meegewogen in de gunning. Dit betreft de volgende componenten: - Rentekosten - WA+Casco verzekering - Administratiekosten en beheersfee - Overige kosten (indien van toepassing).
A41: Gewogen prijs totaal excl. BTW | B41: =B33+B34+B27+B30 -> 0 | C41: =C33+C34+C27+C30 -> 0
A43: * Inschrijver dient voor de bepaling van de maandprijs uit te gaan van de bovenstaande fabrieksspecificaties, gewichten en prijzen. De werkelijke maandprijs op het moment van bestelling dient gebaseerd te worden op de actuele fabrieksspecificaties, gewichten en prijzen ten tijde van het moment van bestelling. * De genoemde merken en typen zijn indicatief. De keuze voor merk en type zal gemaakt worden op het moment van de daadwerkelijke bestelling. * Alle door inschrijver verstrekte tarieven en prijzen zijn marktconform en realistisch. Indien blijkt dat er niet marktconform of realistisch wordt aangeboden, is Opdrachtgever gerechtigd de inschrijving ongeldig te verklaren. * De prijzen zoals ingevuld op het Prijzeninvulformulier zijn inclusief alle kosten voortkomend uit het Programma van eisen en Kwalitatieve gunningscriteria.

Sheet 8. Grashopper
A1: Categorie/segment | B1: Onderdeel 8. Grashopper
A2: De Inschrijver hoeft alleen de gele velden in te vullen. Dit formulier wordt verder automatisch gevuld.
A3: Objectgegevens | B3: Grashopper 1 | C3: Grashopper 2
A4: Merk | B4: Peruzza | C4: Amazone
A5: Model | B5: Panther | C5: Grasshopper
A6: Type | B6: Multifit 2000 | C6: GH-S1500
A7: Soort materieel | B7: Klepelmaaier met opvang | C7: Klepelmaaier met opvang
A8: Aandrijving | B8: Aftakas | C8: Aftakas
A9: Gewicht (kg)
A11: Prijzen
A12: Omschrijving | B12: Getrokken klepelmaaier met opvang (hooglossend) Werkbreedte 1.955 mm Benodigd trekkervermogen 40–70 pk (30–52 kW) Aftakas 540 t/min Opvangbak 2.100 liter Hooglossen 200–240 cm hydraulisch Gewicht 1.120 kg Maaihoogte 35–90 mm, traploos instelbaar Rotor 64 Y-/peddelmessen of 64 klepels (afhankelijk van uitvoering) Achterrol Zelfreinigende aandrukrol Voorwielen Zwenkbaar en in hoogte verstelbaar Transport Hydraulisch bediende achterwielen met trekdissel Maximale vegetatie Gras, bladeren en struiken tot ca. 3 cm diameter Afmetingen (L × B × H) 247 × 193 × 160 cm | C12: Getrokken klepelmaaier met opvang (dissel) Aankoppeling: Dissel voor boventrekhaak tractor Aandrijving: PTO (aftakas 540 t/min) Werkbreedte: 1,50 m Maaisysteem: SmartCut rotor Messen: 2 rijen Y-klepels + 2 rijen ventilatiemessen Rotor: Versterkt, bestand tegen vreemde voorwerpen Opvangbak: Grote capaciteit ± 2500 L Lediging: Hydraulisch high dump systeem Loshoogte: Tot ca. 2,30 m Chassis: Onafhankelijk, volgt terreincontouren Onderstel: Dubbele achterwielen + steunwielen/rol Snelheid: Tot 30 km/u transport Hydrauliek: Min. 2 enkelwerkend + 1 dubbelwerkend ventiel vereist Extra: Wegverlichting, fijn rooster, steenbeveiliging, cardan met vrijloop
A13: Totaal excl. BTW | B13: 22000 | C13: 32500
A15: Contractgevens
A16: Looptijd (maanden) | B16: 96 | C16: 96
A17: Jaaruren | B17: 250 | C17: 250
A18: IRS rente (hiervan dient Inschrijver uit te gaan voor de calculatie) | B18: 0.035
A19: Renteopslag in percentage. Wordt gevuld vanuit tabblad "Prijzenblad overige zaken" | B19: ='Prijsinvulf overige zaken'!C4 -> 0
A20: Totale calculatierente | B20: =B18+B19 -> 0.035
A21: Restwaarde bij einde looptijd excl. BTW | B21: 2500 | C21: 3500
A22: Reparatie en onderhoud (€/uur) | B22: 0 | C22: 0
A23: Banden (€/uur) | B23: 0 | C23: 0
A25: Prijzen per maand excl. BTW
A26: Afschrijvingskosten | B26: 0 | C26: 0
A27: Rentekosten | B27: 0 | C27: 0
A28: Reparatie en Onderhoud. Dit dient een realistische opgave te zijn. | B28: 0 | C28: 0
A29: Banden. Dit dient een realistische opgave te zijn. | B29: N.v.t. | C29: N.v.t.
A30: WA+Casco verzekering | B30: 0 | C30: 0
A31: SVI -verzekering | B31: N.v.t. | C31: N.v.t.
A32: Motorrijtuigenbelasting (MRB) | B32: N.v.t. | C32: N.v.t.
A33: Administratiekosten en beheersfee | B33: 0 | C33: 0
A34: Overige kosten / kortingen | B34: 0 | C34: 0
A35: Specificatie overige kosten/kortingen (zover van toepassing): | B35: BESCHRIJVING
A36: Maandprijs totaal excl. BTW | B36: =SUM(B26:B34) -> 0 | C36: =SUM(C26:C34) -> 0
A38: Weging
A39: Gezien de contractvorm (ROB en Restwaarde risico bij opdrachtgever) worden alleen de componenten waarbij het risico bij de opdrachtnemer ligt meegewogen in de gunning. Dit betreft de volgende componenten: - Rentekosten - WA+Casco verzekering - Administratiekosten en beheersfee - Overige kosten (indien van toepassing).
A41: Gewogen prijs totaal excl. BTW | B41: =B33+B34+B27+B30 -> 0 | C41: =C33+C34+C27+C30 -> 0
A43: * Inschrijver dient voor de bepaling van de maandprijs uit te gaan van de bovenstaande fabrieksspecificaties, gewichten en prijzen. De werkelijke maandprijs op het moment van bestelling dient gebaseerd te worden op de actuele fabrieksspecificaties, gewichten en prijzen ten tijde van het moment van bestelling. * De genoemde merken en typen zijn indicatief. De keuze voor merk en type zal gemaakt worden op het moment van de daadwerkelijke bestelling. * Alle door inschrijver verstrekte tarieven en prijzen zijn marktconform en realistisch. Indien blijkt dat er niet marktconform of realistisch wordt aangeboden, is Opdrachtgever gerechtigd de inschrijving ongeldig te verklaren. * De prijzen zoals ingevuld op het Prijzeninvulformulier zijn inclusief alle kosten voortkomend uit het Programma van eisen en Kwalitatieve gunningscriteria.

Sheet 9. Versnipperaar
A1: Categorie/segment | B1: Onderdeel 9. Versnipperaar
A2: De Inschrijver hoeft alleen de gele velden in te vullen. Dit formulier wordt verder automatisch gevuld.
A3: Objectgegevens | B3: Versnipperaar 1 | C3: Versnipperaar 2
A4: Merk | B4: Schliesing | C4: Van Daele
A5: Model | B5: 325 EX | C5: TV20-26P/H serie
A6: Type | B6: Aanhanger | C6: Aanhanger
A7: Soort materieel | B7: Versnipperaar | C7: Versnipperaar
A8: Aandrijving | B8: Diesel | C8: Aftakas
A9: Gewicht (kg)
A11: Prijzen
A12: Omschrijving | B12: Motor: Kubota 4-cilinder turbo diesel (Stage V) Vermogen: 33 kW (44,9 pk) Brandstof: Diesel Aandrijving snipperunit: Riemoverbrenging + hydrauliek voor invoerrollen Max. takdiameter: tot 20 cm Snippersysteem: Schijfsnipperaar Mesconfiguratie: 2 snijmessen (verstelbaar / naslijpbaar) Invoerbreedte: ± 240 mm Hydraulische invoerrollen: 2 stuks (PowerGrip) Instelbare invoersnelheid → snipperlengte 5–25 mm Automatische terugregeling bij overbelasting Tegenmes: hardmetaal Noodstopknop | C12: Type: Schijfversnipperaar (professioneel middenklasse) Aandrijving: Aftakas (PTO) tractor Capaciteit: tot Ø 200 mm takdiameter Snipperschijf: Ø 800 mm Messen: 2 hardmetalen messen Benodigd tractorvermogen: vanaf 55 pk Aftakastoerental: 1000 tpm Aftakas: met vrijloop Invoeropening: 260 × 200 mm Doorvoer rond hout: tot 200 mm Hydraulische invoerrollen met anti-stress systeem Trechterdiepte: ± 190 cm Uitwerpbuis: ± 2,5 m hoog, 300° draaibaar Anti-stress systeem (Secure Plus) Noodstopknoppen (meerdere) Elektrische bovenkapvergrendeling
A13: Totaal excl. BTW | B13: 69000 | C13: 52500
A15: Contractgevens
A16: Looptijd (maanden) | B16: 96 | C16: 96
A17: Jaaruren | B17: 200 | C17: 200
A18: IRS rente (hiervan dient Inschrijver uit te gaan voor de calculatie) | B18: 0.035
A19: Renteopslag in percentage. Wordt gevuld vanuit tabblad "Prijzenblad overige zaken" | B19: ='Prijsinvulf overige zaken'!C4 -> 0
A20: Totale calculatierente | B20: =B18+B19 -> 0.035
A21: Restwaarde bij einde looptijd excl. BTW | B21: 6000 | C21: 5000
A22: Reparatie en onderhoud (€/uur) | B22: 0 | C22: 0
A23: Banden (€/uur) | B23: 0 | C23: 0
A25: Prijzen per maand excl. BTW
A26: Afschrijvingskosten | B26: 0 | C26: 0
A27: Rentekosten | B27: 0 | C27: 0
A28: Reparatie en Onderhoud. Dit dient een realistische opgave te zijn. | B28: 0 | C28: 0
A29: Banden. Dit dient een realistische opgave te zijn. | B29: 0 | C29: 0
A30: WA+Casco verzekering | B30: 0 | C30: 0
A31: SVI -verzekering | B31: N.v.t. | C31: N.v.t.
A32: Motorrijtuigenbelasting (MRB) | B32: N.v.t. | C32: N.v.t.
A33: Administratiekosten en beheersfee | B33: 0 | C33: 0
A34: Overige kosten / kortingen | B34: 0 | C34: 0
A35: Specificatie overige kosten/kortingen (zover van toepassing): | B35: BESCHRIJVING
A36: Maandprijs totaal excl. BTW | B36: =SUM(B26:B34) -> 0 | C36: =SUM(C26:C34) -> 0
A38: Weging
A39: Gezien de contractvorm (ROB en Restwaarde risico bij opdrachtgever) worden alleen de componenten waarbij het risico bij de opdrachtnemer ligt meegewogen in de gunning. Dit betreft de volgende componenten: - Rentekosten - WA+Casco verzekering - Administratiekosten en beheersfee - Overige kosten (indien van toepassing).
A41: Gewogen prijs totaal excl. BTW | B41: =B33+B34+B27+B30 -> 0 | C41: =C33+C34+C27+C30 -> 0
A43: * Inschrijver dient voor de bepaling van de maandprijs uit te gaan van de bovenstaande fabrieksspecificaties, gewichten en prijzen. De werkelijke maandprijs op het moment van bestelling dient gebaseerd te worden op de actuele fabrieksspecificaties, gewichten en prijzen ten tijde van het moment van bestelling. * De genoemde merken en typen zijn indicatief. De keuze voor merk en type zal gemaakt worden op het moment van de daadwerkelijke bestelling. * Alle door inschrijver verstrekte tarieven en prijzen zijn marktconform en realistisch. Indien blijkt dat er niet marktconform of realistisch wordt aangeboden, is Opdrachtgever gerechtigd de inschrijving ongeldig te verklaren. * De prijzen zoals ingevuld op het Prijzeninvulformulier zijn inclusief alle kosten voortkomend uit het Programma van eisen en Kwalitatieve gunningscriteria.

Sheet Totalen
A1: Totalen aanbesteding "Operationele lease van speciale voertuigen en materieel"
A2: De inschrijver hoeft dit formulier niet in te vullen. Dit formulier wordt automatisch gevuld.
A3: ='1. Opzetstrooier compact'!$B$1 -> Onderdeel 1. Opzetstrooier compact
A4: Merk | B4: Model | C4: Type | D4: Maandprijs
A5: ='1. Opzetstrooier compact'!$B$4 -> Nido | B5: ='1. Opzetstrooier compact'!$B$5 -> Syntos | C5: ='1. Opzetstrooier compact'!$B$6 -> B08-24 | D5: ='1. Opzetstrooier compact'!$B$41 -> 0
A6: ='1. Opzetstrooier compact'!$C$4 -> Epoke | B6: ='1. Opzetstrooier compact'!$C$5 -> Igloo | C6: ='1. Opzetstrooier compact'!$C$6 -> S2700-R 800L | D6: ='1. Opzetstrooier compact'!$C$41 -> 0
D7: =AVERAGE(D5:D6) -> 0
A8: ='2. Opzetstrooier groot'!$B$1 -> Onderdeel 2. Opzetstrooier groot
A9: Merk | B9: Model | C9: Type | D9: Maandprijs
A10: ='2. Opzetstrooier groot'!$B$4 -> Nido | B10: ='2. Opzetstrooier groot'!$B$5 -> Stratos | C10: ='2. Opzetstrooier groot'!$B$6 -> B40-36 | D10: ='2. Opzetstrooier groot'!$B$41 -> 0
A11: ='2. Opzetstrooier groot'!$C$4 -> Epoke | B11: ='2. Opzetstrooier groot'!$C$5 -> SIRIUS AST | C11: ='2. Opzetstrooier groot'!$C$6 -> 4m3 vth | D11: ='2. Opzetstrooier groot'!$C$41 -> 0
D12: =AVERAGE(D10:D11) -> 0
A13: ='3. Winterdienst aanhanger'!$B$1 -> Onderdeel 3. Winterdienst aanhanger
A14: Merk | B14: Model | C14: Type | D14: Maandprijs
A15: ='3. Winterdienst aanhanger'!$B$4 -> Nido | B15: ='3. Winterdienst aanhanger'!$B$5 -> Stratos | C15: ='3. Winterdienst aanhanger'!$B$6 -> B08L-15 AWCLN-280 | D15: ='3. Winterdienst aanhanger'!$B$41 -> 0
A16: ='3. Winterdienst aanhanger'!$C$4 -> Epoke | B16: ='3. Winterdienst aanhanger'!$C$5 -> IGLOO S 2700 RDW | C16: ='3. Winterdienst aanhanger'!$C$6 -> IGLOO S 2700 RDW 800 liter | D16: ='3. Winterdienst aanhanger'!$C$41 -> 0
D17: =AVERAGE(D15:D16) -> 0
A18: ='4. Sneeuwschuif'!$B$1 -> Onderdeel 4. Sneeuwschuif
A19: Merk | B19: Model | C19: Type | D19: Maandprijs
A20: ='4. Sneeuwschuif'!$B$4 -> Nido | B20: ='4. Sneeuwschuif'!$B$5 -> SNK | C20: ='4. Sneeuwschuif'!$B$6 -> 27 | D20: ='4. Sneeuwschuif'!$B$40 -> 0
A21: ='4. Sneeuwschuif'!$C$4 -> Villeton | B21: ='4. Sneeuwschuif'!$C$5 -> LR | C21: ='4. Sneeuwschuif'!$C$6 -> 2800 | D21: ='4. Sneeuwschuif'!$C$40 -> 0
D22: =AVERAGE(D20:D21) -> 0
A23: ='5. Compacte tractor'!$B$1 -> Onderdeel 5. Compacte tractor
A24: Merk | B24: Model | C24: Type | D24: Maandprijs
A25: ='5. Compacte tractor'!$B$4 -> MC Cormick | B25: ='5. Compacte tractor'!$B$5 -> X4,090 | C25: ='5. Compacte tractor'!$B$6 -> F 90 pk | D25: ='5. Compacte tractor'!$B$41 -> 0
A26: ='5. Compacte tractor'!$C$4 -> Fendt | B26: ='5. Compacte tractor'!$C$5 -> 209 | C26: ='5. Compacte tractor'!$C$6 -> F Vario | D26: ='5. Compacte tractor'!$C$41 -> 0
D27: =AVERAGE(D25:D26) -> 0
A28: ='6. Middelgrote tractor'!$B$1 -> Onderdeel 6. Middelgrote tractor
A29: Merk | B29: Model | C29: Type | D29: Maandprijs
A30: ='6. Middelgrote tractor'!$B$4 -> MC Cormick | B30: ='6. Middelgrote tractor'!$B$5 -> X5.120 | C30: ='6. Middelgrote tractor'!$B$6 -> 114 pk | D30: ='6. Middelgrote tractor'!$B$41 -> 0
A31: ='6. Middelgrote tractor'!$C$4 -> Fendt | B31: ='6. Middelgrote tractor'!$C$5 -> 211 | C31: ='6. Middelgrote tractor'!$C$6 -> Vario | D31: ='6. Middelgrote tractor'!$C$41 -> 0
D32: =AVERAGE(D30:D31) -> 0
A33: ='7. Vorkheftruck'!$B$1 -> Onderdeel 7. Vorkheftruck
A34: Merk | B34: Model | C34: Type | D34: Maandprijs
A35: ='7. Vorkheftruck'!$B$4 -> Yale | B35: ='7. Vorkheftruck'!$B$5 -> ERP | C35: ='7. Vorkheftruck'!$B$6 -> 25UX(L) | D35: ='7. Vorkheftruck'!$B$41 -> 0
A36: ='7. Vorkheftruck'!$C$4 -> Still | B36: ='7. Vorkheftruck'!$C$5 -> RX60 | C36: ='7. Vorkheftruck'!$C$6 -> 25 | D36: ='7. Vorkheftruck'!$C$41 -> 0
D37: =AVERAGE(D35:D36) -> 0
A38: ='8. Grashopper'!$B$1 -> Onderdeel 8. Grashopper
A39: Merk | B39: Model | C39: Type | D39: Maandprijs
A40: ='8. Grashopper'!$B$4 -> Peruzza | B40: ='8. Grashopper'!$B$5 -> Panther | C40: ='8. Grashopper'!$B$6 -> Multifit 2000 | D40: ='8. Grashopper'!$B$41 -> 0
...
