Workbook

Sheet Rekenvoorbeeld
B1: Bijlage G Rekenvoorbeeld gunningsmodel
B3: Scores per gunningscriterium
B4: Nr. | C4: Gunningscriterium | D4: Maximale score | E4: Score
B5: ='Scores en wegingen'!B11 -> G1 | C5: ='Scores en wegingen'!C11 -> Vervoersprestatie | D5: ='Scores en wegingen'!H11 -> 46 | E5: =SUM(E6:E10) -> 5.25
B6: ='Scores en wegingen'!B12 -> G1.1 | C6: ='Scores en wegingen'!C12 -> Vervoeraanbod DRK | D6: ='Scores en wegingen'!H12 -> 27 | E6: =E47 -> 0
B7: ='Scores en wegingen'!B13 -> G1.2 | C7: ='Scores en wegingen'!C13 -> Punctualiteit | D7: ='Scores en wegingen'!H13 -> 5 | E7: =E59 -> 1.25
B8: ='Scores en wegingen'!B14 -> G1.3 | C8: ='Scores en wegingen'!C14 -> (Rit)Uitval | D8: ='Scores en wegingen'!H14 -> 6 | E8: =E71 -> 0
B9: ='Scores en wegingen'!B15 -> G1.4 | C9: ='Scores en wegingen'!C15 -> Omvang treinvloot | D9: ='Scores en wegingen'!H15 -> 8 | E9: =E83 -> 4
B11: ='Scores en wegingen'!B17 -> G2 | C11: ='Scores en wegingen'!C17 -> Gebruiksgemak / comfort | D11: ='Scores en wegingen'!H17 -> 17 | E11: =SUM(E12:E16) -> 5.25
B12: ='Scores en wegingen'!B18 -> G2.1 | C12: ='Scores en wegingen'!C18 -> Aantal zitplaatsen treinvloot | D12: ='Scores en wegingen'!H18 -> 10 | E12: =E96 -> 3.75
B13: ='Scores en wegingen'!B19 -> G2.2 | C13: ='Scores en wegingen'!C19 -> Beschikbaarheid stilte of werkcoupe | D13: ='Scores en wegingen'!H19 -> 2 | E13: =E108 -> 0
B14: ='Scores en wegingen'!B20 -> G2.3 | C14: ='Scores en wegingen'!C20 -> Beschikbaarheid stroomvoorziening | D14: ='Scores en wegingen'!H20 -> 3 | E14: =E120 -> 1.5
B15: ='Scores en wegingen'!B21 -> G2.4 | C15: ='Scores en wegingen'!C21 -> Kwaliteit reisinformatie in voertuig | D15: ='Scores en wegingen'!H21 -> 2 | E15: =E132 -> 0
B17: ='Scores en wegingen'!B23 -> G3 | C17: ='Scores en wegingen'!C23 -> Beleving / toegevoegde waarde | D17: ='Scores en wegingen'!H23 -> 6 | E17: =SUM(E18:E19) -> 1.1538462
B18: ='Scores en wegingen'!B24 -> G3.1 | C18: ='Scores en wegingen'!C24 -> Reinheid interieur | D18: ='Scores en wegingen'!H24 -> 6 | E18: =E145 -> 1.1538462
B20: ='Scores en wegingen'!B26 -> G4 | C20: ='Scores en wegingen'!C26 -> Kwaliteitsplan | D20: ='Scores en wegingen'!H26 -> 23 | E20: =SUM(E21:E23) -> 20.75
B21: ='Scores en wegingen'!B27 -> G4.1 | C21: ='Scores en wegingen'!C27 -> Kwaliteit van de uitvoering | D21: ='Scores en wegingen'!H27 -> 9 | E21: =IF(D21*E32=0,"Ongeldig",D21*E32) -> 6.75
B22: ='Scores en wegingen'!B28 -> G4.2 | C22: ='Scores en wegingen'!C28 -> Kwaliteit van het materieel | D22: ='Scores en wegingen'!H28 -> 14 | E22: =IF(D22*E33=0,"Ongeldig",D22*E33) -> 14
B24: ='Scores en wegingen'!B30 -> G5 | C24: Prijs | D24: ='Scores en wegingen'!H30 -> 8 | E24: =SUM(E25:E26) -> 4
B25: ='Scores en wegingen'!B31 -> G5.1 | C25: ='Scores en wegingen'!C31 -> Prijs | D25: ='Scores en wegingen'!H31 -> 8 | E25: =E157 -> 4
C27: Totaal aantal punten | D27: =D5+D11+D17+D20+D24 -> 100 | E27: =_xlfn.XLOOKUP("ongeldig",E5:E26,E5:E26,ROUND(E24+E20+E17+E11+E5,2)) -> 36.4
B29: Beoordeling kwalitatieve aspecten
B32: G.4.1 | C32: =C21 -> Kwaliteit van de uitvoering | D32: Goed | E32: =VLOOKUP(D32,'Scores en wegingen'!$B$39:$H$43,7,FALSE) -> 0.75
B33: G.4.2 | C33: =C22 -> Kwaliteit van het materieel | D33: Zeer goed | E33: =VLOOKUP(D33,'Scores en wegingen'!$B$39:$H$43,7,FALSE) -> 1
B36: Beoordeling kwantitatieve aspecten
B38: =B6 -> G1.1 | C38: =C6 -> Vervoeraanbod DRK
B40: Toelichting | D40: Berekening
B41: De berekening van de score op G1.1 volgt de formule zoals weergegeven in het Beschrijvend document. | D41: Maximum | E41: ='Scores en wegingen'!D12 -> 1450000
D42: Miniumum | E42: ='Scores en wegingen'!E12 -> 1300000
D43: Maximale punten | E43: ='Scores en wegingen'!H12 -> 27
D45: Inschrijving | E45: 1300000
D47: Punten | E47: =IF(E45>E41,E43,IF(AND(E45>=E42,E45<=E41),100%*SQRT((E45-E42)/(E41-E42))*E43,"ongeldig")) -> 0
B50: ='Scores en wegingen'!B13 -> G1.2 | C50: ='Scores en wegingen'!C13 -> Punctualiteit
B52: Toelichting | D52: Berekening
B53: De berekening van de score op G1.2 volgt de formule zoals weergegeven in het Beschrijvend document. | D53: Maximum | E53: ='Scores en wegingen'!D13 -> 0.97
D54: Minimum | E54: ='Scores en wegingen'!E13 -> 0.93
D55: Maximale punten | E55: ='Scores en wegingen'!H13 -> 5
D57: Inschrijving | E57: 0.94
D59: Punten | E59: =IF(E57>E53,E55,IF(AND(E57>=E54,E57<=E53),E55/(E53-E54)*(E57-E54),"ongeldig")) -> 1.25
B62: ='Scores en wegingen'!B14 -> G1.3 | C62: ='Scores en wegingen'!C14 -> (Rit)Uitval
B64: Samenvattende toelichting | D64: Berekening
B65: De berekening van de score op G1.3 volgt de formule zoals weergegeven in het Beschrijvend document. | D65: Maximum | E65: ='Scores en wegingen'!D14 -> 0.98
D66: Minimum | E66: ='Scores en wegingen'!E14 -> 0.96
D67: Maximale punten | E67: ='Scores en wegingen'!H14 -> 6
D69: Inschrijving | E69: 0.96
D71: Punten | E71: =IF(E69>E65,E67,IF(AND(E69>=E66,E69<=E65),E67/(E65-E66)*(E69-E66),"ongeldig")) -> 0
B74: ='Scores en wegingen'!B15 -> G1.4 | C74: ='Scores en wegingen'!C15 -> Omvang treinvloot
B76: Samenvattende toelichting | D76: Berekening
B77: De berekening van de score op G1.4 volgt de formule zoals weergegeven in het Beschrijvend document. | D77: Maximum | E77: ='Scores en wegingen'!D15 -> 11
D78: Minimum | E78: ='Scores en wegingen'!E15 -> 9
D79: Maximale punten | E79: ='Scores en wegingen'!H15 -> 8
D81: Inschrijving | E81: 10
D83: Punten | E83: =IF(E81>E77,E79,IF(AND(E81>=E78,E81<=E77),E79/(E77-E78)*(E81-E78),"ongeldig")) -> 4
B87: ='Scores en wegingen'!B18 -> G2.1 | C87: ='Scores en wegingen'!C18 -> Aantal zitplaatsen treinvloot
B89: Samenvattende toelichting | D89: Berekening
B90: De berekening van de score op G2.1 volgt de formule zoals weergegeven in het Beschrijvend document. | D90: Maximum | E90: ='Scores en wegingen'!D18 -> 1350
D91: Minimum | E91: ='Scores en wegingen'!E18 -> 1110
D92: Maximale punten | E92: ='Scores en wegingen'!H18 -> 10
D94: Inschrijving | E94: 1200
D96: Punten | E96: =IF(E94>E90,E92,IF(AND(E94>=E91,E94<=E90),E92/(E90-E91)*(E94-E91),"ongeldig")) -> 3.75
B99: ='Scores en wegingen'!B19 -> G2.2 | C99: ='Scores en wegingen'!C19 -> Beschikbaarheid stilte of werkcoupe
B101: Samenvattende toelichting | D101: Berekening
B102: De berekening van de score op G2.2 volgt de formule zoals weergegeven in het Beschrijvend document. | D102: Maximum | E102: ='Scores en wegingen'!D19 -> 16
D103: Minimum | E103: ='Scores en wegingen'!E19 -> 0
D104: Maximale punten | E104: ='Scores en wegingen'!H19 -> 2
D106: Inschrijving | E106: 0
D108: Punten | E108: =IF(E106>E102,E104,IF(AND(E106>=E103,E106<=E102),E104/(E102-E103)*(E106-E103),"ongeldig")) -> 0
B111: ='Scores en wegingen'!B20 -> G2.3 | C111: ='Scores en wegingen'!C20 -> Beschikbaarheid stroomvoorziening
B113: Samenvattende toelichting | D113: Berekening
B114: De berekening van de score op G2.3 volgt de formule zoals weergegeven in het Beschrijvend document. | D114: Maximum | E114: ='Scores en wegingen'!D20 -> 1
D115: Minimum | E115: ='Scores en wegingen'!E20 -> 0
D116: Maximale punten | E116: ='Scores en wegingen'!H20 -> 3
D118: Inschrijving | E118: 0.5
D120: Punten | E120: =IF(E118>E114,E116,IF(AND(E118>=E115,E118<=E114),E116/(E114-E115)*(E118-E115),"ongeldig")) -> 1.5
B123: ='Scores en wegingen'!B21 -> G2.4 | C123: ='Scores en wegingen'!C21 -> Kwaliteit reisinformatie in voertuig
B125: Samenvattende toelichting | D125: Berekening
B126: De berekening van de score op G2.4 volgt de formule zoals weergegeven in het Beschrijvend document. | D126: Maximum | E126: ='Scores en wegingen'!D21 -> 7.8
D127: Minimum | E127: ='Scores en wegingen'!E21 -> 6.5
D128: Maximale punten | E128: ='Scores en wegingen'!H21 -> 2
D130: Inschrijving | E130: 6.5
D132: Punten | E132: =IF(E130>E126,E128,IF(AND(E130>=E127,E130<=E126),E128/(E126-E127)*(E130-E127),"ongeldig")) -> 0
B136: ='Scores en wegingen'!B24 -> G3.1 | C136: ='Scores en wegingen'!C24 -> Reinheid interieur
B138: Samenvattende toelichting | D138: Berekening
B139: De berekening van de score op G3.1 volgt de formule zoals weergegeven in het Beschrijvend document. | D139: Maximum | E139: ='Scores en wegingen'!D24 -> 7.8
D140: Minimum | E140: ='Scores en wegingen'!E24 -> 6.5
D141: Maximale punten | E141: ='Scores en wegingen'!H24 -> 6
D143: Inschrijving | E143: 6.75
D145: Punten | E145: =IF(E143>E139,E141,IF(AND(E143>=E140,E143<=E139),E141/(E139-E140)*(E143-E140),"ongeldig")) -> 1.1538462
B148: ='Scores en wegingen'!B31 -> G5.1 | C148: ='Scores en wegingen'!C31 -> Prijs
B150: Samenvattende toelichting | D150: Berekening
B151: De berekening van de score op G5.1 volgt de formule zoals weergegeven in het Beschrijvend document. | D151: Maximum | E151: ='Scores en wegingen'!D31 -> 15700000
D152: Minimum | E152: ='Scores en wegingen'!E31 -> 14700000
D153: Maximale punten | E153: ='Scores en wegingen'!H31 -> 8
D155: Inschrijving | E155: 15200000
D157: Punten | E157: =IF(E155>E151,"ongeldig",IF(AND(E155>=E152,E155<=E151),(E151-E155)/(E151-E152)*E153,E153)) -> 4

Sheet Scores en wegingen
B1: Scores en wegingen
B3: Toetsingsciteria
B4: T1 | C4: Akkoordverklaring
B5: T2 | C5: Financieel Economische onderbouwing
B6: T3 | C6: Implementatieplan
B8: Maximale scores per gunningscriterium
B9: Nr. | C9: Gunningscriterium | D9: Maximum | E9: Minimum | F9: PVE | G9: Kwalitatief / Kwantitatief | H9: Maximale score
B11: G1 | C11: Vervoersprestatie | H11: =SUM(H12:H15) -> 46
B12: G1.1 | C12: Vervoeraanbod DRK | D12: 1450000 | E12: 1300000 | F12: 3.2 | G12: Kwantitatief | H12: 27
B13: G1.2 | C13: Punctualiteit | D13: 0.97 | E13: 0.93 | F13: 4.2.1 | G13: Kwantitatief | H13: 5
B14: G1.3 | C14: (Rit)Uitval | D14: 0.98 | E14: 0.96 | F14: 4.3.2 | G14: Kwantitatief | H14: 6
B15: G1.4 | C15: Omvang treinvloot | D15: 11 | E15: 9 | F15: 5.1.2 | G15: Kwantitatief | H15: 8
B17: G2 | C17: Gebruiksgemak / comfort | H17: =SUM(H18:H22) -> 17
B18: G2.1 | C18: Aantal zitplaatsen treinvloot | D18: 1350 | E18: 1110 | F18: 4.1.6 | G18: Kwantitatief | H18: 10
B19: G2.2 | C19: Beschikbaarheid stilte of werkcoupe | D19: 16 | E19: 0 | F19: 5.4.10/11 | G19: Kwantitatief | H19: 2
B20: G2.3 | C20: Beschikbaarheid stroomvoorziening | D20: 1 | E20: 0 | F20: 5.4.1 L | G20: Kwantitatief | H20: 3
B21: G2.4 | C21: Kwaliteit reisinformatie in voertuig | D21: 7.8 | E21: 6.5 | F21: 6.3.1 | G21: Kwantitatief | H21: 2
B23: G3 | C23: Beleving / toegevoegde waarde | H23: =SUM(H24:H25) -> 6
B24: G3.1 | C24: Reinheid interieur | D24: 7.8 | E24: 6.5 | F24: 5.4.9 | G24: Kwantitatief | H24: 6
B26: G4 | C26: Kwaliteitsplan | H26: =SUM(H27:H29) -> 23
B27: G4.1 | C27: Kwaliteit van de uitvoering | G27: Kwalitatief | H27: 9
B28: G4.2 | C28: Kwaliteit van het materieel | G28: Kwalitatief | H28: 14
B30: G5 | C30: Lagere exploitatiekosten | H30: =H31 -> 8
B31: G5.1 | C31: Prijs | D31: 15700000 | E31: 14700000 | F31: n.v.t. | G31: Kwantitatief | H31: 8
C33: Totaal aantal punten | H33: =H11+H17+H23+H26+H30 -> 100
E34: Prijs | F34: =H31+H12 -> 35 | G34: Kwantitatief | H34: =SUMIF($G$11:$G$32,$G34,H$11:H$32) -> 77
E35: Kwaliteit | F35: =100-F34 -> 65 | G35: Kwalitatief | H35: =SUMIF($G$11:$G$32,$G35,H$11:H$32) -> 23
B37: Weging G4.1 & G4.2
B38: Beoordeling | C38: Toelichting | H38: Score
B39: Zeer goed | C39: De Inschrijver biedt zeer veel meerwaarde ten opzichte van het Programma van Eisen, draagt in zeer grote mate bij aan het beoogde doel van het gunningscriterium en de doelen van de aanbesteding en overtuigt het beoordelingsteam van de realiseerbaarheid, de samenhang met de andere onderdelen van zijn Inschrijving en de effecten van zijn aanbod. | H39: 1
B40: Goed | C40: De Inschrijver biedt veel meerwaarde ten opzichte van het Programma van Eisen, draagt in grote mate bij aan het beoogde doel van het gunningscriterium en de doelen van de aanbesteding en overtuigt het beoordelingsteam veelal van de realiseerbaarheid, de samenhang met de andere onderdelen van zijn Inschrijving en de effecten van zijn aanbod. | H40: 0.75
B41: Ruim voldoende | C41: De Inschrijver biedt meerwaarde ten opzichte van het Programma van Eisen en draagt in redelijke mate bij aan het beoogde doel van het gunningscriterium en de doelen van de aanbesteding dan wel overtuigt het beoordelingsteam veelal van de realiseerbaarheid, de samenhang met de andere onderdelen van zijn Inschrijving en de effecten van zijn aanbod | H41: 0.3
B42: Voldoende | C42: De Inschrijver biedt geen meerwaarde ten opzichte van het Programma van Eisen, draagt beperkt bij aan het beoogde doel van het gunningscriterium en de doelen van de aanbesteding en overtuigt het beoordelingsteam slechts ten dele van de realiseerbaarheid, de samenhang met de andere onderdelen van zijn Inschrijving en de effecten van zijn aanbod. | H42: 0.15
B43: Onvoldoende | C43: De Inschrijver voldoet niet aan de eisen zoals vastgelegd in het Programma van Eisen of heeft in zijn Inschrijving niet alle vereiste informatie opgenomen (de Inschrijving geeft onvolledige informatie of een deel ontbreekt). | H43: 0
