Workbook

Sheet Voorblad
B2: Tabblad: Voorblad
B3: Europese openbare aanbesteding "Contact Center Platform”
B4: Kenmerk: BIZOB-2025-SAM-SZO-00692 / TenderNed-kenmerk: TN608820
B5: Datum: 16-09-2026/ Versie: 1.0
B6: Naam Inschrijver: | C6: Invullen op 'voorblad'

Sheet Instructie
B2: Tabblad: Instructie
B3: =Voorblad!B3 -> Europese openbare aanbesteding "Contact Center Platform”
B4: Nr. | C4: Algemene toelichting
B5: 1 | C5: •Inschrijver dient uitsluitend de geel gearceerde cellen te voorzien van de gevraagde informatie. Om de werking van het prijzenblad te laten zien staat er nu fictief 1,00 euro of het getal 1 in. Dit kan Inschrijver zelf aanpassen. • Het kan zijn dat voor de aangeboden oplossing niet alle regels ingevuld hoeven of kunnen worden. Wanneer Inschrijver voor een onderdeel geen kosten in rekening brengt moet € 0,- worden ingevuld. • Daarnaast is het ook toegestaan om op onderdelen € 0,- in te vullen als er sprake is van een optelsom met andere onderdelen.
B6: 2 | C6: De in te vullen bedragen zijn gebaseerd op de vermelde informatie in het Aanbestedingsdocument en Bijlagen.
B7: 3 | C7: Inschrijvers dienen alle gevraagde prijzen volledig in te vullen met gebruikmaking van dit prijzenblad.
B8: 4 | C8: De prijzen dienen alle kosten te bevatten die nodig zijn voor het uitvoeren van de werkzaamheden, inclusief overhead, uitvoeringskosten, reiskosten, algemene kosten, winst en risico, afschrijvingskosten en dergelijke. Kosten welke niet in de template zijn opgenomen kunnen niet bij de Opdrachtgever in rekening worden gebracht. Let op: Het realiseren van de kwalitatieve gunningscriteria zit in de prijs inbegrepen, tenzij expliciet anders is aangegeven. Dit geldt dus ook voor hetgeen tijdens de (K4) Live demo wordt gedemonstreerd.
B9: 5 | C9: De prijsopgave dient in Euro’s en exclusief BTW te geschieden.
B10: 6 | C10: Het indienen van negatieve prijzen, prijzen onder de onderdrempel of boven de bovendrempel (per prijsitem) (indien van toepassing) is niet toegestaan op straffe van uitsluiting. Zie tabblad [Eenmalige kosten], [Structurele kosten], [Additionele kosten] en tabblad [Totale kosten].
B11: 7 | C11: De opgegeven prijzen dienen op maximaal twee cijfers achter de komma te worden afgerond.
B12: 8 | C12: Abnormaal lage prijzen kunnen door Opdrachtgever gecontroleerd/nagevraagd worden, conform artikel 2.116 Aw kan de Inschrijving ongeldig worden verklaard.
B13: 9 | C13: Het verkeerd interpreteren van het prijzenblad komt voor verantwoordelijkheid van Inschrijver. Vragen omtrent dit prijzenblad kunnen gesteld worden, conform de mogelijkheden die staan beschreven in het Aanbestedingsdocument.
B14: 10 | C14: Het aanbrengen van wijzigingen of het doen van aanvullingen (tenzij Opdrachtgever expliciet hier toestemming voor heeft gegeven) in de prijzenbladen kan tot ongeldigverklaring van uw Inschrijving leiden en derhalve tot uitsluiting.
B15: 11 | C15: Het niet volledig invullen van deze bijlage kan tot ongeldigverklaring van uw Inschrijving en derhalve tot uitsluiting leiden.
B16: 12 | C16: Opdrachtgever heeft in tabbladen zelf toelichtingen gegeven bij prijsitems, daarnaast gelden onderstaande voorwaarden per tabblad.
... B18: 14 | C18: De Inschrijver is zelf verantwoordelijk voor het controleren of de door de Aanbestedende Dienst verstrekte Excelbestanden bij hem volledig en correct worden weergegeven, waaronder het volledig zichtbaar zijn van alle teksten in de cellen. Indien teksten of andere inhoud door de weergave niet volledig zichtbaar zijn, dient Inschrijver de weergave zelf aan te passen.
B20: Tabbblad [Voorblad]
B21: Inschrijver dient eenmalig zijn naam in te vullen in het tabblad 'voorblad'.
B23: Tabbblad [Instructie]
B24: Dit tabblad, in dit tabblad wordt een algemene toelichting en een toelichting op de verschillende onderdelen per tabblad benoemd.
B26: Tabbblad [Eenmalige kosten]
B27: • Inschrijver geeft een totaalprijs op voor de implementatiekosten. De totale implementatiekosten zijn opgebouwd uit verschillende werkzaamheden op basis van de opgenomen scope en alle eisen. (Zie instructie 13). • De opleidingskosten bestaan uit een aantal te organiseren sessies maal het tarief. Er is een inschatting gemaakt van het aantal benodigde sessies. • De genoemde sessies dienen alle noodzakelijke opleidingen te omvatten voor een succesvolle ingebruikname van de volledige oplossing. • Eventuele aanvullende benodigde opleidingen dienen in de opleidingskosten te zijn inbegrepen. • In werkelijkheid kunnen dit er meer of minder zijn. De tarieven die Inschrijver afgeeft, worden gebruikt in de berekening van het werkelijke aantal personen en daarmee sessies.
B29: Tabbblad [Structurele kosten]
B30: • De aangeboden Oplossing kan in rekening worden gebracht op basis van named- en/of concurrent users. Inschrijver dient in de betreffende cellen hierin zelf een keuze te maken. • Let op: Opdrachtgever verlangt van Inschrijver transparantie in de opbouw van het licentiemodel. Het is uitdrukkelijk niet toegestaan (op straffe van uitsluiting) om pakketprijzen aan te bieden, waardoor de licentieprijs niet transparant is. De kostenpost 'prijs per agent' (regel 11 en/of 12) dient met een reele prijs beprijsd te worden. De reden dat Opdrachtgever dit verlangt is dat bij eventuele opschaling of afschaling van het aantal gebruikers de kosten per gebruiker (gespecificeerd) uit het prijzenblad gehaald kan worden. Indien Inschrijver uitsluitend één licentiemodel aanbiedt, mag voor het niet-aangeboden licentiemodel € 0,00 worden ingevuld. Het is niet toegestaan om voor zowel het licentiemodel 'named agents' (regel 11) als het licentiemodel 'concurrent agents' (regel 12) € 0,00 in te vullen. • Het aantal gebruikers kan tijdens de contractperiode naar boven of naar beneden worden aangepast (op-afschalen). • De aangepaste maandkosten worden op dat moment berekend op basis van de actuele aantallen en de prijs die in dit prijzenblad wordt genoemd. • Het type en het aantal profielen voor gebruik en beheer worden in de projectfase definitief vastgesteld. Aan de opgenomen aantallen in het tabblad kunnen geen rechten worden ontleend. • In de periodieke (ofwel exploitatie) kosten worden álle kosten voor de aangeboden dienst opgenomen, zoals o.a. support/helpdesk, onderhoud, updates, blijven voldoen aan wet- en regelgeving, etc. Prijsitem 6 [Tijdelijke opschaling]: • Tijdelijke opschaling bij piekbelasting van capaciteit (zoals extra licenties) dient in dit tabblad separaat te worden geprijsd, conform eis 2.3. van tabblad 'Functioneel' van Bijlage [Programma van eisen]. • De in dit tabblad opgenomen aantallen voor tijdelijke opschaling zijn gebaseerd op de pieksituatie zoals beschreven in het Aanbestedingsdocument. Gedurende de contractperiode kunnen pieksituaties wijzigen in aantallen en periodes. • Voor de beoordeling wordt uitgegaan van een indicatieve inzet van deze extra capaciteit bij piekbelasting gedurende 2 maanden per jaar. • Inschrijver dient de maandkosten per stuk op te geven. Deze worden door Opdrachtgever gebruikt voor de berekening van de totale kosten voor tijdelijke opschaling.
B32: Tabbblad [Additionele kosten]
B33: Zie de toelichting in dit tabblad.
B35: Tabbblad [Totale kosten]
B36: • Dit tabblad wordt automatisch gevuld, Inschrijver hoeft deze niet te vullen. • Door het indienen van het ingevulde en ondertekende Prijzenblad verklaart Inschrijver akkoord te gaan met alle in dit tabblad opgenomen voorwaarden. • Tabblad [Totale kosten] dient Inschrijver rechtsgeldig te ondertekenen en separaat in te dienen als .pdf-bestand van dit tabblad (naast een excel-versie van het gehele prijzenblad).
... B39: • In Bijlage [Programma van wensen] wordt bij een aantal wensen gevraagd naar optionele wensen welke separaat afgeprijsd mogen worden, zie ook toelichting in tabblad [Aanvullende opties] zelf. • Indien de functionaliteit kan worden geboden wordt Inschrijver gevraagd om een prijs per gevraagde module/functie op te geven zonder dat deze direct meetelt in tabblad Totale kosten. • Het is nog onbekend of één of meer aanvullende opties daadwerkelijk zullen worden afgenomen, in welke hoeveelheid en op welk moment. • Inschrijver geeft per optie de prijs per eenheid op (bijv. per user per maand, per minuut, per sessie of per token); • Indien Inschrijver een token- of verbruiksgebaseerd prijsmodel hanteert, dient deze de prijs te vertalen naar een begrijpelijke functionele eenheid (bijv. prijs per gesprek, per agent of per maand); • Inschrijver licht in de kolom ‘Toelichting’ duidelijk toe hoe tokens of andere eenheden worden omgerekend naar deze functionele eenheid; • Inschrijver geeft, indien mogelijk, een indicatie van de maandkosten op basis van deze vertaling; • Indien een maandbedrag niet eenduidig kan worden vastgesteld, beschrijft Inschrijver de wijze van afrekening en de belangrijkste prijsbepalende factoren in de kolom ‘Toelichting’.

Sheet Eenmalige kosten
B2: Tabblad Eenmalige kosten
B3: =Voorblad!B3 -> Europese openbare aanbesteding "Contact Center Platform”
B4: =Voorblad!B4 -> Kenmerk: BIZOB-2025-SAM-SZO-00692 / TenderNed-kenmerk: TN608820
B5: =Voorblad!B5 -> Datum: 16-09-2026/ Versie: 1.0
B6: Naam Inschrijver: | H6: =Voorblad!C6 -> Invullen op 'voorblad'
B8: Prijsitem 1 Project- en implementatiekosten
B9: Toelichting: 1.Gebruiksklaar opleveren van de Oplossing conform scope-beschrijving dit met inachtneming van de gestelde eisen, wensen en voorwaarden van de aanbestedingsdocumenten. Dit betekent op hoofdlijnen: Het geheel van handelingen en activiteiten dat nodig is om het Contact Center platform, inclusief de overeengekomen functionaliteiten, inrichting, configuratie en koppelingen, afzonderlijk en in onderlinge samenhang, bedrijfsklaar in gebruik te nemen binnen de organisatie van Opdrachtgever, zodanig dat de gebruikers van Opdrachtgever hiermee kunnen werken overeenkomstig het overeengekomen gebruik.
B10: Omschrijving | F10: Aantal | G10: Prijs per stuk excl. BTW | H10: Bedrag excl. BTW
B11: Gebruiksklaar opleveren van de Oplossing | F11: 1 | G11: 1 | H11: =F11*G11 -> 1
B12: Subtotaal prijsitem 1 | H12: =SUM(H11:H11) -> 1
B14: Prijsitem 2 Opleidingen en instructie
B15: Omschrijving | F15: Aantal sessies | G15: Prijs per sessie excl. BTW | H15: Bedrag excl. BTW
B16: Contactcenter medewerker (max. 5 personen per sessie) | F16: 4 | G16: 1 | H16: =F16*G16 -> 4
B17: Supervisor - incl. monitoring en rapportages (max. 5 personen per sessie) | F17: 1 | G17: 1 | H17: =F17*G17 -> 1
B18: Functioneel applicatiebeheerder Contact Center - configuratie en beheer (max. 5 personen per sessie) | F18: 1 | G18: 1 | H18: =F18*G18 -> 1
B19: Subtotaal prijsitem 2 | H19: =SUM(H16:H18) -> 6
B21: Prijsitem 3 Klanttevredenheidsonderzoek (optioneel af te nemen)
B22: Omschrijving | F22: Aantal sessies | G22: Prijs per sessie excl. BTW | H22: Bedrag excl. BTW
B23: Inrichting, oplevering en instructie van Gebruikers voor de KTO-functionaliteit | F23: 1 | G23: 1 | H23: =F23*G23 -> 1
B24: Subtotaal prijsitem 2 | H24: =SUM(H23:H23) -> 1
B26: Prijsitem 4 Overige eenmalige kosten | H26: Bedrag excl. BTW
B27: Toelichting: Indien er sprake is van overige eenmalige kosten dan dient Inschrijver onderstaande regels daarvoor te gebruiken. Inschrijver mag zelf regels toevoegen en is er zelf voor verantwoordelijk dat de optelsom van dit prijsitem kloppend is. Indien een regel niet van toepassing is vult Inschrijver 0,00 (nul) euro in i.p.v. de voorafingvulde 1,00 euro.
B28: Omschrijving | H28: Bedrag excl. BTW
B29: <mogelijkheid tot aanvulling> | H29: 1
B30: <mogelijkheid tot aanvulling> | H30: 1
B31: <mogelijkheid tot aanvulling> | H31: 1
B32: <mogelijkheid tot aanvulling> | H32: 1
B33: <mogelijkheid tot aanvulling> | H33: 1
B34: <mogelijkheid tot aanvulling> | H34: 1
B35: Subtotaal prijsitem 4 | H35: =SUM(H29:H34) -> 6
B38: TOTAAL EENMALIGE KOSTEN EXCL. BTW (Optelsom van subtotaal prijsitem 1 t/m subtotaal prijsitem 4. | H38: =H12+H19+H24+H35 -> 14
H40: 50000
H41: Prijsplafond/bovendrempel optelsom prijsitem 1 t/m 4

Sheet Structurele kosten
B2: Tabblad Structurele kosten
B3: =Voorblad!B3 -> Europese openbare aanbesteding "Contact Center Platform”
B4: =Voorblad!B4 -> Kenmerk: BIZOB-2025-SAM-SZO-00692 / TenderNed-kenmerk: TN608820
B5: =Voorblad!B5 -> Datum: 16-09-2026/ Versie: 1.0
B6: Naam Inschrijver: | J6: =Voorblad!$C$6 -> Invullen op 'voorblad'
B8: Prijsitem 5 Gebruik en beheer
B9: Toelichting: In tabblad [Instructie] heeft Opdrachtgever belangrijke informatie opgenomen voor het correct invullen van dit tabblad, in het bijzonder bullet 2, "Let op". Inschrijver mag zelf regels toevoegen en is er zelf voor verantwoordelijk dat de optelsom van dit prijsitem kloppend is. Indien een regel niet van toepassing is vult Inschrijver 0,00 (nul) euro in i.p.v. de voorafingvulde 1,00 euro.
B10: Omschrijving | H10: Aantal | I10: Maandkosten per stuk excl. BTW | J10: Bedrag per maand excl. BTW | K10: # mnd | L10: Bedrag per jaar excl. BTW
B11: Agent (named users) | H11: 101 | I11: 1 | J11: =H11*I11 -> 101 | K11: 12 | L11: =J11*K11 -> 1212
B12: Agent (concurrent users) | H12: 25 | I12: 1 | J12: =H12*I12 -> 25 | K12: 12 | L12: =J12*K12 -> 300
B13: Supervisor (named users) | H13: 3 | I13: 1 | J13: =H13*I13 -> 3 | K13: 12 | L13: =J13*K13 -> 36
B14: Supervisor (concurrent users) | H14: 1 | I14: 1 | J14: =H14*I14 -> 1 | K14: 12 | L14: =J14*K14 -> 12
B15: Functioneel applicatiebeheerder (named users) | H15: 5 | I15: 1 | J15: =H15*I15 -> 5 | K15: 12 | L15: =J15*K15 -> 60
B16: Functioneel applicatiebeheerder (concurrent users) | H16: 2 | I16: 1 | J16: =H16*I16 -> 2 | K16: 12 | L16: =J16*K16 -> 24
B17: Recording (betreft recording van alle gesprekken van alle agenten) | H17: 1 | I17: 1 | J17: =H17*I17 -> 1 | K17: 12 | L17: =J17*K17 -> 12
B18: Integratie met GouwBelastingen | H18: 1 | I18: 1 | J18: =H18*I18 -> 1 | K18: 12 | L18: =J18*K18 -> 12
B19: Integratie met Microsoft Teams | H19: 1 | I19: 1 | J19: =H19*I19 -> 1 | K19: 12 | L19: =J19*K19 -> 12
B20: Nummerblokken (twee maal 100 blok) | H20: 2 | I20: 1 | J20: =H20*I20 -> 2 | K20: 12 | L20: =J20*K20 -> 24
B21: Minimum aantal telefoniekanalen (op basis van SIP trunks) | H21: 90 | I21: 1 | J21: =H21*I21 -> 90 | K21: 12 | L21: =J21*K21 -> 1080
B22: SLA-support op basis van scope in aanbestedingsdocumenten | H22: 1 | I22: 1 | J22: =H22*I22 -> 1 | K22: 12 | L22: =J22*K22 -> 12
... B28: <mogelijkheid tot aanvulling> | H28: 1 | I28: 1 | J28: =H28*I28 -> 1 | K28: 12 | L28: =J28*K28 -> 12
B29: Subtotaal prijsitem 5 | L29: =SUM(L11:L28) -> 2868
B31: Prijsitem 6 Tijdelijke opschaling
B32: Toelichting: Voor uitgangspunten en toepassing van tijdelijke opschaling, zie tabblad "Instructie" Inschrijver mag zelf regels toevoegen en is er zelf voor verantwoordelijk dat de optelsom van dit prijsitem kloppend is. Indien een regel niet van toepassing is vult Inschrijver 0,00 (nul) euro in i.p.v. de voorafingvulde 1,00 euro.
B33: Omschrijving | H33: Aantal | I33: Maandkosten per stuk excl. BTW | J33: Bedrag per maand excl. BTW | K33: # mnd | L33: Bedrag per jaar excl. BTW
B34: Opschaling met 15 extra agents naar 40 agents (concurrent use) gedurende februari en maart | H34: 15 | I34: 1 | J34: =H34*I34 -> 15 | K34: 2 | L34: =J34*K34 -> 30
B35: <mogelijkheid tot aanvulling> | H35: 1 | I35: 1 | J35: =H35*I35 -> 1 | K35: 1 | L35: =J35*K35 -> 1
B36: <mogelijkheid tot aanvulling> | H36: 1 | I36: 1 | J36: =H36*I36 -> 1 | K36: 1 | L36: =J36*K36 -> 1
B37: <mogelijkheid tot aanvulling> | H37: 1 | I37: 1 | J37: =H37*I37 -> 1 | K37: 1 | L37: =J37*K37 -> 1
B38: <mogelijkheid tot aanvulling> | H38: 1 | I38: 1 | J38: =H38*I38 -> 1 | K38: 1 | L38: =J38*K38 -> 1
B39: Subtotaal prijsitem 6 | L39: =SUM(L34:L38) -> 34
B41: Prijsitem 7 Verbruik
B42: Toelichting: Inschrijver mag een tarief per gesprek hanteren of als alternatief een belbundel aanbieden: 1. Als in CEL I44 of CEL I45 een prijs wordt ingevuld, dan geen gebruik maken van belbundels. 2. Als in CEL I46 of CEL I47 een prijs wordt ingevuld, dan geen gebruik maken van variabele kosten voor bellen naar vaste nummer. Inschrijver is zelf voor verantwoordelijk dat de optelsom van dit prijsitem kloppend is. Indien een iten niet van toepassing is vult Inschrijver 0,00 (nul) euro in i.p.v. de voorafingvulde 1,00 euro.
B43: Omschrijving | F43: # calls per maand | G43: # minuten per maand | H43: Prijs per call excl. BTW | I43: Prijs per minuut of bundel per maand excl. BTW | J43: Bedrag per maand excl. BTW | K43: # mnd | L43: Bedrag per jaar excl. BTW
B44: Bellen naar vaste nummers (Nederland) | F44: 300 | G44: 900 | H44: 1 | I44: 1 | J44: =(F44*H44)+(G44*I44) -> 1200 | K44: 12 | L44: =J44*K44 -> 14400
B45: Bellen naar mobiele nummers | F45: 2100 | G45: 9000 | H45: 1 | I45: 1 | J45: =(F45*H45)+(G45*I45) -> 11100 | K45: 12 | L45: =J45*K45 -> 133200
B46: Alternatief: Belbundel naar vaste nummers (Nederland) | F46: 1 | G46: 1 | I46: 1 | J46: =I46 -> 1 | K46: 12 | L46: =J46*K46 -> 12
B47: Alternatief: Belbundel naar mobiele nummers (Nederland) | F47: 1 | G47: 1 | I47: 1 | J47: =I47 -> 1 | K47: 12 | L47: =J47*K47 -> 12
B48: Subtotaal prijsitem 7 | L48: =SUM(L44:L47) -> 147624
B50: Prijsitem 8 Structuele kosten Klanttevredenheidsonderzoek (optioneel af te nemen)
...

Sheet Additionele kosten
B2: Tabblad Additionele kosten
B3: =Voorblad!$B$3 -> Europese openbare aanbesteding "Contact Center Platform”
B4: =Voorblad!$B$4 -> Kenmerk: BIZOB-2025-SAM-SZO-00692 / TenderNed-kenmerk: TN608820
B5: =Voorblad!$B$5 -> Datum: 16-09-2026/ Versie: 1.0
B6: Naam Inschrijver: | C6: =Voorblad!C6 -> Invullen op 'voorblad'
B8: Prijsitem 10 Optionele Dienstverlening t.b.v. Doorontwikkeling | C8: Aantal fictieve uren | D8: Uurtarief excl. BTW | E8: Totale fictieve kosten, looptijd 72 maanden, excl. BTW (TCO)
B9: Toelichting: Bij elke functie gaat het om senior functieprofielen (meer dan 5 jaar relevante werkervaring). Onderstaande uurtarieven zijn van toepassing op mogelijk toekomstig meerwerk voor Doorontwikkeling. Het aantal fictieve uren zijn zoals het woord al zegt 'fictief, het aantal uur kan meer of minder worden (werken als wegingsfactor voor de TCO-berekening voor de looptijd van 72 maanden) . Prijsplafond max. € 140,00 excl. BTW per uur en per onderstaande functieprofielen.
B10: 10a. Projectmanager | C10: 200 | D10: 1 | E10: =C10*D10 -> 200 | G10: 140 | H10: Prijsplafond
B11: 10b. Consultant | C11: 200 | D11: 1 | E11: =C11*D11 -> 200 | G11: 140 | H11: Prijsplafond
B12: 10c. Engineer Contact Center-oplossing (totale scope Opdracht) | C12: 400 | D12: 1 | E12: =C12*D12 -> 400 | G12: 140 | H12: Prijsplafond
B13: Subtotaal prijsitem 10 | E13: =SUM(E10:E12) -> 800
B15: TOTAAL FICTIEVE ADDITIONELE KOSTEN EXCL. BTW | E15: =E13 -> 800

Sheet Totale kosten
B2: Tabblad Totale kosten
B3: =Voorblad!B3 -> Europese openbare aanbesteding "Contact Center Platform”
B4: =Voorblad!B4 -> Kenmerk: BIZOB-2025-SAM-SZO-00692 / TenderNed-kenmerk: TN608820
B5: =Voorblad!B5 -> Datum: 16-09-2026/ Versie: 1.0
B6: Naam Inschrijver: | C6: =Voorblad!C6 -> Invullen op 'voorblad'
B8: Prijsitem | C8: Type kosten | D8: Totale kosten, looptijd 72 maanden, excl. BTW (TCO)
B9: ='Eenmalige kosten'!B8 -> Prijsitem 1 Project- en implementatiekosten | C9: Eenmalige kosten | D9: ='Eenmalige kosten'!H12 -> 1 | F9: ='Eenmalige kosten'!H40 -> 50000 | G9: Prijsplafond/bovendrempel optelsom prijsitems 1 t/m 4
B10: ='Eenmalige kosten'!B14 -> Prijsitem 2 Opleidingen en instructie | C10: Eenmalige kosten | D10: ='Eenmalige kosten'!H19 -> 6
B11: ='Eenmalige kosten'!B21 -> Prijsitem 3 Klanttevredenheidsonderzoek (optioneel af te nemen) | C11: Optionele kosten (eenmalig) | D11: ='Eenmalige kosten'!H24 -> 1
B12: ='Eenmalige kosten'!B26 -> Prijsitem 4 Overige eenmalige kosten | C12: Eenmalige kosten | D12: ='Eenmalige kosten'!H35 -> 6
C13: Prijsitems 1 t/m 4 | D13: =SUM(D9:D12) -> 14
B15: ='Structurele kosten'!B8 -> Prijsitem 5 Gebruik en beheer | C15: Structurele kosten | D15: ='Structurele kosten'!L29 -> 2868 | F15: ='Structurele kosten'!L70 -> 290000 | G15: Prijsplafond/bovendrempel optelsom prijsitems 5 t/m 9
B16: ='Structurele kosten'!B31 -> Prijsitem 6 Tijdelijke opschaling | C16: Structurele kosten | D16: ='Structurele kosten'!L39 -> 34
B17: ='Structurele kosten'!B41 -> Prijsitem 7 Verbruik | C17: Structurele kosten | D17: ='Structurele kosten'!L48 -> 147624
B18: ='Structurele kosten'!B50 -> Prijsitem 8 Structuele kosten Klanttevredenheidsonderzoek (optioneel af te nemen) | C18: Optionele kosten (structureel) | D18: ='Structurele kosten'!L53 -> 12
B19: ='Structurele kosten'!B55 -> Prijsitem 9 Structurele kosten - overig | C19: Structurele kosten | D19: ='Structurele kosten'!L64 -> 72
C20: Prijsitems 5 t/m 9 | D20: =SUM(D15:D19) -> 150610
B22: ='Additionele kosten'!B8 -> Prijsitem 10 Optionele Dienstverlening t.b.v. Doorontwikkeling | C22: Optionele kosten (Doorontwikkeling) | D22: ='Additionele kosten'!E13 -> 800 | F22: 112000 | G22: Prijsplafond prijsitems 10
C23: Prijsitem 10 | D23: =D22 -> 800
B25: Totale fictieve Inschrijfprijs (hier wordt op gegund) | D25: =D13+D20+D23 -> 151424 | F25: =F9+F15+F22 -> 452000 | G25: Max Fictieve Inschrijfprijs
B27: Rechtsgeldige ondertekening Inschrijver Toelichting: (dit blad als. Pdf indienen) en daarnaast een excel versie met alle tabbladen.
B28: Naam:
B29: Functie:
B30: Datum:
B31: Handtekening:

Sheet Aanvullende opties
B2: Tabblad Aanvullende opties
B3: =Voorblad!B3 -> Europese openbare aanbesteding "Contact Center Platform”
B4: =Voorblad!B4 -> Kenmerk: BIZOB-2025-SAM-SZO-00692 / TenderNed-kenmerk: TN608820
B5: =Voorblad!B5 -> Datum: 16-09-2026/ Versie: 1.0
B6: Naam Inschrijver: | I6: =Voorblad!C6 -> Invullen op 'voorblad'
B9: Prijsitem 11 Aanvullende opties
B10: Toelichting: 1. In Bijlage [Programma van wensen is bij een aantal wensen expliciet aangegeven dat deze niet in de inschrijfprijs opgenomen dienen te worden. Dat zijn de wensen die hieronder staan. Dit zijn wensen welke Opdrachtgever optioneel afneemt. Indien Inschrijver aan een van onderstaande wensen (aanvullende optie) kan voldoen dan beantwoordt Inschrijver dit in Bijlage [Beantwoording kwalitatieve gunningscriteria]. Inschrijver is in dit geval verplicht de evt. kosten voor die wens (aanvullende optie) op te nemen in tabblad [Aanvullende opties] van Bijlage [Prijzenblad]. Indien geen extra kosten in rekening worden gebracht dan vult Inschrijver nul (0) euro in. 2. Inschrijver neemt een reële (marktconforme) prijzen op per aangegeven Wens (aanvullende optie).
B11: Wensnummer | D11: Aantal | E11: Eenheid/ prijsmodel | F11: Prijs per eenheid excl. BTW | G11: Eenmalige kosten excl. BTW | H11: Bedrag per maand excl. BTW | I11: Toelichting
B12: Wens 9 | F12: 1 | G12: 1 | H12: 1 | I12: <mogelijkheid tot aanvulling>
B13: Wens 10 | F13: 1 | G13: 1 | H13: 1 | I13: <mogelijkheid tot aanvulling>
B14: Wens 13 | F14: 1 | G14: 1 | H14: 1 | I14: <mogelijkheid tot aanvulling>
B15: Wens 14 | F15: 1 | G15: 1 | H15: 1 | I15: <mogelijkheid tot aanvulling>
B16: Wens 15 | F16: 1 | G16: 1 | H16: 1 | I16: <mogelijkheid tot aanvulling>
