Workbook

Sheet Omrekenfactoren
B2: Bijlage 5 Prijzenblad
B3: Europese aanbesteding 'Payrolldienstverlening'
C4: ='Inschrijfsom & Ondertekening'!B6 -> ABP- Pensioen, ziekterisico opdrachtgever | F4: ='Inschrijfsom & Ondertekening'!B7 -> ABP- Pensioen, ziekterisico opdrachtnemer | I4: ='Inschrijfsom & Ondertekening'!B8 -> Payroll AOW, ziekterisico opdrachtgever | L4: ='Inschrijfsom & Ondertekening'!B9 -> Payroll AOW, ziekterisico opdrachtnemer | O4: ='Inschrijfsom & Ondertekening'!B10 -> Eenmalige uitkeringen
B6: Basisloon | D6: 100 | G6: 100 | J6: 100 | M6: 100 | P6: 100
B8: Reserveringen | C8: Percentage | F8: Percentage | I8: Percentage | L8: Percentage | O8: Percentage
B9: Ziekte | F9: 0 | G9: =F9*$G$6 -> 0 | L9: 0 | M9: =L9*$M$6 -> 0
C10: Subtotaal: | D10: =SUM(D6:D9) -> 100 | F10: Subtotaal: | G10: =SUM(G6:G9) -> 100 | I10: Subtotaal: | J10: =SUM(J6:J9) -> 100 | L10: Subtotaal: | M10: =SUM(M6:M9) -> 100 | O10: Subtotaal: | P10: =SUM(P6:P9) -> 100
B11: Secundaire arbeidsvoorwaarden | C11: Percentage | F11: Percentage | I11: Percentage | L11: Percentage | O11: Percentage
B12: Vakantiegeld | C12: 0 | D12: =C12*$D$10 -> 0 | F12: 0 | G12: =F12*$G$10 -> 0 | I12: 0 | J12: =I12*$J$10 -> 0 | L12: 0 | M12: =L12*$M$10 -> 0 | O12: 0 | P12: =O12*$P$10 -> 0
B13: Eindejaarsuitkering | C13: 0 | D13: =C13*$D$10 -> 0 | F13: 0 | G13: =F13*$G$10 -> 0 | I13: 0 | J13: =I13*$J$10 -> 0 | L13: 0 | M13: =L13*$M$10 -> 0 | O13: 0 | P13: =O13*$P$10 -> 0
C14: Subtotaal: | D14: =SUM(D10:D13) -> 100 | F14: Subtotaal: | G14: =SUM(G10:G13) -> 100 | I14: Subtotaal: | J14: =SUM(J10:J13) -> 100 | L14: Subtotaal: | M14: =SUM(M10:M13) -> 100 | O14: Subtotaal: | P14: =SUM(P10:P13) -> 100
B15: Wettelijke inhoudingen | C15: Percentage | F15: Percentage | I15: Percentage | L15: Percentage | O15: Percentage
B16: WW premie | C16: 0 | D16: =C16*$D$14 -> 0 | F16: 0 | G16: =F16*$G$14 -> 0 | I16: 0 | J16: =I16*$J$14 -> 0 | L16: 0 | M16: =L16*$M$14 -> 0 | O16: 0 | P16: 0
B17: WAO/WIA Basispremie | C17: 0 | D17: =C17*$D$14 -> 0 | F17: 0 | G17: =F17*$G$14 -> 0 | I17: 0 | J17: =I17*$J$14 -> 0 | L17: 0 | M17: =L17*$M$14 -> 0 | O17: 0 | P17: 0
B18: WGA premie | C18: 0 | D18: =C18*$D$14 -> 0 | F18: 0 | G18: =F18*$G$14 -> 0 | I18: 0 | J18: =I18*$J$14 -> 0 | L18: 0 | M18: =L18*$M$14 -> 0 | O18: 0 | P18: 0
B19: ZVW premie | C19: 0 | D19: =C19*$D$14 -> 0 | F19: 0 | G19: =F19*$G$14 -> 0 | I19: 0 | J19: =I19*$J$14 -> 0 | L19: 0 | M19: =L19*$M$14 -> 0 | O19: 0 | P19: 0
B20: ZW premie | C20: 0 | D20: =C20*$D$14 -> 0 | F20: 0 | G20: =F20*$G$14 -> 0 | I20: 0 | J20: =I20*$J$14 -> 0 | L20: 0 | M20: =L20*$M$14 -> 0 | O20: 0 | P20: 0
B21: Aanvulling ziektewet | C21: 0 | D21: =C21*$D$14 -> 0 | F21: 0 | G21: =F21*$G$14 -> 0 | I21: 0 | J21: =I21*$J$14 -> 0 | L21: 0 | M21: =L21*$M$14 -> 0 | O21: 0 | P21: 0
B22: Transitievergoeding | C22: 0 | D22: =C22*$D$14 -> 0 | F22: 0 | G22: =F22*$G$14 -> 0 | I22: 0 | J22: =I22*$J$14 -> 0 | L22: 0 | M22: =L22*$M$14 -> 0 | O22: 0 | P22: 0
B23: Opleiding | C23: 0 | D23: =C23*$D$14 -> 0 | F23: 0 | G23: =F23*$G$14 -> 0 | I23: 0 | J23: =I23*$J$14 -> 0 | L23: 0 | M23: =L23*$M$14 -> 0 | O23: 0 | P23: 0
B24: Sociaal fonds | C24: 0 | D24: =C24*$D$14 -> 0 | F24: 0 | G24: =F24*$G$14 -> 0 | I24: 0 | J24: =I24*$J$14 -> 0 | L24: 0 | M24: =L24*$M$14 -> 0 | O24: 0 | P24: 0
B25: Pensioen (ABP) | C25: 0 | D25: =C25*$D$14 -> 0 | F25: 0 | G25: =F25*$G$14 -> 0 | I25: 0 | J25: =I25*$J$14 -> 0 | L25: 0 | M25: =L25*$M$14 -> 0 | O25: 0 | P25: 0
C26: Subtotaal: | D26: =SUM(D14:D25) -> 100 | F26: Subtotaal: | G26: =SUM(G14:G25) -> 100 | I26: Subtotaal: | J26: =SUM(J14:J25) -> 100 | L26: Subtotaal: | M26: =SUM(M14:M25) -> 100 | O26: Subtotaal: | P26: =SUM(P14:P25) -> 100
B28: Omrekenfactor exclusief bureaumarge | D28: =D26/100 -> 1 | G28: =G26/100 -> 1 | J28: =J26/100 -> 1 | M28: =M26/100 -> 1 | P28: =P26/100 -> 1
B29: Administratieve vergoeding Kwalifier | D29: 0.025 | G29: 0.025 | J29: 0.025 | M29: 0.025 | P29: 0.025
C31: Percentage | F31: Percentage | I31: Percentage | L31: Percentage | O31: Percentage
B32: Bureaumarge | C32: 0 | F32: 0 | I32: 0 | L32: 0 | O32: 0
B34: Omrekenfactor inclusief bureaumarge | D34: =D28/(1-(C32+D29)) -> 1.025641 | G34: =G28/(1-(F32+G29)) -> 1.025641 | J34: =J28/(1-(I32+J29)) -> 1.025641 | M34: =M28/(1-(L32+M29)) -> 1.025641 | P34: =P28/(1-(O32+P29)) -> 1.025641

Sheet Inschrijfsom & Ondertekening
B2: Bijlage Prijzenblad
B3: Europese aanbesteding 'Payrolldienstverlening'
C5: Omrekenfactor | D5: Omrekenfactor (zonder basisloon, 100%) | E5: Weging | F5: Aandeel
B6: ABP- Pensioen, ziekterisico opdrachtgever | C6: =Omrekenfactoren!D34 -> 1.025641 | D6: =C6-1 -> 0.025641026 | E6: 0.7 | F6: =D6*E6 -> 0.017948718
B7: ABP- Pensioen, ziekterisico opdrachtnemer | C7: =Omrekenfactoren!G34 -> 1.025641 | D7: =C7-1 -> 0.025641026 | E7: 0.15 | F7: =D7*E7 -> 0.0038461538
B8: Payroll AOW, ziekterisico opdrachtgever | C8: =Omrekenfactoren!J34 -> 1.025641 | D8: =C8-1 -> 0.025641026 | E8: 0.05 | F8: =D8*E8 -> 0.0012820513
B9: Payroll AOW, ziekterisico opdrachtnemer | C9: =Omrekenfactoren!M34 -> 1.025641 | D9: =C9-1 -> 0.025641026 | E9: 0.05 | F9: =D9*E9 -> 0.0012820513
B10: Eenmalige uitkeringen | C10: =Omrekenfactoren!P34 -> 1.025641 | D10: =C10-1 -> 0.025641026 | E10: 0.05 | F10: =D10*E10 -> 0.0012820513
B12: Gemiddelde omrekenfactor (vergelijkingswaarde): | F12: =1+SUM(F6:F10) -> 1.025641
B14: Ondertekening
B15: Inschrijver:
B16: Naam:
B17: Datum:
B18: Handtekening:
