Workbook

Sheet Toelichting en verplichtingen
A3: Toelichting en verplichtingen werkwijze Prijzenblad
A4: • Gebruik voor de invulling van de prijzen altijd dit bijgevoegde Prijzenblad, het Prijzenblad dient volledig zijn ingevuld • Op het Prijzenblad mogen geen negatieve prijzen worden vermeld • Er is sprake van vrije dealerkeuze, waarbij de standaard fleetownerkorting gehanteerd moet worden • Ingevulde leasetarieven zijn inclusief opties en accessoires en voldoen aan de gestelde productspecificaties en bestickering zoals vermeld in de bijlagen • Eventuele subsidies dienen niet te worden meegenomen in de leasetarieven • Prijzen zijn exclusief btw en brandstofvoorschot • Alle te vermelden prijzen zijn in euro’s • De inschrijver dient alleen de daarvoor aangemerkte (gele) cellen te in te vullen. Wijzigingen aan andere cellen zullen uitsluiting tot gevolg hebben • De prijzen worden tussentijds niet afgerond. Afronding vindt plaats op hele euro’s in het tabblad "Totaal Inschrijving" • Het prijzenblad dient rechtsgeldig ondertekend te worden voor het geheel onderaan tabblad "Totaal Inschrijving". De ondertekenaar dient blijkens het handelsregister bevoegd te zijn de Inschrijver te vertegenwoordigen of gevolmachtigde te zijn • De door Opdrachtnemer opgenomen tarieven zijn All-in tarieven zoals uitgevraagd in deze aanbesteding). eventuele overige kosten die u in rekening wilt brengen, moeten vermeld worden onder tabblad C. Overige kosten Let op: In het geval dat het door Inschrijver ingediende prijsformulier niet voldoet aan bovenstaande voorwaarden, wordt het prijsformulier ongeldig en volgt terzijdelegging van de Inschrijving en dus voor de Inschrijver uitsluiting van deelname aan deze aanbesteding.

Sheet Totaal Inschrijving
A6: Totaal tarieven inschrijving
A7: Onderdeel | B7: Inschrijfprijs | C7: Weging | D7: Totaal inschrijving
A8: A. Leasetarief grid lijst: "Inschrijfprijs A. (Som "Totaal Leasetarief per jr")" | B8: ='A. Leasetarief grid lijst'!G1 -> 0 | C8: 0.5 | D8: ='A. Leasetarief grid lijst'!G1*C8 -> 0
A9: B. Alternatief aanbod: "Inschrijfprijs B. (Som "Totaal Leasetarief per jr")" | B9: ='B. Alternatief aanbod'!H1 -> 0 | C9: 0.45 | D9: ='B. Alternatief aanbod'!H1*C9 -> 0
A10: C. Overige kosten: "Inschrijfprijs C. (Som "Overige kosten")" | B10: ='C. Overige kosten'!E1 -> 0 | C10: 0.05 | D10: ='C. Overige kosten'!E1*C10 -> 0
A11: Totaal | C11: 1 | D11: =SUM(D8:D10) -> 0
A13: Bedrijfsnaam Inschrijver:
A15: Datum:
A17: Naam ondertekenaar:
A19: Functie:
A21: Handtekening:

Sheet A. Leasetarief grid lijst
A1: Het is verplicht alle gele cellen in te vullen met leasetarieven per maand (excl. BTW en excl. brandstof voorschot). Onvolledige invoer wordt niet geaccepteerd. | F1: Inschrijfprijs A. (Som "Totaal Leasetarief per jr") | G1: =SUM(U5:U16) -> 0
A4: Doelgroep | B4: Lease aantal km per jaar | C4: Bestickering | D4: Referentieauto | E4: Catalogusprijs excl. BTW / BPM | F4: Catalogusprijs incl. BTW / BPM | G4: Leasetarief 48 mnd / 10.000 km | H4: Leasetarief 48 mnd / 15.000 km | I4: Leasetarief 48 mnd / 20.000 km | J4: Leasetarief 48 mnd / 25.000 km | K4: Leasetarief 48 mnd / 30.000 km | L4: Leasetarief 48 mnd / 35.000 km | M4: Leasetarief 60 mnd / 10.000 km | N4: Leasetarief 60 mnd / 15.000 km | O4: Leasetarief 60 mnd / 20.000 km | P4: Leasetarief 60 mnd / 25.000 km | Q4: Leasetarief 60 mnd / 30.000 km | R4: Gemiddeld Leasetarief per mnd | S4: Geschat #auto's | T4: Totaal Leasetarief per mnd | U4: Totaal Leasetarief per jr
A5: Algemeen | B5: 15000 | C5: Volledige huisstijl | D5: Toyota Yaris 1.5 Hyb. Active Aut 5d | E5: 21411.57 | F5: 27487 | G5: 0 | H5: 0 | I5: 0 | J5: 0 | K5: 0 | L5: 0 | M5: 0 | N5: 0 | O5: 0 | P5: 0 | Q5: 0 | R5: =AVERAGE(G5:Q5) -> 0 | S5: 4 | T5: =R5*S5 -> 0 | U5: =T5*12 -> 0
A6: Algemeen | B6: 10000 | C6: Geen | D6: Kia EV2 Air 42,2 kWh | E6: 23519.01 | F6: 29145 | G6: 0 | H6: 0 | I6: 0 | J6: 0 | K6: 0 | L6: 0 | M6: 0 | N6: 0 | O6: 0 | P6: 0 | Q6: 0 | R6: =AVERAGE(G6:Q6) -> 0 | S6: 2 | T6: =R6*S6 -> 0 | U6: =T6*12 -> 0
A7: IB ingenieursbureau - Toezichthouders | B7: 10000 | C7: Volledige huisstijl | D7: Opel Corsa Electric 50 kWh Business Edition | E7: 23316 | F7: 28899 | G7: 0 | H7: 0 | I7: 0 | J7: 0 | K7: 0 | L7: 0 | M7: 0 | N7: 0 | O7: 0 | P7: 0 | Q7: 0 | R7: =AVERAGE(G7:Q7) -> 0 | S7: 2 | T7: =R7*S7 -> 0 | U7: =T7*12 -> 0
A8: IB ingenieursbureau - Toezichthouders | B8: 10000 | C8: Klein logo | D8: Renault 5 E-Tech (5-d) (52kWh) ev 150PK comfort range techno | E8: 25295.87 | F8: 31295 | G8: 0 | H8: 0 | I8: 0 | J8: 0 | K8: 0 | L8: 0 | M8: 0 | N8: 0 | O8: 0 | P8: 0 | Q8: 0 | R8: =AVERAGE(G8:Q8) -> 0 | S8: 3 | T8: =R8*S8 -> 0 | U8: =T8*12 -> 0
A9: IB – ingenieursbureau - Landmeter | B9: 15000 | C9: Geen | D9: Toyota RAV4 2.5 PHEV 4WD Dynamic Aut. | E9: 42196.69 | F9: 51805 | G9: 0 | H9: 0 | I9: 0 | J9: 0 | K9: 0 | L9: 0 | M9: 0 | N9: 0 | O9: 0 | P9: 0 | Q9: 0 | R9: =AVERAGE(G9:Q9) -> 0 | S9: 1 | T9: =R9*S9 -> 0 | U9: =T9*12 -> 0
A10: VTH-Boa en Bouw- en woningtoezichthouders | B10: 10000 | C10: Volledige huisstijl | D10: Volkswagen ID Polo Life 37 kWh | E10: 20742 | F10: 25785 | G10: 0 | H10: 0 | I10: 0 | J10: 0 | K10: 0 | L10: 0 | M10: 0 | N10: 0 | O10: 0 | P10: 0 | Q10: 0 | R10: =AVERAGE(G10:Q10) -> 0 | S10: 1 | T10: =R10*S10 -> 0 | U10: =T10*12 -> 0
A11: VTH-Boa en Bouw- en woningtoezichthouders | B11: 10000 | C11: Geen | D11: Skoda Epiq Essence 35 38,5 kWh | E11: 20742 | F11: 25785 | G11: 0 | H11: 0 | I11: 0 | J11: 0 | K11: 0 | L11: 0 | M11: 0 | N11: 0 | O11: 0 | P11: 0 | Q11: 0 | R11: =AVERAGE(G11:Q11) -> 0 | S11: 1 | T11: =R11*S11 -> 0 | U11: =T11*12 -> 0
A12: VTH – Handhaving (Auto) | B12: 30000 | C12: Handhaving | D12: Kia EV3 AIR 81,4 kWh 204PK | E12: 32506.61 | F12: 40020 | G12: 0 | H12: 0 | I12: 0 | J12: 0 | K12: 0 | L12: 0 | M12: 0 | N12: 0 | O12: 0 | P12: 0 | Q12: 0 | R12: =AVERAGE(G12:Q12) -> 0 | S12: 2 | T12: =R12*S12 -> 0 | U12: =T12*12 -> 0
A13: VTH – Handhaving (Bus) | B13: 25000 | C13: Handhaving | D13: Opel Vivaro 75kWh ev l2 100kW aut | E13: 43400 | F13: 52514 | G13: 0 | H13: 0 | I13: 0 | J13: 0 | K13: 0 | L13: 0 | M13: 0 | N13: 0 | O13: 0 | P13: 0 | Q13: 0 | R13: =AVERAGE(G13:Q13) -> 0 | S13: 1 | T13: =R13*S13 -> 0 | U13: =T13*12 -> 0
A14: Bode | B14: 10000 | C14: Geen | D14: Nissan Townstar VAN ev 4-deurs L1 N-Connecta | E14: 31990 | F14: 38708 | G14: 0 | H14: 0 | I14: 0 | J14: 0 | K14: 0 | L14: 0 | M14: 0 | N14: 0 | O14: 0 | P14: 0 | Q14: 0 | R14: =AVERAGE(G14:Q14) -> 0 | S14: 1 | T14: =R14*S14 -> 0 | U14: =T14*12 -> 0
A15: Wethouders (college) | B15: 10000 | C15: Geen | D15: Renault Megane E-Tech (60kWh) ev 220PK comfort range Iconic | E15: 33395.04 | F15: 41095 | G15: 0 | H15: 0 | I15: 0 | J15: 0 | K15: 0 | L15: 0 | M15: 0 | N15: 0 | O15: 0 | P15: 0 | Q15: 0 | R15: =AVERAGE(G15:Q15) -> 0 | S15: 1 | T15: =R15*S15 -> 0 | U15: =T15*12 -> 0
A16: Burgemeester | B16: 15000 | C16: Geen | D16: Volvo XC60 - T6 AWD Plug-in hybrid Business Edition 5D | E16: 53620.66 | F16: 65690 | G16: 0 | H16: 0 | I16: 0 | J16: 0 | K16: 0 | L16: 0 | M16: 0 | N16: 0 | O16: 0 | P16: 0 | Q16: 0 | R16: =AVERAGE(G16:Q16) -> 0 | S16: 1 | T16: =R16*S16 -> 0 | U16: =T16*12 -> 0

Sheet B. Alternatief aanbod
B1: Het is verplicht alle gele cellen in te vullen met leasetarieven per maand (excl. BTW en excl. brandstof voorschot). Onvolledige invoer wordt niet geaccepteerd. | G1: Inschrijfprijs B. (Som "Totaal Leasetarief per jr") | H1: =SUM(X6:X41) -> 0
B2: Opdrachtgever verwacht in deze sheet uw beste prijsvoorstel voor leaseauto's. Uw beste prijsvoorstel moet gebaseerd zijn op elektrische auto's, waarbij u 3 alternatieven aanbiedt per doelgroep en referentieauto. Uw aanbod moet minimaal voldoen aan: De productspecificaties, gebruiksdoel én moet gelijkwaardig zijn qua autosegment. De gunning vindt plaats op uw aanbod exclusief brandstof.
A5: Doelgroep | B5: Doelgroep | C5: Lease aantal km per jaar | D5: Bestickering | E5: Referentieauto | F5: Merk / Model / Uitvoering | G5: Catalogusprijs excl. BTW / BPM | H5: Catalogusprijs incl. BTW / BPM | I5: Leasetarief 48 mnd / 10.000 km | J5: Leasetarief 48 mnd / 15.000 km | K5: Leasetarief 48 mnd / 20.000 km | L5: Leasetarief 48 mnd / 25.000 km | M5: Leasetarief 48 mnd / 30.000 km | N5: Leasetarief 48 mnd / 35.000 km | O5: Leasetarief 60 mnd / 10.000 km | P5: Leasetarief 60 mnd / 15.000 km | Q5: Leasetarief 60 mnd / 20.000 km | R5: Leasetarief 60 mnd / 25.000 km | S5: Leasetarief 60 mnd / 30.000 km | T5: Gemiddeld Leasetarief per mnd | U5: Gemiddeld Leasetarief per maand per Doelgroep | V5: Geschat #auto's per Doelgroep | W5: Totaal Leasetarief per maand per Doelgroep | X5: Totaal Leasetarief per jaar per Doelgroep
B6: Algemeen | C6: 15000 | D6: Volledige huisstijl | E6: Toyota Yaris 1.5 Hyb. Active Aut 5d | F6: <<alternatief 1>> | I6: 0 | J6: 0 | K6: 0 | L6: 0 | M6: 0 | N6: 0 | O6: 0 | P6: 0 | Q6: 0 | R6: 0 | S6: 0 | T6: =AVERAGE(I6:S6) -> 0 | U6: =AVERAGE(T6:T8) -> 0 | V6: 4 | W6: =U6*V6 -> 0 | X6: =W6*12 -> 0
F7: <<alternatief 2>> | I7: 0 | J7: 0 | K7: 0 | L7: 0 | M7: 0 | N7: 0 | O7: 0 | P7: 0 | Q7: 0 | R7: 0 | S7: 0 | T7: =AVERAGE(I7:S7) -> 0
F8: <<alternatief 3>> | I8: 0 | J8: 0 | K8: 0 | L8: 0 | M8: 0 | N8: 0 | O8: 0 | P8: 0 | Q8: 0 | R8: 0 | S8: 0 | T8: =AVERAGE(I8:S8) -> 0
B9: Algemeen | C9: 10000 | D9: Geen | E9: Kia EV2 Air 42,2 kWh | F9: <<alternatief 1>> | I9: 0 | J9: 0 | K9: 0 | L9: 0 | M9: 0 | N9: 0 | O9: 0 | P9: 0 | Q9: 0 | R9: 0 | S9: 0 | T9: =AVERAGE(I9:S9) -> 0 | U9: =AVERAGE(T9:T11) -> 0 | V9: 2 | W9: =U9*V9 -> 0 | X9: =W9*12 -> 0
F10: <<alternatief 2>> | I10: 0 | J10: 0 | K10: 0 | L10: 0 | M10: 0 | N10: 0 | O10: 0 | P10: 0 | Q10: 0 | R10: 0 | S10: 0 | T10: =AVERAGE(I10:S10) -> 0 | W10: =T10*V12 -> 0 | X10: =W10*12 -> 0
F11: <<alternatief 3>> | I11: 0 | J11: 0 | K11: 0 | L11: 0 | M11: 0 | N11: 0 | O11: 0 | P11: 0 | Q11: 0 | R11: 0 | S11: 0 | T11: =AVERAGE(I11:S11) -> 0 | W11: =T11*V13 -> 0 | X11: =W11*12 -> 0
B12: IB ingenieursbureau - Toezichthouders | C12: 10000 | D12: Volledige huisstijl | E12: Opel Corsa Electric 50 kWh Business Edition | F12: <<alternatief 1>> | I12: 0 | J12: 0 | K12: 0 | L12: 0 | M12: 0 | N12: 0 | O12: 0 | P12: 0 | Q12: 0 | R12: 0 | S12: 0 | T12: =AVERAGE(I12:S12) -> 0 | U12: =AVERAGE(T12:T14) -> 0 | V12: 2 | W12: =U12*V12 -> 0 | X12: =W12*12 -> 0
F13: <<alternatief 2>> | I13: 0 | J13: 0 | K13: 0 | L13: 0 | M13: 0 | N13: 0 | O13: 0 | P13: 0 | Q13: 0 | R13: 0 | S13: 0 | T13: =AVERAGE(I13:S13) -> 0 | W13: =T13*V21 -> 0 | X13: =W13*12 -> 0
F14: <<alternatief 3>> | I14: 0 | J14: 0 | K14: 0 | L14: 0 | M14: 0 | N14: 0 | O14: 0 | P14: 0 | Q14: 0 | R14: 0 | S14: 0 | T14: =AVERAGE(I14:S14) -> 0 | W14: =T14*V22 -> 0 | X14: =W14*12 -> 0
B15: IB ingenieursbureau - Toezichthouders | C15: 10000 | D15: Klein logo | E15: Renault 5 E-Tech (5-d) (52kWh) ev 150PK comfort range techno | F15: <<alternatief 1>> | I15: 0 | J15: 0 | K15: 0 | L15: 0 | M15: 0 | N15: 0 | O15: 0 | P15: 0 | Q15: 0 | R15: 0 | S15: 0 | T15: =AVERAGE(I15:S15) -> 0 | U15: =AVERAGE(T15:T17) -> 0 | V15: 3 | W15: =U15*V15 -> 0 | X15: =W15*12 -> 0
F16: <<alternatief 2>> | I16: 0 | J16: 0 | K16: 0 | L16: 0 | M16: 0 | N16: 0 | O16: 0 | P16: 0 | Q16: 0 | R16: 0 | S16: 0 | T16: =AVERAGE(I16:S16) -> 0 | W16: =T16*V24 -> 0 | X16: =W16*12 -> 0
F17: <<alternatief 3>> | I17: 0 | J17: 0 | K17: 0 | L17: 0 | M17: 0 | N17: 0 | O17: 0 | P17: 0 | Q17: 0 | R17: 0 | S17: 0 | T17: =AVERAGE(I17:S17) -> 0 | W17: =T17*V25 -> 0 | X17: =W17*12 -> 0
B18: IB – ingenieursbureau - Landmeter | C18: 15000 | D18: Geen | E18: Toyota RAV4 2.5 PHEV 4WD Dynamic Aut. | F18: <<alternatief 1>> | I18: 0 | J18: 0 | K18: 0 | L18: 0 | M18: 0 | N18: 0 | O18: 0 | P18: 0 | Q18: 0 | R18: 0 | S18: 0 | T18: =AVERAGE(I18:S18) -> 0 | U18: =AVERAGE(T18:T20) -> 0 | V18: 1 | W18: =U18*V18 -> 0 | X18: =W18*12 -> 0
F19: <<alternatief 2>> | I19: 0 | J19: 0 | K19: 0 | L19: 0 | M19: 0 | N19: 0 | O19: 0 | P19: 0 | Q19: 0 | R19: 0 | S19: 0 | T19: =AVERAGE(I19:S19) -> 0 | W19: =T19*V27 -> 0 | X19: =W19*12 -> 0
F20: <<alternatief 3>> | I20: 0 | J20: 0 | K20: 0 | L20: 0 | M20: 0 | N20: 0 | O20: 0 | P20: 0 | Q20: 0 | R20: 0 | S20: 0 | T20: =AVERAGE(I20:S20) -> 0 | W20: =T20*V28 -> 0 | X20: =W20*12 -> 0
B21: VTH-Boa en Bouw- en woningtoezichthouders | C21: 10000 | D21: Volledige huisstijl | E21: Volkswagen ID Polo Life 37 kWh | F21: <<alternatief 1>> | I21: 0 | J21: 0 | K21: 0 | L21: 0 | M21: 0 | N21: 0 | O21: 0 | P21: 0 | Q21: 0 | R21: 0 | S21: 0 | T21: =AVERAGE(I21:S21) -> 0 | U21: =AVERAGE(T21:T23) -> 0 | V21: 1 | W21: =U21*V21 -> 0 | X21: =W21*12 -> 0
F22: <<alternatief 2>> | I22: 0 | J22: 0 | K22: 0 | L22: 0 | M22: 0 | N22: 0 | O22: 0 | P22: 0 | Q22: 0 | R22: 0 | S22: 0 | T22: =AVERAGE(I22:S22) -> 0 | W22: =T22*V24 -> 0 | X22: =W22*12 -> 0
F23: <<alternatief 3>> | I23: 0 | J23: 0 | K23: 0 | L23: 0 | M23: 0 | N23: 0 | O23: 0 | P23: 0 | Q23: 0 | R23: 0 | S23: 0 | T23: =AVERAGE(I23:S23) -> 0 | W23: =T23*V25 -> 0 | X23: =W23*12 -> 0
B24: VTH-Boa en Bouw- en woningtoezichthouders | C24: 10000 | D24: Geen | E24: Skoda Epiq Essence 35 38,5 kWh | F24: <<alternatief 1>> | I24: 0 | J24: 0 | K24: 0 | L24: 0 | M24: 0 | N24: 0 | O24: 0 | P24: 0 | Q24: 0 | R24: 0 | S24: 0 | T24: =AVERAGE(I24:S24) -> 0 | U24: =AVERAGE(T24:T26) -> 0 | V24: 1 | W24: =U24*V24 -> 0 | X24: =W24*12 -> 0
F25: <<alternatief 2>> | I25: 0 | J25: 0 | K25: 0 | L25: 0 | M25: 0 | N25: 0 | O25: 0 | P25: 0 | Q25: 0 | R25: 0 | S25: 0 | T25: =AVERAGE(I25:S25) -> 0 | W25: =T25*V27 -> 0 | X25: =W25*12 -> 0
F26: <<alternatief 3>> | I26: 0 | J26: 0 | K26: 0 | L26: 0 | M26: 0 | N26: 0 | O26: 0 | P26: 0 | Q26: 0 | R26: 0 | S26: 0 | T26: =AVERAGE(I26:S26) -> 0 | W26: =T26*V28 -> 0 | X26: =W26*12 -> 0
B27: VTH – Handhaving (Auto) | C27: 30000 | D27: Handhaving | E27: Kia EV3 AIR 81,4 kWh 204PK | F27: <<alternatief 1>> | I27: 0 | J27: 0 | K27: 0 | L27: 0 | M27: 0 | N27: 0 | O27: 0 | P27: 0 | Q27: 0 | R27: 0 | S27: 0 | T27: =AVERAGE(I27:S27) -> 0 | U27: =AVERAGE(T27:T29) -> 0 | V27: 2 | W27: =U27*V27 -> 0 | X27: =W27*12 -> 0
F28: <<alternatief 2>> | I28: 0 | J28: 0 | K28: 0 | L28: 0 | M28: 0 | N28: 0 | O28: 0 | P28: 0 | Q28: 0 | R28: 0 | S28: 0 | T28: =AVERAGE(I28:S28) -> 0 | W28: =T28*V33 -> 0 | X28: =W28*12 -> 0
F29: <<alternatief 3>> | I29: 0 | J29: 0 | K29: 0 | L29: 0 | M29: 0 | N29: 0 | O29: 0 | P29: 0 | Q29: 0 | R29: 0 | S29: 0 | T29: =AVERAGE(I29:S29) -> 0 | W29: =T29*V34 -> 0 | X29: =W29*12 -> 0
B30: VTH – Handhaving (Bus) | C30: 25000 | D30: Handhaving | E30: Opel Vivaro 75kWh ev l2 100kW aut | F30: <<alternatief 1>> | I30: 0 | J30: 0 | K30: 0 | L30: 0 | M30: 0 | N30: 0 | O30: 0 | P30: 0 | Q30: 0 | R30: 0 | S30: 0 | T30: =AVERAGE(I30:S30) -> 0 | U30: =AVERAGE(T30:T32) -> 0 | V30: 1 | W30: =U30*V30 -> 0 | X30: =W30*12 -> 0
F31: <<alternatief 2>> | I31: 0 | J31: 0 | K31: 0 | L31: 0 | M31: 0 | N31: 0 | O31: 0 | P31: 0 | Q31: 0 | R31: 0 | S31: 0 | T31: =AVERAGE(I31:S31) -> 0 | W31: =T31*V36 -> 0 | X31: =W31*12 -> 0
F32: <<alternatief 3>> | I32: 0 | J32: 0 | K32: 0 | L32: 0 | M32: 0 | N32: 0 | O32: 0 | P32: 0 | Q32: 0 | R32: 0 | S32: 0 | T32: =AVERAGE(I32:S32) -> 0 | W32: =T32*V37 -> 0 | X32: =W32*12 -> 0
B33: Bode | C33: 10000 | D33: Geen | E33: Nissan Townstar VAN ev 4-deurs L1 N-Connecta | F33: <<alternatief 1>> | I33: 0 | J33: 0 | K33: 0 | L33: 0 | M33: 0 | N33: 0 | O33: 0 | P33: 0 | Q33: 0 | R33: 0 | S33: 0 | T33: =AVERAGE(I33:S33) -> 0 | U33: =AVERAGE(T33:T35) -> 0 | V33: 1 | W33: =U33*V33 -> 0 | X33: =W33*12 -> 0
F34: <<alternatief 2>> | I34: 0 | J34: 0 | K34: 0 | L34: 0 | M34: 0 | N34: 0 | O34: 0 | P34: 0 | Q34: 0 | R34: 0 | S34: 0 | T34: =AVERAGE(I34:S34) -> 0 | W34: =T34*V39 -> 0 | X34: =W34*12 -> 0
F35: <<alternatief 3>> | I35: 0 | J35: 0 | K35: 0 | L35: 0 | M35: 0 | N35: 0 | O35: 0 | P35: 0 | Q35: 0 | R35: 0 | S35: 0 | T35: =AVERAGE(I35:S35) -> 0 | W35: =T35*V40 -> 0 | X35: =W35*12 -> 0
B36: Wethouders (college) | C36: 10000 | D36: Geen | E36: Renault Megane E-Tech (60kWh) ev 220PK comfort range Iconic | F36: <<alternatief 1>> | I36: 0 | J36: 0 | K36: 0 | L36: 0 | M36: 0 | N36: 0 | O36: 0 | P36: 0 | Q36: 0 | R36: 0 | S36: 0 | T36: =AVERAGE(I36:S36) -> 0 | U36: =AVERAGE(T36:T38) -> 0 | V36: 1 | W36: =U36*V36 -> 0 | X36: =W36*12 -> 0
F37: <<alternatief 2>> | I37: 0 | J37: 0 | K37: 0 | L37: 0 | M37: 0 | N37: 0 | O37: 0 | P37: 0 | Q37: 0 | R37: 0 | S37: 0 | T37: =AVERAGE(I37:S37) -> 0 | W37: =T37*V42 -> 0 | X37: =W37*12 -> 0
F38: <<alternatief 3>> | I38: 0 | J38: 0 | K38: 0 | L38: 0 | M38: 0 | N38: 0 | O38: 0 | P38: 0 | Q38: 0 | R38: 0 | S38: 0 | T38: =AVERAGE(I38:S38) -> 0 | W38: =T38*V43 -> 0 | X38: =W38*12 -> 0
B39: Burgemeester | C39: 15000 | D39: Geen | E39: Volvo XC60 - T6 AWD Plug-in hybrid Business Edition 5D | F39: <<alternatief 1>> | I39: 0 | J39: 0 | K39: 0 | L39: 0 | M39: 0 | N39: 0 | O39: 0 | P39: 0 | Q39: 0 | R39: 0 | S39: 0 | T39: =AVERAGE(I39:S39) -> 0 | U39: =AVERAGE(T39:T41) -> 0 | V39: 1 | W39: =U39*V39 -> 0 | X39: =W39*12 -> 0
F40: <<alternatief 2>> | I40: 0 | J40: 0 | K40: 0 | L40: 0 | M40: 0 | N40: 0 | O40: 0 | P40: 0 | Q40: 0 | R40: 0 | S40: 0 | T40: =AVERAGE(I40:S40) -> 0 | W40: =T40*V45 -> 0 | X40: =W40*12 -> 0
F41: <<alternatief 3>> | I41: 0 | J41: 0 | K41: 0 | L41: 0 | M41: 0 | N41: 0 | O41: 0 | P41: 0 | Q41: 0 | R41: 0 | S41: 0 | T41: =AVERAGE(I41:S41) -> 0 | W41: =T41*V46 -> 0 | X41: =W41*12 -> 0

Sheet C. Overige kosten
A1: Alle gele cellen invullen: Kosten per maand of per handeling excl. BTW | D1: Inschrijfprijs C. (Som "Overige kosten") | E1: =SUM(E5:E17) -> 0
A5: Overige kosten | B5: Prijs per | C5: Prijs | D5: Weging | E5: Totaal prijs
A6: Transport NL niet vallend onder leasecontract | B6: Handeling | D6: 0.05 | E6: =C6*D6 -> 0
A7: Stallingskosten per dag | B7: Handeling | D7: 0.05 | E7: =C7*D7 -> 0
A8: Standaard reiniging interieur | B8: Handeling | D8: 0.05 | E8: =C8*D8 -> 0
A9: Uitgebreide reiniging interieur | B9: Handeling | D9: 0.05 | E9: =C9*D9 -> 0
A10: Ozonbehandeling | B10: Handeling | D10: 0.1 | E10: =C10*D10 -> 0
A11: Aftankkosten | B11: Handeling | D11: 0.1 | E11: =C11*D11 -> 0
A12: Vervangen kentekenbewijs | B12: Handeling | D12: 0.12 | E12: =C12*D12 -> 0
A13: Vervangen kentekenplaten | B13: Handeling | D13: 0.12 | E13: =C13*D13 -> 0
A14: Vervangen brandstofpas bij verlies | B14: Handeling | D14: 0.12 | E14: =C14*D14 -> 0
A15: Kosten los brandstof / laadcontract (excl. voorschot) | B15: Maand | D15: 0.1 | E15: =C15*D15 -> 0
A16: Kosten missende reservesleutel | B16: Handeling | D16: 0.12 | E16: =C16*D16 -> 0
A17: Overige hierboven niet vermelde incidentele kosten: | B17: Totaalkosten Handeling | D17: 0.02 | E17: =C17*D17 -> 0
D18: =SUM(D6:D17) -> 1
