Workbook

Sheet Voorblad
B2: EA Afdrukapparatuur Reprodienstverlening en Portaal
B5: TenderNed kenmerk: TN612244
B7: Datum:
B10: Versie:
B11: 30-sept nvi 1
B13: Bedrijfsnaam:
B16: Naam ondertekenaar:
B19: Functie:
B22: Handtekening:

Sheet Instructies
B2: Instructies
B4: Beveiligd | D4: De wit gemarkeerde cellen in de achterliggende tabbladen mogen door Inschrijver niet worden veranderd.
B7: Invullen | D7: De licht groen gemarkeerde cellen in de achterliggende tabbladen dienen door Inschrijver te worden ingevuld (ook op het Voorblad; Datum, Versienummer, Inschrijver en Handtekening).
B10: Toelichting | D10: De blauw gemarkeerde cellen bevatten aanvullende toelichting / instructies voor Inschijver voor het invullen van de gevraagde prijsinformatie. Voor aanvullende achtergrondinformatie met betrekking tot de verschillende onderdelen uit dit prijzenblad wordt verwezen naar de Aanbestedingsleidraad.
B13: Totalen | D13: De grijs gemarkeerde cellen bevatten de berekende totalen ten behoeve van de TKI berekening.
B15: TKI | D15: Totale Kosten Inschrijver.

Sheet Eisen 
B2: Eisen
B4: Nr | C4: Eis | D4: Referentie tab
B5: 1 | C5: BTW: Alle opgegeven kosten/prijzen zijn exclusief BTW en op twee decimalen nauwkeurig | D5: Implementatie en Exploitatie
B6: 2 | C6: Het betreft maandtarieven | D6: Exploitatie
B7: 3 | C7: Totale Kosten Inschrijver (TKI). De TKI berekening is van toepassing op de gehele looptijd van de initiële Raamovereenkomst en de eventuele verlenging. | D7: Implementatie en Exploitatie
B8: 4 | C8: De implementatiekosten zijn onderdeel van de TKI berekening en worden eenmalig bij de start van de Raamovereenkomst gefactureerd. | D8: Implementatie
B9: 5 | C9: Voor de huur van de Apparatuur geldt dat in de verlengingsjaren geen huurpijs in rekening gebracht mag worden. Verder geldt dat in de verlengingsjaren Apparaten ingeleverd kunnen worden zonder bijkomende kosten. | D9: Exploitatie
B10: 6 | C10: Er zullen geen kosten in rekening worden gebracht voor het retourhalen en wipen van Apparatuur tijdens of aan het einde van de Raamovereenkomst, behoudens eventueel verschuldigde resttermijnen. | D10: Exploitatie
B11: 7 | C11: Voor scans geldt een nul tarief, deze worden dus niet in rekening gebracht. | D11: Exploitatie
B12: 8 | C12: Alle variabele en vaste kosten zoals toner en/of inkt (ongeacht vlakvulling), drum, toner opvangbakjes, Verbruiksartikelen in algemene zin, voorrijdkosten, reparatie etc. zitten in de afgesproken Afdrukprijs. Enige uitzondering hierop zijn huur van de machine, nietjes, stroom en papier. | D12: Exploitatie
B13: 9 | C13: Strategisch en/of manipulatief inschrijven is niet toegestaan. | D13: Implementatie en Exploitatie

Sheet Totale Kosten Inschrijver
B2: Totale Kosten Inschrijver
B4: Samenvatting opgegeven kosten | C4: Initiële looptijd | H4: Verlenging
B5: Onderdeel | C5: Jaar 1 | D5: Jaar 2 | E5: Jaar 3 | F5: Jaar 4 | G5: Jaar 5 | H5: Jaar 6 | I5: Totaal TKI
B6: Tabel 1: Eenmalige implementatiekosten | C6: =Implementatie!C7 -> 0 | I6: =SUM(C6:H6) -> 0
B7: Tabel 2: Huur Apparatuur | C7: =Exploitatie!F12 -> 0 | D7: =Exploitatie!G12 -> 0 | E7: =Exploitatie!H12 -> 0 | F7: =Exploitatie!I12 -> 0 | G7: =Exploitatie!J12 -> 0 | I7: =SUM(C7:H7) -> 0
B8: Tabel 3: Verbruik Afdrukken Decentraal | C8: =Exploitatie!F27 -> 0 | D8: =Exploitatie!G27 -> 0 | E8: =Exploitatie!H27 -> 0 | F8: =Exploitatie!I27 -> 0 | G8: =Exploitatie!J27 -> 0 | H8: =Exploitatie!K27 -> 0 | I8: =SUM(C8:H8) -> 0
B9: Tabel 4: Verbruik Afdrukken Interne Repro | C9: =Exploitatie!F36 -> 0 | D9: =Exploitatie!G36 -> 0 | E9: =Exploitatie!H36 -> 0 | F9: =Exploitatie!I36 -> 0 | G9: =Exploitatie!J36 -> 0 | H9: =Exploitatie!K36 -> 0 | I9: =SUM(C9:H9) -> 0
B10: Tabel 5: Portaal | C10: =Exploitatie!G48 -> 0 | D10: =Exploitatie!H48 -> 0 | E10: =Exploitatie!I48 -> 0 | F10: =Exploitatie!J47 -> 0 | G10: =Exploitatie!K47 -> 0 | H10: =Exploitatie!L48 -> 0 | I10: =SUM(C10:H10) -> 0
B11: Tabel 6: Kosten Externe Repro | C11: ='Externe Repro'!H40 -> 0 | D11: ='Externe Repro'!I40 -> 0 | E11: ='Externe Repro'!J40 -> 0 | F11: ='Externe Repro'!K40 -> 0 | G11: ='Externe Repro'!L40 -> 0 | H11: ='Externe Repro'!M40 -> 0 | I11: =SUM(C11:H11) -> 0
B12: Totaal | C12: =SUM(C6:C11) -> 0 | D12: =SUM(D6:D11) -> 0 | E12: =SUM(E6:E11) -> 0 | F12: =SUM(F6:F11) -> 0 | G12: =SUM(G6:G11) -> 0 | H12: =SUM(H6:H11) -> 0 | I12: =SUM(I6:I11) -> 0
I15: =I12-I11 -> 0
B16: Toelichting
B17: - Inschrijver dient in dit tabblad niets in te vullen of aan te passen, alle ingevulde bedragen uit de andere tabbladen worden automatisch overgenomen.
B18: - Bovenstaande tabel geeft een samenvatting van de prijzen en vergoedingen opgenomen in de andere tabbladen.
B19: - De optelsom van alle prijscomponenten over de gehele looptijd vormt de TKI (Totale Kosten Inschrijver).
B20: - Er wordt geen gebruik gemaakt van weging tussen de verschillende tabellen.

Sheet Implementatie
B2: Kosten Implementatie
B4: Tabel 1: Eenmalige implementatiekosten
B5: Onderdeel | C5: Tarief | D5: Percentage TKI
B6: Eenmalige implementatiekosten | C6: 0 | D6: =IF(('Totale Kosten Inschrijver'!I15>0),(C6/'Totale Kosten Inschrijver'!I15),0) -> 0
B7: Subtotaal | C7: =C6 -> 0
B9: Toelichting
B10: - In de bovenstaande tabel vult Inschrijver de algemene kosten voor de totale Implementatie in (zie Programma van Eisen voor de definitie).
B11: - De kosten voor de Implementatie zijn all-in kosten voor het opleveren van de Apparatuur en Software tot de volledige ingebruikname door de eindgebruikers.
B12: - De opgegeven eenmalige implementatiekosten mogen niet meer dan 2% van TKI bedragen (exclusief kosten externe repro).
F27: 1

Sheet Exploitatie
B2: Kosten Exploitatie
F4: Huurprijs per jaar
B5: Tabel 2: Huur Apparatuur | F5: Initiële Looptijd | K5: Verlenging
B6: Type | C6: Model conform eisen PVE | D6: Aantal (Indicatief) | E6: Huurprijs per Apparaat | F6: Jaar 1 | G6: Jaar 2 | H6: Jaar 3 | I6: Jaar 4 | J6: Jaar 5 | K6: Jaar 6
B7: Type 1 | C7: - | D7: 19 | E7: 0 | F7: =$D7*$E7*12 -> 0 | G7: =$D7*$E7*12 -> 0 | H7: =$D7*$E7*12 -> 0 | I7: =$D7*$E7*12 -> 0 | J7: =$D7*$E7*12 -> 0
B8: optioneel | C8: papierlade minimaal 1.500 vel | D8: 5 | E8: 0 | F8: =$D8*$E8*12 -> 0 | G8: =$D8*$E8*12 -> 0 | H8: =$D8*$E8*12 -> 0 | I8: =$D8*$E8*12 -> 0 | J8: =$D8*$E8*12 -> 0
B9: Type 2 | C9: - | D9: 8 | E9: 0 | F9: =$D9*$E9*12 -> 0 | G9: =$D9*$E9*12 -> 0 | H9: =$D9*$E9*12 -> 0 | I9: =$D9*$E9*12 -> 0 | J9: =$D9*$E9*12 -> 0
B10: optioneel | C10: papierlade 500 vel | D10: 2 | E10: 0 | F10: =$D10*$E10*12 -> 0 | G10: =$D10*$E10*12 -> 0 | H10: =$D10*$E10*12 -> 0 | I10: =$D10*$E10*12 -> 0 | J10: =$D10*$E10*12 -> 0
B11: Type 3 | C11: - | D11: 1 | E11: 0 | F11: =$D11*$E11*12 -> 0 | G11: =$D11*$E11*12 -> 0 | H11: =$D11*$E11*12 -> 0 | I11: =$D11*$E11*12 -> 0 | J11: =$D11*$E11*12 -> 0
E12: Subtotaal | F12: =SUM(F7:F11) -> 0 | G12: =SUM(G7:G11) -> 0 | H12: =SUM(H7:H11) -> 0 | I12: =SUM(I7:I11) -> 0 | J12: =SUM(J7:J11) -> 0
B15: Toelichting
B16: - In de kolom 'model conform eisen PvE' moet het modelnummer van de Inschrijver worden ingevuld.
B17: - In de bovenstaande tabel vult Inschrijver de Huurprijs per Apparaat per maand in. De configuratie van de aangeboden Apparatuur moet voldoen aan de machinespecificaties uit 'Bijlage C - Machinespecificaties'.
B18: - De aantallen Apparaten betreffen een indicatief aantal. Hier kunnen geen rechten aan ontleend worden.
B19: - In de subtotaal regel van bovenstaande tabel wordt de TKI per jaar voor dit onderdeel berekend door de verschillende onderdelen bij elkaar op te tellen.
F22: Afdrukkosten per jaar
B23: Tabel 3: Verbruik Afdrukken Decentraal (type 1&2) | F23: Initiële looptijd | K23: Verlenging
B24: Type Print | C24: Volume per maand | D24: Afdrukprijs | E24: Indexatie | F24: Jaar 1 | G24: Jaar 2 | H24: Jaar 3 | I24: Jaar 4 | J24: Jaar 5 | K24: Jaar 6
B25: Mono | C25: 150000 | D25: 0 | E25: 1 | F25: =C25*D25*12 -> 0 | G25: =F25 -> 0 | H25: =G25 -> 0 | I25: =G25 -> 0 | J25: =(D25*C25)*12 -> 0 | K25: =(C25*D25)*12 -> 0
B26: Kleur | C26: 60000 | D26: 0 | E26: 1 | F26: =C26*D26*12 -> 0 | G26: =F26 -> 0 | H26: =G26 -> 0 | I26: =G26 -> 0 | J26: =(D26*C26)*12 -> 0 | K26: =(C26*D26)*12 -> 0
D27: Subtotaal | F27: =SUM(F25:F26) -> 0 | G27: =SUM(G25:G26) -> 0 | H27: =SUM(H25:H26) -> 0 | I27: =SUM(I25:I26) -> 0 | J27: =SUM(J25:J26) -> 0 | K27: =SUM(K25:K26) -> 0
F31: Afdrukkosten per jaar
B32: Tabel 4: Verbruik Afdrukken type 3 | F32: Initiële looptijd | K32: Verlenging
B33: Type Print | C33: Volume per maand | D33: Afdrukprijs | E33: Indexatie | F33: Jaar 1 | G33: Jaar 2 | H33: Jaar 3 | I33: Jaar 4 | J33: Jaar 5 | K33: Jaar 6
B34: Mono | C34: 10000 | D34: 0 | E34: 1 | F34: =C34*D34*12 -> 0 | G34: =F34 -> 0 | H34: =G34 -> 0 | I34: =G34 -> 0 | J34: =(D34*C34)*12 -> 0 | K34: =(C34*D34)*12 -> 0
B35: Kleur | C35: 25000 | D35: 0 | E35: 1 | F35: =C35*D35*12 -> 0 | G35: =F35 -> 0 | H35: =G35 -> 0 | I35: =G35 -> 0 | J35: =(D35*C35)*12 -> 0 | K35: =(C35*D35)*12 -> 0
D36: Subtotaal | F36: =SUM(F34:F35) -> 0 | G36: =SUM(G34:G35) -> 0 | H36: =SUM(H34:H35) -> 0 | I36: =SUM(I34:I35) -> 0 | J36: =SUM(J34:J35) -> 0 | K36: =SUM(K34:K35) -> 0
B38: Toelichting
B39: - In de kolom Afdrukprijs voert Inschrijver de Afdrukprijs voor het betreffende type print.
B40: - Het volume per maand betreft een indicatief aantal. Hier kunnen geen rechten aan ontleend worden.
B41: - In de subtotaal regel van bovenstaande tabel wordt de TKI per jaar voor dit onderdeel berekend door de verschillende onderdelen bij elkaar op te tellen.
G44: Huur- en supportkosten per jaar
B45: Tabel 5: Portaal | G45: Initiële looptijd | L45: Verlenging
B46: Oplossing conform eisen PVE | D46: Aantal t.b.h. TKI | E46: Maandelijkse kosten jaar 1 t/m 5 | F46: Maandelijkse kosten jaar 6 | G46: Jaar 1 | H46: Jaar 2 | I46: Jaar 3 | J46: Jaar 4 | K46: Jaar 5 | L46: Jaar 6
B47: Portaal | D47: 1 | E47: 0 | F47: 0 | G47: =D47*E47*12 -> 0 | H47: =E47*D47*12 -> 0 | I47: =E47*D47*12 -> 0 | J47: =E47*D47*12 -> 0 | K47: =E47*D47*12 -> 0 | L47: =(F47*D47)*12 -> 0
F48: Subtotaal | G48: =SUM(G47:G47) -> 0 | H48: =SUM(H47:H47) -> 0 | I48: =SUM(I47:I47) -> 0 | J48: =SUM(J47:J47) -> 0 | K48: =SUM(K47:K47) -> 0 | L48: =L47 -> 0
B50: Toelichting
B51: - In de kolom Maandelijkse kosten voert u de maandelijkse kosten voor het betreffende item in.
B52: - Het aantal betreft een indicatief aantal t.b.v. van de TKI berekening.
B53: - In de subtotaal regel van bovenstaande tabel wordt de TKI per jaar voor dit onderdeel berekend door de verschillende onderdelen bij elkaar op te tellen.
...

Sheet Externe Repro
B2: Repro
B5: Tabel 6: Externe Repro | H5: Initiële looptijd | M5: Verlenging
B6: Repro - Drukwerk | D6: Besteleenheid | E6: Indexatie | F6: Aantallen per maand | G6: Prijs per besteleenheid | H6: jaar 1 | I6: jaar 2 | J6: jaar 3 | K6: jaar 4 | L6: jaar 5 | M6: jaar 6
B7: Afdrukken
B8: A4 afdruk | C8: Zwart/wit, simplex, excl. papier | D8: 1 | E8: 2 | F8: 40000 | G8: 0 | H8: =(F8*G8)*12 -> 0 | I8: =(F8*G8)*12 -> 0 | J8: =(G8*F8)*12 -> 0 | K8: =(F8*G8)*12 -> 0 | L8: =(F8*G8)*12 -> 0 | M8: =(G8*F8)*12 -> 0
C9: Zwart/wit, duplex, excl. papier | D9: 1 | E9: 2 | F9: 140000 | G9: 0 | H9: =(F9*G9)*12 -> 0 | I9: =(F9*G9)*12 -> 0 | J9: =(G9*F9)*12 -> 0 | K9: =(F9*G9)*12 -> 0 | L9: =(F9*G9)*12 -> 0 | M9: =(G9*F9)*12 -> 0
C10: Kleur, simplex, excl. papier | D10: 1 | E10: 2 | F10: 24000 | G10: 0 | H10: =(F10*G10)*12 -> 0 | I10: =(F10*G10)*12 -> 0 | J10: =(G10*F10)*12 -> 0 | K10: =(F10*G10)*12 -> 0 | L10: =(F10*G10)*12 -> 0 | M10: =(G10*F10)*12 -> 0
C11: Kleur, duplex, excl. papier | D11: 1 | E11: 2 | F11: 8000 | G11: 0 | H11: =(F11*G11)*12 -> 0 | I11: =(F11*G11)*12 -> 0 | J11: =(G11*F11)*12 -> 0 | K11: =(F11*G11)*12 -> 0 | L11: =(F11*G11)*12 -> 0 | M11: =(G11*F11)*12 -> 0
B12: A3 afdruk | C12: Zwart/wit, simplex, excl. papier | D12: 1 | E12: 2 | F12: 3000 | G12: 0 | H12: =(F12*G12)*12 -> 0 | I12: =(F12*G12)*12 -> 0 | J12: =(G12*F12)*12 -> 0 | K12: =(F12*G12)*12 -> 0 | L12: =(F12*G12)*12 -> 0 | M12: =(G12*F12)*12 -> 0
C13: Kleur, simplex, excl. papier | D13: 1 | E13: 2 | F13: 2000 | G13: 0 | H13: =(F13*G13)*12 -> 0 | I13: =(F13*G13)*12 -> 0 | J13: =(G13*F13)*12 -> 0 | K13: =(F13*G13)*12 -> 0 | L13: =(F13*G13)*12 -> 0 | M13: =(G13*F13)*12 -> 0
C14: Zwart/wit duplex, excl. papier | D14: 1 | E14: 2 | F14: 1000 | G14: 0 | H14: =(F14*G14)*12 -> 0 | I14: =(F14*G14)*12 -> 0 | J14: =(G14*F14)*12 -> 0 | K14: =(F14*G14)*12 -> 0 | L14: =(F14*G14)*12 -> 0 | M14: =(G14*F14)*12 -> 0
C15: Kleur, duplex, excl. papier | D15: 1 | E15: 2 | F15: 500 | G15: 0 | H15: =(F15*G15)*12 -> 0 | I15: =(F15*G15)*12 -> 0 | J15: =(G15*F15)*12 -> 0 | K15: =(F15*G15)*12 -> 0 | L15: =(F15*G15)*12 -> 0 | M15: =(G15*F15)*12 -> 0
B16: Papier
B17: A4 Top Color Zero FSC | C17: 80 grams | D17: 1 | E17: 3 | F17: 160000 | G17: 0 | H17: =(F17*G17)*12 -> 0 | I17: =(F17*G17)*12 -> 0 | J17: =(G17*F17)*12 -> 0 | K17: =(F17*G17)*12 -> 0 | L17: =(F17*G17)*12 -> 0 | M17: =(G17*F17)*12 -> 0
C18: 100 grams | D18: 1 | E18: 3 | F18: 1000 | G18: 0 | H18: =(F18*G18)*12 -> 0 | I18: =(F18*G18)*12 -> 0 | J18: =(G18*F18)*12 -> 0 | K18: =(F18*G18)*12 -> 0 | L18: =(F18*G18)*12 -> 0 | M18: =(G18*F18)*12 -> 0
C19: 120 grams | D19: 1 | E19: 3 | F19: 1000 | G19: 0 | H19: =(F19*G19)*12 -> 0 | I19: =(F19*G19)*12 -> 0 | J19: =(G19*F19)*12 -> 0 | K19: =(F19*G19)*12 -> 0 | L19: =(F19*G19)*12 -> 0 | M19: =(G19*F19)*12 -> 0
C20: 160 grams | D20: 1 | E20: 3 | F20: 1000 | G20: 0 | H20: =(F20*G20)*12 -> 0 | I20: =(F20*G20)*12 -> 0 | J20: =(G20*F20)*12 -> 0 | K20: =(F20*G20)*12 -> 0 | L20: =(F20*G20)*12 -> 0 | M20: =(G20*F20)*12 -> 0
B21: A3 Top Colour Zero FSC | C21: 80 grams | D21: 1 | E21: 3 | F21: 250 | G21: 0 | H21: =(F21*G21)*12 -> 0 | I21: =(F21*G21)*12 -> 0 | J21: =(G21*F21)*12 -> 0 | K21: =(F21*G21)*12 -> 0 | L21: =(F21*G21)*12 -> 0 | M21: =(G21*F21)*12 -> 0
C22: 100 grams | D22: 1 | E22: 3 | F22: 3000 | G22: 0 | H22: =(F22*G22)*12 -> 0 | I22: =(F22*G22)*12 -> 0 | J22: =(G22*F22)*12 -> 0 | K22: =(F22*G22)*12 -> 0 | L22: =(F22*G22)*12 -> 0 | M22: =(G22*F22)*12 -> 0
C23: 120 grams | D23: 1 | E23: 3 | F23: 1000 | G23: 0 | H23: =(F23*G23)*12 -> 0 | I23: =(F23*G23)*12 -> 0 | J23: =(G23*F23)*12 -> 0 | K23: =(F23*G23)*12 -> 0 | L23: =(F23*G23)*12 -> 0 | M23: =(G23*F23)*12 -> 0
C24: 160 grams | D24: 1 | E24: 3 | F24: 1000 | G24: 0 | H24: =(F24*G24)*12 -> 0 | I24: =(F24*G24)*12 -> 0 | J24: =(G24*F24)*12 -> 0 | K24: =(F24*G24)*12 -> 0 | L24: =(F24*G24)*12 -> 0 | M24: =(G24*F24)*12 -> 0
B25: Nabewerking
B26: Nieten / hechten | C26: 1 nietje | D26: 1 | E26: 2 | F26: 10000 | G26: 0 | H26: =(F26*G26)*12 -> 0 | I26: =(F26*G26)*12 -> 0 | J26: =(G26*F26)*12 -> 0 | K26: =(F26*G26)*12 -> 0 | L26: =(F26*G26)*12 -> 0 | M26: =(G26*F26)*12 -> 0
C27: 2 nietjes | D27: 1 | E27: 2 | F27: 10000 | G27: 0 | H27: =(F27*G27)*12 -> 0 | I27: =(F27*G27)*12 -> 0 | J27: =(G27*F27)*12 -> 0 | K27: =(F27*G27)*12 -> 0 | L27: =(F27*G27)*12 -> 0 | M27: =(G27*F27)*12 -> 0
B28: Inbinden Wire-O metaal (< 10 mm A4) | D28: 1 | E28: 2 | F28: 400 | G28: 0 | H28: =(F28*G28)*12 -> 0 | I28: =(F28*G28)*12 -> 0 | J28: =(G28*F28)*12 -> 0 | K28: =(F28*G28)*12 -> 0 | L28: =(F28*G28)*12 -> 0 | M28: =(G28*F28)*12 -> 0
B29: Inbinden plastic ringband | D29: 1 | E29: 2 | F29: 400 | G29: 0 | H29: =(F29*G29)*12 -> 0 | I29: =(F29*G29)*12 -> 0 | J29: =(G29*F29)*12 -> 0 | K29: =(F29*G29)*12 -> 0 | L29: =(F29*G29)*12 -> 0 | M29: =(G29*F29)*12 -> 0
B30: Boren gaten 2 en 4 gaats | D30: 1 | E30: 2 | F30: 10000 | G30: 0 | H30: =(F30*G30)*12 -> 0 | I30: =(F30*G30)*12 -> 0 | J30: =(G30*F30)*12 -> 0 | K30: =(F30*G30)*12 -> 0 | L30: =(F30*G30)*12 -> 0 | M30: =(G30*F30)*12 -> 0
B31: Lamineren 125 micron | C31: A4 | D31: 1 | E31: 2 | F31: 150 | G31: 0 | H31: =(F31*G31)*12 -> 0 | I31: =(F31*G31)*12 -> 0 | J31: =(G31*F31)*12 -> 0 | K31: =(F31*G31)*12 -> 0 | L31: =(F31*G31)*12 -> 0 | M31: =(G31*F31)*12 -> 0
B32: (dz plastificeren) | C32: A3 | D32: 1 | E32: 2 | F32: 20 | G32: 0 | H32: =(F32*G32)*12 -> 0 | I32: =(F32*G32)*12 -> 0 | J32: =(G32*F32)*12 -> 0 | K32: =(F32*G32)*12 -> 0 | L32: =(F32*G32)*12 -> 0 | M32: =(G32*F32)*12 -> 0
B33: Verpakkingsdoos | C33: klein | D33: 1 | E33: 2 | F33: 50 | G33: 0 | H33: =(F33*G33)*12 -> 0 | I33: =(F33*G33)*12 -> 0 | J33: =(G33*F33)*12 -> 0 | K33: =(F33*G33)*12 -> 0 | L33: =(F33*G33)*12 -> 0 | M33: =(G33*F33)*12 -> 0
C34: groot | D34: 1 | E34: 2 | F34: 60 | G34: 0 | H34: =(F34*G34)*12 -> 0 | I34: =(F34*G34)*12 -> 0 | J34: =(G34*F34)*12 -> 0 | K34: =(F34*G34)*12 -> 0 | L34: =(F34*G34)*12 -> 0 | M34: =(G34*F34)*12 -> 0
B35: Diensten
B36: Toeslag per beveiligde toets-/tentamenopdracht# | D36: 1 | E36: 1 | F36: 75 | G36: 0 | H36: =(F36*G36)*12 -> 0 | I36: =(F36*G36)*12 -> 0 | J36: =(G36*F36)*12 -> 0 | K36: =(F36*G36)*12 -> 0 | L36: =(F36*G36)*12 -> 0 | M36: =(G36*F36)*12 -> 0
B37: Levering * | D37: 1 | E37: 1 | F37: 20 | G37: 0 | H37: =(F37*G37)*12 -> 0 | I37: =(F37*G37)*12 -> 0 | J37: =(G37*F37)*12 -> 0 | K37: =(F37*G37)*12 -> 0 | L37: =(F37*G37)*12 -> 0 | M37: =(G37*F37)*12 -> 0
B38: Opstartkosten opdracht | D38: 1 | E38: 1 | F38: 80 | G38: 0 | H38: =(F38*G38)*12 -> 0 | I38: =(F38*G38)*12 -> 0 | J38: =(G38*F38)*12 -> 0 | K38: =(F38*G38)*12 -> 0 | L38: =(F38*G38)*12 -> 0 | M38: =(G38*F38)*12 -> 0
B39: Spoedopdracht | D39: 1 | E39: 1 | F39: 10 | G39: 0 | H39: =(F39*G39)*12 -> 0 | I39: =(F39*G39)*12 -> 0 | J39: =(G39*F39)*12 -> 0 | K39: =(F39*G39)*12 -> 0 | L39: =(F39*G39)*12 -> 0 | M39: =(G39*F39)*12 -> 0
H40: =SUM(H8:H39) -> 0 | I40: =SUM(I8:I39) -> 0 | J40: =SUM(J8:J39) -> 0 | K40: =SUM(K8:K39) -> 0 | L40: =SUM(L8:L39) -> 0 | M40: =SUM(M8:M39) -> 0
B46: Toelichting
B47: - In de kolom 'Prijs' voert u de Prijs voor het betreffende item in.
B48: - Het aantal betreft een indicatief aantal t.b.v. van de TKI berekening. Er kunnen geen rechten of afname verplichtingen aan ontleend worden.
...

Sheet Kosten tijdens Looptijd
B2: Kosten tijdens looptijd
B4: Tabel 4: uurtarieven
B5: Type ondersteuning | C5: Tarief
B6: Projectmanager | C6: 130
B7: Solution consultant | C7: 130
B8: Software engineer | C8: 110
B9: Hardware engineer | C9: 90
B11: Toelichting
B12: - In de bovenstaande tabel vindt Inschrijver de tarieven die gerekend worden voor ondersteuning, die niet standaard onderdeel is van de overeengekomen dienstverlening, gedurende de looptijd van de Raamovereenkomst.
B13: - De tarieven uit bovenstaande tabel mogen alleen in rekening worden gebracht wanneer er extra dienstverlening of uitbreiding van de bestaande dienstverlening is verlangt of voor extra activiteiten die het gevolg zijn van handelingen aan de kant van Opdrachtgever.
B14: - Indien Inschrijver niet akkoord gaat met deze tarieven dan wordt deze uitgesloten van deelname aan de Aanbestedingsprocedure.
B15: - Inzet van bovenstaande ondersteuning vindt alleen plaats na goedkeuring van een ureninschatting van Inschrijver door Opdrachtgever.
B19: Tabel 5: Leverings- en verhuiskosten
C20: Tarief
B21: Type | C21: Levering | D21: Verhuizing intern | E21: Verhuizing extern
B22: Type 1 | C22: 225 | D22: 100 | E22: 225
B23: Type 2 | C23: 75 | D23: 50 | E23: 75
B24: Type 3 | C24: 325 | D24: 250 | E24: 325
B26: Toelichting
B27: - In de bovenstaande tabel vindt Inschrijver de tarieven die gerekend worden voor ondersteuning gedurende de looptijd van de Raamovereenkomst.
B28: - Indien Inschrijver niet akkoord gaat met deze tarieven dan wordt deze uitgesloten van deelname aan de Aanbestedingsprocedure.
B29: - De kosten voor de levering betreffen hier uitdrukkelijk de uitbreiding van aantal Apparaten gedurende de looptijd van de Raamovereenkomst en niet de initële levering .
B30: - Leveringen en verhuizingen vinden alleen plaats na goedkeuring door Opdrachtgever.
B34: Tabel 6: Verbruiksartikelen
B35: Soort | C35: Tarief | D35: Capaciteit cartridge
B36: Nietjes Type 1 | C36: 0 | D36: 0
B37: Nietjes Type 3 | C37: 0 | D37: 0
B39: Toelichting
B40: - In de bovenstaande tabel vult Inschrijver de kosten en de capciteit van de gevraagde verbruiksartikelen in.
B41: - Het ingegeven tarief is vast gedurende de looptijd van de Raamovereenkomst.
B42: - Levering van Verbruiksartikelen vindt plaats op basis van bestelling door Opdrachtgever.
