Workbook

Sheet Voorblad
A1: Prijzenblad
A3: Betreft: Opgave prijsstelling EA Logistieke applicatie-oplossing
A5: I. Voorblad
A6: Inschrijver wordt verzocht zijn tarief (excl. btw) op te geven. Hiervoor dient Inschrijver enkel de blauw gearceerde cellen in te vullen. Inschrijver wordt verzocht het Prijzenblad volledig in te vullen, rechtsgeldig te ondertekenen en toe te voegen aan de Inschrijving.
A7: II. Inschrijfprijs
A8: Inschrijver wordt gevraagd zijn tarief voor levering van de oplossing, waarvan de specificaties nader staan beschreven in de aanbestedingsdocumenten, op te geven. Het betreft hierbij een totaaltarief (all-in) waarin alle kosten voor de gevraagde dienstverlening opgenomen dienen te zijn. Het CBR accepteert geen facturen waarin andere dan opgegeven tarieven vermeld staan.
A9: Gegadigde dient eventuele bijkomende kosten (handelingskosten, administratiekosten, servicekosten, etc.) - anders dan specifiek aangegeven in dit Prijzenblad - te verdisconteren in de uitgevraagde tarieven. Het CBR gaat uit van "all-in" tarieven.
A11: Aldus verklaard en getekend te | C11: op
A13: Naam organisatie:
A16: Naam:
A18: Functie:
A20: Handtekening:

Sheet Implementatie
B2: Implementatiekosten
B4: Inschrijver dient alleen de blauwe cellen in te vullen.
B7: Implementatiekosten (eenmalig)
B8: # | C8: Toelichting op implementatie werkzaamheden | D8: Kosten
B9: 1 | C9: Opstellen van Implementatieplan | D9: 0
B10: =B9+1 -> 2 | C10: Applicatie implementatie (o.a. technische implementatie, integratie en inrichting) | D10: 0
B11: 3 | C11: Inrichten testomgeving (test en acceptatie) | D11: 0
B12: 4 | C12: Acceptatietesten | D12: 0
B13: 5 | C13: Opleidingskosten (gerelateerd aan paragraaf: 2.2 BD, bullet 8 en 9) | D13: 0
B14: 6 | C14: Opstellen Exitplan | D14: 0
B15: 7 | C15: Realiseren API koppeling | D15: 0
B16: 8 | C16: <overige, nog niet benoemde kosten> | D16: 0
B17: 9 | C17: <overige, nog niet benoemde kosten> | D17: 0
B18: 10 | C18: <overige, nog niet benoemde kosten> | D18: 0
C19: Totaal eenmalige implementatiekosten | D19: =SUM(D9:D18) -> 0

Sheet Licenties
B2: Licentie kosten
B4: Inschrijver dient alleen de blauwe cellen in te vullen.
B9: Licentiekosten (all-in)
B10: # | C10: Aantal licenties (per gebruiker) | D10: Kosten per licentie **
B11: Licentiekosten (all-in kosten*) | C11: 0-50 | D11: 0
C12: 51-100 | D12: 0
C13: 101-200 | D13: 0
C14: 201-300 | D14: 0
B15: Specificeer hieronder wat er onder de licenties valt:
B16: Toelichting:
D17: Kosten per jaar | E17: Kosten over 10 jaar
B18: Fictieve inschrijfprijs licenties (obv 150 licenties): | D18: =D13*150 -> 0 | E18: =SUM(D18*10) -> 0
B19: Alleen de inschrijfprijs van de staffel 101-200 wordt meegenomen in de beoordeling voor de fictieve inschrijfprijs.
B21: * Onder all-in licentiekosten vallen alle kosten voor het gebruiksrecht van de software, inclusief licenties, updates en upgrades.
B23: ** De staffelkosten voor de licenties dienen in verhouding te staan met elkaar.

Sheet Hardware
B2: Hardware kosten
B4: Inschrijver dient alleen de blauwe cellen in te vullen.
A7: 1 | B7: Hardware kosten
B8: # | C8: Fictief aantal | D8: Eenheid | E8: Eenheidsprijs | F8: Totaalprijs
B9: Aanmeldzuil inclusief ID-scanner en ticketprinter | C9: 40 | D9: Stuks | E9: 0 | F9: =C9*E9 -> 0
B10: ID-scanner en ticketprinter voor intakebalie | C10: 20 | D10: Stuks | E10: 0 | F10: =C10*E10 -> 0
D11: Totaal hardware | E11: =SUM(E9:E10) -> 0 | F11: =SUM(F9:F10) -> 0

Sheet Onderhoud
B3: Onderhoud
B5: Inschrijver dient alleen de blauwe cellen in te vullen.
A7: 1 | B7: Beheer kosten
B8: # | D8: Kosten per jaar | E8: Kosten over gehele looptijd (10 jaar)
B9: Onderhoud software* | D9: 0 | E9: =SUM(D9*10) -> 0
B10: Onderhoud hardware** | D10: 0 | E10: =SUM(D10*10) -> 0
B11: <overige, nog niet benoemde kosten> | D11: 0 | E11: =SUM(D11*10) -> 0
C12: Totaal onderhoud | D12: =SUM(D9:D11) -> 0 | E12: =SUM(E9:E11) -> 0
B15: *Toelichting software onderhoud Onder software onderhoud wordt verstaan het preventief en correctief onderhoud van de aangeboden software. Het onderhoud omvat tevens het benodigde beheer en standaard changes, het voldoen aan de overeengekomen SLA-verplichtingen, updates en upgrades, het onderhouden en operationeel houden van de benodigde integraties en koppelingen. De hiervoor benodigde werkzaamheden en inzet worden geacht volledig te zijn inbegrepen in het tarief voor software onderhoud. Er worden hiervoor, behoudens expliciet overeengekomen uitzonderingen, geen aanvullende kosten in rekening gebracht.
B19: ** Toelichting hardware onderhoud Onder hardware onderhoud wordt verstaan het preventief en correctief onderhoud van de geleverde hardware. Het onderhoud omvat tevens het benodigde beheer en standaard changes, het oplossen van storingen en defecten en het vervangen of herstellen van hardware onderdelen indien dit noodzakelijk is voor het goed functioneren van de hardware. De hiervoor benodigde werkzaamheden, inzet, onderdelen en eventuele voorrijkosten worden geacht volledig te zijn inbegrepen in het tarief voor hardware onderhoud. Er worden hiervoor, behoudens expliciet overeengekomen uitzonderingen, geen aanvullende kosten in rekening gebracht.

Sheet Uurtarieven
B1: Uurtarieven
B3: Inschrijver dient alleen de blauwe cellen in te vullen.
B6: Uurtarieven
B7: Werkzaamheden | C7: Fictief aantal uur per jaar | D7: Tarief per uur | E7: Fictief tarief per jaar | F7: Over 10 jaar
B8: Projectmanagement | C8: 25 | D8: 0 | E8: =SUM(C8*D8) -> 0 | F8: =SUM(D8*10) -> 0
B9: Logistiek/business consultant | C9: 25 | D9: 0 | E9: =SUM(C9*D9) -> 0 | F9: =SUM(D9*10) -> 0
B10: Functionele consultancy en ondersteuning | C10: 100 | D10: 0 | E10: =SUM(C10*D10) -> 0 | F10: =SUM(D10*10) -> 0
B11: Technische consultancy en ondersteuning | C11: 50 | D11: 0 | E11: =SUM(C11*D11) -> 0 | F11: =SUM(D11*10) -> 0
B12: Integratie consultancy | C12: 25 | D12: 0 | E12: =SUM(C12*D12) -> 0 | F12: =SUM(D12*10) -> 0
B13: Ontwikkeling/ technische wijzigingen | C13: 100 | D13: 0 | E13: =SUM(C13*D13) -> 0 | F13: =SUM(D13*10) -> 0
B14: Data-/migratie- en testondersteuning | C14: 25 | D14: 0 | E14: =SUM(C14*D14) -> 0 | F14: =SUM(D14*10) -> 0
B15: Totaal (Fictieve inschrijfprijs) | E15: =SUM(E8:E14) -> 0 | F15: =SUM(F8:F14) -> 0
B17: Strippenkaart De opdrachtgever kan gedurende de looptijd van de overeenkomst gebruikmaken van een strippenkaart, gebaseerd op bovenstaande uurtarieven voor aanvullende ICT-werkzaamheden. De strippenkaart bestaat uit een vooraf overeengekomen aantal uren dat naar behoefte van de opdrachtgever kan worden ingezet voor werkzaamheden die binnen de scope van de overeenkomst vallen. Dit betreffen vooral kleine niet- standaard wijzigingen. In het prijzenblad worden voor de verschillende typen werkzaamheden uurtarieven uitgevraagd. Om de inschrijvingen op een uniforme en objectieve wijze met elkaar te kunnen vergelijken, zijn in het prijzenblad fictieve aantallen uren per jaar opgenomen. Deze aantallen uren zijn uitsluitend bedoeld voor de beoordeling en vergelijking van de inschrijvingen en vormen geen prognose, afnamegarantie of verplichting tot afname voor de opdrachtgever. De daadwerkelijk af te nemen uren worden gedurende de looptijd van de overeenkomst bepaald op basis van de daadwerkelijke behoefte van de opdrachtgever. De opdrachtgever is uitsluitend gehouden tot betaling van de daadwerkelijk afgenomen en geleverde werkzaamheden tegen de overeengekomen uurtarieven.
B24: Modificaties De opdrachtgever kan gedurende de looptijd van de overeenkomst behoefte hebben aan middelgrote tot grote, niet-standaard wijzigingen aan de ICT-oplossing. Deze modificaties vallen binnen de scope van de overeenkomst, maar maken geen onderdeel uit van de reguliere dienstverlening of de strippenkaart. Modificaties worden uitgevoerd op basis van een vooraf door de opdrachtnemer uitgebrachte en door de opdrachtgever goedgekeurde offerte. In de offerte wordt ten minste een omschrijving van de werkzaamheden, de te realiseren functionaliteit, de planning en de daaraan verbonden kosten opgenomen (gerelateerd aan de uurtarieven). De uitvoering van een modificatie vindt uitsluitend plaats na schriftelijke goedkeuring van de offerte door de opdrachtgever.

Sheet Totaal
B1: Totaal (inschrijfprijs)
B5: Totaal prijzenblad
B7: Inschrijfprijs | C7: Per jaar | D7: Over 10 jaar
B8: Implementatie | D8: =Implementatie!D19 -> 0
B9: Licenties | C9: =Licenties!D18 -> 0 | D9: =Licenties!E18 -> 0
B10: Hardware | C10: =Hardware!E11 -> 0 | D10: =Hardware!F11 -> 0
B11: Beheer | C11: =Onderhoud!D12 -> 0 | D11: =Onderhoud!E12 -> 0
B12: Uurtarieven (strippenkaart) | C12: =Uurtarieven!E15 -> 0 | D12: =Uurtarieven!F15 -> 0
B13: TOTAAL | C13: =SUM(C8:C12) -> 0 | D13: =SUM(D8:D12) -> 0
B16: Fictieve inschrijfprijs waarmee wordt gerekend | D16: =D13 -> 0
