Workbook

Sheet Invulinstructie
A1: Invulinstructie Prijzenblad
A2: Opdrachtnemer dient ten behoeve van deze aanbesteding het volledige Prijzenblad in te vullen. Opdrachtnemer dient uitsluitend gebruik te maken van dit model. Opdrachtnemer mag geen wijzigingen aanbrengen in het model, zoals het toevoegen/verwijderen van regels. Er zijn geen formules of koppelingen toegevoegd in het Prijzenblad. Opdrachtnemer is zelf verantwoordelijk voor een juiste koppeling van cellen en het aanbrengen van formules.
A6: Onderdeel 1: Inschrijfstaat In dit tabblad worden de totaalprijzen van de aanneemsom voor reguliere en periodieke schoonmaak (tabblad 2a), overige werkzaamheden (tabblad 2b), de verrekentarieven voor extra werkzaamheden (tabblad 2c), de tarieven voor sanitaire middelen (tabblad 3a), glasbewassing (tabblad 4a) en gevelonderhoud (tabblad 4b) opgegeven. Dit overzicht wordt beoordeeld conform hetgeen beschreven is in de Aanbestedingsleidraad. Tevens dient Inschrijver in dit tabblad het totaal aantal uren productie en totaal aantal uren toezicht per jaar op te geven, ten behoeve van de reguliere en periodieke schoonmaak. De Inschrijfstaat dient rechtsgeldig ondertekend te worden door een daartoe bevoegd persoon en dient te worden bijgevoegd bij de Inschrijving.
A15: Onderdeel 2a: Regulier en periodiek In dit tabblad worden de kosten voor het regulier en periodiek schoonmaakwerk opgegeven, rekening houdend met de eisen zoals opgegeven in de aanbestedingsdocumentatie. Opdrachtnemer dient per ruimte de ureninzet en de kosten per jaar te specificeren.
A19: Onderdeel 2b: Overige werkzaamheden ter beoordeling In dit tabblad worden de kosten voor overige werkzaamheden opgegeven, rekening houdend met de eisen zoals opgegeven in de aanbestedingsdocumentatie.
A22: Onderdeel 2c: Werkzaamheden op afroep (deze worden niet beoordeeld) In dit tabblad staan de verrekentarieven benoemd voor de extra werkzaamheden. Deze verrekentarieven worden niet meegenomen in de beoordeling, maar zijn wel bindend tijdens de looptijd van de Overeenkomst. Bij indiening van de inschrijving zal Opdrachtgever de ingediende verrekentarieven beoordelen op marktconformiteit. Opdrachtgever behoudt zich het recht voor om extra werkzaamheden bij derden te beleggen.
A27: Onderdeel 3a: Sanitaire middelen (huur) In dit tabblad dienen de kosten voor de sanitaire middelen te worden opgenomen. Opdrachtnemer dient hier een huurprijs per stuk per maand op te geven, inclusief de verbruiksartikelen. Op basis van het aantal dispensers zoals aangegeven dient Opdrachtnemer een totaalprijs per jaar op te geven.
A31: Onderdeel 4a: Glasbewassing In dit tabblad worden de kosten ten behoeve van de glasbewassing opgegeven, rekening houdend met de eisen zoals opgegeven in de aanbestedingsdocumentatie. Opdrachtnemer dient per soort glas en per locatie de kosten per beurt en per jaar te specificeren.
A35: Onderdeel 4b: Gevelonderhoud In dit tabblad worden de kosten ten behoeve van het gevelonderhoud opgegeven, rekening houdend met de eisen zoals opgegeven in de aanbestedingsdocumentatie. Opdrachtnemer dient per soort afwerking, type werkzaamheden soort glas de kosten per beurt en per jaar te specificeren.
A39: Onderdeel 5: Uurtarieven (deze worden niet beoordeeld) Opdrachtnemer dient de opbouw van de uurtarieven inzichtelijk te maken in dit tabblad. Deze uurtarieven vormen de basis voor de berekening van de kosten voor het reguliere en periodieke schoonmaakwerk (tabblad 2a). De uurtarieven worden niet als apart onderdeel meegenomen in de beoordeling, maar worden wel beoordeeld door Opdrachtgever op marktconformiteit. Tevens zijn de uurtarieven bindend en worden deze gebruikt voor indexering gedurende de looptijd van de Overeenkomst.

Sheet 1. Inschrijfstaat
A1: 1. Inschrijfstaat
A3: Onderdeel | B3: Prijs excl. BTW | C3: Prijs incl. BTW
A4: Totaal: 2a. Reguliere en periodieke schoonmaak | B4: ='2a. Regulier en periodiek'!T162 -> #DIV/0! | C4: =B4*1.21 -> #DIV/0!
A5: Totaal: 2b. Overige werkzaamheden | B5: ='2b. Overige werkzaamheden'!E26 -> 0 | C5: =B5*1.21 -> 0
A6: Totaal: 2c. Werkzaamheden op afroep
A7: Totaal: 3. Sanitaire middelen (huur) | B7: ='3. Sanitaire middelen (huur)'!E14 -> 0 | C7: =B7*1.21 -> 0
A8: Totaal: 4a. Glasbewassing | B8: ='4a. Glasbewassing'!I8 -> 0 | C8: =B8*1.21 -> 0
A9: Totaal: 4b. Gevelonderhoud | B9: ='4b. Gevelonderhoud'!J9 -> 0 | C9: =B9*1.21 -> 0
A10: Totaal: 5. Uurtarieven
A11: Totaalprijs per jaar | B11: =SUM(B4:B10) -> #DIV/0! | C11: =SUM(C4:C10) -> #DIV/0!
A13: Reguliere en periodieke schoonmaak | B13: Totaal aantal uren per jaar
A14: Uren productie | B14: ='2a. Regulier en periodiek'!L162+'2a. Regulier en periodiek'!P162 -> #DIV/0!
A15: Uren toezicht | B15: ='2a. Regulier en periodiek'!R162 -> #DIV/0!
A17: Datum:
A18: Handtekening rechtsgeldig vertegenwoordiger:
A19: Naam:
A20: Functie:
A21: Organisatie:

Sheet 2a. Regulier en periodiek
A1: 2a. Reguliere en periodieke schoonmaak | L1: Uurtarief ma-vrij | M1: ='5. Uurtarieven'!D26 -> 0 | P1: Percentage toezicht | Q1: 0 | S1: Uurtarief toezicht ma-vrij | T1: ='5. Uurtarieven'!F26 -> 0
E2: Totaal m2: | F2: =SUBTOTAL(9,F6:F160) -> 5099.82 | L2: Uurtarief za en zo | M2: ='5. Uurtarieven'!D29 -> 0 | S2: Uurtarief toezicht za-zo | T2: ='5. Uurtarieven'!F29 -> 0
L3: Uurtarief feestdag | M3: ='5. Uurtarieven'!D30 -> 0 | S3: Uurtarief toezicht feestdag | T3: ='5. Uurtarieven'!F30 -> 0
A4: Locatie | B4: Etage | C4: Ruimtenr. | D4: Ruimteomschrijving | E4: Ruimte categorie | F4: Totaal m2 | G4: Vloerafwerking | H4: Opleverfrequentie per jaar | I4: Kwaliteitseis | J4: Reguliere werkzaamheden | N4: Periodieke werkzaamheden | R4: Uren toezicht | S4: Kosten toezicht | T4: Kosten totaal per jaar excl. BTW
J5: Norm per m² per uur | K5: Correctiefactor norm | L5: Uren productie | M5: Kosten productie | N5: Norm per m² per uur | O5: Correctiefactor norm | P5: Uren productie | Q5: Kosten productie
A6: Koningskade 40, Den Haag | B6: Kelder | D6: Overloop/gang | E6: Verkeersruimten | F6: 6.8 | G6: Keramische tegels | H6: 255 | I6: AQL 7% | J6: 0 | K6: 1 | L6: =(F6*H6)/(J6*K6) -> #DIV/0! | M6: =L6*$M$1 -> #DIV/0! | N6: 0 | O6: 1 | P6: =(F6*H6)/(N6*O6) -> #DIV/0! | Q6: =P6*$M$1 -> #DIV/0! | R6: =(L6+P6)*$Q$1 -> #DIV/0! | S6: =R6*$T$1 -> #DIV/0! | T6: =M6+Q6+S6 -> #DIV/0!
A7: Koningskade 40, Den Haag | B7: Kelder | D7: Doucheruimten (2 stuks) | E7: Sanitaire ruimten | F7: 4.2 | G7: Keramische tegels | H7: 255 | I7: AQL 4% | J7: 0 | K7: 1 | L7: =(F7*H7)/(J7*K7) -> #DIV/0! | M7: =L7*$M$1 -> #DIV/0! | N7: 0 | O7: 1 | P7: =(F7*H7)/(N7*O7) -> #DIV/0! | Q7: =P7*$M$1 -> #DIV/0! | R7: =(L7+P7)*$Q$1 -> #DIV/0! | S7: =R7*$T$1 -> #DIV/0! | T7: =M7+Q7+S7 -> #DIV/0!
A8: Koningskade 40, Den Haag | B8: Kelder | D8: Entree parkeergarage | E8: Verkeersruimten | F8: 5.6 | G8: Betonvloer | H8: 4 | I8: AQL 7% | J8: 0 | K8: 1 | L8: =(F8*H8)/(J8*K8) -> #DIV/0! | M8: =L8*$M$1 -> #DIV/0! | N8: 0 | O8: 1 | P8: =(F8*H8)/(N8*O8) -> #DIV/0! | Q8: =P8*$M$1 -> #DIV/0! | R8: =(L8+P8)*$Q$1 -> #DIV/0! | S8: =R8*$T$1 -> #DIV/0! | T8: =M8+Q8+S8 -> #DIV/0!
A9: Koningskade 40, Den Haag | B9: Kelder | D9: Parkeergarage | E9: Verkeersruimten | F9: 1180 | G9: Betonvloer | H9: 4 | I9: AQL 7% | J9: 0 | K9: 1 | L9: =(F9*H9)/(J9*K9) -> #DIV/0! | M9: =L9*$M$1 -> #DIV/0! | N9: 0 | O9: 1 | P9: =(F9*H9)/(N9*O9) -> #DIV/0! | Q9: =P9*$M$1 -> #DIV/0! | R9: =(L9+P9)*$Q$1 -> #DIV/0! | S9: =R9*$T$1 -> #DIV/0! | T9: =M9+Q9+S9 -> #DIV/0!
A10: Koningskade 40, Den Haag | B10: Kelder | D10: Traphal | E10: Verkeersruimten | F10: 4.7 | G10: Kamerbreed tapijt | H10: 255 | I10: AQL 7% | J10: 0 | K10: 1 | L10: =(F10*H10)/(J10*K10) -> #DIV/0! | M10: =L10*$M$1 -> #DIV/0! | N10: 0 | O10: 1 | P10: =(F10*H10)/(N10*O10) -> #DIV/0! | Q10: =P10*$M$1 -> #DIV/0! | R10: =(L10+P10)*$Q$1 -> #DIV/0! | S10: =R10*$T$1 -> #DIV/0! | T10: =M10+Q10+S10 -> #DIV/0!
A11: Koningskade 40, Den Haag | B11: Kelder | D11: Lifthal | E11: Verkeersruimten | F11: 3.9 | G11: Linoleum | H11: 255 | I11: AQL 7% | J11: 0 | K11: 1 | L11: =(F11*H11)/(J11*K11) -> #DIV/0! | M11: =L11*$M$1 -> #DIV/0! | N11: 0 | O11: 1 | P11: =(F11*H11)/(N11*O11) -> #DIV/0! | Q11: =P11*$M$1 -> #DIV/0! | R11: =(L11+P11)*$Q$1 -> #DIV/0! | S11: =R11*$T$1 -> #DIV/0! | T11: =M11+Q11+S11 -> #DIV/0!
A12: Koningskade 40, Den Haag | B12: Kelder | D12: Hoofdtrappenhuis | E12: Verkeersruimten | F12: 17.97 | G12: Natuursteen | H12: 255 | I12: AQL 7% | J12: 0 | K12: 1 | L12: =(F12*H12)/(J12*K12) -> #DIV/0! | M12: =L12*$M$1 -> #DIV/0! | N12: 0 | O12: 1 | P12: =(F12*H12)/(N12*O12) -> #DIV/0! | Q12: =P12*$M$1 -> #DIV/0! | R12: =(L12+P12)*$Q$1 -> #DIV/0! | S12: =R12*$T$1 -> #DIV/0! | T12: =M12+Q12+S12 -> #DIV/0!
A13: Koningskade 40, Den Haag | B13: Kelder | D13: Secundair trappenhuis / zijtrappenhuis | E13: Verkeersruimten | F13: 11.55 | G13: Kamerbreed tapijt | H13: 255 | I13: AQL 7% | J13: 0 | K13: 1 | L13: =(F13*H13)/(J13*K13) -> #DIV/0! | M13: =L13*$M$1 -> #DIV/0! | N13: 0 | O13: 1 | P13: =(F13*H13)/(N13*O13) -> #DIV/0! | Q13: =P13*$M$1 -> #DIV/0! | R13: =(L13+P13)*$Q$1 -> #DIV/0! | S13: =R13*$T$1 -> #DIV/0! | T13: =M13+Q13+S13 -> #DIV/0!
A14: Koningskade 40, Den Haag | B14: Begane grond | D14: Lift a | E14: Verkeersruimten | F14: 2.1 | G14: Tapijttegels | H14: 255 | I14: AQL 7% | J14: 0 | K14: 1 | L14: =(F14*H14)/(J14*K14) -> #DIV/0! | M14: =L14*$M$1 -> #DIV/0! | N14: 0 | O14: 1 | P14: =(F14*H14)/(N14*O14) -> #DIV/0! | Q14: =P14*$M$1 -> #DIV/0! | R14: =(L14+P14)*$Q$1 -> #DIV/0! | S14: =R14*$T$1 -> #DIV/0! | T14: =M14+Q14+S14 -> #DIV/0!
A15: Koningskade 40, Den Haag | B15: Begane grond | D15: Lift b | E15: Verkeersruimten | F15: 2.1 | G15: Tapijttegels | H15: 255 | I15: AQL 7% | J15: 0 | K15: 1 | L15: =(F15*H15)/(J15*K15) -> #DIV/0! | M15: =L15*$M$1 -> #DIV/0! | N15: 0 | O15: 1 | P15: =(F15*H15)/(N15*O15) -> #DIV/0! | Q15: =P15*$M$1 -> #DIV/0! | R15: =(L15+P15)*$Q$1 -> #DIV/0! | S15: =R15*$T$1 -> #DIV/0! | T15: =M15+Q15+S15 -> #DIV/0!
A16: Koningskade 40, Den Haag | B16: Begane grond | D16: Entree buiten (Nassau Odijckstraat 2a t/m 2c) | E16: Verkeersruimten | F16: 17.1 | G16: Keramische tegels | H16: 255 | I16: AQL 7% | J16: 0 | K16: 1 | L16: =(F16*H16)/(J16*K16) -> #DIV/0! | M16: =L16*$M$1 -> #DIV/0! | N16: 0 | O16: 1 | P16: =(F16*H16)/(N16*O16) -> #DIV/0! | Q16: =P16*$M$1 -> #DIV/0! | R16: =(L16+P16)*$Q$1 -> #DIV/0! | S16: =R16*$T$1 -> #DIV/0! | T16: =M16+Q16+S16 -> #DIV/0!
A17: Koningskade 40, Den Haag | B17: Begane grond | D17: Entree bordestrap | E17: Verkeersruimten | F17: 36.6 | G17: Natuursteen | H17: 255 | I17: AQL 7% | J17: 0 | K17: 1 | L17: =(F17*H17)/(J17*K17) -> #DIV/0! | M17: =L17*$M$1 -> #DIV/0! | N17: 0 | O17: 1 | P17: =(F17*H17)/(N17*O17) -> #DIV/0! | Q17: =P17*$M$1 -> #DIV/0! | R17: =(L17+P17)*$Q$1 -> #DIV/0! | S17: =R17*$T$1 -> #DIV/0! | T17: =M17+Q17+S17 -> #DIV/0!
... A22: Koningskade 40, Den Haag | B22: Begane grond | D22: Invalidetoilet | E22: Sanitaire ruimten | F22: 2.3 | G22: Keramische tegels | H22: 255 | I22: AQL 4% | J22: 0 | K22: 1 | L22: =(F22*H22)/(J22*K22) -> #DIV/0! | M22: =L22*$M$1 -> #DIV/0! | N22: 0 | O22: 1 | P22: =(F22*H22)/(N22*O22) -> #DIV/0! | Q22: =P22*$M$1 -> #DIV/0! | R22: =(L22+P22)*$Q$1 -> #DIV/0! | S22: =R22*$T$1 -> #DIV/0! | T22: =M22+Q22+S22 -> #DIV/0!
A23: Koningskade 40, Den Haag | B23: Begane grond | C23: 0.01 | D23: Magazijn | E23: Overige ruimten | F23: 31.2 | G23: Linoleum | H23: 2 | I23: AQL 7% | J23: 0 | K23: 1 | L23: =(F23*H23)/(J23*K23) -> #DIV/0! | M23: =L23*$M$1 -> #DIV/0! | N23: 0 | O23: 1 | P23: =(F23*H23)/(N23*O23) -> #DIV/0! | Q23: =P23*$M$1 -> #DIV/0! | R23: =(L23+P23)*$Q$1 -> #DIV/0! | S23: =R23*$T$1 -> #DIV/0! | T23: =M23+Q23+S23 -> #DIV/0!
A24: Koningskade 40, Den Haag | B24: Begane grond | C24: 0.02 | D24: Opslag | E24: Overige ruimten | F24: 8.7 | G24: Linoleum | H24: 2 | I24: AQL 7% | J24: 0 | K24: 1 | L24: =(F24*H24)/(J24*K24) -> #DIV/0! | M24: =L24*$M$1 -> #DIV/0! | N24: 0 | O24: 1 | P24: =(F24*H24)/(N24*O24) -> #DIV/0! | Q24: =P24*$M$1 -> #DIV/0! | R24: =(L24+P24)*$Q$1 -> #DIV/0! | S24: =R24*$T$1 -> #DIV/0! | T24: =M24+Q24+S24 -> #DIV/0!
A25: Koningskade 40, Den Haag | B25: Begane grond | C25: 0.03 | D25: Schoonmaakmagazijn | E25: Overige ruimten | F25: 5.3 | G25: Keramische tegels | I25: Door leverancier zelf
A26: Koningskade 40, Den Haag | B26: Begane grond | C26: 0.04 | D26: Cateringkantoor | E26: Overige ruimten | F26: 7.6 | G26: Tapijttegels | I26: Niet in onderhoud
A27: Koningskade 40, Den Haag | B27: Begane grond | C27: 0.05 | D27: Kantoor | E27: Bureaukamers | F27: 10.9 | G27: Tapijttegels | H27: 156 | I27: AQL 7% | J27: 0 | K27: 1 | L27: =(F27*H27)/(J27*K27) -> #DIV/0! | M27: =L27*$M$1 -> #DIV/0! | N27: 0 | O27: 1 | P27: =(F27*H27)/(N27*O27) -> #DIV/0! | Q27: =P27*$M$1 -> #DIV/0! | R27: =(L27+P27)*$Q$1 -> #DIV/0! | S27: =R27*$T$1 -> #DIV/0! | T27: =M27+Q27+S27 -> #DIV/0!
A28: Koningskade 40, Den Haag | B28: Begane grond | C28: 0.06 | D28: Facilitair magazijn | E28: Overige ruimten | F28: 6.8 | G28: Linoleum | H28: 2 | I28: AQL 7% | J28: 0 | K28: 1 | L28: =(F28*H28)/(J28*K28) -> #DIV/0! | M28: =L28*$M$1 -> #DIV/0! | N28: 0 | O28: 1 | P28: =(F28*H28)/(N28*O28) -> #DIV/0! | Q28: =P28*$M$1 -> #DIV/0! | R28: =(L28+P28)*$Q$1 -> #DIV/0! | S28: =R28*$T$1 -> #DIV/0! | T28: =M28+Q28+S28 -> #DIV/0!
A29: Koningskade 40, Den Haag | B29: Begane grond | C29: 0.07 | D29: Kantoor | E29: Bureaukamers | F29: 10.8 | G29: Tapijttegels | H29: 156 | I29: AQL 7% | J29: 0 | K29: 1 | L29: =(F29*H29)/(J29*K29) -> #DIV/0! | M29: =L29*$M$1 -> #DIV/0! | N29: 0 | O29: 1 | P29: =(F29*H29)/(N29*O29) -> #DIV/0! | Q29: =P29*$M$1 -> #DIV/0! | R29: =(L29+P29)*$Q$1 -> #DIV/0! | S29: =R29*$T$1 -> #DIV/0! | T29: =M29+Q29+S29 -> #DIV/0!
A30: Koningskade 40, Den Haag | B30: Begane grond | C30: 0.08 | D30: Cateringopslag | E30: Overige ruimten | F30: 17.5 | G30: Linoleum | I30: Niet in onderhoud
A31: Koningskade 40, Den Haag | B31: Begane grond | C31: 0.09 | D31: Kantoor | E31: Bureaukamers | F31: 41.5 | G31: Tapijttegels | H31: 156 | I31: AQL 7% | J31: 0 | K31: 1 | L31: =(F31*H31)/(J31*K31) -> #DIV/0! | M31: =L31*$M$1 -> #DIV/0! | N31: 0 | O31: 1 | P31: =(F31*H31)/(N31*O31) -> #DIV/0! | Q31: =P31*$M$1 -> #DIV/0! | R31: =(L31+P31)*$Q$1 -> #DIV/0! | S31: =R31*$T$1 -> #DIV/0! | T31: =M31+Q31+S31 -> #DIV/0!
A32: Koningskade 40, Den Haag | B32: Begane grond | C32: 0.11 | D32: Kantoor | E32: Bureaukamers | F32: 25.3 | G32: PVC-stroken | H32: 156 | I32: AQL 7% | J32: 0 | K32: 1 | L32: =(F32*H32)/(J32*K32) -> #DIV/0! | M32: =L32*$M$1 -> #DIV/0! | N32: 0 | O32: 1 | P32: =(F32*H32)/(N32*O32) -> #DIV/0! | Q32: =P32*$M$1 -> #DIV/0! | R32: =(L32+P32)*$Q$1 -> #DIV/0! | S32: =R32*$T$1 -> #DIV/0! | T32: =M32+Q32+S32 -> #DIV/0!
A33: Koningskade 40, Den Haag | B33: Begane grond | C33: 0.12 | D33: Bedrijfsrestaurant | E33: Bureaukamers | F33: 170 | G33: PVC-stroken | H33: 255 | I33: AQL 7% | J33: 0 | K33: 1 | L33: =(F33*H33)/(J33*K33) -> #DIV/0! | M33: =L33*$M$1 -> #DIV/0! | N33: 0 | O33: 1 | P33: =(F33*H33)/(N33*O33) -> #DIV/0! | Q33: =P33*$M$1 -> #DIV/0! | R33: =(L33+P33)*$Q$1 -> #DIV/0! | S33: =R33*$T$1 -> #DIV/0! | T33: =M33+Q33+S33 -> #DIV/0!
A34: Koningskade 40, Den Haag | B34: Begane grond | C34: 0.13 | D34: Kantoor | E34: Bureaukamers | F34: 23.3 | G34: Tapijttegels | H34: 156 | I34: AQL 7% | J34: 0 | K34: 1 | L34: =(F34*H34)/(J34*K34) -> #DIV/0! | M34: =L34*$M$1 -> #DIV/0! | N34: 0 | O34: 1 | P34: =(F34*H34)/(N34*O34) -> #DIV/0! | Q34: =P34*$M$1 -> #DIV/0! | R34: =(L34+P34)*$Q$1 -> #DIV/0! | S34: =R34*$T$1 -> #DIV/0! | T34: =M34+Q34+S34 -> #DIV/0!
A35: Koningskade 40, Den Haag | B35: Begane grond | C35: 0.14 | D35: Vergaderkamer | E35: Bureaukamers | F35: 68.6 | G35: Tapijttegels | H35: 104 | I35: AQL 7% | J35: 0 | K35: 1 | L35: =(F35*H35)/(J35*K35) -> #DIV/0! | M35: =L35*$M$1 -> #DIV/0! | N35: 0 | O35: 1 | P35: =(F35*H35)/(N35*O35) -> #DIV/0! | Q35: =P35*$M$1 -> #DIV/0! | R35: =(L35+P35)*$Q$1 -> #DIV/0! | S35: =R35*$T$1 -> #DIV/0! | T35: =M35+Q35+S35 -> #DIV/0!
A36: Koningskade 40, Den Haag | B36: Begane grond | C36: 0.15 | D36: Vergaderkamer | E36: Bureaukamers | F36: 29 | G36: Tapijttegels | H36: 104 | I36: AQL 7% | J36: 0 | K36: 1 | L36: =(F36*H36)/(J36*K36) -> #DIV/0! | M36: =L36*$M$1 -> #DIV/0! | N36: 0 | O36: 1 | P36: =(F36*H36)/(N36*O36) -> #DIV/0! | Q36: =P36*$M$1 -> #DIV/0! | R36: =(L36+P36)*$Q$1 -> #DIV/0! | S36: =R36*$T$1 -> #DIV/0! | T36: =M36+Q36+S36 -> #DIV/0!
A37: Koningskade 40, Den Haag | B37: Begane grond | C37: 0.16 | D37: Kantoor | E37: Bureaukamers | F37: 30.5 | G37: PVC-stroken | H37: 156 | I37: AQL 7% | J37: 0 | K37: 1 | L37: =(F37*H37)/(J37*K37) -> #DIV/0! | M37: =L37*$M$1 -> #DIV/0! | N37: 0 | O37: 1 | P37: =(F37*H37)/(N37*O37) -> #DIV/0! | Q37: =P37*$M$1 -> #DIV/0! | R37: =(L37+P37)*$Q$1 -> #DIV/0! | S37: =R37*$T$1 -> #DIV/0! | T37: =M37+Q37+S37 -> #DIV/0!
A38: Koningskade 40, Den Haag | B38: Begane grond | C38: 0.20 | D38: Kantoor | E38: Bureaukamers | F38: 26.6 | G38: PVC-stroken | H38: 156 | I38: AQL 7% | J38: 0 | K38: 1 | L38: =(F38*H38)/(J38*K38) -> #DIV/0! | M38: =L38*$M$1 -> #DIV/0! | N38: 0 | O38: 1 | P38: =(F38*H38)/(N38*O38) -> #DIV/0! | Q38: =P38*$M$1 -> #DIV/0! | R38: =(L38+P38)*$Q$1 -> #DIV/0! | S38: =R38*$T$1 -> #DIV/0! | T38: =M38+Q38+S38 -> #DIV/0!
A39: Koningskade 40, Den Haag | B39: Begane grond | D39: Verkeersruimte opslag | E39: Verkeersruimten | F39: 20 | G39: Linoleum | H39: 255 | I39: AQL 7% | J39: 0 | K39: 1 | L39: =(F39*H39)/(J39*K39) -> #DIV/0! | M39: =L39*$M$1 -> #DIV/0! | N39: 0 | O39: 1 | P39: =(F39*H39)/(N39*O39) -> #DIV/0! | Q39: =P39*$M$1 -> #DIV/0! | R39: =(L39+P39)*$Q$1 -> #DIV/0! | S39: =R39*$T$1 -> #DIV/0! | T39: =M39+Q39+S39 -> #DIV/0!
A40: Koningskade 40, Den Haag | B40: Begane grond | D40: Verkeersruimte monument | E40: Verkeersruimten | F40: 23.5 | G40: PVC-stroken | H40: 255 | I40: AQL 7% | J40: 0 | K40: 1 | L40: =(F40*H40)/(J40*K40) -> #DIV/0! | M40: =L40*$M$1 -> #DIV/0! | N40: 0 | O40: 1 | P40: =(F40*H40)/(N40*O40) -> #DIV/0! | Q40: =P40*$M$1 -> #DIV/0! | R40: =(L40+P40)*$Q$1 -> #DIV/0! | S40: =R40*$T$1 -> #DIV/0! | T40: =M40+Q40+S40 -> #DIV/0!
A41: Koningskade 40, Den Haag | B41: Begane grond | D41: Entree monument (oude gedeelte) | E41: Verkeersruimten | F41: 6.7 | G41: Kamerbreed tapijt | H41: 255 | I41: AQL 7% | J41: 0 | K41: 1 | L41: =(F41*H41)/(J41*K41) -> #DIV/0! | M41: =L41*$M$1 -> #DIV/0! | N41: 0 | O41: 1 | P41: =(F41*H41)/(N41*O41) -> #DIV/0! | Q41: =P41*$M$1 -> #DIV/0! | R41: =(L41+P41)*$Q$1 -> #DIV/0! | S41: =R41*$T$1 -> #DIV/0! | T41: =M41+Q41+S41 -> #DIV/0!
A42: Koningskade 40, Den Haag | B42: Begane grond | D42: Containerruimte | E42: Overige ruimten | F42: 21.1 | G42: Betonvloer | H42: 2 | I42: AQL 7% | J42: 0 | K42: 1 | L42: =(F42*H42)/(J42*K42) -> #DIV/0! | M42: =L42*$M$1 -> #DIV/0! | N42: 0 | O42: 1 | P42: =(F42*H42)/(N42*O42) -> #DIV/0! | Q42: =P42*$M$1 -> #DIV/0! | R42: =(L42+P42)*$Q$1 -> #DIV/0! | S42: =R42*$T$1 -> #DIV/0! | T42: =M42+Q42+S42 -> #DIV/0!
A43: Koningskade 40, Den Haag | B43: Begane grond | D43: Hoofdtrappenhuis | E43: Verkeersruimten | F43: 17.97 | G43: Natuursteen | H43: 255 | I43: AQL 7% | J43: 0 | K43: 1 | L43: =(F43*H43)/(J43*K43) -> #DIV/0! | M43: =L43*$M$1 -> #DIV/0! | N43: 0 | O43: 1 | P43: =(F43*H43)/(N43*O43) -> #DIV/0! | Q43: =P43*$M$1 -> #DIV/0! | R43: =(L43+P43)*$Q$1 -> #DIV/0! | S43: =R43*$T$1 -> #DIV/0! | T43: =M43+Q43+S43 -> #DIV/0!
A44: Koningskade 40, Den Haag | B44: Begane grond | D44: Secundair trappenhuis / zijtrappenhuis | E44: Verkeersruimten | F44: 11.55 | G44: Kamerbreed tapijt | H44: 255 | I44: AQL 7% | J44: 0 | K44: 1 | L44: =(F44*H44)/(J44*K44) -> #DIV/0! | M44: =L44*$M$1 -> #DIV/0! | N44: 0 | O44: 1 | P44: =(F44*H44)/(N44*O44) -> #DIV/0! | Q44: =P44*$M$1 -> #DIV/0! | R44: =(L44+P44)*$Q$1 -> #DIV/0! | S44: =R44*$T$1 -> #DIV/0! | T44: =M44+Q44+S44 -> #DIV/0!
A45: Koningskade 40, Den Haag | B45: Eerste etage | C45: 1.01 | D45: Kantoor | E45: Bureaukamers | F45: 20.2 | G45: Tapijttegels | H45: 156 | I45: AQL 7% | J45: 0 | K45: 1 | L45: =(F45*H45)/(J45*K45) -> #DIV/0! | M45: =L45*$M$1 -> #DIV/0! | N45: 0 | O45: 1 | P45: =(F45*H45)/(N45*O45) -> #DIV/0! | Q45: =P45*$M$1 -> #DIV/0! | R45: =(L45+P45)*$Q$1 -> #DIV/0! | S45: =R45*$T$1 -> #DIV/0! | T45: =M45+Q45+S45 -> #DIV/0!
A46: Koningskade 40, Den Haag | B46: Eerste etage | C46: 1.02 | D46: Kantoor | E46: Bureaukamers | F46: 26.1 | G46: Tapijttegels | H46: 156 | I46: AQL 7% | J46: 0 | K46: 1 | L46: =(F46*H46)/(J46*K46) -> #DIV/0! | M46: =L46*$M$1 -> #DIV/0! | N46: 0 | O46: 1 | P46: =(F46*H46)/(N46*O46) -> #DIV/0! | Q46: =P46*$M$1 -> #DIV/0! | R46: =(L46+P46)*$Q$1 -> #DIV/0! | S46: =R46*$T$1 -> #DIV/0! | T46: =M46+Q46+S46 -> #DIV/0!
A47: Koningskade 40, Den Haag | B47: Eerste etage | C47: 1.03 | D47: Kantoor | E47: Bureaukamers | F47: 20.3 | G47: Tapijttegels | H47: 156 | I47: AQL 7% | J47: 0 | K47: 1 | L47: =(F47*H47)/(J47*K47) -> #DIV/0! | M47: =L47*$M$1 -> #DIV/0! | N47: 0 | O47: 1 | P47: =(F47*H47)/(N47*O47) -> #DIV/0! | Q47: =P47*$M$1 -> #DIV/0! | R47: =(L47+P47)*$Q$1 -> #DIV/0! | S47: =R47*$T$1 -> #DIV/0! | T47: =M47+Q47+S47 -> #DIV/0!
A48: Koningskade 40, Den Haag | B48: Eerste etage | C48: 1.04 | D48: Kantoor | E48: Bureaukamers | F48: 20.3 | G48: Tapijttegels | H48: 156 | I48: AQL 7% | J48: 0 | K48: 1 | L48: =(F48*H48)/(J48*K48) -> #DIV/0! | M48: =L48*$M$1 -> #DIV/0! | N48: 0 | O48: 1 | P48: =(F48*H48)/(N48*O48) -> #DIV/0! | Q48: =P48*$M$1 -> #DIV/0! | R48: =(L48+P48)*$Q$1 -> #DIV/0! | S48: =R48*$T$1 -> #DIV/0! | T48: =M48+Q48+S48 -> #DIV/0!
A49: Koningskade 40, Den Haag | B49: Eerste etage | C49: 1.05 | D49: Kantoor | E49: Bureaukamers | F49: 11.9 | G49: Tapijttegels | H49: 156 | I49: AQL 7% | J49: 0 | K49: 1 | L49: =(F49*H49)/(J49*K49) -> #DIV/0! | M49: =L49*$M$1 -> #DIV/0! | N49: 0 | O49: 1 | P49: =(F49*H49)/(N49*O49) -> #DIV/0! | Q49: =P49*$M$1 -> #DIV/0! | R49: =(L49+P49)*$Q$1 -> #DIV/0! | S49: =R49*$T$1 -> #DIV/0! | T49: =M49+Q49+S49 -> #DIV/0!
A50: Koningskade 40, Den Haag | B50: Eerste etage | C50: 1.06 | D50: Kantoor | E50: Bureaukamers | F50: 11.9 | G50: Tapijttegels | H50: 156 | I50: AQL 7% | J50: 0 | K50: 1 | L50: =(F50*H50)/(J50*K50) -> #DIV/0! | M50: =L50*$M$1 -> #DIV/0! | N50: 0 | O50: 1 | P50: =(F50*H50)/(N50*O50) -> #DIV/0! | Q50: =P50*$M$1 -> #DIV/0! | R50: =(L50+P50)*$Q$1 -> #DIV/0! | S50: =R50*$T$1 -> #DIV/0! | T50: =M50+Q50+S50 -> #DIV/0!
A51: Koningskade 40, Den Haag | B51: Eerste etage | C51: 1.07 | D51: Kantoor | E51: Bureaukamers | F51: 12.6 | G51: Tapijttegels | H51: 156 | I51: AQL 7% | J51: 0 | K51: 1 | L51: =(F51*H51)/(J51*K51) -> #DIV/0! | M51: =L51*$M$1 -> #DIV/0! | N51: 0 | O51: 1 | P51: =(F51*H51)/(N51*O51) -> #DIV/0! | Q51: =P51*$M$1 -> #DIV/0! | R51: =(L51+P51)*$Q$1 -> #DIV/0! | S51: =R51*$T$1 -> #DIV/0! | T51: =M51+Q51+S51 -> #DIV/0!
A52: Koningskade 40, Den Haag | B52: Eerste etage | C52: 1.08 | D52: Kolfkamer | E52: Bureaukamers | F52: 7.7 | G52: Tapijttegels | H52: 255 | I52: AQL 7% | J52: 0 | K52: 1 | L52: =(F52*H52)/(J52*K52) -> #DIV/0! | M52: =L52*$M$1 -> #DIV/0! | N52: 0 | O52: 1 | P52: =(F52*H52)/(N52*O52) -> #DIV/0! | Q52: =P52*$M$1 -> #DIV/0! | R52: =(L52+P52)*$Q$1 -> #DIV/0! | S52: =R52*$T$1 -> #DIV/0! | T52: =M52+Q52+S52 -> #DIV/0!
A53: Koningskade 40, Den Haag | B53: Eerste etage | C53: 1.09 | D53: Kantoor | E53: Bureaukamers | F53: 13.1 | G53: Tapijttegels | H53: 156 | I53: AQL 7% | J53: 0 | K53: 1 | L53: =(F53*H53)/(J53*K53) -> #DIV/0! | M53: =L53*$M$1 -> #DIV/0! | N53: 0 | O53: 1 | P53: =(F53*H53)/(N53*O53) -> #DIV/0! | Q53: =P53*$M$1 -> #DIV/0! | R53: =(L53+P53)*$Q$1 -> #DIV/0! | S53: =R53*$T$1 -> #DIV/0! | T53: =M53+Q53+S53 -> #DIV/0!
A54: Koningskade 40, Den Haag | B54: Eerste etage | C54: 1.10 | D54: Kantoor | E54: Bureaukamers | F54: 19.1 | G54: Tapijttegels | H54: 156 | I54: AQL 7% | J54: 0 | K54: 1 | L54: =(F54*H54)/(J54*K54) -> #DIV/0! | M54: =L54*$M$1 -> #DIV/0! | N54: 0 | O54: 1 | P54: =(F54*H54)/(N54*O54) -> #DIV/0! | Q54: =P54*$M$1 -> #DIV/0! | R54: =(L54+P54)*$Q$1 -> #DIV/0! | S54: =R54*$T$1 -> #DIV/0! | T54: =M54+Q54+S54 -> #DIV/0!
A55: Koningskade 40, Den Haag | B55: Eerste etage | C55: 1.11 | D55: Kantoor | E55: Bureaukamers | F55: 9.1 | G55: Tapijttegels | H55: 156 | I55: AQL 7% | J55: 0 | K55: 1 | L55: =(F55*H55)/(J55*K55) -> #DIV/0! | M55: =L55*$M$1 -> #DIV/0! | N55: 0 | O55: 1 | P55: =(F55*H55)/(N55*O55) -> #DIV/0! | Q55: =P55*$M$1 -> #DIV/0! | R55: =(L55+P55)*$Q$1 -> #DIV/0! | S55: =R55*$T$1 -> #DIV/0! | T55: =M55+Q55+S55 -> #DIV/0!
A56: Koningskade 40, Den Haag | B56: Eerste etage | C56: 1.12 | D56: Kantoor | E56: Bureaukamers | F56: 14.3 | G56: Tapijttegels | H56: 156 | I56: AQL 7% | J56: 0 | K56: 1 | L56: =(F56*H56)/(J56*K56) -> #DIV/0! | M56: =L56*$M$1 -> #DIV/0! | N56: 0 | O56: 1 | P56: =(F56*H56)/(N56*O56) -> #DIV/0! | Q56: =P56*$M$1 -> #DIV/0! | R56: =(L56+P56)*$Q$1 -> #DIV/0! | S56: =R56*$T$1 -> #DIV/0! | T56: =M56+Q56+S56 -> #DIV/0!
... A70: Koningskade 40, Den Haag | B70: Eerste etage | C70: 1.29 | D70: Kantoor | E70: Bureaukamers | F70: 35.5 | G70: Tapijttegels | H70: 156 | I70: AQL 7% | J70: 0 | K70: 1 | L70: =(F70*H70)/(J70*K70) -> #DIV/0! | M70: =L70*$M$1 -> #DIV/0! | N70: 0 | O70: 1 | P70: =(F70*H70)/(N70*O70) -> #DIV/0! | Q70: =P70*$M$1 -> #DIV/0! | R70: =(L70+P70)*$Q$1 -> #DIV/0! | S70: =R70*$T$1 -> #DIV/0! | T70: =M70+Q70+S70 -> #DIV/0!
A71: Koningskade 40, Den Haag | B71: Eerste etage | D71: Verdiepingshal | E71: Verkeersruimten | F71: 40 | G71: Natuursteen | H71: 255 | I71: AQL 7% | J71: 0 | K71: 1 | L71: =(F71*H71)/(J71*K71) -> #DIV/0! | M71: =L71*$M$1 -> #DIV/0! | N71: 0 | O71: 1 | P71: =(F71*H71)/(N71*O71) -> #DIV/0! | Q71: =P71*$M$1 -> #DIV/0! | R71: =(L71+P71)*$Q$1 -> #DIV/0! | S71: =R71*$T$1 -> #DIV/0! | T71: =M71+Q71+S71 -> #DIV/0!
A72: Koningskade 40, Den Haag | B72: Eerste etage | D72: Damestoilet | E72: Sanitaire ruimten | F72: 11.3 | G72: Keramische tegels | H72: 255 | I72: AQL 4% | J72: 0 | K72: 1 | L72: =(F72*H72)/(J72*K72) -> #DIV/0! | M72: =L72*$M$1 -> #DIV/0! | N72: 0 | O72: 1 | P72: =(F72*H72)/(N72*O72) -> #DIV/0! | Q72: =P72*$M$1 -> #DIV/0! | R72: =(L72+P72)*$Q$1 -> #DIV/0! | S72: =R72*$T$1 -> #DIV/0! | T72: =M72+Q72+S72 -> #DIV/0!
A73: Koningskade 40, Den Haag | B73: Eerste etage | D73: Herentoilet | E73: Sanitaire ruimten | F73: 6.1 | G73: Keramische tegels | H73: 255 | I73: AQL 4% | J73: 0 | K73: 1 | L73: =(F73*H73)/(J73*K73) -> #DIV/0! | M73: =L73*$M$1 -> #DIV/0! | N73: 0 | O73: 1 | P73: =(F73*H73)/(N73*O73) -> #DIV/0! | Q73: =P73*$M$1 -> #DIV/0! | R73: =(L73+P73)*$Q$1 -> #DIV/0! | S73: =R73*$T$1 -> #DIV/0! | T73: =M73+Q73+S73 -> #DIV/0!
A74: Koningskade 40, Den Haag | B74: Eerste etage | D74: Verkeersruimte | E74: Verkeersruimten | F74: 197.4 | G74: Tapijttegels | H74: 255 | I74: AQL 7% | J74: 0 | K74: 1 | L74: =(F74*H74)/(J74*K74) -> #DIV/0! | M74: =L74*$M$1 -> #DIV/0! | N74: 0 | O74: 1 | P74: =(F74*H74)/(N74*O74) -> #DIV/0! | Q74: =P74*$M$1 -> #DIV/0! | R74: =(L74+P74)*$Q$1 -> #DIV/0! | S74: =R74*$T$1 -> #DIV/0! | T74: =M74+Q74+S74 -> #DIV/0!
A75: Koningskade 40, Den Haag | B75: Eerste etage | D75: Pantry lange vleugel | E75: Bureaukamers | F75: 3.9 | G75: Keramische tegels | H75: 255 | I75: AQL 7% | J75: 0 | K75: 1 | L75: =(F75*H75)/(J75*K75) -> #DIV/0! | M75: =L75*$M$1 -> #DIV/0! | N75: 0 | O75: 1 | P75: =(F75*H75)/(N75*O75) -> #DIV/0! | Q75: =P75*$M$1 -> #DIV/0! | R75: =(L75+P75)*$Q$1 -> #DIV/0! | S75: =R75*$T$1 -> #DIV/0! | T75: =M75+Q75+S75 -> #DIV/0!
A76: Koningskade 40, Den Haag | B76: Eerste etage | D76: Schoonmaakhok | E76: Overige ruimten | F76: 1.2 | G76: Keramische tegels | I76: Door leverancier zelf
A77: Koningskade 40, Den Haag | B77: Eerste etage | D77: Technische kast | E77: Overige ruimten | F77: 4.6 | G77: Betonvloer | H77: 2 | I77: AQL 7% | J77: 0 | K77: 1 | L77: =(F77*H77)/(J77*K77) -> #DIV/0! | M77: =L77*$M$1 -> #DIV/0! | N77: 0 | O77: 1 | P77: =(F77*H77)/(N77*O77) -> #DIV/0! | Q77: =P77*$M$1 -> #DIV/0! | R77: =(L77+P77)*$Q$1 -> #DIV/0! | S77: =R77*$T$1 -> #DIV/0! | T77: =M77+Q77+S77 -> #DIV/0!
A78: Koningskade 40, Den Haag | B78: Eerste etage | D78: Hoofdtrappenhuis | E78: Verkeersruimten | F78: 17.97 | G78: Natuursteen | H78: 255 | I78: AQL 7% | J78: 0 | K78: 1 | L78: =(F78*H78)/(J78*K78) -> #DIV/0! | M78: =L78*$M$1 -> #DIV/0! | N78: 0 | O78: 1 | P78: =(F78*H78)/(N78*O78) -> #DIV/0! | Q78: =P78*$M$1 -> #DIV/0! | R78: =(L78+P78)*$Q$1 -> #DIV/0! | S78: =R78*$T$1 -> #DIV/0! | T78: =M78+Q78+S78 -> #DIV/0!
A79: Koningskade 40, Den Haag | B79: Eerste etage | D79: Secundair trappenhuis / zijtrappenhuis | E79: Verkeersruimten | F79: 11.55 | G79: Kamerbreed tapijt | H79: 255 | I79: AQL 7% | J79: 0 | K79: 1 | L79: =(F79*H79)/(J79*K79) -> #DIV/0! | M79: =L79*$M$1 -> #DIV/0! | N79: 0 | O79: 1 | P79: =(F79*H79)/(N79*O79) -> #DIV/0! | Q79: =P79*$M$1 -> #DIV/0! | R79: =(L79+P79)*$Q$1 -> #DIV/0! | S79: =R79*$T$1 -> #DIV/0! | T79: =M79+Q79+S79 -> #DIV/0!
A80: Koningskade 40, Den Haag | B80: Tweede etage | C80: 2.01 | D80: Kantoor | E80: Bureaukamers | F80: 19.8 | G80: Tapijttegels | H80: 156 | I80: AQL 7% | J80: 0 | K80: 1 | L80: =(F80*H80)/(J80*K80) -> #DIV/0! | M80: =L80*$M$1 -> #DIV/0! | N80: 0 | O80: 1 | P80: =(F80*H80)/(N80*O80) -> #DIV/0! | Q80: =P80*$M$1 -> #DIV/0! | R80: =(L80+P80)*$Q$1 -> #DIV/0! | S80: =R80*$T$1 -> #DIV/0! | T80: =M80+Q80+S80 -> #DIV/0!
A81: Koningskade 40, Den Haag | B81: Tweede etage | C81: 2.02 | D81: Vergaderkamer | E81: Bureaukamers | F81: 26.1 | G81: Tapijttegels | H81: 104 | I81: AQL 7% | J81: 0 | K81: 1 | L81: =(F81*H81)/(J81*K81) -> #DIV/0! | M81: =L81*$M$1 -> #DIV/0! | N81: 0 | O81: 1 | P81: =(F81*H81)/(N81*O81) -> #DIV/0! | Q81: =P81*$M$1 -> #DIV/0! | R81: =(L81+P81)*$Q$1 -> #DIV/0! | S81: =R81*$T$1 -> #DIV/0! | T81: =M81+Q81+S81 -> #DIV/0!
A82: Koningskade 40, Den Haag | B82: Tweede etage | C82: 2.03 | D82: Kantoor | E82: Bureaukamers | F82: 17.9 | G82: Tapijttegels | H82: 156 | I82: AQL 7% | J82: 0 | K82: 1 | L82: =(F82*H82)/(J82*K82) -> #DIV/0! | M82: =L82*$M$1 -> #DIV/0! | N82: 0 | O82: 1 | P82: =(F82*H82)/(N82*O82) -> #DIV/0! | Q82: =P82*$M$1 -> #DIV/0! | R82: =(L82+P82)*$Q$1 -> #DIV/0! | S82: =R82*$T$1 -> #DIV/0! | T82: =M82+Q82+S82 -> #DIV/0!
A83: Koningskade 40, Den Haag | B83: Tweede etage | C83: 2.04 | D83: Kantoor | E83: Bureaukamers | F83: 22 | G83: Tapijttegels | H83: 156 | I83: AQL 7% | J83: 0 | K83: 1 | L83: =(F83*H83)/(J83*K83) -> #DIV/0! | M83: =L83*$M$1 -> #DIV/0! | N83: 0 | O83: 1 | P83: =(F83*H83)/(N83*O83) -> #DIV/0! | Q83: =P83*$M$1 -> #DIV/0! | R83: =(L83+P83)*$Q$1 -> #DIV/0! | S83: =R83*$T$1 -> #DIV/0! | T83: =M83+Q83+S83 -> #DIV/0!
A84: Koningskade 40, Den Haag | B84: Tweede etage | C84: 2.05 | D84: Kantoor | E84: Bureaukamers | F84: 16.4 | G84: Tapijttegels | H84: 156 | I84: AQL 7% | J84: 0 | K84: 1 | L84: =(F84*H84)/(J84*K84) -> #DIV/0! | M84: =L84*$M$1 -> #DIV/0! | N84: 0 | O84: 1 | P84: =(F84*H84)/(N84*O84) -> #DIV/0! | Q84: =P84*$M$1 -> #DIV/0! | R84: =(L84+P84)*$Q$1 -> #DIV/0! | S84: =R84*$T$1 -> #DIV/0! | T84: =M84+Q84+S84 -> #DIV/0!
A85: Koningskade 40, Den Haag | B85: Tweede etage | C85: 2.06 | D85: Kantoor | E85: Bureaukamers | F85: 27 | G85: Tapijttegels | H85: 156 | I85: AQL 7% | J85: 0 | K85: 1 | L85: =(F85*H85)/(J85*K85) -> #DIV/0! | M85: =L85*$M$1 -> #DIV/0! | N85: 0 | O85: 1 | P85: =(F85*H85)/(N85*O85) -> #DIV/0! | Q85: =P85*$M$1 -> #DIV/0! | R85: =(L85+P85)*$Q$1 -> #DIV/0! | S85: =R85*$T$1 -> #DIV/0! | T85: =M85+Q85+S85 -> #DIV/0!
A86: Koningskade 40, Den Haag | B86: Tweede etage | C86: 2.07 | D86: Kantoor | E86: Bureaukamers | F86: 24.5 | G86: Tapijttegels | H86: 156 | I86: AQL 7% | J86: 0 | K86: 1 | L86: =(F86*H86)/(J86*K86) -> #DIV/0! | M86: =L86*$M$1 -> #DIV/0! | N86: 0 | O86: 1 | P86: =(F86*H86)/(N86*O86) -> #DIV/0! | Q86: =P86*$M$1 -> #DIV/0! | R86: =(L86+P86)*$Q$1 -> #DIV/0! | S86: =R86*$T$1 -> #DIV/0! | T86: =M86+Q86+S86 -> #DIV/0!
A87: Koningskade 40, Den Haag | B87: Tweede etage | C87: 2.08 | D87: Kantoor | E87: Bureaukamers | F87: 23.1 | G87: Tapijttegels | H87: 156 | I87: AQL 7% | J87: 0 | K87: 1 | L87: =(F87*H87)/(J87*K87) -> #DIV/0! | M87: =L87*$M$1 -> #DIV/0! | N87: 0 | O87: 1 | P87: =(F87*H87)/(N87*O87) -> #DIV/0! | Q87: =P87*$M$1 -> #DIV/0! | R87: =(L87+P87)*$Q$1 -> #DIV/0! | S87: =R87*$T$1 -> #DIV/0! | T87: =M87+Q87+S87 -> #DIV/0!
A88: Koningskade 40, Den Haag | B88: Tweede etage | C88: 2.09 | D88: Vergaderkamer | E88: Bureaukamers | F88: 29.3 | G88: Tapijttegels | H88: 104 | I88: AQL 7% | J88: 0 | K88: 1 | L88: =(F88*H88)/(J88*K88) -> #DIV/0! | M88: =L88*$M$1 -> #DIV/0! | N88: 0 | O88: 1 | P88: =(F88*H88)/(N88*O88) -> #DIV/0! | Q88: =P88*$M$1 -> #DIV/0! | R88: =(L88+P88)*$Q$1 -> #DIV/0! | S88: =R88*$T$1 -> #DIV/0! | T88: =M88+Q88+S88 -> #DIV/0!
A89: Koningskade 40, Den Haag | B89: Tweede etage | C89: 2.10 | D89: Kantoor | E89: Bureaukamers | F89: 20.2 | G89: Tapijttegels | H89: 156 | I89: AQL 7% | J89: 0 | K89: 1 | L89: =(F89*H89)/(J89*K89) -> #DIV/0! | M89: =L89*$M$1 -> #DIV/0! | N89: 0 | O89: 1 | P89: =(F89*H89)/(N89*O89) -> #DIV/0! | Q89: =P89*$M$1 -> #DIV/0! | R89: =(L89+P89)*$Q$1 -> #DIV/0! | S89: =R89*$T$1 -> #DIV/0! | T89: =M89+Q89+S89 -> #DIV/0!
A90: Koningskade 40, Den Haag | B90: Tweede etage | C90: 2.11 | D90: Kantoor | E90: Bureaukamers | F90: 22.4 | G90: Tapijttegels | H90: 156 | I90: AQL 7% | J90: 0 | K90: 1 | L90: =(F90*H90)/(J90*K90) -> #DIV/0! | M90: =L90*$M$1 -> #DIV/0! | N90: 0 | O90: 1 | P90: =(F90*H90)/(N90*O90) -> #DIV/0! | Q90: =P90*$M$1 -> #DIV/0! | R90: =(L90+P90)*$Q$1 -> #DIV/0! | S90: =R90*$T$1 -> #DIV/0! | T90: =M90+Q90+S90 -> #DIV/0!
A91: Koningskade 40, Den Haag | B91: Tweede etage | C91: 2.12 | D91: Kantoor | E91: Bureaukamers | F91: 21.3 | G91: Tapijttegels | H91: 156 | I91: AQL 7% | J91: 0 | K91: 1 | L91: =(F91*H91)/(J91*K91) -> #DIV/0! | M91: =L91*$M$1 -> #DIV/0! | N91: 0 | O91: 1 | P91: =(F91*H91)/(N91*O91) -> #DIV/0! | Q91: =P91*$M$1 -> #DIV/0! | R91: =(L91+P91)*$Q$1 -> #DIV/0! | S91: =R91*$T$1 -> #DIV/0! | T91: =M91+Q91+S91 -> #DIV/0!
... A104: Koningskade 40, Den Haag | B104: Tweede etage | C104: 2.25 | D104: Kantoor | E104: Bureaukamers | F104: 26.5 | G104: Tapijttegels | H104: 156 | I104: AQL 7% | J104: 0 | K104: 1 | L104: =(F104*H104)/(J104*K104) -> #DIV/0! | M104: =L104*$M$1 -> #DIV/0! | N104: 0 | O104: 1 | P104: =(F104*H104)/(N104*O104) -> #DIV/0! | Q104: =P104*$M$1 -> #DIV/0! | R104: =(L104+P104)*$Q$1 -> #DIV/0! | S104: =R104*$T$1 -> #DIV/0! | T104: =M104+Q104+S104 -> #DIV/0!
A105: Koningskade 40, Den Haag | B105: Tweede etage | D105: Verdiepingshal | E105: Verkeersruimten | F105: 40 | G105: Natuursteen | H105: 255 | I105: AQL 7% | J105: 0 | K105: 1 | L105: =(F105*H105)/(J105*K105) -> #DIV/0! | M105: =L105*$M$1 -> #DIV/0! | N105: 0 | O105: 1 | P105: =(F105*H105)/(N105*O105) -> #DIV/0! | Q105: =P105*$M$1 -> #DIV/0! | R105: =(L105+P105)*$Q$1 -> #DIV/0! | S105: =R105*$T$1 -> #DIV/0! | T105: =M105+Q105+S105 -> #DIV/0!
A106: Koningskade 40, Den Haag | B106: Tweede etage | D106: Herentoilet | E106: Sanitaire ruimten | F106: 11.3 | G106: Keramische tegels | H106: 255 | I106: AQL 4% | J106: 0 | K106: 1 | L106: =(F106*H106)/(J106*K106) -> #DIV/0! | M106: =L106*$M$1 -> #DIV/0! | N106: 0 | O106: 1 | P106: =(F106*H106)/(N106*O106) -> #DIV/0! | Q106: =P106*$M$1 -> #DIV/0! | R106: =(L106+P106)*$Q$1 -> #DIV/0! | S106: =R106*$T$1 -> #DIV/0! | T106: =M106+Q106+S106 -> #DIV/0!
A107: Koningskade 40, Den Haag | B107: Tweede etage | D107: Damestoilet | E107: Sanitaire ruimten | F107: 6.1 | G107: Keramische tegels | H107: 255 | I107: AQL 4% | J107: 0 | K107: 1 | L107: =(F107*H107)/(J107*K107) -> #DIV/0! | M107: =L107*$M$1 -> #DIV/0! | N107: 0 | O107: 1 | P107: =(F107*H107)/(N107*O107) -> #DIV/0! | Q107: =P107*$M$1 -> #DIV/0! | R107: =(L107+P107)*$Q$1 -> #DIV/0! | S107: =R107*$T$1 -> #DIV/0! | T107: =M107+Q107+S107 -> #DIV/0!
A108: Koningskade 40, Den Haag | B108: Tweede etage | D108: Verkeersruimte | E108: Verkeersruimten | F108: 197.4 | G108: Tapijttegels | H108: 255 | I108: AQL 7% | J108: 0 | K108: 1 | L108: =(F108*H108)/(J108*K108) -> #DIV/0! | M108: =L108*$M$1 -> #DIV/0! | N108: 0 | O108: 1 | P108: =(F108*H108)/(N108*O108) -> #DIV/0! | Q108: =P108*$M$1 -> #DIV/0! | R108: =(L108+P108)*$Q$1 -> #DIV/0! | S108: =R108*$T$1 -> #DIV/0! | T108: =M108+Q108+S108 -> #DIV/0!
A109: Koningskade 40, Den Haag | B109: Tweede etage | D109: Pantry korte vleugel | E109: Bureaukamers | F109: 2.7 | G109: Keramische tegels | H109: 255 | I109: AQL 7% | J109: 0 | K109: 1 | L109: =(F109*H109)/(J109*K109) -> #DIV/0! | M109: =L109*$M$1 -> #DIV/0! | N109: 0 | O109: 1 | P109: =(F109*H109)/(N109*O109) -> #DIV/0! | Q109: =P109*$M$1 -> #DIV/0! | R109: =(L109+P109)*$Q$1 -> #DIV/0! | S109: =R109*$T$1 -> #DIV/0! | T109: =M109+Q109+S109 -> #DIV/0!
A110: Koningskade 40, Den Haag | B110: Tweede etage | D110: Wachtruimte | E110: Bureaukamers | F110: 15.5 | G110: Tapijttegels | H110: 255 | I110: AQL 7% | J110: 0 | K110: 1 | L110: =(F110*H110)/(J110*K110) -> #DIV/0! | M110: =L110*$M$1 -> #DIV/0! | N110: 0 | O110: 1 | P110: =(F110*H110)/(N110*O110) -> #DIV/0! | Q110: =P110*$M$1 -> #DIV/0! | R110: =(L110+P110)*$Q$1 -> #DIV/0! | S110: =R110*$T$1 -> #DIV/0! | T110: =M110+Q110+S110 -> #DIV/0!
A111: Koningskade 40, Den Haag | B111: Tweede etage | D111: Schoonmaakhok | E111: Overige ruimten | F111: 1.1 | G111: Keramische tegels | I111: Door leverancier zelf
A112: Koningskade 40, Den Haag | B112: Tweede etage | D112: Technische kast | E112: Overige ruimten | F112: 4.6 | G112: Betonvloer | H112: 2 | I112: AQL 7% | J112: 0 | K112: 1 | L112: =(F112*H112)/(J112*K112) -> #DIV/0! | M112: =L112*$M$1 -> #DIV/0! | N112: 0 | O112: 1 | P112: =(F112*H112)/(N112*O112) -> #DIV/0! | Q112: =P112*$M$1 -> #DIV/0! | R112: =(L112+P112)*$Q$1 -> #DIV/0! | S112: =R112*$T$1 -> #DIV/0! | T112: =M112+Q112+S112 -> #DIV/0!
A113: Koningskade 40, Den Haag | B113: Tweede etage | D113: Hoofdtrappenhuis | E113: Verkeersruimten | F113: 17.97 | G113: Natuursteen | H113: 255 | I113: AQL 7% | J113: 0 | K113: 1 | L113: =(F113*H113)/(J113*K113) -> #DIV/0! | M113: =L113*$M$1 -> #DIV/0! | N113: 0 | O113: 1 | P113: =(F113*H113)/(N113*O113) -> #DIV/0! | Q113: =P113*$M$1 -> #DIV/0! | R113: =(L113+P113)*$Q$1 -> #DIV/0! | S113: =R113*$T$1 -> #DIV/0! | T113: =M113+Q113+S113 -> #DIV/0!
A114: Koningskade 40, Den Haag | B114: Tweede etage | D114: Secundair trappenhuis / zijtrappenhuis | E114: Verkeersruimten | F114: 11.55 | G114: Kamerbreed tapijt | H114: 255 | I114: AQL 7% | J114: 0 | K114: 1 | L114: =(F114*H114)/(J114*K114) -> #DIV/0! | M114: =L114*$M$1 -> #DIV/0! | N114: 0 | O114: 1 | P114: =(F114*H114)/(N114*O114) -> #DIV/0! | Q114: =P114*$M$1 -> #DIV/0! | R114: =(L114+P114)*$Q$1 -> #DIV/0! | S114: =R114*$T$1 -> #DIV/0! | T114: =M114+Q114+S114 -> #DIV/0!
A115: Koningskade 40, Den Haag | B115: Derde etage | C115: 3.01 | D115: Archiefruimte | E115: Overige ruimten | F115: 5.8 | G115: Linoleum | H115: 2 | I115: AQL 7% | J115: 0 | K115: 1 | L115: =(F115*H115)/(J115*K115) -> #DIV/0! | M115: =L115*$M$1 -> #DIV/0! | N115: 0 | O115: 1 | P115: =(F115*H115)/(N115*O115) -> #DIV/0! | Q115: =P115*$M$1 -> #DIV/0! | R115: =(L115+P115)*$Q$1 -> #DIV/0! | S115: =R115*$T$1 -> #DIV/0! | T115: =M115+Q115+S115 -> #DIV/0!
A116: Koningskade 40, Den Haag | B116: Derde etage | C116: 3.02 | D116: Serverruimte | E116: Overige ruimten | F116: 9 | G116: Kamerbreed tapijt | H116: 2 | I116: AQL 7% | J116: 0 | K116: 1 | L116: =(F116*H116)/(J116*K116) -> #DIV/0! | M116: =L116*$M$1 -> #DIV/0! | N116: 0 | O116: 1 | P116: =(F116*H116)/(N116*O116) -> #DIV/0! | Q116: =P116*$M$1 -> #DIV/0! | R116: =(L116+P116)*$Q$1 -> #DIV/0! | S116: =R116*$T$1 -> #DIV/0! | T116: =M116+Q116+S116 -> #DIV/0!
A117: Koningskade 40, Den Haag | B117: Derde etage | C117: 3.03 | D117: Kantoor | E117: Bureaukamers | F117: 18.6 | G117: Tapijttegels | H117: 156 | I117: AQL 7% | J117: 0 | K117: 1 | L117: =(F117*H117)/(J117*K117) -> #DIV/0! | M117: =L117*$M$1 -> #DIV/0! | N117: 0 | O117: 1 | P117: =(F117*H117)/(N117*O117) -> #DIV/0! | Q117: =P117*$M$1 -> #DIV/0! | R117: =(L117+P117)*$Q$1 -> #DIV/0! | S117: =R117*$T$1 -> #DIV/0! | T117: =M117+Q117+S117 -> #DIV/0!
A118: Koningskade 40, Den Haag | B118: Derde etage | C118: 3.04 | D118: Serverruimte | E118: Overige ruimten | F118: 35 | G118: Kamerbreed tapijt | H118: 2 | I118: AQL 7% | J118: 0 | K118: 1 | L118: =(F118*H118)/(J118*K118) -> #DIV/0! | M118: =L118*$M$1 -> #DIV/0! | N118: 0 | O118: 1 | P118: =(F118*H118)/(N118*O118) -> #DIV/0! | Q118: =P118*$M$1 -> #DIV/0! | R118: =(L118+P118)*$Q$1 -> #DIV/0! | S118: =R118*$T$1 -> #DIV/0! | T118: =M118+Q118+S118 -> #DIV/0!
A119: Koningskade 40, Den Haag | B119: Derde etage | C119: 3.05 | D119: Kantoor | E119: Bureaukamers | F119: 23.4 | G119: Tapijttegels | H119: 156 | I119: AQL 7% | J119: 0 | K119: 1 | L119: =(F119*H119)/(J119*K119) -> #DIV/0! | M119: =L119*$M$1 -> #DIV/0! | N119: 0 | O119: 1 | P119: =(F119*H119)/(N119*O119) -> #DIV/0! | Q119: =P119*$M$1 -> #DIV/0! | R119: =(L119+P119)*$Q$1 -> #DIV/0! | S119: =R119*$T$1 -> #DIV/0! | T119: =M119+Q119+S119 -> #DIV/0!
A120: Koningskade 40, Den Haag | B120: Derde etage | C120: 3.06 | D120: Kantoor | E120: Bureaukamers | F120: 18.5 | G120: Tapijttegels | H120: 156 | I120: AQL 7% | J120: 0 | K120: 1 | L120: =(F120*H120)/(J120*K120) -> #DIV/0! | M120: =L120*$M$1 -> #DIV/0! | N120: 0 | O120: 1 | P120: =(F120*H120)/(N120*O120) -> #DIV/0! | Q120: =P120*$M$1 -> #DIV/0! | R120: =(L120+P120)*$Q$1 -> #DIV/0! | S120: =R120*$T$1 -> #DIV/0! | T120: =M120+Q120+S120 -> #DIV/0!
A121: Koningskade 40, Den Haag | B121: Derde etage | C121: 3.07 | D121: Kantoor | E121: Bureaukamers | F121: 26.5 | G121: Tapijttegels | H121: 156 | I121: AQL 7% | J121: 0 | K121: 1 | L121: =(F121*H121)/(J121*K121) -> #DIV/0! | M121: =L121*$M$1 -> #DIV/0! | N121: 0 | O121: 1 | P121: =(F121*H121)/(N121*O121) -> #DIV/0! | Q121: =P121*$M$1 -> #DIV/0! | R121: =(L121+P121)*$Q$1 -> #DIV/0! | S121: =R121*$T$1 -> #DIV/0! | T121: =M121+Q121+S121 -> #DIV/0!
A122: Koningskade 40, Den Haag | B122: Derde etage | C122: 3.08 | D122: Kantoor | E122: Bureaukamers | F122: 30 | G122: Tapijttegels | H122: 156 | I122: AQL 7% | J122: 0 | K122: 1 | L122: =(F122*H122)/(J122*K122) -> #DIV/0! | M122: =L122*$M$1 -> #DIV/0! | N122: 0 | O122: 1 | P122: =(F122*H122)/(N122*O122) -> #DIV/0! | Q122: =P122*$M$1 -> #DIV/0! | R122: =(L122+P122)*$Q$1 -> #DIV/0! | S122: =R122*$T$1 -> #DIV/0! | T122: =M122+Q122+S122 -> #DIV/0!
A123: Koningskade 40, Den Haag | B123: Derde etage | C123: 3.09 | D123: Kantoor | E123: Bureaukamers | F123: 14.4 | G123: Tapijttegels | H123: 156 | I123: AQL 7% | J123: 0 | K123: 1 | L123: =(F123*H123)/(J123*K123) -> #DIV/0! | M123: =L123*$M$1 -> #DIV/0! | N123: 0 | O123: 1 | P123: =(F123*H123)/(N123*O123) -> #DIV/0! | Q123: =P123*$M$1 -> #DIV/0! | R123: =(L123+P123)*$Q$1 -> #DIV/0! | S123: =R123*$T$1 -> #DIV/0! | T123: =M123+Q123+S123 -> #DIV/0!
A124: Koningskade 40, Den Haag | B124: Derde etage | C124: 3.10 | D124: Kantoor | E124: Bureaukamers | F124: 25.4 | G124: Tapijttegels | H124: 156 | I124: AQL 7% | J124: 0 | K124: 1 | L124: =(F124*H124)/(J124*K124) -> #DIV/0! | M124: =L124*$M$1 -> #DIV/0! | N124: 0 | O124: 1 | P124: =(F124*H124)/(N124*O124) -> #DIV/0! | Q124: =P124*$M$1 -> #DIV/0! | R124: =(L124+P124)*$Q$1 -> #DIV/0! | S124: =R124*$T$1 -> #DIV/0! | T124: =M124+Q124+S124 -> #DIV/0!
A125: Koningskade 40, Den Haag | B125: Derde etage | C125: 3.11 | D125: Kantoor | E125: Bureaukamers | F125: 25.3 | G125: Tapijttegels | H125: 156 | I125: AQL 7% | J125: 0 | K125: 1 | L125: =(F125*H125)/(J125*K125) -> #DIV/0! | M125: =L125*$M$1 -> #DIV/0! | N125: 0 | O125: 1 | P125: =(F125*H125)/(N125*O125) -> #DIV/0! | Q125: =P125*$M$1 -> #DIV/0! | R125: =(L125+P125)*$Q$1 -> #DIV/0! | S125: =R125*$T$1 -> #DIV/0! | T125: =M125+Q125+S125 -> #DIV/0!
A126: Koningskade 40, Den Haag | B126: Derde etage | C126: 3.12 | D126: Vergaderkamer | E126: Bureaukamers | F126: 27.3 | G126: Kamerbreed tapijt | H126: 104 | I126: AQL 7% | J126: 0 | K126: 1 | L126: =(F126*H126)/(J126*K126) -> #DIV/0! | M126: =L126*$M$1 -> #DIV/0! | N126: 0 | O126: 1 | P126: =(F126*H126)/(N126*O126) -> #DIV/0! | Q126: =P126*$M$1 -> #DIV/0! | R126: =(L126+P126)*$Q$1 -> #DIV/0! | S126: =R126*$T$1 -> #DIV/0! | T126: =M126+Q126+S126 -> #DIV/0!
... A131: Koningskade 40, Den Haag | B131: Derde etage | C131: 3.23 | D131: Kantoor | E131: Bureaukamers | F131: 21.5 | G131: Tapijttegels | H131: 156 | I131: AQL 7% | J131: 0 | K131: 1 | L131: =(F131*H131)/(J131*K131) -> #DIV/0! | M131: =L131*$M$1 -> #DIV/0! | N131: 0 | O131: 1 | P131: =(F131*H131)/(N131*O131) -> #DIV/0! | Q131: =P131*$M$1 -> #DIV/0! | R131: =(L131+P131)*$Q$1 -> #DIV/0! | S131: =R131*$T$1 -> #DIV/0! | T131: =M131+Q131+S131 -> #DIV/0!
A132: Koningskade 40, Den Haag | B132: Derde etage | D132: Verdiepingshal | E132: Verkeersruimten | F132: 40 | G132: Natuursteen | H132: 255 | I132: AQL 7% | J132: 0 | K132: 1 | L132: =(F132*H132)/(J132*K132) -> #DIV/0! | M132: =L132*$M$1 -> #DIV/0! | N132: 0 | O132: 1 | P132: =(F132*H132)/(N132*O132) -> #DIV/0! | Q132: =P132*$M$1 -> #DIV/0! | R132: =(L132+P132)*$Q$1 -> #DIV/0! | S132: =R132*$T$1 -> #DIV/0! | T132: =M132+Q132+S132 -> #DIV/0!
A133: Koningskade 40, Den Haag | B133: Derde etage | D133: Damestoilet | E133: Sanitaire ruimten | F133: 6.1 | G133: Keramische tegels | H133: 255 | I133: AQL 4% | J133: 0 | K133: 1 | L133: =(F133*H133)/(J133*K133) -> #DIV/0! | M133: =L133*$M$1 -> #DIV/0! | N133: 0 | O133: 1 | P133: =(F133*H133)/(N133*O133) -> #DIV/0! | Q133: =P133*$M$1 -> #DIV/0! | R133: =(L133+P133)*$Q$1 -> #DIV/0! | S133: =R133*$T$1 -> #DIV/0! | T133: =M133+Q133+S133 -> #DIV/0!
...

Sheet 2b. Overige werkzaamheden
A1: 2b. Overige werkzaamheden
A4: Pantryservice
A5: Beheer en verzorging van pantry's conform beschrijving PVE | B5: Aantal pantry's | C5: Frequentie per jaar | D5: Prijs per beurt (gemiddeld) ex. BTW | E5: Totaal per jaar
A6: Koningskade 40, Den Haag | B6: 9 | C6: 255 | D6: 0 | E6: =C6*D6 -> 0
A8: Computer apparatuur
A9: Reinigen computer apparatuur | B9: Aantal werkplekken | C9: Frequentie per jaar | D9: Prijs per beurt ex. BTW | E9: Totaal per jaar
A10: Koningskade 40, Den Haag | B10: 100 | C10: 6 | D10: 0 | E10: =C10*D10 -> 0
A12: Zonnepanelen reinigen
A13: Reinigen zonnepanelen | B13: Aantal | C13: Frequentie per jaar | D13: Prijs per beurt ex. BTW | E13: Totaal per jaar
A14: Koningskade 40, Den Haag | B14: 180 | C14: 2 | D14: 0 | E14: =C14*D14 -> 0
A16: Legen vetput
A17: Legen vetput | B17: Aantal | C17: Frequentie per jaar | D17: Prijs per beurt ex. BTW | E17: Totaal per jaar
A18: Koningskade 40, Den Haag | B18: Nvt | C18: 2 | D18: 0 | E18: =C18*D18 -> 0
A20: Dieptereiniging sanitair
A21: Dieptereiniging sanitair (incl. douches) | B21: Aantal m2 | C21: Frequentie per jaar | D21: Prijs per beurt ex. BTW | E21: Totaal per jaar
A22: Koningskade 40, Den Haag | B22: 86.9 | C22: 4 | D22: 0 | E22: =C22*D22 -> 0
A26: Totaalprijs overige werkzaamheden | E26: =E10+E6+E14+E18+E22 -> 0

Sheet 2c. Werkzaamheden op afroep
A1: 2c. Verrekentarieven werkzaamheden op afroep
A2: Hier dienen de tarieven exclusief BTW te worden ingevuld. Deze vormen geen onderdeel van de beoordeling, maar worden wel getoetst op marktconformiteit. Opdrachtgever behoudt zich het recht voor om extra werkzaamheden bij derden te beleggen.
A4: Vloeronderhoud (incl. middelen en materialen) | B4: Handeling (exclusief uit- en inruimen) | C4: 1 t/m 50 m² | D4: 51 t/m 500 m² | E4: > 500 m²
A5: Linoleum/marmoleum | B5: sprayen | C5: 0 | D5: 0 | E5: 0
A6: Linoleum/marmoleum | B6: 2 laags strippen/conserveren | C6: 0 | D6: 0 | E6: 0
A7: Schoonloopmat | B7: Sproei-extraheren ter plekke | C7: 0 | D7: 0 | E7: 0
A8: Tapijt | B8: Sproei-extraheren | C8: 0 | D8: 0 | E8: 0
A9: Tegels/DHGT | B9: Schrobzuigen | C9: 0 | D9: 0 | E9: 0
A10: Parket | B10: Reinigen vloer en voorzien van nieuwe boenwaslaag | C10: 0 | D10: 0 | E10: 0
A11: Extra onderhoud (incl. middelen en materialen) | B11: Handeling (exclusief uit- en inruimen) | C11: 1 t/m 50 m² | D11: 51 t/m 100 m² | E11: > 100 m²
A12: Dieptereiniging sanitair, exclusief demonteren | B12: Conform PvE | C12: 0 | D12: 0 | E12: 0
A13: Opleveringsschoonmaak glas | B13: Inclusief verwijderen van stickers etc. | C13: 0 | D13: 0 | E13: 0
A14: Opleveringsschoonmaak keuken | B14: Inclusief verwijderen cementsluier van wanden en harde vloeren | C14: 0 | D14: 0 | E14: 0
A15: Opleveringsschoonmaak overige ruimten (b.v. kantoren, vergaderruimten, etc.) | B15: Exclusief aanbrengen beschermlaag op vloerbedekking | C15: 0 | D15: 0 | E15: 0
A16: Opleveringsschoonmaak sanitair | B16: Inclusief verwijderen cementsluier van wanden en harde vloeren | C16: 0 | D16: 0 | E16: 0
A17: Opleveringsschoonmaak verkeersruimten | B17: Exclusief aanbrengen beschermlaag op vloerbedekking | C17: 0 | D17: 0 | E17: 0
A18: Pantry | B18: Reinigen vaste elementen (b.v. kastjes, aanrechtblad, wasbak, kranen, wanden en vloeren, excl. automaat) van een pantry en binnenzijde kastjes | C18: 0 | D18: 0 | E18: 0
A19: Dakbedekking (plat) | B19: Blad verwijderen | C19: 0 | D19: 0 | E19: 0
A20: Gevelbeplating | B20: Hogedruk reinigen | C20: 0 | D20: 0 | E20: 0
A21: Lamellen horizontaal | B21: Ultrasonische reiniging | C21: 0 | D21: 0 | E21: 0
A22: Lamellen verticaal | B22: Ultrasonische reiniging | C22: 0 | D22: 0 | E22: 0
A23: Gordijnen (incl. afhalen & ophangen) | B23: Afhalen, logistiek, reinigen en ophangen | C23: 0 | D23: 0 | E23: 0
A24: Extra onderhoud (incl. middelen en materialen) | B24: Handeling | C24: 1 t/m 5 stuks | D24: 6 t/m 15 stuks | E24: > 15 stuks
A25: ICT apparatuur op werkplek reinigen | B25: Beeldscherm, telefoon, toetsenbord (in- en uitwendig) en muis stof- en vlekvrij maken. Prijs per werkplek. | C25: 0 | D25: 0 | E25: 0
A26: Whiteboards op werkplek/vergaderplek reinigen | B26: Grondig schoonmaken van het te beschrijven gedeelte van whiteboards. Prijs per whiteboard. | C26: 0 | D26: 0 | E26: 0
A27: Koelkast | B27: In- en extern stof- en vlekvrij maken | C27: 0 | D27: 0 | E27: 0
A28: Luchtroosters | B28: Uitwendig stof- en vlekvrij maken | C28: 0 | D28: 0 | E28: 0
A29: Stoelen | B29: Stoffering reinigen d.m.v. sproei extractie | C29: 0 | D29: 0 | E29: 0
A30: Printer | B30: Stof- en vlekvrij maken | C30: 0 | D30: 0 | E30: 0
A31: Specifiek extra onderhoud | B31: Handeling | C31: Uurtarief
A32: Servicewerkzaamheden | B32: Verrichten van hand- en spandiensten zoals in- en uitruimen ruimten* (exclusief overwerktoeslagen) | C32: 0
A33: Gladheidsbestrijding | B33: Uitvoeren van gladheidsbestrijding, inclusief materialen en middelen | C33: 0
A34: Extra onderhoud (incl. middelen en materialen) | B34: Handeling | C34: Vast tarief per keer
A35: Calamiteiten | B35: Indien van toepassing een voorrijtarief | C35: 0
A36: Parkeergarage | B36: Vegen (incl. entree parkeergarage) | C36: 0
A37: Extra onderhoud werkplaatsen | B37: Handeling | C37: 1 t/m 50 m² | D37: 51 t/m 100 m2 | E37: > 100 m2
A38: Stallingshal | B38: Vegen | E38: 0
A39: Werkplaats | B39: Vegen | C39: 0 | D39: 0 | E39: 0
A40: Magazijn | B40: Vegen | C40: 0 | D40: 0 | E40: 0

Sheet 3. Sanitaire middelen (huur)
A1: 3. Sanitaire middelen
A4: Onderdeel | B4: Huurprijs per stuk per maand (incl. verbruiksartikel) | C4: Aantal | E4: Totaalprijs per jaar
A5: Toiletpapier en -dispenser | B5: 0 | C5: 25 | D5: stuks | E5: =B5*C5*12 -> 0
A6: Zeep en -dispenser | B6: 0 | C6: 11 | D6: stuks | E6: =B6*C6*12 -> 0
A7: Handdoekrol en -dispenser | B7: 0 | C7: 11 | D7: stuks | E7: =B7*C7*12 -> 0
A8: Luchtverfrisser incl. navulling | B8: 0 | C8: 25 | D8: stuks | E8: =B8*C8*12 -> 0
A9: Hygiënebox | B9: 0 | C9: 15 | D9: stuks | E9: =B9*C9*12 -> 0
A10: Toiletborstelhouder incl toiletborstel | B10: 0 | C10: 25 | D10: stuks | E10: =B10*C10*12 -> 0
A11: Toiletbrilreiniger | B11: 0 | C11: 25 | D11: stuks | E11: =B11*C11*12 -> 0
A12: Afvalbak | B12: 0 | C12: 11 | D12: bakken | E12: =B12*C12*12 -> 0
A14: Totaalprijs sanitaire middelen | E14: =SUM(E5:E12) -> 0
A17: Huidige aantallen/verbruik sanitaire artikelen ter indicatie (hier kunnen geen rechten aan worden ontleend)
A18: Onderdeel | B18: Aantallen jan. t/m juli 2026
A19: Fullservice dameshygiene container per 4 weken | B19: 112
A20: Fullservice luchtverfrisser aerosol systeem | B20: 200
A21: Service toiletborstel garnituur | B21: 200
A22: Vouwhanddoekpapier Z-vouw 2-laags cellulose 24x22cm per 16x200st. | B22: 36
A23: Compactrol toiletpapier 100m. 900 vel 2-laags tissue per 24 rol | B23: 28
A24: Afvalzak 70x110cm T20 blauw | B24: 9
A25: Pedaalemmerzak 50x55 zwart | B25: 8

Sheet 4a. Glasbewassing
A1: 4a. Glasbewassing
A3: Locatie | B3: Soort glas | C3: Aantal m2 | D3: Frequentie per jaar | E3: Prijs per m² ex. BTW | F3: Prijs per beurt ex. BTW | G3: Benodigde bereikbaarheidsmiddel | H3: Prijs bereikbaarheidsmiddel per beurt ex. BTW | I3: Totaal per jaar ex. BTW (inclusief bereikbaarheidsmiddel)
A4: Koningskade 40, Den Haag | B4: Buitengevelglas (enkelzijdig) | C4: 1035 | D4: 4 | E4: 0 | F4: =C4*E4 -> 0 | H4: 0 | I4: =(F4+H4)*D4 -> 0
B5: Binnengevelglas (enkelzijdig) | C5: 1035 | D5: 4 | E5: 0 | F5: =C5*E5 -> 0 | H5: 0 | I5: =(F5+H5)*D5 -> 0
B6: Separatieglas (dubbelzijdig) | C6: 250 | D6: 4 | E6: 0 | F6: =C6*E6 -> 0 | H6: 0 | I6: =(F6+H6)*D6 -> 0
A8: Totaal | C8: =SUM(C4:C6) -> 2320 | I8: =SUM(I4:I6) -> 0
A10: Huur hoogwerker per dagdeel (4 uur) op afroep | I10: 0

Sheet 4b. Gevelonderhoud
A1: 4b. Gevelonderhoud
A2: Tevens dient de prijs opgegeven te worden voor de totale beurt. Indien bij conserveren ook een reiniging voorafgaand benodigd is dient dit bij de prijs inbegrepen te zijn.
A3: Locatie | B3: Afwerking | C3: Aantal m2 | D3: Frequentie per jaar | E3: Prijs per m2 licht reinigen ex. BTW | F3: Prijs per m2 intensief reinigen ex. BTW | G3: Prijs per m2 licht conserveren ex. BTW | H3: Prijs per m2 intenstief conserveren ex. BTW | I3: Prijs per beurt ex BTW | J3: Totaal per jaar ex. BTW
A4: Koningskade 40, Den Haag | B4: Marmeren panelen | C4: 109.4 | D4: 2 | E4: 0 | I4: =C4*E4 -> 0 | J4: =I4*D4 -> 0
D5: Afroep | F5: 0 | I5: =C4*F5 -> 0
D6: 2 | G6: 0 | I6: =C4*G6 -> 0 | J6: =I6*D6 -> 0
D7: Afroep | H7: 0 | I7: =C4*H7 -> 0
A9: Totaal | C9: =C4 -> 109.4 | J9: =SUM(J4:J7) -> 0
A11: Hoogwerker per dagdeel (4 uur) | J11: 0

Sheet 5. Uurtarieven
A1: 5. Uurtarieven
A2: Hier dienen de tarieven exclusief BTW te worden ingevuld. Deze vormen geen onderdeel van de beoordeling, maar worden wel getoetst op marktconformiteit.
A4: Functie
C5: Schoonmaakmedewerker | E5: Leidinggevende | G5: Specialistisch schoonmaakonderhoud
C7: % | D7: € | E7: % | F7: € | G7: % | H7: €
A8: Basis (CAO) uurloon | D8: 0 | F8: 0 | H8: 0
A9: Toeslag | C9: 0 | D9: 0 | E9: 0 | F9: 0 | G9: 0 | H9: 0
A10: Bruto uurloon | D10: 0 | F10: 0 | H10: 0
A11: Vakantiedagen | C11: 0 | D11: 0 | E11: 0 | F11: 0 | G11: 0 | H11: 0
A12: Wettig verzuim/feestdagen | C12: 0 | D12: 0 | E12: 0 | F12: 0 | G12: 0 | H12: 0
A13: Kosten ziektedagen | C13: 0 | D13: 0 | E13: 0 | F13: 0 | G13: 0 | H13: 0
A14: Vakantiegeld toeslag | C14: 0 | D14: 0 | E14: 0 | F14: 0 | G14: 0 | H14: 0
A15: Eindejaarsuitkering | C15: 0 | D15: 0 | E15: 0 | F15: 0 | G15: 0 | H15: 0
A16: Subtotaal voor sociale lasten | D16: 0 | F16: 0 | H16: 0
A17: Opslagen voor sociale lasten, incl. WW | C17: 0 | D17: 0 | E17: 0 | F17: 0 | G17: 0 | H17: 0
A18: Pensioenfonds | C18: 0 | D18: 0 | E18: 0 | F18: 0 | G18: 0 | H18: 0
A19: Overige sociale verplichtingen | C19: 0 | D19: 0 | E19: 0 | F19: 0 | G19: 0 | H19: 0
A20: Totale directe loonkosten | D20: 0 | F20: 0 | H20: 0
A21: Kosten materiaal, machines, kleding, etc. | C21: 0 | D21: 0 | E21: 0 | F21: 0 | G21: 0 | H21: 0
A22: Reis- en transportkosten | C22: 0 | D22: 0 | E22: 0 | F22: 0 | G22: 0 | H22: 0
A23: Subtotaal voor winst en overhead | D23: 0 | F23: 0 | H23: 0
A24: Indirect toezicht, managementkosten | C24: 0 | D24: 0 | E24: 0 | F24: 0 | G24: 0 | H24: 0
A25: Overhead, risico en winst | C25: 0 | D25: 0 | E25: 0 | F25: 0 | G25: 0 | H25: 0
A26: Regulier tarief | D26: 0 | F26: 0 | H26: 0
A27: Totaal regulier uurtarief incl. toeslagen | C27: Toeslag | E27: Toeslag | G27: Toeslag
A28: Nacht | C28: 0 | D28: 0 | E28: 0 | F28: 0 | G28: 0 | H28: 0
A29: Weekend | C29: 0 | D29: 0 | E29: 0 | F29: 0 | G29: 0 | H29: 0
A30: Feestdagen | C30: 0 | D30: 0 | E30: 0 | F30: 0 | G30: 0 | H30: 0
