Workbook

Sheet Invulinstructie
A1: Invulinstructie Prijzenblad
A2: Opdrachtnemer dient ten behoeve van deze aanbesteding het volledige Prijzenblad in te vullen. Opdrachtnemer dient uitsluitend gebruik te maken van dit model. Opdrachtnemer mag geen wijzigingen aanbrengen in het model, zoals het toevoegen/verwijderen van regels. Er zijn geen formules of koppelingen toegevoegd in het Prijzenblad. Opdrachtnemer is zelf verantwoordelijk voor een juiste koppeling van cellen en het aanbrengen van formules.
A6: Onderdeel 1: Inschrijfstaat In dit tabblad worden de totaalprijzen van de aanneemsom voor reguliere en periodieke schoonmaak (tabblad 2a), overige werkzaamheden (tabblad 2b), de verrekentarieven voor extra werkzaamheden (tabblad 2c), de tarieven voor sanitaire middelen (tabblad 3a), glasbewassing (tabblad 4a) en gevelonderhoud (tabblad 4b) opgegeven. Dit overzicht wordt beoordeeld conform hetgeen beschreven is in de Aanbestedingsleidraad. Tevens dient Inschrijver in dit tabblad het totaal aantal uren productie en totaal aantal uren toezicht per jaar op te geven, ten behoeve van de reguliere en periodieke schoonmaak. De Inschrijfstaat dient rechtsgeldig ondertekend te worden door een daartoe bevoegd persoon en dient te worden bijgevoegd bij de Inschrijving.
A15: Onderdeel 2a: Regulier en periodiek In dit tabblad worden de kosten voor het regulier en periodiek schoonmaakwerk opgegeven, rekening houdend met de eisen zoals opgegeven in de aanbestedingsdocumentatie. Opdrachtnemer dient per ruimte de ureninzet en de kosten per jaar te specificeren.
A19: Onderdeel 2b: Overige werkzaamheden ter beoordeling In dit tabblad worden de kosten voor overige werkzaamheden opgegeven, rekening houdend met de eisen zoals opgegeven in de aanbestedingsdocumentatie.
A22: Onderdeel 2c: Werkzaamheden op afroep (deze worden niet beoordeeld) In dit tabblad staan de verrekentarieven benoemd voor de extra werkzaamheden. Deze verrekentarieven worden niet meegenomen in de beoordeling, maar zijn wel bindend tijdens de looptijd van de Overeenkomst. Bij indiening van de inschrijving zal Opdrachtgever de ingediende verrekentarieven beoordelen op marktconformiteit. Opdrachtgever behoudt zich het recht voor om extra werkzaamheden bij derden te beleggen.
A27: Onderdeel 3a: Sanitaire middelen (huur) In dit tabblad dienen de kosten voor de sanitaire middelen te worden opgenomen. Opdrachtnemer dient hier een huurprijs per stuk per maand op te geven, inclusief de verbruiksartikelen. Op basis van het aantal dispensers zoals aangegeven dient Opdrachtnemer een totaalprijs per jaar op te geven.
A31: Onderdeel 4a: Glasbewassing In dit tabblad worden de kosten ten behoeve van de glasbewassing opgegeven, rekening houdend met de eisen zoals opgegeven in de aanbestedingsdocumentatie. Opdrachtnemer dient per soort glas en per locatie de kosten per beurt en per jaar te specificeren.
A35: Onderdeel 4b: Gevelonderhoud In dit tabblad worden de kosten ten behoeve van het gevelonderhoud opgegeven, rekening houdend met de eisen zoals opgegeven in de aanbestedingsdocumentatie. Opdrachtnemer dient per soort afwerking, type werkzaamheden soort glas de kosten per beurt en per jaar te specificeren.
A39: Onderdeel 5: Uurtarieven (deze worden niet beoordeeld) Opdrachtnemer dient de opbouw van de uurtarieven inzichtelijk te maken in dit tabblad. Deze uurtarieven vormen de basis voor de berekening van de kosten voor het reguliere en periodieke schoonmaakwerk (tabblad 2a). De uurtarieven worden niet als apart onderdeel meegenomen in de beoordeling, maar worden wel beoordeeld door Opdrachtgever op marktconformiteit. Tevens zijn de uurtarieven bindend en worden deze gebruikt voor indexering gedurende de looptijd van de Overeenkomst.

Sheet 1. Inschrijfstaat
A1: 1. Inschrijfstaat
A3: Onderdeel | B3: Prijs excl. BTW | C3: Prijs incl. BTW
A4: Totaal: 2a. Reguliere en periodieke schoonmaak | B4: ='2a. Regulier en periodiek'!T162 -> #DIV/0! | C4: =B4*1.21 -> #DIV/0!
A5: Totaal: 2b. Overige werkzaamheden | B5: ='2b. Overige werkzaamheden'!E26 -> 0 | C5: =B5*1.21 -> 0
A6: Totaal: 2c. Werkzaamheden op afroep
A7: Totaal: 3. Sanitaire middelen (huur) | B7: ='3. Sanitaire middelen (huur)'!E14 -> 0 | C7: =B7*1.21 -> 0
A8: Totaal: 4a. Glasbewassing | B8: ='4a. Glasbewassing'!I8 -> 0 | C8: =B8*1.21 -> 0
A9: Totaal: 4b. Gevelonderhoud | B9: ='4b. Gevelonderhoud'!J9 -> 0 | C9: =B9*1.21 -> 0
A10: Totaal: 5. Uurtarieven
A11: Totaalprijs per jaar | B11: =SUM(B4:B10) -> #DIV/0! | C11: =SUM(C4:C10) -> #DIV/0!
A13: Reguliere en periodieke schoonmaak | B13: Totaal aantal uren per jaar
A14: Uren productie | B14: ='2a. Regulier en periodiek'!L162+'2a. Regulier en periodiek'!P162 -> #DIV/0!
A15: Uren toezicht | B15: ='2a. Regulier en periodiek'!R162 -> #DIV/0!
A17: Datum:
A18: Handtekening rechtsgeldig vertegenwoordiger:
A19: Naam:
A20: Functie:
A21: Organisatie:

Sheet 2a. Regulier en periodiek
A1: 2a. Reguliere en periodieke schoonmaak | L1: Uurtarief ma-vrij | M1: ='5. Uurtarieven'!D26 -> 0 | P1: Percentage toezicht | Q1: 0 | S1: Uurtarief toezicht ma-vrij | T1: ='5. Uurtarieven'!F26 -> 0
E2: Totaal m2: | F2: =SUBTOTAL(9,F6:F160) -> 5099.82 | L2: Uurtarief za en zo | M2: ='5. Uurtarieven'!D29 -> 0 | S2: Uurtarief toezicht za-zo | T2: ='5. Uurtarieven'!F29 -> 0
L3: Uurtarief feestdag | M3: ='5. Uurtarieven'!D30 -> 0 | S3: Uurtarief toezicht feestdag | T3: ='5. Uurtarieven'!F30 -> 0
A4: Locatie | B4: Etage | C4: Ruimtenr. | D4: Ruimteomschrijving | E4: Ruimte categorie | F4: Totaal m2 | G4: Vloerafwerking | H4: Opleverfrequentie per jaar | I4: Kwaliteitseis | J4: Reguliere werkzaamheden | N4: Periodieke werkzaamheden | R4: Uren toezicht | S4: Kosten toezicht | T4: Kosten totaal per jaar excl. BTW
J5: Norm per m² per uur | K5: Correctiefactor norm | L5: Uren productie | M5: Kosten productie | N5: Norm per m² per uur | O5: Correctiefactor norm | P5: Uren productie | Q5: Kosten productie
A6: Koningskade 40, Den Haag | B6: Kelder | D6: Overloop/gang | E6: Verkeersruimten | F6: 6.8 | G6: Keramische tegels | H6: 255 | I6: AQL 7% | J6: 0 | K6: 1 | L6: =(F6*H6)/(J6*K6) -> #DIV/0! | M6: =L6*$M$1 -> #DIV/0! | N6: 0 | O6: 1 | P6: =(F6*H6)/(N6*O6) -> #DIV/0! | Q6: =P6*$M$1 -> #DIV/0! | R6: =(L6+P6)*$Q$1 -> #DIV/0! | S6: =R6*$T$1 -> #DIV/0! | T6: =M6+Q6+S6 -> #DIV/0!
A7: Koningskade 40, Den Haag | B7: Kelder | D7: Doucheruimten (2 stuks) | E7: Sanitaire ruimten | F7: 4.2 | G7: Keramische tegels | H7: 255 | I7: AQL 4% | J7: 0 | K7: 1 | L7: =(F7*H7)/(J7*K7) -> #DIV/0! | M7: =L7*$M$1 -> #DIV/0! | N7: 0 | O7: 1 | P7: =(F7*H7)/(N7*O7) -> #DIV/0! | Q7: =P7*$M$1 -> #DIV/0! | R7: =(L7+P7)*$Q$1 -> #DIV/0! | S7: =R7*$T$1 -> #DIV/0! | T7: =M7+Q7+S7 -> #DIV/0!
A8: Koningskade 40, Den Haag | B8: Kelder | D8: Entree parkeergarage | E8: Verkeersruimten | F8: 5.6 | G8: Betonvloer | H8: 4 | I8: AQL 7% | J8: 0 | K8: 1 | L8: =(F8*H8)/(J8*K8) -> #DIV/0! | M8: =L8*$M$1 -> #DIV/0! | N8: 0 | O8: 1 | P8: =(F8*H8)/(N8*O8) -> #DIV/0! | Q8: =P8*$M$1 -> #DIV/0! | R8: =(L8+P8)*$Q$1 -> #DIV/0! | S8: =R8*$T$1 -> #DIV/0! | T8: =M8+Q8+S8 -> #DIV/0!
A9: Koningskade 40, Den Haag | B9: Kelder | D9: Parkeergarage | E9: Verkeersruimten | F9: 1180 | G9: Betonvloer | H9: 4 | I9: AQL 7% | J9: 0 | K9: 1 | L9: =(F9*H9)/(J9*K9) -> #DIV/0! | M9: =L9*$M$1 -> #DIV/0! | N9: 0 | O9: 1 | P9: =(F9*H9)/(N9*O9) -> #DIV/0! | Q9: =P9*$M$1 -> #DIV/0! | R9: =(L9+P9)*$Q$1 -> #DIV/0! | S9: =R9*$T$1 -> #DIV/0! | T9: =M9+Q9+S9 -> #DIV/0!
A10: Koningskade 40, Den Haag | B10: Kelder | D10: Traphal | E10: Verkeersruimten | F10: 4.7 | G10: Kamerbreed tapijt | H10: 255 | I10: AQL 7% | J10: 0 | K10: 1 | L10: =(F10*H10)/(J10*K10) -> #DIV/0! | M10: =L10*$M$1 -> #DIV/0! | N10: 0 | O10: 1 | P10: =(F10*H10)/(N10*O10) -> #DIV/0! | Q10: =P10*$M$1 -> #DIV/0! | R10: =(L10+P10)*$Q$1 -> #DIV/0! | S10: =R10*$T$1 -> #DIV/0! | T10: =M10+Q10+S10 -> #DIV/0!
A11: Koningskade 40, Den Haag | B11: Kelder | D11: Lifthal | E11: Verkeersruimten | F11: 3.9 | G11: Linoleum | H11: 255 | I11: AQL 7% | J11: 0 | K11: 1 | L11: =(F11*H11)/(J11*K11) -> #DIV/0! | M11: =L11*$M$1 -> #DIV/0! | N11: 0 | O11: 1 | P11: =(F11*H11)/(N11*O11) -> #DIV/0! | Q11: =P11*$M$1 -> #DIV/0! | R11: =(L11+P11)*$Q$1 -> #DIV/0! | S11: =R11*$T$1 -> #DIV/0! | T11: =M11+Q11+S11 -> #DIV/0!
A12: Koningskade 40, Den Haag | B12: Kelder | D12: Hoofdtrappenhuis | E12: Verkeersruimten | F12: 17.97 | G12: Natuursteen | H12: 255 | I12: AQL 7% | J12: 0 | K12: 1 | L12: =(F12*H12)/(J12*K12) -> #DIV/0! | M12: =L12*$M$1 -> #DIV/0! | N12: 0 | O12: 1 | P12: =(F12*H12)/(N12*O12) -> #DIV/0! | Q12: =P12*$M$1 -> #DIV/0! | R12: =(L12+P12)*$Q$1 -> #DIV/0! | S12: =R12*$T$1 -> #DIV/0! | T12: =M12+Q12+S12 -> #DIV/0!
A13: Koningskade 40, Den Haag | B13: Kelder | D13: Secundair trappenhuis / zijtrappenhuis | E13: Verkeersruimten | F13: 11.55 | G13: Kamerbreed tapijt | H13: 255 | I13: AQL 7% | J13: 0 | K13: 1 | L13: =(F13*H13)/(J13*K13) -> #DIV/0! | M13: =L13*$M$1 -> #DIV/0! | N13: 0 | O13: 1 | P13: =(F13*H13)/(N13*O13) -> #DIV/0! | Q13: =P13*$M$1 -> #DIV/0! | R13: =(L13+P13)*$Q$1 -> #DIV/0! | S13: =R13*$T$1 -> #DIV/0! | T13: =M13+Q13+S13 -> #DIV/0!
A14: Koningskade 40, Den Haag | B14: Begane grond | D14: Lift a | E14: Verkeersruimten | F14: 2.1 | G14: Tapijttegels | H14: 255 | I14: AQL 7% | J14: 0 | K14: 1 | L14: =(F14*H14)/(J14*K14) -> #DIV/0! | M14: =L14*$M$1 -> #DIV/0! | N14: 0 | O14: 1 | P14: =(F14*H14)/(N14*O14) -> #DIV/0! | Q14: =P14*$M$1 -> #DIV/0! | R14: =(L14+P14)*$Q$1 -> #DIV/0! | S14: =R14*$T$1 -> #DIV/0! | T14: =M14+Q14+S14 -> #DIV/0!
A15: Koningskade 40, Den Haag | B15: Begane grond | D15: Lift b | E15: Verkeersruimten | F15: 2.1 | G15: Tapijttegels | H15: 255 | I15: AQL 7% | J15: 0 | K15: 1 | L15: =(F15*H15)/(J15*K15) -> #DIV/0! | M15: =L15*$M$1 -> #DIV/0! | N15: 0 | O15: 1 | P15: =(F15*H15)/(N15*O15) -> #DIV/0! | Q15: =P15*$M$1 -> #DIV/0! | R15: =(L15+P15)*$Q$1 -> #DIV/0! | S15: =R15*$T$1 -> #DIV/0! | T15: =M15+Q15+S15 -> #DIV/0!
A16: Koningskade 40, Den Haag | B16: Begane grond | D16: Entree buiten (Nassau Odijckstraat 2a t/m 2c) | E16: Verkeersruimten | F16: 17.1 | G16: Keramische tegels | H16: 255 | I16: AQL 7% | J16: 0 | K16: 1 | L16: =(F16*H16)/(J16*K16) -> #DIV/0! | M16: =L16*$M$1 -> #DIV/0! | N16: 0 | O16: 1 | P16: =(F16*H16)/(N16*O16) -> #DIV/0! | Q16: =P16*$M$1 -> #DIV/0! | R16: =(L16+P16)*$Q$1 -> #DIV/0! | S16: =R16*$T$1 -> #DIV/0! | T16: =M16+Q16+S16 -> #DIV/0!
A17: Koningskade 40, Den Haag | B17: Begane grond | D17: Entree bordestrap | E17: Verkeersruimten | F17: 36.6 | G17: Natuursteen | H17: 255 | I17: AQL 7% | J17: 0 | K17: 1 | L17: =(F17*H17)/(J17*K17) -> #DIV/0! | M17: =L17*$M$1 -> #DIV/0! | N17: 0 | O17: 1 | P17: =(F17*H17)/(N17*O17) -> #DIV/0! | Q17: =P17*$M$1 -> #DIV/0! | R17: =(L17+P17)*$Q$1 -> #DIV/0! | S17: =R17*$T$1 -> #DIV/0! | T17: =M17+Q17+S17 -> #DIV/0!
... A22: Koningskade 40, Den Haag | B22: Begane grond | D22: Invalidetoilet | E22: Sanitaire ruimten | F22: 2.3 | G22: Keramische tegels | H22: 255 | I22: AQL 4% | J22: 0 | K22: 1 | L22: =(F22*H22)/(J22*K22) -> #DIV/0! | M22: =L22*$M$1 -> #DIV/0! | N22: 0 | O22: 1 | P22: =(F22*H22)/(N22*O22) -> #DIV/0! | Q22: =P22*$M$1 -> #DIV/0! | R22: =(L22+P22)*$Q$1 -> #DIV/0! | S22: =R22*$T$1 -> #DIV/0! | T22: =M22+Q22+S22 -> #DIV/0!
A23: Koningskade 40, Den Haag | B23: Begane grond | C23: 0.01 | D23: Magazijn | E23: Overige ruimten | F23: 31.2 | G23: Linoleum | H23: 2 | I23: AQL 7% | J23: 0 | K23: 1 | L23: =(F23*H23)/(J23*K23) -> #DIV/0! | M23: =L23*$M$1 -> #DIV/0! | N23: 0 | O23: 1 | P23: =(F23*H23)/(N23*O23) -> #DIV/0! | Q23: =P23*$M$1 -> #DIV/0! | R23: =(L23+P23)*$Q$1 -> #DIV/0! | S23: =R23*$T$1 -> #DIV/0! | T23: =M23+Q23+S23 -> #DIV/0!
A24: Koningskade 40, Den Haag | B24: Begane grond | C24: 0.02 | D24: Opslag | E24: Overige ruimten | F24: 8.7 | G24: Linoleum | H24: 2 | I24: AQL 7% | J24: 0 | K24: 1 | L24: =(F24*H24)/(J24*K24) -> #DIV/0! | M24: =L24*$M$1 -> #DIV/0! | N24: 0 | O24: 1 | P24: =(F24*H24)/(N24*O24) -> #DIV/0! | Q24: =P24*$M$1 -> #DIV/0! | R24: =(L24+P24)*$Q$1 -> #DIV/0! | S24: =R24*$T$1 -> #DIV/0! | T24: =M24+Q24+S24 -> #DIV/0!
A25: Koningskade 40, Den Haag | B25: Begane grond | C25: 0.03 | D25: Schoonmaakmagazijn | E25: Overige ruimten | F25: 5.3 | G25: Keramische tegels | I25: Door leverancier zelf
A26: Koningskade 40, Den Haag | B26: Begane grond | C26: 0.04 | D26: Cateringkantoor | E26: Overige ruimten | F26: 7.6 | G26: Tapijttegels | I26: Niet in onderhoud
A27: Koningskade 40, Den Haag | B27: Begane grond | C27: 0.05 | D27: Kantoor | E27: Bureaukamers | F27: 10.9 | G27: Tapijttegels | H27: 156 | I27: AQL 7% | J27: 0 | K27: 1 | L27: =(F27*H27)/(J27*K27) -> #DIV/0! | M27: =L27*$M$1 -> #DIV/0! | N27: 0 | O27: 1 | P27: =(F27*H27)/(N27*O27) -> #DIV/0! | Q27: =P27*$M$1 -> #DIV/0! | R27: =(L27+P27)*$Q$1 -> #DIV/0! | S27: =R27*$T$1 -> #DIV/0! | T27: =M27+Q27+S27 -> #DIV/0!
A28: Koningskade 40, Den Haag | B28: Begane grond | C28: 0.06 | D28: Facilitair magazijn | E28: Overige ruimten | F28: 6.8 | G28: Linoleum | H28: 2 | I28: AQL 7% | J28: 0 | K28: 1 | L28: =(F28*H28)/(J28*K28) -> #DIV/0! | M28: =L28*$M$1 -> #DIV/0! | N28: 0 | O28: 1 | P28: =(F28*H28)/(N28*O28) -> #DIV/0! | Q28: =P28*$M$1 -> #DIV/0! | R28: =(L28+P28)*$Q$1 -> #DIV/0! | S28: =R28*$T$1 -> #DIV/0! | T28: =M28+Q28+S28 -> #DIV/0!
A29: Koningskade 40, Den Haag | B29: Begane grond | C29: 0.07 | D29: Kantoor | E29: Bureaukamers | F29: 10.8 | G29: Tapijttegels | H29: 156 | I29: AQL 7% | J29: 0 | K29: 1 | L29: =(F29*H29)/(J29*K29) -> #DIV/0! | M29: =L29*$M$1 -> #DIV/0! | N29: 0 | O29: 1 | P29: =(F29*H29)/(N29*O29) -> #DIV/0! | Q29: =P29*$M$1 -> #DIV/0! | R29: =(L29+P29)*$Q$1 -> #DIV/0! | S29: =R29*$T$1 -> #DIV/0! | T29: =M29+Q29+S29 -> #DIV/0!
A30: Koningskade 40, Den Haag | B30: Begane grond | C30: 0.08 | D30: Cateringopslag | E30: Overige ruimten | F30: 17.5 | G30: Linoleum | I30: Niet in onderhoud
A31: Koningskade 40, Den Haag | B31: Begane grond | C31: 0.09 | D31: Kantoor | E31: Bureaukamers | F31: 41.5 | G31: Tapijttegels | H31: 156 | I31: AQL 7% | J31: 0 | K31: 1 | L31: =(F31*H31)/(J31*K31) -> #DIV/0! | M31: =L31*$M$1 -> #DIV/0! | N31: 0 | O31: 1 | P31: =(F31*H31)/(N31*O31) -> #DIV/0! | Q31: =P31*$M$1 -> #DIV/0! | R31: =(L31+P31)*$Q$1 -> #DIV/0! | S31: =R31*$T$1 -> #DIV/0! | T31: =M31+Q31+S31 -> #DIV/0!
A32: Koningskade 40, Den Haag | B32: Begane grond | C32: 0.11 | D32: Kantoor | E32: Bureaukamers | F32: 25.3 | G32: PVC-stroken | H32: 156 | I32: AQL 7% | J32: 0 | K32: 1 | L32: =(F32*H32)/(J32*K32) -> #DIV/0! | M32: =L32*$M$1 -> #DIV/0! | N32: 0 | O32: 1 | P32: =(F32*H32)/(N32*O32) -> #DIV/0! | Q32: =P32*$M$1 -> #DIV/0! | R32: =(L32+P32)*$Q$1 -> #DIV/0! | S32: =R32*$T$1 -> #DIV/0! | T32: =M32+Q32+S32 -> #DIV/0!
A33: Koningskade 40, Den Haag | B33: Begane grond | C33: 0.12 | D33: Bedrijfsrestaurant | E33: Bureaukamers | F33: 170 | G33: PVC-stroken | H33: 255 | I33: AQL 7% | J33: 0 | K33: 1 | L33: =(F33*H33)/(J33*K33) -> #DIV/0! | M33: =L33*$M$1 -> #DIV/0! | N33: 0 | O33: 1 | P33: =(F33*H33)/(N33*O33) -> #DIV/0! | Q33: =P33*$M$1 -> #DIV/0! | R33: =(L33+P33)*$Q$1 -> #DIV/0! | S33: =R33*$T$1 -> #DIV/0! | T33: =M33+Q33+S33 -> #DIV/0!
A34: Koningskade 40, Den Haag | B34: Begane grond | C34: 0.13 | D34: Kantoor | E34: Bureaukamers | F34: 23.3 | G34: Tapijttegels | H34: 156 | I34: AQL 7% | J34: 0 | K34: 1 | L34: =(F34*H34)/(J34*K34) -> #DIV/0! | M34: =L34*$M$1 -> #DIV/0! | N34: 0 | O34: 1 | P34: =(F34*H34)/(N34*O34) -> #DIV/0! | Q34: =P34*$M$1 -> #DIV/0! | R34: =(L34+P34)*$Q$1 -> #DIV/0! | S34: =R34*$T$1 -> #DIV/0! | T34: =M34+Q34+S34 -> #DIV/0!
A35: Koningskade 40, Den Haag | B35: Begane grond | C35: 0.14 | D35: Vergaderkamer | E35: Bureaukamers | F35: 68.6 | G35: Tapijttegels | H35: 104 | I35: AQL 7% | J35: 0 | K35: 1 | L35: =(F35*H35)/(J35*K35) -> #DIV/0! | M35: =L35*$M$1 -> #DIV/0! | N35: 0 | O35: 1 | P35: =(F35*H35)/(N35*O35) -> #DIV/0! | Q35: =P35*$M$1 -> #DIV/0! | R35: =(L35+P35)*$Q$1 -> #DIV/0! | S35: =R35*$T$1 -> #DIV/0! | T35: =M35+Q35+S35 -> #DIV/0!
A36: Koningskade 40, Den Haag | B36: Begane grond | C36: 0.15 | D36: Vergaderkamer | E36: Bureaukamers | F36: 29 | G36: Tapijttegels | H36: 104 | I36: AQL 7% | J36: 0 | K36: 1 | L36: =(F36*H36)/(J36*K36) -> #DIV/0! | M36: =L36*$M$1 -> #DIV/0! | N36: 0 | O36: 1 | P36: =(F36*H36)/(N36*O36) -> #DIV/0! | Q36: =P36*$M$1 -> #DIV/0! | R36: =(L36+P36)*$Q$1 -> #DIV/0! | S36: =R36*$T$1 -> #DIV/0! | T36: =M36+Q36+S36 -> #DIV/0!
A37: Koningskade 40, Den Haag | B37: Begane grond | C37: 0.16 | D37: Kantoor | E37: Bureaukamers | F37: 30.5 | G37: PVC-stroken | H37: 156 | I37: AQL 7% | J37: 0 | K37: 1 | L37: =(F37*H37)/(J37*K37) -> #DIV/0! | M37: =L37*$M$1 -> #DIV/0! | N37: 0 | O37: 1 | P37: =(F37*H37)/(N37*O37) -> #DIV/0! | Q37: =P37*$M$1 -> #DIV/0! | R37: =(L37+P37)*$Q$1 -> #DIV/0! | S37: =R37*$T$1 -> #DIV/0! | T37: =M37+Q37+S37 -> #DIV/0!
A38: Koningskade 40, Den Haag | B38: Begane grond | C38: 0.20 | D38: Kantoor | E38: Bureaukamers | F38: 26.6 | G38: PVC-stroken | H38: 156 | I38: AQL 7% | J38: 0 | K38: 1 | L38: =(F38*H38)/(J38*K38) -> #DIV/0! | M38: =L38*$M$1 -> #DIV/0! | N38: 0 | O38: 1 | P38: =(F38*H38)/(N38*O38) -> #DIV/0! | Q38: =P38*$M$1 -> #DIV/0! | R38: =(L38+P38)*$Q$1 -> #DIV/0! | S38: =R38*$T$1 -> #DIV/0! | T38: =M38+Q38+S38 -> #DIV/0!
A39: Koningskade 40, Den Haag | B39: Begane grond | D39: Verkeersruimte opslag | E39: Verkeersruimten | F39: 20 | G39: Linoleum | H39: 255 | I39: AQL 7% | J39: 0 | K39: 1 | L39: =(F39*H39)/(J39*K39) -> #DIV/0! | M39: =L39*$M$1 -> #DIV/0! | N39: 0 | O39: 1 | P39: =(F39*H39)/(N39*O39) -> #DIV/0! | Q39: =P39*$M$1 -> #DIV/0! | R39: =(L39+P39)*$Q$1 -> #DIV/0! | S39: =R39*$T$1 -> #DIV/0! | T39: =M39+Q39+S39 -> #DIV/0!
A40: Koningskade 40, Den Haag | B40: Begane grond | D40: Verkeersruimte monument | E40: Verkeersruimten | F40: 23.5 | G40: PVC-stroken | H40: 255 | I40: AQL 7% | J40: 0 | K40: 1 | L40: =(F40*H40)/(J40*K40) -> #DIV/0! | M40: =L40*$M$1 -> #DIV/0! | N40: 0 | O40: 1 | P40: =(F40*H40)/(N40*O40) -> #DIV/0! | Q40: =P40*$M$1 -> #DIV/0! | R40: =(L40+P40)*$Q$1 -> #DIV/0! | S40: =R40*$T$1 -> #DIV/0! | T40: =M40+Q40+S40 -> #DIV/0!
A41: Koningskade 40, Den Haag | B41: Begane grond | D41: Entree monument (oude gedeelte) | E41: Verkeersruimten | F41: 6.7 | G41: Kamerbreed tapijt | H41: 255 | I41: AQL 7% | J41: 0 | K41: 1 | L41: =(F41*H41)/(J41*K41) -> #DIV/0! | M41: =L41*$M$1 -> #DIV/0! | N41: 0 | O41: 1 | P41: =(F41*H41)/(N41*O41) -> #DIV/0! | Q41: =P41*$M$1 -> #DIV/0! | R41: =(L41+P41)*$Q$1 -> #DIV/0! | S41: =R41*$T$1 -> #DIV/0! | T41: =M41+Q41+S41 -> #DIV/0!
A42: Koningskade 40, Den Haag | B42: Begane grond | D42: Containerruimte | E42: Overige ruimten | F42: 21.1 | G42: Betonvloer | H42: 2 | I42: AQL 7% | J42: 0 | K42: 1 | L42: =(F42*H42)/(J42*K42) -> #DIV/0! | M42: =L42*$M$1 -> #DIV/0! | N42: 0 | O42: 1 | P42: =(F42*H42)/(N42*O42) -> #DIV/0! | Q42: =P42*$M$1 -> #DIV/0! | R42: =(L42+P42)*$Q$1 -> #DIV/0! | S42: =R42*$T$1 -> #DIV/0! | T42: =M42+Q42+S42 -> #DIV/0!
A43: Koningskade 40, Den Haag | B43: Begane grond | D43: Hoofdtrappenhuis | E43: Verkeersruimten | F43: 17.97 | G43: Natuursteen | H43: 255 | I43: AQL 7% | J43: 0 | K43: 1 | L43: =(F43*H43)/(J43*K43) -> #DIV/0! | M43: =L43*$M$1 -> #DIV/0! | N43: 0 | O43: 1 | P43: =(F43*H43)/(N43*O43) -> #DIV/0! | Q43: =P43*$M$1 -> #DIV/0! | R43: =(L43+P43)*$Q$1 -> #DIV/0! | S43: =R43*$T$1 -> #DIV/0! | T43: =M43+Q43+S43 -> #DIV/0!
A44: Koningskade 40, Den Haag | B44: Begane grond | D44: Secundair trappenhuis / zijtrappenhuis | E44: Verkeersruimten | F44: 11.55 | G44: Kamerbreed tapijt | H44: 255 | I44: AQL 7% | J44: 0 | K44: 1 | L44: =(F44*H44)/(J44*K44) -> #DIV/0! | M44: =L44*$M$1 -> #DIV/0! | N44: 0 | O44: 1 | P44: =(F44*H44)/(N44*O44) -> #DIV/0! | Q44: =P44*$M$1 -> #DIV/0! | R44: =(L44+P44)*$Q$1 -> #DIV/0! | S44: =R44*$T$1 -> #DIV/0! | T44: =M44+Q44+S44 -> #DIV/0!
...

Sheet 2b. Overige werkzaamheden
A1: 2b. Overige werkzaamheden
A4: Pantryservice
A5: Beheer en verzorging van pantry's conform beschrijving PVE | B5: Aantal pantry's | C5: Frequentie per jaar | D5: Prijs per beurt (gemiddeld) ex. BTW | E5: Totaal per jaar
A6: Koningskade 40, Den Haag | B6: 9 | C6: 255 | D6: 0 | E6: =C6*D6 -> 0
A8: Computer apparatuur
A9: Reinigen computer apparatuur | B9: Aantal werkplekken | C9: Frequentie per jaar | D9: Prijs per beurt ex. BTW | E9: Totaal per jaar
A10: Koningskade 40, Den Haag | B10: 100 | C10: 6 | D10: 0 | E10: =C10*D10 -> 0
A12: Zonnepanelen reinigen
A13: Reinigen zonnepanelen | B13: Aantal | C13: Frequentie per jaar | D13: Prijs per beurt ex. BTW | E13: Totaal per jaar
A14: Koningskade 40, Den Haag | B14: 180 | C14: 2 | D14: 0 | E14: =C14*D14 -> 0
A16: Legen vetput
A17: Legen vetput | B17: Aantal | C17: Frequentie per jaar | D17: Prijs per beurt ex. BTW | E17: Totaal per jaar
A18: Koningskade 40, Den Haag | B18: Nvt | C18: 2 | D18: 0 | E18: =C18*D18 -> 0
A20: Dieptereiniging sanitair
A21: Dieptereiniging sanitair (incl. douches) | B21: Aantal m2 | C21: Frequentie per jaar | D21: Prijs per beurt ex. BTW | E21: Totaal per jaar
A22: Koningskade 40, Den Haag | B22: 86.9 | C22: 4 | D22: 0 | E22: =C22*D22 -> 0
A26: Totaalprijs overige werkzaamheden | E26: =E10+E6+E14+E18+E22 -> 0

Sheet 2c. Werkzaamheden op afroep
A1: 2c. Verrekentarieven werkzaamheden op afroep
A2: Hier dienen de tarieven exclusief BTW te worden ingevuld. Deze vormen geen onderdeel van de beoordeling, maar worden wel getoetst op marktconformiteit. Opdrachtgever behoudt zich het recht voor om extra werkzaamheden bij derden te beleggen.
A4: Vloeronderhoud (incl. middelen en materialen) | B4: Handeling (exclusief uit- en inruimen) | C4: 1 t/m 50 m² | D4: 51 t/m 500 m² | E4: > 500 m²
A5: Linoleum/marmoleum | B5: sprayen | C5: 0 | D5: 0 | E5: 0
A6: Linoleum/marmoleum | B6: 2 laags strippen/conserveren | C6: 0 | D6: 0 | E6: 0
A7: Schoonloopmat | B7: Sproei-extraheren ter plekke | C7: 0 | D7: 0 | E7: 0
A8: Tapijt | B8: Sproei-extraheren | C8: 0 | D8: 0 | E8: 0
A9: Tegels/DHGT | B9: Schrobzuigen | C9: 0 | D9: 0 | E9: 0
A10: Parket | B10: Reinigen vloer en voorzien van nieuwe boenwaslaag | C10: 0 | D10: 0 | E10: 0
A11: Extra onderhoud (incl. middelen en materialen) | B11: Handeling (exclusief uit- en inruimen) | C11: 1 t/m 50 m² | D11: 51 t/m 100 m² | E11: > 100 m²
A12: Dieptereiniging sanitair, exclusief demonteren | B12: Conform PvE | C12: 0 | D12: 0 | E12: 0
A13: Opleveringsschoonmaak glas | B13: Inclusief verwijderen van stickers etc. | C13: 0 | D13: 0 | E13: 0
A14: Opleveringsschoonmaak keuken | B14: Inclusief verwijderen cementsluier van wanden en harde vloeren | C14: 0 | D14: 0 | E14: 0
A15: Opleveringsschoonmaak overige ruimten (b.v. kantoren, vergaderruimten, etc.) | B15: Exclusief aanbrengen beschermlaag op vloerbedekking | C15: 0 | D15: 0 | E15: 0
A16: Opleveringsschoonmaak sanitair | B16: Inclusief verwijderen cementsluier van wanden en harde vloeren | C16: 0 | D16: 0 | E16: 0
A17: Opleveringsschoonmaak verkeersruimten | B17: Exclusief aanbrengen beschermlaag op vloerbedekking | C17: 0 | D17: 0 | E17: 0
A18: Pantry | B18: Reinigen vaste elementen (b.v. kastjes, aanrechtblad, wasbak, kranen, wanden en vloeren, excl. automaat) van een pantry en binnenzijde kastjes | C18: 0 | D18: 0 | E18: 0
A19: Dakbedekking (plat) | B19: Blad verwijderen | C19: 0 | D19: 0 | E19: 0
A20: Gevelbeplating | B20: Hogedruk reinigen | C20: 0 | D20: 0 | E20: 0
A21: Lamellen horizontaal | B21: Ultrasonische reiniging | C21: 0 | D21: 0 | E21: 0
A22: Lamellen verticaal | B22: Ultrasonische reiniging | C22: 0 | D22: 0 | E22: 0
A23: Gordijnen (incl. afhalen & ophangen) | B23: Afhalen, logistiek, reinigen en ophangen | C23: 0 | D23: 0 | E23: 0
A24: Extra onderhoud (incl. middelen en materialen) | B24: Handeling | C24: 1 t/m 5 stuks | D24: 6 t/m 15 stuks | E24: > 15 stuks
A25: ICT apparatuur op werkplek reinigen | B25: Beeldscherm, telefoon, toetsenbord (in- en uitwendig) en muis stof- en vlekvrij maken. Prijs per werkplek. | C25: 0 | D25: 0 | E25: 0
A26: Whiteboards op werkplek/vergaderplek reinigen | B26: Grondig schoonmaken van het te beschrijven gedeelte van whiteboards. Prijs per whiteboard. | C26: 0 | D26: 0 | E26: 0
A27: Koelkast | B27: In- en extern stof- en vlekvrij maken | C27: 0 | D27: 0 | E27: 0
A28: Luchtroosters | B28: Uitwendig stof- en vlekvrij maken | C28: 0 | D28: 0 | E28: 0
A29: Stoelen | B29: Stoffering reinigen d.m.v. sproei extractie | C29: 0 | D29: 0 | E29: 0
A30: Printer | B30: Stof- en vlekvrij maken | C30: 0 | D30: 0 | E30: 0
A31: Specifiek extra onderhoud | B31: Handeling | C31: Uurtarief
A32: Servicewerkzaamheden | B32: Verrichten van hand- en spandiensten zoals in- en uitruimen ruimten* (exclusief overwerktoeslagen) | C32: 0
A33: Gladheidsbestrijding | B33: Uitvoeren van gladheidsbestrijding, inclusief materialen en middelen | C33: 0
A34: Extra onderhoud (incl. middelen en materialen) | B34: Handeling | C34: Vast tarief per keer
A35: Calamiteiten | B35: Indien van toepassing een voorrijtarief | C35: 0
A36: Parkeergarage | B36: Vegen (incl. entree parkeergarage) | C36: 0
A37: Extra onderhoud werkplaatsen | B37: Handeling | C37: 1 t/m 50 m² | D37: 51 t/m 100 m2 | E37: > 100 m2
A38: Stallingshal | B38: Vegen | E38: 0
A39: Werkplaats | B39: Vegen | C39: 0 | D39: 0 | E39: 0
A40: Magazijn | B40: Vegen | C40: 0 | D40: 0 | E40: 0

Sheet 3. Sanitaire middelen (huur)
A1: 3. Sanitaire middelen
A4: Onderdeel | B4: Huurprijs per stuk per maand (incl. verbruiksartikel) | C4: Aantal | E4: Totaalprijs per jaar
A5: Toiletpapier en -dispenser | B5: 0 | C5: 25 | D5: stuks | E5: =B5*C5*12 -> 0
A6: Zeep en -dispenser | B6: 0 | C6: 11 | D6: stuks | E6: =B6*C6*12 -> 0
A7: Handdoekrol en -dispenser | B7: 0 | C7: 11 | D7: stuks | E7: =B7*C7*12 -> 0
A8: Luchtverfrisser incl. navulling | B8: 0 | C8: 25 | D8: stuks | E8: =B8*C8*12 -> 0
A9: Hygiënebox | B9: 0 | C9: 15 | D9: stuks | E9: =B9*C9*12 -> 0
A10: Toiletborstelhouder incl toiletborstel | B10: 0 | C10: 25 | D10: stuks | E10: =B10*C10*12 -> 0
A11: Toiletbrilreiniger | B11: 0 | C11: 25 | D11: stuks | E11: =B11*C11*12 -> 0
A12: Afvalbak | B12: 0 | C12: 11 | D12: bakken | E12: =B12*C12*12 -> 0
A14: Totaalprijs sanitaire middelen | E14: =SUM(E5:E12) -> 0
A17: Huidige aantallen/verbruik sanitaire artikelen ter indicatie (hier kunnen geen rechten aan worden ontleend)
A18: Onderdeel | B18: Aantallen jan. t/m juli 2026
A19: Fullservice dameshygiene container per 4 weken | B19: 112
A20: Fullservice luchtverfrisser aerosol systeem | B20: 200
A21: Service toiletborstel garnituur | B21: 200
A22: Vouwhanddoekpapier Z-vouw 2-laags cellulose 24x22cm per 16x200st. | B22: 36
A23: Compactrol toiletpapier 100m. 900 vel 2-laags tissue per 24 rol | B23: 28
A24: Afvalzak 70x110cm T20 blauw | B24: 9
A25: Pedaalemmerzak 50x55 zwart | B25: 8

Sheet 4a. Glasbewassing
A1: 4a. Glasbewassing
A3: Locatie | B3: Soort glas | C3: Aantal m2 | D3: Frequentie per jaar | E3: Prijs per m² ex. BTW | F3: Prijs per beurt ex. BTW | G3: Benodigde bereikbaarheidsmiddel | H3: Prijs bereikbaarheidsmiddel per beurt ex. BTW | I3: Totaal per jaar ex. BTW (inclusief bereikbaarheidsmiddel)
A4: Koningskade 40, Den Haag | B4: Buitengevelglas (enkelzijdig) | C4: 1035 | D4: 4 | E4: 0 | F4: =C4*E4 -> 0 | H4: 0 | I4: =(F4+H4)*D4 -> 0
B5: Binnengevelglas (enkelzijdig) | C5: 1035 | D5: 4 | E5: 0 | F5: =C5*E5 -> 0 | H5: 0 | I5: =(F5+H5)*D5 -> 0
B6: Separatieglas (dubbelzijdig) | C6: 250 | D6: 4 | E6: 0 | F6: =C6*E6 -> 0 | H6: 0 | I6: =(F6+H6)*D6 -> 0
A8: Totaal | C8: =SUM(C4:C6) -> 2320 | I8: =SUM(I4:I6) -> 0
A10: Huur hoogwerker per dagdeel (4 uur) op afroep | I10: 0

Sheet 4b. Gevelonderhoud
A1: 4b. Gevelonderhoud
A2: Tevens dient de prijs opgegeven te worden voor de totale beurt. Indien bij conserveren ook een reiniging voorafgaand benodigd is dient dit bij de prijs inbegrepen te zijn.
A3: Locatie | B3: Afwerking | C3: Aantal m2 | D3: Frequentie per jaar | E3: Prijs per m2 licht reinigen ex. BTW | F3: Prijs per m2 intensief reinigen ex. BTW | G3: Prijs per m2 licht conserveren ex. BTW | H3: Prijs per m2 intenstief conserveren ex. BTW | I3: Prijs per beurt ex BTW | J3: Totaal per jaar ex. BTW
A4: Koningskade 40, Den Haag | B4: Marmeren panelen | C4: 109.4 | D4: 2 | E4: 0 | I4: =C4*E4 -> 0 | J4: =I4*D4 -> 0
D5: Afroep | F5: 0 | I5: =C4*F5 -> 0
D6: 2 | G6: 0 | I6: =C4*G6 -> 0 | J6: =I6*D6 -> 0
D7: Afroep | H7: 0 | I7: =C4*H7 -> 0
A9: Totaal | C9: =C4 -> 109.4 | J9: =SUM(J4:J7) -> 0
A11: Hoogwerker per dagdeel (4 uur) | J11: 0

Sheet 5. Uurtarieven
A1: 5. Uurtarieven
A2: Hier dienen de tarieven exclusief BTW te worden ingevuld. Deze vormen geen onderdeel van de beoordeling, maar worden wel getoetst op marktconformiteit.
A4: Functie
C5: Schoonmaakmedewerker | E5: Leidinggevende | G5: Specialistisch schoonmaakonderhoud
C7: % | D7: € | E7: % | F7: € | G7: % | H7: €
A8: Basis (CAO) uurloon | D8: 0 | F8: 0 | H8: 0
A9: Toeslag | C9: 0 | D9: 0 | E9: 0 | F9: 0 | G9: 0 | H9: 0
A10: Bruto uurloon | D10: 0 | F10: 0 | H10: 0
A11: Vakantiedagen | C11: 0 | D11: 0 | E11: 0 | F11: 0 | G11: 0 | H11: 0
A12: Wettig verzuim/feestdagen | C12: 0 | D12: 0 | E12: 0 | F12: 0 | G12: 0 | H12: 0
A13: Kosten ziektedagen | C13: 0 | D13: 0 | E13: 0 | F13: 0 | G13: 0 | H13: 0
A14: Vakantiegeld toeslag | C14: 0 | D14: 0 | E14: 0 | F14: 0 | G14: 0 | H14: 0
A15: Eindejaarsuitkering | C15: 0 | D15: 0 | E15: 0 | F15: 0 | G15: 0 | H15: 0
A16: Subtotaal voor sociale lasten | D16: 0 | F16: 0 | H16: 0
A17: Opslagen voor sociale lasten, incl. WW | C17: 0 | D17: 0 | E17: 0 | F17: 0 | G17: 0 | H17: 0
A18: Pensioenfonds | C18: 0 | D18: 0 | E18: 0 | F18: 0 | G18: 0 | H18: 0
A19: Overige sociale verplichtingen | C19: 0 | D19: 0 | E19: 0 | F19: 0 | G19: 0 | H19: 0
A20: Totale directe loonkosten | D20: 0 | F20: 0 | H20: 0
A21: Kosten materiaal, machines, kleding, etc. | C21: 0 | D21: 0 | E21: 0 | F21: 0 | G21: 0 | H21: 0
A22: Reis- en transportkosten | C22: 0 | D22: 0 | E22: 0 | F22: 0 | G22: 0 | H22: 0
A23: Subtotaal voor winst en overhead | D23: 0 | F23: 0 | H23: 0
A24: Indirect toezicht, managementkosten | C24: 0 | D24: 0 | E24: 0 | F24: 0 | G24: 0 | H24: 0
A25: Overhead, risico en winst | C25: 0 | D25: 0 | E25: 0 | F25: 0 | G25: 0 | H25: 0
A26: Regulier tarief | D26: 0 | F26: 0 | H26: 0
A27: Totaal regulier uurtarief incl. toeslagen | C27: Toeslag | E27: Toeslag | G27: Toeslag
A28: Nacht | C28: 0 | D28: 0 | E28: 0 | F28: 0 | G28: 0 | H28: 0
A29: Weekend | C29: 0 | D29: 0 | E29: 0 | F29: 0 | G29: 0 | H29: 0
A30: Feestdagen | C30: 0 | D30: 0 | E30: 0 | F30: 0 | G30: 0 | H30: 0
