Workbook
Name G_: 'Technische aspecten'!$I$31
Name GRENS: 'Technische aspecten'!$N$26
Name LCA_T: 'Technische aspecten'!$Q$18
Name P_Profel_1: 'Score energiegebruik per km'!$C$4:$M$4
Name P_Profel_2: 'Score energiegebruik per km'!$C$5:$M$5
Name P_Profel_3: 'Score energiegebruik per km'!$C$6:$M$6
Name P_Profel_4: 'Score energiegebruik per km'!$C$7:$M$7
Name P_Profel_5: 'Score energiegebruik per km'!$C$8:$M$8
Name P_Profel_6: 'Score energiegebruik per km'!$C$9:$M$9
Name P_Profel_7: 'Score energiegebruik per km'!$C$10:$M$10
Name P_Profel_8: 'Score energiegebruik per km'!$C$11:$M$11
Name Pt: 'Technische aspecten'!$J$18
Name sMAX: 'Technische aspecten'!$N$25
Name Uh: 'Technische aspecten'!$O$18

Sheet Toelichting
B2: Toelichting / instructie bij deze bijlage
B4: Doelstelling van de gemeente is te komen tot een verantwoorde keuze voor een armatuurtype als vervanging van de huidige conventionele verlichting
B5: Daartoe wordt gelet op producteigenschappen en aspecten van leveranciers
B6: Deze bijlage vormt een belangrijk hulpmiddel bij de beoordeling.
B8: In deze bijlage worden de voor de gemeente relevante aspecten benoemd en gescoord.
B9: Onderstaand een toelichting en uitleg voor deze bijlage, per tabblad
B10: Alle inhoudelijke eisen en definities zijn volledig vastgelegd in het PvE. Dit Excelbestand dient uitsluitend ter ondersteuning van de scoreberekening.
B11: Dit document bevat de volgende tabbaden
C13: Toelichting | E13: Deze pagina
C15: Armatuurdata paaltop xx | E15: Hier voert de inschrijver de technische gegevens in per armatuurtype.
C17: Technische aspecten | E17: berekening van energiegebruik per km en variatie in armatuurtypes (optieken), conform hoofdstuk 4 van het PvE.
C19: Aspecten leverancier | E19: weging van maatschappelijke criteria
C21: Samenvatting EMVI | E21: overzicht van de maximale scores per criterium, inclusief eventuele aftrekken
B25: Belangrijke aandachtspunten
C26: Dit document wijst alleen de weg in de berekeningen. Voor de inhoudelijke eisen blijft het PvE leidend.
C27: Weegfactoren en formules zijn rechtstreeks overgenomen uit het PvE.
C28: Controleberekeningen: scores worden pas definitief na controle en validatie door de Aanbestedende dienst.

Sheet Armatuurdata PT Kegel A
A2: BIJLAGE - Aan te leveren DATASHEET | C2: PT Kegel A
A3: Dit dient per armatuurfamilie te worden ingevuld.
B5: Omschrijving | C5: eenheid | D5: Invulkolom Leverancier | E5: Toelichting
A6: 1. Algemene informatie
B7: Fabrikant
B8: Model
B9: Toepassingsgebied armatuur
B10: L x B x H afmetingen
B11: Merk en serie led
B12: Merk en serie lenzen
B13: Merk en serie driver
A14: 2. Levensduur armatuur
B15: Verwachte levensduur complete armatuur | C15: h | E15: Minimaal L90B50
B16: Levensduur driver | C16: h
A17: 3. Fotometrische parameters
B18: Lichtstroom armatuur | C18: lm | E18: Nominale waarde, netto bij Tq = 25 oC
B19: Rendement armatuur | C19: lm/W | E19: Nominale waarde, netto bij Tq = 25 oC
B20: Kleurtemperatuur | C20: K | E20: CIE 15
B21: Kleurweergaveindex CRI | E21: CIE 13.3
B22: Verblindingsindex classificatie | C22: G / D
A23: 4. Elektrische parameters
B24: Opgenomen vermogen | C24: W | E24: EN 60598-1
B25: Schijnbaar vermogen | C25: VA | E25: S=U*I
B26: Vermogen per km | C26: W | E26: Zie EVO bestand
B27: Power factor: 100% v.h. Vermogen | C27: Pf
B28: 75% v.h. Vermogen | C28: Pf
B29: 50% v.h. Vermogen | C29: Pf
B30: THD (Total Harmonic Distortion) | E30: EN 61000-3-2
B31: Piekstromen | C31: A
B32: Aanwezigheid piekspanning-protectie | C32: kV
B33: Veiligheid van elektronische apparatuur | C33: Class I or II | E33: ENEC+ of Dekra keurmerk
A35: 5. Omgevingscondities
B36: Dichtheid (IP)
B37: Slagvastheid (IK) | E37: EN 50102
B38: Gewicht (kg) | E38: 0,1 kg nauwkeurig
B39: Oppervlaktebehandeling | E39: Poedercoating
B41: Bedrijfsnaam:
B42: Naam contactpersoon:
B43: e-mail adres contactpersoon:
B44: Plaats:
B45: Datum:
B46: Naam gemachtigde namens inschrijver:
B47: Handtekening gemachtigde:

Sheet Armatuurdata PT Kegel B
A2: BIJLAGE - Aan te leveren DATASHEET | C2: PT Kegel B
A3: Dit dient per armatuurfamilie te worden ingevuld.
B5: Omschrijving | C5: eenheid | D5: Invulkolom Leverancier | E5: Toelichting
A6: 1. Algemene informatie
B7: Fabrikant
B8: Model
B9: Toepassingsgebied armatuur
B10: L x B x H afmetingen
B11: Merk en serie led
B12: Merk en serie lenzen
B13: Merk en serie driver
A14: 2. Levensduur armatuur
B15: Verwachte levensduur complete armatuur | C15: h | E15: Minimaal L90B50
B16: Levensduur driver | C16: h
A17: 3. Fotometrische parameters
B18: Lichtstroom armatuur | C18: lm | E18: Nominale waarde, netto bij Tq = 25 oC
B19: Rendement armatuur | C19: lm/W | E19: Nominale waarde, netto bij Tq = 25 oC
B20: Kleurtemperatuur | C20: K | E20: CIE 15
B21: Kleurweergaveindex CRI | E21: CIE 13.3
B22: Verblindingsindex classificatie | C22: G / D
A23: 4. Elektrische parameters
B24: Opgenomen vermogen | C24: W | E24: EN 60598-1
B25: Schijnbaar vermogen | C25: VA | E25: S=U*I
B26: Vermogen per km | C26: W | E26: Zie EVO bestand
B27: Power factor: 100% v.h. Vermogen | C27: Pf
B28: 75% v.h. Vermogen | C28: Pf
B29: 50% v.h. Vermogen | C29: Pf
B30: THD (Total Harmonic Distortion) | E30: EN 61000-3-2
B31: Piekstromen | C31: A
B32: Aanwezigheid piekspanning-protectie | C32: kV
B33: Veiligheid van elektronische apparatuur | C33: Class I or II | E33: ENEC+ of Dekra keurmerk
A35: 5. Omgevingscondities
B36: Dichtheid (IP)
B37: Slagvastheid (IK) | E37: EN 50102
B38: Gewicht (kg) | E38: 0,1 kg nauwkeurig
B39: Oppervlaktebehandeling | E39: Poedercoating
B41: Bedrijfsnaam:
B42: Naam contactpersoon:
B43: e-mail adres contactpersoon:
B44: Plaats:
B45: Datum:
B46: Naam gemachtigde namens inschrijver:
B47: Handtekening gemachtigde:

Sheet Armatuurdata PT Kegel C
A2: BIJLAGE - Aan te leveren DATASHEET | C2: PT Kegel C
A3: Dit dient per armatuurfamilie te worden ingevuld.
B5: Omschrijving | C5: eenheid | D5: Invulkolom Leverancier | E5: Toelichting
A6: 1. Algemene informatie
B7: Fabrikant
B8: Model
B9: Toepassingsgebied armatuur
B10: L x B x H afmetingen
B11: Merk en serie led
B12: Merk en serie lenzen
B13: Merk en serie driver
A14: 2. Levensduur armatuur
B15: Verwachte levensduur complete armatuur | C15: h | E15: Minimaal L90B50
B16: Levensduur driver | C16: h
A17: 3. Fotometrische parameters
B18: Lichtstroom armatuur | C18: lm | E18: Nominale waarde, netto bij Tq = 25 oC
B19: Rendement armatuur | C19: lm/W | E19: Nominale waarde, netto bij Tq = 25 oC
B20: Kleurtemperatuur | C20: K | E20: CIE 15
B21: Kleurweergaveindex CRI | E21: CIE 13.3
B22: Verblindingsindex classificatie | C22: G / D
A23: 4. Elektrische parameters
B24: Opgenomen vermogen | C24: W | E24: EN 60598-1
B25: Schijnbaar vermogen | C25: VA | E25: S=U*I
B26: Vermogen per km | C26: W | E26: Zie EVO bestand
B27: Power factor: 100% v.h. Vermogen | C27: Pf
B28: 75% v.h. Vermogen | C28: Pf
B29: 50% v.h. Vermogen | C29: Pf
B30: THD (Total Harmonic Distortion) | E30: EN 61000-3-2
B31: Piekstromen | C31: A
B32: Aanwezigheid piekspanning-protectie | C32: kV
B33: Veiligheid van elektronische apparatuur | C33: Class I or II | E33: ENEC+ of Dekra keurmerk
A35: 5. Omgevingscondities
B36: Dichtheid (IP)
B37: Slagvastheid (IK) | E37: EN 50102
B38: Gewicht (kg) | E38: 0,1 kg nauwkeurig
B39: Oppervlaktebehandeling | E39: Poedercoating
B41: Bedrijfsnaam:
B42: Naam contactpersoon:
B43: e-mail adres contactpersoon:
B44: Plaats:
B45: Datum:
B46: Naam gemachtigde namens inschrijver:
B47: Handtekening gemachtigde:

Sheet Armatuurdata PT Kegel D
A2: BIJLAGE - Aan te leveren DATASHEET | C2: PT Kegel D
A3: Dit dient per armatuurfamilie te worden ingevuld.
B5: Omschrijving | C5: eenheid | D5: Invulkolom Leverancier | E5: Toelichting
A6: 1. Algemene informatie
B7: Fabrikant
B8: Model
B9: Toepassingsgebied armatuur
B10: L x B x H afmetingen
B11: Merk en serie led
B12: Merk en serie lenzen
B13: Merk en serie driver
A14: 2. Levensduur armatuur
B15: Verwachte levensduur complete armatuur | C15: h | E15: Minimaal L90B50
B16: Levensduur driver | C16: h
A17: 3. Fotometrische parameters
B18: Lichtstroom armatuur | C18: lm | E18: Nominale waarde, netto bij Tq = 25 oC
B19: Rendement armatuur | C19: lm/W | E19: Nominale waarde, netto bij Tq = 25 oC
B20: Kleurtemperatuur | C20: K | E20: CIE 15
B21: Kleurweergaveindex CRI | E21: CIE 13.3
B22: Verblindingsindex classificatie | C22: G / D
A23: 4. Elektrische parameters
B24: Opgenomen vermogen | C24: W | E24: EN 60598-1
B25: Schijnbaar vermogen | C25: VA | E25: S=U*I
B26: Vermogen per km | C26: W | E26: Zie EVO bestand
B27: Power factor: 100% v.h. Vermogen | C27: Pf
B28: 75% v.h. Vermogen | C28: Pf
B29: 50% v.h. Vermogen | C29: Pf
B30: THD (Total Harmonic Distortion) | E30: EN 61000-3-2
B31: Piekstromen | C31: A
B32: Aanwezigheid piekspanning-protectie | C32: kV
B33: Veiligheid van elektronische apparatuur | C33: Class I or II | E33: ENEC+ of Dekra keurmerk
A35: 5. Omgevingscondities
B36: Dichtheid (IP)
B37: Slagvastheid (IK) | E37: EN 50102
B38: Gewicht (kg) | E38: 0,1 kg nauwkeurig
B39: Oppervlaktebehandeling | E39: Poedercoating
B41: Bedrijfsnaam:
B42: Naam contactpersoon:
B43: e-mail adres contactpersoon:
B44: Plaats:
B45: Datum:
B46: Naam gemachtigde namens inschrijver:
B47: Handtekening gemachtigde:

Sheet Technische aspecten
C1: Behoort bij NVI1
C2: ARMATUURMODEL Kegel | H2: De score van vermogen wordt gerelateerd
H3: aan de opgave van de overige inschrijvers.
H4: De score wordt dus pas zichtbaar nadat
H5: ook cijfers van de andere inschrijvers zijn
H6: ingevuld.
C8: GC21 | E8: VERMOGEN PER KM
C9: Profiel | D9: NPR-klasse | E9: Aantal | F9: percentage | G9: Armatuurtype* | I9: vermogen/km | K9: score | L9: gewogen
C10: profiel 4 (Alberdalaan) | D10: P5 | E10: 890 | F10: =E10/$E$18 -> 0.46842105 | K10: ='Score energiegebruik per km'!C15 | L10: =IFERROR(E10*K10,"-") -> -
C11: Profiel 5 (Tuinbouwweg) | D11: P5 | E11: 415 | F11: =E11/$E$18 -> 0.21842105 | K11: ='Score energiegebruik per km'!C16 | L11: =IFERROR(E11*K11,"-") -> -
C12: Profiel 7 ( R. Praediniusstraat) | D12: P5 | E12: 340 | F12: =E12/$E$18 -> 0.17894737 | K12: ='Score energiegebruik per km'!C17 | L12: =IFERROR(E12*K12,"-") -> -
C13: Profiel 9 (Meerkoet) | D13: P5 | E13: 255 | F13: =E13/$E$18 -> 0.13421053 | K13: ='Score energiegebruik per km'!C18 | L13: =IFERROR(E13*K13,"-") -> -
F14: =E14/$E$18 -> 0 | K14: ='Score energiegebruik per km'!C19 | L14: =IFERROR(E14*K14,"-") -> -
F15: =E15/$E$18 -> 0 | K15: ='Score energiegebruik per km'!C20 | L15: =IFERROR(E15*K15,"-") -> -
F16: =E16/$E$18 -> 0 | K16: ='Score energiegebruik per km'!C21 | L16: =IFERROR(E16*K16,"-") -> -
F17: =E17/$E$18 -> 0 | K17: ='Score energiegebruik per km'!C22 | L17: =IFERROR(E17*K17,"-") -> -
C18: Totaal | E18: =SUM(E10:E17) -> 1900 | L18: =SUM(L10:L17)/E18 -> 0
C21: GC22 | E21: Verblinding
C22: Code in dit document | E22: Aantal | F22: percentage | G22: TI | I22: score | K22: waardering
C23: =C10 -> profiel 4 (Alberdalaan) | E23: =E10 -> 890 | F23: =F10 -> 0.46842105 | G23: 25 | I23: =MAX(0,MIN(10,(35-G23)/2.5)) -> 4 | K23: =IFERROR(F23*I23,"") -> 1.8736842 | L23: =IFERROR(I23*E23,"") -> 3560
C24: =C11 -> Profiel 5 (Tuinbouwweg) | E24: =E11 -> 415 | F24: =F11 -> 0.21842105 | G24: 26 | I24: =MAX(0,MIN(10,(35-G24)/2.5)) -> 3.6 | K24: =IFERROR(F24*I24,"") -> 0.78631579 | L24: =IFERROR(I24*E24,"") -> 1494
C25: =C12 -> Profiel 7 ( R. Praediniusstraat) | E25: =E12 -> 340 | F25: =F12 -> 0.17894737 | G25: 27 | I25: =MAX(0,MIN(10,(35-G25)/2.5)) -> 3.2 | K25: =IFERROR(F25*I25,"") -> 0.57263158 | L25: =IFERROR(I25*E25,"") -> 1088
C26: =C13 -> Profiel 9 (Meerkoet) | E26: =E13 -> 255 | F26: =F13 -> 0.13421053 | G26: 28 | I26: =MAX(0,MIN(10,(35-G26)/2.5)) -> 2.8 | K26: =IFERROR(F26*I26,"") -> 0.37578947 | L26: =IFERROR(I26*E26,"") -> 714
C31: Totaal | E31: =SUM(E23:E30) -> 1900 | K31: Gewogen UGR op schaal 0-10 | L31: =SUM(L23:L26)/SUM(E23:E26) -> 3.6084211
C34: GC23 | E34: Beperking variatie in optieken | K34: voorbeeld
C35: Code in dit document | E35: Typecodering leverancier
C36: Armatuurtype PT Kegel A | E36: x | K36: Iris, optiek V, 2900 lumen
C37: Armatuurtype PT Kegel B | K37: Iris, optiek H, 2900 lumen
C38: Armatuurtype PT Kegel C | K38: Iris, optiek H, 1800 lumen
C39: Armatuurtype PT Kegel D | K39: enz
K40: score
C41: Aantal types | E41: =COUNTA(E36:G40) -> 1 | K41: =IF(E41=0,"",10*(COUNTA(C10:C17)-E41)/(COUNTA(C10:C17)-1)) -> 10
C44: GC24 | E44: Beperking opwaarts licht Betreft uitsluitend paaltoparmaturen
C45: Profiel | D45: NPR-klasse | E45: Aantal | F45: percentage | G45: I90 | I45: score | K45: waardering
C46: =C23 -> profiel 4 (Alberdalaan) | D46: =D23 -> 0 | E46: =E23 -> 890 | F46: =F23 -> 0.46842105 | I46: =MAX(1,MIN(10,10-(G46/80*9))) -> 10 | K46: =IFERROR(F46*I46,"") -> 4.6842105 | L46: =IFERROR(I46*E46,"") -> 8900
C47: =C24 -> Profiel 5 (Tuinbouwweg) | D47: =D24 -> 0 | E47: =E24 -> 415 | F47: =F24 -> 0.21842105 | I47: =MAX(1,MIN(10,10-(G47/80*9))) -> 10 | K47: =IFERROR(F47*I47,"") -> 2.1842105 | L47: =IFERROR(I47*E47,"") -> 4150
C48: =C25 -> Profiel 7 ( R. Praediniusstraat) | D48: =D25 -> 0 | E48: =E25 -> 340 | F48: =F25 -> 0.17894737 | I48: =MAX(1,MIN(10,10-(G48/80*9))) -> 10 | K48: =IFERROR(F48*I48,"") -> 1.7894737 | L48: =IFERROR(I48*E48,"") -> 3400
C49: =C26 -> Profiel 9 (Meerkoet) | D49: =D26 -> 0 | E49: =E26 -> 255 | F49: =F26 -> 0.13421053 | I49: =MAX(1,MIN(10,10-(G49/80*9))) -> 10 | K49: =IFERROR(F49*I49,"") -> 1.3421053 | L49: =IFERROR(I49*E49,"") -> 2550
C53: Totaal | D53: =D31 -> 0 | E53: =E31 -> 1900 | F53: =F31 -> 0 | L53: =SUM(L46:L49)/SUM(E46:E49) -> 10
C56: GC25 | E56: Herstelbaarheid | O56: Aspect | P56: Vraag | Q56: Ja/Nee | R56: Bewijsref | S56: Punten | T56: Totaal
C57: Scores | O57: I Herstelbaarheid | P57: Reparatie-/demontagehandleiding beschikbaar? | S57: =IF(Q57="Ja",0.625,0) -> 0 | T57: =SUM(S57:S60) -> 0 | U57: =IFERROR(VLOOKUP(T57,$W$57:$X$60,2,FALSE),"") | W57: 0.625 | X57: D
C58: Herstelbaarheid | F58: =U57 | G58: =T57 -> 0 | P58: Onderdelen vervangbaar zonder beschadiging? | S58: =IF(Q58="Ja",0.625,0) -> 0 | W58: 1.25 | X58: C
C59: Beschikbaarheid Elektrische onderdelen | F59: =U61 | G59: =T61 -> 0 | P59: Specialistisch gereedschap vereist? | S59: =IF(Q59="Nee",0.625,0) -> 0 | W59: 1.875 | X59: B
C60: Beschikbaarheid mechanische onderdelen | F60: =U65 | G60: =T65 -> 0 | P60: Reserveonderdelen afzonderlijk vervangbaar? | S60: =IF(Q60="Ja",0.625,0) -> 0 | W60: 2.5 | X60: A
C61: Firm-software | F61: =U69 | G61: =T69 -> 0 | O61: IIa Elektrische onderdelen | P61: Elektrische onderdelen afzonderlijk verkrijgbaar? | S61: =IF(Q61="Ja",0.625,0) -> 0 | T61: =SUM(S61:S64) -> 0 | U61: =IFERROR(VLOOKUP(T61,$W$57:$X$60,2,FALSE),"") | X61: Ja
C62: Totaal score | G62: =SUM(G58:G61) -> 0 | P62: Open standaard toegepast? | R62: Zhaga book 18 | S62: =IF(Q62="Ja",0.625,0) -> 0 | X62: Nee
P63: Alternatieve onderdelen beschikbaar? | S63: =IF(Q63="Ja",0.625,0) -> 0
C64: Kolom Ja/Nee invullen (kolom Q) | P64: Beschikbaarheid ≥ 10 jaar gegarandeerd? | S64: =IF(Q64="Ja",0.625,0) -> 0
O65: IIb Mechanische onderdelen | P65: Constructietekeningen beschikbaar? | S65: =IF(Q65="Ja",0.625,0) -> 0 | T65: =SUM(S65:S68) -> 0 | U65: =IFERROR(VLOOKUP(T65,$W$57:$X$60,2,FALSE),"")
P66: Materiaalspecificaties beschikbaar? | S66: =IF(Q66="Ja",0.625,0) -> 0
P67: Mechanische onderdelen los verkrijgbaar? | S67: =IF(Q67="Ja",0.625,0) -> 0
P68: Beschikbaarheid ≥ 10 jaar gegarandeerd? | S68: =IF(Q68="Ja",0.625,0) -> 0
O69: III Software | P69: Open communicatieprotocollen gebruikt? | S69: =IF(Q69="Ja",0.625,0) -> 0 | T69: =SUM(S69:S72) -> 0 | U69: =IFERROR(VLOOKUP(T69,$W$57:$X$60,2,FALSE),"")
P70: Fabrikantonafhankelijke configuratie mogelijk? | S70: =IF(Q70="Ja",0.625,0) -> 0
P71: Configuratiehandleidingen beschikbaar? | S71: =IF(Q71="Ja",0.625,0) -> 0
P72: Configuratiebestanden beschikbaar? | S72: =IF(Q72="Ja",0.625,0) -> 0
C77: GC26 | D77: LEVERTIJD | G77: Levertijd | I77: nalevering
C78: Levertijd nalevering | G78: 1 | I78: 10
C79: weken | D79: 2 | E79: =IFERROR(VLOOKUP(D79,G78:I89,3,FALSE),0) -> 10 | G79: 2 | I79: 10
G80: 3 | I80: =I79-1 -> 9
G81: 4 | I81: =I80-1 -> 8
G82: 5 | I82: =I81-1 -> 7
G83: 6 | I83: =I82-1 -> 6
G84: 7 | I84: =I83-1 -> 5
G85: 8 | I85: =I84-1 -> 4
G86: 9 | I86: =I85-1 -> 3
G87: 10 | I87: =I86-1 -> 2
G88: 11 | I88: =I87-1 -> 1
G89: 12

Sheet Aspecten leverancier
B1: GC11 | C1: Duurzaamheid
B2: Aspect | C2: Vraag | D2: Ja/Nee | E2: Punten | F2: Totaal
B3: Milieu- en klimaatbeleid | C3: Vastgesteld milieu- of klimaatbeleid. | D3: Nee | E3: =IF(D3="Ja",5,0) -> 0 | F3: =SUM(E3:E6) -> 0
C4: Milieu- of klimaatbeleid aanwezig met doelstellingen en/of KPI's. | E4: =IF(D4="Ja",5,0) -> 0
C5: Beleid aantoonbaar geïntegreerd in de bedrijfsvoering, met meetbare doelstellingen, monitoring en periodieke evaluatie. | E5: =IF(D5="Ja",5,0) -> 0
B7: Ketenverantwoordelijkheid (IMVO) | C7: Geen structureel ketenbeleid of leveranciersbeleid aanwezig. | E7: =IF(D7="Ja",5,0) -> 0 | F7: =SUM(E7:E10) -> 0
C8: Gedragscode, leveranciersverklaring of vergelijkbaar beleid aanwezig. | E8: =IF(D8="Ja",5,0) -> 0
C9: Actief ketenbeleid met monitoring, beoordeling en aantoonbare opvolging van ketenrisico's. | E9: =IF(D9="Ja",5,0) -> 0
B11: Integriteit en ethisch ondernemen | C11: Geen vastgelegd integriteits- of compliancebeleid. | E11: =IF(D11="Ja",5,0) -> 0 | F11: =SUM(E11:E14) -> 0
C12: Gedragscode of integriteitsbeleid aanwezig en aantoonbaar toegepast. | E12: =IF(D12="Ja",5,0) -> 0
C13: Compliance-systeem aantoonbaar geïmplementeerd en geborgd binnen de organisatie. | E13: =IF(D13="Ja",5,0) -> 0
B15: Verpakkings- en afvalreductie | C15: Geen aantoonbare maatregelen. | E15: =IF(D15="Ja",5,0) -> 0 | F15: =SUM(E15:E18) -> 0
C16: Maatregelen gericht op beperking van verpakkingen of afvalstromen. | E16: =IF(D16="Ja",5,0) -> 0
C17: Structureel beleid en aantoonbare resultaten ten aanzien van verpakkings- en afvalreductie. | E17: =IF(D17="Ja",5,0) -> 0
E19: Totaal GC11 | F19: =SUM(F3:F18) -> 0
E20: Totaal GC11, schaal 0-10 | F20: =ROUND(F19/6,1) -> 0
B22: GC12 | C22: Social Return on Investment
B23: Aspect | C23: Vraag | D23: Ja/Nee | E23: Punten | F23: Totaal
B24: Werkgelegenheid voor mensen met een afstand tot de arbeidsmarkt | C24: Aantoonbare inzet. | E24: =IF(D24="Ja",5,0) -> 0 | F24: =SUM(E24:E27) -> 0
C25: Aantoonbare inzet van medewerkers met een afstand tot de arbeidsmarkt of incidentele participatieprojecten. | E25: =IF(D25="Ja",5,0) -> 0
C26: Structurele inzet van medewerkers met een afstand tot de arbeidsmarkt als onderdeel van de bedrijfsvoering. | E26: =IF(D26="Ja",5,0) -> 0
B28: Samenwerking met sociale ondernemingen | C28: Aantoonbare samenwerking. | E28: =IF(D28="Ja",5,0) -> 0 | F28: =SUM(E28:E31) -> 0
C29: Samenwerking met één of meer sociale ondernemingen of werkbedrijven. | E29: =IF(D29="Ja",5,0) -> 0
C30: Structurele en langdurige samenwerking met sociale ondernemingen of werkbedrijven, aantoonbaar ingebed in de bedrijfsvoering. | E30: =IF(D30="ja",5,0) -> 0
B32: Continuïteit en omvang van de SROI-inspanningen | C32: Structurele aanpak. | E32: =IF(D32="Ja",5,0) -> 0 | F32: =SUM(E32:E35) -> 0
C33: Activiteiten worden regelmatig uitgevoerd en zijn aantoonbaar vastgelegd. | E33: =IF(D33="Ja",5,0) -> 0
C34: SROI is aantoonbaar verankerd in de organisatie, met beleid, doelstellingen en periodieke evaluatie. | E34: =IF(D34="Ja",5,0) -> 0
E36: Totaal GC12 | F36: =SUM(F24:F35) -> 0
E37: Totaal GC12, schaal 0-10 | F37: =ROUND(F36/4.5,1) -> 0
B40: GC13 | C40: Bijdrage aan openbare verlichtingssector in Nederland
B41: Aspect | C41: Vraag | D41: Ja/Nee | E41: Punten | F41: Totaal
B42: Kennisontwikkeling | C42: Aantoonbare bijdrage aan kennisontwikkeling. | E42: =IF(D42="Ja",5,0) -> 0 | F42: =SUM(E42:E45) -> 0
C43: Regelmatige bijdrage aan kennisdeling of vakinhoudelijke bijeenkomsten. | E43: =IF(D43="Ja",5,0) -> 0
C44: Actieve en structurele bijdrage aan kennisontwikkeling binnen de OVL-sector. | E44: =IF(D44="Ja",5,0) -> 0
B46: Innovatie | C46: Geen aantoonbare innovatieactiviteiten. | E46: =IF(D46="Ja",5,0) -> 0 | F46: =SUM(E46:E49) -> 0
C47: Deelname aan innovatieprojecten of pilots. | E47: =IF(D47="Ja",5,0) -> 0
C48: Actieve ontwikkeling en toepassing van innovatieve oplossingen binnen de OVL-sector. | E48: =IF(D48="Ja",5,0) -> 0
B50: Samenwerking binnen de OVL-sector | C50: Geen aantoonbare bijdrage aan sectorontwikkeling. | E50: =IF(D50="Ja",5,0) -> 0 | F50: =SUM(E50:E53) -> 0
C51: Deelname aan werkgroepen, brancheorganisaties of kennisplatforms. | E51: =IF(D51="Ja",5,0) -> 0
C52: Structurele bijdrage aan professionalisering, normalisatie of sectorontwikkeling, aantoonbaar via werkgroepen, publicaties of bestuursfuncties. | E52: =IF(D52="Ja",5,0) -> 0
E54: Totaal GC13 | F54: =SUM(F42:F53) -> 0
E55: Totaal GC13, schaal 0-10 | F55: =ROUND(F54/4.5,1) -> 0

Sheet Score energiegebruik per km
A1: Beoordeling vermogen per kilometer per profiel per inschrijver | I1: getallen ter voorbeeld
B2: Opgegeven vermogen per km volgens EVO bestand
C3: Inschrijver 1 | D3: Inschrijver 2 | E3: Inschrijver 3 | F3: Inschrijver 4 | G3: Inschrijver 5 | H3: Inschrijver 6 | I3: Inschrijver 7 | J3: Inschrijver 8 | K3: Inschrijver 9 | L3: Inschrijver 10 | M3: Inschrijver 11
B4: ='Technische aspecten'!C10 -> profiel 4 (Alberdalaan)
B5: ='Technische aspecten'!C11 -> Profiel 5 (Tuinbouwweg)
B6: ='Technische aspecten'!C12 -> Profiel 7 ( R. Praediniusstraat)
B7: ='Technische aspecten'!C13 -> Profiel 9 (Meerkoet)
B13: Bijbehorende score
C14: Inschrijver 1 | D14: Inschrijver 2 | E14: Inschrijver 3 | F14: Inschrijver 4 | G14: Inschrijver 5 | H14: Inschrijver 6 | I14: Inschrijver 7 | J14: Inschrijver 8 | K14: Inschrijver 9 | L14: Inschrijver 10 | M14: Inschrijver 11
B15: =B4 -> profiel 4 (Alberdalaan) | C15: =IFERROR(10 - 9 * ((C4 - MIN(P_Profel_1)) / (MAX(P_Profel_1) - MIN(P_Profel_1))),"") | D15: =IFERROR(10 - 9 * ((D4 - MIN(P_Profel_1)) / (MAX(P_Profel_1) - MIN(P_Profel_1))),"") | E15: =IFERROR(10 - 9 * ((E4 - MIN(P_Profel_1)) / (MAX(P_Profel_1) - MIN(P_Profel_1))),"") | F15: =IFERROR(10 - 9 * ((F4 - MIN(P_Profel_1)) / (MAX(P_Profel_1) - MIN(P_Profel_1))),"") | G15: =IFERROR(10 - 9 * ((G4 - MIN(P_Profel_1)) / (MAX(P_Profel_1) - MIN(P_Profel_1))),"") | H15: =IFERROR(10 - 9 * ((H4 - MIN(P_Profel_1)) / (MAX(P_Profel_1) - MIN(P_Profel_1))),"") | I15: =IFERROR(10 - 9 * ((I4 - MIN(P_Profel_1)) / (MAX(P_Profel_1) - MIN(P_Profel_1))),"") | J15: =IFERROR(10 - 9 * ((J4 - MIN(P_Profel_1)) / (MAX(P_Profel_1) - MIN(P_Profel_1))),"") | ... M15: =IFERROR(10 - 9 * ((M4 - MIN(P_Profel_1)) / (MAX(P_Profel_1) - MIN(P_Profel_1))),"")
B16: =B5 -> Profiel 5 (Tuinbouwweg) | C16: =IFERROR(10 - 9 * ((C5 - MIN(P_Profel_2)) / (MAX(P_Profel_2) - MIN(P_Profel_2))),"") | D16: =IFERROR(10 - 9 * ((D5 - MIN(P_Profel_2)) / (MAX(P_Profel_2) - MIN(P_Profel_2))),"") | E16: =IFERROR(10 - 9 * ((E5 - MIN(P_Profel_2)) / (MAX(P_Profel_2) - MIN(P_Profel_2))),"") | F16: =IFERROR(10 - 9 * ((F5 - MIN(P_Profel_2)) / (MAX(P_Profel_2) - MIN(P_Profel_2))),"") | G16: =IFERROR(10 - 9 * ((G5 - MIN(P_Profel_2)) / (MAX(P_Profel_2) - MIN(P_Profel_2))),"") | H16: =IFERROR(10 - 9 * ((H5 - MIN(P_Profel_2)) / (MAX(P_Profel_2) - MIN(P_Profel_2))),"") | I16: =IFERROR(10 - 9 * ((I5 - MIN(P_Profel_2)) / (MAX(P_Profel_2) - MIN(P_Profel_2))),"") | J16: =IFERROR(10 - 9 * ((J5 - MIN(P_Profel_2)) / (MAX(P_Profel_2) - MIN(P_Profel_2))),"") | ... M16: =IFERROR(10 - 9 * ((M5 - MIN(P_Profel_2)) / (MAX(P_Profel_2) - MIN(P_Profel_2))),"")
B17: =B6 -> Profiel 7 ( R. Praediniusstraat) | C17: =IFERROR(10 - 9 * ((C6 - MIN(P_Profel_3)) / (MAX(P_Profel_3) - MIN(P_Profel_3))),"") | D17: =IFERROR(10 - 9 * ((D6 - MIN(P_Profel_3)) / (MAX(P_Profel_3) - MIN(P_Profel_3))),"") | E17: =IFERROR(10 - 9 * ((E6 - MIN(P_Profel_3)) / (MAX(P_Profel_3) - MIN(P_Profel_3))),"") | F17: =IFERROR(10 - 9 * ((F6 - MIN(P_Profel_3)) / (MAX(P_Profel_3) - MIN(P_Profel_3))),"") | G17: =IFERROR(10 - 9 * ((G6 - MIN(P_Profel_3)) / (MAX(P_Profel_3) - MIN(P_Profel_3))),"") | H17: =IFERROR(10 - 9 * ((H6 - MIN(P_Profel_3)) / (MAX(P_Profel_3) - MIN(P_Profel_3))),"") | I17: =IFERROR(10 - 9 * ((I6 - MIN(P_Profel_3)) / (MAX(P_Profel_3) - MIN(P_Profel_3))),"") | J17: =IFERROR(10 - 9 * ((J6 - MIN(P_Profel_3)) / (MAX(P_Profel_3) - MIN(P_Profel_3))),"") | ... M17: =IFERROR(10 - 9 * ((M6 - MIN(P_Profel_3)) / (MAX(P_Profel_3) - MIN(P_Profel_3))),"")
B18: =B7 -> Profiel 9 (Meerkoet) | C18: =IFERROR(10 - 9 * ((C7 - MIN(P_Profel_4)) / (MAX(P_Profel_4) - MIN(P_Profel_4))),"") | D18: =IFERROR(10 - 9 * ((D7 - MIN(P_Profel_4)) / (MAX(P_Profel_4) - MIN(P_Profel_4))),"") | E18: =IFERROR(10 - 9 * ((E7 - MIN(P_Profel_4)) / (MAX(P_Profel_4) - MIN(P_Profel_4))),"") | F18: =IFERROR(10 - 9 * ((F7 - MIN(P_Profel_4)) / (MAX(P_Profel_4) - MIN(P_Profel_4))),"") | G18: =IFERROR(10 - 9 * ((G7 - MIN(P_Profel_4)) / (MAX(P_Profel_4) - MIN(P_Profel_4))),"") | H18: =IFERROR(10 - 9 * ((H7 - MIN(P_Profel_4)) / (MAX(P_Profel_4) - MIN(P_Profel_4))),"") | I18: =IFERROR(10 - 9 * ((I7 - MIN(P_Profel_4)) / (MAX(P_Profel_4) - MIN(P_Profel_4))),"") | J18: =IFERROR(10 - 9 * ((J7 - MIN(P_Profel_4)) / (MAX(P_Profel_4) - MIN(P_Profel_4))),"") | ... M18: =IFERROR(10 - 9 * ((M7 - MIN(P_Profel_4)) / (MAX(P_Profel_4) - MIN(P_Profel_4))),"")
C19: =IFERROR(10 - 9 * ((C8 - MIN(P_Profel_5)) / (MAX(P_Profel_5) - MIN(P_Profel_5))),"") | D19: =IFERROR(10 - 9 * ((D8 - MIN(P_Profel_5)) / (MAX(P_Profel_5) - MIN(P_Profel_5))),"") | E19: =IFERROR(10 - 9 * ((E8 - MIN(P_Profel_5)) / (MAX(P_Profel_5) - MIN(P_Profel_5))),"") | F19: =IFERROR(10 - 9 * ((F8 - MIN(P_Profel_5)) / (MAX(P_Profel_5) - MIN(P_Profel_5))),"") | G19: =IFERROR(10 - 9 * ((G8 - MIN(P_Profel_5)) / (MAX(P_Profel_5) - MIN(P_Profel_5))),"") | H19: =IFERROR(10 - 9 * ((H8 - MIN(P_Profel_5)) / (MAX(P_Profel_5) - MIN(P_Profel_5))),"") | I19: =IFERROR(10 - 9 * ((I8 - MIN(P_Profel_5)) / (MAX(P_Profel_5) - MIN(P_Profel_5))),"") | J19: =IFERROR(10 - 9 * ((J8 - MIN(P_Profel_5)) / (MAX(P_Profel_5) - MIN(P_Profel_5))),"") | ... M19: =IFERROR(10 - 9 * ((M8 - MIN(P_Profel_5)) / (MAX(P_Profel_5) - MIN(P_Profel_5))),"")
C20: =IFERROR(10 - 9 * ((C9 - MIN(P_Profel_6)) / (MAX(P_Profel_6) - MIN(P_Profel_6))),"") | D20: =IFERROR(10 - 9 * ((D9 - MIN(P_Profel_6)) / (MAX(P_Profel_6) - MIN(P_Profel_6))),"") | E20: =IFERROR(10 - 9 * ((E9 - MIN(P_Profel_6)) / (MAX(P_Profel_6) - MIN(P_Profel_6))),"") | F20: =IFERROR(10 - 9 * ((F9 - MIN(P_Profel_6)) / (MAX(P_Profel_6) - MIN(P_Profel_6))),"") | G20: =IFERROR(10 - 9 * ((G9 - MIN(P_Profel_6)) / (MAX(P_Profel_6) - MIN(P_Profel_6))),"") | H20: =IFERROR(10 - 9 * ((H9 - MIN(P_Profel_6)) / (MAX(P_Profel_6) - MIN(P_Profel_6))),"") | I20: =IFERROR(10 - 9 * ((I9 - MIN(P_Profel_6)) / (MAX(P_Profel_6) - MIN(P_Profel_6))),"") | J20: =IFERROR(10 - 9 * ((J9 - MIN(P_Profel_6)) / (MAX(P_Profel_6) - MIN(P_Profel_6))),"") | ... M20: =IFERROR(10 - 9 * ((M9 - MIN(P_Profel_6)) / (MAX(P_Profel_6) - MIN(P_Profel_6))),"")
C21: =IFERROR(10 - 9 * ((C10 - MIN(P_Profel_7)) / (MAX(P_Profel_7) - MIN(P_Profel_7))),"") | D21: =IFERROR(10 - 9 * ((D10 - MIN(P_Profel_7)) / (MAX(P_Profel_7) - MIN(P_Profel_7))),"") | E21: =IFERROR(10 - 9 * ((E10 - MIN(P_Profel_7)) / (MAX(P_Profel_7) - MIN(P_Profel_7))),"") | F21: =IFERROR(10 - 9 * ((F10 - MIN(P_Profel_7)) / (MAX(P_Profel_7) - MIN(P_Profel_7))),"") | G21: =IFERROR(10 - 9 * ((G10 - MIN(P_Profel_7)) / (MAX(P_Profel_7) - MIN(P_Profel_7))),"") | H21: =IFERROR(10 - 9 * ((H10 - MIN(P_Profel_7)) / (MAX(P_Profel_7) - MIN(P_Profel_7))),"") | I21: =IFERROR(10 - 9 * ((I10 - MIN(P_Profel_7)) / (MAX(P_Profel_7) - MIN(P_Profel_7))),"") | J21: =IFERROR(10 - 9 * ((J10 - MIN(P_Profel_7)) / (MAX(P_Profel_7) - MIN(P_Profel_7))),"") | ... M21: =IFERROR(10 - 9 * ((M10 - MIN(P_Profel_7)) / (MAX(P_Profel_7) - MIN(P_Profel_7))),"")
C22: =IFERROR(10 - 9 * ((C11 - MIN(P_Profel_8)) / (MAX(P_Profel_8) - MIN(P_Profel_8))),"") | D22: =IFERROR(10 - 9 * ((D11 - MIN(P_Profel_8)) / (MAX(P_Profel_8) - MIN(P_Profel_8))),"") | E22: =IFERROR(10 - 9 * ((E11 - MIN(P_Profel_8)) / (MAX(P_Profel_8) - MIN(P_Profel_8))),"") | F22: =IFERROR(10 - 9 * ((F11 - MIN(P_Profel_8)) / (MAX(P_Profel_8) - MIN(P_Profel_8))),"") | G22: =IFERROR(10 - 9 * ((G11 - MIN(P_Profel_8)) / (MAX(P_Profel_8) - MIN(P_Profel_8))),"") | H22: =IFERROR(10 - 9 * ((H11 - MIN(P_Profel_8)) / (MAX(P_Profel_8) - MIN(P_Profel_8))),"") | I22: =IFERROR(10 - 9 * ((I11 - MIN(P_Profel_8)) / (MAX(P_Profel_8) - MIN(P_Profel_8))),"") | J22: =IFERROR(10 - 9 * ((J11 - MIN(P_Profel_8)) / (MAX(P_Profel_8) - MIN(P_Profel_8))),"") | ... M22: =IFERROR(10 - 9 * ((M11 - MIN(P_Profel_8)) / (MAX(P_Profel_8) - MIN(P_Profel_8))),"")
B23: Totaal

Sheet SAMENVATTING EMVI
B1: Beschrijving van scores | AA1: Max score per item
AA2: Puur theoretisch
A3: Koffer | B3: Nr | C3: Aspect | D3: Score | E3: Weging | I3: WAS
B4: GC11 | C4: Duurzaamheid | E4: 2 | I4: GC11
B5: GC12 | C5: Social return on investment | E5: 1 | I5: CG 06 | AA5: =10*E7 -> 20
B6: GC13 | C6: Bijdrage aan openbare verlichtingssector in Nederland | E6: 1 | I6: CG 07 | AA6: =10*E8 -> 40
B7: GC21 | C7: Energiegebruik per km (in kWh) per profiel | E7: 2 | I7: CG 01 | AA7: =10*E9 -> 20
B8: GC22 | C8: Verblinding | E8: 4 | I8: CG02
B9: GC23 | C9: Beperking variatie in optieken | E9: 2 | I9: CG 03 | AA9: =10*E11 -> 10
B10: GC24 | C10: Beperking opwaarts licht | E10: 4 | I10: CG04 | AA10: =10*E5 -> 10
B11: GC25 | C11: Herstelbaarheid | E11: 1 | I11: CG 05
B12: GC26 | C12: Levertijd | E12: 1 | I12: CG 08 | AA12: =10*E12 -> 10
C13: Score voor K1 | F13: =SUM(F4:F12) -> 0 | AA13: =SUM(AA5:AA12) -> 110 | AB13: totaal | AC13: =AA13*#REF! -> #REF!
A15: Kegel | B15: Nr | C15: Aspect | D15: Score | E15: Weging
B16: =B4 -> GC11 | C16: =C4 -> Duurzaamheid | D16: ='Aspecten leverancier'!F20 -> 0 | E16: =E4 -> 2 | F16: =D16*E16 -> 0 | AA16: =10*E16 -> 20
B17: =B5 -> GC12 | C17: =C5 -> Social return on investment | D17: ='Aspecten leverancier'!F37 -> 0 | E17: =E5 -> 1 | F17: =D17*E17 -> 0 | AA17: =10*E17 -> 10
B18: =B6 -> GC13 | C18: =C6 -> Bijdrage aan openbare verlichtingssector in Nederland | D18: ='Aspecten leverancier'!F55 -> 0 | E18: =E6 -> 1 | F18: =D18*E18 -> 0 | AA18: =10*E18 -> 10
B19: =B7 -> GC21 | C19: =C7 -> Energiegebruik per km (in kWh) per profiel | D19: ='Technische aspecten'!L18 -> 0 | E19: =E7 -> 2 | F19: =D19*E19 -> 0 | AA19: =10*E19 -> 20
B20: =B8 -> GC22 | C20: =C8 -> Verblinding | D20: ='Technische aspecten'!L31 -> 3.6084211 | E20: =E8 -> 4 | F20: =D20*E20 -> 14.433684 | AA20: =10*E20 -> 40
B21: =B9 -> GC23 | C21: =C9 -> Beperking variatie in optieken | D21: ='Technische aspecten'!K41 -> 10 | E21: =E9 -> 2 | F21: =D21*E21 -> 20 | AA21: =10*E21 -> 20
B22: =B10 -> GC24 | C22: =C10 -> Beperking opwaarts licht | D22: ='Technische aspecten'!L53 -> 10 | E22: =E10 -> 4 | F22: =D22*E22 -> 40 | AA22: =10*E22 -> 40
B23: =B11 -> GC25 | C23: =C11 -> Herstelbaarheid | D23: ='Technische aspecten'!G62 -> 0 | E23: =E11 -> 1 | F23: =D23*E23 -> 0 | AA23: =10*E23 -> 10
B24: =B12 -> GC26 | C24: =C12 -> Levertijd | D24: ='Technische aspecten'!E79 -> 10 | E24: =E12 -> 1 | F24: =D24*E24 -> 10 | AA24: =10*E24 -> 10
C25: Score voor PT Kegel | F25: =SUM(F16:F24) -> 84.433684 | AA25: =SUM(AA16:AA24) -> 180 | AC25: =AA25*#REF! -> #REF!
A27: Beker | B27: Nr | C27: Aspect | D27: Score | E27: Weging
B28: =B16 -> GC11 | C28: =C16 -> Duurzaamheid
B29: =B17 -> GC12 | C29: =C17 -> Social return on investment | AA29: =10*E29 -> 0
B30: =B18 -> GC13 | C30: =C18 -> Bijdrage aan openbare verlichtingssector in Nederland | AA30: =10*E30 -> 0
B31: =B19 -> GC21 | C31: =C19 -> Energiegebruik per km (in kWh) per profiel | AA31: =10*E31 -> 0
B32: =B20 -> GC22 | C32: =C20 -> Verblinding
B33: =B21 -> GC23 | C33: =C21 -> Beperking variatie in optieken
B34: =B22 -> GC24 | C34: =C22 -> Beperking opwaarts licht | AA34: =10*E34 -> 0
B35: =B23 -> GC25 | C35: =C23 -> Herstelbaarheid | AA35: =10*E35 -> 0
B36: =B24 -> GC26 | C36: =C24 -> Levertijd | AA36: =10*E36 -> 0
C37: Score voor PT Beker | F37: =SUM(F29:F36) -> 0 | AA37: =SUM(AA29:AA36) -> 0 | AC37: =AA37*#REF! -> #REF!
