Workbook

Sheet 0. Voorblad
C3: Bijlage - Prijzenblad gym- en zwemvervoer
C6: Toelichting:
C7: In dit prijzenblad vult u uw definitieve prijzen in voor uw Inschrijving. De genoemde aantallen zijn fictief en zijn opgesteld voor een goed prijsvergelijk. Hier kunnen dan ook geen rechten aan ontleend worden.
C9: Legenda:
C10: Tekst | D10: Invoer Gemeente. Niet wijzigen.
C11: Invoer | D11: Cellen bestemd voor uw invoer. Inschrijver dient deze cellen in dit Prijzenblad in te vullen. Het niet of niet op juiste wijze invullen van dit Prijzenblad leidt tot uitsluiting van de Inschrijving in deze Aanbesteding.
C12: Berekening | D12: Berekeningen in werkblad. Niet wijzigen.
C13: Opmerkingen | D13: Ruimte voor uw opmerkingen of toelichting.
C14: Totalen | D14: Berekeningen van totalen in werkblad. Niet wijzigen.
C15: Uw fictieve Inschrijfprijs | D15: Berekening van uw fictieve Inschrijfprijs. Niet wijzigen.
C17: Noten:
C18: 1) De inschrijfprijs staat niet gelijk aan de opdrachtwaarde zoals deze is vermeld in hoofdstuk 1 van het aanbestedingsdocument. 2) Inschrijver geeft zijn prijzen op exclusief BTW. 3) Het opgegeven regietarief geldt voor de loptijd van opdrachten die onder de overeenkomst uitgevraagd worden. 4) Brandstofkosten en vervoerskosten dienen per rit apart te worden ingevuld. Onder vervoerskosten worden alle kosten gerekend m.u.v. het brandstofcomponent. Denk daarbij aan: voertuigkosten, afschrijvingskosten, personeelskosten, verzekering, enz. 5) Het totaal aantal kilometers is indicatief op basis van kortste route in Google Maps. Subtotaal per rit wordt berekend op basis van het aantal ritten.
C20: Recapitulatie:
C21: CONTACTGEGEVENS INSCHRIJVER
C22: Onderneming:
C23: Datum:
C24: Referentienummer
C26: TOTAAL KOSTEN PERCEEL 1: DE WOLDEN ZUID
C27: Omschrijving | G27: Bedrag in €
C28: ='1. Perceel 1'!C6 -> 1. Gymvervoer | G28: ='1. Perceel 1'!K10 -> 0
C29: ='1. Perceel 1'!C12 -> 2. Zwemvervoer | G29: ='1. Perceel 1'!K16 -> 0
F30: TOTALE KOSTEN PERCEEL 1: DE WOLDEN ZUID | G30: =SUM(G28:H29) -> 0
C32: UW FICTIEVE INSCHRIJFPRIJS PERCEEL 1: DE WOLDEN ZUID (TCO 72 MAANDEN) | G32: =G30 -> 0
C34: TOTAAL KOSTEN PERCEEL 2: DE WOLDEN NOORD
C35: Omschrijving | G35: Bedrag in €
C36: ='2. Perceel 2'!C5 -> 1. Gymvervoer | G36: ='2. Perceel 2'!K9 -> 0
C37: ='2. Perceel 2'!C11 -> 2. Zwemvervoer | G37: ='2. Perceel 2'!K17 -> 0
F38: TOTALE KOSTEN PERCEEL 2: DE WOLDEN NOORD | G38: =SUM(G36:H37) -> 0
C40: UW FICTIEVE INSCHRIJFPRIJS PERCEEL 2: DE WOLDEN NOORD (TCO 72 MAANDEN) | G40: =G38 -> 0

Sheet 1. Perceel 1
C4: Bijlage - Prijzenblad Gym- en zwemvervoer - Perceel 1: De Wolden Zuid
C6: 1. Gymvervoer | I6: Brandstofcomponent | J6: Vervoerscomponent
C7: Nr. | D7: Omschrijving | E7: Maximale groepsgrootte | F7: Aantal kilometer enkele reis | G7: Aantal ritten | H7: Totaal aantal kilometers retour | I7: Brandstofkosten per rit | J7: Vervoerskosten per rit | K7: Subtotaal per rit
C8: 1.1 | D8: KC De Klimtoren, gymvervoer (dinsdag 2 ritten hele schooljaar; donderdag 2 ritten buiten zwemperiode) | E8: 19 leerlingen + 1 medewerker | F8: 7 | G8: 140 | H8: =G8*F8*2 -> 1960 | K8: =G8*(I8+J8) -> 0
C9: 1.2 | D9: CBS De Wegwijzer, gymvervoer (woensdag 3 ritten buiten zwemperiode, vrijdag 3 ritten hele schooljaar) | E9: 43 leerlingen + 1 medewerker | F9: 1.3 | G9: 210 | H9: =G9*F9*2 -> 546 | I9: 0 | J9: 0 | K9: =G9*(I9+J9) -> 0
J10: Subtotaal o.b.v. 6 jaren | K10: =SUM(K8:K9)*6 -> 0
C12: 2. Zwemvervoer | I12: Brandstofcomponent | J12: Vervoerscomponent
C13: Nr. | D13: Omschrijving | F13: Aantal kilometer enkele reis | G13: Aantal ritten | H13: Totaal aantal kilometers retour | I13: Brandstofkosten per rit | J13: Vervoerskosten per rit | K13: Subtotaal per rit
C14: 2.1 | D14: CBS De Wegwijzer, zwemvervoer woensdag (3 ritten tijdens zwemperiode, i.p.v. gymvervoer woensdag) | E14: 43 leerlingen + 1 medewerker | F14: 4 | G14: 30 | H14: =G14*F14*2 -> 240 | I14: 0 | J14: 0 | K14: =G14*(I14+J14) -> 0
C15: 2.2 | D15: De Bosrand, zwemvervoer donderdag (2 ritten tijdens zwemperiode, met vrijgekomen bus KC De Klimtoren) | E15: 30 leerlingen + 1 medewerker | F15: 5.2 | G15: 20 | H15: =G15*F15*2 -> 208 | I15: 0 | J15: 0 | K15: =G15*(I15+J15) -> 0
J16: Subtotaal o.b.v. 6 jaren | K16: =SUM(K14:K15)*6 -> 0
F19: 40 ritten hele jaar
F20: 9 ritten schoolzwemmen

Sheet 2. Perceel 2
C3: Bijlage - Prijzenblad Gym- en zwemvervoer - Perceel 2: De Wolden Noord
C5: 1. Gymvervoer | I5: Brandstofcomponent | J5: Vervoerscomponent
C6: Nr. | D6: Omschrijving | E6: Maximale groepsgrootte | F6: Aantal kilometer enkele reis | G6: Aantal ritten | H6: Totaal aantal kilometers retour | I6: Brandstofkosten per rit | J6: Vervoerskosten per rit | K6: Subtotaal per rit
C7: 1.1 | D7: OBS De Wezeboom, gymvervoer (woensdag 2 ritten buiten zwemperiode, vrijdag 2 ritten hele schooljaar) | E7: 33 leerlingen + 1 medewerker | F7: 3 | G7: 140 | H7: =F7*G7*2 -> 840 | I7: 0 | J7: 0 | K7: =G7*(I7+J7) -> 0
C8: 1.2 | D8: t Echtenest, gymvervoer (dinsdag 1 rit hele schooljaar, donderdag buiten zwemperiode) | E8: 29 leerlingen + 1 medewerker | F8: 7.2 | G8: 70 | H8: =F8*G8*2 -> 1008 | I8: 0 | J8: 0 | K8: =G8*(I8+J8) -> 0
J9: Subtotaal o.b.v. 6 jaren | K9: =SUM(K7:K8)*6 -> 0
C11: 2. Zwemvervoer | I11: Brandstofcomponent | J11: Vervoerscomponent
C12: Nr. | D12: Omschrijving | F12: Aantal kilometer enkele reis | G12: Aantal ritten | H12: Totaal aantal kilometers retour | I12: Prijs per rit | J12: Vervoerskosten per rit | K12: Subtotaal per rit
C13: 2.1 | D13: OBS De Wezeboom, zwemvervoer woensdag (2 ritten tijdens zwemperiode, i.p.v. gymvervoer woensdag) | E13: 33 leerlingen + 1 medewerker | F13: 8.4 | G13: 20 | H13: =F13*G13*2 -> 336 | I13: 0 | J13: 0 | K13: =G13*(I13+J13) -> 0
C14: 2.2 | D14: t Echtenest, zwemvervoer donderdag (1 rit tijdens zwemperiode, i.p.v. gymvervoer donderdag) | E14: 29 leerlingen + 1 medewerker | F14: 8.3 | G14: 10 | H14: =F14*G14*2 -> 166 | I14: 0 | J14: 0 | K14: =G14*(I14+J14) -> 0
C15: 2.3 | D15: De Arendsvleugel, extra zwemvervoer (2 ritten alleen tijdens zwemperiode) | E15: 24 leerlingen + 1 medewerker | F15: 7.4 | G15: 20 | H15: =F15*G15*2 -> 296 | I15: 0 | J15: 0 | K15: =G15*(I15+J15) -> 0
C16: 2.4 | D16: Prins Johan Friso, extra zwemvervoer (2 ritten alleen tijdens zwemperiode) | E16: 22 leerlingen + 1 medewerker | F16: 3.9 | G16: 20 | H16: =F16*G16*2 -> 156 | I16: 0 | J16: 0 | K16: =G16*(I16+J16) -> 0
J17: Subtotaal o.b.v. 6 jaren | K17: =SUM(K13:K16)*6 -> 0
