Workbook

Sheet Informatie
C1: Toelichting
A2: Naam aanbesteding | B2: Werkplekapparatuur & Aanvullende Dienstverlening
A3: Versie | B3: 1.0
A4: Totaal aantal punten te verdienen | B4: 20000000
A5: Maximale kwaliteitsscore per subcriterium | B5: 9 | C5: Scores: 0, 3, 5, 7 of 9
A7: Criterium 1 | B7: Kwaliteit
A8: Punten | B8: =B4*B9 -> 8000000 | C8: Totaal aantal punten te verdienen voor kwaliteit
A9: Weging criterium 1 (%) | B9: 0.4
A11: Criterium 2 | B11: Prijs
A12: Punten | B12: =B4*B13 -> 12000000 | C12: Totaal aantal punten te verdienen voor Prijs
A13: Weging criterium 2 (%) | B13: 0.6
A15: Aantal inschrijvers | B15: =COUNTA(Inschrijvers!B2:B50) -> 5
A16: Prijsformule | B16: Laagste prijs / prijs inschrijver * prijspunten
A17: Controle som weging (%) | B17: =B9+B13 -> 1
A20: Controle | B20: Waarde | C20: Gewenst | D20: Opmerking
A21: Som hoofdwegingen | B21: =Informatie!B17 -> 1 | C21: 100 | D21: Moet 100 zijn
A22: Som actieve kwaliteitssubcriteria | B22: =SUMIFS(Subgunningscriteria!E:E,Subgunningscriteria!B:B,"Kwaliteit",Subgunningscriteria!G:G,"JA") -> 100.001 | C22: 100 | D22: Moet 100 zijn
A23: Som actieve prijssubcriteria | B23: =SUMIFS(Subgunningscriteria!E:E,Subgunningscriteria!B:B,"Prijs",Subgunningscriteria!G:G,"JA") -> 100 | C23: 100 | D23: Meestal 100
A24: Aantal ingevulde inschrijvers | B24: =COUNTA(Inschrijvers!B2:B50) -> 5 | D24: Ter controle

Sheet Inschrijvers
A1: Inschrijfnummer | B1: Naam Inschrijvende Entiteit
A2: 1 | B2: Inschrijver1
A3: 2 | B3: Inschrijver2
A4: 3 | B4: Inschrijver3
A5: 4 | B5: Inschrijver4
A6: 5 | B6: Inschrijver5
A7: 6
A8: 7
A9: 8
A10: 9
A11: 10

Sheet Subgunningscriteria
A1: Criteriumnummer | B1: Criterium | C1: Subcriterium | D1: Omschrijving | E1: Weging binnen hoofdcriterium (%) | F1: Punten per subcriterium o.b.v. weging | G1: Actief (JA/NEE)
A2: 1 | B2: Prijs | C2: P1 | D2: Prijs | E2: 100 | F2: =E2/100*Informatie!$B$12 -> 12000000 | G2: JA
A3: 2 | B3: Kwaliteit | C3: K1.1 | D3: Omgevingsomstandigheden & Dienstverlening | Marktschommelingen, materiaaltekorten, geopolitieke spanningen en andere leveringsonzekerheden | E3: 16.667 | F3: =E3/100*Informatie!$B$8 -> 1333360 | G3: JA
A4: 3 | B4: Kwaliteit | C4: K1.2 | D4: Omgevingsomstandigheden & Dienstverlening | Lifecycle management, productbeschikbaarheid, end-of-life verklaringen van vendors, het adviseren van opvolgmodellen en gelijkwaardige alternatieven, en de Productcatalogus | E4: 16.667 | F4: =E4/100*Informatie!$B$8 -> 1333360 | G4: JA
A5: 4 | B5: Kwaliteit | C5: K1.3 | D5: Omgevingsomstandigheden & Dienstverlening | Advisering aan de coöperatie en de doorontwikkeling van de KIEN-dienstverlening | E5: 16.667 | F5: =E5/100*Informatie!$B$8 -> 1333360 | G5: JA
A6: 5 | B6: Kwaliteit | C6: K2.1 | D6: Garanties & Reparaties | Garantieregeling zal vallen voor devices uit het Chromebook / Google Book Ecosysteem en het Microsoft Ecosysteem, en reparaties binnen de garantietermijn | E6: 12.5 | F6: =E6/100*Informatie!$B$8 -> 1000000 | G6: JA
A7: 6 | B7: Kwaliteit | C7: K2.2 | D7: Garanties & Reparaties | Reparaties buiten de garantietermijn, en organisatie van reparatiecapaciteit, doorlooptijd, on-site/off-site, onderdelenvoorziening en retourafhandeling | E7: 12.5 | F7: =E7/100*Informatie!$B$8 -> 1000000 | G7: JA
A8: 7 | B8: Kwaliteit | C8: K3.1 | D8: Logistiek & duurzaamheid | Logistiek van leveringen en retourszendingen | E8: 12.5 | F8: =E8/100*Informatie!$B$8 -> 1000000 | G8: JA
A9: 8 | B9: Kwaliteit | C9: K3.2 | D9: Logistiek & duurzaamheid | Duurzaamheid, waaronder bijvoorbeeld circulair gebruik, verlenging van de levensduur, energieverbruik, verpakkingen, transportbewegingen en/of retourstromen | E9: 12.5 | F9: =E9/100*Informatie!$B$8 -> 1000000 | G9: JA

Sheet Beoordelingen Kwaliteit
A1: Inschrijver | B1: Subcriterium | C1: Omschrijving | D1: Weging subcriterium (%) | E1: Maximum aantal punten per onderdeel | F1: Score | G1: Punten behaald | H1: Optionele toelichting | J1: Gemiddelde score | K1: Beoordeling: Manager ICT | L1: Beoordeling: Medewerker Serviceteam | M1: Beoordeling: Vertegenwoordiger Lid 1 | N1: Beoordeling: Vertegenwoordiger Lid 2
A2: =IF(Inschrijvers!B2="","",Inschrijvers!B2) -> Inschrijver1
A3: =IF($A2="","",$A2) -> Inschrijver1 | B3: =IF(Subgunningscriteria!G2="JA",Subgunningscriteria!C2,"") -> P1 | C3: =IF(Subgunningscriteria!G2="JA",Subgunningscriteria!D2,"") -> Prijs | D3: =IF(Subgunningscriteria!G2="JA",Subgunningscriteria!E2,"") -> 100 | F3: =J3 -> n.v.t. | G3: n.v.t. | H3: Prijs wordt in het tabblad voor Beoordelingen Prijsinschrijvingen beoordeeld. | J3: n.v.t. | K3: n.v.t. | L3: n.v.t. | M3: n.v.t. | N3: n.v.t.
A4: =IF($A3="","",$A3) -> Inschrijver1 | B4: =IF(Subgunningscriteria!G3="JA",Subgunningscriteria!C3,"") -> K1.1 | C4: =IF(Subgunningscriteria!G3="JA",Subgunningscriteria!D3,"") -> Omgevingsomstandigheden & Dienstverlening | Marktschommelingen, materiaaltekorten, geopolitieke spanningen en andere leveringsonzekerheden | D4: =IF(Subgunningscriteria!G3="JA",Subgunningscriteria!E3,"") -> 16.667 | E4: =Subgunningscriteria!F3 -> 1333360 | F4: =J4 -> 0 | G4: ='Beoordelingen Kwaliteit'!F4/Informatie!$B$5*E4 -> 0 | J4: =IF(AVERAGE(K4:N4)<3,0,IF(AVERAGE(K4:N4)<4,3,IF(AVERAGE(K4:N4)<6,5,IF(AVERAGE(K4:N4)<8,7,9)))) -> 0 | K4: 0 | L4: 0 | M4: 0 | N4: 0
A5: =IF($A4="","",$A4) -> Inschrijver1 | B5: =IF(Subgunningscriteria!G4="JA",Subgunningscriteria!C4,"") -> K1.2 | C5: =IF(Subgunningscriteria!G4="JA",Subgunningscriteria!D4,"") -> Omgevingsomstandigheden & Dienstverlening | Lifecycle management, productbeschikbaarheid, end-of-life verklaringen van vendors, het adviseren van opvolgmodellen en gelijkwaardige alternatieven, en de Productcatalogus | D5: =IF(Subgunningscriteria!G4="JA",Subgunningscriteria!E4,"") -> 16.667 | E5: =Subgunningscriteria!F4 -> 1333360 | F5: =J5 -> 0 | G5: ='Beoordelingen Kwaliteit'!F5/Informatie!$B$5*E5 -> 0 | J5: =IF(AVERAGE(K5:N5)<3,0,IF(AVERAGE(K5:N5)<4,3,IF(AVERAGE(K5:N5)<6,5,IF(AVERAGE(K5:N5)<8,7,9)))) -> 0 | K5: 0 | L5: 0 | M5: 0 | N5: 0
A6: =IF($A5="","",$A5) -> Inschrijver1 | B6: =IF(Subgunningscriteria!G5="JA",Subgunningscriteria!C5,"") -> K1.3 | C6: =IF(Subgunningscriteria!G5="JA",Subgunningscriteria!D5,"") -> Omgevingsomstandigheden & Dienstverlening | Advisering aan de coöperatie en de doorontwikkeling van de KIEN-dienstverlening | D6: =IF(Subgunningscriteria!G5="JA",Subgunningscriteria!E5,"") -> 16.667 | E6: =Subgunningscriteria!F5 -> 1333360 | F6: =J6 -> 0 | G6: ='Beoordelingen Kwaliteit'!F6/Informatie!$B$5*E6 -> 0 | J6: =IF(AVERAGE(K6:N6)<3,0,IF(AVERAGE(K6:N6)<4,3,IF(AVERAGE(K6:N6)<6,5,IF(AVERAGE(K6:N6)<8,7,9)))) -> 0 | K6: 0 | L6: 0 | M6: 0 | N6: 0
A7: =IF($A6="","",$A6) -> Inschrijver1 | B7: =IF(Subgunningscriteria!G6="JA",Subgunningscriteria!C6,"") -> K2.1 | C7: =IF(Subgunningscriteria!G6="JA",Subgunningscriteria!D6,"") -> Garanties & Reparaties | Garantieregeling zal vallen voor devices uit het Chromebook / Google Book Ecosysteem en het Microsoft Ecosysteem, en reparaties binnen de garantietermijn | D7: =IF(Subgunningscriteria!G6="JA",Subgunningscriteria!E6,"") -> 12.5 | E7: =Subgunningscriteria!F6 -> 1000000 | F7: =J7 -> 0 | G7: ='Beoordelingen Kwaliteit'!F7/Informatie!$B$5*E7 -> 0 | J7: =IF(AVERAGE(K7:N7)<3,0,IF(AVERAGE(K7:N7)<4,3,IF(AVERAGE(K7:N7)<6,5,IF(AVERAGE(K7:N7)<8,7,9)))) -> 0 | K7: 0 | L7: 0 | M7: 0 | N7: 0
A8: =IF($A7="","",$A7) -> Inschrijver1 | B8: =IF(Subgunningscriteria!G7="JA",Subgunningscriteria!C7,"") -> K2.2 | C8: =IF(Subgunningscriteria!G7="JA",Subgunningscriteria!D7,"") -> Garanties & Reparaties | Reparaties buiten de garantietermijn, en organisatie van reparatiecapaciteit, doorlooptijd, on-site/off-site, onderdelenvoorziening en retourafhandeling | D8: =IF(Subgunningscriteria!G7="JA",Subgunningscriteria!E7,"") -> 12.5 | E8: =Subgunningscriteria!F7 -> 1000000 | F8: =J8 -> 0 | G8: ='Beoordelingen Kwaliteit'!F8/Informatie!$B$5*E8 -> 0 | J8: =IF(AVERAGE(K8:N8)<3,0,IF(AVERAGE(K8:N8)<4,3,IF(AVERAGE(K8:N8)<6,5,IF(AVERAGE(K8:N8)<8,7,9)))) -> 0 | K8: 0 | L8: 0 | M8: 0 | N8: 0
A9: =IF($A8="","",$A8) -> Inschrijver1 | B9: =IF(Subgunningscriteria!G8="JA",Subgunningscriteria!C8,"") -> K3.1 | C9: =IF(Subgunningscriteria!G8="JA",Subgunningscriteria!D8,"") -> Logistiek & duurzaamheid | Logistiek van leveringen en retourszendingen | D9: =IF(Subgunningscriteria!G8="JA",Subgunningscriteria!E8,"") -> 12.5 | E9: =Subgunningscriteria!F8 -> 1000000 | F9: =J9 -> 0 | G9: ='Beoordelingen Kwaliteit'!F9/Informatie!$B$5*E9 -> 0 | J9: =IF(AVERAGE(K9:N9)<3,0,IF(AVERAGE(K9:N9)<4,3,IF(AVERAGE(K9:N9)<6,5,IF(AVERAGE(K9:N9)<8,7,9)))) -> 0 | K9: 0 | L9: 0 | M9: 0 | N9: 0
A10: =IF($A9="","",$A9) -> Inschrijver1 | B10: =IF(Subgunningscriteria!G9="JA",Subgunningscriteria!C9,"") -> K3.2 | C10: =IF(Subgunningscriteria!G9="JA",Subgunningscriteria!D9,"") -> Logistiek & duurzaamheid | Duurzaamheid, waaronder bijvoorbeeld circulair gebruik, verlenging van de levensduur, energieverbruik, verpakkingen, transportbewegingen en/of retourstromen | D10: =IF(Subgunningscriteria!G9="JA",Subgunningscriteria!E9,"") -> 12.5 | E10: =Subgunningscriteria!F9 -> 1000000 | F10: =J10 -> 0 | G10: ='Beoordelingen Kwaliteit'!F10/Informatie!$B$5*E10 -> 0 | J10: =IF(AVERAGE(K10:N10)<3,0,IF(AVERAGE(K10:N10)<4,3,IF(AVERAGE(K10:N10)<6,5,IF(AVERAGE(K10:N10)<8,7,9)))) -> 0 | K10: 0 | L10: 0 | M10: 0 | N10: 0
A11: =IF($A10="","",$A10) -> Inschrijver1 | D11: =IF(Subgunningscriteria!G10="JA",Subgunningscriteria!E10,"") | G11: ='Beoordelingen Kwaliteit'!F11/Informatie!$B$5*E11 -> 0
A12: =IF($A11="","",$A11) -> Inschrijver1 | D12: =IF(Subgunningscriteria!G11="JA",Subgunningscriteria!E11,"") | G12: ='Beoordelingen Kwaliteit'!F12/Informatie!$B$5*E12 -> 0
A13: =IF($A12="","",$A12) -> Inschrijver1 | D13: =IF(Subgunningscriteria!G12="JA",Subgunningscriteria!E12,"") | G13: ='Beoordelingen Kwaliteit'!F13/Informatie!$B$5*E13 -> 0
A14: =IF($A13="","",$A13) -> Inschrijver1 | D14: =IF(Subgunningscriteria!G13="JA",Subgunningscriteria!E13,"") | G14: ='Beoordelingen Kwaliteit'!F14/Informatie!$B$5*E14 -> 0
A15: =IF($A14="","",$A14) -> Inschrijver1 | D15: =IF(Subgunningscriteria!G14="JA",Subgunningscriteria!E14,"") | G15: ='Beoordelingen Kwaliteit'!F15/Informatie!$B$5*E15 -> 0
A16: =IF($A15="","",$A15) -> Inschrijver1 | D16: =IF(Subgunningscriteria!G15="JA",Subgunningscriteria!E15,"") | G16: ='Beoordelingen Kwaliteit'!F16/Informatie!$B$5*E16 -> 0
A17: =IF($A16="","",$A16) -> Inschrijver1 | D17: =IF(Subgunningscriteria!G16="JA",Subgunningscriteria!E16,"") | G17: ='Beoordelingen Kwaliteit'!F17/Informatie!$B$5*E17 -> 0
D18: Subtotaal | G18: =SUM(G4:G17) -> 0
A20: =IF(Inschrijvers!B3="","",Inschrijvers!B3) -> Inschrijver2
A21: =IF($A20="","",$A20) -> Inschrijver2 | B21: =IF(Subgunningscriteria!G2="JA",Subgunningscriteria!C2,"") -> P1 | C21: =IF(Subgunningscriteria!G2="JA",Subgunningscriteria!D2,"") -> Prijs | D21: =IF(Subgunningscriteria!G2="JA",Subgunningscriteria!E2,"") -> 100 | F21: n.v.t. | G21: n.v.t. | H21: Prijs wordt in het tabblad voor Beoordelingen Prijsinschrijvingen beoordeeld. | J21: n.v.t. | K21: n.v.t. | L21: n.v.t. | M21: n.v.t. | N21: n.v.t.
A22: =IF($A21="","",$A21) -> Inschrijver2 | B22: =IF(Subgunningscriteria!G3="JA",Subgunningscriteria!C3,"") -> K1.1 | C22: =IF(Subgunningscriteria!G3="JA",Subgunningscriteria!D3,"") -> Omgevingsomstandigheden & Dienstverlening | Marktschommelingen, materiaaltekorten, geopolitieke spanningen en andere leveringsonzekerheden | D22: =IF(Subgunningscriteria!G3="JA",Subgunningscriteria!E3,"") -> 16.667 | E22: =Subgunningscriteria!F3 -> 1333360 | F22: =J22 -> 0 | G22: =F22/Informatie!$B$5*E22 -> 0 | J22: =IF(AVERAGE(K22:N22)<3,0,IF(AVERAGE(K22:N22)<4,3,IF(AVERAGE(K22:N22)<6,5,IF(AVERAGE(K22:N22)<8,7,9)))) -> 0 | K22: 0 | L22: 0 | M22: 0 | N22: 0
A23: =IF($A22="","",$A22) -> Inschrijver2 | B23: =IF(Subgunningscriteria!G4="JA",Subgunningscriteria!C4,"") -> K1.2 | C23: =IF(Subgunningscriteria!G4="JA",Subgunningscriteria!D4,"") -> Omgevingsomstandigheden & Dienstverlening | Lifecycle management, productbeschikbaarheid, end-of-life verklaringen van vendors, het adviseren van opvolgmodellen en gelijkwaardige alternatieven, en de Productcatalogus | D23: =IF(Subgunningscriteria!G4="JA",Subgunningscriteria!E4,"") -> 16.667 | E23: =Subgunningscriteria!F4 -> 1333360 | F23: =J23 -> 0 | G23: =F23/Informatie!$B$5*E23 -> 0 | J23: =IF(AVERAGE(K23:N23)<3,0,IF(AVERAGE(K23:N23)<4,3,IF(AVERAGE(K23:N23)<6,5,IF(AVERAGE(K23:N23)<8,7,9)))) -> 0 | K23: 0 | L23: 0 | M23: 0 | N23: 0
A24: =IF($A23="","",$A23) -> Inschrijver2 | B24: =IF(Subgunningscriteria!G5="JA",Subgunningscriteria!C5,"") -> K1.3 | C24: =IF(Subgunningscriteria!G5="JA",Subgunningscriteria!D5,"") -> Omgevingsomstandigheden & Dienstverlening | Advisering aan de coöperatie en de doorontwikkeling van de KIEN-dienstverlening | D24: =IF(Subgunningscriteria!G5="JA",Subgunningscriteria!E5,"") -> 16.667 | E24: =Subgunningscriteria!F5 -> 1333360 | F24: =J24 -> 0 | G24: =F24/Informatie!$B$5*E24 -> 0 | J24: =IF(AVERAGE(K24:N24)<3,0,IF(AVERAGE(K24:N24)<4,3,IF(AVERAGE(K24:N24)<6,5,IF(AVERAGE(K24:N24)<8,7,9)))) -> 0 | K24: 0 | L24: 0 | M24: 0 | N24: 0
A25: =IF($A24="","",$A24) -> Inschrijver2 | B25: =IF(Subgunningscriteria!G6="JA",Subgunningscriteria!C6,"") -> K2.1 | C25: =IF(Subgunningscriteria!G6="JA",Subgunningscriteria!D6,"") -> Garanties & Reparaties | Garantieregeling zal vallen voor devices uit het Chromebook / Google Book Ecosysteem en het Microsoft Ecosysteem, en reparaties binnen de garantietermijn | D25: =IF(Subgunningscriteria!G6="JA",Subgunningscriteria!E6,"") -> 12.5 | E25: =Subgunningscriteria!F6 -> 1000000 | F25: =J25 -> 0 | G25: =F25/Informatie!$B$5*E25 -> 0 | J25: =IF(AVERAGE(K25:N25)<3,0,IF(AVERAGE(K25:N25)<4,3,IF(AVERAGE(K25:N25)<6,5,IF(AVERAGE(K25:N25)<8,7,9)))) -> 0 | K25: 0 | L25: 0 | M25: 0 | N25: 0
A26: =IF($A25="","",$A25) -> Inschrijver2 | B26: =IF(Subgunningscriteria!G7="JA",Subgunningscriteria!C7,"") -> K2.2 | C26: =IF(Subgunningscriteria!G7="JA",Subgunningscriteria!D7,"") -> Garanties & Reparaties | Reparaties buiten de garantietermijn, en organisatie van reparatiecapaciteit, doorlooptijd, on-site/off-site, onderdelenvoorziening en retourafhandeling | D26: =IF(Subgunningscriteria!G7="JA",Subgunningscriteria!E7,"") -> 12.5 | E26: =Subgunningscriteria!F7 -> 1000000 | F26: =J26 -> 0 | G26: =F26/Informatie!$B$5*E26 -> 0 | J26: =IF(AVERAGE(K26:N26)<3,0,IF(AVERAGE(K26:N26)<4,3,IF(AVERAGE(K26:N26)<6,5,IF(AVERAGE(K26:N26)<8,7,9)))) -> 0 | K26: 0 | L26: 0 | M26: 0 | N26: 0
A27: =IF($A26="","",$A26) -> Inschrijver2 | B27: =IF(Subgunningscriteria!G8="JA",Subgunningscriteria!C8,"") -> K3.1 | C27: =IF(Subgunningscriteria!G8="JA",Subgunningscriteria!D8,"") -> Logistiek & duurzaamheid | Logistiek van leveringen en retourszendingen | D27: =IF(Subgunningscriteria!G8="JA",Subgunningscriteria!E8,"") -> 12.5 | E27: =Subgunningscriteria!F8 -> 1000000 | F27: =J27 -> 0 | G27: =F27/Informatie!$B$5*E27 -> 0 | J27: =IF(AVERAGE(K27:N27)<3,0,IF(AVERAGE(K27:N27)<4,3,IF(AVERAGE(K27:N27)<6,5,IF(AVERAGE(K27:N27)<8,7,9)))) -> 0 | K27: 0 | L27: 0 | M27: 0 | N27: 0
A28: =IF($A27="","",$A27) -> Inschrijver2 | B28: =IF(Subgunningscriteria!G9="JA",Subgunningscriteria!C9,"") -> K3.2 | C28: =IF(Subgunningscriteria!G9="JA",Subgunningscriteria!D9,"") -> Logistiek & duurzaamheid | Duurzaamheid, waaronder bijvoorbeeld circulair gebruik, verlenging van de levensduur, energieverbruik, verpakkingen, transportbewegingen en/of retourstromen | D28: =IF(Subgunningscriteria!G9="JA",Subgunningscriteria!E9,"") -> 12.5 | E28: =Subgunningscriteria!F9 -> 1000000 | F28: =J28 -> 0 | G28: =F28/Informatie!$B$5*E28 -> 0 | J28: =IF(AVERAGE(K28:N28)<3,0,IF(AVERAGE(K28:N28)<4,3,IF(AVERAGE(K28:N28)<6,5,IF(AVERAGE(K28:N28)<8,7,9)))) -> 0 | K28: 0 | L28: 0 | M28: 0 | N28: 0
A29: =IF($A28="","",$A28) -> Inschrijver2 | G29: =F29/Informatie!$B$5*E29 -> 0
A30: =IF($A29="","",$A29) -> Inschrijver2 | G30: =F30/Informatie!$B$5*E30 -> 0
A31: =IF($A30="","",$A30) -> Inschrijver2 | G31: =F31/Informatie!$B$5*E31 -> 0
A32: =IF($A31="","",$A31) -> Inschrijver2 | G32: =F32/Informatie!$B$5*E32 -> 0
A33: =IF($A32="","",$A32) -> Inschrijver2 | G33: =F33/Informatie!$B$5*E33 -> 0
A34: =IF($A33="","",$A33) -> Inschrijver2 | G34: =F34/Informatie!$B$5*E34 -> 0
A35: =IF($A34="","",$A34) -> Inschrijver2 | G35: =F35/Informatie!$B$5*E35 -> 0
D36: Subtotaal | G36: =SUM(G21:G35) -> 0
A38: =IF(Inschrijvers!B4="","",Inschrijvers!B4) -> Inschrijver3
A39: =IF($A38="","",$A38) -> Inschrijver3 | B39: =IF(Subgunningscriteria!G2="JA",Subgunningscriteria!C2,"") -> P1 | C39: =IF(Subgunningscriteria!G2="JA",Subgunningscriteria!D2,"") -> Prijs | D39: =IF(Subgunningscriteria!G2="JA",Subgunningscriteria!E2,"") -> 100 | F39: n.v.t. | G39: n.v.t. | H39: Prijs wordt in het tabblad voor Beoordelingen Prijsinschrijvingen beoordeeld. | J39: n.v.t. | K39: n.v.t. | L39: n.v.t. | M39: n.v.t. | N39: n.v.t.
A40: =IF($A39="","",$A39) -> Inschrijver3 | B40: =IF(Subgunningscriteria!G3="JA",Subgunningscriteria!C3,"") -> K1.1 | C40: =IF(Subgunningscriteria!G3="JA",Subgunningscriteria!D3,"") -> Omgevingsomstandigheden & Dienstverlening | Marktschommelingen, materiaaltekorten, geopolitieke spanningen en andere leveringsonzekerheden | D40: =IF(Subgunningscriteria!G3="JA",Subgunningscriteria!E3,"") -> 16.667 | E40: =Subgunningscriteria!F3 -> 1333360 | F40: =J40 -> 0 | G40: =F40/Informatie!$B$5*E40 -> 0 | J40: =IF(AVERAGE(K40:N40)<3,0,IF(AVERAGE(K40:N40)<4,3,IF(AVERAGE(K40:N40)<6,5,IF(AVERAGE(K40:N40)<8,7,9)))) -> 0 | K40: 0 | L40: 0 | M40: 0 | N40: 0
A41: =IF($A40="","",$A40) -> Inschrijver3 | B41: =IF(Subgunningscriteria!G4="JA",Subgunningscriteria!C4,"") -> K1.2 | C41: =IF(Subgunningscriteria!G4="JA",Subgunningscriteria!D4,"") -> Omgevingsomstandigheden & Dienstverlening | Lifecycle management, productbeschikbaarheid, end-of-life verklaringen van vendors, het adviseren van opvolgmodellen en gelijkwaardige alternatieven, en de Productcatalogus | D41: =IF(Subgunningscriteria!G4="JA",Subgunningscriteria!E4,"") -> 16.667 | E41: =Subgunningscriteria!F4 -> 1333360 | F41: =J41 -> 0 | G41: =F41/Informatie!$B$5*E41 -> 0 | J41: =IF(AVERAGE(K41:N41)<3,0,IF(AVERAGE(K41:N41)<4,3,IF(AVERAGE(K41:N41)<6,5,IF(AVERAGE(K41:N41)<8,7,9)))) -> 0 | K41: 0 | L41: 0 | M41: 0 | N41: 0
A42: =IF($A41="","",$A41) -> Inschrijver3 | B42: =IF(Subgunningscriteria!G5="JA",Subgunningscriteria!C5,"") -> K1.3 | C42: =IF(Subgunningscriteria!G5="JA",Subgunningscriteria!D5,"") -> Omgevingsomstandigheden & Dienstverlening | Advisering aan de coöperatie en de doorontwikkeling van de KIEN-dienstverlening | D42: =IF(Subgunningscriteria!G5="JA",Subgunningscriteria!E5,"") -> 16.667 | E42: =Subgunningscriteria!F5 -> 1333360 | F42: =J42 -> 0 | G42: =F42/Informatie!$B$5*E42 -> 0 | J42: =IF(AVERAGE(K42:N42)<3,0,IF(AVERAGE(K42:N42)<4,3,IF(AVERAGE(K42:N42)<6,5,IF(AVERAGE(K42:N42)<8,7,9)))) -> 0 | K42: 0 | L42: 0 | M42: 0 | N42: 0
...

Sheet Beoordelingen Prijsinschrijving
A1: Inschrijver | B1: Inschrijfprijs | C1: Laagste prijs | D1: Prijspunten max | E1: Behaalde prijsscore
A2: =IF(Inschrijvers!B2="","",Inschrijvers!B2) -> Inschrijver1 | B2: 32500000 | C2: =MIN(B2:B11) -> 27500000 | D2: =Informatie!$B$12 -> 12000000 | E2: =IF(OR(B2="",B2=0),"",C2/B2*D2) -> 10153846
A3: =IF(Inschrijvers!B3="","",Inschrijvers!B3) -> Inschrijver2 | B3: 30000000 | C3: =MIN(B2:B11) -> 27500000 | D3: =Informatie!$B$12 -> 12000000 | E3: =IF(OR(B3="",B3=0),"",C3/B3*D3) -> 11000000
A4: =IF(Inschrijvers!B4="","",Inschrijvers!B4) -> Inschrijver3 | B4: 27500000 | C4: =MIN(B2:B11) -> 27500000 | D4: =Informatie!$B$12 -> 12000000 | E4: =IF(OR(B4="",B4=0),"",C4/B4*D4) -> 12000000
A5: =IF(Inschrijvers!B5="","",Inschrijvers!B5) -> Inschrijver4 | B5: 35000000 | C5: =MIN(B2:B11) -> 27500000 | D5: =Informatie!$B$12 -> 12000000 | E5: =IF(OR(B5="",B5=0),"",C5/B5*D5) -> 9428571.4
A6: =IF(Inschrijvers!B6="","",Inschrijvers!B6) -> Inschrijver5 | B6: 29000000 | C6: =MIN(B2:B11) -> 27500000 | D6: =Informatie!$B$12 -> 12000000 | E6: =IF(OR(B6="",B6=0),"",C6/B6*D6) -> 11379310
A7: =IF(Inschrijvers!B7="","",Inschrijvers!B7) | C7: =MIN(B2:B11) -> 27500000 | D7: =Informatie!$B$12 -> 12000000 | E7: =IF(OR(B7="",B7=0),"",C7/B7*D7)
A8: =IF(Inschrijvers!B8="","",Inschrijvers!B8) | C8: =MIN(B2:B11) -> 27500000 | D8: =Informatie!$B$12 -> 12000000 | E8: =IF(OR(B8="",B8=0),"",C8/B8*D8)
A9: =IF(Inschrijvers!B9="","",Inschrijvers!B9) | C9: =MIN(B2:B11) -> 27500000 | D9: =Informatie!$B$12 -> 12000000 | E9: =IF(OR(B9="",B9=0),"",C9/B9*D9)
A10: =IF(Inschrijvers!B10="","",Inschrijvers!B10) | C10: =MIN(B2:B11) -> 27500000 | D10: =Informatie!$B$12 -> 12000000 | E10: =IF(OR(B10="",B10=0),"",C10/B10*D10)
A11: =IF(Inschrijvers!B11="","",Inschrijvers!B11) | C11: =MIN(B2:B11) -> 27500000 | D11: =Informatie!$B$12 -> 12000000 | E11: =IF(OR(B11="",B11=0),"",C11/B11*D11)

Sheet Eindranglijst
A1: Inschrijver | B1: Kwaliteit subtotaal | C1: Prijsscore | D1: Totaalscore | E1: Rang | F1: Status
A2: =IF(Inschrijvers!B2="","",Inschrijvers!B2) -> Inschrijver1 | B2: ='Beoordelingen Kwaliteit'!G18 -> 0 | C2: ='Beoordelingen Prijsinschrijving'!E2 -> 10153846 | D2: =IF(A2="","",B2+C2) -> 10153846 | E2: =IF(D2="","",RANK(D2,$D$2:$D$11,0)) -> 4 | F2: =IF(E2=1,"Winnaar","Verliezer") -> Verliezer
A3: =IF(Inschrijvers!B3="","",Inschrijvers!B3) -> Inschrijver2 | B3: ='Beoordelingen Kwaliteit'!G36 -> 0 | C3: ='Beoordelingen Prijsinschrijving'!E3 -> 11000000 | D3: =IF(A3="","",B3+C3) -> 11000000 | E3: =IF(D3="","",RANK(D3,$D$2:$D$11,0)) -> 3 | F3: =IF(E3=1,"Winnaar","Verliezer") -> Verliezer
A4: =IF(Inschrijvers!B4="","",Inschrijvers!B4) -> Inschrijver3 | B4: ='Beoordelingen Kwaliteit'!G54 -> 0 | C4: ='Beoordelingen Prijsinschrijving'!E4 -> 12000000 | D4: =IF(A4="","",B4+C4) -> 12000000 | E4: =IF(D4="","",RANK(D4,$D$2:$D$11,0)) -> 1 | F4: =IF(E4=1,"Winnaar","Verliezer") -> Winnaar
A5: =IF(Inschrijvers!B5="","",Inschrijvers!B5) -> Inschrijver4 | B5: ='Beoordelingen Kwaliteit'!G72 -> 0 | C5: ='Beoordelingen Prijsinschrijving'!E5 -> 9428571.4 | D5: =IF(A5="","",B5+C5) -> 9428571.4 | E5: =IF(D5="","",RANK(D5,$D$2:$D$11,0)) -> 5 | F5: =IF(E5=1,"Winnaar","Verliezer") -> Verliezer
A6: =IF(Inschrijvers!B6="","",Inschrijvers!B6) -> Inschrijver5 | B6: ='Beoordelingen Kwaliteit'!G90 -> 0 | C6: ='Beoordelingen Prijsinschrijving'!E6 -> 11379310 | D6: =IF(A6="","",B6+C6) -> 11379310 | E6: =IF(D6="","",RANK(D6,$D$2:$D$11,0)) -> 2 | F6: =IF(E6=1,"Winnaar","Verliezer") -> Verliezer
A7: =IF(Inschrijvers!B7="","",Inschrijvers!B7) | B7: ='Beoordelingen Kwaliteit'!G108 -> #REF! | C7: ='Beoordelingen Prijsinschrijving'!E7 | D7: =IF(A7="","",B7+C7) | E7: =IF(D7="","",RANK(D7,$D$2:$D$11,0)) | F7: =IF(E7=1,"Winnaar","Verliezer") -> Verliezer
A8: =IF(Inschrijvers!B8="","",Inschrijvers!B8) | B8: ='Beoordelingen Kwaliteit'!G126 -> #REF! | C8: ='Beoordelingen Prijsinschrijving'!E8 | D8: =IF(A8="","",B8+C8) | E8: =IF(D8="","",RANK(D8,$D$2:$D$11,0)) | F8: =IF(E8=1,"Winnaar","Verliezer") -> Verliezer
A9: =IF(Inschrijvers!B9="","",Inschrijvers!B9) | B9: ='Beoordelingen Kwaliteit'!G144 -> #REF! | C9: ='Beoordelingen Prijsinschrijving'!E9 | D9: =IF(A9="","",B9+C9) | E9: =IF(D9="","",RANK(D9,$D$2:$D$11,0)) | F9: =IF(E9=1,"Winnaar","Verliezer") -> Verliezer
A10: =IF(Inschrijvers!B10="","",Inschrijvers!B10) | B10: ='Beoordelingen Kwaliteit'!G162 -> #REF! | C10: ='Beoordelingen Prijsinschrijving'!E10 | D10: =IF(A10="","",B10+C10) | E10: =IF(D10="","",RANK(D10,$D$2:$D$11,0)) | F10: =IF(E10=1,"Winnaar","Verliezer") -> Verliezer
A11: =IF(Inschrijvers!B11="","",Inschrijvers!B11) | B11: ='Beoordelingen Kwaliteit'!G180 -> #REF! | C11: ='Beoordelingen Prijsinschrijving'!E11 | D11: =IF(A11="","",B11+C11) | E11: =IF(D11="","",RANK(D11,$D$2:$D$11,0)) | F11: =IF(E11=1,"Winnaar","Verliezer") -> Verliezer
