Workbook

Sheet Informatie
C1: Toelichting
A2: Naam aanbesteding | B2: Werkplekapparatuur & Aanvullende Dienstverlening
A3: Versie | B3: 1.0
A4: Totaal aantal punten te verdienen | B4: 20000000
A5: Maximale kwaliteitsscore per subcriterium | B5: 9 | C5: Scores: 0, 3, 5, 7 of 9
A7: Criterium 1 | B7: Kwaliteit
A8: Punten | B8: =B4*B9 -> 8000000 | C8: Totaal aantal punten te verdienen voor kwaliteit
A9: Weging criterium 1 (%) | B9: 0.4
A11: Criterium 2 | B11: Prijs
A12: Punten | B12: =B4*B13 -> 12000000 | C12: Totaal aantal punten te verdienen voor Prijs
A13: Weging criterium 2 (%) | B13: 0.6
A15: Aantal inschrijvers | B15: =COUNTA(Inschrijvers!B2:B50) -> 5
A16: Prijsformule | B16: Laagste prijs / prijs inschrijver * prijspunten
A17: Controle som weging (%) | B17: =B9+B13 -> 1
A20: Controle | B20: Waarde | C20: Gewenst | D20: Opmerking
A21: Som hoofdwegingen | B21: =Informatie!B17 -> 1 | C21: 100 | D21: Moet 100 zijn
A22: Som actieve kwaliteitssubcriteria | B22: =SUMIFS(Subgunningscriteria!E:E,Subgunningscriteria!B:B,"Kwaliteit",Subgunningscriteria!G:G,"JA") -> 100.001 | C22: 100 | D22: Moet 100 zijn
A23: Som actieve prijssubcriteria | B23: =SUMIFS(Subgunningscriteria!E:E,Subgunningscriteria!B:B,"Prijs",Subgunningscriteria!G:G,"JA") -> 100 | C23: 100 | D23: Meestal 100
A24: Aantal ingevulde inschrijvers | B24: =COUNTA(Inschrijvers!B2:B50) -> 5 | D24: Ter controle

Sheet Inschrijvers
A1: Inschrijfnummer | B1: Naam Inschrijvende Entiteit
A2: 1 | B2: Inschrijver1
A3: 2 | B3: Inschrijver2
A4: 3 | B4: Inschrijver3
A5: 4 | B5: Inschrijver4
A6: 5 | B6: Inschrijver5
A7: 6
A8: 7
A9: 8
A10: 9
A11: 10

Sheet Subgunningscriteria
A1: Criteriumnummer | B1: Criterium | C1: Subcriterium | D1: Omschrijving | E1: Weging binnen hoofdcriterium (%) | F1: Punten per subcriterium o.b.v. weging | G1: Actief (JA/NEE)
A2: 1 | B2: Prijs | C2: P1 | D2: Prijs | E2: 100 | F2: =E2/100*Informatie!$B$12 -> 12000000 | G2: JA
A3: 2 | B3: Kwaliteit | C3: K1.1 | D3: Omgevingsomstandigheden & Dienstverlening | Marktschommelingen, materiaaltekorten, geopolitieke spanningen en andere leveringsonzekerheden | E3: 16.667 | F3: =E3/100*Informatie!$B$8 -> 1333360 | G3: JA
A4: 3 | B4: Kwaliteit | C4: K1.2 | D4: Omgevingsomstandigheden & Dienstverlening | Lifecycle management, productbeschikbaarheid, end-of-life verklaringen van vendors, het adviseren van opvolgmodellen en gelijkwaardige alternatieven, en de Productcatalogus | E4: 16.667 | F4: =E4/100*Informatie!$B$8 -> 1333360 | G4: JA
A5: 4 | B5: Kwaliteit | C5: K1.3 | D5: Omgevingsomstandigheden & Dienstverlening | Advisering aan de coöperatie en de doorontwikkeling van de KIEN-dienstverlening | E5: 16.667 | F5: =E5/100*Informatie!$B$8 -> 1333360 | G5: JA
A6: 5 | B6: Kwaliteit | C6: K2.1 | D6: Garanties & Reparaties | Garantieregeling zal vallen voor devices uit het Chromebook / Google Book Ecosysteem en het Microsoft Ecosysteem, en reparaties binnen de garantietermijn | E6: 12.5 | F6: =E6/100*Informatie!$B$8 -> 1000000 | G6: JA
A7: 6 | B7: Kwaliteit | C7: K2.2 | D7: Garanties & Reparaties | Reparaties buiten de garantietermijn, en organisatie van reparatiecapaciteit, doorlooptijd, on-site/off-site, onderdelenvoorziening en retourafhandeling | E7: 12.5 | F7: =E7/100*Informatie!$B$8 -> 1000000 | G7: JA
A8: 7 | B8: Kwaliteit | C8: K3.1 | D8: Logistiek & duurzaamheid | Logistiek van leveringen en retourszendingen | E8: 12.5 | F8: =E8/100*Informatie!$B$8 -> 1000000 | G8: JA
A9: 8 | B9: Kwaliteit | C9: K3.2 | D9: Logistiek & duurzaamheid | Duurzaamheid, waaronder bijvoorbeeld circulair gebruik, verlenging van de levensduur, energieverbruik, verpakkingen, transportbewegingen en/of retourstromen | E9: 12.5 | F9: =E9/100*Informatie!$B$8 -> 1000000 | G9: JA

Sheet Beoordelingen Kwaliteit
A1: Inschrijver | B1: Subcriterium | C1: Omschrijving | D1: Weging subcriterium (%) | E1: Maximum aantal punten per onderdeel | F1: Score | G1: Punten behaald | H1: Optionele toelichting | J1: Gemiddelde score | K1: Beoordeling: Manager ICT | L1: Beoordeling: Medewerker Serviceteam | M1: Beoordeling: Vertegenwoordiger Lid 1 | N1: Beoordeling: Vertegenwoordiger Lid 2
A2: =IF(Inschrijvers!B2="","",Inschrijvers!B2) -> Inschrijver1
A3: =IF($A2="","",$A2) -> Inschrijver1 | B3: =IF(Subgunningscriteria!G2="JA",Subgunningscriteria!C2,"") -> P1 | C3: =IF(Subgunningscriteria!G2="JA",Subgunningscriteria!D2,"") -> Prijs | D3: =IF(Subgunningscriteria!G2="JA",Subgunningscriteria!E2,"") -> 100 | F3: =J3 -> n.v.t. | G3: n.v.t. | H3: Prijs wordt in het tabblad voor Beoordelingen Prijsinschrijvingen beoordeeld. | J3: n.v.t. | K3: n.v.t. | L3: n.v.t. | M3: n.v.t. | N3: n.v.t.
A4: =IF($A3="","",$A3) -> Inschrijver1 | B4: =IF(Subgunningscriteria!G3="JA",Subgunningscriteria!C3,"") -> K1.1 | C4: =IF(Subgunningscriteria!G3="JA",Subgunningscriteria!D3,"") -> Omgevingsomstandigheden & Dienstverlening | Marktschommelingen, materiaaltekorten, geopolitieke spanningen en andere leveringsonzekerheden | D4: =IF(Subgunningscriteria!G3="JA",Subgunningscriteria!E3,"") -> 16.667 | E4: =Subgunningscriteria!F3 -> 1333360 | F4: =J4 -> 0 | G4: ='Beoordelingen Kwaliteit'!F4/Informatie!$B$5*E4 -> 0 | J4: =IF(AVERAGE(K4:N4)<3,0,IF(AVERAGE(K4:N4)<4,3,IF(AVERAGE(K4:N4)<6,5,IF(AVERAGE(K4:N4)<8,7,9)))) -> 0 | K4: 0 | L4: 0 | M4: 0 | N4: 0
A5: =IF($A4="","",$A4) -> Inschrijver1 | B5: =IF(Subgunningscriteria!G4="JA",Subgunningscriteria!C4,"") -> K1.2 | C5: =IF(Subgunningscriteria!G4="JA",Subgunningscriteria!D4,"") -> Omgevingsomstandigheden & Dienstverlening | Lifecycle management, productbeschikbaarheid, end-of-life verklaringen van vendors, het adviseren van opvolgmodellen en gelijkwaardige alternatieven, en de Productcatalogus | D5: =IF(Subgunningscriteria!G4="JA",Subgunningscriteria!E4,"") -> 16.667 | E5: =Subgunningscriteria!F4 -> 1333360 | F5: =J5 -> 0 | G5: ='Beoordelingen Kwaliteit'!F5/Informatie!$B$5*E5 -> 0 | J5: =IF(AVERAGE(K5:N5)<3,0,IF(AVERAGE(K5:N5)<4,3,IF(AVERAGE(K5:N5)<6,5,IF(AVERAGE(K5:N5)<8,7,9)))) -> 0 | K5: 0 | L5: 0 | M5: 0 | N5: 0
A6: =IF($A5="","",$A5) -> Inschrijver1 | B6: =IF(Subgunningscriteria!G5="JA",Subgunningscriteria!C5,"") -> K1.3 | C6: =IF(Subgunningscriteria!G5="JA",Subgunningscriteria!D5,"") -> Omgevingsomstandigheden & Dienstverlening | Advisering aan de coöperatie en de doorontwikkeling van de KIEN-dienstverlening | D6: =IF(Subgunningscriteria!G5="JA",Subgunningscriteria!E5,"") -> 16.667 | E6: =Subgunningscriteria!F5 -> 1333360 | F6: =J6 -> 0 | G6: ='Beoordelingen Kwaliteit'!F6/Informatie!$B$5*E6 -> 0 | J6: =IF(AVERAGE(K6:N6)<3,0,IF(AVERAGE(K6:N6)<4,3,IF(AVERAGE(K6:N6)<6,5,IF(AVERAGE(K6:N6)<8,7,9)))) -> 0 | K6: 0 | L6: 0 | M6: 0 | N6: 0
A7: =IF($A6="","",$A6) -> Inschrijver1 | B7: =IF(Subgunningscriteria!G6="JA",Subgunningscriteria!C6,"") -> K2.1 | C7: =IF(Subgunningscriteria!G6="JA",Subgunningscriteria!D6,"") -> Garanties & Reparaties | Garantieregeling zal vallen voor devices uit het Chromebook / Google Book Ecosysteem en het Microsoft Ecosysteem, en reparaties binnen de garantietermijn | D7: =IF(Subgunningscriteria!G6="JA",Subgunningscriteria!E6,"") -> 12.5 | E7: =Subgunningscriteria!F6 -> 1000000 | F7: =J7 -> 0 | G7: ='Beoordelingen Kwaliteit'!F7/Informatie!$B$5*E7 -> 0 | J7: =IF(AVERAGE(K7:N7)<3,0,IF(AVERAGE(K7:N7)<4,3,IF(AVERAGE(K7:N7)<6,5,IF(AVERAGE(K7:N7)<8,7,9)))) -> 0 | K7: 0 | L7: 0 | M7: 0 | N7: 0
A8: =IF($A7="","",$A7) -> Inschrijver1 | B8: =IF(Subgunningscriteria!G7="JA",Subgunningscriteria!C7,"") -> K2.2 | C8: =IF(Subgunningscriteria!G7="JA",Subgunningscriteria!D7,"") -> Garanties & Reparaties | Reparaties buiten de garantietermijn, en organisatie van reparatiecapaciteit, doorlooptijd, on-site/off-site, onderdelenvoorziening en retourafhandeling | D8: =IF(Subgunningscriteria!G7="JA",Subgunningscriteria!E7,"") -> 12.5 | E8: =Subgunningscriteria!F7 -> 1000000 | F8: =J8 -> 0 | G8: ='Beoordelingen Kwaliteit'!F8/Informatie!$B$5*E8 -> 0 | J8: =IF(AVERAGE(K8:N8)<3,0,IF(AVERAGE(K8:N8)<4,3,IF(AVERAGE(K8:N8)<6,5,IF(AVERAGE(K8:N8)<8,7,9)))) -> 0 | K8: 0 | L8: 0 | M8: 0 | N8: 0
A9: =IF($A8="","",$A8) -> Inschrijver1 | B9: =IF(Subgunningscriteria!G8="JA",Subgunningscriteria!C8,"") -> K3.1 | C9: =IF(Subgunningscriteria!G8="JA",Subgunningscriteria!D8,"") -> Logistiek & duurzaamheid | Logistiek van leveringen en retourszendingen | D9: =IF(Subgunningscriteria!G8="JA",Subgunningscriteria!E8,"") -> 12.5 | E9: =Subgunningscriteria!F8 -> 1000000 | F9: =J9 -> 0 | G9: ='Beoordelingen Kwaliteit'!F9/Informatie!$B$5*E9 -> 0 | J9: =IF(AVERAGE(K9:N9)<3,0,IF(AVERAGE(K9:N9)<4,3,IF(AVERAGE(K9:N9)<6,5,IF(AVERAGE(K9:N9)<8,7,9)))) -> 0 | K9: 0 | L9: 0 | M9: 0 | N9: 0
A10: =IF($A9="","",$A9) -> Inschrijver1 | B10: =IF(Subgunningscriteria!G9="JA",Subgunningscriteria!C9,"") -> K3.2 | C10: =IF(Subgunningscriteria!G9="JA",Subgunningscriteria!D9,"") -> Logistiek & duurzaamheid | Duurzaamheid, waaronder bijvoorbeeld circulair gebruik, verlenging van de levensduur, energieverbruik, verpakkingen, transportbewegingen en/of retourstromen | D10: =IF(Subgunningscriteria!G9="JA",Subgunningscriteria!E9,"") -> 12.5 | E10: =Subgunningscriteria!F9 -> 1000000 | F10: =J10 -> 0 | G10: ='Beoordelingen Kwaliteit'!F10/Informatie!$B$5*E10 -> 0 | J10: =IF(AVERAGE(K10:N10)<3,0,IF(AVERAGE(K10:N10)<4,3,IF(AVERAGE(K10:N10)<6,5,IF(AVERAGE(K10:N10)<8,7,9)))) -> 0 | K10: 0 | L10: 0 | M10: 0 | N10: 0
A11: =IF($A10="","",$A10) -> Inschrijver1 | D11: =IF(Subgunningscriteria!G10="JA",Subgunningscriteria!E10,"") | G11: ='Beoordelingen Kwaliteit'!F11/Informatie!$B$5*E11 -> 0
A12: =IF($A11="","",$A11) -> Inschrijver1 | D12: =IF(Subgunningscriteria!G11="JA",Subgunningscriteria!E11,"") | G12: ='Beoordelingen Kwaliteit'!F12/Informatie!$B$5*E12 -> 0
A13: =IF($A12="","",$A12) -> Inschrijver1 | D13: =IF(Subgunningscriteria!G12="JA",Subgunningscriteria!E12,"") | G13: ='Beoordelingen Kwaliteit'!F13/Informatie!$B$5*E13 -> 0
A14: =IF($A13="","",$A13) -> Inschrijver1 | D14: =IF(Subgunningscriteria!G13="JA",Subgunningscriteria!E13,"") | G14: ='Beoordelingen Kwaliteit'!F14/Informatie!$B$5*E14 -> 0
A15: =IF($A14="","",$A14) -> Inschrijver1 | D15: =IF(Subgunningscriteria!G14="JA",Subgunningscriteria!E14,"") | G15: ='Beoordelingen Kwaliteit'!F15/Informatie!$B$5*E15 -> 0
A16: =IF($A15="","",$A15) -> Inschrijver1 | D16: =IF(Subgunningscriteria!G15="JA",Subgunningscriteria!E15,"") | G16: ='Beoordelingen Kwaliteit'!F16/Informatie!$B$5*E16 -> 0
A17: =IF($A16="","",$A16) -> Inschrijver1 | D17: =IF(Subgunningscriteria!G16="JA",Subgunningscriteria!E16,"") | G17: ='Beoordelingen Kwaliteit'!F17/Informatie!$B$5*E17 -> 0
D18: Subtotaal | G18: =SUM(G4:G17) -> 0
A20: =IF(Inschrijvers!B3="","",Inschrijvers!B3) -> Inschrijver2
A21: =IF($A20="","",$A20) -> Inschrijver2 | B21: =IF(Subgunningscriteria!G2="JA",Subgunningscriteria!C2,"") -> P1 | C21: =IF(Subgunningscriteria!G2="JA",Subgunningscriteria!D2,"") -> Prijs | D21: =IF(Subgunningscriteria!G2="JA",Subgunningscriteria!E2,"") -> 100 | F21: n.v.t. | G21: n.v.t. | H21: Prijs wordt in het tabblad voor Beoordelingen Prijsinschrijvingen beoordeeld. | J21: n.v.t. | K21: n.v.t. | L21: n.v.t. | M21: n.v.t. | N21: n.v.t.
A22: =IF($A21="","",$A21) -> Inschrijver2 | B22: =IF(Subgunningscriteria!G3="JA",Subgunningscriteria!C3,"") -> K1.1 | C22: =IF(Subgunningscriteria!G3="JA",Subgunningscriteria!D3,"") -> Omgevingsomstandigheden & Dienstverlening | Marktschommelingen, materiaaltekorten, geopolitieke spanningen en andere leveringsonzekerheden | D22: =IF(Subgunningscriteria!G3="JA",Subgunningscriteria!E3,"") -> 16.667 | E22: =Subgunningscriteria!F3 -> 1333360 | F22: =J22 -> 0 | G22: =F22/Informatie!$B$5*E22 -> 0 | J22: =IF(AVERAGE(K22:N22)<3,0,IF(AVERAGE(K22:N22)<4,3,IF(AVERAGE(K22:N22)<6,5,IF(AVERAGE(K22:N22)<8,7,9)))) -> 0 | K22: 0 | L22: 0 | M22: 0 | N22: 0
A23: =IF($A22="","",$A22) -> Inschrijver2 | B23: =IF(Subgunningscriteria!G4="JA",Subgunningscriteria!C4,"") -> K1.2 | C23: =IF(Subgunningscriteria!G4="JA",Subgunningscriteria!D4,"") -> Omgevingsomstandigheden & Dienstverlening | Lifecycle management, productbeschikbaarheid, end-of-life verklaringen van vendors, het adviseren van opvolgmodellen en gelijkwaardige alternatieven, en de Productcatalogus | D23: =IF(Subgunningscriteria!G4="JA",Subgunningscriteria!E4,"") -> 16.667 | E23: =Subgunningscriteria!F4 -> 1333360 | F23: =J23 -> 0 | G23: =F23/Informatie!$B$5*E23 -> 0 | J23: =IF(AVERAGE(K23:N23)<3,0,IF(AVERAGE(K23:N23)<4,3,IF(AVERAGE(K23:N23)<6,5,IF(AVERAGE(K23:N23)<8,7,9)))) -> 0 | K23: 0 | L23: 0 | M23: 0 | N23: 0
A24: =IF($A23="","",$A23) -> Inschrijver2 | B24: =IF(Subgunningscriteria!G5="JA",Subgunningscriteria!C5,"") -> K1.3 | C24: =IF(Subgunningscriteria!G5="JA",Subgunningscriteria!D5,"") -> Omgevingsomstandigheden & Dienstverlening | Advisering aan de coöperatie en de doorontwikkeling van de KIEN-dienstverlening | D24: =IF(Subgunningscriteria!G5="JA",Subgunningscriteria!E5,"") -> 16.667 | E24: =Subgunningscriteria!F5 -> 1333360 | F24: =J24 -> 0 | G24: =F24/Informatie!$B$5*E24 -> 0 | J24: =IF(AVERAGE(K24:N24)<3,0,IF(AVERAGE(K24:N24)<4,3,IF(AVERAGE(K24:N24)<6,5,IF(AVERAGE(K24:N24)<8,7,9)))) -> 0 | K24: 0 | L24: 0 | M24: 0 | N24: 0
A25: =IF($A24="","",$A24) -> Inschrijver2 | B25: =IF(Subgunningscriteria!G6="JA",Subgunningscriteria!C6,"") -> K2.1 | C25: =IF(Subgunningscriteria!G6="JA",Subgunningscriteria!D6,"") -> Garanties & Reparaties | Garantieregeling zal vallen voor devices uit het Chromebook / Google Book Ecosysteem en het Microsoft Ecosysteem, en reparaties binnen de garantietermijn | D25: =IF(Subgunningscriteria!G6="JA",Subgunningscriteria!E6,"") -> 12.5 | E25: =Subgunningscriteria!F6 -> 1000000 | F25: =J25 -> 0 | G25: =F25/Informatie!$B$5*E25 -> 0 | J25: =IF(AVERAGE(K25:N25)<3,0,IF(AVERAGE(K25:N25)<4,3,IF(AVERAGE(K25:N25)<6,5,IF(AVERAGE(K25:N25)<8,7,9)))) -> 0 | K25: 0 | L25: 0 | M25: 0 | N25: 0
A26: =IF($A25="","",$A25) -> Inschrijver2 | B26: =IF(Subgunningscriteria!G7="JA",Subgunningscriteria!C7,"") -> K2.2 | C26: =IF(Subgunningscriteria!G7="JA",Subgunningscriteria!D7,"") -> Garanties & Reparaties | Reparaties buiten de garantietermijn, en organisatie van reparatiecapaciteit, doorlooptijd, on-site/off-site, onderdelenvoorziening en retourafhandeling | D26: =IF(Subgunningscriteria!G7="JA",Subgunningscriteria!E7,"") -> 12.5 | E26: =Subgunningscriteria!F7 -> 1000000 | F26: =J26 -> 0 | G26: =F26/Informatie!$B$5*E26 -> 0 | J26: =IF(AVERAGE(K26:N26)<3,0,IF(AVERAGE(K26:N26)<4,3,IF(AVERAGE(K26:N26)<6,5,IF(AVERAGE(K26:N26)<8,7,9)))) -> 0 | K26: 0 | L26: 0 | M26: 0 | N26: 0
A27: =IF($A26="","",$A26) -> Inschrijver2 | B27: =IF(Subgunningscriteria!G8="JA",Subgunningscriteria!C8,"") -> K3.1 | C27: =IF(Subgunningscriteria!G8="JA",Subgunningscriteria!D8,"") -> Logistiek & duurzaamheid | Logistiek van leveringen en retourszendingen | D27: =IF(Subgunningscriteria!G8="JA",Subgunningscriteria!E8,"") -> 12.5 | E27: =Subgunningscriteria!F8 -> 1000000 | F27: =J27 -> 0 | G27: =F27/Informatie!$B$5*E27 -> 0 | J27: =IF(AVERAGE(K27:N27)<3,0,IF(AVERAGE(K27:N27)<4,3,IF(AVERAGE(K27:N27)<6,5,IF(AVERAGE(K27:N27)<8,7,9)))) -> 0 | K27: 0 | L27: 0 | M27: 0 | N27: 0
A28: =IF($A27="","",$A27) -> Inschrijver2 | B28: =IF(Subgunningscriteria!G9="JA",Subgunningscriteria!C9,"") -> K3.2 | C28: =IF(Subgunningscriteria!G9="JA",Subgunningscriteria!D9,"") -> Logistiek & duurzaamheid | Duurzaamheid, waaronder bijvoorbeeld circulair gebruik, verlenging van de levensduur, energieverbruik, verpakkingen, transportbewegingen en/of retourstromen | D28: =IF(Subgunningscriteria!G9="JA",Subgunningscriteria!E9,"") -> 12.5 | E28: =Subgunningscriteria!F9 -> 1000000 | F28: =J28 -> 0 | G28: =F28/Informatie!$B$5*E28 -> 0 | J28: =IF(AVERAGE(K28:N28)<3,0,IF(AVERAGE(K28:N28)<4,3,IF(AVERAGE(K28:N28)<6,5,IF(AVERAGE(K28:N28)<8,7,9)))) -> 0 | K28: 0 | L28: 0 | M28: 0 | N28: 0
A29: =IF($A28="","",$A28) -> Inschrijver2 | G29: =F29/Informatie!$B$5*E29 -> 0
A30: =IF($A29="","",$A29) -> Inschrijver2 | G30: =F30/Informatie!$B$5*E30 -> 0
A31: =IF($A30="","",$A30) -> Inschrijver2 | G31: =F31/Informatie!$B$5*E31 -> 0
A32: =IF($A31="","",$A31) -> Inschrijver2 | G32: =F32/Informatie!$B$5*E32 -> 0
A33: =IF($A32="","",$A32) -> Inschrijver2 | G33: =F33/Informatie!$B$5*E33 -> 0
A34: =IF($A33="","",$A33) -> Inschrijver2 | G34: =F34/Informatie!$B$5*E34 -> 0
A35: =IF($A34="","",$A34) -> Inschrijver2 | G35: =F35/Informatie!$B$5*E35 -> 0
D36: Subtotaal | G36: =SUM(G21:G35) -> 0
A38: =IF(Inschrijvers!B4="","",Inschrijvers!B4) -> Inschrijver3
A39: =IF($A38="","",$A38) -> Inschrijver3 | B39: =IF(Subgunningscriteria!G2="JA",Subgunningscriteria!C2,"") -> P1 | C39: =IF(Subgunningscriteria!G2="JA",Subgunningscriteria!D2,"") -> Prijs | D39: =IF(Subgunningscriteria!G2="JA",Subgunningscriteria!E2,"") -> 100 | F39: n.v.t. | G39: n.v.t. | H39: Prijs wordt in het tabblad voor Beoordelingen Prijsinschrijvingen beoordeeld. | J39: n.v.t. | K39: n.v.t. | L39: n.v.t. | M39: n.v.t. | N39: n.v.t.
A40: =IF($A39="","",$A39) -> Inschrijver3 | B40: =IF(Subgunningscriteria!G3="JA",Subgunningscriteria!C3,"") -> K1.1 | C40: =IF(Subgunningscriteria!G3="JA",Subgunningscriteria!D3,"") -> Omgevingsomstandigheden & Dienstverlening | Marktschommelingen, materiaaltekorten, geopolitieke spanningen en andere leveringsonzekerheden | D40: =IF(Subgunningscriteria!G3="JA",Subgunningscriteria!E3,"") -> 16.667 | E40: =Subgunningscriteria!F3 -> 1333360 | F40: =J40 -> 0 | G40: =F40/Informatie!$B$5*E40 -> 0 | J40: =IF(AVERAGE(K40:N40)<3,0,IF(AVERAGE(K40:N40)<4,3,IF(AVERAGE(K40:N40)<6,5,IF(AVERAGE(K40:N40)<8,7,9)))) -> 0 | K40: 0 | L40: 0 | M40: 0 | N40: 0
A41: =IF($A40="","",$A40) -> Inschrijver3 | B41: =IF(Subgunningscriteria!G4="JA",Subgunningscriteria!C4,"") -> K1.2 | C41: =IF(Subgunningscriteria!G4="JA",Subgunningscriteria!D4,"") -> Omgevingsomstandigheden & Dienstverlening | Lifecycle management, productbeschikbaarheid, end-of-life verklaringen van vendors, het adviseren van opvolgmodellen en gelijkwaardige alternatieven, en de Productcatalogus | D41: =IF(Subgunningscriteria!G4="JA",Subgunningscriteria!E4,"") -> 16.667 | E41: =Subgunningscriteria!F4 -> 1333360 | F41: =J41 -> 0 | G41: =F41/Informatie!$B$5*E41 -> 0 | J41: =IF(AVERAGE(K41:N41)<3,0,IF(AVERAGE(K41:N41)<4,3,IF(AVERAGE(K41:N41)<6,5,IF(AVERAGE(K41:N41)<8,7,9)))) -> 0 | K41: 0 | L41: 0 | M41: 0 | N41: 0
A42: =IF($A41="","",$A41) -> Inschrijver3 | B42: =IF(Subgunningscriteria!G5="JA",Subgunningscriteria!C5,"") -> K1.3 | C42: =IF(Subgunningscriteria!G5="JA",Subgunningscriteria!D5,"") -> Omgevingsomstandigheden & Dienstverlening | Advisering aan de coöperatie en de doorontwikkeling van de KIEN-dienstverlening | D42: =IF(Subgunningscriteria!G5="JA",Subgunningscriteria!E5,"") -> 16.667 | E42: =Subgunningscriteria!F5 -> 1333360 | F42: =J42 -> 0 | G42: =F42/Informatie!$B$5*E42 -> 0 | J42: =IF(AVERAGE(K42:N42)<3,0,IF(AVERAGE(K42:N42)<4,3,IF(AVERAGE(K42:N42)<6,5,IF(AVERAGE(K42:N42)<8,7,9)))) -> 0 | K42: 0 | L42: 0 | M42: 0 | N42: 0
A43: =IF($A42="","",$A42) -> Inschrijver3 | B43: =IF(Subgunningscriteria!G6="JA",Subgunningscriteria!C6,"") -> K2.1 | C43: =IF(Subgunningscriteria!G6="JA",Subgunningscriteria!D6,"") -> Garanties & Reparaties | Garantieregeling zal vallen voor devices uit het Chromebook / Google Book Ecosysteem en het Microsoft Ecosysteem, en reparaties binnen de garantietermijn | D43: =IF(Subgunningscriteria!G6="JA",Subgunningscriteria!E6,"") -> 12.5 | E43: =Subgunningscriteria!F6 -> 1000000 | F43: =J43 -> 0 | G43: =F43/Informatie!$B$5*E43 -> 0 | J43: =IF(AVERAGE(K43:N43)<3,0,IF(AVERAGE(K43:N43)<4,3,IF(AVERAGE(K43:N43)<6,5,IF(AVERAGE(K43:N43)<8,7,9)))) -> 0 | K43: 0 | L43: 0 | M43: 0 | N43: 0
A44: =IF($A43="","",$A43) -> Inschrijver3 | B44: =IF(Subgunningscriteria!G7="JA",Subgunningscriteria!C7,"") -> K2.2 | C44: =IF(Subgunningscriteria!G7="JA",Subgunningscriteria!D7,"") -> Garanties & Reparaties | Reparaties buiten de garantietermijn, en organisatie van reparatiecapaciteit, doorlooptijd, on-site/off-site, onderdelenvoorziening en retourafhandeling | D44: =IF(Subgunningscriteria!G7="JA",Subgunningscriteria!E7,"") -> 12.5 | E44: =Subgunningscriteria!F7 -> 1000000 | F44: =J44 -> 0 | G44: =F44/Informatie!$B$5*E44 -> 0 | J44: =IF(AVERAGE(K44:N44)<3,0,IF(AVERAGE(K44:N44)<4,3,IF(AVERAGE(K44:N44)<6,5,IF(AVERAGE(K44:N44)<8,7,9)))) -> 0 | K44: 0 | L44: 0 | M44: 0 | N44: 0
A45: =IF($A44="","",$A44) -> Inschrijver3 | B45: =IF(Subgunningscriteria!G8="JA",Subgunningscriteria!C8,"") -> K3.1 | C45: =IF(Subgunningscriteria!G8="JA",Subgunningscriteria!D8,"") -> Logistiek & duurzaamheid | Logistiek van leveringen en retourszendingen | D45: =IF(Subgunningscriteria!G8="JA",Subgunningscriteria!E8,"") -> 12.5 | E45: =Subgunningscriteria!F8 -> 1000000 | F45: =J45 -> 0 | G45: =F45/Informatie!$B$5*E45 -> 0 | J45: =IF(AVERAGE(K45:N45)<3,0,IF(AVERAGE(K45:N45)<4,3,IF(AVERAGE(K45:N45)<6,5,IF(AVERAGE(K45:N45)<8,7,9)))) -> 0 | K45: 0 | L45: 0 | M45: 0 | N45: 0
A46: =IF($A45="","",$A45) -> Inschrijver3 | B46: =IF(Subgunningscriteria!G9="JA",Subgunningscriteria!C9,"") -> K3.2 | C46: =IF(Subgunningscriteria!G9="JA",Subgunningscriteria!D9,"") -> Logistiek & duurzaamheid | Duurzaamheid, waaronder bijvoorbeeld circulair gebruik, verlenging van de levensduur, energieverbruik, verpakkingen, transportbewegingen en/of retourstromen | D46: =IF(Subgunningscriteria!G9="JA",Subgunningscriteria!E9,"") -> 12.5 | E46: =Subgunningscriteria!F9 -> 1000000 | F46: =J46 -> 0 | G46: =F46/Informatie!$B$5*E46 -> 0 | J46: =IF(AVERAGE(K46:N46)<3,0,IF(AVERAGE(K46:N46)<4,3,IF(AVERAGE(K46:N46)<6,5,IF(AVERAGE(K46:N46)<8,7,9)))) -> 0 | K46: 0 | L46: 0 | M46: 0 | N46: 0
A47: =IF($A46="","",$A46) -> Inschrijver3 | G47: =F47/Informatie!$B$5*E47 -> 0
A48: =IF($A47="","",$A47) -> Inschrijver3 | G48: =F48/Informatie!$B$5*E48 -> 0
A49: =IF($A48="","",$A48) -> Inschrijver3 | G49: =F49/Informatie!$B$5*E49 -> 0
A50: =IF($A49="","",$A49) -> Inschrijver3 | G50: =F50/Informatie!$B$5*E50 -> 0
A51: =IF($A50="","",$A50) -> Inschrijver3 | G51: =F51/Informatie!$B$5*E51 -> 0
A52: =IF($A51="","",$A51) -> Inschrijver3 | G52: =F52/Informatie!$B$5*E52 -> 0
A53: =IF($A52="","",$A52) -> Inschrijver3 | G53: =F53/Informatie!$B$5*E53 -> 0
D54: Subtotaal | G54: =SUM(G39:G53) -> 0
A56: =IF(Inschrijvers!B5="","",Inschrijvers!B5) -> Inschrijver4
A57: =IF($A56="","",$A56) -> Inschrijver4 | B57: =IF(Subgunningscriteria!G2="JA",Subgunningscriteria!C2,"") -> P1 | C57: =IF(Subgunningscriteria!G2="JA",Subgunningscriteria!D2,"") -> Prijs | D57: =IF(Subgunningscriteria!G2="JA",Subgunningscriteria!E2,"") -> 100 | F57: n.v.t. | G57: n.v.t. | H57: Prijs wordt in het tabblad voor Beoordelingen Prijsinschrijvingen beoordeeld. | J57: n.v.t. | K57: n.v.t. | L57: n.v.t. | M57: n.v.t. | N57: n.v.t.
A58: =IF($A57="","",$A57) -> Inschrijver4 | B58: =IF(Subgunningscriteria!G3="JA",Subgunningscriteria!C3,"") -> K1.1 | C58: =IF(Subgunningscriteria!G3="JA",Subgunningscriteria!D3,"") -> Omgevingsomstandigheden & Dienstverlening | Marktschommelingen, materiaaltekorten, geopolitieke spanningen en andere leveringsonzekerheden | D58: =IF(Subgunningscriteria!G3="JA",Subgunningscriteria!E3,"") -> 16.667 | E58: =Subgunningscriteria!F3 -> 1333360 | F58: =J58 -> 0 | G58: =F58/Informatie!$B$5*E58 -> 0 | J58: =IF(AVERAGE(K58:N58)<3,0,IF(AVERAGE(K58:N58)<4,3,IF(AVERAGE(K58:N58)<6,5,IF(AVERAGE(K58:N58)<8,7,9)))) -> 0 | K58: 0 | L58: 0 | M58: 0 | N58: 0
A59: =IF($A58="","",$A58) -> Inschrijver4 | B59: =IF(Subgunningscriteria!G4="JA",Subgunningscriteria!C4,"") -> K1.2 | C59: =IF(Subgunningscriteria!G4="JA",Subgunningscriteria!D4,"") -> Omgevingsomstandigheden & Dienstverlening | Lifecycle management, productbeschikbaarheid, end-of-life verklaringen van vendors, het adviseren van opvolgmodellen en gelijkwaardige alternatieven, en de Productcatalogus | D59: =IF(Subgunningscriteria!G4="JA",Subgunningscriteria!E4,"") -> 16.667 | E59: =Subgunningscriteria!F4 -> 1333360 | F59: =J59 -> 0 | G59: =F59/Informatie!$B$5*E59 -> 0 | J59: =IF(AVERAGE(K59:N59)<3,0,IF(AVERAGE(K59:N59)<4,3,IF(AVERAGE(K59:N59)<6,5,IF(AVERAGE(K59:N59)<8,7,9)))) -> 0 | K59: 0 | L59: 0 | M59: 0 | N59: 0
A60: =IF($A59="","",$A59) -> Inschrijver4 | B60: =IF(Subgunningscriteria!G5="JA",Subgunningscriteria!C5,"") -> K1.3 | C60: =IF(Subgunningscriteria!G5="JA",Subgunningscriteria!D5,"") -> Omgevingsomstandigheden & Dienstverlening | Advisering aan de coöperatie en de doorontwikkeling van de KIEN-dienstverlening | D60: =IF(Subgunningscriteria!G5="JA",Subgunningscriteria!E5,"") -> 16.667 | E60: =Subgunningscriteria!F5 -> 1333360 | F60: =J60 -> 0 | G60: =F60/Informatie!$B$5*E60 -> 0 | J60: =IF(AVERAGE(K60:N60)<3,0,IF(AVERAGE(K60:N60)<4,3,IF(AVERAGE(K60:N60)<6,5,IF(AVERAGE(K60:N60)<8,7,9)))) -> 0 | K60: 0 | L60: 0 | M60: 0 | N60: 0
A61: =IF($A60="","",$A60) -> Inschrijver4 | B61: =IF(Subgunningscriteria!G6="JA",Subgunningscriteria!C6,"") -> K2.1 | C61: =IF(Subgunningscriteria!G6="JA",Subgunningscriteria!D6,"") -> Garanties & Reparaties | Garantieregeling zal vallen voor devices uit het Chromebook / Google Book Ecosysteem en het Microsoft Ecosysteem, en reparaties binnen de garantietermijn | D61: =IF(Subgunningscriteria!G6="JA",Subgunningscriteria!E6,"") -> 12.5 | E61: =Subgunningscriteria!F6 -> 1000000 | F61: =J61 -> 0 | G61: =F61/Informatie!$B$5*E61 -> 0 | J61: =IF(AVERAGE(K61:N61)<3,0,IF(AVERAGE(K61:N61)<4,3,IF(AVERAGE(K61:N61)<6,5,IF(AVERAGE(K61:N61)<8,7,9)))) -> 0 | K61: 0 | L61: 0 | M61: 0 | N61: 0
A62: =IF($A61="","",$A61) -> Inschrijver4 | B62: =IF(Subgunningscriteria!G7="JA",Subgunningscriteria!C7,"") -> K2.2 | C62: =IF(Subgunningscriteria!G7="JA",Subgunningscriteria!D7,"") -> Garanties & Reparaties | Reparaties buiten de garantietermijn, en organisatie van reparatiecapaciteit, doorlooptijd, on-site/off-site, onderdelenvoorziening en retourafhandeling | D62: =IF(Subgunningscriteria!G7="JA",Subgunningscriteria!E7,"") -> 12.5 | E62: =Subgunningscriteria!F7 -> 1000000 | F62: =J62 -> 0 | G62: =F62/Informatie!$B$5*E62 -> 0 | J62: =IF(AVERAGE(K62:N62)<3,0,IF(AVERAGE(K62:N62)<4,3,IF(AVERAGE(K62:N62)<6,5,IF(AVERAGE(K62:N62)<8,7,9)))) -> 0 | K62: 0 | L62: 0 | M62: 0 | N62: 0
A63: =IF($A62="","",$A62) -> Inschrijver4 | B63: =IF(Subgunningscriteria!G8="JA",Subgunningscriteria!C8,"") -> K3.1 | C63: =IF(Subgunningscriteria!G8="JA",Subgunningscriteria!D8,"") -> Logistiek & duurzaamheid | Logistiek van leveringen en retourszendingen | D63: =IF(Subgunningscriteria!G8="JA",Subgunningscriteria!E8,"") -> 12.5 | E63: =Subgunningscriteria!F8 -> 1000000 | F63: =J63 -> 0 | G63: =F63/Informatie!$B$5*E63 -> 0 | J63: =IF(AVERAGE(K63:N63)<3,0,IF(AVERAGE(K63:N63)<4,3,IF(AVERAGE(K63:N63)<6,5,IF(AVERAGE(K63:N63)<8,7,9)))) -> 0 | K63: 0 | L63: 0 | M63: 0 | N63: 0
A64: =IF($A63="","",$A63) -> Inschrijver4 | B64: =IF(Subgunningscriteria!G9="JA",Subgunningscriteria!C9,"") -> K3.2 | C64: =IF(Subgunningscriteria!G9="JA",Subgunningscriteria!D9,"") -> Logistiek & duurzaamheid | Duurzaamheid, waaronder bijvoorbeeld circulair gebruik, verlenging van de levensduur, energieverbruik, verpakkingen, transportbewegingen en/of retourstromen | D64: =IF(Subgunningscriteria!G9="JA",Subgunningscriteria!E9,"") -> 12.5 | E64: =Subgunningscriteria!F9 -> 1000000 | F64: =J64 -> 0 | G64: =F64/Informatie!$B$5*E64 -> 0 | J64: =IF(AVERAGE(K64:N64)<3,0,IF(AVERAGE(K64:N64)<4,3,IF(AVERAGE(K64:N64)<6,5,IF(AVERAGE(K64:N64)<8,7,9)))) -> 0 | K64: 0 | L64: 0 | M64: 0 | N64: 0
A65: =IF($A64="","",$A64) -> Inschrijver4 | G65: =F65/Informatie!$B$5*E65 -> 0
A66: =IF($A65="","",$A65) -> Inschrijver4 | G66: =F66/Informatie!$B$5*E66 -> 0
A67: =IF($A66="","",$A66) -> Inschrijver4 | G67: =F67/Informatie!$B$5*E67 -> 0
A68: =IF($A67="","",$A67) -> Inschrijver4 | G68: =F68/Informatie!$B$5*E68 -> 0
A69: =IF($A68="","",$A68) -> Inschrijver4 | G69: =F69/Informatie!$B$5*E69 -> 0
A70: =IF($A69="","",$A69) -> Inschrijver4 | G70: =F70/Informatie!$B$5*E70 -> 0
A71: =IF($A70="","",$A70) -> Inschrijver4 | G71: =F71/Informatie!$B$5*E71 -> 0
D72: Subtotaal | G72: =SUM(G57:G71) -> 0
A74: =IF(Inschrijvers!B6="","",Inschrijvers!B6) -> Inschrijver5
A75: =IF($A74="","",$A74) -> Inschrijver5 | B75: =IF(Subgunningscriteria!G2="JA",Subgunningscriteria!C2,"") -> P1 | C75: =IF(Subgunningscriteria!G2="JA",Subgunningscriteria!D2,"") -> Prijs | D75: =IF(Subgunningscriteria!G2="JA",Subgunningscriteria!E2,"") -> 100 | F75: n.v.t. | G75: n.v.t. | H75: Prijs wordt in het tabblad voor Beoordelingen Prijsinschrijvingen beoordeeld. | J75: n.v.t. | K75: n.v.t. | L75: n.v.t. | M75: n.v.t. | N75: n.v.t.
A76: =IF($A75="","",$A75) -> Inschrijver5 | B76: =IF(Subgunningscriteria!G3="JA",Subgunningscriteria!C3,"") -> K1.1 | C76: =IF(Subgunningscriteria!G3="JA",Subgunningscriteria!D3,"") -> Omgevingsomstandigheden & Dienstverlening | Marktschommelingen, materiaaltekorten, geopolitieke spanningen en andere leveringsonzekerheden | D76: =IF(Subgunningscriteria!G3="JA",Subgunningscriteria!E3,"") -> 16.667 | E76: =Subgunningscriteria!F3 -> 1333360 | F76: =J76 -> 0 | G76: =F76/Informatie!$B$5*E76 -> 0 | J76: =IF(AVERAGE(K76:N76)<3,0,IF(AVERAGE(K76:N76)<4,3,IF(AVERAGE(K76:N76)<6,5,IF(AVERAGE(K76:N76)<8,7,9)))) -> 0 | K76: 0 | L76: 0 | M76: 0 | N76: 0
A77: =IF($A76="","",$A76) -> Inschrijver5 | B77: =IF(Subgunningscriteria!G4="JA",Subgunningscriteria!C4,"") -> K1.2 | C77: =IF(Subgunningscriteria!G4="JA",Subgunningscriteria!D4,"") -> Omgevingsomstandigheden & Dienstverlening | Lifecycle management, productbeschikbaarheid, end-of-life verklaringen van vendors, het adviseren van opvolgmodellen en gelijkwaardige alternatieven, en de Productcatalogus | D77: =IF(Subgunningscriteria!G4="JA",Subgunningscriteria!E4,"") -> 16.667 | E77: =Subgunningscriteria!F4 -> 1333360 | F77: =J77 -> 0 | G77: =F77/Informatie!$B$5*E77 -> 0 | J77: =IF(AVERAGE(K77:N77)<3,0,IF(AVERAGE(K77:N77)<4,3,IF(AVERAGE(K77:N77)<6,5,IF(AVERAGE(K77:N77)<8,7,9)))) -> 0 | K77: 0 | L77: 0 | M77: 0 | N77: 0
A78: =IF($A77="","",$A77) -> Inschrijver5 | B78: =IF(Subgunningscriteria!G5="JA",Subgunningscriteria!C5,"") -> K1.3 | C78: =IF(Subgunningscriteria!G5="JA",Subgunningscriteria!D5,"") -> Omgevingsomstandigheden & Dienstverlening | Advisering aan de coöperatie en de doorontwikkeling van de KIEN-dienstverlening | D78: =IF(Subgunningscriteria!G5="JA",Subgunningscriteria!E5,"") -> 16.667 | E78: =Subgunningscriteria!F5 -> 1333360 | F78: =J78 -> 0 | G78: =F78/Informatie!$B$5*E78 -> 0 | J78: =IF(AVERAGE(K78:N78)<3,0,IF(AVERAGE(K78:N78)<4,3,IF(AVERAGE(K78:N78)<6,5,IF(AVERAGE(K78:N78)<8,7,9)))) -> 0 | K78: 0 | L78: 0 | M78: 0 | N78: 0
A79: =IF($A78="","",$A78) -> Inschrijver5 | B79: =IF(Subgunningscriteria!G6="JA",Subgunningscriteria!C6,"") -> K2.1 | C79: =IF(Subgunningscriteria!G6="JA",Subgunningscriteria!D6,"") -> Garanties & Reparaties | Garantieregeling zal vallen voor devices uit het Chromebook / Google Book Ecosysteem en het Microsoft Ecosysteem, en reparaties binnen de garantietermijn | D79: =IF(Subgunningscriteria!G6="JA",Subgunningscriteria!E6,"") -> 12.5 | E79: =Subgunningscriteria!F6 -> 1000000 | F79: =J79 -> 0 | G79: =F79/Informatie!$B$5*E79 -> 0 | J79: =IF(AVERAGE(K79:N79)<3,0,IF(AVERAGE(K79:N79)<4,3,IF(AVERAGE(K79:N79)<6,5,IF(AVERAGE(K79:N79)<8,7,9)))) -> 0 | K79: 0 | L79: 0 | M79: 0 | N79: 0
A80: =IF($A79="","",$A79) -> Inschrijver5 | B80: =IF(Subgunningscriteria!G7="JA",Subgunningscriteria!C7,"") -> K2.2 | C80: =IF(Subgunningscriteria!G7="JA",Subgunningscriteria!D7,"") -> Garanties & Reparaties | Reparaties buiten de garantietermijn, en organisatie van reparatiecapaciteit, doorlooptijd, on-site/off-site, onderdelenvoorziening en retourafhandeling | D80: =IF(Subgunningscriteria!G7="JA",Subgunningscriteria!E7,"") -> 12.5 | E80: =Subgunningscriteria!F7 -> 1000000 | F80: =J80 -> 0 | G80: =F80/Informatie!$B$5*E80 -> 0 | J80: =IF(AVERAGE(K80:N80)<3,0,IF(AVERAGE(K80:N80)<4,3,IF(AVERAGE(K80:N80)<6,5,IF(AVERAGE(K80:N80)<8,7,9)))) -> 0 | K80: 0 | L80: 0 | M80: 0 | N80: 0
A81: =IF($A80="","",$A80) -> Inschrijver5 | B81: =IF(Subgunningscriteria!G8="JA",Subgunningscriteria!C8,"") -> K3.1 | C81: =IF(Subgunningscriteria!G8="JA",Subgunningscriteria!D8,"") -> Logistiek & duurzaamheid | Logistiek van leveringen en retourszendingen | D81: =IF(Subgunningscriteria!G8="JA",Subgunningscriteria!E8,"") -> 12.5 | E81: =Subgunningscriteria!F8 -> 1000000 | F81: =J81 -> 0 | G81: =F81/Informatie!$B$5*E81 -> 0 | J81: =IF(AVERAGE(K81:N81)<3,0,IF(AVERAGE(K81:N81)<4,3,IF(AVERAGE(K81:N81)<6,5,IF(AVERAGE(K81:N81)<8,7,9)))) -> 0 | K81: 0 | L81: 0 | M81: 0 | N81: 0
A82: =IF($A81="","",$A81) -> Inschrijver5 | B82: =IF(Subgunningscriteria!G9="JA",Subgunningscriteria!C9,"") -> K3.2 | C82: =IF(Subgunningscriteria!G9="JA",Subgunningscriteria!D9,"") -> Logistiek & duurzaamheid | Duurzaamheid, waaronder bijvoorbeeld circulair gebruik, verlenging van de levensduur, energieverbruik, verpakkingen, transportbewegingen en/of retourstromen | D82: =IF(Subgunningscriteria!G9="JA",Subgunningscriteria!E9,"") -> 12.5 | E82: =Subgunningscriteria!F9 -> 1000000 | F82: =J82 -> 0 | G82: =F82/Informatie!$B$5*E82 -> 0 | J82: =IF(AVERAGE(K82:N82)<3,0,IF(AVERAGE(K82:N82)<4,3,IF(AVERAGE(K82:N82)<6,5,IF(AVERAGE(K82:N82)<8,7,9)))) -> 0 | K82: 0 | L82: 0 | M82: 0 | N82: 0
A83: =IF($A82="","",$A82) -> Inschrijver5 | G83: =F83/Informatie!$B$5*E83 -> 0
A84: =IF($A83="","",$A83) -> Inschrijver5 | G84: =F84/Informatie!$B$5*E84 -> 0
A85: =IF($A84="","",$A84) -> Inschrijver5 | G85: =F85/Informatie!$B$5*E85 -> 0
A86: =IF($A85="","",$A85) -> Inschrijver5 | G86: =F86/Informatie!$B$5*E86 -> 0
A87: =IF($A86="","",$A86) -> Inschrijver5 | G87: =F87/Informatie!$B$5*E87 -> 0
A88: =IF($A87="","",$A87) -> Inschrijver5 | G88: =F88/Informatie!$B$5*E88 -> 0
A89: =IF($A88="","",$A88) -> Inschrijver5 | G89: =F89/Informatie!$B$5*E89 -> 0
D90: Subtotaal | G90: =SUM(G75:G89) -> 0
A92: =IF(Inschrijvers!B7="","",Inschrijvers!B7)
A93: =IF($A92="","",$A92) | B93: =IF(Subgunningscriteria!G2="JA",Subgunningscriteria!C2,"") -> P1 | C93: =IF(Subgunningscriteria!G2="JA",Subgunningscriteria!D2,"") -> Prijs | D93: =IF(Subgunningscriteria!G2="JA",Subgunningscriteria!E2,"") -> 100 | G93: =IF(OR(F93="",D93=""),"",F93*D93/100)
A94: =IF($A93="","",$A93) | B94: =IF(Subgunningscriteria!G3="JA",Subgunningscriteria!C3,"") -> K1.1 | C94: =IF(Subgunningscriteria!G3="JA",Subgunningscriteria!D3,"") -> Omgevingsomstandigheden & Dienstverlening | Marktschommelingen, materiaaltekorten, geopolitieke spanningen en andere leveringsonzekerheden | D94: =IF(Subgunningscriteria!G3="JA",Subgunningscriteria!E3,"") -> 16.667 | E94: =Subgunningscriteria!F3 -> 1333360 | G94: =F94/Informatie!$B$5*E94 -> 0
A95: =IF($A94="","",$A94) | B95: =IF(Subgunningscriteria!G4="JA",Subgunningscriteria!C4,"") -> K1.2 | C95: =IF(Subgunningscriteria!G4="JA",Subgunningscriteria!D4,"") -> Omgevingsomstandigheden & Dienstverlening | Lifecycle management, productbeschikbaarheid, end-of-life verklaringen van vendors, het adviseren van opvolgmodellen en gelijkwaardige alternatieven, en de Productcatalogus | D95: =IF(Subgunningscriteria!G4="JA",Subgunningscriteria!E4,"") -> 16.667 | E95: =Subgunningscriteria!F4 -> 1333360 | G95: =F95/Informatie!$B$5*E95 -> 0
A96: =IF($A95="","",$A95) | B96: =IF(Subgunningscriteria!G5="JA",Subgunningscriteria!C5,"") -> K1.3 | C96: =IF(Subgunningscriteria!G5="JA",Subgunningscriteria!D5,"") -> Omgevingsomstandigheden & Dienstverlening | Advisering aan de coöperatie en de doorontwikkeling van de KIEN-dienstverlening | D96: =IF(Subgunningscriteria!G5="JA",Subgunningscriteria!E5,"") -> 16.667 | E96: =Subgunningscriteria!F5 -> 1333360 | G96: =F96/Informatie!$B$5*E96 -> 0
A97: =IF($A96="","",$A96) | B97: =IF(Subgunningscriteria!G6="JA",Subgunningscriteria!C6,"") -> K2.1 | C97: =IF(Subgunningscriteria!G6="JA",Subgunningscriteria!D6,"") -> Garanties & Reparaties | Garantieregeling zal vallen voor devices uit het Chromebook / Google Book Ecosysteem en het Microsoft Ecosysteem, en reparaties binnen de garantietermijn | D97: =IF(Subgunningscriteria!G6="JA",Subgunningscriteria!E6,"") -> 12.5 | E97: =Subgunningscriteria!F6 -> 1000000 | G97: =F97/Informatie!$B$5*E97 -> 0
A98: =IF($A97="","",$A97) | B98: =IF(Subgunningscriteria!G7="JA",Subgunningscriteria!C7,"") -> K2.2 | C98: =IF(Subgunningscriteria!G7="JA",Subgunningscriteria!D7,"") -> Garanties & Reparaties | Reparaties buiten de garantietermijn, en organisatie van reparatiecapaciteit, doorlooptijd, on-site/off-site, onderdelenvoorziening en retourafhandeling | D98: =IF(Subgunningscriteria!G7="JA",Subgunningscriteria!E7,"") -> 12.5 | E98: =Subgunningscriteria!F7 -> 1000000 | G98: =F98/Informatie!$B$5*E98 -> 0
A99: =IF($A98="","",$A98) | B99: =IF(Subgunningscriteria!G8="JA",Subgunningscriteria!C8,"") -> K3.1 | C99: =IF(Subgunningscriteria!G8="JA",Subgunningscriteria!D8,"") -> Logistiek & duurzaamheid | Logistiek van leveringen en retourszendingen | D99: =IF(Subgunningscriteria!G8="JA",Subgunningscriteria!E8,"") -> 12.5 | E99: =Subgunningscriteria!F8 -> 1000000 | G99: =F99/Informatie!$B$5*E99 -> 0
A100: =IF($A99="","",$A99) | B100: =IF(Subgunningscriteria!G9="JA",Subgunningscriteria!C9,"") -> K3.2 | C100: =IF(Subgunningscriteria!G9="JA",Subgunningscriteria!D9,"") -> Logistiek & duurzaamheid | Duurzaamheid, waaronder bijvoorbeeld circulair gebruik, verlenging van de levensduur, energieverbruik, verpakkingen, transportbewegingen en/of retourstromen | D100: =IF(Subgunningscriteria!G9="JA",Subgunningscriteria!E9,"") -> 12.5 | E100: =Subgunningscriteria!F9 -> 1000000 | G100: =F100/Informatie!$B$5*E100 -> 0
A101: =IF($A100="","",$A100) | B101: =IF(Subgunningscriteria!#REF!="JA",Subgunningscriteria!#REF!,"") -> #REF! | C101: =IF(Subgunningscriteria!#REF!="JA",Subgunningscriteria!#REF!,"") -> #REF! | D101: =IF(Subgunningscriteria!#REF!="JA",Subgunningscriteria!#REF!,"") -> #REF! | E101: =Subgunningscriteria!#REF! -> #REF! | G101: =F101/Informatie!$B$5*E101 -> #REF!
A102: =IF($A101="","",$A101) | B102: =IF(Subgunningscriteria!#REF!="JA",Subgunningscriteria!#REF!,"") -> #REF! | C102: =IF(Subgunningscriteria!#REF!="JA",Subgunningscriteria!#REF!,"") -> #REF! | D102: =IF(Subgunningscriteria!#REF!="JA",Subgunningscriteria!#REF!,"") -> #REF! | E102: =Subgunningscriteria!#REF! -> #REF! | G102: =F102/Informatie!$B$5*E102 -> #REF!
A103: =IF($A102="","",$A102) | B103: =IF(Subgunningscriteria!#REF!="JA",Subgunningscriteria!#REF!,"") -> #REF! | C103: =IF(Subgunningscriteria!#REF!="JA",Subgunningscriteria!#REF!,"") -> #REF! | D103: =IF(Subgunningscriteria!#REF!="JA",Subgunningscriteria!#REF!,"") -> #REF! | E103: =Subgunningscriteria!#REF! -> #REF! | G103: =F103/Informatie!$B$5*E103 -> #REF!
A104: =IF($A103="","",$A103) | B104: =IF(Subgunningscriteria!#REF!="JA",Subgunningscriteria!#REF!,"") -> #REF! | C104: =IF(Subgunningscriteria!#REF!="JA",Subgunningscriteria!#REF!,"") -> #REF! | D104: =IF(Subgunningscriteria!#REF!="JA",Subgunningscriteria!#REF!,"") -> #REF! | E104: =Subgunningscriteria!#REF! -> #REF! | G104: =F104/Informatie!$B$5*E104 -> #REF!
A105: =IF($A104="","",$A104) | B105: =IF(Subgunningscriteria!#REF!="JA",Subgunningscriteria!#REF!,"") -> #REF! | C105: =IF(Subgunningscriteria!#REF!="JA",Subgunningscriteria!#REF!,"") -> #REF! | D105: =IF(Subgunningscriteria!#REF!="JA",Subgunningscriteria!#REF!,"") -> #REF! | E105: =Subgunningscriteria!#REF! -> #REF! | G105: =F105/Informatie!$B$5*E105 -> #REF!
...

Sheet Beoordelingen Prijsinschrijving
A1: Inschrijver | B1: Inschrijfprijs | C1: Laagste prijs | D1: Prijspunten max | E1: Behaalde prijsscore
A2: =IF(Inschrijvers!B2="","",Inschrijvers!B2) -> Inschrijver1 | B2: 32500000 | C2: =MIN(B2:B11) -> 27500000 | D2: =Informatie!$B$12 -> 12000000 | E2: =IF(OR(B2="",B2=0),"",C2/B2*D2) -> 10153846
A3: =IF(Inschrijvers!B3="","",Inschrijvers!B3) -> Inschrijver2 | B3: 30000000 | C3: =MIN(B2:B11) -> 27500000 | D3: =Informatie!$B$12 -> 12000000 | E3: =IF(OR(B3="",B3=0),"",C3/B3*D3) -> 11000000
A4: =IF(Inschrijvers!B4="","",Inschrijvers!B4) -> Inschrijver3 | B4: 27500000 | C4: =MIN(B2:B11) -> 27500000 | D4: =Informatie!$B$12 -> 12000000 | E4: =IF(OR(B4="",B4=0),"",C4/B4*D4) -> 12000000
A5: =IF(Inschrijvers!B5="","",Inschrijvers!B5) -> Inschrijver4 | B5: 35000000 | C5: =MIN(B2:B11) -> 27500000 | D5: =Informatie!$B$12 -> 12000000 | E5: =IF(OR(B5="",B5=0),"",C5/B5*D5) -> 9428571.4
A6: =IF(Inschrijvers!B6="","",Inschrijvers!B6) -> Inschrijver5 | B6: 29000000 | C6: =MIN(B2:B11) -> 27500000 | D6: =Informatie!$B$12 -> 12000000 | E6: =IF(OR(B6="",B6=0),"",C6/B6*D6) -> 11379310
A7: =IF(Inschrijvers!B7="","",Inschrijvers!B7) | C7: =MIN(B2:B11) -> 27500000 | D7: =Informatie!$B$12 -> 12000000 | E7: =IF(OR(B7="",B7=0),"",C7/B7*D7)
A8: =IF(Inschrijvers!B8="","",Inschrijvers!B8) | C8: =MIN(B2:B11) -> 27500000 | D8: =Informatie!$B$12 -> 12000000 | E8: =IF(OR(B8="",B8=0),"",C8/B8*D8)
A9: =IF(Inschrijvers!B9="","",Inschrijvers!B9) | C9: =MIN(B2:B11) -> 27500000 | D9: =Informatie!$B$12 -> 12000000 | E9: =IF(OR(B9="",B9=0),"",C9/B9*D9)
A10: =IF(Inschrijvers!B10="","",Inschrijvers!B10) | C10: =MIN(B2:B11) -> 27500000 | D10: =Informatie!$B$12 -> 12000000 | E10: =IF(OR(B10="",B10=0),"",C10/B10*D10)
A11: =IF(Inschrijvers!B11="","",Inschrijvers!B11) | C11: =MIN(B2:B11) -> 27500000 | D11: =Informatie!$B$12 -> 12000000 | E11: =IF(OR(B11="",B11=0),"",C11/B11*D11)

Sheet Eindranglijst
A1: Inschrijver | B1: Kwaliteit subtotaal | C1: Prijsscore | D1: Totaalscore | E1: Rang | F1: Status
A2: =IF(Inschrijvers!B2="","",Inschrijvers!B2) -> Inschrijver1 | B2: ='Beoordelingen Kwaliteit'!G18 -> 0 | C2: ='Beoordelingen Prijsinschrijving'!E2 -> 10153846 | D2: =IF(A2="","",B2+C2) -> 10153846 | E2: =IF(D2="","",RANK(D2,$D$2:$D$11,0)) -> 4 | F2: =IF(E2=1,"Winnaar","Verliezer") -> Verliezer
A3: =IF(Inschrijvers!B3="","",Inschrijvers!B3) -> Inschrijver2 | B3: ='Beoordelingen Kwaliteit'!G36 -> 0 | C3: ='Beoordelingen Prijsinschrijving'!E3 -> 11000000 | D3: =IF(A3="","",B3+C3) -> 11000000 | E3: =IF(D3="","",RANK(D3,$D$2:$D$11,0)) -> 3 | F3: =IF(E3=1,"Winnaar","Verliezer") -> Verliezer
A4: =IF(Inschrijvers!B4="","",Inschrijvers!B4) -> Inschrijver3 | B4: ='Beoordelingen Kwaliteit'!G54 -> 0 | C4: ='Beoordelingen Prijsinschrijving'!E4 -> 12000000 | D4: =IF(A4="","",B4+C4) -> 12000000 | E4: =IF(D4="","",RANK(D4,$D$2:$D$11,0)) -> 1 | F4: =IF(E4=1,"Winnaar","Verliezer") -> Winnaar
A5: =IF(Inschrijvers!B5="","",Inschrijvers!B5) -> Inschrijver4 | B5: ='Beoordelingen Kwaliteit'!G72 -> 0 | C5: ='Beoordelingen Prijsinschrijving'!E5 -> 9428571.4 | D5: =IF(A5="","",B5+C5) -> 9428571.4 | E5: =IF(D5="","",RANK(D5,$D$2:$D$11,0)) -> 5 | F5: =IF(E5=1,"Winnaar","Verliezer") -> Verliezer
A6: =IF(Inschrijvers!B6="","",Inschrijvers!B6) -> Inschrijver5 | B6: ='Beoordelingen Kwaliteit'!G90 -> 0 | C6: ='Beoordelingen Prijsinschrijving'!E6 -> 11379310 | D6: =IF(A6="","",B6+C6) -> 11379310 | E6: =IF(D6="","",RANK(D6,$D$2:$D$11,0)) -> 2 | F6: =IF(E6=1,"Winnaar","Verliezer") -> Verliezer
A7: =IF(Inschrijvers!B7="","",Inschrijvers!B7) | B7: ='Beoordelingen Kwaliteit'!G108 -> #REF! | C7: ='Beoordelingen Prijsinschrijving'!E7 | D7: =IF(A7="","",B7+C7) | E7: =IF(D7="","",RANK(D7,$D$2:$D$11,0)) | F7: =IF(E7=1,"Winnaar","Verliezer") -> Verliezer
A8: =IF(Inschrijvers!B8="","",Inschrijvers!B8) | B8: ='Beoordelingen Kwaliteit'!G126 -> #REF! | C8: ='Beoordelingen Prijsinschrijving'!E8 | D8: =IF(A8="","",B8+C8) | E8: =IF(D8="","",RANK(D8,$D$2:$D$11,0)) | F8: =IF(E8=1,"Winnaar","Verliezer") -> Verliezer
A9: =IF(Inschrijvers!B9="","",Inschrijvers!B9) | B9: ='Beoordelingen Kwaliteit'!G144 -> #REF! | C9: ='Beoordelingen Prijsinschrijving'!E9 | D9: =IF(A9="","",B9+C9) | E9: =IF(D9="","",RANK(D9,$D$2:$D$11,0)) | F9: =IF(E9=1,"Winnaar","Verliezer") -> Verliezer
A10: =IF(Inschrijvers!B10="","",Inschrijvers!B10) | B10: ='Beoordelingen Kwaliteit'!G162 -> #REF! | C10: ='Beoordelingen Prijsinschrijving'!E10 | D10: =IF(A10="","",B10+C10) | E10: =IF(D10="","",RANK(D10,$D$2:$D$11,0)) | F10: =IF(E10=1,"Winnaar","Verliezer") -> Verliezer
A11: =IF(Inschrijvers!B11="","",Inschrijvers!B11) | B11: ='Beoordelingen Kwaliteit'!G180 -> #REF! | C11: ='Beoordelingen Prijsinschrijving'!E11 | D11: =IF(A11="","",B11+C11) | E11: =IF(D11="","",RANK(D11,$D$2:$D$11,0)) | F11: =IF(E11=1,"Winnaar","Verliezer") -> Verliezer
