Workbook

Sheet Dashboard
A1: KPI Dashboard Schoonmaakonderhoud - Stichting Opspoor
A3: Rapportagemaand | B3: apr
A5: KPI | B5: Score | C5: Norm | D5: Gewicht | E5: Gewogen score | F5: Status | I5: Maand | J5: kwaliteit | K5: beleving | L5: facturatie
A6: Flexibele dienstverlening | B6: =IFERROR(AVERAGEIF(kwaliteit!$B:$B,$B$3,kwaliteit!$M:$M),0) -> 85.909091 | C6: ='Rapportage instellingen'!B5 -> 85 | D6: 0.76 | E6: =B6*D6 -> 65.290909 | F6: =IF(B6>=C6,"Groen",IF(B6>=70,"Oranje","Rood")) -> Groen | I6: Jan | J6: =IFERROR(AVERAGEIF(kwaliteit!$B:$B,$I6,kwaliteit!$M:$M),0) -> 0 | K6: =IFERROR(AVERAGEIF(beleving!$B:$B,$I6,beleving!$F:$F),0) -> 0 | L6: =IFERROR((COUNTIFS(facturatie!$A:$A,$I6,facturatie!$H:$H,"Goedgekeurd")+COUNTIFS(facturatie!$A:$A,$I6,facturatie!$H:$H,"Betaald"))/COUNTIF(facturatie!$A:$A,$I6)*100,0) -> 0
A7: Innovatie en digitalisering | B7: =IFERROR(AVERAGEIF(beleving!$B:$B,$B$3,beleving!$F:$F),0) -> 70 | C7: ='Rapportage instellingen'!B6 -> 70 | D7: 0.1 | E7: =B7*D7 -> 7 | F7: =IF(B7>=C7,"Groen",IF(B7>=70,"Oranje","Rood")) -> Groen | I7: Feb | J7: =IFERROR(AVERAGEIF(kwaliteit!$B:$B,$I7,kwaliteit!$M:$M),0) -> 0 | K7: =IFERROR(AVERAGEIF(beleving!$B:$B,$I7,beleving!$F:$F),0) -> 0 | L7: =IFERROR((COUNTIFS(facturatie!$A:$A,$I7,facturatie!$H:$H,"Goedgekeurd")+COUNTIFS(facturatie!$A:$A,$I7,facturatie!$H:$H,"Betaald"))/COUNTIF(facturatie!$A:$A,$I7)*100,0) -> 0
A8: Medewerkers en arbeidsmarkt | B8: =IFERROR((COUNTIFS(facturatie!$A:$A,$B$3,facturatie!$H:$H,"Goedgekeurd")+COUNTIFS(facturatie!$A:$A,$B$3,facturatie!$H:$H,"Betaald"))/COUNTIF(facturatie!$A:$A,$B$3)*100,0) -> 100 | C8: ='Rapportage instellingen'!B7 -> 98 | D8: 0.09 | E8: =B8*D8 -> 9 | F8: =IF(B8>=C8,"Groen",IF(B8>=70,"Oranje","Rood")) -> Groen | I8: Mrt | J8: =IFERROR(AVERAGEIF(kwaliteit!$B:$B,$I8,kwaliteit!$M:$M),0) -> 0 | K8: =IFERROR(AVERAGEIF(beleving!$B:$B,$I8,beleving!$F:$F),0) -> 0 | L8: =IFERROR((COUNTIFS(facturatie!$A:$A,$I8,facturatie!$H:$H,"Goedgekeurd")+COUNTIFS(facturatie!$A:$A,$I8,facturatie!$H:$H,"Betaald"))/COUNTIF(facturatie!$A:$A,$I8)*100,0) -> 0
A9: Samenwerking en gebruikersbeleving | B9: =IFERROR(COUNTIF('aanwezig VOG'!$E:$E,"Aanwezig")/COUNTA('aanwezig VOG'!$E:$E)*100,0) -> 0 | C9: ='Rapportage instellingen'!B8 -> 100 | D9: 0.05 | E9: =B9*D9 -> 0 | F9: =IF(B9>=C9,"Groen",IF(B9>=70,"Oranje","Rood")) -> Rood | I9: Apr | J9: =IFERROR(AVERAGEIF(kwaliteit!$B:$B,$I9,kwaliteit!$M:$M),0) -> 85.909091 | K9: =IFERROR(AVERAGEIF(beleving!$B:$B,$I9,beleving!$F:$F),0) -> 70 | L9: =IFERROR((COUNTIFS(facturatie!$A:$A,$I9,facturatie!$H:$H,"Goedgekeurd")+COUNTIFS(facturatie!$A:$A,$I9,facturatie!$H:$H,"Betaald"))/COUNTIF(facturatie!$A:$A,$I9)*100,0) -> 100
I10: Mei | J10: =IFERROR(AVERAGEIF(kwaliteit!$B:$B,$I10,kwaliteit!$M:$M),0) -> 0 | K10: =IFERROR(AVERAGEIF(beleving!$B:$B,$I10,beleving!$F:$F),0) -> 0 | L10: =IFERROR((COUNTIFS(facturatie!$A:$A,$I10,facturatie!$H:$H,"Goedgekeurd")+COUNTIFS(facturatie!$A:$A,$I10,facturatie!$H:$H,"Betaald"))/COUNTIF(facturatie!$A:$A,$I10)*100,0) -> 0
A11: Totaalscore | B11: =SUM(E6:E9) -> 81.290909 | C11: Norm | D11: =SUM(D6:D10) -> 1 | E11: Status | F11: =IF(B11>=85,"Groen",IF(B11>=70,"Oranje","Rood")) -> Oranje | I11: Jun | J11: =IFERROR(AVERAGEIF(kwaliteit!$B:$B,$I11,kwaliteit!$M:$M),0) -> 0 | K11: =IFERROR(AVERAGEIF(beleving!$B:$B,$I11,beleving!$F:$F),0) -> 0 | L11: =IFERROR((COUNTIFS(facturatie!$A:$A,$I11,facturatie!$H:$H,"Goedgekeurd")+COUNTIFS(facturatie!$A:$A,$I11,facturatie!$H:$H,"Betaald"))/COUNTIF(facturatie!$A:$A,$I11)*100,0) -> 0
I12: Jul | J12: =IFERROR(AVERAGEIF(kwaliteit!$B:$B,$I12,kwaliteit!$M:$M),0) -> 0 | K12: =IFERROR(AVERAGEIF(beleving!$B:$B,$I12,beleving!$F:$F),0) -> 0 | L12: =IFERROR((COUNTIFS(facturatie!$A:$A,$I12,facturatie!$H:$H,"Goedgekeurd")+COUNTIFS(facturatie!$A:$A,$I12,facturatie!$H:$H,"Betaald"))/COUNTIF(facturatie!$A:$A,$I12)*100,0) -> 0
I13: Aug | J13: =IFERROR(AVERAGEIF(kwaliteit!$B:$B,$I13,kwaliteit!$M:$M),0) -> 0 | K13: =IFERROR(AVERAGEIF(beleving!$B:$B,$I13,beleving!$F:$F),0) -> 0 | L13: =IFERROR((COUNTIFS(facturatie!$A:$A,$I13,facturatie!$H:$H,"Goedgekeurd")+COUNTIFS(facturatie!$A:$A,$I13,facturatie!$H:$H,"Betaald"))/COUNTIF(facturatie!$A:$A,$I13)*100,0) -> 0
A14: Locatieoverzicht geselecteerde maand | I14: Sep | J14: =IFERROR(AVERAGEIF(kwaliteit!$B:$B,$I14,kwaliteit!$M:$M),0) -> 0 | K14: =IFERROR(AVERAGEIF(beleving!$B:$B,$I14,beleving!$F:$F),0) -> 0 | L14: =IFERROR((COUNTIFS(facturatie!$A:$A,$I14,facturatie!$H:$H,"Goedgekeurd")+COUNTIFS(facturatie!$A:$A,$I14,facturatie!$H:$H,"Betaald"))/COUNTIF(facturatie!$A:$A,$I14)*100,0) -> 0
A15: Locatie | B15: kwaliteit | C15: beleving | D15: facturatie | E15: aanwezig VOG | F15: Totaal | G15: Status | I15: Okt | J15: =IFERROR(AVERAGEIF(kwaliteit!$B:$B,$I15,kwaliteit!$M:$M),0) -> 0 | K15: =IFERROR(AVERAGEIF(beleving!$B:$B,$I15,beleving!$F:$F),0) -> 0 | L15: =IFERROR((COUNTIFS(facturatie!$A:$A,$I15,facturatie!$H:$H,"Goedgekeurd")+COUNTIFS(facturatie!$A:$A,$I15,facturatie!$H:$H,"Betaald"))/COUNTIF(facturatie!$A:$A,$I15)*100,0) -> 0
A16: OBS De Blauwe Morgenster | B16: =IFERROR(AVERAGEIFS(kwaliteit!$M:$M,kwaliteit!$C:$C,$A16,kwaliteit!$B:$B,$B$3),0) -> 85.909091 | C16: =IFERROR(AVERAGEIFS(beleving!$F:$F,beleving!$C:$C,$A16,beleving!$B:$B,$B$3),0) -> 70 | D16: =IFERROR((COUNTIFS(facturatie!$B:$B,$A16,facturatie!$A:$A,$B$3,facturatie!$H:$H,"Goedgekeurd")+COUNTIFS(facturatie!$B:$B,$A16,facturatie!$A:$A,$B$3,facturatie!$H:$H,"Betaald"))/COUNTIFS(facturatie!$B:$B,$A16,facturatie!$A:$A,$B$3)*100,0) -> 100 | E16: =IFERROR(COUNTIFS('aanwezig VOG'!$A:$A,$A16,'aanwezig VOG'!$E:$E,"Aanwezig")/COUNTIF('aanwezig VOG'!$A:$A,$A16)*100,0) -> 0 | F16: =B16*0.76+C16*0.1+D16*0.9+E16*0.5 -> 162.29091 | G16: =IF(F16>=90,"Groen",IF(F16>=90,"Oranje","Rood")) -> Groen | I16: Nov | J16: =IFERROR(AVERAGEIF(kwaliteit!$B:$B,$I16,kwaliteit!$M:$M),0) -> 0 | K16: =IFERROR(AVERAGEIF(beleving!$B:$B,$I16,beleving!$F:$F),0) -> 0 | L16: =IFERROR((COUNTIFS(facturatie!$A:$A,$I16,facturatie!$H:$H,"Goedgekeurd")+COUNTIFS(facturatie!$A:$A,$I16,facturatie!$H:$H,"Betaald"))/COUNTIF(facturatie!$A:$A,$I16)*100,0) -> 0
A17: OBS Het Koningsspil | B17: =IFERROR(AVERAGEIFS(kwaliteit!$M:$M,kwaliteit!$C:$C,$A17,kwaliteit!$B:$B,$B$3),0) -> 0 | C17: =IFERROR(AVERAGEIFS(beleving!$F:$F,beleving!$C:$C,$A17,beleving!$B:$B,$B$3),0) -> 0 | D17: =IFERROR((COUNTIFS(facturatie!$B:$B,$A17,facturatie!$A:$A,$B$3,facturatie!$H:$H,"Goedgekeurd")+COUNTIFS(facturatie!$B:$B,$A17,facturatie!$A:$A,$B$3,facturatie!$H:$H,"Betaald"))/COUNTIFS(facturatie!$B:$B,$A17,facturatie!$A:$A,$B$3)*100,0) -> 0 | E17: =IFERROR(COUNTIFS('aanwezig VOG'!$A:$A,$A17,'aanwezig VOG'!$E:$E,"Aanwezig")/COUNTIF('aanwezig VOG'!$A:$A,$A17)*100,0) -> 0 | F17: =B17*0.35+C17*0.25+D17*0.2+E17*0.2 -> 0 | G17: =IF(F17>=85,"Groen",IF(F17>=70,"Oranje","Rood")) -> Rood | I17: Dec | J17: =IFERROR(AVERAGEIF(kwaliteit!$B:$B,$I17,kwaliteit!$M:$M),0) -> 0 | K17: =IFERROR(AVERAGEIF(beleving!$B:$B,$I17,beleving!$F:$F),0) -> 0 | L17: =IFERROR((COUNTIFS(facturatie!$A:$A,$I17,facturatie!$H:$H,"Goedgekeurd")+COUNTIFS(facturatie!$A:$A,$I17,facturatie!$H:$H,"Betaald"))/COUNTIF(facturatie!$A:$A,$I17)*100,0) -> 0
A18: OBS Meester Haye | B18: =IFERROR(AVERAGEIFS(kwaliteit!$M:$M,kwaliteit!$C:$C,$A18,kwaliteit!$B:$B,$B$3),0) -> 0 | C18: =IFERROR(AVERAGEIFS(beleving!$F:$F,beleving!$C:$C,$A18,beleving!$B:$B,$B$3),0) -> 0 | D18: =IFERROR((COUNTIFS(facturatie!$B:$B,$A18,facturatie!$A:$A,$B$3,facturatie!$H:$H,"Goedgekeurd")+COUNTIFS(facturatie!$B:$B,$A18,facturatie!$A:$A,$B$3,facturatie!$H:$H,"Betaald"))/COUNTIFS(facturatie!$B:$B,$A18,facturatie!$A:$A,$B$3)*100,0) -> 0 | E18: =IFERROR(COUNTIFS('aanwezig VOG'!$A:$A,$A18,'aanwezig VOG'!$E:$E,"Aanwezig")/COUNTIF('aanwezig VOG'!$A:$A,$A18)*100,0) -> 0 | F18: =B18*0.35+C18*0.25+D18*0.2+E18*0.2 -> 0 | G18: =IF(F18>=85,"Groen",IF(F18>=70,"Oranje","Rood")) -> Rood
A19: OBS Middelie | B19: =IFERROR(AVERAGEIFS(kwaliteit!$M:$M,kwaliteit!$C:$C,$A19,kwaliteit!$B:$B,$B$3),0) -> 0 | C19: =IFERROR(AVERAGEIFS(beleving!$F:$F,beleving!$C:$C,$A19,beleving!$B:$B,$B$3),0) -> 0 | D19: =IFERROR((COUNTIFS(facturatie!$B:$B,$A19,facturatie!$A:$A,$B$3,facturatie!$H:$H,"Goedgekeurd")+COUNTIFS(facturatie!$B:$B,$A19,facturatie!$A:$A,$B$3,facturatie!$H:$H,"Betaald"))/COUNTIFS(facturatie!$B:$B,$A19,facturatie!$A:$A,$B$3)*100,0) -> 0 | E19: =IFERROR(COUNTIFS('aanwezig VOG'!$A:$A,$A19,'aanwezig VOG'!$E:$E,"Aanwezig")/COUNTIF('aanwezig VOG'!$A:$A,$A19)*100,0) -> 0 | F19: =B19*0.35+C19*0.25+D19*0.2+E19*0.2 -> 0 | G19: =IF(F19>=85,"Groen",IF(F19>=70,"Oranje","Rood")) -> Rood
A20: OBS Prinses Beatrix | B20: =IFERROR(AVERAGEIFS(kwaliteit!$M:$M,kwaliteit!$C:$C,$A20,kwaliteit!$B:$B,$B$3),0) -> 0 | C20: =IFERROR(AVERAGEIFS(beleving!$F:$F,beleving!$C:$C,$A20,beleving!$B:$B,$B$3),0) -> 0 | D20: =IFERROR((COUNTIFS(facturatie!$B:$B,$A20,facturatie!$A:$A,$B$3,facturatie!$H:$H,"Goedgekeurd")+COUNTIFS(facturatie!$B:$B,$A20,facturatie!$A:$A,$B$3,facturatie!$H:$H,"Betaald"))/COUNTIFS(facturatie!$B:$B,$A20,facturatie!$A:$A,$B$3)*100,0) -> 0 | E20: =IFERROR(COUNTIFS('aanwezig VOG'!$A:$A,$A20,'aanwezig VOG'!$E:$E,"Aanwezig")/COUNTIF('aanwezig VOG'!$A:$A,$A20)*100,0) -> 0 | F20: =B20*0.35+C20*0.25+D20*0.2+E20*0.2 -> 0 | G20: =IF(F20>=85,"Groen",IF(F20>=70,"Oranje","Rood")) -> Rood
A21: OBS 't Tilletje | B21: =IFERROR(AVERAGEIFS(kwaliteit!$M:$M,kwaliteit!$C:$C,$A21,kwaliteit!$B:$B,$B$3),0) -> 0 | C21: =IFERROR(AVERAGEIFS(beleving!$F:$F,beleving!$C:$C,$A21,beleving!$B:$B,$B$3),0) -> 0 | D21: =IFERROR((COUNTIFS(facturatie!$B:$B,$A21,facturatie!$A:$A,$B$3,facturatie!$H:$H,"Goedgekeurd")+COUNTIFS(facturatie!$B:$B,$A21,facturatie!$A:$A,$B$3,facturatie!$H:$H,"Betaald"))/COUNTIFS(facturatie!$B:$B,$A21,facturatie!$A:$A,$B$3)*100,0) -> 0 | E21: =IFERROR(COUNTIFS('aanwezig VOG'!$A:$A,$A21,'aanwezig VOG'!$E:$E,"Aanwezig")/COUNTIF('aanwezig VOG'!$A:$A,$A21)*100,0) -> 0 | F21: =B21*0.35+C21*0.25+D21*0.2+E21*0.2 -> 0 | G21: =IF(F21>=85,"Groen",IF(F21>=70,"Oranje","Rood")) -> Rood
A22: OBS De Bloeiende Perelaar | B22: =IFERROR(AVERAGEIFS(kwaliteit!$M:$M,kwaliteit!$C:$C,$A22,kwaliteit!$B:$B,$B$3),0) -> 0 | C22: =IFERROR(AVERAGEIFS(beleving!$F:$F,beleving!$C:$C,$A22,beleving!$B:$B,$B$3),0) -> 0 | D22: =IFERROR((COUNTIFS(facturatie!$B:$B,$A22,facturatie!$A:$A,$B$3,facturatie!$H:$H,"Goedgekeurd")+COUNTIFS(facturatie!$B:$B,$A22,facturatie!$A:$A,$B$3,facturatie!$H:$H,"Betaald"))/COUNTIFS(facturatie!$B:$B,$A22,facturatie!$A:$A,$B$3)*100,0) -> 0 | E22: =IFERROR(COUNTIFS('aanwezig VOG'!$A:$A,$A22,'aanwezig VOG'!$E:$E,"Aanwezig")/COUNTIF('aanwezig VOG'!$A:$A,$A22)*100,0) -> 0 | F22: =B22*0.35+C22*0.25+D22*0.2+E22*0.2 -> 0 | G22: =IF(F22>=85,"Groen",IF(F22>=70,"Oranje","Rood")) -> Rood
A23: OBS Gebouw Noord | B23: =IFERROR(AVERAGEIFS(kwaliteit!$M:$M,kwaliteit!$C:$C,$A23,kwaliteit!$B:$B,$B$3),0) -> 0 | C23: =IFERROR(AVERAGEIFS(beleving!$F:$F,beleving!$C:$C,$A23,beleving!$B:$B,$B$3),0) -> 0 | D23: =IFERROR((COUNTIFS(facturatie!$B:$B,$A23,facturatie!$A:$A,$B$3,facturatie!$H:$H,"Goedgekeurd")+COUNTIFS(facturatie!$B:$B,$A23,facturatie!$A:$A,$B$3,facturatie!$H:$H,"Betaald"))/COUNTIFS(facturatie!$B:$B,$A23,facturatie!$A:$A,$B$3)*100,0) -> 0 | E23: =IFERROR(COUNTIFS('aanwezig VOG'!$A:$A,$A23,'aanwezig VOG'!$E:$E,"Aanwezig")/COUNTIF('aanwezig VOG'!$A:$A,$A23)*100,0) -> 0 | F23: =B23*0.35+C23*0.25+D23*0.2+E23*0.2 -> 0 | G23: =IF(F23>=85,"Groen",IF(F23>=70,"Oranje","Rood")) -> Rood
A24: Martin Luther Kingschool | B24: =IFERROR(AVERAGEIFS(kwaliteit!$M:$M,kwaliteit!$C:$C,$A24,kwaliteit!$B:$B,$B$3),0) -> 0 | C24: =IFERROR(AVERAGEIFS(beleving!$F:$F,beleving!$C:$C,$A24,beleving!$B:$B,$B$3),0) -> 0 | D24: =IFERROR((COUNTIFS(facturatie!$B:$B,$A24,facturatie!$A:$A,$B$3,facturatie!$H:$H,"Goedgekeurd")+COUNTIFS(facturatie!$B:$B,$A24,facturatie!$A:$A,$B$3,facturatie!$H:$H,"Betaald"))/COUNTIFS(facturatie!$B:$B,$A24,facturatie!$A:$A,$B$3)*100,0) -> 0 | E24: =IFERROR(COUNTIFS('aanwezig VOG'!$A:$A,$A24,'aanwezig VOG'!$E:$E,"Aanwezig")/COUNTIF('aanwezig VOG'!$A:$A,$A24)*100,0) -> 0 | F24: =B24*0.35+C24*0.25+D24*0.2+E24*0.2 -> 0 | G24: =IF(F24>=85,"Groen",IF(F24>=70,"Oranje","Rood")) -> Rood
A25: Martin Luther Kingschool bijgebouw | B25: =IFERROR(AVERAGEIFS(kwaliteit!$M:$M,kwaliteit!$C:$C,$A25,kwaliteit!$B:$B,$B$3),0) -> 0 | C25: =IFERROR(AVERAGEIFS(beleving!$F:$F,beleving!$C:$C,$A25,beleving!$B:$B,$B$3),0) -> 0 | D25: =IFERROR((COUNTIFS(facturatie!$B:$B,$A25,facturatie!$A:$A,$B$3,facturatie!$H:$H,"Goedgekeurd")+COUNTIFS(facturatie!$B:$B,$A25,facturatie!$A:$A,$B$3,facturatie!$H:$H,"Betaald"))/COUNTIFS(facturatie!$B:$B,$A25,facturatie!$A:$A,$B$3)*100,0) -> 0 | E25: =IFERROR(COUNTIFS('aanwezig VOG'!$A:$A,$A25,'aanwezig VOG'!$E:$E,"Aanwezig")/COUNTIF('aanwezig VOG'!$A:$A,$A25)*100,0) -> 0 | F25: =B25*0.35+C25*0.25+D25*0.2+E25*0.2 -> 0 | G25: =IF(F25>=85,"Groen",IF(F25>=70,"Oranje","Rood")) -> Rood
A26: OBS 't Carrousel | B26: =IFERROR(AVERAGEIFS(kwaliteit!$M:$M,kwaliteit!$C:$C,$A26,kwaliteit!$B:$B,$B$3),0) -> 0 | C26: =IFERROR(AVERAGEIFS(beleving!$F:$F,beleving!$C:$C,$A26,beleving!$B:$B,$B$3),0) -> 0 | D26: =IFERROR((COUNTIFS(facturatie!$B:$B,$A26,facturatie!$A:$A,$B$3,facturatie!$H:$H,"Goedgekeurd")+COUNTIFS(facturatie!$B:$B,$A26,facturatie!$A:$A,$B$3,facturatie!$H:$H,"Betaald"))/COUNTIFS(facturatie!$B:$B,$A26,facturatie!$A:$A,$B$3)*100,0) -> 0 | E26: =IFERROR(COUNTIFS('aanwezig VOG'!$A:$A,$A26,'aanwezig VOG'!$E:$E,"Aanwezig")/COUNTIF('aanwezig VOG'!$A:$A,$A26)*100,0) -> 0 | F26: =B26*0.35+C26*0.25+D26*0.2+E26*0.2 -> 0 | G26: =IF(F26>=85,"Groen",IF(F26>=70,"Oranje","Rood")) -> Rood
A27: OBS De Weidevogels | B27: =IFERROR(AVERAGEIFS(kwaliteit!$M:$M,kwaliteit!$C:$C,$A27,kwaliteit!$B:$B,$B$3),0) -> 0 | C27: =IFERROR(AVERAGEIFS(beleving!$F:$F,beleving!$C:$C,$A27,beleving!$B:$B,$B$3),0) -> 0 | D27: =IFERROR((COUNTIFS(facturatie!$B:$B,$A27,facturatie!$A:$A,$B$3,facturatie!$H:$H,"Goedgekeurd")+COUNTIFS(facturatie!$B:$B,$A27,facturatie!$A:$A,$B$3,facturatie!$H:$H,"Betaald"))/COUNTIFS(facturatie!$B:$B,$A27,facturatie!$A:$A,$B$3)*100,0) -> 0 | E27: =IFERROR(COUNTIFS('aanwezig VOG'!$A:$A,$A27,'aanwezig VOG'!$E:$E,"Aanwezig")/COUNTIF('aanwezig VOG'!$A:$A,$A27)*100,0) -> 0 | F27: =B27*0.35+C27*0.25+D27*0.2+E27*0.2 -> 0 | G27: =IF(F27>=85,"Groen",IF(F27>=70,"Oranje","Rood")) -> Rood
A28: KDV De Vlindertuin | B28: =IFERROR(AVERAGEIFS(kwaliteit!$M:$M,kwaliteit!$C:$C,$A28,kwaliteit!$B:$B,$B$3),0) -> 0 | C28: =IFERROR(AVERAGEIFS(beleving!$F:$F,beleving!$C:$C,$A28,beleving!$B:$B,$B$3),0) -> 0 | D28: =IFERROR((COUNTIFS(facturatie!$B:$B,$A28,facturatie!$A:$A,$B$3,facturatie!$H:$H,"Goedgekeurd")+COUNTIFS(facturatie!$B:$B,$A28,facturatie!$A:$A,$B$3,facturatie!$H:$H,"Betaald"))/COUNTIFS(facturatie!$B:$B,$A28,facturatie!$A:$A,$B$3)*100,0) -> 0 | E28: =IFERROR(COUNTIFS('aanwezig VOG'!$A:$A,$A28,'aanwezig VOG'!$E:$E,"Aanwezig")/COUNTIF('aanwezig VOG'!$A:$A,$A28)*100,0) -> 0 | F28: =B28*0.35+C28*0.25+D28*0.2+E28*0.2 -> 0 | G28: =IF(F28>=85,"Groen",IF(F28>=70,"Oranje","Rood")) -> Rood
A29: OBS De Weide dependance | B29: =IFERROR(AVERAGEIFS(kwaliteit!$M:$M,kwaliteit!$C:$C,$A29,kwaliteit!$B:$B,$B$3),0) -> 0 | C29: =IFERROR(AVERAGEIFS(beleving!$F:$F,beleving!$C:$C,$A29,beleving!$B:$B,$B$3),0) -> 0 | D29: =IFERROR((COUNTIFS(facturatie!$B:$B,$A29,facturatie!$A:$A,$B$3,facturatie!$H:$H,"Goedgekeurd")+COUNTIFS(facturatie!$B:$B,$A29,facturatie!$A:$A,$B$3,facturatie!$H:$H,"Betaald"))/COUNTIFS(facturatie!$B:$B,$A29,facturatie!$A:$A,$B$3)*100,0) -> 0 | E29: =IFERROR(COUNTIFS('aanwezig VOG'!$A:$A,$A29,'aanwezig VOG'!$E:$E,"Aanwezig")/COUNTIF('aanwezig VOG'!$A:$A,$A29)*100,0) -> 0 | F29: =B29*0.35+C29*0.25+D29*0.2+E29*0.2 -> 0 | G29: =IF(F29>=85,"Groen",IF(F29>=70,"Oranje","Rood")) -> Rood
... A57: Locatie 42 | B57: =IFERROR(AVERAGEIFS(kwaliteit!$M:$M,kwaliteit!$C:$C,$A57,kwaliteit!$B:$B,$B$3),0) -> 0 | C57: =IFERROR(AVERAGEIFS(beleving!$F:$F,beleving!$C:$C,$A57,beleving!$B:$B,$B$3),0) -> 0 | D57: =IFERROR((COUNTIFS(facturatie!$B:$B,$A57,facturatie!$A:$A,$B$3,facturatie!$H:$H,"Goedgekeurd")+COUNTIFS(facturatie!$B:$B,$A57,facturatie!$A:$A,$B$3,facturatie!$H:$H,"Betaald"))/COUNTIFS(facturatie!$B:$B,$A57,facturatie!$A:$A,$B$3)*100,0) -> 0 | E57: =IFERROR(COUNTIFS('aanwezig VOG'!$A:$A,$A57,'aanwezig VOG'!$E:$E,"Aanwezig")/COUNTIF('aanwezig VOG'!$A:$A,$A57)*100,0) -> 0 | F57: =B57*0.35+C57*0.25+D57*0.2+E57*0.2 -> 0 | G57: =IF(F57>=85,"Groen",IF(F57>=70,"Oranje","Rood")) -> Rood
A97: Automatische rapportage op basis van gekozen maand in tab "Rapportage instellingen"
A98: Gebruik
A99: 1) Vul de invoertabs. 2) Kies maand en locatie in "Rapportage instellingen". 3) Gebruik "Maandrapport" of "Locatierapport" om te printen/exporteren naar PDF. 4) Gebruik "Actieoverzicht" voor opvolging.

Sheet kwaliteit
A1: Datum | B1: Maand | C1: Locatie | D1: Leslokaal fout | E1: Leslokaal gkg | F1: Leslokaal resultaat | G1: Verkeersruimte fout | H1: Verkeersruimte gkg | I1: Verkeersruimte resultaat | J1: Sanitaire ruimte fout | K1: Sanitaire ruimte gkg | L1: Sanitaire ruimte resultaat | M1: Inspectiescore (%) | N1: Norm (%) | O1: Afwijking | P1: Actie nodig | Q1: Status | R1: Opmerking
A2: 46116 | B2: Apr | C2: OBS De Blauwe Morgenster | D2: 8 | E2: 7 | F2: =E2-D2 -> -1 | G2: 5 | H2: 5 | I2: =H2-G2 -> 0 | J2: 9 | K2: 9 | L2: 0.1 | M2: =IF(B2=0,0,(E2+H2+K2)/(D2+G2+J2)*90) -> 85.909091 | N2: 90 | O2: =IF(M2=0,0,M2-N2) -> -4.0909091 | P2: {=IF(M2=0,0,(_xlfn.IFS(M2>=90,"Nee",M2>=90,"Nee",M2<90,"Ja")))} -> Ja | Q2: =IF(P2=0,0,(IF(P2="Ja","Duidelijke verbeterpunten","Acceptabel"))) -> Duidelijke verbeterpunten | T2: Ja | U2: duidelijke verbeterpunten
C3: Locatie 2 | F3: =E3-D3 -> 0 | I3: =H3-G3 -> 0 | L3: =K3-J3 -> 0 | M3: =IF(B3=0,0,(E3+H3+K3)/(D3+G3+J3)*90) -> 0 | N3: 90 | O3: =IF(M3=0,0,M3-N3) -> 0 | P3: {=IF(M3=0,0,(_xlfn.IFS(M3>=90,"Nee",M3>=90,"Nee",M3<90,"Ja")))} -> 0 | Q3: =IF(P3=0,0,(IF(P3="Ja","Duidelijke verbeterpunten","Acceptabel"))) -> 0 | T3: Nee | U3: acceptabel
C4: Locatie 3 | F4: =E4-D4 -> 0 | I4: =H4-G4 -> 0 | L4: =K4-J4 -> 0 | M4: =IF(B4=0,0,(E4+H4+K4)/(D4+G4+J4)*90) -> 0 | N4: 90 | O4: =IF(M4=0,0,M4-N4) -> 0 | P4: {=IF(M4=0,0,(_xlfn.IFS(M4>=90,"Nee",M4>=90,"Nee",M4<90,"Ja")))} -> 0 | Q4: =IF(P4=0,0,(IF(P4="Ja","Duidelijke verbeterpunten","Acceptabel"))) -> 0
C5: Locatie 4 | F5: =E5-D5 -> 0 | I5: =H5-G5 -> 0 | L5: =K5-J5 -> 0 | M5: =IF(B5=0,0,(E5+H5+K5)/(D5+G5+J5)*90) -> 0 | N5: 90 | O5: =IF(M5=0,0,M5-N5) -> 0 | P5: {=IF(M5=0,0,(_xlfn.IFS(M5>=90,"Nee",M5>=90,"Nee",M5<90,"Ja")))} -> 0 | Q5: =IF(P5=0,0,(IF(P5="Ja","Duidelijke verbeterpunten","Acceptabel"))) -> 0
C6: Locatie 5 | F6: =E6-D6 -> 0 | I6: =H6-G6 -> 0 | L6: =K6-J6 -> 0 | M6: =IF(B6=0,0,(E6+H6+K6)/(D6+G6+J6)*90) -> 0 | N6: 90 | O6: =IF(M6=0,0,M6-N6) -> 0 | P6: {=IF(M6=0,0,(_xlfn.IFS(M6>=90,"Nee",M6>=90,"Nee",M6<90,"Ja")))} -> 0 | Q6: =IF(P6=0,0,(IF(P6="Ja","Duidelijke verbeterpunten","Acceptabel"))) -> 0
C7: Locatie 6 | F7: =E7-D7 -> 0 | I7: =H7-G7 -> 0 | L7: =K7-J7 -> 0 | M7: =IF(B7=0,0,(E7+H7+K7)/(D7+G7+J7)*90) -> 0 | N7: 90 | O7: =IF(M7=0,0,M7-N7) -> 0 | P7: {=IF(M7=0,0,(_xlfn.IFS(M7>=90,"Nee",M7>=90,"Nee",M7<90,"Ja")))} -> 0 | Q7: =IF(P7=0,0,(IF(P7="Ja","Duidelijke verbeterpunten","Acceptabel"))) -> 0
C8: Locatie 7 | F8: =E8-D8 -> 0 | I8: =H8-G8 -> 0 | L8: =K8-J8 -> 0 | M8: =IF(B8=0,0,(E8+H8+K8)/(D8+G8+J8)*90) -> 0 | N8: 90 | O8: =IF(M8=0,0,M8-N8) -> 0 | P8: {=IF(M8=0,0,(_xlfn.IFS(M8>=90,"Nee",M8>=90,"Nee",M8<90,"Ja")))} -> 0 | Q8: =IF(P8=0,0,(IF(P8="Ja","Duidelijke verbeterpunten","Acceptabel"))) -> 0
C9: Locatie 8 | F9: =E9-D9 -> 0 | I9: =H9-G9 -> 0 | L9: =K9-J9 -> 0 | M9: =IF(B9=0,0,(E9+H9+K9)/(D9+G9+J9)*90) -> 0 | N9: 90 | O9: =IF(M9=0,0,M9-N9) -> 0 | P9: {=IF(M9=0,0,(_xlfn.IFS(M9>=90,"Nee",M9>=90,"Nee",M9<90,"Ja")))} -> 0 | Q9: =IF(P9=0,0,(IF(P9="Ja","Duidelijke verbeterpunten","Acceptabel"))) -> 0
C10: Locatie 9 | F10: =E10-D10 -> 0 | I10: =H10-G10 -> 0 | L10: =K10-J10 -> 0 | M10: =IF(B10=0,0,(E10+H10+K10)/(D10+G10+J10)*90) -> 0 | N10: 90 | O10: =IF(M10=0,0,M10-N10) -> 0 | P10: {=IF(M10=0,0,(_xlfn.IFS(M10>=90,"Nee",M10>=90,"Nee",M10<90,"Ja")))} -> 0 | Q10: =IF(P10=0,0,(IF(P10="Ja","Duidelijke verbeterpunten","Acceptabel"))) -> 0
C11: Locatie 10 | F11: =E11-D11 -> 0 | I11: =H11-G11 -> 0 | L11: =K11-J11 -> 0 | M11: =IF(B11=0,0,(E11+H11+K11)/(D11+G11+J11)*90) -> 0 | N11: 90 | O11: =IF(M11=0,0,M11-N11) -> 0 | P11: {=IF(M11=0,0,(_xlfn.IFS(M11>=90,"Nee",M11>=90,"Nee",M11<90,"Ja")))} -> 0 | Q11: =IF(P11=0,0,(IF(P11="Ja","Duidelijke verbeterpunten","Acceptabel"))) -> 0
C12: Locatie 11 | F12: =E12-D12 -> 0 | I12: =H12-G12 -> 0 | L12: =K12-J12 -> 0 | M12: =IF(B12=0,0,(E12+H12+K12)/(D12+G12+J12)*90) -> 0 | N12: 90 | O12: =IF(M12=0,0,M12-N12) -> 0 | P12: {=IF(M12=0,0,(_xlfn.IFS(M12>=90,"Nee",M12>=90,"Nee",M12<90,"Ja")))} -> 0 | Q12: =IF(P12=0,0,(IF(P12="Ja","Duidelijke verbeterpunten","Acceptabel"))) -> 0
C13: Locatie 12 | F13: =E13-D13 -> 0 | I13: =H13-G13 -> 0 | L13: =K13-J13 -> 0 | M13: =IF(B13=0,0,(E13+H13+K13)/(D13+G13+J13)*90) -> 0 | N13: 90 | O13: =IF(M13=0,0,M13-N13) -> 0 | P13: {=IF(M13=0,0,(_xlfn.IFS(M13>=90,"Nee",M13>=90,"Nee",M13<90,"Ja")))} -> 0 | Q13: =IF(P13=0,0,(IF(P13="Ja","Duidelijke verbeterpunten","Acceptabel"))) -> 0
C14: Locatie 13 | F14: =E14-D14 -> 0 | I14: =H14-G14 -> 0 | L14: =K14-J14 -> 0 | M14: =IF(B14=0,0,(E14+H14+K14)/(D14+G14+J14)*90) -> 0 | N14: 90 | O14: =IF(M14=0,0,M14-N14) -> 0 | P14: {=IF(M14=0,0,(_xlfn.IFS(M14>=90,"Nee",M14>=90,"Nee",M14<90,"Ja")))} -> 0 | Q14: =IF(P14=0,0,(IF(P14="Ja","Duidelijke verbeterpunten","Acceptabel"))) -> 0
C15: Locatie 14 | F15: =E15-D15 -> 0 | I15: =H15-G15 -> 0 | L15: =K15-J15 -> 0 | M15: =IF(B15=0,0,(E15+H15+K15)/(D15+G15+J15)*90) -> 0 | N15: 90 | O15: =IF(M15=0,0,M15-N15) -> 0 | P15: {=IF(M15=0,0,(_xlfn.IFS(M15>=90,"Nee",M15>=90,"Nee",M15<90,"Ja")))} -> 0 | Q15: =IF(P15=0,0,(IF(P15="Ja","Duidelijke verbeterpunten","Acceptabel"))) -> 0
... C42: Locatie 41 | F42: =E42-D42 -> 0 | I42: =H42-G42 -> 0 | L42: =K42-J42 -> 0 | M42: =IF(B42=0,0,(E42+H42+K42)/(D42+G42+J42)*90) -> 0 | N42: 90 | O42: =IF(M42=0,0,M42-N42) -> 0 | P42: {=IF(M42=0,0,(_xlfn.IFS(M42>=90,"Nee",M42>=90,"Nee",M42<90,"Ja")))} -> 0 | Q42: =IF(P42=0,0,(IF(P42="Ja","Duidelijke verbeterpunten","Acceptabel"))) -> 0

Sheet beleving
A1: Datum | B1: Maand | C1: Locatie | D1: Doelgroep | E1: Tevredenheid 1-10 | F1: Score (%) | G1: Aantal klachten | H1: Oplostijd gem. (uur) | I1: Binnen 24 uur | J1: Opmerking
A2: 46116 | B2: Apr | C2: OBS De Blauwe Morgenster | E2: 7 | F2: =E2*10 -> 70 | I2: =IF(H2="","",IF(H2<=24,"Ja","Nee"))
C3: Locatie 2 | F3: =E3*10 -> 0 | I3: =IF(H3="","",IF(H3<=24,"Ja","Nee"))
C4: Locatie 3 | F4: =E4*10 -> 0 | I4: =IF(H4="","",IF(H4<=24,"Ja","Nee"))
C5: Locatie 4 | F5: =E5*10 -> 0 | I5: =IF(H5="","",IF(H5<=24,"Ja","Nee"))
C6: Locatie 5 | F6: =E6*10 -> 0 | I6: =IF(H6="","",IF(H6<=24,"Ja","Nee"))
C7: Locatie 6 | F7: =E7*10 -> 0 | I7: =IF(H7="","",IF(H7<=24,"Ja","Nee"))
C8: Locatie 7 | F8: =E8*10 -> 0 | I8: =IF(H8="","",IF(H8<=24,"Ja","Nee"))
C9: Locatie 8 | F9: =E9*10 -> 0 | I9: =IF(H9="","",IF(H9<=24,"Ja","Nee"))
C10: Locatie 9 | F10: =E10*10 -> 0 | I10: =IF(H10="","",IF(H10<=24,"Ja","Nee"))
C11: Locatie 10 | F11: =E11*10 -> 0 | I11: =IF(H11="","",IF(H11<=24,"Ja","Nee"))
C12: Locatie 11 | F12: =E12*10 -> 0 | I12: =IF(H12="","",IF(H12<=24,"Ja","Nee"))
C13: Locatie 12 | F13: =E13*10 -> 0 | I13: =IF(H13="","",IF(H13<=24,"Ja","Nee"))
C14: Locatie 13 | F14: =E14*10 -> 0 | I14: =IF(H14="","",IF(H14<=24,"Ja","Nee"))
... C43: Locatie 42 | F43: =E43*10 -> 0 | I43: =IF(H43="","",IF(H43<=24,"Ja","Nee"))

Sheet facturatie
A1: Maand | B1: Locatie | C1: Factuurnummer | D1: Factuurbedrag | E1: Contractbedrag | F1: Afwijking bedrag | G1: Afwijking (%) | H1: Factuurstatus | I1: Goedgekeurd door | J1: Opmerking
A2: Apr | B2: OBS De Blauwe Morgenster | D2: 1000 | E2: 1000 | F2: =IF(OR(D2="",E2=""),"",D2-E2) -> 0 | G2: =IF(OR(D2="",E2=0),"",ABS((D2-E2)/E2)) -> 0 | H2: Goedgekeurd | I2: ICCA
B3: Locatie 2 | F3: =IF(OR(D3="",E3=""),"",D3-E3) | G3: =IF(OR(D3="",E3=0),"",ABS((D3-E3)/E3))
B4: Locatie 3 | F4: =IF(OR(D4="",E4=""),"",D4-E4) | G4: =IF(OR(D4="",E4=0),"",ABS((D4-E4)/E4))
B5: Locatie 4 | F5: =IF(OR(D5="",E5=""),"",D5-E5) | G5: =IF(OR(D5="",E5=0),"",ABS((D5-E5)/E5))
B6: Locatie 5 | F6: =IF(OR(D6="",E6=""),"",D6-E6) | G6: =IF(OR(D6="",E6=0),"",ABS((D6-E6)/E6))
B7: Locatie 6 | F7: =IF(OR(D7="",E7=""),"",D7-E7) | G7: =IF(OR(D7="",E7=0),"",ABS((D7-E7)/E7))
B8: Locatie 7 | F8: =IF(OR(D8="",E8=""),"",D8-E8) | G8: =IF(OR(D8="",E8=0),"",ABS((D8-E8)/E8))
B9: Locatie 8 | F9: =IF(OR(D9="",E9=""),"",D9-E9) | G9: =IF(OR(D9="",E9=0),"",ABS((D9-E9)/E9))
B10: Locatie 9 | F10: =IF(OR(D10="",E10=""),"",D10-E10) | G10: =IF(OR(D10="",E10=0),"",ABS((D10-E10)/E10))
B11: Locatie 10 | F11: =IF(OR(D11="",E11=""),"",D11-E11) | G11: =IF(OR(D11="",E11=0),"",ABS((D11-E11)/E11))
B12: Locatie 11 | F12: =IF(OR(D12="",E12=""),"",D12-E12) | G12: =IF(OR(D12="",E12=0),"",ABS((D12-E12)/E12))
B13: Locatie 12 | F13: =IF(OR(D13="",E13=""),"",D13-E13) | G13: =IF(OR(D13="",E13=0),"",ABS((D13-E13)/E13))
B14: Locatie 13 | F14: =IF(OR(D14="",E14=""),"",D14-E14) | G14: =IF(OR(D14="",E14=0),"",ABS((D14-E14)/E14))
... B43: Locatie 42 | F43: =IF(OR(D43="",E43=""),"",D43-E43) | G43: =IF(OR(D43="",E43=0),"",ABS((D43-E43)/E43))

Sheet aanwezig VOG
A1: Locatie | B1: Medewerker | C1: Functie | D1: Leverancier | E1: VOG-status | F1: Afgiftedatum VOG | G1: Vervaldatum/controle | H1: Dagen tot controle | I1: Actie nodig | J1: Opmerking
A2: Locatie 1 | H2: =IF(G2="","",G2-TODAY()) | I2: =IF(OR(E2<>"Aanwezig",H2<30),"Ja","Nee") -> Ja
A3: Locatie 2 | H3: =IF(G3="","",G3-TODAY()) | I3: =IF(OR(E3<>"Aanwezig",H3<30),"Ja","Nee") -> Ja
A4: Locatie 3 | H4: =IF(G4="","",G4-TODAY()) | I4: =IF(OR(E4<>"Aanwezig",H4<30),"Ja","Nee") -> Ja
A5: Locatie 4 | H5: =IF(G5="","",G5-TODAY()) | I5: =IF(OR(E5<>"Aanwezig",H5<30),"Ja","Nee") -> Ja
A6: Locatie 5 | H6: =IF(G6="","",G6-TODAY()) | I6: =IF(OR(E6<>"Aanwezig",H6<30),"Ja","Nee") -> Ja
A7: Locatie 6 | H7: =IF(G7="","",G7-TODAY()) | I7: =IF(OR(E7<>"Aanwezig",H7<30),"Ja","Nee") -> Ja
A8: Locatie 7 | H8: =IF(G8="","",G8-TODAY()) | I8: =IF(OR(E8<>"Aanwezig",H8<30),"Ja","Nee") -> Ja
A9: Locatie 8 | H9: =IF(G9="","",G9-TODAY()) | I9: =IF(OR(E9<>"Aanwezig",H9<30),"Ja","Nee") -> Ja
A10: Locatie 9 | H10: =IF(G10="","",G10-TODAY()) | I10: =IF(OR(E10<>"Aanwezig",H10<30),"Ja","Nee") -> Ja
A11: Locatie 10 | H11: =IF(G11="","",G11-TODAY()) | I11: =IF(OR(E11<>"Aanwezig",H11<30),"Ja","Nee") -> Ja
A12: Locatie 11 | H12: =IF(G12="","",G12-TODAY()) | I12: =IF(OR(E12<>"Aanwezig",H12<30),"Ja","Nee") -> Ja
A13: Locatie 12 | H13: =IF(G13="","",G13-TODAY()) | I13: =IF(OR(E13<>"Aanwezig",H13<30),"Ja","Nee") -> Ja
... A43: Locatie 42 | H43: =IF(G43="","",G43-TODAY()) | I43: =IF(OR(E43<>"Aanwezig",H43<30),"Ja","Nee") -> Ja

Sheet Maandrapport
A1: Maandrapport schoonmaakonderhoud
A2: Stichting Opspoor
A4: Rapportagemaand | B4: ='Rapportage instellingen'!B3 -> Jan
A5: Datum gegenereerd | B5: =TODAY() -> 46265
A8: KPI | B8: Score | C8: Norm | D8: Status | E8: Toelichting
A9: kwaliteit | B9: =Dashboard!B6 -> 85.909091 | C9: =Dashboard!C6 -> 85 | D9: =Dashboard!F6 -> Groen | E9: =IF(B9>=C9,"Op norm","Onder norm: bijsturen") -> Op norm
A10: beleving | B10: =Dashboard!B7 -> 70 | C10: =Dashboard!C7 -> 70 | D10: =Dashboard!F7 -> Groen | E10: =IF(B10>=C10,"Op norm","Onder norm: actie op klachten/beleving") -> Op norm
A11: facturatie | B11: =Dashboard!B8 -> 100 | C11: =Dashboard!C8 -> 98 | D11: =Dashboard!F8 -> Groen | E11: =IF(B11>=C11,"Op norm","Onder norm: facturen controleren") -> Op norm
A12: aanwezig VOG | B12: =Dashboard!B9 -> 0 | C12: =Dashboard!C9 -> 100 | D12: =Dashboard!F9 -> Rood | E12: =IF(B12>=C12,"Op norm","Onder norm: VOG-acties noodzakelijk") -> Onder norm: VOG-acties noodzakelijk
A15: Managementsamenvatting
A16: =CONCATENATE("Voor maand ",$B$4," is de totaalscore ",TEXT(Dashboard!B11,"0.0"),"%. Belangrijkste aandachtspunten zijn locaties met status rood/oranje en open acties in het actieoverzicht.") -> Voor maand Jan is de totaalscore 81%. Belangrijkste aandachtspunten zijn locaties met status rood/oranje en open acties in het actieoverzicht.
A20: Locatieprestaties
A21: Locatie | B21: kwaliteit | C21: beleving | D21: facturatie | E21: VOG | F21: Totaal | G21: Status
A22: =Dashboard!A16 -> OBS De Blauwe Morgenster | B22: =Dashboard!B16 -> 85.909091 | C22: =Dashboard!C16 -> 70 | D22: =Dashboard!D16 -> 100 | E22: =Dashboard!E16 -> 0 | F22: =Dashboard!F16 -> 162.29091 | G22: =Dashboard!G16 -> Groen
A23: =Dashboard!A17 -> OBS Het Koningsspil | B23: =Dashboard!B17 -> 0 | C23: =Dashboard!C17 -> 0 | D23: =Dashboard!D17 -> 0 | E23: =Dashboard!E17 -> 0 | F23: =Dashboard!F17 -> 0 | G23: =Dashboard!G17 -> Rood
A24: =Dashboard!A18 -> OBS Meester Haye | B24: =Dashboard!B18 -> 0 | C24: =Dashboard!C18 -> 0 | D24: =Dashboard!D18 -> 0 | E24: =Dashboard!E18 -> 0 | F24: =Dashboard!F18 -> 0 | G24: =Dashboard!G18 -> Rood
A25: =Dashboard!A19 -> OBS Middelie | B25: =Dashboard!B19 -> 0 | C25: =Dashboard!C19 -> 0 | D25: =Dashboard!D19 -> 0 | E25: =Dashboard!E19 -> 0 | F25: =Dashboard!F19 -> 0 | G25: =Dashboard!G19 -> Rood
A26: =Dashboard!A20 -> OBS Prinses Beatrix | B26: =Dashboard!B20 -> 0 | C26: =Dashboard!C20 -> 0 | D26: =Dashboard!D20 -> 0 | E26: =Dashboard!E20 -> 0 | F26: =Dashboard!F20 -> 0 | G26: =Dashboard!G20 -> Rood
A27: =Dashboard!A21 -> OBS 't Tilletje | B27: =Dashboard!B21 -> 0 | C27: =Dashboard!C21 -> 0 | D27: =Dashboard!D21 -> 0 | E27: =Dashboard!E21 -> 0 | F27: =Dashboard!F21 -> 0 | G27: =Dashboard!G21 -> Rood
A28: =Dashboard!A22 -> OBS De Bloeiende Perelaar | B28: =Dashboard!B22 -> 0 | C28: =Dashboard!C22 -> 0 | D28: =Dashboard!D22 -> 0 | E28: =Dashboard!E22 -> 0 | F28: =Dashboard!F22 -> 0 | G28: =Dashboard!G22 -> Rood
A29: =Dashboard!A23 -> OBS Gebouw Noord | B29: =Dashboard!B23 -> 0 | C29: =Dashboard!C23 -> 0 | D29: =Dashboard!D23 -> 0 | E29: =Dashboard!E23 -> 0 | F29: =Dashboard!F23 -> 0 | G29: =Dashboard!G23 -> Rood
A30: =Dashboard!A24 -> Martin Luther Kingschool | B30: =Dashboard!B24 -> 0 | C30: =Dashboard!C24 -> 0 | D30: =Dashboard!D24 -> 0 | E30: =Dashboard!E24 -> 0 | F30: =Dashboard!F24 -> 0 | G30: =Dashboard!G24 -> Rood
A31: =Dashboard!A25 -> Martin Luther Kingschool bijgebouw | B31: =Dashboard!B25 -> 0 | C31: =Dashboard!C25 -> 0 | D31: =Dashboard!D25 -> 0 | E31: =Dashboard!E25 -> 0 | F31: =Dashboard!F25 -> 0 | G31: =Dashboard!G25 -> Rood
A32: =Dashboard!A26 -> OBS 't Carrousel | B32: =Dashboard!B26 -> 0 | C32: =Dashboard!C26 -> 0 | D32: =Dashboard!D26 -> 0 | E32: =Dashboard!E26 -> 0 | F32: =Dashboard!F26 -> 0 | G32: =Dashboard!G26 -> Rood
A33: =Dashboard!A27 -> OBS De Weidevogels | B33: =Dashboard!B27 -> 0 | C33: =Dashboard!C27 -> 0 | D33: =Dashboard!D27 -> 0 | E33: =Dashboard!E27 -> 0 | F33: =Dashboard!F27 -> 0 | G33: =Dashboard!G27 -> Rood
... A63: =Dashboard!A57 -> Locatie 42 | B63: =Dashboard!B57 -> 0 | C63: =Dashboard!C57 -> 0 | D63: =Dashboard!D57 -> 0 | E63: =Dashboard!E57 -> 0 | F63: =Dashboard!F57 -> 0 | G63: =Dashboard!G57 -> Rood

Sheet Locatierapport
A1: Locatierapport schoonmaakonderhoud
A3: Locatie | B3: ='Rapportage instellingen'!B4 -> Locatie 1
A4: Maand | B4: ='Rapportage instellingen'!B3 -> Jan
A7: KPI | B7: Score | C7: Norm | D7: Status | E7: Actie
A8: kwaliteit | B8: =IFERROR(AVERAGEIFS(kwaliteit!$M:$M,kwaliteit!$C:$C,$B$3,kwaliteit!$B:$B,$B$4),0) -> 0 | C8: 85 | D8: =IF(B8>=C8,"Groen",IF(B8>=70,"Oranje","Rood")) -> Rood | E8: =IF(D8="Groen","Geen directe actie","Verbeteractie opnemen") -> Verbeteractie opnemen
A9: beleving | B9: =IFERROR(AVERAGEIFS(beleving!$F:$F,beleving!$C:$C,$B$3,beleving!$B:$B,$B$4),0) -> 0 | C9: 80 | D9: =IF(B9>=C9,"Groen",IF(B9>=70,"Oranje","Rood")) -> Rood | E9: =IF(D9="Groen","Geen directe actie","Verbeteractie opnemen") -> Verbeteractie opnemen
A10: facturatie | B10: =IFERROR((COUNTIFS(facturatie!$B:$B,$B$3,facturatie!$A:$A,$B$4,facturatie!$H:$H,"Goedgekeurd")+COUNTIFS(facturatie!$B:$B,$B$3,facturatie!$A:$A,$B$4,facturatie!$H:$H,"Betaald"))/COUNTIFS(facturatie!$B:$B,$B$3,facturatie!$A:$A,$B$4)*100,0) -> 0 | C10: 95 | D10: =IF(B10>=C10,"Groen",IF(B10>=70,"Oranje","Rood")) -> Rood | E10: =IF(D10="Groen","Geen directe actie","Verbeteractie opnemen") -> Verbeteractie opnemen
A11: aanwezig VOG | B11: =IFERROR(COUNTIFS('aanwezig VOG'!$A:$A,$B$3,'aanwezig VOG'!$E:$E,"Aanwezig")/COUNTIF('aanwezig VOG'!$A:$A,$B$3)*100,0) -> 0 | C11: 100 | D11: =IF(B11>=C11,"Groen",IF(B11>=70,"Oranje","Rood")) -> Rood | E11: =IF(D11="Groen","Geen directe actie","Verbeteractie opnemen") -> Verbeteractie opnemen
A14: Samenvatting
A15: =CONCATENATE("Locatie ",$B$3," scoort in ",$B$4," een kwaliteitsscore van ",TEXT(B8,"0.0"),"%, beleving ",TEXT(B9,"0.0"),"%, facturatie ",TEXT(B10,"0.0"),"% en VOG ",TEXT(B11,"0.0"),"%.") -> Locatie Locatie 1 scoort in Jan een kwaliteitsscore van 00%, beleving 00%, facturatie 00% en VOG 00%.

Sheet Actieoverzicht
A1: Actieoverzicht automatisch
A3: Maand | B3: ='Rapportage instellingen'!B3 -> Jan
A5: Locatie | B5: Kwaliteit actie | C5: Beleving actie | D5: Facturatie actie | E5: VOG actie | F5: Prioriteit | G5: Aanbevolen opvolging | H5: Eigenaar
A6: Locatie 1 | B6: =IF(Dashboard!B16<'Rapportage instellingen'!$B$5,"Ja","Nee") -> Nee | C6: =IF(Dashboard!C16<'Rapportage instellingen'!$B$6,"Ja","Nee") -> Nee | D6: =IF(Dashboard!D16<'Rapportage instellingen'!$B$7,"Ja","Nee") -> Nee | E6: =IF(Dashboard!E16<'Rapportage instellingen'!$B$8,"Ja","Nee") -> Ja | F6: =IF(COUNTIF(B6:E6,"Ja")>=2,"Hoog",IF(COUNTIF(B6:E6,"Ja")=1,"Middel","Laag")) -> Middel | G6: =IF(F6="Hoog","Bespreken in eerstvolgend contract-/operationeel overleg",IF(F6="Middel","Actie uitzetten bij leverancier/locatie","Monitoren")) -> Actie uitzetten bij leverancier/locatie
A7: Locatie 2 | B7: =IF(Dashboard!B17<'Rapportage instellingen'!$B$5,"Ja","Nee") -> Ja | C7: =IF(Dashboard!C17<'Rapportage instellingen'!$B$6,"Ja","Nee") -> Ja | D7: =IF(Dashboard!D17<'Rapportage instellingen'!$B$7,"Ja","Nee") -> Ja | E7: =IF(Dashboard!E17<'Rapportage instellingen'!$B$8,"Ja","Nee") -> Ja | F7: =IF(COUNTIF(B7:E7,"Ja")>=2,"Hoog",IF(COUNTIF(B7:E7,"Ja")=1,"Middel","Laag")) -> Hoog | G7: =IF(F7="Hoog","Bespreken in eerstvolgend contract-/operationeel overleg",IF(F7="Middel","Actie uitzetten bij leverancier/locatie","Monitoren")) -> Bespreken in eerstvolgend contract-/operationeel overleg
A8: Locatie 3 | B8: =IF(Dashboard!B18<'Rapportage instellingen'!$B$5,"Ja","Nee") -> Ja | C8: =IF(Dashboard!C18<'Rapportage instellingen'!$B$6,"Ja","Nee") -> Ja | D8: =IF(Dashboard!D18<'Rapportage instellingen'!$B$7,"Ja","Nee") -> Ja | E8: =IF(Dashboard!E18<'Rapportage instellingen'!$B$8,"Ja","Nee") -> Ja | F8: =IF(COUNTIF(B8:E8,"Ja")>=2,"Hoog",IF(COUNTIF(B8:E8,"Ja")=1,"Middel","Laag")) -> Hoog | G8: =IF(F8="Hoog","Bespreken in eerstvolgend contract-/operationeel overleg",IF(F8="Middel","Actie uitzetten bij leverancier/locatie","Monitoren")) -> Bespreken in eerstvolgend contract-/operationeel overleg
A9: Locatie 4 | B9: =IF(Dashboard!B19<'Rapportage instellingen'!$B$5,"Ja","Nee") -> Ja | C9: =IF(Dashboard!C19<'Rapportage instellingen'!$B$6,"Ja","Nee") -> Ja | D9: =IF(Dashboard!D19<'Rapportage instellingen'!$B$7,"Ja","Nee") -> Ja | E9: =IF(Dashboard!E19<'Rapportage instellingen'!$B$8,"Ja","Nee") -> Ja | F9: =IF(COUNTIF(B9:E9,"Ja")>=2,"Hoog",IF(COUNTIF(B9:E9,"Ja")=1,"Middel","Laag")) -> Hoog | G9: =IF(F9="Hoog","Bespreken in eerstvolgend contract-/operationeel overleg",IF(F9="Middel","Actie uitzetten bij leverancier/locatie","Monitoren")) -> Bespreken in eerstvolgend contract-/operationeel overleg
A10: Locatie 5 | B10: =IF(Dashboard!B20<'Rapportage instellingen'!$B$5,"Ja","Nee") -> Ja | C10: =IF(Dashboard!C20<'Rapportage instellingen'!$B$6,"Ja","Nee") -> Ja | D10: =IF(Dashboard!D20<'Rapportage instellingen'!$B$7,"Ja","Nee") -> Ja | E10: =IF(Dashboard!E20<'Rapportage instellingen'!$B$8,"Ja","Nee") -> Ja | F10: =IF(COUNTIF(B10:E10,"Ja")>=2,"Hoog",IF(COUNTIF(B10:E10,"Ja")=1,"Middel","Laag")) -> Hoog | G10: =IF(F10="Hoog","Bespreken in eerstvolgend contract-/operationeel overleg",IF(F10="Middel","Actie uitzetten bij leverancier/locatie","Monitoren")) -> Bespreken in eerstvolgend contract-/operationeel overleg
A11: Locatie 6 | B11: =IF(Dashboard!B21<'Rapportage instellingen'!$B$5,"Ja","Nee") -> Ja | C11: =IF(Dashboard!C21<'Rapportage instellingen'!$B$6,"Ja","Nee") -> Ja | D11: =IF(Dashboard!D21<'Rapportage instellingen'!$B$7,"Ja","Nee") -> Ja | E11: =IF(Dashboard!E21<'Rapportage instellingen'!$B$8,"Ja","Nee") -> Ja | F11: =IF(COUNTIF(B11:E11,"Ja")>=2,"Hoog",IF(COUNTIF(B11:E11,"Ja")=1,"Middel","Laag")) -> Hoog | G11: =IF(F11="Hoog","Bespreken in eerstvolgend contract-/operationeel overleg",IF(F11="Middel","Actie uitzetten bij leverancier/locatie","Monitoren")) -> Bespreken in eerstvolgend contract-/operationeel overleg
A12: Locatie 7 | B12: =IF(Dashboard!B22<'Rapportage instellingen'!$B$5,"Ja","Nee") -> Ja | C12: =IF(Dashboard!C22<'Rapportage instellingen'!$B$6,"Ja","Nee") -> Ja | D12: =IF(Dashboard!D22<'Rapportage instellingen'!$B$7,"Ja","Nee") -> Ja | E12: =IF(Dashboard!E22<'Rapportage instellingen'!$B$8,"Ja","Nee") -> Ja | F12: =IF(COUNTIF(B12:E12,"Ja")>=2,"Hoog",IF(COUNTIF(B12:E12,"Ja")=1,"Middel","Laag")) -> Hoog | G12: =IF(F12="Hoog","Bespreken in eerstvolgend contract-/operationeel overleg",IF(F12="Middel","Actie uitzetten bij leverancier/locatie","Monitoren")) -> Bespreken in eerstvolgend contract-/operationeel overleg
A13: Locatie 8 | B13: =IF(Dashboard!B23<'Rapportage instellingen'!$B$5,"Ja","Nee") -> Ja | C13: =IF(Dashboard!C23<'Rapportage instellingen'!$B$6,"Ja","Nee") -> Ja | D13: =IF(Dashboard!D23<'Rapportage instellingen'!$B$7,"Ja","Nee") -> Ja | E13: =IF(Dashboard!E23<'Rapportage instellingen'!$B$8,"Ja","Nee") -> Ja | F13: =IF(COUNTIF(B13:E13,"Ja")>=2,"Hoog",IF(COUNTIF(B13:E13,"Ja")=1,"Middel","Laag")) -> Hoog | G13: =IF(F13="Hoog","Bespreken in eerstvolgend contract-/operationeel overleg",IF(F13="Middel","Actie uitzetten bij leverancier/locatie","Monitoren")) -> Bespreken in eerstvolgend contract-/operationeel overleg
A14: Locatie 9 | B14: =IF(Dashboard!B24<'Rapportage instellingen'!$B$5,"Ja","Nee") -> Ja | C14: =IF(Dashboard!C24<'Rapportage instellingen'!$B$6,"Ja","Nee") -> Ja | D14: =IF(Dashboard!D24<'Rapportage instellingen'!$B$7,"Ja","Nee") -> Ja | E14: =IF(Dashboard!E24<'Rapportage instellingen'!$B$8,"Ja","Nee") -> Ja | F14: =IF(COUNTIF(B14:E14,"Ja")>=2,"Hoog",IF(COUNTIF(B14:E14,"Ja")=1,"Middel","Laag")) -> Hoog | G14: =IF(F14="Hoog","Bespreken in eerstvolgend contract-/operationeel overleg",IF(F14="Middel","Actie uitzetten bij leverancier/locatie","Monitoren")) -> Bespreken in eerstvolgend contract-/operationeel overleg
A15: Locatie 10 | B15: =IF(Dashboard!B25<'Rapportage instellingen'!$B$5,"Ja","Nee") -> Ja | C15: =IF(Dashboard!C25<'Rapportage instellingen'!$B$6,"Ja","Nee") -> Ja | D15: =IF(Dashboard!D25<'Rapportage instellingen'!$B$7,"Ja","Nee") -> Ja | E15: =IF(Dashboard!E25<'Rapportage instellingen'!$B$8,"Ja","Nee") -> Ja | F15: =IF(COUNTIF(B15:E15,"Ja")>=2,"Hoog",IF(COUNTIF(B15:E15,"Ja")=1,"Middel","Laag")) -> Hoog | G15: =IF(F15="Hoog","Bespreken in eerstvolgend contract-/operationeel overleg",IF(F15="Middel","Actie uitzetten bij leverancier/locatie","Monitoren")) -> Bespreken in eerstvolgend contract-/operationeel overleg
A16: Locatie 11 | B16: =IF(Dashboard!B26<'Rapportage instellingen'!$B$5,"Ja","Nee") -> Ja | C16: =IF(Dashboard!C26<'Rapportage instellingen'!$B$6,"Ja","Nee") -> Ja | D16: =IF(Dashboard!D26<'Rapportage instellingen'!$B$7,"Ja","Nee") -> Ja | E16: =IF(Dashboard!E26<'Rapportage instellingen'!$B$8,"Ja","Nee") -> Ja | F16: =IF(COUNTIF(B16:E16,"Ja")>=2,"Hoog",IF(COUNTIF(B16:E16,"Ja")=1,"Middel","Laag")) -> Hoog | G16: =IF(F16="Hoog","Bespreken in eerstvolgend contract-/operationeel overleg",IF(F16="Middel","Actie uitzetten bij leverancier/locatie","Monitoren")) -> Bespreken in eerstvolgend contract-/operationeel overleg
A17: Locatie 12 | B17: =IF(Dashboard!B27<'Rapportage instellingen'!$B$5,"Ja","Nee") -> Ja | C17: =IF(Dashboard!C27<'Rapportage instellingen'!$B$6,"Ja","Nee") -> Ja | D17: =IF(Dashboard!D27<'Rapportage instellingen'!$B$7,"Ja","Nee") -> Ja | E17: =IF(Dashboard!E27<'Rapportage instellingen'!$B$8,"Ja","Nee") -> Ja | F17: =IF(COUNTIF(B17:E17,"Ja")>=2,"Hoog",IF(COUNTIF(B17:E17,"Ja")=1,"Middel","Laag")) -> Hoog | G17: =IF(F17="Hoog","Bespreken in eerstvolgend contract-/operationeel overleg",IF(F17="Middel","Actie uitzetten bij leverancier/locatie","Monitoren")) -> Bespreken in eerstvolgend contract-/operationeel overleg
... A47: Locatie 42 | B47: =IF(Dashboard!B57<'Rapportage instellingen'!$B$5,"Ja","Nee") -> Ja | C47: =IF(Dashboard!C57<'Rapportage instellingen'!$B$6,"Ja","Nee") -> Ja | D47: =IF(Dashboard!D57<'Rapportage instellingen'!$B$7,"Ja","Nee") -> Ja | E47: =IF(Dashboard!E57<'Rapportage instellingen'!$B$8,"Ja","Nee") -> Ja | F47: =IF(COUNTIF(B47:E47,"Ja")>=2,"Hoog",IF(COUNTIF(B47:E47,"Ja")=1,"Middel","Laag")) -> Hoog | G47: =IF(F47="Hoog","Bespreken in eerstvolgend contract-/operationeel overleg",IF(F47="Middel","Actie uitzetten bij leverancier/locatie","Monitoren")) -> Bespreken in eerstvolgend contract-/operationeel overleg

Sheet Rapportage instellingen
A1: Rapportage instellingen
A3: Rapportagemaand | B3: Jan | C3: Kies maand voor dashboard/rapportages
A4: Rapportagelocatie | B4: Locatie 1 | C4: Kies locatie voor locatierapport
A5: Kwaliteit norm | B5: 85 | C5: Onder deze score is actie nodig
A6: Beleving norm | B6: 70 | C6: Onder deze score is actie nodig
A7: Facturatie norm | B7: 98 | C7: % goedgekeurd/betaald
A8: VOG norm | B8: 100 | C8: % aanwezig

Sheet Instellingen
A1: Locaties | C1: Maanden | E1: Ruimtes | G1: Statussen | I1: Ja/Nee | K1: Factuurstatus | M1: VOG-status
A2: OBS De Blauwe Morgenster | C2: Jan | E2: lesalokaal | G2: Open | I2: Ja | K2: Concept | M2: Aanwezig
A3: OBS Het Koningsspil | C3: Feb | E3: Verkeersruimte | G3: In behandeling | I3: Nee | K3: Goedgekeurd | M3: Ontbreekt
A4: OBS Meester Haye | C4: Mrt | E4: Sanitaire ruimte | G4: Opgelost | K4: Afgekeurd | M4: Verlopen
A5: OBS Middelie | C5: Apr | E5: BSO-ruimte | G5: Geëscaleerd | K5: Betaald | M5: In aanvraag
A6: OBS Prinses Beatrix | C6: Mei | K6: Credit nodig | M6: Niet van toepassing
A7: OBS 't Tilletje | C7: Jun
A8: OBS De Bloeiende Perelaar | C8: Jul
A9: OBS Gebouw Noord | C9: Aug
A10: Martin Luther Kingschool | C10: Sep
A11: Martin Luther Kingschool bijgebouw | C11: Okt
A12: OBS 't Carrousel | C12: Nov
A13: OBS De Weidevogels | C13: Dec
A14: KDV De Vlindertuin
A15: OBS De Weide dependance
A16: OBS H.M. van Randwijk
A17: OBS Bets Frijlingschool
A18: Locatie 17
A19: Locatie 18
A20: Locatie 19
A21: Locatie 20
A22: Locatie 21
A23: Locatie 22
A24: Locatie 23
A25: Locatie 24
... A43: Locatie 42
