Workbook

Sheet Invulinstructie
B1: Bijlage 4 - Prijzenblad
B2: ='Tabblad A - Totaal'!B2 -> Audiovisuele middelen raadzaal en zalen politieke markt, kenmerk TN574075
B4: Invulinstructie
A6: Bij het invullen van dit Prijzenblad dient Inschrijver rekening te houden met het volgende:
B7: 1 | C7: De door Inschrijver in te vullen tarieven voor Personeel, Product, Programmatuur, Licenties en Onderhoud worden geacht te zijn ingediend in overeenstemming met alle gestelde eisen.
B8: 2 | C8: Alle ingediende Uurtarieven voor Personeel en tarieven voor Product, Programmatuur, Licenties en Onderhoud zijn all-in. Dat wil zeggen dat alle, maar in ieder geval de volgende kosten voor de tarieven zijn inbegrepen: salariskosten, overheadkosten, bestelkosten, verwijderingsbijdrage, vervoers- en transportkosten, kosten voor gereedschappen, kosten voor ondersteunend werk, kosten voor het gebruik van apparatuur, kosten voor afvoer van verpakkings- of transportmateriaal, installatiekosten, reis- en verblijfskosten, parkeerkosten, wervings- en selectiekosten, vervanging, verzekeringspremie, winst en alle eventuele verdere bijkomende kosten, zoals de kosten voor voorbereiding op de Uitvoering van de Opdracht. Genoemde kosten zullen, indien deze separaat door Inschrijver worden opgenomen in het Prijzenblad of nadere offerte, niet kunnen worden gefactureerd.
B9: 3 | C9: Alle niet geblokkeerde invulvelden in het Prijsopgaveformulier dienen ingevuld te worden, met uitzondering van de aantallen Uurtarieven op de tabbladen C t/m F indien deze respectievelijk, om te kunnen voldoen aan de gevraagde Prestatie, naar het oordeel van de Inschrijver niet van toepassing is.
B10: 4 | C10: Aanpassing(en) van het Prijzenformulier, die leidt tot een andere uitkomst van de prijs als zou deze aanpassing niet zijn gedaan, is niet toegestaan.
B11: 5 | C11: De ingevulde Uurtarieven kunnen conform hetgeen bepaald in artikel 11.8 van de GIBIT 2025 voor het eerst per 1 januari 2028 worden geïndexeerd.
B12: 6 | C12: De overige ingevulde tarieven en (opslag-)percentages staan vast voor de gehele looptijd van de Overeenkomst, dit als uitzondering op hetgeen bepaald in artikel 11.8 van de GIBIT 2025.
B13: 7 | C13: Alle prijzen en tarieven zijn in Euro, exclusief omzetbelasting (BTW).
B15: Inschrijver dient in het Prijzenblad de prijzen van onderstaande prijsonderdelen op te geven.
B16: Het Prijzenblad bestaat daartoe, naast dit tabblad, uit een zevental tabbladen.
B18: Tabblad A | C18: De inhoud van dit tabblad wordt automatisch doorgerekend op basis van de ingave op de tabbladen B t/m G.
B19: Tabblad B | C19: Dit prijsonderdeel kenmerkt zich als de vaste Uurtarieven voor het leveren van Personeel als onderdeel van deze Overeenkomst en Nadere overeenkomsten. In het Prijsopgaveformulier zijn de volgende Uurtarieven opgenomen: B1 - Installatie monteur B2 - Service monteur Let op! Het ingevulde tarief voor een service monteur mag niet hoger zijn dan tarief B1 + 25%! Voorbeeld: als het door u ingevulde tarief voor een installatiemonteur (B1) 100,- euro bedraagt, mag het tarief voor B2 maximaal 100,- + 25% = 125,- euro bedragen. Indien u toch een hoger tarief invult, geldt het maximale tarief van B1+25%! B3 - Engineer (systeem- / software) B4 - Werkvoorbereider B5 - Tekenaar B6 - Projectleider B7 - Programmeur (audio, video, besturing, videoconferentie, Programmatuur) B8 - Training en instructie (zie ook Beschrijvend document paragraaf 4.3.2.1) en Bijlage 1, eis S6.12 B9 - Event support (Inhuur regie/begeleiding van PMA en raadsvergaderingen op afroep van Opdrachtgever) op locatie (zie Beschrijvend document paragraaf 1.11) De Uurtarieven zijn geldig op maandag t/m vrijdag van 07:00 - 19:00 uur. Inschrijver vult in het tabblad de gegeven Uurtarieven in.
B20: Tabblad C | C20: Dit prijsonderdeel kenmerkt zich als een totaalprijs voor de investeringskosten van de Producten, Programmatuur inclusief Licenties en de aantallen van de verschillende Uurtarieven die van toepassing zijn voor de Prestatie in de Raadzaal zoals beschreven in het Programma van Eisen bijlage 2 in de paragrafen 1.1 t/m 1.6. De Uurtarieven zijn hierbij automatisch overgenomen van tabblad B - Uurtarieven. Tevens zijn in deze totaalprijs inbegrepen de structurele jaarlijkse kosten voor Programmatuur inclusief Licenties voor de looptijd van 4 jaren. Inschrijver dient de kosten voor Onderhoud van de Producten, Programmatuur en Licenties op te nemen. U dient deze kosten voor Onderhoud als tarief per jaar in te vullen. De kosten worden verder automatisch berekend.
B21: Tabblad D | C21: Dit prijsonderdeel kenmerkt zich als een totaalprijs voor de investeringskosten van de Producten, Programmatuur inclusief Licenties en de aantallen van de verschillende Uurtarieven die van toepassing zijn voor de Prestatie in het Raadsplein zoals beschreven in het Programma van Eisen bijlage 2 in de paragrafen 2.1 t/m 2.6. De Uurtarieven zijn hierbij automatisch overgenomen van tabblad B - Uurtarieven. Tevens zijn in deze totaalprijs inbegrepen de structurele jaarlijkse kosten voor Programmatuur inclusief Licenties voor de looptijd van 4 jaren. Inschrijver dient de kosten voor Onderhoud van de Producten, Programmatuur en Licenties op te nemen. U dient deze kosten voor Onderhoud als tarief per jaar in te vullen. De kosten worden verder automatisch berekend.
B22: Tabblad E | C22: Dit prijsonderdeel kenmerkt zich als een totaalprijs voor de investeringskosten van de Producten, Programmatuur inclusief Licenties en de aantallen van de verschillende Uurtarieven die van toepassing zijn voor de Prestatie in de Moriaen zoals beschreven in het Programma van Eisen bijlage 2 in de paragrafen 3.1 t/m 3.6. De Uurtarieven zijn hierbij automatisch overgenomen van tabblad B - Uurtarieven. Tevens zijn in deze totaalprijs inbegrepen de structurele jaarlijkse kosten voor Programmatuur inclusief Licenties voor de looptijd van 4 jaren. Inschrijver dient de kosten voor Onderhoud van de Producten, Programmatuur en Licenties op te nemen. U dient deze kosten voor Onderhoud als tarief per jaar in te vullen. De kosten worden verder automatisch berekend.
B23: Tabblad F | C23: Dit prijsonderdeel kenmerkt zich als een totaalprijs voor de investeringskosten van de Producten, Programmatuur inclusief Licenties en de aantallen van de verschillende Uurtarieven die van toepassing zijn voor de Prestatie in het Rode Hert zoals beschreven in het Programma van Eisen bijlage 2 in de paragrafen 4.1 t/m 4.6. De Uurtarieven zijn hierbij automatisch overgenomen van tabblad B - Uurtarieven. Tevens zijn in deze totaalprijs inbegrepen de structurele jaarlijkse kosten voor Programmatuur inclusief Licenties voor de looptijd van 4 jaren. Inschrijver dient de kosten voor Onderhoud van de Producten, Programmatuur en Licenties op te nemen. U dient deze kosten voor Onderhoud als tarief per jaar in te vullen. De kosten worden verder automatisch berekend.
B24: Tabblad G | C24: Dit prijsonderdeel kenmerkt zich als een door inschrijver te hanteren opslag percentage te behoeve van Producten, Programmatuur en Licenties welke optioneel door Aanbestedende dienst kunnen worden afgenomen als onderdeel van de Herzieningsclausule, herhalingsopdrachten, uitbreidingen en wijzingen soortgelijke diensten en uitbreiding diensten/ functionaliteiten, zoals beschreven in het Beschrijvend document paragraaf 1.11 en volgende. Inschrijver vult in het tabblad, onderdeel G1, de door Leverancier te hanteren Opslag (Percentage over de Inkoopprijs, waarin alle kosten en winst voor Inschrijver verwerkt dienen te zijn) over de Inkoopprijs (De netto prijs waarvoor Inschrijver het product inkoopt en waarover Inschrijver zijn Opslag berekent. Kickbackfee’s, rebates en alle andere prijsvoordelen verwerkt Inschrijver in de Inkoopprijs.). Dit prijsonderdeel maakt geen onderdeel uit van de totale fictieve Inschrijfprijs.

Sheet Tabblad A - Totaal
B1: Prijzenblad
B2: Audiovisuele middelen raadzaal en zalen politieke markt, kenmerk TN574075
B5: Prijsstelling Totaal
B6: Sub-totaal tabblad B - Uurtarieven | F6: n.v.t.
B7: Sub-totaal tabblad C - Audiovisuele middelen Raadzaal | F7: ='Tabblad C - Raadzaal'!G18 -> 0
B8: Sub-totaal tabblad D - Audiovisuele middelen Raadsplein | F8: ='Tabblad D - Raadsplein'!G18 -> 0
B9: Sub-totaal tabblad E - Audiovisuele middelen Moriaen | F9: ='Tabblad E - Moriaen'!G18 -> 0
B10: Sub-totaal tabblad F - Audiovisuele middelen Rode Hert | F10: ='Tabblad F - Rode Hert'!G18 -> 0
B11: Totale fictieve inschrijfprijs | F11: =SUM(F7:F10) -> 0
B12: Sub-totaal tabblad G - Opties | F12: n.v.t.
B19: Bedrijf:
B21: Naam ondertekenaar:
B23: Plaats:
B25: Datum:
B27: Handtekening:

Sheet Tabblad B - Uurtarieven 
B1: ='Tabblad A - Totaal'!B1 -> Prijzenblad
B2: ='Tabblad A - Totaal'!B2 -> Audiovisuele middelen raadzaal en zalen politieke markt, kenmerk TN574075
B5: Prijsonderdeel Uurtarieven
B6: Onderdeel | C6: Omschrijving producten en/of diensten | D6: Tarief/stuk ma-vr 7:00 - 19:00 uur
B7: B1 | C7: Installatie monteur
B8: B2 | C8: Service monteur | E8: NB! Zie opmerking tabblad invulinstructie.
B9: B3 | C9: Engineer (systeem- / software)
B10: B4 | C10: Werkvoorbereider
B11: B5 | C11: Tekenaar
B12: B6 | C12: Projectleider
B13: B7 | C13: Programmeur (audio, video, besturing, videoconferentie, Programmatuur)
B14: B8 | C14: Opleiding en instructie
B15: B9 | C15: Event support op afroep op locatie Opdrachtgever

Sheet Tabblad C - Raadzaal
B1: ='Tabblad A - Totaal'!B1 -> Prijzenblad
B2: ='Tabblad A - Totaal'!B2 -> Audiovisuele middelen raadzaal en zalen politieke markt, kenmerk TN574075
B5: Prijsonderdeel Audiovisuele middelen Raadzaal
B6: Onderdeel | C6: Omschrijving producten en/of diensten | E6: Aantal | F6: Tarief/stuk | G6: Totaal prijs
B7: C1 | C7: Totaal Producten | E7: 1 | G7: =E7*F7 -> 0
B8: C2 | C8: Totaal Programmatuur en Licenties | E8: 1 | G8: =E8*F8 -> 0
B9: C3 | C9: Structurele kosten voor Onderhoud voor de Producten, Programmatuur en Licenties van de Raadzaal / per jaar | E9: 4 | G9: =E9*F9 -> 0
B10: B1 | C10: Installatie monteur | F10: ='Tabblad B - Uurtarieven '!D7 -> 0 | G10: =E10*F10 -> 0
B11: B3 | C11: Engineer (systeem- / software) | F11: ='Tabblad B - Uurtarieven '!D9 -> 0 | G11: =E11*F11 -> 0
B12: B4 | C12: Werkvoorbereider | F12: ='Tabblad B - Uurtarieven '!D10 -> 0 | G12: =E12*F12 -> 0
B13: B5 | C13: Tekenaar | F13: ='Tabblad B - Uurtarieven '!D11 -> 0 | G13: =E13*F13 -> 0
B14: B6 | C14: Projectleider | F14: ='Tabblad B - Uurtarieven '!D12 -> 0 | G14: =E14*F14 -> 0
B15: B7 | C15: Programmeur (audio, video, besturing, videoconferentie, Programmatuur) | F15: ='Tabblad B - Uurtarieven '!D13 -> 0 | G15: =E15*F15 -> 0
B16: B8 | C16: Opleiding en instructie | F16: ='Tabblad B - Uurtarieven '!D14 -> 0 | G16: =E16*F16 -> 0
B18: Sub-totaal tabblad C | G18: =SUM(G7:G16) -> 0

Sheet Tabblad D - Raadsplein
B1: ='Tabblad A - Totaal'!B1 -> Prijzenblad
B2: ='Tabblad A - Totaal'!B2 -> Audiovisuele middelen raadzaal en zalen politieke markt, kenmerk TN574075
B5: Prijsonderdeel Audiovisuele middelen Raadsplein
B6: Onderdeel | C6: Omschrijving producten en/of diensten | E6: Aantal | F6: Tarief/stuk | G6: Totaal prijs
B7: D1 | C7: Totaal Producten | E7: 1 | G7: =E7*F7 -> 0
B8: D2 | C8: Totaal Programmatuur en Licenties | E8: 1 | G8: =E8*F8 -> 0
B9: D3 | C9: Structurele kosten voor Onderhoud voor de Producten, Programmatuur en Licenties van het Raadsplein / per jaar | E9: 4 | G9: =E9*F9 -> 0
B10: B1 | C10: Installatie monteur | F10: ='Tabblad B - Uurtarieven '!D7 -> 0 | G10: =E10*F10 -> 0
B11: B3 | C11: Engineer (systeem- / software) | F11: ='Tabblad B - Uurtarieven '!D9 -> 0 | G11: =E11*F11 -> 0
B12: B4 | C12: Werkvoorbereider | F12: ='Tabblad B - Uurtarieven '!D10 -> 0 | G12: =E12*F12 -> 0
B13: B5 | C13: Tekenaar | F13: ='Tabblad B - Uurtarieven '!D11 -> 0 | G13: =E13*F13 -> 0
B14: B6 | C14: Projectleider | F14: ='Tabblad B - Uurtarieven '!D12 -> 0 | G14: =E14*F14 -> 0
B15: B7 | C15: Programmeur (audio, video, besturing, videoconferentie, Programmatuur) | F15: ='Tabblad B - Uurtarieven '!D13 -> 0 | G15: =E15*F15 -> 0
B16: B8 | C16: Opleiding en instructie | F16: ='Tabblad B - Uurtarieven '!D14 -> 0 | G16: =E16*F16 -> 0
B18: Sub-totaal tabblad D | G18: =SUM(G7:G16) -> 0

Sheet Tabblad E - Moriaen
B1: ='Tabblad A - Totaal'!B1 -> Prijzenblad
B2: ='Tabblad A - Totaal'!B2 -> Audiovisuele middelen raadzaal en zalen politieke markt, kenmerk TN574075
B5: Prijsonderdeel Audiovisuele middelen Moriaen
B6: Onderdeel | C6: Omschrijving producten en/of diensten | E6: Aantal | F6: Tarief/stuk | G6: Totaal prijs
B7: E1 | C7: Totaal Producten | E7: 1 | G7: =E7*F7 -> 0
B8: E2 | C8: Totaal Programmatuur en Licenties | E8: 1 | G8: =E8*F8 -> 0
B9: E3 | C9: Structurele kosten voor Onderhoud voor de Producten, Programmatuur en Licenties van de Moriaen / per jaar | E9: 4 | G9: =E9*F9 -> 0
B10: B1 | C10: Installatie monteur | F10: ='Tabblad B - Uurtarieven '!D7 -> 0 | G10: =E10*F10 -> 0
B11: B3 | C11: Engineer (systeem- / software) | F11: ='Tabblad B - Uurtarieven '!D9 -> 0 | G11: =E11*F11 -> 0
B12: B4 | C12: Werkvoorbereider | F12: ='Tabblad B - Uurtarieven '!D10 -> 0 | G12: =E12*F12 -> 0
B13: B5 | C13: Tekenaar | F13: ='Tabblad B - Uurtarieven '!D11 -> 0 | G13: =E13*F13 -> 0
B14: B6 | C14: Projectleider | F14: ='Tabblad B - Uurtarieven '!D12 -> 0 | G14: =E14*F14 -> 0
B15: B7 | C15: Programmeur (audio, video, besturing, videoconferentie, Programmatuur) | F15: ='Tabblad B - Uurtarieven '!D13 -> 0 | G15: =E15*F15 -> 0
B16: B8 | C16: Opleiding en instructie | F16: ='Tabblad B - Uurtarieven '!D14 -> 0 | G16: =E16*F16 -> 0
B18: Sub-totaal tabblad E | G18: =SUM(G7:G16) -> 0

Sheet Tabblad F - Rode Hert
B1: ='Tabblad A - Totaal'!B1 -> Prijzenblad
B2: ='Tabblad A - Totaal'!B2 -> Audiovisuele middelen raadzaal en zalen politieke markt, kenmerk TN574075
B5: Prijsonderdeel Audiovisuele middelen Rode Hert
B6: Onderdeel | C6: Omschrijving producten en/of diensten | E6: Aantal | F6: Tarief/stuk | G6: Totaal prijs
B7: F1 | C7: Totaal Producten | E7: 1 | G7: =E7*F7 -> 0
B8: F2 | C8: Totaal Programmatuur en Licenties | E8: 1 | G8: =E8*F8 -> 0
B9: F3 | C9: Structurele kosten voor Onderhoud voor de Producten, Programmatuur en Licenties van het Rode Hert / per jaar | E9: 4 | G9: =E9*F9 -> 0
B10: B1 | C10: Installatie monteur | F10: ='Tabblad B - Uurtarieven '!D7 -> 0 | G10: =E10*F10 -> 0
B11: B3 | C11: Engineer (systeem- / software) | F11: ='Tabblad B - Uurtarieven '!D9 -> 0 | G11: =E11*F11 -> 0
B12: B4 | C12: Werkvoorbereider | F12: ='Tabblad B - Uurtarieven '!D10 -> 0 | G12: =E12*F12 -> 0
B13: B5 | C13: Tekenaar | F13: ='Tabblad B - Uurtarieven '!D11 -> 0 | G13: =E13*F13 -> 0
B14: B6 | C14: Projectleider | F14: ='Tabblad B - Uurtarieven '!D12 -> 0 | G14: =E14*F14 -> 0
B15: B7 | C15: Programmeur (audio, video, besturing, videoconferentie, Programmatuur) | F15: ='Tabblad B - Uurtarieven '!D13 -> 0 | G15: =E15*F15 -> 0
B16: B8 | C16: Opleiding en instructie | F16: ='Tabblad B - Uurtarieven '!D14 -> 0 | G16: =E16*F16 -> 0
B18: Sub-totaal tabblad F | G18: =SUM(G7:G16) -> 0

Sheet Tabblad G - Opties
B1: ='Tabblad A - Totaal'!B1 -> Prijzenblad
B2: ='Tabblad A - Totaal'!B2 -> Audiovisuele middelen raadzaal en zalen politieke markt, kenmerk TN574075
B5: Prijsonderdeel Opties (Beschrijvend document paragraaf 1.11)
B6: Onderdeel | C6: Omschrijving producten en/of diensten | E6: Aantal | F6: Uurtarief | G6: Opslagpercentage
B7: G1 | C7: Producten, Programmatuur en Licenties bij herhaling-, uitbreiding- of wijzigingsopdrachten | E7: n.v.t. | F7: n.v.t.
