Workbook

Sheet G1.1 Middelgroot diesel
A1: Standaardformulier H G1.1 Prijzenblad (Huur Middel Groot Veegwagens Diesel)
A3: Huur periode*** | B3: Fictief aantal keer machine huur per jaar | C3: Fictief aantal weken huur per jaar | D3: Prijs huur | E3: Eenheid | F3: Totaal prijs per categorie
A4: 1-4 weken* | B4: 1 | C4: 2 | D4: 0 | E4: Per week | F4: =B4*D4*C4 -> 0
A5: 5-12 weken | B5: 2 | C5: 10 | D5: 0 | E5: Per week | F5: =B5*D5*C5 -> 0
A6: 13-25 weken | B6: 3 | C6: 20 | D6: 0 | E6: Per week | F6: =B6*D6*C6 -> 0
A7: 26-52 weken* | B7: 4 | C7: 52 | D7: 0 | E7: Per week | F7: =B7*D7*C7 -> 0
E9: Fictieve aanneemsom | F9: =SUM(F4:F7) -> 0
A10: * De groep van één jaar is de vaste kern. De groep van één week is de groep met de grootste flexibiliteit. ** Wanneer er wordt gesproken over weken betreft dit werkelijke huur weken en geen kalender weken. *** In geval van onvolledige weekhuur wordt een evenredig deel van het betreffende weektarief in rekening gebracht.

Sheet G1.2 Middelgroot elektrisch
A1: Standaardformulier H G1.2 Prijzenblad (Huur Middel Groot Veegwagens Elektrisch)
A3: Huur periode*** | B3: Fictief aantal keer machine huur per jaar | C3: Fictief aantal weken huur per jaar | D3: Prijs huur | E3: Eenheid | F3: Totaal prijs per categorie
A4: 1-4 weken* | B4: 1 | C4: 2 | D4: 0 | E4: Per week | F4: =B4*D4*C4 -> 0
A5: 5-12 weken | B5: 2 | C5: 10 | D5: 0 | E5: Per week | F5: =B5*D5*C5 -> 0
A6: 13-25 weken | B6: 3 | C6: 20 | D6: 0 | E6: Per week | F6: =B6*D6*C6 -> 0
A7: 26-52 weken* | B7: 4 | C7: 52 | D7: 0 | E7: Per week | F7: =B7*D7*C7 -> 0
E9: Fictieve aanneemsom | F9: =SUM(F4:F7) -> 0
A10: * De groep van één jaar is de vaste kern. De groep van één week is de groep met de grootste flexibiliteit. ** Wanneer er wordt gesproken over weken betreft dit werkelijke huur weken en geen kalender weken. *** In geval van onvolledige weekhuur wordt een evenredig deel van het betreffende weektarief in rekening gebracht.

Sheet G1.3 Klein diesel
A1: Standaardformulier H G1.3 Prijzenblad (Huur Klein Veegwagens Diesel)
A3: Huur periode*** | B3: Fictief aantal keer machine huur per jaar | C3: Fictief aantal weken huur per jaar | D3: Prijs huur | E3: Eenheid | F3: Totaal prijs per categorie
A4: 1-4 weken* | B4: 1 | C4: 2 | D4: 0 | E4: Per week | F4: =B4*D4*C4 -> 0
A5: 5-12 weken | B5: 2 | C5: 10 | D5: 0 | E5: Per week | F5: =B5*D5*C5 -> 0
A6: 13-25 weken | B6: 3 | C6: 20 | D6: 0 | E6: Per week | F6: =B6*D6*C6 -> 0
A7: 26-52 weken* | B7: 4 | C7: 52 | D7: 0 | E7: Per week | F7: =B7*D7*C7 -> 0
E9: Fictieve aanneemsom | F9: =SUM(F4:F7) -> 0
A10: * De groep van één jaar is de vaste kern. De groep van één week is de groep met de grootste flexibiliteit. ** Wanneer er wordt gesproken over weken betreft dit werkelijke huur weken en geen kalender weken. *** In geval van onvolledige weekhuur wordt een evenredig deel van het betreffende weektarief in rekening gebracht.

Sheet G1.4 Klein elektrisch
A1: Standaardformulier H G1.4 Prijzenblad (Huur Klein Veegwagens Elektrisch)
A3: Huur periode*** | B3: Fictief aantal keer machine huur per jaar | C3: Fictief aantal weken huur per jaar | D3: Prijs huur | E3: Eenheid | F3: Totaal prijs per categorie
A4: 1-4 weken* | B4: 1 | C4: 2 | D4: 0 | E4: Per week | F4: =B4*D4*C4 -> 0
A5: 5-12 weken | B5: 2 | C5: 10 | D5: 0 | E5: Per week | F5: =B5*D5*C5 -> 0
A6: 13-25 weken | B6: 3 | C6: 20 | D6: 0 | E6: Per week | F6: =B6*D6*C6 -> 0
A7: 26-52 weken* | B7: 4 | C7: 52 | D7: 0 | E7: Per week | F7: =B7*D7*C7 -> 0
E9: Fictieve aanneemsom | F9: =SUM(F4:F7) -> 0
A10: * De groep van één jaar is de vaste kern. De groep van één week is de groep met de grootste flexibiliteit. ** Wanneer er wordt gesproken over weken betreft dit werkelijke huur weken en geen kalender weken. *** In geval van onvolledige weekhuur wordt een evenredig deel van het betreffende weektarief in rekening gebracht.

Sheet G1.5 Prijzen Borstels
A1: Standaardformulier H G1.5 Prijzenblad (Prijzen borstels)
A3: Type veegwagen | B3: Fictief aantal keer afname borstel. | C3: Prijs per borstel | D3: Eenheid | E3: Totaal prijs per borstelsoort
A4: Middelgrote veegwagen
A5: Type 1 (Houten plaat met staalborstels) | B5: 100 | C5: 0 | D5: Per borstel | E5: =C5*B5 -> 0
A6: Type 2 (Stalen plaat met gemengde borstels) | B6: 200 | C6: 0 | D6: Per borstel | E6: =C6*B6 -> 0
A7: Kleine veegwagen (Type 1,2 en 3) | B7: 300 | C7: 0 | D7: Per borstel | E7: =C7*B7 -> 0
D9: Fictieve aanneemsom | E9: =SUM(E4:E7) -> 0

Sheet Totaal
A1: Totale Fictieve aanneemsom
A3: Tabblad | B3: Totaal prijs
A4: G1.1 Middelgroot diesel | B4: ='G1.1 Middelgroot diesel'!F9 -> 0
A5: G1.2 Middelgroot elektrisch | B5: ='G1.2 Middelgroot elektrisch'!F9 -> 0
A6: G1.3 Klein diesel | B6: ='G1.3 Klein diesel'!F9 -> 0
A7: G1.4 Klein elektrisch | B7: ='G1.4 Klein elektrisch'!F9 -> 0
A8: G1.5 Prijzen Borstels | B8: ='G1.5 Prijzen Borstels'!E9 -> 0
A10: Fictieve aanneemsom | B10: =SUM(B4:B8) -> 0
