Workbook

Sheet Overview
D1: Prijzenblad | O1: versie: 0.9 d.d 16-04-2026
B3: Naam Inschrijver:
B4: Gevolmachtigde:
C5: verklaring waarheidsgetrouw: | D5: Hierbij verklaart bovengenoemde in zijn functie van gevolmachtigde, namens Deelnemer, dat alle aangeboden documenten inclusief prijzen en de beantwoording van alle vragen in “Programma van Eisen” en ''Gunningscriteria'' en de daaraan gekoppelde bijlagen naar waarheid door Deelnemer zijn ingevuld.
B6: Rechtsgeldig ondertekend:
B8: A.1. kosten van Implementatie van het MVP (fixed price) Prijsplafond €8.500.000,-
C9: Rol | D9: Tarief | E9: Fictief aantal uren | G9: Fictief totaalkosten Rol
C10: ='A1. Implementatie'!C3 -> Jr. Consultant | D10: ='A1. Implementatie'!D5 -> 0 | E10: =SUM('A1. Implementatie'!C5:C13) -> 0 | G10: =D10*E10 -> 0
C11: ='A1. Implementatie'!E3 -> Md. Consultant | D11: ='A1. Implementatie'!F5 -> 0 | E11: =SUM('A1. Implementatie'!E5:E13) -> 0 | G11: =D11*E11 -> 0
C12: ='A1. Implementatie'!G3 -> Sr. Consultant | D12: ='A1. Implementatie'!H5 -> 0 | E12: =SUM('A1. Implementatie'!G5:G13) -> 0 | G12: =D12*E12 -> 0
C13: ='A1. Implementatie'!I3 -> Projectleider | D13: ='A1. Implementatie'!J5 -> 0 | E13: =SUM('A1. Implementatie'!I5:I13) -> 0 | G13: =D13*E13 -> 0
C14: ='A1. Implementatie'!K3 -> Projectsupport | D14: ='A1. Implementatie'!L5 -> 0 | E14: =SUM('A1. Implementatie'!K5:K13) -> 0 | G14: =D14*E14 -> 0
C15: ='A1. Implementatie'!M3 -> Extra rol 1 | D15: ='A1. Implementatie'!N5 -> 0 | E15: =SUM('A1. Implementatie'!M5:M13) -> 0 | G15: =D15*E15 -> 0
C16: ='A1. Implementatie'!O3 -> Extra rol 2 | D16: ='A1. Implementatie'!P5 -> 0 | E16: =SUM('A1. Implementatie'!O5:O13) -> 0 | G16: =D16*E16 -> 0
B17: Fixed price inschrijfprijs onderdeel A (incl. BTW) | I17: =SUM(G10:G16) -> 0
B20: B.1 - Ontwikkeling&Optimalisatie (Na Go-live) Prijsplafond €3.900.000,-
C21: Rol | D21: Tarief | E21: Fictief aantal uren | G21: Fictief totaalkosten Rol
C22: Jr. Consultant | D22: ='B.1 Ontwikkeling&Optimalisatie'!D5 -> 0 | E22: 2500 | G22: =D22*E22 -> 0
C23: Md. Consultant | D23: ='B.1 Ontwikkeling&Optimalisatie'!D6 -> 0 | E23: 2000 | G23: =D23*E23 -> 0
C24: Sr. Consultant | D24: ='B.1 Ontwikkeling&Optimalisatie'!D7 -> 0 | E24: 1500 | G24: =D24*E24 -> 0
C25: Projectleider | D25: ='B.1 Ontwikkeling&Optimalisatie'!D8 -> 0 | E25: 1750 | G25: =D25*E25 -> 0
C26: Projectsupport | D26: ='B.1 Ontwikkeling&Optimalisatie'!D9 -> 0 | E26: 3500 | G26: =D26*E26 -> 0
C27: Extra rol 1 | D27: ='B.1 Ontwikkeling&Optimalisatie'!D10 -> 0 | E27: 500 | G27: =D27*E27 -> 0
C28: Extra rol 2 | D28: ='B.1 Ontwikkeling&Optimalisatie'!D11 -> 0 | E28: 750 | G28: =D28*E28 -> 0
B29: Raming inschrijfprijs onderdeel B.1 (incl. BTW) | I29: =SUM(G22:G28) -> 0
B31: B.2 - Hosting, beheer en onderhoud (Na Go-live) Prijsplafond €22.100.000,-
E32: Inititiele contracttermijn van 4jr | I32: Mogelijke verlengingen (9x 1 jaar)
B33: B.1. Onderhoud- en support conform het SLA | E33: jaar 1 | F33: jaar 2 | G33: jaar 3 | H33: jaar 4 | I33: jaar 5 | J33: jaar 6 | K33: jaar 7 | L33: jaar 8 | M33: jaar 9 | N33: jaar 10 | O33: jaar 11 | P33: jaar 12 | Q33: jaar 13 | R33: Totale kosten (inc. BTW)
B34: ='B.2 Hosting&Beheer'!B5 -> Hosting | E34: ='B.2 Hosting&Beheer'!D11 -> 0 | F34: ='B.2 Hosting&Beheer'!E11 -> 0 | G34: ='B.2 Hosting&Beheer'!F11 -> 0 | H34: ='B.2 Hosting&Beheer'!G11 -> 0 | I34: ='B.2 Hosting&Beheer'!H11 -> 0 | J34: ='B.2 Hosting&Beheer'!I11 -> 0 | K34: ='B.2 Hosting&Beheer'!J11 -> 0 | L34: ='B.2 Hosting&Beheer'!K11 -> 0 | ... Q34: ='B.2 Hosting&Beheer'!P11 -> 0 | R34: =SUM(E34:Q34) -> 0
B35: ='B.2 Hosting&Beheer'!B13 -> Beheer en onderhoudskosten | E35: ='B.2 Hosting&Beheer'!D20 -> 350000 | F35: ='B.2 Hosting&Beheer'!E20 -> 350000 | G35: ='B.2 Hosting&Beheer'!F20 -> 350000 | H35: ='B.2 Hosting&Beheer'!G20 -> 350000 | I35: ='B.2 Hosting&Beheer'!H20 -> 350000 | J35: ='B.2 Hosting&Beheer'!I20 -> 350000 | K35: ='B.2 Hosting&Beheer'!J20 -> 350000 | L35: ='B.2 Hosting&Beheer'!K20 -> 350000 | ... Q35: ='B.2 Hosting&Beheer'!P20 -> 350000 | R35: =SUM(E35:Q35) -> 4550000
B36: Totale kosten onderdeel B (incl. BTW) | R36: =SUM(R34:R35) -> 4550000
B39: Totale kosten Onderdeel A + B (incl. BTW)
R40: =I17+R36 -> 4550000
G43: Niet invullen, automatische optelling
G44: Invulveld voor Inschijver
C47: Toelichting: | D47: 1. De Totale kosten dienen aan de in het Programma van Eisen beschreven Knock Out eisen te voldoen.
D48: 2. In de Totale kosten dienen ook het door Inschrijver en Toeleverancier aangeboden kwalitatieve gunningcriteria te zijn verdisconteerd.
D49: 3. De kosten in het Prijzenblad zijn exclusief indexatie. Indexatieafspraken zijn meegenomen in de overeenkomst.
D50: 4. In de aangeboden Totale kosten zijn tenminste de volgende prijscomponenten inbegrepen:
D51: a. Reiskosten
...

Sheet A1. Implementatie
A1: Onderdeel A.1., Kosten voor de Implementatie van het MVP (Prijsplafond €8.500.000,-)
A3: # | B3: Procesfamilie | C3: Jr. Consultant | E3: Md. Consultant | G3: Sr. Consultant | I3: Projectleider | K3: Projectsupport | M3: Extra rol 1 | O3: Extra rol 2 | Q3: Totaal
B4: Implementatie MVP | C4: Uren | D4: Tarief | E4: Uren | F4: Tarief | G4: Uren | H4: Tarief | I4: Uren | J4: Tarief | K4: Uren | L4: Tarief | M4: Uren | N4: Tarief | O4: Uren | P4: Tarief
A5: 1 | B5: Plan to Control (P2Ctrl) | C5: 0 | D5: 0 | E5: 0 | F5: 0 | G5: 0 | H5: 0 | I5: 0 | J5: 0 | K5: 0 | L5: 0 | M5: 0 | N5: 0 | O5: 0 | P5: 0 | Q5: =(C5*D5)+(E5*F5)+(G5*H5)+(I5*J5)+(K5*L5)+(M5*N5)+(O5*P5) -> 0
A6: 2 | B6: Source to Contract (S2C) | C6: 0 | D6: 0 | E6: 0 | F6: 0 | G6: 0 | H6: 0 | I6: 0 | J6: 0 | K6: 0 | L6: 0 | M6: 0 | N6: 0 | O6: 0 | P6: 0 | Q6: =(C6*D6)+(E6*F6)+(G6*H6)+(I6*J6)+(K6*L6)+(M6*N6)+(O6*P6) -> 0
A7: 3 | B7: Purchase to Pay (P2P) | C7: 0 | D7: 0 | E7: 0 | F7: 0 | G7: 0 | H7: 0 | I7: 0 | J7: 0 | K7: 0 | L7: 0 | M7: 0 | N7: 0 | O7: 0 | P7: 0 | Q7: =(C7*D7)+(E7*F7)+(G7*H7)+(I7*J7)+(K7*L7)+(M7*N7)+(O7*P7) -> 0
A8: 4 | B8: Inventory to Fulfillment (I2F) | C8: 0 | D8: 0 | E8: 0 | F8: 0 | G8: 0 | H8: 0 | I8: 0 | J8: 0 | K8: 0 | L8: 0 | M8: 0 | N8: 0 | O8: 0 | P8: 0 | Q8: =(C8*D8)+(E8*F8)+(G8*H8)+(I8*J8)+(K8*L8)+(M8*N8)+(O8*P8) -> 0
A9: 5 | B9: Quote to Contract (Q2C) | C9: 0 | D9: 0 | E9: 0 | F9: 0 | G9: 0 | H9: 0 | I9: 0 | J9: 0 | K9: 0 | L9: 0 | M9: 0 | N9: 0 | O9: 0 | P9: 0 | Q9: =(C9*D9)+(E9*F9)+(G9*H9)+(I9*J9)+(K9*L9)+(M9*N9)+(O9*P9) -> 0
A10: 6 | B10: Project to Close (P2C) | C10: 0 | D10: 0 | E10: 0 | F10: 0 | G10: 0 | H10: 0 | I10: 0 | J10: 0 | K10: 0 | L10: 0 | M10: 0 | N10: 0 | O10: 0 | P10: 0 | Q10: =(C10*D10)+(E10*F10)+(G10*H10)+(I10*J10)+(K10*L10)+(M10*N10)+(O10*P10) -> 0
A11: 7 | B11: Record to Report (R2R) | C11: 0 | D11: 0 | E11: 0 | F11: 0 | G11: 0 | H11: 0 | I11: 0 | J11: 0 | K11: 0 | L11: 0 | M11: 0 | N11: 0 | O11: 0 | P11: 0 | Q11: =(C11*D11)+(E11*F11)+(G11*H11)+(I11*J11)+(K11*L11)+(M11*N11)+(O11*P11) -> 0
A12: 8 | B12: Order to Cash (O2C) | C12: 0 | D12: 0 | E12: 0 | F12: 0 | G12: 0 | H12: 0 | I12: 0 | J12: 0 | K12: 0 | L12: 0 | M12: 0 | N12: 0 | O12: 0 | P12: 0 | Q12: =(C12*D12)+(E12*F12)+(G12*H12)+(I12*J12)+(K12*L12)+(M12*N12)+(O12*P12) -> 0
A13: 9 | B13: Non-functionals en generieke eisen | C13: 0 | D13: 0 | E13: 0 | F13: 0 | G13: 0 | H13: 0 | I13: 0 | J13: 0 | K13: 0 | L13: 0 | M13: 0 | N13: 0 | O13: 0 | P13: 0 | Q13: =(C13*D13)+(E13*F13)+(G13*H13)+(I13*J13)+(K13*L13)+(M13*N13)+(O13*P13) -> 0
A14: 10 | B14: Aanpassingen Bill of Materials | C14: Geef een totaalprijs van alle nodige aanpassingen. Gedetaileerde weergave van de aanpassingen moeten terugkomen in C.1 | Q14: 0
Q16: Prijsplafond: €8.500.000,-
A17: Totaal A.1. (incl. BTW) | Q17: =SUM(Q5:Q14) -> 0

Sheet B.1 Ontwikkeling&Optimalisatie
A1: Onderdeel B.1., Raming voor doorontwikkeling en optimalisatie Prijsplafond €3.900.000,-
A3: # | B3: Procesfamilie
B4: Doorontwikkeling en optimalisatie | C4: Raming (uren) | D4: Tarief
A5: 1 | B5: Jr. Consultant | C5: 2500 | D5: 0
A6: 2 | B6: Md. Consultant | C6: 2000 | D6: 0
A7: 3 | B7: Sr. Consultant | C7: 1500 | D7: 0
A8: 4 | B8: Projectleider | C8: 1750 | D8: 0
A9: 5 | B9: Projectsupport | C9: 3500 | D9: 0
A10: 6 | B10: Extra rol 1 | C10: 500 | D10: 0
A11: 7 | B11: Extra rol 2 | C11: 750 | D11: 0
B12: Totaal | D12: =SUM(D5:D11) -> 0

Sheet B.2 Hosting&Beheer
A1: Onderdeel B.2, Kosten van hosting, onderhoud, beheer en support (op basis van SLA, kosten incl. btw) Prijsplafond €22.100.000,-
A3: # | B3: Functionaliteit | C3: Nadere toelichting Aangeboden onderdelen, Tarief + raming aantal uren enz. | D3: Contractjaar 1 | E3: Contractjaar 2 | F3: Contractjaar 3 | G3: Contractjaar 4 | H3: Contractjaar 5 | I3: Contractjaar 6 | J3: Contractjaar 7 | K3: Contractjaar 8 | L3: Contractjaar 9 | M3: Contractjaar 10 | N3: Contractjaar 11 | O3: Contractjaar 12 | P3: Contractjaar 13
D4: Initiele Contractperiode vanaf Go-Live
B5: Hosting | H5: Potentiele contractverlengingen
A6: 1 | B6: Onderdeel A | D6: 0 | E6: 0 | F6: 0 | G6: 0 | H6: 0 | I6: 0 | J6: 0 | K6: 0 | L6: 0 | M6: 0 | N6: 0 | O6: 0 | P6: 0
A7: 2 | B7: Onderdeel B | D7: 0 | E7: 0 | F7: 0 | G7: 0 | H7: 0 | I7: 0 | J7: 0 | K7: 0 | L7: 0 | M7: 0 | N7: 0 | O7: 0 | P7: 0
A8: 3 | B8: Onderdeel C | D8: 0 | E8: 0 | F8: 0 | G8: 0 | H8: 0 | I8: 0 | J8: 0 | K8: 0 | L8: 0 | M8: 0 | N8: 0 | O8: 0 | P8: 0
A9: 4 | B9: Onderdeel D | D9: 0 | E9: 0 | F9: 0 | G9: 0 | H9: 0 | I9: 0 | J9: 0 | K9: 0 | L9: 0 | M9: 0 | N9: 0 | O9: 0 | P9: 0
A10: 5 | B10: ... | D10: 0 | E10: 0 | F10: 0 | G10: 0 | H10: 0 | I10: 0 | J10: 0 | K10: 0 | L10: 0 | M10: 0 | N10: 0 | O10: 0 | P10: 0
B11: Totaal | D11: =SUM(D6:D10) -> 0 | E11: =SUM(E6:E10) -> 0 | F11: =SUM(F6:F10) -> 0 | G11: =SUM(G6:G10) -> 0 | H11: =SUM(H6:H10) -> 0 | I11: =SUM(I6:I10) -> 0 | J11: =SUM(J6:J10) -> 0 | K11: =SUM(K6:K10) -> 0 | ... P11: =SUM(P6:P10) -> 0
B13: Beheer en onderhoudskosten
A14: 1 | B14: Maintenance Fee SAP Nederland (huidige licenties) | D14: 350000 | E14: 350000 | F14: 350000 | G14: 350000 | H14: 350000 | I14: 350000 | J14: 350000 | K14: 350000 | L14: 350000 | M14: 350000 | N14: 350000 | O14: 350000 | P14: 350000
A15: 2 | B15: Maintenance Fee SAP Nederland (nieuwe en aanvullende licenties) | D15: 0 | E15: 0 | F15: 0 | G15: 0 | H15: 0 | I15: 0 | J15: 0 | K15: 0 | L15: 0 | M15: 0 | N15: 0 | O15: 0 | P15: 0
A16: 3 | B16: Onderdeel B | D16: 0 | E16: 0 | F16: 0 | G16: 0 | H16: 0 | I16: 0 | J16: 0 | K16: 0 | L16: 0 | M16: 0 | N16: 0 | O16: 0 | P16: 0
A17: 4 | B17: Onderdeel C | D17: 0 | E17: 0 | F17: 0 | G17: 0 | H17: 0 | I17: 0 | J17: 0 | K17: 0 | L17: 0 | M17: 0 | N17: 0 | O17: 0 | P17: 0
A18: 5 | B18: Onderdeel D | D18: 0 | E18: 0 | F18: 0 | G18: 0 | H18: 0 | I18: 0 | J18: 0 | K18: 0 | L18: 0 | M18: 0 | N18: 0 | O18: 0 | P18: 0
A19: 6 | B19: ... | D19: 0 | E19: 0 | F19: 0 | G19: 0 | H19: 0 | I19: 0 | J19: 0 | K19: 0 | L19: 0 | M19: 0 | N19: 0 | O19: 0 | P19: 0
B20: Totaal | D20: =SUM(D14:D19) -> 350000 | E20: =SUM(E14:E19) -> 350000 | F20: =SUM(F14:F19) -> 350000 | G20: =SUM(G14:G19) -> 350000 | H20: =SUM(H14:H19) -> 350000 | I20: =SUM(I14:I19) -> 350000 | J20: =SUM(J14:J19) -> 350000 | K20: =SUM(K14:K19) -> 350000 | ... P20: =SUM(P14:P19) -> 350000
Q21: Prijsplafond €22.100.000,-
A22: Totaal B.2 (incl. BTW) | D22: =D11+D20 -> 350000 | E22: =E11+E20 -> 350000 | F22: =F11+F20 -> 350000 | G22: =G11+G20 -> 350000 | H22: =H11+H20 -> 350000 | I22: =I11+I20 -> 350000 | J22: =J11+J20 -> 350000 | K22: =K11+K20 -> 350000 | ... P22: =P11+P20 -> 350000 | Q22: =SUM(D22:P22) -> 4550000
B24: * = Het eerste contractjaar start vanaf Go Live, Go Live gaat pas in nadat de Acceptatieprocudure is doorlopen.
B25: * = Lichtblauwe regels die niet ingevuld zijn mogen door Deelnemer worden verwijderd
B26: * = Bedragen dienen in € (euro) vermeld te worden
B27: * = Bedragen dienen met twee decimalen achter de komma te worden vermeld.

Sheet C.1 Toelichting
