Workbook
Name afr: #REF!
Name afrind: 'General Info'!$B$17
Name cad: #REF!
Name ign: 'General Info'!$B$5
Name igo: 'General Info'!$B$6
Name iin: 'General Info'!$B$7
Name iio: 'General Info'!$B$8
Name index: #REF!
Name index2002: #REF!
Name premieGM: 'General Info'!#REF!
Name premieOW: 'General Info'!#REF!
Name vvd: #REF!

Sheet General Info
A3: Index-cijfers:
A4: Omschrijving: | B4: Indexcijfer:
A5: Index geb Troostwijk nw | B5: 138.1
A6: Index geb Troostwijk oud | B6: 133.4
A7: Index inv troostwijk nw | B7: 133.4
A8: Index inv troostwijk oud | B8: 129.6
A17: Afronding index | B17: -3

Sheet Polisblad
A1: Overzicht Polisblad d.d. 1 janauri 2026
A2: ='Bestand dd 1 januari 2026'!A2 -> behorende bij polis nr. B0100093042 ten name van:
A3: ='Bestand dd 1 januari 2026'!A3 -> Gemeente Veere
A5: Gemeentelijk Bezit:
A6: 1. Gebouwen | B6: ='Bestand dd 1 januari 2026'!G146 -> 172652000
A7: 2. Inventaris | B7: ='Bestand dd 1 januari 2026'!H146 -> 10196000
A9: Onderwijs:
A10: 5. Gebouwen | B10: ='Bestand dd 1 januari 2026'!G164 -> 33999000
A11: 6. Inventaris | B11: ='Bestand dd 1 januari 2026'!H164 -> 5833000
B13: =SUM(B6:B12) -> 222680000
A18: Stand per 1 januari 2025: | B18: ='Bestand dd 1 januari 2026'!O167 -> 202879000
A19: mutaties 2025 | B19: ='Bestand dd 1 januari 2026'!U167-13250000 -> -481000
B20: =SUM(B18:B19) -> 202398000
A21: Index per 1 januari 2026 | B21: ='Bestand dd 1 januari 2026'!R167 -> 7032000
A22: Stand per 1 januari 2026 | B22: =SUM(B20:B21) -> 209430000
A24: Mutatie per 27 januari 2026 | B24: 13250000
B25: =B22+B24 -> 222680000

Sheet Bestand dd 1 januari 2026
A1: Bestand d.d. 1 januari 2026
A2: behorende bij polis nr. B0100093042 ten name van: | AB2: Risico Informatie:
A3: Gemeente Veere | J3: Attentie: Lees eerst de instructies onderaan deze lijst. | AB3: Inbraakmeld- installatie met doormelding ja/nee | AC3: Brandmeld- installatie met doormelding ja/nee | AD3: Sprinkler- installatie met doormelding ja/nee | AE3: Leegstaand ja/nee | AF3: Indien leegstaand: vorm van toezicht aanwezig (bijv. Anti-kraak) ja/nee | AG3: Zonnepanelen ja/nee | AH3: Indien ja , is de installatie scope 12 goedgekeurd ? Ja/nee | AI3: Asbest in het gebouw ? Ja nee, onbekend | AJ3: Omheind met hekwerken ?
G4: Stand per 1 januari 2026 (na indexering) | J4: Stand per 31 december 2025 | M4: Stand per 1 januari 2025 | P4: Indexering per 1 januari 2026 | S4: Mutaties termijn 1 januari 2025/2026: | X4: Meest recent bestand 2026:
A5: Adres: | B5: Plaats | C5: Postcode | D5: Omschrijving | E5: Bouwaard | F5: Taxatiedatum: | G5: Gebouwen: | H5: Inventaris: | I5: Totaal | J5: Gebouwen: | K5: Inventaris: | L5: Totaal | M5: Gebouwen: | N5: Inventaris: | O5: Totaal | P5: Gebouwen: | Q5: Inventaris: | R5: Totaal | S5: Gebouwen: | T5: Inventaris: | U5: Totaal | V5: Premieverr. 50% | X5: omschrijving | Y5: Afwijking | Z5: Opmerking
A6: Gemeentelijk Bezit:
A7: Agathastraat 4 | B7: Aagtekerke | C7: 4363 BD | D7: Gymzaal | F7: - | G7: =ROUND(J7*ign/igo,afrind) -> 0 | H7: =ROUND(K7*iin/iio,afrind) -> 0 | I7: =SUM(G7:H7) -> 0 | J7: 0 | K7: 0 | L7: =SUM(J7:K7) -> 0 | M7: 0 | N7: 0 | O7: =SUM(M7:N7) -> 0 | P7: =G7-J7 -> 0 | Q7: =H7-K7 -> 0 | R7: =SUM(P7:Q7) -> 0 | S7: =J7-M7 -> 0 | T7: =K7-N7 -> 0 | U7: =SUM(S7:T7) -> 0 | V7: =ROUND(U7*premieGM,2) -> #REF! | X7: Gymzaal | Y7: =IF(D7=X7,"",D7 & " ≠ " & X7) | AB7: =IF(ISBLANK(AB7),"nee",AB7) -> 0
A8: Agathastraat 3 | B8: Aagtekerke | C8: 4363 BC | D8: Multi Functionele Accommodatie (MFA) Amicitia incl. openbaar toiletunit | F8: 45658 | G8: =ROUND(J8*ign/igo,afrind) -> 4228000 | H8: =ROUND(K8*iin/iio,afrind) -> 268000 | I8: =SUM(G8:H8) -> 4496000 | J8: 4084000 | K8: 260000 | L8: =SUM(J8:K8) -> 4344000 | M8: 4016000 | N8: 260000 | O8: =SUM(M8:N8) -> 4276000 | P8: =G8-J8 -> 144000 | Q8: =H8-K8 -> 8000 | R8: =SUM(P8:Q8) -> 152000 | S8: =J8-M8 -> 68000 | T8: =K8-N8 -> 0 | U8: =SUM(S8:T8) -> 68000 | V8: =ROUND(U8*premieGM,2) -> #REF! | X8: Multi Functionele Accommodatie (MFA) Amicitia | Y8: =IF(D8=X8,"",D8 & " ≠ " & X8) -> Multi Functionele Accommodatie (MFA) Amicitia incl. openbaar toiletunit ≠ Multi Functionele Accommodatie (MFA) Amicitia | Z8: Hier is een toiletunit bijgekomen in 2025. Vandaar dat de stand per 31 december op 4.084.000 staat. In het defnitieve bestand is de verhoging niet opgenomen. Waarom niet? | AB8: ja | AC8: ja | AD8: nee | AE8: nee | AG8: ja | AH8: nee | AI8: geen asbest | AK8: uitvoering/actualisatie scope 12 in Q3/Q4 2026
A9: Prelaatweg 1 A | B9: Aagtekerke | C9: 4363 BB | D9: Aula / berging begraafplaats | F9: 45658 | G9: =ROUND(J9*ign/igo,afrind) -> 108000 | H9: =ROUND(K9*iin/iio,afrind) -> 0 | I9: =SUM(G9:H9) -> 108000 | J9: 104000 | K9: 0 | L9: =SUM(J9:K9) -> 104000 | M9: 104000 | N9: 0 | O9: =SUM(M9:N9) -> 104000 | P9: =G9-J9 -> 4000 | Q9: =H9-K9 -> 0 | R9: =SUM(P9:Q9) -> 4000 | S9: =J9-M9 -> 0 | T9: =K9-N9 -> 0 | U9: =SUM(S9:T9) -> 0 | V9: =ROUND(U9*premieGM,2) -> #REF! | X9: Aula / berging begraafplaats | Y9: =IF(D9=X9,"",D9 & " ≠ " & X9) | AB9: nee | AC9: nee | AD9: nee | AE9: nee | AG9: nee | AI9: geen asbest
A10: Molenwegje 3 | B10: Aagtekerke | C10: 4363 AJ | D10: Molen Aagtekerke | F10: 45658 | G10: =ROUND(J10*ign/igo,afrind) -> 1517000 | H10: =ROUND(K10*iin/iio,afrind) -> 0 | I10: =SUM(G10:H10) -> 1517000 | J10: 1465000 | K10: 0 | L10: =SUM(J10:K10) -> 1465000 | M10: 1465000 | N10: 0 | O10: =SUM(M10:N10) -> 1465000 | P10: =G10-J10 -> 52000 | Q10: =H10-K10 -> 0 | R10: =SUM(P10:Q10) -> 52000 | S10: =J10-M10 -> 0 | T10: =K10-N10 -> 0 | U10: =SUM(S10:T10) -> 0 | V10: =ROUND(U10*premieGM,2) -> #REF! | X10: Molen Aagtekerke | Y10: =IF(D10=X10,"",D10 & " ≠ " & X10) | AB10: nee | AC10: nee | AD10: nee | AE10: nee | AG10: nee | AI10: geen asbest
A11: Molenwegje 5 | B11: Aagtekerke | C11: 4363 AJ | D11: Bijgebouw bij Molen (voorheen VVV-kantoor) | F11: 45658 | G11: =ROUND(J11*ign/igo,afrind) -> 113000 | H11: =ROUND(K11*iin/iio,afrind) -> 0 | I11: =SUM(G11:H11) -> 113000 | J11: 109000 | K11: 0 | L11: =SUM(J11:K11) -> 109000 | M11: 109000 | N11: 0 | O11: =SUM(M11:N11) -> 109000 | P11: =G11-J11 -> 4000 | Q11: =H11-K11 -> 0 | R11: =SUM(P11:Q11) -> 4000 | S11: =J11-M11 -> 0 | T11: =K11-N11 -> 0 | U11: =SUM(S11:T11) -> 0 | V11: =ROUND(U11*premieGM,2) -> #REF! | X11: Bijgebouw bij Molen (voorheen VVV-kantoor) | Y11: =IF(D11=X11,"",D11 & " ≠ " & X11) | AB11: nee | AC11: nee | AD11: nee | AE11: nee | AG11: nee | AI11: geen asbest
A12: Dorpsplein 6 | B12: Aagtekerke | C12: 4363 AC | D12: Toren Aagtekerke | F12: 45658 | G12: =ROUND(J12*ign/igo,afrind) -> 2656000 | H12: =ROUND(K12*iin/iio,afrind) -> 0 | I12: =SUM(G12:H12) -> 2656000 | J12: 2566000 | K12: 0 | L12: =SUM(J12:K12) -> 2566000 | M12: 2566000 | N12: 0 | O12: =SUM(M12:N12) -> 2566000 | P12: =G12-J12 -> 90000 | Q12: =H12-K12 -> 0 | R12: =SUM(P12:Q12) -> 90000 | S12: =J12-M12 -> 0 | T12: =K12-N12 -> 0 | U12: =SUM(S12:T12) -> 0 | V12: =ROUND(U12*premieGM,2) -> #REF! | X12: Toren Aagtekerke | Y12: =IF(D12=X12,"",D12 & " ≠ " & X12) | AB12: nee | AC12: nee | AD12: nee | AE12: nee | AG12: nee | AI12: geen asbest
A13: Zoutelandseweg 20 | B13: Biggekerke | C13: 4373 AM | D13: Schuilvoorziening begraafplaats | F13: 45658 | G13: =ROUND(J13*ign/igo,afrind) -> 37000 | H13: =ROUND(K13*iin/iio,afrind) -> 0 | I13: =SUM(G13:H13) -> 37000 | J13: 36000 | K13: 0 | L13: =SUM(J13:K13) -> 36000 | M13: 36000 | N13: 0 | O13: =SUM(M13:N13) -> 36000 | P13: =G13-J13 -> 1000 | Q13: =H13-K13 -> 0 | R13: =SUM(P13:Q13) -> 1000 | S13: =J13-M13 -> 0 | T13: =K13-N13 -> 0 | U13: =SUM(S13:T13) -> 0 | V13: =ROUND(U13*premieGM,2) -> #REF! | X13: Schuilvoorziening begraafplaats | Y13: =IF(D13=X13,"",D13 & " ≠ " & X13) | AB13: nee | AC13: nee | AD13: nee | AE13: nee | AG13: nee | AI13: geen asbest
A14: Kerkplein 1 | B14: Biggekerke | C14: 4373 AA | D14: Toren Biggekerke | F14: 45658 | G14: =ROUND(J14*ign/igo,afrind) -> 2151000 | H14: =ROUND(K14*iin/iio,afrind) -> 0 | I14: =SUM(G14:H14) -> 2151000 | J14: 2078000 | K14: 0 | L14: =SUM(J14:K14) -> 2078000 | M14: 2078000 | N14: 0 | O14: =SUM(M14:N14) -> 2078000 | P14: =G14-J14 -> 73000 | Q14: =H14-K14 -> 0 | R14: =SUM(P14:Q14) -> 73000 | S14: =J14-M14 -> 0 | T14: =K14-N14 -> 0 | U14: =SUM(S14:T14) -> 0 | V14: =ROUND(U14*premieGM,2) -> #REF! | X14: Toren Biggekerke | Y14: =IF(D14=X14,"",D14 & " ≠ " & X14) | AB14: nee | AC14: nee | AD14: nee | AE14: nee | AG14: nee | AI14: geen asbest
A15: Valkenisseweg 41A | B15: Biggekerke | C15: 4373 AR | D15: Gemeenteloods/werkplaats | F15: 45658 | G15: =ROUND(J15*ign/igo,afrind) -> 597000 | H15: =ROUND(K15*iin/iio,afrind) -> 0 | I15: =SUM(G15:H15) -> 597000 | J15: 577000 | K15: 0 | L15: =SUM(J15:K15) -> 577000 | M15: 577000 | N15: 0 | O15: =SUM(M15:N15) -> 577000 | P15: =G15-J15 -> 20000 | Q15: =H15-K15 -> 0 | R15: =SUM(P15:Q15) -> 20000 | S15: =J15-M15 -> 0 | T15: =K15-N15 -> 0 | U15: =SUM(S15:T15) -> 0 | V15: =ROUND(U15*premieGM,2) -> #REF! | X15: Gemeenteloods/werkplaats | Y15: =IF(D15=X15,"",D15 & " ≠ " & X15) | AB15: nee | AC15: nee | AD15: nee | AE15: nee | AG15: nee | AI15: geen asbest | AJ15: ja
A16: Valkenisseweg 58 A | B16: Biggekerke | C16: 4373 AS | D16: Toiletunit parkeerterrein | F16: 45658 | G16: =ROUND(J16*ign/igo,afrind) -> 70000 | H16: =ROUND(K16*iin/iio,afrind) -> 0 | I16: =SUM(G16:H16) -> 70000 | J16: 68000 | K16: 0 | L16: =SUM(J16:K16) -> 68000 | M16: 68000 | N16: 0 | O16: =SUM(M16:N16) -> 68000 | P16: =G16-J16 -> 2000 | Q16: =H16-K16 -> 0 | R16: =SUM(P16:Q16) -> 2000 | S16: =J16-M16 -> 0 | T16: =K16-N16 -> 0 | U16: =SUM(S16:T16) -> 0 | V16: =ROUND(U16*premieGM,2) -> #REF! | X16: Toiletunit parkeerterrein | Y16: =IF(D16=X16,"",D16 & " ≠ " & X16) | AB16: nee | AC16: nee | AD16: nee | AE16: nee | AG16: ja | AH16: nee | AI16: geen asbest | AK16: uitvoering/actualisatie scope 12 in Q3/Q4 2026
A17: Diverse lokaties | B17: Diverse lokaties | C17: - | D17: Materieel gemeentewerken in div.gemeentewerkplaatsen/loodsen | F17: - | G17: =ROUND(J17*ign/igo,afrind) -> 0 | H17: =ROUND(K17*iin/iio,afrind) -> 322000 | I17: =SUM(G17:H17) -> 322000 | J17: 0 | K17: 313000 | L17: =SUM(J17:K17) -> 313000 | M17: 0 | N17: 313000 | O17: =SUM(M17:N17) -> 313000 | P17: =G17-J17 -> 0 | Q17: =H17-K17 -> 9000 | R17: =SUM(P17:Q17) -> 9000 | S17: =J17-M17 -> 0 | T17: =K17-N17 -> 0 | U17: =SUM(S17:T17) -> 0 | V17: =ROUND(U17*premieGM,2) -> #REF! | X17: Materieel gemeentewerken in div.gemeentewerkplaatsen/loodsen | Y17: =IF(D17=X17,"",D17 & " ≠ " & X17)
A18: Dr. J.G. Mezgerweg 6A t/m 6X | B18: Domburg | C18: 4357EV | D18: Huurdersbelang woonunits | F18: - | G18: =ROUND(J18*ign/igo,afrind) -> 5000 | H18: =ROUND(K18*iin/iio,afrind) -> 0 | I18: =SUM(G18:H18) -> 5000 | J18: 5000 | K18: 0 | L18: =SUM(J18:K18) -> 5000 | M18: 5000 | N18: 0 | O18: =SUM(M18:N18) -> 5000 | P18: =G18-J18 -> 0 | Q18: =H18-K18 -> 0 | R18: =SUM(P18:Q18) -> 0 | S18: =J18-M18 -> 0 | T18: =K18-N18 -> 0 | U18: =SUM(S18:T18) -> 0 | V18: =ROUND(U18*premieGM,2) -> #REF! | X18: Huurdersbelang woonunits | Y18: =IF(D18=X18,"",D18 & " ≠ " & X18)
A19: Traverse 1 | B19: Domburg | C19: 4357 ET | D19: Gemeentehuis Veere | F19: 45658 | G19: =ROUND(J19*ign/igo,afrind) -> 19575000 | H19: =ROUND(K19*iin/iio,afrind) -> 1716000 | I19: =SUM(G19:H19) -> 21291000 | J19: 18909000 | K19: 1667000 | L19: =SUM(J19:K19) -> 20576000 | M19: 18909000 | N19: 1667000 | O19: =SUM(M19:N19) -> 20576000 | P19: =G19-J19 -> 666000 | Q19: =H19-K19 -> 49000 | R19: =SUM(P19:Q19) -> 715000 | S19: =J19-M19 -> 0 | T19: =K19-N19 -> 0 | U19: =SUM(S19:T19) -> 0 | V19: =ROUND(U19*premieGM,2) -> #REF! | X19: Gemeentehuis Veere | Y19: =IF(D19=X19,"",D19 & " ≠ " & X19) | AB19: nee | AC19: nee | AD19: nee | AE19: nee | AG19: ja | AH19: nee | AI19: geen asbest | AK19: uitvoering/actualisatie scope 12 in Q3/Q4 2026
A20: Nijverheidsweg 1000 | B20: Domburg | C20: 4357 BX | D20: Gemeentewerkplaats | F20: 45658 | G20: =ROUND(J20*ign/igo,afrind) -> 0 | H20: =ROUND(K20*iin/iio,afrind) -> 0 | I20: =SUM(G20:H20) -> 0 | J20: 0 | K20: 0 | L20: =SUM(J20:K20) -> 0 | M20: 0 | N20: 0 | O20: =SUM(M20:N20) -> 0 | P20: =G20-J20 -> 0 | Q20: =H20-K20 -> 0 | R20: =SUM(P20:Q20) -> 0 | S20: =J20-M20 -> 0 | T20: =K20-N20 -> 0 | U20: =SUM(S20:T20) -> 0 | V20: =ROUND(U20*premieGM,2) -> #REF! | X20: Gemeentewerkplaats | Y20: =IF(D20=X20,"",D20 & " ≠ " & X20)
A21: Domburgseweg 24 bis (parkeer-terrein Irma) | B21: Domburg | C21: 4357 NH | D21: Openbaar toiletgebouw | F21: 45658 | G21: =ROUND(J21*ign/igo,afrind) -> 285000 | H21: =ROUND(K21*iin/iio,afrind) -> 0 | I21: =SUM(G21:H21) -> 285000 | J21: 275000 | K21: 0 | L21: =SUM(J21:K21) -> 275000 | M21: 275000 | N21: 0 | O21: =SUM(M21:N21) -> 275000 | P21: =G21-J21 -> 10000 | Q21: =H21-K21 -> 0 | R21: =SUM(P21:Q21) -> 10000 | S21: =J21-M21 -> 0 | T21: =K21-N21 -> 0 | U21: =SUM(S21:T21) -> 0 | V21: =ROUND(U21*premieGM,2) -> #REF! | X21: Openbaar toiletgebouw | Y21: =IF(D21=X21,"",D21 & " ≠ " & X21) | AB21: nee | AC21: nee | AD21: nee | AE21: nee | AG21: ja | AH21: nee | AI21: 0 | AK21: uitvoering/actualisatie scope 12 in Q3/Q4 2026
A22: Singel 47 | B22: Domburg | C22: 4357 BV | D22: Gemeentewerkplaats | F22: 45658 | G22: =ROUND(J22*ign/igo,afrind) -> 0 | H22: =ROUND(K22*iin/iio,afrind) -> 0 | I22: =SUM(G22:H22) -> 0 | J22: 0 | K22: 0 | L22: =SUM(J22:K22) -> 0 | M22: 0 | N22: 0 | O22: =SUM(M22:N22) -> 0 | P22: =G22-J22 -> 0 | Q22: =H22-K22 -> 0 | R22: =SUM(P22:Q22) -> 0 | S22: =J22-M22 -> 0 | T22: =K22-N22 -> 0 | U22: =SUM(S22:T22) -> 0 | V22: =ROUND(U22*premieGM,2) -> #REF! | X22: Gemeentewerkplaats | Y22: =IF(D22=X22,"",D22 & " ≠ " & X22)
A23: Hoek Zuidstraat 14/Singel 8 | B23: Domburg | C23: 4357 BH | D23: Fysio en peuterspeelzaal Domburg | F23: 45658 | G23: =ROUND(J23*ign/igo,afrind) -> 0 | H23: =ROUND(K23*iin/iio,afrind) -> 0 | I23: =SUM(G23:H23) -> 0 | J23: 0 | K23: 0 | L23: =SUM(J23:K23) -> 0 | M23: 0 | N23: 0 | O23: =SUM(M23:N23) -> 0 | P23: =G23-J23 -> 0 | Q23: =H23-K23 -> 0 | R23: =SUM(P23:Q23) -> 0 | S23: =J23-M23 -> 0 | T23: =K23-N23 -> 0 | U23: =SUM(S23:T23) -> 0 | V23: =ROUND(U23*premieGM,2) -> #REF! | X23: Fysio en peuterspeelzaal Domburg | Y23: =IF(D23=X23,"",D23 & " ≠ " & X23)
A24: Roosjesweg 1 | B24: Domburg | C24: 4357 ED | D24: Brandweergarage | F24: 45658 | G24: =ROUND(J24*ign/igo,afrind) -> 559000 | H24: =ROUND(K24*iin/iio,afrind) -> 10000 | I24: =SUM(G24:H24) -> 569000 | J24: 540000 | K24: 10000 | L24: =SUM(J24:K24) -> 550000 | M24: 540000 | N24: 10000 | O24: =SUM(M24:N24) -> 550000 | P24: =G24-J24 -> 19000 | Q24: =H24-K24 -> 0 | R24: =SUM(P24:Q24) -> 19000 | S24: =J24-M24 -> 0 | T24: =K24-N24 -> 0 | U24: =SUM(S24:T24) -> 0 | V24: =ROUND(U24*premieGM,2) -> #REF! | X24: Brandweergarage | Y24: =IF(D24=X24,"",D24 & " ≠ " & X24) | AB24: nee | AC24: nee | AD24: nee | AE24: nee | AG24: nee | AI24: geen asbest
A25: Babelweg 1 | B25: Domburg | C25: 4357 BT | D25: Schuilvoorziening begraafplaats (voorheen aula/berging) | F25: 45658 | G25: =ROUND(J25*ign/igo,afrind) -> 37000 | H25: =ROUND(K25*iin/iio,afrind) -> 0 | I25: =SUM(G25:H25) -> 37000 | J25: 36000 | K25: 0 | L25: =SUM(J25:K25) -> 36000 | M25: 36000 | N25: 0 | O25: =SUM(M25:N25) -> 36000 | P25: =G25-J25 -> 1000 | Q25: =H25-K25 -> 0 | R25: =SUM(P25:Q25) -> 1000 | S25: =J25-M25 -> 0 | T25: =K25-N25 -> 0 | U25: =SUM(S25:T25) -> 0 | V25: =ROUND(U25*premieGM,2) -> #REF! | X25: Schuilvoorziening begraafplaats (voorheen aula/berging) | Y25: =IF(D25=X25,"",D25 & " ≠ " & X25) | AB25: nee | AC25: nee | AD25: nee | AE25: nee | AG25: nee | AI25: geen asbest
A26: Roosjesweg 4 | B26: Domburg | C26: 4357 ED | D26: Molen Weltevreden | F26: 45658 | G26: =ROUND(J26*ign/igo,afrind) -> 1183000 | H26: =ROUND(K26*iin/iio,afrind) -> 0 | I26: =SUM(G26:H26) -> 1183000 | J26: 1143000 | K26: 0 | L26: =SUM(J26:K26) -> 1143000 | M26: 1143000 | N26: 0 | O26: =SUM(M26:N26) -> 1143000 | P26: =G26-J26 -> 40000 | Q26: =H26-K26 -> 0 | R26: =SUM(P26:Q26) -> 40000 | S26: =J26-M26 -> 0 | T26: =K26-N26 -> 0 | U26: =SUM(S26:T26) -> 0 | V26: =ROUND(U26*premieGM,2) -> #REF! | X26: Molen Weltevreden | Y26: =IF(D26=X26,"",D26 & " ≠ " & X26) | AB26: nee | AC26: nee | AD26: nee | AE26: nee | AG26: nee | AI26: geen asbest
A27: Markt 8 / Stationstraat 1 | B27: Domburg | C27: 4357 BK | D27: Toren | F27: 45658 | G27: =ROUND(J27*ign/igo,afrind) -> 3953000 | H27: =ROUND(K27*iin/iio,afrind) -> 104000 | I27: =SUM(G27:H27) -> 4057000 | J27: 3818000 | K27: 101000 | L27: =SUM(J27:K27) -> 3919000 | M27: 3818000 | N27: 101000 | O27: =SUM(M27:N27) -> 3919000 | P27: =G27-J27 -> 135000 | Q27: =H27-K27 -> 3000 | R27: =SUM(P27:Q27) -> 138000 | S27: =J27-M27 -> 0 | T27: =K27-N27 -> 0 | U27: =SUM(S27:T27) -> 0 | V27: =ROUND(U27*premieGM,2) -> #REF! | X27: Toren | Y27: =IF(D27=X27,"",D27 & " ≠ " & X27) | AB27: nee | AC27: nee | AD27: nee | AE27: nee | AG27: nee | AI27: geen asbest
A28: Singel 14 A | B28: Domburg | C28: 4357 BW | D28: Openbaar toiletgebouw op parkeerterrein Tramzicht | F28: 45658 | G28: =ROUND(J28*ign/igo,afrind) -> 0 | H28: =ROUND(K28*iin/iio,afrind) -> 0 | I28: =SUM(G28:H28) -> 0 | J28: 0 | K28: 0 | L28: =SUM(J28:K28) -> 0 | M28: 0 | N28: 0 | O28: =SUM(M28:N28) -> 0 | P28: =G28-J28 -> 0 | Q28: =H28-K28 -> 0 | R28: =SUM(P28:Q28) -> 0 | S28: =J28-M28 -> 0 | T28: =K28-N28 -> 0 | U28: =SUM(S28:T28) -> 0 | V28: =ROUND(U28*premieGM,2) -> #REF! | X28: Openbaar toiletgebouw op parkeerterrein Tramzicht | Y28: =IF(D28=X28,"",D28 & " ≠ " & X28)
A29: Kanonweistraat 30 | B29: Domburg | C29: 4357 CB | D29: Verenigingsgebouw Schuttershof | F29: 45658 | G29: =ROUND(J29*ign/igo,afrind) -> 3415000 | H29: =ROUND(K29*iin/iio,afrind) -> 322000 | I29: =SUM(G29:H29) -> 3737000 | J29: 3299000 | K29: 313000 | L29: =SUM(J29:K29) -> 3612000 | M29: 3299000 | N29: 313000 | O29: =SUM(M29:N29) -> 3612000 | P29: =G29-J29 -> 116000 | Q29: =H29-K29 -> 9000 | R29: =SUM(P29:Q29) -> 125000 | S29: =J29-M29 -> 0 | T29: =K29-N29 -> 0 | U29: =SUM(S29:T29) -> 0 | V29: =ROUND(U29*premieGM,2) -> #REF! | X29: Verenigingsgebouw Schuttershof | Y29: =IF(D29=X29,"",D29 & " ≠ " & X29) | AB29: ja | AC29: ja | AD29: nee | AE29: nee | AG29: nee | AI29: geen asbest
A30: Traverse 1 | B30: Domburg | C30: 4357 ET | D30: 5 koffieautomaten in gemeentehuis | F30: 45658 | G30: =ROUND(J30*ign/igo,afrind) -> 0 | H30: =ROUND(K30*iin/iio,afrind) -> 41000 | I30: =SUM(G30:H30) -> 41000 | J30: 0 | K30: 40000 | L30: =SUM(J30:K30) -> 40000 | M30: 0 | N30: 40000 | O30: =SUM(M30:N30) -> 40000 | P30: =G30-J30 -> 0 | Q30: =H30-K30 -> 1000 | R30: =SUM(P30:Q30) -> 1000 | S30: =J30-M30 -> 0 | T30: =K30-N30 -> 0 | U30: =SUM(S30:T30) -> 0 | V30: =ROUND(U30*premieGM,2) -> #REF! | X30: 5 koffieautomaten in gemeentehuis | Y30: =IF(D30=X30,"",D30 & " ≠ " & X30)
A31: Traverse 1A-1 t/m 1A-24 | B31: Domburg | C31: 4357 ET | D31: Chalets huisvesting Oekraïense ontheemden of statushouders | F31: - | G31: =ROUND(J31*ign/igo,afrind) -> 2236000 | H31: =ROUND(K31*iin/iio,afrind) -> 247000 | I31: =SUM(G31:H31) -> 2483000 | J31: =24*90000 -> 2160000 | K31: =10000*24 -> 240000 | L31: =SUM(J31:K31) -> 2400000 | M31: 0 | N31: 0 | O31: =SUM(M31:N31) -> 0 | P31: =G31-J31 -> 76000 | Q31: =H31-K31 -> 7000 | R31: =SUM(P31:Q31) -> 83000 | S31: =J31-M31 -> 2160000 | T31: =K31-N31 -> 240000 | U31: =SUM(S31:T31) -> 2400000 | V31: =ROUND(U31*premieGM,2) -> #REF! | Y31: Regel staat niet opgenomen in het muteerbestand! | AB31: nee | AC31: nee | AD31: nee | AE31: nee | AG31: nee | AI31: geen asbest
A32: Nehalenniaweg 1001 | B32: Domburg | C32: 4357 AW | D32: Kiosk midgetgolf | F32: 45658 | G32: =ROUND(J32*ign/igo,afrind) -> 0 | H32: =ROUND(K32*iin/iio,afrind) -> 0 | I32: =SUM(G32:H32) -> 0 | J32: 0 | K32: 0 | L32: =SUM(J32:K32) -> 0 | M32: 0 | N32: 0 | O32: =SUM(M32:N32) -> 0 | P32: =G32-J32 -> 0 | Q32: =H32-K32 -> 0 | R32: =SUM(P32:Q32) -> 0 | S32: =J32-M32 -> 0 | T32: =K32-N32 -> 0 | U32: =SUM(S32:T32) -> 0 | V32: =ROUND(U32*premieGM,2) -> #REF! | X32: Kiosk midgetgolf | Y32: =IF(D32=X32,"",D32 & " ≠ " & X32)
A33: Roosjesweg 8 en 8a | B33: Domburg | C33: 4357 ED | D33: Woning + recreatieverblijf | F33: 45658 | G33: =ROUND(J33*ign/igo,afrind) -> 656000 | H33: =ROUND(K33*iin/iio,afrind) -> 43000 | I33: =SUM(G33:H33) -> 699000 | J33: 634000 | K33: 42000 | L33: =SUM(J33:K33) -> 676000 | M33: 634000 | N33: 42000 | O33: =SUM(M33:N33) -> 676000 | P33: =G33-J33 -> 22000 | Q33: =H33-K33 -> 1000 | R33: =SUM(P33:Q33) -> 23000 | S33: =J33-M33 -> 0 | T33: =K33-N33 -> 0 | U33: =SUM(S33:T33) -> 0 | V33: =ROUND(U33*premieGM,2) -> #REF! | X33: Woning + recreatieverblijf | Y33: =IF(D33=X33,"",D33 & " ≠ " & X33) | AB33: nee | AC33: nee | AD33: nee | AE33: ja | AF33: ja | AG33: nee | AI33: geen asbest | AK33: wordt gesloopt Q4 2026
A34: Roosjesweg 16 | B34: Domburg | C34: 4357 ED | D34: Loods | F34: 45658 | G34: =ROUND(J34*ign/igo,afrind) -> 0 | H34: =ROUND(K34*iin/iio,afrind) -> 0 | I34: =SUM(G34:H34) -> 0 | J34: 0 | K34: 0 | L34: =SUM(J34:K34) -> 0 | M34: 0 | N34: 0 | O34: =SUM(M34:N34) -> 0 | P34: =G34-J34 -> 0 | Q34: =H34-K34 -> 0 | R34: =SUM(P34:Q34) -> 0 | S34: =J34-M34 -> 0 | T34: =K34-N34 -> 0 | U34: =SUM(S34:T34) -> 0 | V34: =ROUND(U34*premieGM,2) -> #REF! | X34: Loods | Y34: =IF(D34=X34,"",D34 & " ≠ " & X34)
A35: Singel 45 | B35: Domburg | C35: 4357 BV | D35: Loods | F35: 45658 | G35: =ROUND(J35*ign/igo,afrind) -> 0 | H35: =ROUND(K35*iin/iio,afrind) -> 0 | I35: =SUM(G35:H35) -> 0 | J35: 0 | K35: 0 | L35: =SUM(J35:K35) -> 0 | M35: 0 | N35: 0 | O35: =SUM(M35:N35) -> 0 | P35: =G35-J35 -> 0 | Q35: =H35-K35 -> 0 | R35: =SUM(P35:Q35) -> 0 | S35: =J35-M35 -> 0 | T35: =K35-N35 -> 0 | U35: =SUM(S35:T35) -> 0 | V35: =ROUND(U35*premieGM,2) -> #REF! | X35: Loods | Y35: =IF(D35=X35,"",D35 & " ≠ " & X35)
A36: Singel 49 | B36: Domburg | C36: 4357 BV | D36: Loods | F36: 45658 | G36: =ROUND(J36*ign/igo,afrind) -> 0 | H36: =ROUND(K36*iin/iio,afrind) -> 0 | I36: =SUM(G36:H36) -> 0 | J36: 0 | K36: 0 | L36: =SUM(J36:K36) -> 0 | M36: 0 | N36: 0 | O36: =SUM(M36:N36) -> 0 | P36: =G36-J36 -> 0 | Q36: =H36-K36 -> 0 | R36: =SUM(P36:Q36) -> 0 | S36: =J36-M36 -> 0 | T36: =K36-N36 -> 0 | U36: =SUM(S36:T36) -> 0 | V36: =ROUND(U36*premieGM,2) -> #REF! | X36: Loods | Y36: =IF(D36=X36,"",D36 & " ≠ " & X36)
A37: Nijverheidsweg 0 12 | B37: Domburg | C37: 4357 BX | D37: Loods | F37: 45658 | G37: =ROUND(J37*ign/igo,afrind) -> 0 | H37: =ROUND(K37*iin/iio,afrind) -> 0 | I37: =SUM(G37:H37) -> 0 | J37: 0 | K37: 0 | L37: =SUM(J37:K37) -> 0 | M37: 0 | N37: 0 | O37: =SUM(M37:N37) -> 0 | P37: =G37-J37 -> 0 | Q37: =H37-K37 -> 0 | R37: =SUM(P37:Q37) -> 0 | S37: =J37-M37 -> 0 | T37: =K37-N37 -> 0 | U37: =SUM(S37:T37) -> 0 | V37: =ROUND(U37*premieGM,2) -> #REF! | X37: Loods | Y37: =IF(D37=X37,"",D37 & " ≠ " & X37)
A38: Nijverheidsweg 9 | B38: Domburg | C38: 4357 BX | D38: Loods | F38: 45658 | G38: =ROUND(J38*ign/igo,afrind) -> 0 | H38: =ROUND(K38*iin/iio,afrind) -> 0 | I38: =SUM(G38:H38) -> 0 | J38: 0 | K38: 0 | L38: =SUM(J38:K38) -> 0 | M38: 0 | N38: 0 | O38: =SUM(M38:N38) -> 0 | P38: =G38-J38 -> 0 | Q38: =H38-K38 -> 0 | R38: =SUM(P38:Q38) -> 0 | S38: =J38-M38 -> 0 | T38: =K38-N38 -> 0 | U38: =SUM(S38:T38) -> 0 | V38: =ROUND(U38*premieGM,2) -> #REF! | X38: Loods | Y38: =IF(D38=X38,"",D38 & " ≠ " & X38)
A39: Nijverheidsweg 4 | B39: Domburg | C39: 4357 BX | D39: Loods | F39: 45658 | G39: =ROUND(J39*ign/igo,afrind) -> 0 | H39: =ROUND(K39*iin/iio,afrind) -> 0 | I39: =SUM(G39:H39) -> 0 | J39: 0 | K39: 0 | L39: =SUM(J39:K39) -> 0 | M39: 0 | N39: 0 | O39: =SUM(M39:N39) -> 0 | P39: =G39-J39 -> 0 | Q39: =H39-K39 -> 0 | R39: =SUM(P39:Q39) -> 0 | S39: =J39-M39 -> 0 | T39: =K39-N39 -> 0 | U39: =SUM(S39:T39) -> 0 | V39: =ROUND(U39*premieGM,2) -> #REF! | X39: Loods | Y39: =IF(D39=X39,"",D39 & " ≠ " & X39)
A40: Roosjesweg 2 A/B | B40: Domburg | C40: 4357 BB | D40: Toiletunit parkeerterrein de Molen (Westhove) | F40: 45658 | G40: =ROUND(J40*ign/igo,afrind) -> 70000 | H40: =ROUND(K40*iin/iio,afrind) -> 0 | I40: =SUM(G40:H40) -> 70000 | J40: 68000 | K40: 0 | L40: =SUM(J40:K40) -> 68000 | M40: 68000 | N40: 0 | O40: =SUM(M40:N40) -> 68000 | P40: =G40-J40 -> 2000 | Q40: =H40-K40 -> 0 | R40: =SUM(P40:Q40) -> 2000 | S40: =J40-M40 -> 0 | T40: =K40-N40 -> 0 | U40: =SUM(S40:T40) -> 0 | V40: =ROUND(U40*premieGM,2) -> #REF! | X40: Toiletunit parkeerterrein de Molen (Westhove) | Y40: =IF(D40=X40,"",D40 & " ≠ " & X40) | AB40: nee | AC40: nee | AD40: nee | AE40: nee | AG40: nee | AI40: geen asbest
A41: Nijverheidsweg 3 | B41: Domburg | D41: Loods | F41: - | G41: =ROUND(J41*ign/igo,afrind) -> 0 | H41: =ROUND(K41*iin/iio,afrind) -> 0 | I41: =SUM(G41:H41) -> 0 | J41: 0 | K41: 0 | L41: =SUM(J41:K41) -> 0 | M41: 0 | N41: 0 | O41: =SUM(M41:N41) -> 0 | P41: =G41-J41 -> 0 | Q41: =H41-K41 -> 0 | R41: =SUM(P41:Q41) -> 0 | S41: =J41-M41 -> 0 | T41: =K41-N41 -> 0 | U41: =SUM(S41:T41) -> 0 | V41: =ROUND(U41*premieGM,2) -> #REF! | X41: Loods | Y41: =IF(D41=X41,"",D41 & " ≠ " & X41)
A42: Schotsehoek 8 | B42: Gapinge | C42: 4352 AH | D42: Verenigingsgebouw De Spil | F42: 45658 | G42: =ROUND(J42*ign/igo,afrind) -> 1194000 | H42: =ROUND(K42*iin/iio,afrind) -> 118000 | I42: =SUM(G42:H42) -> 1312000 | J42: 1153000 | K42: 115000 | L42: =SUM(J42:K42) -> 1268000 | M42: 1153000 | N42: 115000 | O42: =SUM(M42:N42) -> 1268000 | P42: =G42-J42 -> 41000 | Q42: =H42-K42 -> 3000 | R42: =SUM(P42:Q42) -> 44000 | S42: =J42-M42 -> 0 | T42: =K42-N42 -> 0 | U42: =SUM(S42:T42) -> 0 | V42: =ROUND(U42*premieGM,2) -> #REF! | X42: Verenigingsgebouw De Spil | Y42: =IF(D42=X42,"",D42 & " ≠ " & X42) | AB42: nee | AC42: nee | AD42: nee | AE42: nee | AG42: ja | AH42: nee | AI42: geen asbest | AK42: uitvoering/actualisatie scope 12 in Q3/Q4 2026
A43: Platteweg 1 A | B43: Gapinge | C43: 4352 SK | D43: Aula / berging begraafplaats | F43: 45658 | G43: =ROUND(J43*ign/igo,afrind) -> 97000 | H43: =ROUND(K43*iin/iio,afrind) -> 0 | I43: =SUM(G43:H43) -> 97000 | J43: 94000 | K43: 0 | L43: =SUM(J43:K43) -> 94000 | M43: 94000 | N43: 0 | O43: =SUM(M43:N43) -> 94000 | P43: =G43-J43 -> 3000 | Q43: =H43-K43 -> 0 | R43: =SUM(P43:Q43) -> 3000 | S43: =J43-M43 -> 0 | T43: =K43-N43 -> 0 | U43: =SUM(S43:T43) -> 0 | V43: =ROUND(U43*premieGM,2) -> #REF! | X43: Aula / berging begraafplaats | Y43: =IF(D43=X43,"",D43 & " ≠ " & X43) | AB43: nee | AC43: nee | AD43: nee | AE43: nee | AG43: nee | AI43: geen asbest
A44: Dorpsstraat 25 | B44: Gapinge | C44: 4352 AA | D44: Toren | F44: 45658 | G44: =ROUND(J44*ign/igo,afrind) -> 2431000 | H44: =ROUND(K44*iin/iio,afrind) -> 32000 | I44: =SUM(G44:H44) -> 2463000 | J44: 2348000 | K44: 31000 | L44: =SUM(J44:K44) -> 2379000 | M44: 2348000 | N44: 31000 | O44: =SUM(M44:N44) -> 2379000 | P44: =G44-J44 -> 83000 | Q44: =H44-K44 -> 1000 | R44: =SUM(P44:Q44) -> 84000 | S44: =J44-M44 -> 0 | T44: =K44-N44 -> 0 | U44: =SUM(S44:T44) -> 0 | V44: =ROUND(U44*premieGM,2) -> #REF! | X44: Toren | Y44: =IF(D44=X44,"",D44 & " ≠ " & X44) | AB44: nee | AC44: nee | AD44: nee | AE44: nee | AG44: nee | AI44: geen asbest
A45: Schotsehoek | B45: Gapinge | C45: 4352 AH | D45: Kleedgebouw voetbalcomplex | F45: 45658 | G45: =ROUND(J45*ign/igo,afrind) -> 0 | H45: =ROUND(K45*iin/iio,afrind) -> 0 | I45: =SUM(G45:H45) -> 0 | J45: 0 | K45: 0 | L45: =SUM(J45:K45) -> 0 | M45: 94000 | N45: 0 | O45: =SUM(M45:N45) -> 94000 | P45: =G45-J45 -> 0 | Q45: =H45-K45 -> 0 | R45: =SUM(P45:Q45) -> 0 | S45: =J45-M45 -> -94000 | T45: =K45-N45 -> 0 | U45: =SUM(S45:T45) -> -94000 | V45: =ROUND(U45*premieGM,2) -> #REF! | X45: Kleedgebouw voetbalcomplex | Y45: Complex is afgebroken. Premie heb ik op nihil gzet | Z45: In muteerbestand 2026 staat dit pand er nog gewoon op. Waarom is dat?
A46: Traverse 1 | B46: gemeentehuis | C46: 4357 ET | D46: Computerapparatuur | F46: 45348 | G46: =ROUND(J46*ign/igo,afrind) -> 0 | H46: =ROUND(K46*iin/iio,afrind) -> 2252000 | I46: =SUM(G46:H46) -> 2252000 | J46: 0 | K46: 2188000 | L46: =SUM(J46:K46) -> 2188000 | M46: 0 | N46: 2188000 | O46: =SUM(M46:N46) -> 2188000 | P46: =G46-J46 -> 0 | Q46: =H46-K46 -> 64000 | R46: =SUM(P46:Q46) -> 64000 | S46: =J46-M46 -> 0 | T46: =K46-N46 -> 0 | U46: =SUM(S46:T46) -> 0 | V46: =ROUND(U46*premieGM,2) -> #REF! | X46: Computerapparatuur | Y46: =IF(D46=X46,"",D46 & " ≠ " & X46)
A47: Traverse 1 | B47: gemeentehuis | C47: 4357 ET | D47: Telefooncentrale | F47: - | G47: =ROUND(J47*ign/igo,afrind) -> 0 | H47: =ROUND(K47*iin/iio,afrind) -> 0 | I47: =SUM(G47:H47) -> 0 | J47: 0 | K47: 0 | L47: =SUM(J47:K47) -> 0 | M47: 0 | N47: 0 | O47: =SUM(M47:N47) -> 0 | P47: =G47-J47 -> 0 | Q47: =H47-K47 -> 0 | R47: =SUM(P47:Q47) -> 0 | S47: =J47-M47 -> 0 | T47: =K47-N47 -> 0 | U47: =SUM(S47:T47) -> 0 | V47: =ROUND(U47*premieGM,2) -> #REF! | X47: Telefooncentrale | Y47: =IF(D47=X47,"",D47 & " ≠ " & X47)
A48: Loodholseweg 3 | B48: Grijpskerke | C48: 4364 AT | D48: Aula / berging begraafplaats | F48: 45658 | G48: =ROUND(J48*ign/igo,afrind) -> 204000 | H48: =ROUND(K48*iin/iio,afrind) -> 37000 | I48: =SUM(G48:H48) -> 241000 | J48: 197000 | K48: 36000 | L48: =SUM(J48:K48) -> 233000 | M48: 197000 | N48: 36000 | O48: =SUM(M48:N48) -> 233000 | P48: =G48-J48 -> 7000 | Q48: =H48-K48 -> 1000 | R48: =SUM(P48:Q48) -> 8000 | S48: =J48-M48 -> 0 | T48: =K48-N48 -> 0 | U48: =SUM(S48:T48) -> 0 | V48: =ROUND(U48*premieGM,2) -> #REF! | X48: Aula / berging begraafplaats | Y48: =IF(D48=X48,"",D48 & " ≠ " & X48) | AB48: nee | AC48: nee | AD48: nee | AE48: nee | AG48: nee | AI48: geen asbest
A49: Kerkring 26 | B49: Grijpskerke | C49: 4364 NB | D49: Toren | F49: 45658 | G49: =ROUND(J49*ign/igo,afrind) -> 431000 | H49: =ROUND(K49*iin/iio,afrind) -> 0 | I49: =SUM(G49:H49) -> 431000 | J49: 416000 | K49: 0 | L49: =SUM(J49:K49) -> 416000 | M49: 416000 | N49: 0 | O49: =SUM(M49:N49) -> 416000 | P49: =G49-J49 -> 15000 | Q49: =H49-K49 -> 0 | R49: =SUM(P49:Q49) -> 15000 | S49: =J49-M49 -> 0 | T49: =K49-N49 -> 0 | U49: =SUM(S49:T49) -> 0 | V49: =ROUND(U49*premieGM,2) -> #REF! | X49: Toren | Y49: =IF(D49=X49,"",D49 & " ≠ " & X49) | AB49: nee | AC49: nee | AD49: nee | AE49: nee | AG49: nee | AI49: geen asbest
A50: Loodholseweg 6, | B50: Grijpskerke | C50: - | D50: Geluidsmeter | F50: - | G50: =ROUND(J50*ign/igo,afrind) -> 0 | H50: =ROUND(K50*iin/iio,afrind) -> 0 | I50: =SUM(G50:H50) -> 0 | J50: 0 | K50: 0 | L50: =SUM(J50:K50) -> 0 | M50: 0 | N50: 0 | O50: =SUM(M50:N50) -> 0 | P50: =G50-J50 -> 0 | Q50: =H50-K50 -> 0 | R50: =SUM(P50:Q50) -> 0 | S50: =J50-M50 -> 0 | T50: =K50-N50 -> 0 | U50: =SUM(S50:T50) -> 0 | V50: =ROUND(U50*premieGM,2) -> #REF! | X50: Geluidsmeter | Y50: =IF(D50=X50,"",D50 & " ≠ " & X50)
A51: Bakkersland/Baentje | B51: Grijpskerke | C51: 4364 BL | D51: Inventaris dorpshuis/gymzaal Nimmerdor, per 1-2-2012 | F51: - | G51: =ROUND(J51*ign/igo,afrind) -> 0 | H51: =ROUND(K51*iin/iio,afrind) -> 56000 | I51: =SUM(G51:H51) -> 56000 | J51: 0 | K51: 54000 | L51: =SUM(J51:K51) -> 54000 | M51: 0 | N51: 54000 | O51: =SUM(M51:N51) -> 54000 | P51: =G51-J51 -> 0 | Q51: =H51-K51 -> 2000 | R51: =SUM(P51:Q51) -> 2000 | S51: =J51-M51 -> 0 | T51: =K51-N51 -> 0 | U51: =SUM(S51:T51) -> 0 | V51: =ROUND(U51*premieGM,2) -> #REF! | X51: Inventaris dorpshuis/gymzaal Nimmerdor, per 1-2-2012 | Y51: =IF(D51=X51,"",D51 & " ≠ " & X51)
A52: Baayenhovenseweg 4 a | B52: Grijpskerke | C52: 4364 RH | D52: Loods | F52: 45658 | G52: =ROUND(J52*ign/igo,afrind) -> 2722000 | H52: =ROUND(K52*iin/iio,afrind) -> 1459000 | I52: =SUM(G52:H52) -> 4181000 | J52: 2629000 | K52: 1417000 | L52: =SUM(J52:K52) -> 4046000 | M52: 2629000 | N52: 1417000 | O52: =SUM(M52:N52) -> 4046000 | P52: =G52-J52 -> 93000 | Q52: =H52-K52 -> 42000 | R52: =SUM(P52:Q52) -> 135000 | S52: =J52-M52 -> 0 | T52: =K52-N52 -> 0 | U52: =SUM(S52:T52) -> 0 | V52: =ROUND(U52*premieGM,2) -> #REF! | X52: Loods | Y52: =IF(D52=X52,"",D52 & " ≠ " & X52) | AB52: nee | AC52: nee | AD52: nee | AE52: nee | AG52: ja | AH52: nee | AI52: 0 | AJ52: ja | AK52: uitvoering/actualisatie scope 12 in Q3/Q4 2026
A53: Keiweg 14A-1 t/m 14A-19 | B53: Koudekerke | C53: 4371MX | D53: Huurdersbelang woonunits | F53: - | G53: =ROUND(J53*ign/igo,afrind) -> 5000 | H53: =ROUND(K53*iin/iio,afrind) -> 0 | I53: =SUM(G53:H53) -> 5000 | J53: 5000 | K53: 0 | L53: =SUM(J53:K53) -> 5000 | M53: 5000 | N53: 0 | O53: =SUM(M53:N53) -> 5000 | P53: =G53-J53 -> 0 | Q53: =H53-K53 -> 0 | R53: =SUM(P53:Q53) -> 0 | S53: =J53-M53 -> 0 | T53: =K53-N53 -> 0 | U53: =SUM(S53:T53) -> 0 | V53: =ROUND(U53*premieGM,2) -> #REF! | X53: Huurdersbelang woonunits | Y53: =IF(D53=X53,"",D53 & " ≠ " & X53)
A54: Biggekerksestraat 6 | B54: Koudekerke | C54: 4371 EZ | D54: Schuilvoorziening begraafplaats (voorheen aula/berging) | F54: 45658 | G54: =ROUND(J54*ign/igo,afrind) -> 37000 | H54: =ROUND(K54*iin/iio,afrind) -> 0 | I54: =SUM(G54:H54) -> 37000 | J54: 36000 | K54: 0 | L54: =SUM(J54:K54) -> 36000 | M54: 36000 | N54: 0 | O54: =SUM(M54:N54) -> 36000 | P54: =G54-J54 -> 1000 | Q54: =H54-K54 -> 0 | R54: =SUM(P54:Q54) -> 1000 | S54: =J54-M54 -> 0 | T54: =K54-N54 -> 0 | U54: =SUM(S54:T54) -> 0 | V54: =ROUND(U54*premieGM,2) -> #REF! | X54: Schuilvoorziening begraafplaats (voorheen aula/berging) | Y54: =IF(D54=X54,"",D54 & " ≠ " & X54) | AB54: nee | AC54: nee | AD54: nee | AE54: nee | AG54: nee | AI54: geen asbest
A55: Van Speijkstraat 1 | B55: Koudekerke | C55: 4371 BG | D55: Verenigingsgebouw De Wip | F55: 45658 | G55: =ROUND(J55*ign/igo,afrind) -> 1076000 | H55: =ROUND(K55*iin/iio,afrind) -> 0 | I55: =SUM(G55:H55) -> 1076000 | J55: 1039000 | K55: 0 | L55: =SUM(J55:K55) -> 1039000 | M55: 1039000 | N55: 0 | O55: =SUM(M55:N55) -> 1039000 | P55: =G55-J55 -> 37000 | Q55: =H55-K55 -> 0 | R55: =SUM(P55:Q55) -> 37000 | S55: =J55-M55 -> 0 | T55: =K55-N55 -> 0 | U55: =SUM(S55:T55) -> 0 | V55: =ROUND(U55*premieGM,2) -> #REF! | X55: Verenigingsgebouw De Wip | Y55: =IF(D55=X55,"",D55 & " ≠ " & X55) | AB55: nee | AC55: nee | AD55: nee | AE55: nee | AG55: nee | AI55: geen asbest
A56: Meulpad | B56: Koudekerke | C56: 4371 MZ | D56: Abri / praathuisje | F56: 45658 | G56: =ROUND(J56*ign/igo,afrind) -> 54000 | H56: =ROUND(K56*iin/iio,afrind) -> 0 | I56: =SUM(G56:H56) -> 54000 | J56: 52000 | K56: 0 | L56: =SUM(J56:K56) -> 52000 | M56: 52000 | N56: 0 | O56: =SUM(M56:N56) -> 52000 | P56: =G56-J56 -> 2000 | Q56: =H56-K56 -> 0 | R56: =SUM(P56:Q56) -> 2000 | S56: =J56-M56 -> 0 | T56: =K56-N56 -> 0 | U56: =SUM(S56:T56) -> 0 | V56: =ROUND(U56*premieGM,2) -> #REF! | X56: Abri / praathuisje | Y56: =IF(D56=X56,"",D56 & " ≠ " & X56) | AB56: nee | AC56: nee | AD56: nee | AE56: nee | AG56: nee | AI56: geen asbest
A57: Dorpsplein 1 A | B57: Koudekerke | C57: 4371 AA | D57: Muziektent | F57: 45658 | G57: =ROUND(J57*ign/igo,afrind) -> 113000 | H57: =ROUND(K57*iin/iio,afrind) -> 0 | I57: =SUM(G57:H57) -> 113000 | J57: 109000 | K57: 0 | L57: =SUM(J57:K57) -> 109000 | M57: 109000 | N57: 0 | O57: =SUM(M57:N57) -> 109000 | P57: =G57-J57 -> 4000 | Q57: =H57-K57 -> 0 | R57: =SUM(P57:Q57) -> 4000 | S57: =J57-M57 -> 0 | T57: =K57-N57 -> 0 | U57: =SUM(S57:T57) -> 0 | V57: =ROUND(U57*premieGM,2) -> #REF! | X57: Muziektent | Y57: =IF(D57=X57,"",D57 & " ≠ " & X57) | AB57: nee | AC57: nee | AD57: nee | AE57: nee | AG57: nee | AI57: geen asbest
A58: Badhuisstraat 1 | B58: Koudekerke | C58: 4371 EL | D58: Brandweergarage | F58: 45658 | G58: =ROUND(J58*ign/igo,afrind) -> 613000 | H58: =ROUND(K58*iin/iio,afrind) -> 0 | I58: =SUM(G58:H58) -> 613000 | J58: 592000 | K58: 0 | L58: =SUM(J58:K58) -> 592000 | M58: 592000 | N58: 0 | O58: =SUM(M58:N58) -> 592000 | P58: =G58-J58 -> 21000 | Q58: =H58-K58 -> 0 | R58: =SUM(P58:Q58) -> 21000 | S58: =J58-M58 -> 0 | T58: =K58-N58 -> 0 | U58: =SUM(S58:T58) -> 0 | V58: =ROUND(U58*premieGM,2) -> #REF! | X58: Brandweergarage | Y58: =IF(D58=X58,"",D58 & " ≠ " & X58) | AB58: nee | AC58: nee | AD58: nee | AE58: nee | AG58: ja | AH58: nee | AI58: geen asbest | AK58: uitvoering/actualisatie scope 12 in Q3/Q4 2026
A59: Dorpsplein 1 | B59: Koudekerke | C59: 4371 AA | D59: Toren | F59: 45658 | G59: =ROUND(J59*ign/igo,afrind) -> 424000 | H59: =ROUND(K59*iin/iio,afrind) -> 0 | I59: =SUM(G59:H59) -> 424000 | J59: 410000 | K59: 0 | L59: =SUM(J59:K59) -> 410000 | M59: 410000 | N59: 0 | O59: =SUM(M59:N59) -> 410000 | P59: =G59-J59 -> 14000 | Q59: =H59-K59 -> 0 | R59: =SUM(P59:Q59) -> 14000 | S59: =J59-M59 -> 0 | T59: =K59-N59 -> 0 | U59: =SUM(S59:T59) -> 0 | V59: =ROUND(U59*premieGM,2) -> #REF! | X59: Toren | Y59: =IF(D59=X59,"",D59 & " ≠ " & X59) | AB59: nee | AC59: nee | AD59: nee | AE59: nee | AG59: nee | AI59: geen asbest
A60: Verlengde Dishoekseweg | B60: Koudekerke | C60: 4371 NK | D60: Openbaar toiletgebouw op parkeerplaats Dishoek | F60: - | G60: =ROUND(J60*ign/igo,afrind) -> 0 | H60: =ROUND(K60*iin/iio,afrind) -> 0 | I60: =SUM(G60:H60) -> 0 | J60: 0 | K60: 0 | L60: =SUM(J60:K60) -> 0 | M60: 0 | N60: 0 | O60: =SUM(M60:N60) -> 0 | P60: =G60-J60 -> 0 | Q60: =H60-K60 -> 0 | R60: =SUM(P60:Q60) -> 0 | S60: =J60-M60 -> 0 | T60: =K60-N60 -> 0 | U60: =SUM(S60:T60) -> 0 | V60: =ROUND(U60*premieGM,2) -> #REF! | X60: Openbaar toiletgebouw op parkeerplaats Dishoek | Y60: =IF(D60=X60,"",D60 & " ≠ " & X60)
A61: Anthonissenstraat 25 + Tramstraat 33 | B61: Koudekerke | C61: 4371 BZ | D61: Kinderdagverblijf, Peutergroep en BSO Pien (KOW), Tramstraat 33 gebruikt opvang statushouders | F61: 45658 | G61: =ROUND(J61*ign/igo,afrind) -> 5033000 | H61: =ROUND(K61*iin/iio,afrind) -> 0 | I61: =SUM(G61:H61) -> 5033000 | J61: 4862000 | K61: 0 | L61: =SUM(J61:K61) -> 4862000 | M61: 4862000 | N61: 0 | O61: =SUM(M61:N61) -> 4862000 | P61: =G61-J61 -> 171000 | Q61: =H61-K61 -> 0 | R61: =SUM(P61:Q61) -> 171000 | S61: =J61-M61 -> 0 | T61: =K61-N61 -> 0 | U61: =SUM(S61:T61) -> 0 | V61: =ROUND(U61*premieGM,2) -> #REF! | X61: Kinderdagverblijf, Peutergroep en BSO Pien (KOW), Tramstraat 33 gebruikt opvang Oekrainse vluchtelingen | Y61: =IF(D61=X61,"",D61 & " ≠ " & X61) -> Kinderdagverblijf, Peutergroep en BSO Pien (KOW), Tramstraat 33 gebruikt opvang statushouders ≠ Kinderdagverblijf, Peutergroep en BSO Pien (KOW), Tramstraat 33 gebruikt opvang Oekrainse vluchtelingen | AB61: nee | AC61: nee | AD61: nee | AE61: nee | AG61: nee | AI61: geen asbest | AJ61: ja
A62: Badhuisstraat 8 A | B62: Koudekerke | D62: Voormalige winkel (opslag spullen meubilair) | F62: 45658 | G62: =ROUND(J62*ign/igo,afrind) -> 510000 | H62: =ROUND(K62*iin/iio,afrind) -> 0 | I62: =SUM(G62:H62) -> 510000 | J62: 493000 | K62: 0 | L62: =SUM(J62:K62) -> 493000 | M62: 493000 | N62: 0 | O62: =SUM(M62:N62) -> 493000 | P62: =G62-J62 -> 17000 | Q62: =H62-K62 -> 0 | R62: =SUM(P62:Q62) -> 17000 | S62: =J62-M62 -> 0 | T62: =K62-N62 -> 0 | U62: =SUM(S62:T62) -> 0 | V62: =ROUND(U62*premieGM,2) -> #REF! | X62: Voormalige winkel (opslag spullen meubilair) | Y62: =IF(D62=X62,"",D62 & " ≠ " & X62) | AB62: nee | AC62: nee | AD62: nee | AE62: ja | AF62: nee | AG62: nee | AI62: asbest dak
A63: Galgeweg 10 A | B63: Koudekerke | C63: 4371 PE | D63: Toiletunit parkeerterrein Galgeweg | F63: 45658 | G63: =ROUND(J63*ign/igo,afrind) -> 70000 | H63: =ROUND(K63*iin/iio,afrind) -> 0 | I63: =SUM(G63:H63) -> 70000 | J63: 68000 | K63: 0 | L63: =SUM(J63:K63) -> 68000 | M63: 68000 | N63: 0 | O63: =SUM(M63:N63) -> 68000 | P63: =G63-J63 -> 2000 | Q63: =H63-K63 -> 0 | R63: =SUM(P63:Q63) -> 2000 | S63: =J63-M63 -> 0 | T63: =K63-N63 -> 0 | U63: =SUM(S63:T63) -> 0 | V63: =ROUND(U63*premieGM,2) -> #REF! | X63: Toiletunit parkeerterrein Galgeweg | Y63: =IF(D63=X63,"",D63 & " ≠ " & X63) | AB63: nee | AC63: nee | AD63: nee | AE63: nee | AG63: nee | AI63: geen asbest
A64: Anthonissenstraat 25 | B64: Koudekerke | C64: 4371 BZ | D64: Onderdeel van Tramstraat 31; SKOW Pien (Peuterspeelzaal) | F64: - | G64: =ROUND(J64*ign/igo,afrind) -> 0 | H64: =ROUND(K64*iin/iio,afrind) -> 0 | I64: =SUM(G64:H64) -> 0 | J64: 0 | K64: 0 | L64: =SUM(J64:K64) -> 0 | M64: 0 | N64: 0 | O64: =SUM(M64:N64) -> 0 | P64: =G64-J64 -> 0 | Q64: =H64-K64 -> 0 | R64: =SUM(P64:Q64) -> 0 | S64: =J64-M64 -> 0 | T64: =K64-N64 -> 0 | U64: =SUM(S64:T64) -> 0 | V64: =ROUND(U64*premieGM,2) -> #REF! | X64: Onderdeel van Tramstraat 31; SKOW Pien (Peuterspeelzaal) | Y64: =IF(D64=X64,"",D64 & " ≠ " & X64)
A65: Westduin 14 | B65: Koudekerke | C65: 4384 RC | D65: Openbaar toilet (Dishoek) | F65: - | G65: =ROUND(J65*ign/igo,afrind) -> 0 | H65: =ROUND(K65*iin/iio,afrind) -> 0 | I65: =SUM(G65:H65) -> 0 | J65: 0 | K65: 0 | L65: =SUM(J65:K65) -> 0 | M65: 0 | N65: 0 | O65: =SUM(M65:N65) -> 0 | P65: =G65-J65 -> 0 | Q65: =H65-K65 -> 0 | R65: =SUM(P65:Q65) -> 0 | S65: =J65-M65 -> 0 | T65: =K65-N65 -> 0 | U65: =SUM(S65:T65) -> 0 | V65: =ROUND(U65*premieGM,2) -> #REF! | X65: Openbaar toilet (Dishoek) | Y65: =IF(D65=X65,"",D65 & " ≠ " & X65)
A66: Dishoek 3A | B66: Koudekerke | C66: 4371 NS | D66: Openbaar Toilet | F66: 45658 | G66: =ROUND(J66*ign/igo,afrind) -> 70000 | H66: =ROUND(K66*iin/iio,afrind) -> 0 | I66: =SUM(G66:H66) -> 70000 | J66: 68000 | K66: 0 | L66: =SUM(J66:K66) -> 68000 | M66: 151000 | N66: 0 | O66: =SUM(M66:N66) -> 151000 | P66: =G66-J66 -> 2000 | Q66: =H66-K66 -> 0 | R66: =SUM(P66:Q66) -> 2000 | S66: =J66-M66 -> -83000 | T66: =K66-N66 -> 0 | U66: =SUM(S66:T66) -> -83000 | V66: =ROUND(U66*premieGM,2) -> #REF! | X66: Openbaar Toilet | Y66: In 2025 is er een nieuw gebouw neergezet | Z66: Premie heb ik verlaagd naar 68k in mijn verzonden bestand. Deze aanpassing is niet doorgevoerd | AB66: nee | AC66: nee | AD66: nee | AE66: nee | AG66: ja | AH66: nee | AI66: geen asbest | AK66: uitvoering/actualisatie scope 12 in Q3/Q4 2026
A67: Strandweg 8 | B67: Koudekerke | C67: 4371 PJ | D67: Openbaar Toilet | F67: 45658 | G67: =ROUND(J67*ign/igo,afrind) -> 70000 | H67: =ROUND(K67*iin/iio,afrind) -> 0 | I67: =SUM(G67:H67) -> 70000 | J67: 68000 | K67: 0 | L67: =SUM(J67:K67) -> 68000 | M67: 68000 | N67: 0 | O67: =SUM(M67:N67) -> 68000 | P67: =G67-J67 -> 2000 | Q67: =H67-K67 -> 0 | R67: =SUM(P67:Q67) -> 2000 | S67: =J67-M67 -> 0 | T67: =K67-N67 -> 0 | U67: =SUM(S67:T67) -> 0 | V67: =ROUND(U67*premieGM,2) -> #REF! | X67: Openbaar Toilet | Y67: =IF(D67=X67,"",D67 & " ≠ " & X67) | AB67: nee | AC67: nee | AD67: nee | AE67: nee | AG67: nee | AI67: geen asbest
A68: Duinstraat 4 A | B68: Koudekerke. | C68: 4371 AZ | D68: Dorpshuis/sporthal De Couburg | F68: 45658 | G68: =ROUND(J68*ign/igo,afrind) -> 8174000 | H68: =ROUND(K68*iin/iio,afrind) -> 389000 | I68: =SUM(G68:H68) -> 8563000 | J68: 7896000 | K68: 378000 | L68: =SUM(J68:K68) -> 8274000 | M68: 7896000 | N68: 378000 | O68: =SUM(M68:N68) -> 8274000 | P68: =G68-J68 -> 278000 | Q68: =H68-K68 -> 11000 | R68: =SUM(P68:Q68) -> 289000 | S68: =J68-M68 -> 0 | T68: =K68-N68 -> 0 | U68: =SUM(S68:T68) -> 0 | V68: =ROUND(U68*premieGM,2) -> #REF! | X68: Dorpshuis/sporthal De Couburg | Y68: =IF(D68=X68,"",D68 & " ≠ " & X68) | AB68: ja | AC68: ja | AD68: nee | AE68: nee | AG68: ja | AH68: nee | AI68: geen asbest | AK68: uitvoering/actualisatie scope 12 in Q3/Q4 2026
A69: Middelburgsestraat 110 | B69: Kouderkerke | C69: 4371 EV | D69: Molen De Lelie | F69: 45658 | G69: =ROUND(J69*ign/igo,afrind) -> 1646000 | H69: =ROUND(K69*iin/iio,afrind) -> 0 | I69: =SUM(G69:H69) -> 1646000 | J69: 1590000 | K69: 0 | L69: =SUM(J69:K69) -> 1590000 | M69: 1590000 | N69: 0 | O69: =SUM(M69:N69) -> 1590000 | P69: =G69-J69 -> 56000 | Q69: =H69-K69 -> 0 | R69: =SUM(P69:Q69) -> 56000 | S69: =J69-M69 -> 0 | T69: =K69-N69 -> 0 | U69: =SUM(S69:T69) -> 0 | V69: =ROUND(U69*premieGM,2) -> #REF! | X69: Molen De Lelie | Y69: =IF(D69=X69,"",D69 & " ≠ " & X69) | AB69: nee | AC69: nee | AD69: nee | AE69: nee | AG69: nee | AI69: geen asbest
A70: Burg. Adelaarstraat 26 | B70: Meliskerke | C70: 4365 AH | D70: Verenigingsgebouw Ons Huis | F70: 45658 | G70: =ROUND(J70*ign/igo,afrind) -> 1452000 | H70: =ROUND(K70*iin/iio,afrind) -> 147000 | I70: =SUM(G70:H70) -> 1599000 | J70: 1403000 | K70: 143000 | L70: =SUM(J70:K70) -> 1546000 | M70: 1403000 | N70: 143000 | O70: =SUM(M70:N70) -> 1546000 | P70: =G70-J70 -> 49000 | Q70: =H70-K70 -> 4000 | R70: =SUM(P70:Q70) -> 53000 | S70: =J70-M70 -> 0 | T70: =K70-N70 -> 0 | U70: =SUM(S70:T70) -> 0 | V70: =ROUND(U70*premieGM,2) -> #REF! | X70: Verenigingsgebouw Ons Huis | Y70: =IF(D70=X70,"",D70 & " ≠ " & X70) | AB70: ja | AC70: nee | AD70: nee | AE70: nee | AG70: nee | AI70: geen asbest
A71: Burg. Adelaarstraat 24 | B71: Meliskerke | C71: 4365 AH | D71: Gymzaal | F71: 45658 | G71: =ROUND(J71*ign/igo,afrind) -> 1339000 | H71: =ROUND(K71*iin/iio,afrind) -> 109000 | I71: =SUM(G71:H71) -> 1448000 | J71: 1293000 | K71: 106000 | L71: =SUM(J71:K71) -> 1399000 | M71: 1293000 | N71: 106000 | O71: =SUM(M71:N71) -> 1399000 | P71: =G71-J71 -> 46000 | Q71: =H71-K71 -> 3000 | R71: =SUM(P71:Q71) -> 49000 | S71: =J71-M71 -> 0 | T71: =K71-N71 -> 0 | U71: =SUM(S71:T71) -> 0 | V71: =ROUND(U71*premieGM,2) -> #REF! | X71: Gymzaal | Y71: =IF(D71=X71,"",D71 & " ≠ " & X71) | AB71: nee | AC71: nee | AD71: nee | AE71: nee | AG71: nee | AI71: geen asbest
A72: Meliskerkseweg 1 | B72: Meliskerke | C72: 4365 NE | D72: Aula / berging begraafplaats | F72: 45658 | G72: =ROUND(J72*ign/igo,afrind) -> 285000 | H72: =ROUND(K72*iin/iio,afrind) -> 0 | I72: =SUM(G72:H72) -> 285000 | J72: 275000 | K72: 0 | L72: =SUM(J72:K72) -> 275000 | M72: 275000 | N72: 0 | O72: =SUM(M72:N72) -> 275000 | P72: =G72-J72 -> 10000 | Q72: =H72-K72 -> 0 | R72: =SUM(P72:Q72) -> 10000 | S72: =J72-M72 -> 0 | T72: =K72-N72 -> 0 | U72: =SUM(S72:T72) -> 0 | V72: =ROUND(U72*premieGM,2) -> #REF! | X72: Aula / berging begraafplaats | Y72: =IF(D72=X72,"",D72 & " ≠ " & X72) | AB72: nee | AC72: nee | AD72: nee | AE72: nee | AG72: nee | AI72: geen asbest
A73: Molenweg 3 | B73: Meliskerke | C73: 4365 NN | D73: Molen | F73: 45658 | G73: =ROUND(J73*ign/igo,afrind) -> 1226000 | H73: =ROUND(K73*iin/iio,afrind) -> 0 | I73: =SUM(G73:H73) -> 1226000 | J73: 1184000 | K73: 0 | L73: =SUM(J73:K73) -> 1184000 | M73: 1184000 | N73: 0 | O73: =SUM(M73:N73) -> 1184000 | P73: =G73-J73 -> 42000 | Q73: =H73-K73 -> 0 | R73: =SUM(P73:Q73) -> 42000 | S73: =J73-M73 -> 0 | T73: =K73-N73 -> 0 | U73: =SUM(S73:T73) -> 0 | V73: =ROUND(U73*premieGM,2) -> #REF! | X73: Molen | Y73: =IF(D73=X73,"",D73 & " ≠ " & X73) | AB73: nee | AC73: nee | AD73: nee | AE73: nee | AG73: nee | AI73: geen asbest
A74: Torenstraat 10 | B74: Meliskerke | C74: 4365 AE | D74: Toren | F74: 45658 | G74: =ROUND(J74*ign/igo,afrind) -> 1968000 | H74: =ROUND(K74*iin/iio,afrind) -> 0 | I74: =SUM(G74:H74) -> 1968000 | J74: 1901000 | K74: 0 | L74: =SUM(J74:K74) -> 1901000 | M74: 1901000 | N74: 0 | O74: =SUM(M74:N74) -> 1901000 | P74: =G74-J74 -> 67000 | Q74: =H74-K74 -> 0 | R74: =SUM(P74:Q74) -> 67000 | S74: =J74-M74 -> 0 | T74: =K74-N74 -> 0 | U74: =SUM(S74:T74) -> 0 | V74: =ROUND(U74*premieGM,2) -> #REF! | X74: Toren | Y74: =IF(D74=X74,"",D74 & " ≠ " & X74) | AB74: nee | AC74: nee | AD74: nee | AE74: nee | AG74: nee | AI74: geen asbest
A75: Burg. Adelaarstraat 1 | B75: Meliskerke | C75: 4365 AG | D75: Peuterspeelzaal | F75: - | G75: =ROUND(J75*ign/igo,afrind) -> 0 | H75: =ROUND(K75*iin/iio,afrind) -> 0 | I75: =SUM(G75:H75) -> 0 | J75: 0 | K75: 0 | L75: =SUM(J75:K75) -> 0 | M75: 0 | N75: 0 | O75: =SUM(M75:N75) -> 0 | P75: =G75-J75 -> 0 | Q75: =H75-K75 -> 0 | R75: =SUM(P75:Q75) -> 0 | S75: =J75-M75 -> 0 | T75: =K75-N75 -> 0 | U75: =SUM(S75:T75) -> 0 | V75: =ROUND(U75*premieGM,2) -> #REF! | X75: Peuterspeelzaal
A76: Jan Geertsesweg 2 | B76: Meliskerke | C76: 4365 NC | D76: Opvang statushouders | F76: 45566 | G76: =ROUND(J76*ign/igo,afrind) -> 927000 | H76: =ROUND(K76*iin/iio,afrind) -> 0 | I76: =SUM(G76:H76) -> 927000 | J76: 895000 | K76: 0 | L76: =SUM(J76:K76) -> 895000 | M76: 0 | N76: 0 | O76: =SUM(M76:N76) -> 0 | P76: =G76-J76 -> 32000 | Q76: =H76-K76 -> 0 | R76: =SUM(P76:Q76) -> 32000 | S76: =J76-M76 -> 895000 | T76: =K76-N76 -> 0 | U76: =SUM(S76:T76) -> 895000 | V76: =ROUND(U76*premieGM,2) -> #REF! | Y76: Regel staat niet opgenomen in het muteerbestand! | AB76: nee | AC76: nee | AD76: nee | AE76: nee | AG76: nee | AI76: geen asbest
A77: Ambachtstraat 2 | B77: Oostkapelle | C77: 4356 BW | D77: Openbaar Toilet | F77: 45658 | G77: =ROUND(J77*ign/igo,afrind) -> 70000 | H77: =ROUND(K77*iin/iio,afrind) -> 0 | I77: =SUM(G77:H77) -> 70000 | J77: 68000 | K77: 0 | L77: =SUM(J77:K77) -> 68000 | M77: 68000 | N77: 0 | O77: =SUM(M77:N77) -> 68000 | P77: =G77-J77 -> 2000 | Q77: =H77-K77 -> 0 | R77: =SUM(P77:Q77) -> 2000 | S77: =J77-M77 -> 0 | T77: =K77-N77 -> 0 | U77: =SUM(S77:T77) -> 0 | V77: =ROUND(U77*premieGM,2) -> #REF! | X77: Openbaar Toilet | Y77: =IF(D77=X77,"",D77 & " ≠ " & X77) | AB77: nee | AC77: nee | AD77: nee | AE77: nee | AG77: nee | AI77: geen asbest
A78: Dorpsstraat 76 | B78: Oostkapelle | C78: 4356 AK | D78: Openbaar toiletgebouw op parkeerterrein 't Dompje | F78: 45658 | G78: =ROUND(J78*ign/igo,afrind) -> 156000 | H78: =ROUND(K78*iin/iio,afrind) -> 0 | I78: =SUM(G78:H78) -> 156000 | J78: 151000 | K78: 0 | L78: =SUM(J78:K78) -> 151000 | M78: 151000 | N78: 0 | O78: =SUM(M78:N78) -> 151000 | P78: =G78-J78 -> 5000 | Q78: =H78-K78 -> 0 | R78: =SUM(P78:Q78) -> 5000 | S78: =J78-M78 -> 0 | T78: =K78-N78 -> 0 | U78: =SUM(S78:T78) -> 0 | V78: =ROUND(U78*premieGM,2) -> #REF! | X78: Openbaar toiletgebouw op parkeerterrein 't Dompje | Y78: =IF(D78=X78,"",D78 & " ≠ " & X78) | AB78: nee | AC78: nee | AD78: nee | AE78: nee | AG78: ja | AH78: nee | AI78: geen asbest | AK78: uitvoering/actualisatie scope 12 in Q3/Q4 2026
A79: Schoolstraat 2 B | B79: Oostkapelle | C79: 4356 BX | D79: Peuterspeelzaal 't Speeltreintje | F79: 45658 | G79: =ROUND(J79*ign/igo,afrind) -> 0 | H79: =ROUND(K79*iin/iio,afrind) -> 0 | I79: =SUM(G79:H79) -> 0 | J79: 0 | K79: 0 | L79: =SUM(J79:K79) -> 0 | M79: 442000 | N79: 0 | O79: =SUM(M79:N79) -> 442000 | P79: =G79-J79 -> 0 | Q79: =H79-K79 -> 0 | R79: =SUM(P79:Q79) -> 0 | S79: =J79-M79 -> -442000 | T79: =K79-N79 -> 0 | U79: =SUM(S79:T79) -> -442000 | V79: =ROUND(U79*premieGM,2) -> #REF! | X79: Peuterspeelzaal 't Speeltreintje | Y79: Complex is afgebroken. Premie heb ik op nihil gzet | Z79: In muteerbestand 2026 staat dit pand er nog gewoon op. Waarom is dat?
A80: Schoolstraat 4 | B80: Oostkapelle | C80: 4356 BX | D80: Kantoor -en praktijkruimten voor maatschappelijke doeleinden. Tijdelijk onderdak Peuterspeelzaal 't Speeltreintje | F80: 45658 | G80: =ROUND(J80*ign/igo,afrind) -> 1592000 | H80: =ROUND(K80*iin/iio,afrind) -> 0 | I80: =SUM(G80:H80) -> 1592000 | J80: 1538000 | K80: 0 | L80: =SUM(J80:K80) -> 1538000 | M80: 1538000 | N80: 0 | O80: =SUM(M80:N80) -> 1538000 | P80: =G80-J80 -> 54000 | Q80: =H80-K80 -> 0 | R80: =SUM(P80:Q80) -> 54000 | S80: =J80-M80 -> 0 | T80: =K80-N80 -> 0 | U80: =SUM(S80:T80) -> 0 | V80: =ROUND(U80*premieGM,2) -> #REF! | X80: Kantoor -en praktijkruimten voor maatschappelijke doeleinden | Y80: =IF(D80=X80,"",D80 & " ≠ " & X80) -> Kantoor -en praktijkruimten voor maatschappelijke doeleinden. Tijdelijk onderdak Peuterspeelzaal 't Speeltreintje ≠ Kantoor -en praktijkruimten voor maatschappelijke doeleinden | Z80: Tekst is niet aangepast in aangeleverd muteerbestand | AB80: nee | AC80: nee | AD80: nee | AE80: nee | AG80: nee | AI80: geen asbest
A81: Domburgseweg 68 D | B81: Oostkapelle | C81: 4356 NB | D81: Brandweergarage | F81: 45658 | G81: =ROUND(J81*ign/igo,afrind) -> 651000 | H81: =ROUND(K81*iin/iio,afrind) -> 80000 | I81: =SUM(G81:H81) -> 731000 | J81: 629000 | K81: 78000 | L81: =SUM(J81:K81) -> 707000 | M81: 629000 | N81: 78000 | O81: =SUM(M81:N81) -> 707000 | P81: =G81-J81 -> 22000 | Q81: =H81-K81 -> 2000 | R81: =SUM(P81:Q81) -> 24000 | S81: =J81-M81 -> 0 | T81: =K81-N81 -> 0 | U81: =SUM(S81:T81) -> 0 | V81: =ROUND(U81*premieGM,2) -> #REF! | X81: Brandweergarage | Y81: =IF(D81=X81,"",D81 & " ≠ " & X81) | AB81: nee | AC81: nee | AD81: nee | AE81: nee | AG81: nee | AI81: geen asbest
A82: Noordweg 78/Dorpsstraat 78 | B82: Oostkapelle | C82: 4356 ED | D82: Aula / berging begraafplaats | F82: 45658 | G82: =ROUND(J82*ign/igo,afrind) -> 172000 | H82: =ROUND(K82*iin/iio,afrind) -> 0 | I82: =SUM(G82:H82) -> 172000 | J82: 166000 | K82: 0 | L82: =SUM(J82:K82) -> 166000 | M82: 166000 | N82: 0 | O82: =SUM(M82:N82) -> 166000 | P82: =G82-J82 -> 6000 | Q82: =H82-K82 -> 0 | R82: =SUM(P82:Q82) -> 6000 | S82: =J82-M82 -> 0 | T82: =K82-N82 -> 0 | U82: =SUM(S82:T82) -> 0 | V82: =ROUND(U82*premieGM,2) -> #REF! | X82: Aula / berging begraafplaats | Y82: =IF(D82=X82,"",D82 & " ≠ " & X82) | AB82: nee | AC82: nee | AD82: nee | AE82: nee | AG82: nee | AI82: geen asbest
A83: Noordweg 2 | B83: Oostkapelle | C83: 4356 EC | D83: Molen De Arke | F83: 45658 | G83: =ROUND(J83*ign/igo,afrind) -> 1963000 | H83: =ROUND(K83*iin/iio,afrind) -> 0 | I83: =SUM(G83:H83) -> 1963000 | J83: 1896000 | K83: 0 | L83: =SUM(J83:K83) -> 1896000 | M83: 1896000 | N83: 0 | O83: =SUM(M83:N83) -> 1896000 | P83: =G83-J83 -> 67000 | Q83: =H83-K83 -> 0 | R83: =SUM(P83:Q83) -> 67000 | S83: =J83-M83 -> 0 | T83: =K83-N83 -> 0 | U83: =SUM(S83:T83) -> 0 | V83: =ROUND(U83*premieGM,2) -> #REF! | X83: Molen De Arke | Y83: =IF(D83=X83,"",D83 & " ≠ " & X83) | AB83: nee | AC83: nee | AD83: nee | AE83: nee | AG83: nee | AI83: geen asbest
A84: Waterstraat 4 | B84: Oostkapelle | C84: 4356 BJ | D84: Toren/kerkportaal | F84: 45658 | G84: =ROUND(J84*ign/igo,afrind) -> 6227000 | H84: =ROUND(K84*iin/iio,afrind) -> 32000 | I84: =SUM(G84:H84) -> 6259000 | J84: 6015000 | K84: 31000 | L84: =SUM(J84:K84) -> 6046000 | M84: 6015000 | N84: 31000 | O84: =SUM(M84:N84) -> 6046000 | P84: =G84-J84 -> 212000 | Q84: =H84-K84 -> 1000 | R84: =SUM(P84:Q84) -> 213000 | S84: =J84-M84 -> 0 | T84: =K84-N84 -> 0 | U84: =SUM(S84:T84) -> 0 | V84: =ROUND(U84*premieGM,2) -> #REF! | X84: Toren/kerkportaal | Y84: =IF(D84=X84,"",D84 & " ≠ " & X84) | AB84: nee | AC84: nee | AD84: nee | AE84: nee | AG84: nee | AI84: geen asbest
A85: Torenstraat 35/Schoolstraat 2 | B85: Oostkapelle | C85: 4356 BG | D85: Verenigingsgebouw De Halve Maan | F85: 45658 | G85: =ROUND(J85*ign/igo,afrind) -> 8728000 | H85: =ROUND(K85*iin/iio,afrind) -> 311000 | I85: =SUM(G85:H85) -> 9039000 | J85: 8431000 | K85: 302000 | L85: =SUM(J85:K85) -> 8733000 | M85: 8431000 | N85: 302000 | O85: =SUM(M85:N85) -> 8733000 | P85: =G85-J85 -> 297000 | Q85: =H85-K85 -> 9000 | R85: =SUM(P85:Q85) -> 306000 | S85: =J85-M85 -> 0 | T85: =K85-N85 -> 0 | U85: =SUM(S85:T85) -> 0 | V85: =ROUND(U85*premieGM,2) -> #REF! | X85: Verenigingsgebouw De Halve Maan | Y85: =IF(D85=X85,"",D85 & " ≠ " & X85) | AB85: ja | AC85: ja | AD85: nee | AE85: nee | AG85: ja | AH85: nee | AI85: geen asbest | AK85: uitvoering/actualisatie scope 12 in Q3/Q4 2026
A86: Waterstraat 4 | B86: Oostkapelle | C86: 4356 BJ | D86: 't Wachtertje, gebouw bij kerk Oostkapelle | F86: 45658 | G86: =ROUND(J86*ign/igo,afrind) -> 81000 | H86: =ROUND(K86*iin/iio,afrind) -> 0 | I86: =SUM(G86:H86) -> 81000 | J86: 78000 | K86: 0 | L86: =SUM(J86:K86) -> 78000 | M86: 78000 | N86: 0 | O86: =SUM(M86:N86) -> 78000 | P86: =G86-J86 -> 3000 | Q86: =H86-K86 -> 0 | R86: =SUM(P86:Q86) -> 3000 | S86: =J86-M86 -> 0 | T86: =K86-N86 -> 0 | U86: =SUM(S86:T86) -> 0 | V86: =ROUND(U86*premieGM,2) -> #REF! | X86: 't Wachtertje, gebouw bij kerk Oostkapelle | Y86: =IF(D86=X86,"",D86 & " ≠ " & X86) | AB86: nee | AC86: nee | AD86: nee | AE86: nee | AG86: nee | AI86: geen asbest
A87: Brouwerijstraat 48/48A | B87: Oostkapelle | C87: 4356 AN | D87: Woning met een tweede woning, incl tuin en grond. Ingezet voor statushouders | F87: 45323 | G87: =ROUND(J87*ign/igo,afrind) -> 821000 | H87: =ROUND(K87*iin/iio,afrind) -> 0 | I87: =SUM(G87:H87) -> 821000 | J87: 793000 | K87: 0 | L87: =SUM(J87:K87) -> 793000 | M87: 793000 | N87: 0 | O87: =SUM(M87:N87) -> 793000 | P87: =G87-J87 -> 28000 | Q87: =H87-K87 -> 0 | R87: =SUM(P87:Q87) -> 28000 | S87: =J87-M87 -> 0 | T87: =K87-N87 -> 0 | U87: =SUM(S87:T87) -> 0 | V87: =ROUND(U87*premieGM,2) -> #REF! | X87: Woning met een tweede woning, incl tuin en grond | Y87: =IF(D87=X87,"",D87 & " ≠ " & X87) -> Woning met een tweede woning, incl tuin en grond. Ingezet voor statushouders ≠ Woning met een tweede woning, incl tuin en grond | Z87: Tekst is niet aangepast in aangeleverd muteerbestand | AB87: nee | AC87: nee | AD87: nee | AE87: nee | AG87: nee | AI87: geen asbest
A88: Duinweg 119 A | B88: Oostkapelle | C88: 4356 AP | D88: Openbaar toiletgebouw op parkeerterrein De Vier Hoogten | F88: 45658 | G88: =ROUND(J88*ign/igo,afrind) -> 70000 | H88: =ROUND(K88*iin/iio,afrind) -> 0 | I88: =SUM(G88:H88) -> 70000 | J88: 68000 | K88: 0 | L88: =SUM(J88:K88) -> 68000 | M88: 68000 | N88: 0 | O88: =SUM(M88:N88) -> 68000 | P88: =G88-J88 -> 2000 | Q88: =H88-K88 -> 0 | R88: =SUM(P88:Q88) -> 2000 | S88: =J88-M88 -> 0 | T88: =K88-N88 -> 0 | U88: =SUM(S88:T88) -> 0 | V88: =ROUND(U88*premieGM,2) -> #REF! | X88: Openbaar toiletgebouw op parkeerterrein De Vier Hoogten | Y88: =IF(D88=X88,"",D88 & " ≠ " & X88) | AB88: nee | AC88: nee | AD88: nee | AE88: nee | AG88: nee | AI88: geen asbest
A89: Duinvlietweg 8 | B89: Oostkapelle | C89: 4356 ND | D89: Openbaar toilet | F89: - | G89: =ROUND(J89*ign/igo,afrind) -> 70000 | H89: =ROUND(K89*iin/iio,afrind) -> 0 | I89: =SUM(G89:H89) -> 70000 | J89: 68000 | K89: 0 | L89: =SUM(J89:K89) -> 68000 | M89: 68000 | N89: 0 | O89: =SUM(M89:N89) -> 68000 | P89: =G89-J89 -> 2000 | Q89: =H89-K89 -> 0 | R89: =SUM(P89:Q89) -> 2000 | S89: =J89-M89 -> 0 | T89: =K89-N89 -> 0 | U89: =SUM(S89:T89) -> 0 | V89: =ROUND(U89*premieGM,2) -> #REF! | X89: Openbaar toilet | Y89: =IF(D89=X89,"",D89 & " ≠ " & X89) | AB89: nee | AC89: nee | AD89: nee | AE89: nee | AG89: ja | AH89: nee | AI89: geen asbest | AK89: uitvoering/actualisatie scope 12 in Q3/Q4 2026
A90: Strandweg 3 | B90: Oostkapelle | C90: 4356 HD | D90: Openbaar Toilet | F90: 45658 | G90: =ROUND(J90*ign/igo,afrind) -> 70000 | H90: =ROUND(K90*iin/iio,afrind) -> 0 | I90: =SUM(G90:H90) -> 70000 | J90: 68000 | K90: 0 | L90: =SUM(J90:K90) -> 68000 | M90: 68000 | N90: 0 | O90: =SUM(M90:N90) -> 68000 | P90: =G90-J90 -> 2000 | Q90: =H90-K90 -> 0 | R90: =SUM(P90:Q90) -> 2000 | S90: =J90-M90 -> 0 | T90: =K90-N90 -> 0 | U90: =SUM(S90:T90) -> 0 | V90: =ROUND(U90*premieGM,2) -> #REF! | X90: Openbaar Toilet | Y90: =IF(D90=X90,"",D90 & " ≠ " & X90) | AB90: nee | AC90: nee | AD90: nee | AE90: nee | AG90: nee | AI90: geen asbest
A91: Domburgseweg 59 A | B91: Oostkapelle | C91: 4356 NA | D91: Openbaar Toilet | F91: 45658 | G91: =ROUND(J91*ign/igo,afrind) -> 70000 | H91: =ROUND(K91*iin/iio,afrind) -> 0 | I91: =SUM(G91:H91) -> 70000 | J91: 68000 | K91: 0 | L91: =SUM(J91:K91) -> 68000 | M91: 68000 | N91: 0 | O91: =SUM(M91:N91) -> 68000 | P91: =G91-J91 -> 2000 | Q91: =H91-K91 -> 0 | R91: =SUM(P91:Q91) -> 2000 | S91: =J91-M91 -> 0 | T91: =K91-N91 -> 0 | U91: =SUM(S91:T91) -> 0 | V91: =ROUND(U91*premieGM,2) -> #REF! | X91: Openbaar Toilet | Y91: =IF(D91=X91,"",D91 & " ≠ " & X91) | AB91: nee | AC91: nee | AD91: nee | AE91: nee | AG91: nee | AI91: geen asbest
A92: Zandput 5 | B92: Serooskerke | C92: 4353 BA | D92: Verenigingsgebouw De Zandput | F92: 45658 | G92: =ROUND(J92*ign/igo,afrind) -> 2393000 | H92: =ROUND(K92*iin/iio,afrind) -> 349000 | I92: =SUM(G92:H92) -> 2742000 | J92: 2312000 | K92: 339000 | L92: =SUM(J92:K92) -> 2651000 | M92: 2312000 | N92: 339000 | O92: =SUM(M92:N92) -> 2651000 | P92: =G92-J92 -> 81000 | Q92: =H92-K92 -> 10000 | R92: =SUM(P92:Q92) -> 91000 | S92: =J92-M92 -> 0 | T92: =K92-N92 -> 0 | U92: =SUM(S92:T92) -> 0 | V92: =ROUND(U92*premieGM,2) -> #REF! | X92: Verenigingsgebouw De Zandput | Y92: =IF(D92=X92,"",D92 & " ≠ " & X92) | AB92: ja | AC92: ja | AD92: nee | AE92: nee | AG92: nee | AI92: geen asbest
A93: Zandput 3 | B93: Serooskerke | C93: 4353 BA | D93: Gymzaal | F93: 45658 | G93: =ROUND(J93*ign/igo,afrind) -> 1162000 | H93: =ROUND(K93*iin/iio,afrind) -> 161000 | I93: =SUM(G93:H93) -> 1323000 | J93: 1122000 | K93: 156000 | L93: =SUM(J93:K93) -> 1278000 | M93: 1122000 | N93: 156000 | O93: =SUM(M93:N93) -> 1278000 | P93: =G93-J93 -> 40000 | Q93: =H93-K93 -> 5000 | R93: =SUM(P93:Q93) -> 45000 | S93: =J93-M93 -> 0 | T93: =K93-N93 -> 0 | U93: =SUM(S93:T93) -> 0 | V93: =ROUND(U93*premieGM,2) -> #REF! | X93: Gymzaal | Y93: =IF(D93=X93,"",D93 & " ≠ " & X93) | AB93: nee | AC93: nee | AD93: nee | AE93: nee | AG93: nee | AI93: geen asbest
A94: Zandput 1 | B94: Serooskerke | C94: 4353 BA | D94: Zwembad De Goudvijver | F94: 44908 | G94: =ROUND(J94*ign/igo,afrind) -> 2597000 | H94: =ROUND(K94*iin/iio,afrind) -> 89000 | I94: =SUM(G94:H94) -> 2686000 | J94: 2509000 | K94: 86000 | L94: =SUM(J94:K94) -> 2595000 | M94: 2509000 | N94: 86000 | O94: =SUM(M94:N94) -> 2595000 | P94: =G94-J94 -> 88000 | Q94: =H94-K94 -> 3000 | R94: =SUM(P94:Q94) -> 91000 | S94: =J94-M94 -> 0 | T94: =K94-N94 -> 0 | U94: =SUM(S94:T94) -> 0 | V94: =ROUND(U94*premieGM,2) -> #REF! | X94: Zwembad De Goudvijver | Y94: =IF(D94=X94,"",D94 & " ≠ " & X94) | AB94: nee | AC94: nee | AD94: nee | AE94: nee | AG94: nee | AI94: geen asbest | AJ94: ja
A95: Koepelstraat 31 A | B95: Serooskerke | C95: 4353 AK | D95: Peuterspeelzaal De Vrolijke Keet | F95: 45658 | G95: =ROUND(J95*ign/igo,afrind) -> 306000 | H95: =ROUND(K95*iin/iio,afrind) -> 0 | I95: =SUM(G95:H95) -> 306000 | J95: 296000 | K95: 0 | L95: =SUM(J95:K95) -> 296000 | M95: 296000 | N95: 0 | O95: =SUM(M95:N95) -> 296000 | P95: =G95-J95 -> 10000 | Q95: =H95-K95 -> 0 | R95: =SUM(P95:Q95) -> 10000 | S95: =J95-M95 -> 0 | T95: =K95-N95 -> 0 | U95: =SUM(S95:T95) -> 0 | V95: =ROUND(U95*premieGM,2) -> #REF! | X95: Peuterspeelzaal De Vrolijke Keet | Y95: =IF(D95=X95,"",D95 & " ≠ " & X95) | AB95: nee | AC95: nee | AD95: nee | AE95: nee | AG95: nee | AI95: geen asbest
A96: Vrouwenpolderseweg 53 D | B96: Serooskerke | C96: 4353 BC | D96: Aula / berging begraafplaats | F96: 45658 | G96: =ROUND(J96*ign/igo,afrind) -> 172000 | H96: =ROUND(K96*iin/iio,afrind) -> 0 | I96: =SUM(G96:H96) -> 172000 | J96: 166000 | K96: 0 | L96: =SUM(J96:K96) -> 166000 | M96: 166000 | N96: 0 | O96: =SUM(M96:N96) -> 166000 | P96: =G96-J96 -> 6000 | Q96: =H96-K96 -> 0 | R96: =SUM(P96:Q96) -> 6000 | S96: =J96-M96 -> 0 | T96: =K96-N96 -> 0 | U96: =SUM(S96:T96) -> 0 | V96: =ROUND(U96*premieGM,2) -> #REF! | X96: Aula / berging begraafplaats | Y96: =IF(D96=X96,"",D96 & " ≠ " & X96) | AB96: nee | AC96: nee | AD96: nee | AE96: nee | AG96: nee | AI96: geen asbest
A97: Noordweg 3 | B97: Serooskerke | C97: 4356 AR | D97: Toren | F97: 45658 | G97: =ROUND(J97*ign/igo,afrind) -> 2624000 | H97: =ROUND(K97*iin/iio,afrind) -> 0 | I97: =SUM(G97:H97) -> 2624000 | J97: 2535000 | K97: 0 | L97: =SUM(J97:K97) -> 2535000 | M97: 2535000 | N97: 0 | O97: =SUM(M97:N97) -> 2535000 | P97: =G97-J97 -> 89000 | Q97: =H97-K97 -> 0 | R97: =SUM(P97:Q97) -> 89000 | S97: =J97-M97 -> 0 | T97: =K97-N97 -> 0 | U97: =SUM(S97:T97) -> 0 | V97: =ROUND(U97*premieGM,2) -> #REF! | X97: Toren | Y97: =IF(D97=X97,"",D97 & " ≠ " & X97) | AB97: nee | AC97: nee | AD97: nee | AE97: nee | AG97: nee | AI97: geen asbest
A98: Vrouwenpoldersweg 2 A | B98: Serooskerke | C98: 4353 BD | D98: Praathuisje de Lindenboom (Muntpleintje) | F98: 45658 | G98: =ROUND(J98*ign/igo,afrind) -> 81000 | H98: =ROUND(K98*iin/iio,afrind) -> 0 | I98: =SUM(G98:H98) -> 81000 | J98: 78000 | K98: 0 | L98: =SUM(J98:K98) -> 78000 | M98: 78000 | N98: 0 | O98: =SUM(M98:N98) -> 78000 | P98: =G98-J98 -> 3000 | Q98: =H98-K98 -> 0 | R98: =SUM(P98:Q98) -> 3000 | S98: =J98-M98 -> 0 | T98: =K98-N98 -> 0 | U98: =SUM(S98:T98) -> 0 | V98: =ROUND(U98*premieGM,2) -> #REF! | X98: Praathuisje de Lindenboom (Muntpleintje) | Y98: =IF(D98=X98,"",D98 & " ≠ " & X98) | AB98: nee | AC98: nee | AD98: nee | AE98: nee | AG98: nee | AI98: geen asbest
A99: Wilgenhoekweg 33 | B99: Serooskerke | C99: 4353 RE | D99: Opvanghuis voor AMV'ers | F99: 45267 | G99: =ROUND(J99*ign/igo,afrind) -> 1613000 | H99: =ROUND(K99*iin/iio,afrind) -> 0 | I99: =SUM(G99:H99) -> 1613000 | J99: 1558000 | K99: 0 | L99: =SUM(J99:K99) -> 1558000 | M99: 1558000 | N99: 0 | O99: =SUM(M99:N99) -> 1558000 | P99: =G99-J99 -> 55000 | Q99: =H99-K99 -> 0 | R99: =SUM(P99:Q99) -> 55000 | S99: =J99-M99 -> 0 | T99: =K99-N99 -> 0 | U99: =SUM(S99:T99) -> 0 | V99: =ROUND(U99*premieGM,2) -> #REF! | X99: Opvanghuis voor AMV'ers | Y99: =IF(D99=X99,"",D99 & " ≠ " & X99) | AB99: nee | AC99: nee | AD99: nee | AE99: nee | AG99: ja | AH99: nee | AI99: geen asbest | AK99: uitvoering/actualisatie scope 12 in Q3/Q4 2026
A100: Vrouwenpolderseweg 53 C | B100: Serooskerke | C100: - | D100: Brandweergarage, verzekerd via VRZ | F100: - | G100: =ROUND(J100*ign/igo,afrind) -> 0 | H100: =ROUND(K100*iin/iio,afrind) -> 0 | I100: =SUM(G100:H100) -> 0 | J100: 0 | K100: 0 | L100: =SUM(J100:K100) -> 0 | M100: 0 | N100: 0 | O100: =SUM(M100:N100) -> 0 | P100: =G100-J100 -> 0 | Q100: =H100-K100 -> 0 | R100: =SUM(P100:Q100) -> 0 | S100: =J100-M100 -> 0 | T100: =K100-N100 -> 0 | U100: =SUM(S100:T100) -> 0 | V100: =ROUND(U100*premieGM,2) -> #REF! | X100: Brandweergarage, verzekerd via VRZ | Y100: =IF(D100=X100,"",D100 & " ≠ " & X100)
...
