Workbook
Name afr: #REF!
Name afrind: 'General Info'!$B$17
Name cad: #REF!
Name ign: 'General Info'!$B$5
Name igo: 'General Info'!$B$6
Name iin: 'General Info'!$B$7
Name iio: 'General Info'!$B$8
Name index: #REF!
Name index2002: #REF!
Name premieGM: 'General Info'!#REF!
Name premieOW: 'General Info'!#REF!
Name vvd: #REF!

Sheet General Info
A3: Index-cijfers:
A4: Omschrijving: | B4: Indexcijfer:
A5: Index geb Troostwijk nw | B5: 138.1
A6: Index geb Troostwijk oud | B6: 133.4
A7: Index inv troostwijk nw | B7: 133.4
A8: Index inv troostwijk oud | B8: 129.6
A17: Afronding index | B17: -3

Sheet Polisblad
A1: Overzicht Polisblad d.d. 1 janauri 2026
A2: ='Bestand dd 1 januari 2026'!A2 -> behorende bij polis nr. B0100093042 ten name van:
A3: ='Bestand dd 1 januari 2026'!A3 -> Gemeente Veere
A5: Gemeentelijk Bezit:
A6: 1. Gebouwen | B6: ='Bestand dd 1 januari 2026'!G146 -> 172652000
A7: 2. Inventaris | B7: ='Bestand dd 1 januari 2026'!H146 -> 10196000
A9: Onderwijs:
A10: 5. Gebouwen | B10: ='Bestand dd 1 januari 2026'!G164 -> 33999000
A11: 6. Inventaris | B11: ='Bestand dd 1 januari 2026'!H164 -> 5833000
B13: =SUM(B6:B12) -> 222680000
A18: Stand per 1 januari 2025: | B18: ='Bestand dd 1 januari 2026'!O167 -> 202879000
A19: mutaties 2025 | B19: ='Bestand dd 1 januari 2026'!U167-13250000 -> -481000
B20: =SUM(B18:B19) -> 202398000
A21: Index per 1 januari 2026 | B21: ='Bestand dd 1 januari 2026'!R167 -> 7032000
A22: Stand per 1 januari 2026 | B22: =SUM(B20:B21) -> 209430000
A24: Mutatie per 27 januari 2026 | B24: 13250000
B25: =B22+B24 -> 222680000

Sheet Bestand dd 1 januari 2026
A1: Bestand d.d. 1 januari 2026
A2: behorende bij polis nr. B0100093042 ten name van: | AB2: Risico Informatie:
A3: Gemeente Veere | J3: Attentie: Lees eerst de instructies onderaan deze lijst. | AB3: Inbraakmeld- installatie met doormelding ja/nee | AC3: Brandmeld- installatie met doormelding ja/nee | AD3: Sprinkler- installatie met doormelding ja/nee | AE3: Leegstaand ja/nee | AF3: Indien leegstaand: vorm van toezicht aanwezig (bijv. Anti-kraak) ja/nee | AG3: Zonnepanelen ja/nee | AH3: Indien ja , is de installatie scope 12 goedgekeurd ? Ja/nee | AI3: Asbest in het gebouw ? Ja nee, onbekend | AJ3: Omheind met hekwerken ?
G4: Stand per 1 januari 2026 (na indexering) | J4: Stand per 31 december 2025 | M4: Stand per 1 januari 2025 | P4: Indexering per 1 januari 2026 | S4: Mutaties termijn 1 januari 2025/2026: | X4: Meest recent bestand 2026:
A5: Adres: | B5: Plaats | C5: Postcode | D5: Omschrijving | E5: Bouwaard | F5: Taxatiedatum: | G5: Gebouwen: | H5: Inventaris: | I5: Totaal | J5: Gebouwen: | K5: Inventaris: | L5: Totaal | M5: Gebouwen: | N5: Inventaris: | O5: Totaal | P5: Gebouwen: | Q5: Inventaris: | R5: Totaal | S5: Gebouwen: | T5: Inventaris: | U5: Totaal | V5: Premieverr. 50% | X5: omschrijving | Y5: Afwijking | Z5: Opmerking
A6: Gemeentelijk Bezit:
A7: Agathastraat 4 | B7: Aagtekerke | C7: 4363 BD | D7: Gymzaal | F7: - | G7: =ROUND(J7*ign/igo,afrind) -> 0 | H7: =ROUND(K7*iin/iio,afrind) -> 0 | I7: =SUM(G7:H7) -> 0 | J7: 0 | K7: 0 | L7: =SUM(J7:K7) -> 0 | M7: 0 | N7: 0 | O7: =SUM(M7:N7) -> 0 | P7: =G7-J7 -> 0 | Q7: =H7-K7 -> 0 | R7: =SUM(P7:Q7) -> 0 | S7: =J7-M7 -> 0 | T7: =K7-N7 -> 0 | U7: =SUM(S7:T7) -> 0 | V7: =ROUND(U7*premieGM,2) -> #REF! | X7: Gymzaal | Y7: =IF(D7=X7,"",D7 & " ≠ " & X7) | AB7: =IF(ISBLANK(AB7),"nee",AB7) -> 0
A8: Agathastraat 3 | B8: Aagtekerke | C8: 4363 BC | D8: Multi Functionele Accommodatie (MFA) Amicitia incl. openbaar toiletunit | F8: 45658 | G8: =ROUND(J8*ign/igo,afrind) -> 4228000 | H8: =ROUND(K8*iin/iio,afrind) -> 268000 | I8: =SUM(G8:H8) -> 4496000 | J8: 4084000 | K8: 260000 | L8: =SUM(J8:K8) -> 4344000 | M8: 4016000 | N8: 260000 | O8: =SUM(M8:N8) -> 4276000 | P8: =G8-J8 -> 144000 | Q8: =H8-K8 -> 8000 | R8: =SUM(P8:Q8) -> 152000 | S8: =J8-M8 -> 68000 | T8: =K8-N8 -> 0 | U8: =SUM(S8:T8) -> 68000 | V8: =ROUND(U8*premieGM,2) -> #REF! | X8: Multi Functionele Accommodatie (MFA) Amicitia | Y8: =IF(D8=X8,"",D8 & " ≠ " & X8) -> Multi Functionele Accommodatie (MFA) Amicitia incl. openbaar toiletunit ≠ Multi Functionele Accommodatie (MFA) Amicitia | Z8: Hier is een toiletunit bijgekomen in 2025. Vandaar dat de stand per 31 december op 4.084.000 staat. In het defnitieve bestand is de verhoging niet opgenomen. Waarom niet? | AB8: ja | AC8: ja | AD8: nee | AE8: nee | AG8: ja | AH8: nee | AI8: geen asbest | AK8: uitvoering/actualisatie scope 12 in Q3/Q4 2026
A9: Prelaatweg 1 A | B9: Aagtekerke | C9: 4363 BB | D9: Aula / berging begraafplaats | F9: 45658 | G9: =ROUND(J9*ign/igo,afrind) -> 108000 | H9: =ROUND(K9*iin/iio,afrind) -> 0 | I9: =SUM(G9:H9) -> 108000 | J9: 104000 | K9: 0 | L9: =SUM(J9:K9) -> 104000 | M9: 104000 | N9: 0 | O9: =SUM(M9:N9) -> 104000 | P9: =G9-J9 -> 4000 | Q9: =H9-K9 -> 0 | R9: =SUM(P9:Q9) -> 4000 | S9: =J9-M9 -> 0 | T9: =K9-N9 -> 0 | U9: =SUM(S9:T9) -> 0 | V9: =ROUND(U9*premieGM,2) -> #REF! | X9: Aula / berging begraafplaats | Y9: =IF(D9=X9,"",D9 & " ≠ " & X9) | AB9: nee | AC9: nee | AD9: nee | AE9: nee | AG9: nee | AI9: geen asbest
A10: Molenwegje 3 | B10: Aagtekerke | C10: 4363 AJ | D10: Molen Aagtekerke | F10: 45658 | G10: =ROUND(J10*ign/igo,afrind) -> 1517000 | H10: =ROUND(K10*iin/iio,afrind) -> 0 | I10: =SUM(G10:H10) -> 1517000 | J10: 1465000 | K10: 0 | L10: =SUM(J10:K10) -> 1465000 | M10: 1465000 | N10: 0 | O10: =SUM(M10:N10) -> 1465000 | P10: =G10-J10 -> 52000 | Q10: =H10-K10 -> 0 | R10: =SUM(P10:Q10) -> 52000 | S10: =J10-M10 -> 0 | T10: =K10-N10 -> 0 | U10: =SUM(S10:T10) -> 0 | V10: =ROUND(U10*premieGM,2) -> #REF! | X10: Molen Aagtekerke | Y10: =IF(D10=X10,"",D10 & " ≠ " & X10) | AB10: nee | AC10: nee | AD10: nee | AE10: nee | AG10: nee | AI10: geen asbest
A11: Molenwegje 5 | B11: Aagtekerke | C11: 4363 AJ | D11: Bijgebouw bij Molen (voorheen VVV-kantoor) | F11: 45658 | G11: =ROUND(J11*ign/igo,afrind) -> 113000 | H11: =ROUND(K11*iin/iio,afrind) -> 0 | I11: =SUM(G11:H11) -> 113000 | J11: 109000 | K11: 0 | L11: =SUM(J11:K11) -> 109000 | M11: 109000 | N11: 0 | O11: =SUM(M11:N11) -> 109000 | P11: =G11-J11 -> 4000 | Q11: =H11-K11 -> 0 | R11: =SUM(P11:Q11) -> 4000 | S11: =J11-M11 -> 0 | T11: =K11-N11 -> 0 | U11: =SUM(S11:T11) -> 0 | V11: =ROUND(U11*premieGM,2) -> #REF! | X11: Bijgebouw bij Molen (voorheen VVV-kantoor) | Y11: =IF(D11=X11,"",D11 & " ≠ " & X11) | AB11: nee | AC11: nee | AD11: nee | AE11: nee | AG11: nee | AI11: geen asbest
A12: Dorpsplein 6 | B12: Aagtekerke | C12: 4363 AC | D12: Toren Aagtekerke | F12: 45658 | G12: =ROUND(J12*ign/igo,afrind) -> 2656000 | H12: =ROUND(K12*iin/iio,afrind) -> 0 | I12: =SUM(G12:H12) -> 2656000 | J12: 2566000 | K12: 0 | L12: =SUM(J12:K12) -> 2566000 | M12: 2566000 | N12: 0 | O12: =SUM(M12:N12) -> 2566000 | P12: =G12-J12 -> 90000 | Q12: =H12-K12 -> 0 | R12: =SUM(P12:Q12) -> 90000 | S12: =J12-M12 -> 0 | T12: =K12-N12 -> 0 | U12: =SUM(S12:T12) -> 0 | V12: =ROUND(U12*premieGM,2) -> #REF! | X12: Toren Aagtekerke | Y12: =IF(D12=X12,"",D12 & " ≠ " & X12) | AB12: nee | AC12: nee | AD12: nee | AE12: nee | AG12: nee | AI12: geen asbest
A13: Zoutelandseweg 20 | B13: Biggekerke | C13: 4373 AM | D13: Schuilvoorziening begraafplaats | F13: 45658 | G13: =ROUND(J13*ign/igo,afrind) -> 37000 | H13: =ROUND(K13*iin/iio,afrind) -> 0 | I13: =SUM(G13:H13) -> 37000 | J13: 36000 | K13: 0 | L13: =SUM(J13:K13) -> 36000 | M13: 36000 | N13: 0 | O13: =SUM(M13:N13) -> 36000 | P13: =G13-J13 -> 1000 | Q13: =H13-K13 -> 0 | R13: =SUM(P13:Q13) -> 1000 | S13: =J13-M13 -> 0 | T13: =K13-N13 -> 0 | U13: =SUM(S13:T13) -> 0 | V13: =ROUND(U13*premieGM,2) -> #REF! | X13: Schuilvoorziening begraafplaats | Y13: =IF(D13=X13,"",D13 & " ≠ " & X13) | AB13: nee | AC13: nee | AD13: nee | AE13: nee | AG13: nee | AI13: geen asbest
A14: Kerkplein 1 | B14: Biggekerke | C14: 4373 AA | D14: Toren Biggekerke | F14: 45658 | G14: =ROUND(J14*ign/igo,afrind) -> 2151000 | H14: =ROUND(K14*iin/iio,afrind) -> 0 | I14: =SUM(G14:H14) -> 2151000 | J14: 2078000 | K14: 0 | L14: =SUM(J14:K14) -> 2078000 | M14: 2078000 | N14: 0 | O14: =SUM(M14:N14) -> 2078000 | P14: =G14-J14 -> 73000 | Q14: =H14-K14 -> 0 | R14: =SUM(P14:Q14) -> 73000 | S14: =J14-M14 -> 0 | T14: =K14-N14 -> 0 | U14: =SUM(S14:T14) -> 0 | V14: =ROUND(U14*premieGM,2) -> #REF! | X14: Toren Biggekerke | Y14: =IF(D14=X14,"",D14 & " ≠ " & X14) | AB14: nee | AC14: nee | AD14: nee | AE14: nee | AG14: nee | AI14: geen asbest
A15: Valkenisseweg 41A | B15: Biggekerke | C15: 4373 AR | D15: Gemeenteloods/werkplaats | F15: 45658 | G15: =ROUND(J15*ign/igo,afrind) -> 597000 | H15: =ROUND(K15*iin/iio,afrind) -> 0 | I15: =SUM(G15:H15) -> 597000 | J15: 577000 | K15: 0 | L15: =SUM(J15:K15) -> 577000 | M15: 577000 | N15: 0 | O15: =SUM(M15:N15) -> 577000 | P15: =G15-J15 -> 20000 | Q15: =H15-K15 -> 0 | R15: =SUM(P15:Q15) -> 20000 | S15: =J15-M15 -> 0 | T15: =K15-N15 -> 0 | U15: =SUM(S15:T15) -> 0 | V15: =ROUND(U15*premieGM,2) -> #REF! | X15: Gemeenteloods/werkplaats | Y15: =IF(D15=X15,"",D15 & " ≠ " & X15) | AB15: nee | AC15: nee | AD15: nee | AE15: nee | AG15: nee | AI15: geen asbest | AJ15: ja
A16: Valkenisseweg 58 A | B16: Biggekerke | C16: 4373 AS | D16: Toiletunit parkeerterrein | F16: 45658 | G16: =ROUND(J16*ign/igo,afrind) -> 70000 | H16: =ROUND(K16*iin/iio,afrind) -> 0 | I16: =SUM(G16:H16) -> 70000 | J16: 68000 | K16: 0 | L16: =SUM(J16:K16) -> 68000 | M16: 68000 | N16: 0 | O16: =SUM(M16:N16) -> 68000 | P16: =G16-J16 -> 2000 | Q16: =H16-K16 -> 0 | R16: =SUM(P16:Q16) -> 2000 | S16: =J16-M16 -> 0 | T16: =K16-N16 -> 0 | U16: =SUM(S16:T16) -> 0 | V16: =ROUND(U16*premieGM,2) -> #REF! | X16: Toiletunit parkeerterrein | Y16: =IF(D16=X16,"",D16 & " ≠ " & X16) | AB16: nee | AC16: nee | AD16: nee | AE16: nee | AG16: ja | AH16: nee | AI16: geen asbest | AK16: uitvoering/actualisatie scope 12 in Q3/Q4 2026
A17: Diverse lokaties | B17: Diverse lokaties | C17: - | D17: Materieel gemeentewerken in div.gemeentewerkplaatsen/loodsen | F17: - | G17: =ROUND(J17*ign/igo,afrind) -> 0 | H17: =ROUND(K17*iin/iio,afrind) -> 322000 | I17: =SUM(G17:H17) -> 322000 | J17: 0 | K17: 313000 | L17: =SUM(J17:K17) -> 313000 | M17: 0 | N17: 313000 | O17: =SUM(M17:N17) -> 313000 | P17: =G17-J17 -> 0 | Q17: =H17-K17 -> 9000 | R17: =SUM(P17:Q17) -> 9000 | S17: =J17-M17 -> 0 | T17: =K17-N17 -> 0 | U17: =SUM(S17:T17) -> 0 | V17: =ROUND(U17*premieGM,2) -> #REF! | X17: Materieel gemeentewerken in div.gemeentewerkplaatsen/loodsen | Y17: =IF(D17=X17,"",D17 & " ≠ " & X17)
A18: Dr. J.G. Mezgerweg 6A t/m 6X | B18: Domburg | C18: 4357EV | D18: Huurdersbelang woonunits | F18: - | G18: =ROUND(J18*ign/igo,afrind) -> 5000 | H18: =ROUND(K18*iin/iio,afrind) -> 0 | I18: =SUM(G18:H18) -> 5000 | J18: 5000 | K18: 0 | L18: =SUM(J18:K18) -> 5000 | M18: 5000 | N18: 0 | O18: =SUM(M18:N18) -> 5000 | P18: =G18-J18 -> 0 | Q18: =H18-K18 -> 0 | R18: =SUM(P18:Q18) -> 0 | S18: =J18-M18 -> 0 | T18: =K18-N18 -> 0 | U18: =SUM(S18:T18) -> 0 | V18: =ROUND(U18*premieGM,2) -> #REF! | X18: Huurdersbelang woonunits | Y18: =IF(D18=X18,"",D18 & " ≠ " & X18)
A19: Traverse 1 | B19: Domburg | C19: 4357 ET | D19: Gemeentehuis Veere | F19: 45658 | G19: =ROUND(J19*ign/igo,afrind) -> 19575000 | H19: =ROUND(K19*iin/iio,afrind) -> 1716000 | I19: =SUM(G19:H19) -> 21291000 | J19: 18909000 | K19: 1667000 | L19: =SUM(J19:K19) -> 20576000 | M19: 18909000 | N19: 1667000 | O19: =SUM(M19:N19) -> 20576000 | P19: =G19-J19 -> 666000 | Q19: =H19-K19 -> 49000 | R19: =SUM(P19:Q19) -> 715000 | S19: =J19-M19 -> 0 | T19: =K19-N19 -> 0 | U19: =SUM(S19:T19) -> 0 | V19: =ROUND(U19*premieGM,2) -> #REF! | X19: Gemeentehuis Veere | Y19: =IF(D19=X19,"",D19 & " ≠ " & X19) | AB19: nee | AC19: nee | AD19: nee | AE19: nee | AG19: ja | AH19: nee | AI19: geen asbest | AK19: uitvoering/actualisatie scope 12 in Q3/Q4 2026
A20: Nijverheidsweg 1000 | B20: Domburg | C20: 4357 BX | D20: Gemeentewerkplaats | F20: 45658 | G20: =ROUND(J20*ign/igo,afrind) -> 0 | H20: =ROUND(K20*iin/iio,afrind) -> 0 | I20: =SUM(G20:H20) -> 0 | J20: 0 | K20: 0 | L20: =SUM(J20:K20) -> 0 | M20: 0 | N20: 0 | O20: =SUM(M20:N20) -> 0 | P20: =G20-J20 -> 0 | Q20: =H20-K20 -> 0 | R20: =SUM(P20:Q20) -> 0 | S20: =J20-M20 -> 0 | T20: =K20-N20 -> 0 | U20: =SUM(S20:T20) -> 0 | V20: =ROUND(U20*premieGM,2) -> #REF! | X20: Gemeentewerkplaats | Y20: =IF(D20=X20,"",D20 & " ≠ " & X20)
A21: Domburgseweg 24 bis (parkeer-terrein Irma) | B21: Domburg | C21: 4357 NH | D21: Openbaar toiletgebouw | F21: 45658 | G21: =ROUND(J21*ign/igo,afrind) -> 285000 | H21: =ROUND(K21*iin/iio,afrind) -> 0 | I21: =SUM(G21:H21) -> 285000 | J21: 275000 | K21: 0 | L21: =SUM(J21:K21) -> 275000 | M21: 275000 | N21: 0 | O21: =SUM(M21:N21) -> 275000 | P21: =G21-J21 -> 10000 | Q21: =H21-K21 -> 0 | R21: =SUM(P21:Q21) -> 10000 | S21: =J21-M21 -> 0 | T21: =K21-N21 -> 0 | U21: =SUM(S21:T21) -> 0 | V21: =ROUND(U21*premieGM,2) -> #REF! | X21: Openbaar toiletgebouw | Y21: =IF(D21=X21,"",D21 & " ≠ " & X21) | AB21: nee | AC21: nee | AD21: nee | AE21: nee | AG21: ja | AH21: nee | AI21: 0 | AK21: uitvoering/actualisatie scope 12 in Q3/Q4 2026
A22: Singel 47 | B22: Domburg | C22: 4357 BV | D22: Gemeentewerkplaats | F22: 45658 | G22: =ROUND(J22*ign/igo,afrind) -> 0 | H22: =ROUND(K22*iin/iio,afrind) -> 0 | I22: =SUM(G22:H22) -> 0 | J22: 0 | K22: 0 | L22: =SUM(J22:K22) -> 0 | M22: 0 | N22: 0 | O22: =SUM(M22:N22) -> 0 | P22: =G22-J22 -> 0 | Q22: =H22-K22 -> 0 | R22: =SUM(P22:Q22) -> 0 | S22: =J22-M22 -> 0 | T22: =K22-N22 -> 0 | U22: =SUM(S22:T22) -> 0 | V22: =ROUND(U22*premieGM,2) -> #REF! | X22: Gemeentewerkplaats | Y22: =IF(D22=X22,"",D22 & " ≠ " & X22)
A23: Hoek Zuidstraat 14/Singel 8 | B23: Domburg | C23: 4357 BH | D23: Fysio en peuterspeelzaal Domburg | F23: 45658 | G23: =ROUND(J23*ign/igo,afrind) -> 0 | H23: =ROUND(K23*iin/iio,afrind) -> 0 | I23: =SUM(G23:H23) -> 0 | J23: 0 | K23: 0 | L23: =SUM(J23:K23) -> 0 | M23: 0 | N23: 0 | O23: =SUM(M23:N23) -> 0 | P23: =G23-J23 -> 0 | Q23: =H23-K23 -> 0 | R23: =SUM(P23:Q23) -> 0 | S23: =J23-M23 -> 0 | T23: =K23-N23 -> 0 | U23: =SUM(S23:T23) -> 0 | V23: =ROUND(U23*premieGM,2) -> #REF! | X23: Fysio en peuterspeelzaal Domburg | Y23: =IF(D23=X23,"",D23 & " ≠ " & X23)
A24: Roosjesweg 1 | B24: Domburg | C24: 4357 ED | D24: Brandweergarage | F24: 45658 | G24: =ROUND(J24*ign/igo,afrind) -> 559000 | H24: =ROUND(K24*iin/iio,afrind) -> 10000 | I24: =SUM(G24:H24) -> 569000 | J24: 540000 | K24: 10000 | L24: =SUM(J24:K24) -> 550000 | M24: 540000 | N24: 10000 | O24: =SUM(M24:N24) -> 550000 | P24: =G24-J24 -> 19000 | Q24: =H24-K24 -> 0 | R24: =SUM(P24:Q24) -> 19000 | S24: =J24-M24 -> 0 | T24: =K24-N24 -> 0 | U24: =SUM(S24:T24) -> 0 | V24: =ROUND(U24*premieGM,2) -> #REF! | X24: Brandweergarage | Y24: =IF(D24=X24,"",D24 & " ≠ " & X24) | AB24: nee | AC24: nee | AD24: nee | AE24: nee | AG24: nee | AI24: geen asbest
A25: Babelweg 1 | B25: Domburg | C25: 4357 BT | D25: Schuilvoorziening begraafplaats (voorheen aula/berging) | F25: 45658 | G25: =ROUND(J25*ign/igo,afrind) -> 37000 | H25: =ROUND(K25*iin/iio,afrind) -> 0 | I25: =SUM(G25:H25) -> 37000 | J25: 36000 | K25: 0 | L25: =SUM(J25:K25) -> 36000 | M25: 36000 | N25: 0 | O25: =SUM(M25:N25) -> 36000 | P25: =G25-J25 -> 1000 | Q25: =H25-K25 -> 0 | R25: =SUM(P25:Q25) -> 1000 | S25: =J25-M25 -> 0 | T25: =K25-N25 -> 0 | U25: =SUM(S25:T25) -> 0 | V25: =ROUND(U25*premieGM,2) -> #REF! | X25: Schuilvoorziening begraafplaats (voorheen aula/berging) | Y25: =IF(D25=X25,"",D25 & " ≠ " & X25) | AB25: nee | AC25: nee | AD25: nee | AE25: nee | AG25: nee | AI25: geen asbest
A26: Roosjesweg 4 | B26: Domburg | C26: 4357 ED | D26: Molen Weltevreden | F26: 45658 | G26: =ROUND(J26*ign/igo,afrind) -> 1183000 | H26: =ROUND(K26*iin/iio,afrind) -> 0 | I26: =SUM(G26:H26) -> 1183000 | J26: 1143000 | K26: 0 | L26: =SUM(J26:K26) -> 1143000 | M26: 1143000 | N26: 0 | O26: =SUM(M26:N26) -> 1143000 | P26: =G26-J26 -> 40000 | Q26: =H26-K26 -> 0 | R26: =SUM(P26:Q26) -> 40000 | S26: =J26-M26 -> 0 | T26: =K26-N26 -> 0 | U26: =SUM(S26:T26) -> 0 | V26: =ROUND(U26*premieGM,2) -> #REF! | X26: Molen Weltevreden | Y26: =IF(D26=X26,"",D26 & " ≠ " & X26) | AB26: nee | AC26: nee | AD26: nee | AE26: nee | AG26: nee | AI26: geen asbest
A27: Markt 8 / Stationstraat 1 | B27: Domburg | C27: 4357 BK | D27: Toren | F27: 45658 | G27: =ROUND(J27*ign/igo,afrind) -> 3953000 | H27: =ROUND(K27*iin/iio,afrind) -> 104000 | I27: =SUM(G27:H27) -> 4057000 | J27: 3818000 | K27: 101000 | L27: =SUM(J27:K27) -> 3919000 | M27: 3818000 | N27: 101000 | O27: =SUM(M27:N27) -> 3919000 | P27: =G27-J27 -> 135000 | Q27: =H27-K27 -> 3000 | R27: =SUM(P27:Q27) -> 138000 | S27: =J27-M27 -> 0 | T27: =K27-N27 -> 0 | U27: =SUM(S27:T27) -> 0 | V27: =ROUND(U27*premieGM,2) -> #REF! | X27: Toren | Y27: =IF(D27=X27,"",D27 & " ≠ " & X27) | AB27: nee | AC27: nee | AD27: nee | AE27: nee | AG27: nee | AI27: geen asbest
A28: Singel 14 A | B28: Domburg | C28: 4357 BW | D28: Openbaar toiletgebouw op parkeerterrein Tramzicht | F28: 45658 | G28: =ROUND(J28*ign/igo,afrind) -> 0 | H28: =ROUND(K28*iin/iio,afrind) -> 0 | I28: =SUM(G28:H28) -> 0 | J28: 0 | K28: 0 | L28: =SUM(J28:K28) -> 0 | M28: 0 | N28: 0 | O28: =SUM(M28:N28) -> 0 | P28: =G28-J28 -> 0 | Q28: =H28-K28 -> 0 | R28: =SUM(P28:Q28) -> 0 | S28: =J28-M28 -> 0 | T28: =K28-N28 -> 0 | U28: =SUM(S28:T28) -> 0 | V28: =ROUND(U28*premieGM,2) -> #REF! | X28: Openbaar toiletgebouw op parkeerterrein Tramzicht | Y28: =IF(D28=X28,"",D28 & " ≠ " & X28)
A29: Kanonweistraat 30 | B29: Domburg | C29: 4357 CB | D29: Verenigingsgebouw Schuttershof | F29: 45658 | G29: =ROUND(J29*ign/igo,afrind) -> 3415000 | H29: =ROUND(K29*iin/iio,afrind) -> 322000 | I29: =SUM(G29:H29) -> 3737000 | J29: 3299000 | K29: 313000 | L29: =SUM(J29:K29) -> 3612000 | M29: 3299000 | N29: 313000 | O29: =SUM(M29:N29) -> 3612000 | P29: =G29-J29 -> 116000 | Q29: =H29-K29 -> 9000 | R29: =SUM(P29:Q29) -> 125000 | S29: =J29-M29 -> 0 | T29: =K29-N29 -> 0 | U29: =SUM(S29:T29) -> 0 | V29: =ROUND(U29*premieGM,2) -> #REF! | X29: Verenigingsgebouw Schuttershof | Y29: =IF(D29=X29,"",D29 & " ≠ " & X29) | AB29: ja | AC29: ja | AD29: nee | AE29: nee | AG29: nee | AI29: geen asbest
A30: Traverse 1 | B30: Domburg | C30: 4357 ET | D30: 5 koffieautomaten in gemeentehuis | F30: 45658 | G30: =ROUND(J30*ign/igo,afrind) -> 0 | H30: =ROUND(K30*iin/iio,afrind) -> 41000 | I30: =SUM(G30:H30) -> 41000 | J30: 0 | K30: 40000 | L30: =SUM(J30:K30) -> 40000 | M30: 0 | N30: 40000 | O30: =SUM(M30:N30) -> 40000 | P30: =G30-J30 -> 0 | Q30: =H30-K30 -> 1000 | R30: =SUM(P30:Q30) -> 1000 | S30: =J30-M30 -> 0 | T30: =K30-N30 -> 0 | U30: =SUM(S30:T30) -> 0 | V30: =ROUND(U30*premieGM,2) -> #REF! | X30: 5 koffieautomaten in gemeentehuis | Y30: =IF(D30=X30,"",D30 & " ≠ " & X30)
A31: Traverse 1A-1 t/m 1A-24 | B31: Domburg | C31: 4357 ET | D31: Chalets huisvesting Oekraïense ontheemden of statushouders | F31: - | G31: =ROUND(J31*ign/igo,afrind) -> 2236000 | H31: =ROUND(K31*iin/iio,afrind) -> 247000 | I31: =SUM(G31:H31) -> 2483000 | J31: =24*90000 -> 2160000 | K31: =10000*24 -> 240000 | L31: =SUM(J31:K31) -> 2400000 | M31: 0 | N31: 0 | O31: =SUM(M31:N31) -> 0 | P31: =G31-J31 -> 76000 | Q31: =H31-K31 -> 7000 | R31: =SUM(P31:Q31) -> 83000 | S31: =J31-M31 -> 2160000 | T31: =K31-N31 -> 240000 | U31: =SUM(S31:T31) -> 2400000 | V31: =ROUND(U31*premieGM,2) -> #REF! | Y31: Regel staat niet opgenomen in het muteerbestand! | AB31: nee | AC31: nee | AD31: nee | AE31: nee | AG31: nee | AI31: geen asbest
A32: Nehalenniaweg 1001 | B32: Domburg | C32: 4357 AW | D32: Kiosk midgetgolf | F32: 45658 | G32: =ROUND(J32*ign/igo,afrind) -> 0 | H32: =ROUND(K32*iin/iio,afrind) -> 0 | I32: =SUM(G32:H32) -> 0 | J32: 0 | K32: 0 | L32: =SUM(J32:K32) -> 0 | M32: 0 | N32: 0 | O32: =SUM(M32:N32) -> 0 | P32: =G32-J32 -> 0 | Q32: =H32-K32 -> 0 | R32: =SUM(P32:Q32) -> 0 | S32: =J32-M32 -> 0 | T32: =K32-N32 -> 0 | U32: =SUM(S32:T32) -> 0 | V32: =ROUND(U32*premieGM,2) -> #REF! | X32: Kiosk midgetgolf | Y32: =IF(D32=X32,"",D32 & " ≠ " & X32)
A33: Roosjesweg 8 en 8a | B33: Domburg | C33: 4357 ED | D33: Woning + recreatieverblijf | F33: 45658 | G33: =ROUND(J33*ign/igo,afrind) -> 656000 | H33: =ROUND(K33*iin/iio,afrind) -> 43000 | I33: =SUM(G33:H33) -> 699000 | J33: 634000 | K33: 42000 | L33: =SUM(J33:K33) -> 676000 | M33: 634000 | N33: 42000 | O33: =SUM(M33:N33) -> 676000 | P33: =G33-J33 -> 22000 | Q33: =H33-K33 -> 1000 | R33: =SUM(P33:Q33) -> 23000 | S33: =J33-M33 -> 0 | T33: =K33-N33 -> 0 | U33: =SUM(S33:T33) -> 0 | V33: =ROUND(U33*premieGM,2) -> #REF! | X33: Woning + recreatieverblijf | Y33: =IF(D33=X33,"",D33 & " ≠ " & X33) | AB33: nee | AC33: nee | AD33: nee | AE33: ja | AF33: ja | AG33: nee | AI33: geen asbest | AK33: wordt gesloopt Q4 2026
A34: Roosjesweg 16 | B34: Domburg | C34: 4357 ED | D34: Loods | F34: 45658 | G34: =ROUND(J34*ign/igo,afrind) -> 0 | H34: =ROUND(K34*iin/iio,afrind) -> 0 | I34: =SUM(G34:H34) -> 0 | J34: 0 | K34: 0 | L34: =SUM(J34:K34) -> 0 | M34: 0 | N34: 0 | O34: =SUM(M34:N34) -> 0 | P34: =G34-J34 -> 0 | Q34: =H34-K34 -> 0 | R34: =SUM(P34:Q34) -> 0 | S34: =J34-M34 -> 0 | T34: =K34-N34 -> 0 | U34: =SUM(S34:T34) -> 0 | V34: =ROUND(U34*premieGM,2) -> #REF! | X34: Loods | Y34: =IF(D34=X34,"",D34 & " ≠ " & X34)
A35: Singel 45 | B35: Domburg | C35: 4357 BV | D35: Loods | F35: 45658 | G35: =ROUND(J35*ign/igo,afrind) -> 0 | H35: =ROUND(K35*iin/iio,afrind) -> 0 | I35: =SUM(G35:H35) -> 0 | J35: 0 | K35: 0 | L35: =SUM(J35:K35) -> 0 | M35: 0 | N35: 0 | O35: =SUM(M35:N35) -> 0 | P35: =G35-J35 -> 0 | Q35: =H35-K35 -> 0 | R35: =SUM(P35:Q35) -> 0 | S35: =J35-M35 -> 0 | T35: =K35-N35 -> 0 | U35: =SUM(S35:T35) -> 0 | V35: =ROUND(U35*premieGM,2) -> #REF! | X35: Loods | Y35: =IF(D35=X35,"",D35 & " ≠ " & X35)
A36: Singel 49 | B36: Domburg | C36: 4357 BV | D36: Loods | F36: 45658 | G36: =ROUND(J36*ign/igo,afrind) -> 0 | H36: =ROUND(K36*iin/iio,afrind) -> 0 | I36: =SUM(G36:H36) -> 0 | J36: 0 | K36: 0 | L36: =SUM(J36:K36) -> 0 | M36: 0 | N36: 0 | O36: =SUM(M36:N36) -> 0 | P36: =G36-J36 -> 0 | Q36: =H36-K36 -> 0 | R36: =SUM(P36:Q36) -> 0 | S36: =J36-M36 -> 0 | T36: =K36-N36 -> 0 | U36: =SUM(S36:T36) -> 0 | V36: =ROUND(U36*premieGM,2) -> #REF! | X36: Loods | Y36: =IF(D36=X36,"",D36 & " ≠ " & X36)
A37: Nijverheidsweg 0 12 | B37: Domburg | C37: 4357 BX | D37: Loods | F37: 45658 | G37: =ROUND(J37*ign/igo,afrind) -> 0 | H37: =ROUND(K37*iin/iio,afrind) -> 0 | I37: =SUM(G37:H37) -> 0 | J37: 0 | K37: 0 | L37: =SUM(J37:K37) -> 0 | M37: 0 | N37: 0 | O37: =SUM(M37:N37) -> 0 | P37: =G37-J37 -> 0 | Q37: =H37-K37 -> 0 | R37: =SUM(P37:Q37) -> 0 | S37: =J37-M37 -> 0 | T37: =K37-N37 -> 0 | U37: =SUM(S37:T37) -> 0 | V37: =ROUND(U37*premieGM,2) -> #REF! | X37: Loods | Y37: =IF(D37=X37,"",D37 & " ≠ " & X37)
A38: Nijverheidsweg 9 | B38: Domburg | C38: 4357 BX | D38: Loods | F38: 45658 | G38: =ROUND(J38*ign/igo,afrind) -> 0 | H38: =ROUND(K38*iin/iio,afrind) -> 0 | I38: =SUM(G38:H38) -> 0 | J38: 0 | K38: 0 | L38: =SUM(J38:K38) -> 0 | M38: 0 | N38: 0 | O38: =SUM(M38:N38) -> 0 | P38: =G38-J38 -> 0 | Q38: =H38-K38 -> 0 | R38: =SUM(P38:Q38) -> 0 | S38: =J38-M38 -> 0 | T38: =K38-N38 -> 0 | U38: =SUM(S38:T38) -> 0 | V38: =ROUND(U38*premieGM,2) -> #REF! | X38: Loods | Y38: =IF(D38=X38,"",D38 & " ≠ " & X38)
A39: Nijverheidsweg 4 | B39: Domburg | C39: 4357 BX | D39: Loods | F39: 45658 | G39: =ROUND(J39*ign/igo,afrind) -> 0 | H39: =ROUND(K39*iin/iio,afrind) -> 0 | I39: =SUM(G39:H39) -> 0 | J39: 0 | K39: 0 | L39: =SUM(J39:K39) -> 0 | M39: 0 | N39: 0 | O39: =SUM(M39:N39) -> 0 | P39: =G39-J39 -> 0 | Q39: =H39-K39 -> 0 | R39: =SUM(P39:Q39) -> 0 | S39: =J39-M39 -> 0 | T39: =K39-N39 -> 0 | U39: =SUM(S39:T39) -> 0 | V39: =ROUND(U39*premieGM,2) -> #REF! | X39: Loods | Y39: =IF(D39=X39,"",D39 & " ≠ " & X39)
A40: Roosjesweg 2 A/B | B40: Domburg | C40: 4357 BB | D40: Toiletunit parkeerterrein de Molen (Westhove) | F40: 45658 | G40: =ROUND(J40*ign/igo,afrind) -> 70000 | H40: =ROUND(K40*iin/iio,afrind) -> 0 | I40: =SUM(G40:H40) -> 70000 | J40: 68000 | K40: 0 | L40: =SUM(J40:K40) -> 68000 | M40: 68000 | N40: 0 | O40: =SUM(M40:N40) -> 68000 | P40: =G40-J40 -> 2000 | Q40: =H40-K40 -> 0 | R40: =SUM(P40:Q40) -> 2000 | S40: =J40-M40 -> 0 | T40: =K40-N40 -> 0 | U40: =SUM(S40:T40) -> 0 | V40: =ROUND(U40*premieGM,2) -> #REF! | X40: Toiletunit parkeerterrein de Molen (Westhove) | Y40: =IF(D40=X40,"",D40 & " ≠ " & X40) | AB40: nee | AC40: nee | AD40: nee | AE40: nee | AG40: nee | AI40: geen asbest
...
