Workbook

Sheet  voorblad en uurtarief
A1: Bijlage D. Prijzenblad-V1.0
A2: Zaaknummer : 31218990 Naam aanbesteding: Levering abonnementen GMDSS-communicatie Versie : 1.0 Status: Definitief
A3: Inschrijver dient de lichtblauw gekleurde cellen in te vullen.
A4: Bedrijfsnaam Inschrijver:
C5: Totale looptijd contract: | D5: 84 | E5: Maanden
B7: Invulinstructie
A8: 1. | B8: De inhoud van het blad 'totaal' wordt volledig ingevuld op basis van de andere bladen en is beveiligd.
A9: 2. | B9: Indien behoefte is toelichting te geven op de ingevulde waarden, dan kan dit in het blad 'toelichting'.
B10: Aanleiding voor een opmerking kan zijn dat Rijkswaterstaat producten en diensten vraagt en deze standaard met de jaarlijkse abonnementskosten van abonnementen worden aangeboden. Hierdoor blijven de kosten van de afzonderlijke dienst of het product leeg, terwijl deze wel wordt geleverd.
A11: 3. | B11: Alle tarieven zijn in euro's (€) exclusief btw.
A12: 4. | B12: De gevraagde eenheden zijn per onderdeel in het prijzenblad aangegeven. Voor support- en aanvullende werkzaamheden wordt inzet uitgedrukt in uren.
A13: 5. | B13: Inschrijver dient dit prijsblad volledig in te vullen. Alle opgegeven prijzen zijn in euro’s, exclusief BTW. De opgegeven prijzen vormen de basis voor de beoordeling van de inschrijving en maken na gunning onderdeel uit van de Overeenkomst. Op de prijzen zijn de in de Overeenkomst opgenomen bepalingen ten aanzien van indexatie en prijswijzigingen van toepassing..
A14: 6. | B14: De in deze prijslijst opgenomen aantallen zijn fictief of indicatief, en uitsluitend bedoeld ten behoeve van een uniforme en objectieve prijsvergelijking tussen inschrijvers. Zij geven geen garantie op afname. Waar van toepassing zijn aantallen gebaseerd op een globale inschatting uit historisch verbruik.
B16: Kanttekeningen
A17: A. | B17: Er wordt in de berekening geen prijsindexatie toegepast (Deze is immers ook niet bekend.).
A18: B. | B18: Er wordt gerekend met een totale looptijd van 7 jaar, welke bestaat uit 5 jaar initieel plus 2 optionele verlengingen van steeds 1 jaar.
A19: C. | B19: Er wordt in het tabblad totaal gewerkt met 1 prijs categorie;
B20: Vaste totaalprijs; dit is een vast bedrag die de inschrijver verwacht te rekenen voor de betreffende onderdelen van de aanvraag.
A21: D. | B21: In de totale Vergoeding heeft RWS rekening gehouden met een mogelijke toeslag onvoorziene kosten van 10%, dit is slechts een indicatie en hier kan de Opdrachtnemer geen rechten aan ontlenen.

Sheet totaal
B1: Totaaloverzicht
A2: Alle bedragen op deze overzichtspagina worden automatisch ingevuld uit de andere tabbladen.
A5: Invulhulp | B5: Onderwerp | C5: Prijs | D5: totaalprijs
A6: ='A abonnement & verbruik'!A6 -> A1 | B6: ='A abonnement & verbruik'!B6 -> Inmarsat-C Monthly Network Access | C6: ='A abonnement & verbruik'!I6 -> totaal | D6: ='A abonnement & verbruik'!H6 -> 0
A7: ='A abonnement & verbruik'!A7 -> A2 | B7: ='A abonnement & verbruik'!B7 -> Inmarsat-C Annual Fee | C7: ='A abonnement & verbruik'!I7 -> totaal | D7: ='A abonnement & verbruik'!H7 -> 0
A8: ='A abonnement & verbruik'!A8 -> A3 | B8: ='A abonnement & verbruik'!B8 -> Inmarsat-C verbruik (per KB/4)* | C8: totaal | D8: ='A abonnement & verbruik'!H8 -> 0
A9: ='A abonnement & verbruik'!A9 -> A4 | B9: ='A abonnement & verbruik'!B9 -> Iridium Certus 100 plan / 25MB Monthly | C9: ='A abonnement & verbruik'!I9 -> totaal | D9: ='A abonnement & verbruik'!H9 -> 0
A10: ='A abonnement & verbruik'!A10 -> A5 | B10: ='A abonnement & verbruik'!B10 -> Iridium Certus 100 plan - GMDSS Add-on Monthly | C10: ='A abonnement & verbruik'!I10 -> totaal | D10: ='A abonnement & verbruik'!H10 -> 0
A11: ='A abonnement & verbruik'!A11 -> A6 | B11: ='A abonnement & verbruik'!B11 -> Iridium Certus 100 plan - Out of allowance data / MB | C11: totaal | D11: ='A abonnement & verbruik'!H11 -> 0
A12: ='A abonnement & verbruik'!A12 -> A7 | B12: ='A abonnement & verbruik'!B12 -> Iridium GMDSS Value plan 50 min/sms | C12: totaal | D12: ='A abonnement & verbruik'!H12 -> 0
A13: ='A abonnement & verbruik'!A13 -> A8 | B13: ='A abonnement & verbruik'!B13 -> Iridium GMDSS Value plan - Out of allowance voice to fixed/cellular / min | C13: totaal | D13: ='A abonnement & verbruik'!H13 -> 0
A14: ='A abonnement & verbruik'!A14 -> A9 | B14: ='A abonnement & verbruik'!B14 -> Iridium GMDSS Value plan - Out of allowance sms / msg | C14: totaal | D14: ='A abonnement & verbruik'!H14 -> 0
A15: ='A abonnement & verbruik'!A15 -> A10 | B15: ='A abonnement & verbruik'!B15 -> Iridium Std Postpaid plan 10 min/sms | C15: totaal | D15: ='A abonnement & verbruik'!H15 -> 0
A16: ='A abonnement & verbruik'!A16 -> A11 | B16: ='A abonnement & verbruik'!B16 -> Iridium Std Postpaid plan - Out of allowance voice to fixed/cellular / min | C16: totaal | D16: ='A abonnement & verbruik'!H16 -> 0
A17: ='A abonnement & verbruik'!A17 -> A12 | B17: ='A abonnement & verbruik'!B17 -> Iridium Std Postpaid plan - Out of allowance sms / msg | C17: totaal | D17: ='A abonnement & verbruik'!H17 -> 0
A18: ='A abonnement & verbruik'!A18 -> A13 | B18: ='A abonnement & verbruik'!B18 -> FleetBroadband 25MB Monthly | C18: ='A abonnement & verbruik'!I19 -> totaal | D18: ='A abonnement & verbruik'!H18 -> 0
A19: ='A abonnement & verbruik'!A19 -> A14 | B19: ='A abonnement & verbruik'!B19 -> [OPTIONEEL] Overige abonnementskosten (hieronder te specificeren) | C19: ='A abonnement & verbruik'!I19 -> totaal | D19: ='A abonnement & verbruik'!H19 -> 0
A20: ='H support & service'!A6 -> H1 | B20: ='H support & service'!B6 -> Specificatie of rapportage factuur | C20: ='H support & service'!F6 -> totaal | D20: ='H support & service'!E6 -> 0
A21: ='H support & service'!A7 -> H2 | B21: ='H support & service'!B7 -> [OPTIONEEL] Overige support & service kosten (hieronder te specificeren) | C21: ='H support & service'!F7 -> totaal | D21: ='H support & service'!E7 -> 0
A22: O1 | B22: ='O overige kosten'!B6 -> [OPTIONEEL] Overige kosten | C22: ='O overige kosten'!D6 -> totaal | D22: ='O overige kosten'!C6 -> 0
B23: Totale Vergoeding | D23: =SUM(D6:D22) -> 0
B24: Totale Vergoeding incl. toeslag mogelijke onvoorziene kosten 10% | D24: =D23*1.1 -> 0

Sheet A abonnement & verbruik
A1: A1 t/m A11 | B1: abonnementen & verbruik
A2: De componenten op deze pagina dienen tegen een vaste prijs te worden aangeboden.
A5: Invulhulp | B5: Omschrijving | C5: Eenheid | D5: prijs per eenheid | E5: geschat aantal of verbruik | F5: Subtotaal p/mnd | G5: vaste prijs p/mnd | H5: Totale kosten tijdens looptijd (84 mnd) | I5: Eenheid
A6: A1 | B6: Inmarsat-C Monthly Network Access | C6: aantal | E6: 14 | F6: =D6*E6 -> 0 | H6: =F6*' voorblad en uurtarief'!D$5 -> 0 | I6: totaal
A7: A2 | B7: Inmarsat-C Annual Fee | C7: aantal | E7: 14 | F7: =(D7*E7)/12 -> 0 | H7: =F7*' voorblad en uurtarief'!D$5 -> 0 | I7: totaal
A8: A3 | B8: Inmarsat-C verbruik (per KB/4)* | C8: KB/4 | E8: 750 | F8: =E8*D8 -> 0 | H8: =F8*' voorblad en uurtarief'!D$5 -> 0 | I8: totaal
A9: A4 | B9: Iridium Certus 100 plan / 25MB Monthly | C9: aantal | E9: 2 | F9: =E9*D9 -> 0 | H9: =F9*' voorblad en uurtarief'!D$5 -> 0 | I9: totaal
A10: A5 | B10: Iridium Certus 100 plan - GMDSS Add-on Monthly | C10: aantal | E10: 2 | F10: =E10*D10/12 -> 0 | H10: =(F10*' voorblad en uurtarief'!D$5) -> 0 | I10: totaal
A11: A6 | B11: Iridium Certus 100 plan - Out of allowance data / MB | C11: MB | E11: 40 | F11: =E11*D11 -> 0 | H11: =F11*' voorblad en uurtarief'!D$5 -> 0 | I11: totaal
A12: A7 | B12: Iridium GMDSS Value plan 50 min/sms | C12: aantal | E12: 5 | F12: =E12*D12 -> 0 | H12: =F12*' voorblad en uurtarief'!D$5 -> 0 | I12: totaal
A13: A8 | B13: Iridium GMDSS Value plan - Out of allowance voice to fixed/cellular / min | C13: MIN | E13: 100 | F13: =E13*D13 -> 0 | H13: =F13*' voorblad en uurtarief'!D$5 -> 0 | I13: totaal
A14: A9 | B14: Iridium GMDSS Value plan - Out of allowance sms / msg | C14: SMS | E14: 100 | F14: =E14*D14 -> 0 | H14: =F14*' voorblad en uurtarief'!D$5 -> 0 | I14: totaal
A15: A10 | B15: Iridium Std Postpaid plan 10 min/sms | C15: aantal | E15: 3 | F15: =E15*D15 -> 0 | H15: =F15*' voorblad en uurtarief'!D$5 -> 0 | I15: totaal
A16: A11 | B16: Iridium Std Postpaid plan - Out of allowance voice to fixed/cellular / min | C16: MIN | E16: 60 | F16: =E16*D16 -> 0 | H16: =F16*' voorblad en uurtarief'!D$5 -> 0 | I16: totaal
A17: A12 | B17: Iridium Std Postpaid plan - Out of allowance sms / msg | C17: SMS | E17: 60 | F17: =E17*D17 -> 0 | H17: =F17*' voorblad en uurtarief'!D$5 -> 0 | I17: totaal
A18: A13 | B18: FleetBroadband 25MB Monthly | C18: aantal | E18: 1 | F18: =E18*D18 -> 0 | H18: =F18*' voorblad en uurtarief'!D$5 -> 0 | I18: totaal
A19: A14 | B19: [OPTIONEEL] Overige abonnementskosten (hieronder te specificeren) | F19: =SUM(F20:F25) -> 0 | G19: =G20+G21+G22+G23+G24+G25 -> 0 | H19: =(G19+F19)*' voorblad en uurtarief'!D5 -> 0 | I19: totaal
F20: =E20*D20 -> 0 | H20: =(F20+G20)*' voorblad en uurtarief'!D5 -> 0 | I20: totaal
F21: =E21*D21 -> 0 | H21: =(G21+F21)*' voorblad en uurtarief'!D5 -> 0 | I21: totaal
F22: =E22*D22 -> 0 | H22: =(F22+G22)*' voorblad en uurtarief'!D7 -> 0 | I22: totaal
F23: =E23*D23 -> 0 | H23: =(F23+G23)*' voorblad en uurtarief'!D8 -> 0 | I23: totaal
F24: =E24*D24 -> 0 | H24: =(F24+G24)*' voorblad en uurtarief'!D9 -> 0 | I24: totaal
F25: =E25*D25 -> 0 | H25: =(F25+G25)*' voorblad en uurtarief'!D10 -> 0 | I25: totaal
A27: * KB/4: Eén eenheid staat gelijk aan een kwart kilobyte (0,25 KB of 256 bytes) dataverkeer. Inschrijver dient de prijs per eenheid KB/4 op te geven.
A28: Aantallen zijn indicatief om te komen tot een prijsvergelijking. Aantallen kunnen wijzigen in de loop van de contractperiode.

Sheet H support & service
A1: H1 t/m H2 | B1: support & service
A2: De componenten op deze pagina dienen tegen een vaste prijs te worden aangeboden.
A5: Invulhulp | B5: Omschrijving | C5: Aantallen * | D5: vaste prijs | E5: Subtotaal | F5: Eenheid
A6: H1 | B6: Specificatie of rapportage factuur | E6: =C6*D6 -> 0 | F6: totaal
A7: H2 | B7: [OPTIONEEL] Overige support & service kosten (hieronder te specificeren) | E7: =SUM(E8:E16) -> 0 | F7: totaal
E8: =C8*D8 -> 0 | F8: totaal
E9: =C9*D9 -> 0 | F9: totaal
E10: =C10*D10 -> 0 | F10: totaal
E11: =C11*D11 -> 0 | F11: totaal
E12: =C12*D12 -> 0 | F12: totaal
E13: =C13*D13 -> 0 | F13: totaal
E14: =C14*D14 -> 0 | F14: totaal
E15: =C15*D15 -> 0 | F15: totaal
E16: =C16*D16 -> 0 | F16: totaal

Sheet O overige kosten
A1: O1 | B1: Overige kosten
A2: De componenten op deze pagina dienen tegen een vaste prijs te worden aangeboden.
A5: Invulhulp | B5: Omschrijving | C5: vaste prijs | D5: Eenheid
A6: O1 | B6: [OPTIONEEL] Overige kosten | C6: =SUM(C7:C15) -> 0 | D6: totaal
D7: totaal
D8: totaal
D9: totaal
D10: totaal
D11: totaal
D12: totaal
D13: totaal
D14: totaal
D15: totaal
