Workbook
Name A: #REF!
Name B: #REF!
Name Bouwjaar: 'Inventarisatie (reserve)'!$P$2
Name BVO: #REF!
Name BVO: 'Inventarisatie (reserve)'!#REF!
Name comp: #REF!
Name Discipline: #REF!
Name Discipline: 'Inventarisatie (reserve)'!$M$2
Name E: #REF!
Name Fotolocatie: 'Inspectie (reserve)'!#REF!
Name G: #REF!
Name Gebouwid: #REF!
Name Gebouwid: 'Inventarisatie (reserve)'!#REF!
Name KOSTVP: #REF!
Name labels: #REF!
Name T: #REF!
Name W: #REF!

Sheet Advies
A5: Advies programma Label C/EML Defensie
A6: =CONCATENATE(B13,",",B14) -> Voorbeeld,Voorbeeld
A8: Gele velden invullen door Opdrachtnemer
A10: Object: | B10: Voorbeeld
A11: Complexnaam: | B11: Voorbeeld
A12: Gebouwnummer: | B12: Voorbeeld
A13: Straat en huisnummer: | B13: Voorbeeld
A14: Plaats: | B14: Voorbeeld
A15: Gemeente: | B15: Voorbeeld
A16: Hoofdgebruiker: | B16: Voorbeeld
A17: Bouwjaar: | B17: 1943
A18: m2 BVO: | B18: 636
A19: Gebouwsoort: | B19: Kantoor
A20: Gebouwcategorie:
A21: Monumentale status:
A22: Batch: | B22: 3
A23: Huidige label: | B23: N.v.t.
A24: Gemiddeld gasverbruik locatie | B24: 100000 | C24: m3 / jaar (o.b.v. jaarverbruiken periode 2023-2025)
A25: Contractvermogen elektra | C25: kW (Contract capacity) elektrisch
A26: Beschikbare elektrisch vermogen binnen lopend contract | C26: kW (Contract capacity - MaxPeak) elektrisch
A27: Asbestinventarisatie | B27: =IF(B17>=1993,"Asbest vrij op basis bouwjaar",IF(B28=NOT(ISBLANK(B28)),"Niet beschikbaar","Beschikbaar")) -> Niet beschikbaar
A28: Vervaldatum asbestinventarisatie
A29: GBS aanwezig | B29: Ja
A30: Duur van de werkzaamheden | B30: =ROUNDUP(B53/100000,0) -> 0 | C30: maanden
A31: Mate van overlast
A32: Zwembad aanwezig | B32: Nee
A33: Stoom aanwezig | B33: Nee
A34: Instandhoudingslabel | B34: 3
A36: Datum inspectie: | B36: 46260
A37: Inspectiebedrijf | B37: Naam bedrijf
A38: Inspecteur B: | B38: Jan
A39: Inspecteur E: | B39: Willem
A40: Inspecteur W: | B40: Hugo
A42: Datum advies RVB:
A43: Versie advies:
A44: Adviseur:
A46: Onderwerp | B46: Raming kosten excl. BTW | C46: Opmerking
A47: Label C Maatregelen | B47: 0
A48: EML minimale maatregelen | B48: =SUM(B69:B83) -> 0
B49: =0.6*(B47+B48) -> 0
A50: Sub totaal advies: | B50: =SUM(B47:B49) -> 0
A51: Aanvullende werkzaamheden | B51: =SUM(B85:B89) -> 0
B52: =0.6*B51 -> 0
A53: Sub totaal advies+ aanvullend werk: | B53: =SUM(B50:B52) -> 0
A54: Maatregelen t.b.v. Instandhouding | B54: =SUM(B91:B95) -> 0
B55: =0.6*B54 -> 0
A56: Grand totaal: | B56: =SUM(B53:B55) -> 0
A58: Verzoek tot goed te keuren budget: | B58: =B53 -> 0
A60: Onderwerp | B60: Raming kosten excl. BTW | C60: FUTP | D60: Toelichting
A61: Advies
A62: Label C maatregelen:
B63: 0
B64: 0
B65: 0
B66: 0
B67: 0
A68: EML minimale maatregelen:
B69: =IF(A69="",0,_xlfn.XLOOKUP(LEFT(A69,SEARCH(" ",A69)-1),MTRG[Code],MTRG[Aantal (EURO''s)],0)) -> 0 | C69: =IF(A69="","",_xlfn.XLOOKUP(LEFT(A69,SEARCH(" ",A69)-1),TInspectieTotaal[EML code],TInspectieTotaal[FUTP''s],""))
B70: =IF(A70="",0,_xlfn.XLOOKUP(LEFT(A70,SEARCH(" ",A70)-1),MTRG[Code],MTRG[Aantal (EURO''s)],0)) -> 0 | C70: =IF(A70="","",_xlfn.XLOOKUP(LEFT(A70,SEARCH(" ",A70)-1),TInspectieTotaal[EML code],TInspectieTotaal[FUTP''s],""))
B71: =IF(A71="",0,_xlfn.XLOOKUP(LEFT(A71,SEARCH(" ",A71)-1),MTRG[Code],MTRG[Aantal (EURO''s)],0)) -> 0 | C71: =IF(A71="","",_xlfn.XLOOKUP(LEFT(A71,SEARCH(" ",A71)-1),TInspectieTotaal[EML code],TInspectieTotaal[FUTP''s],""))
B72: =IF(A72="",0,_xlfn.XLOOKUP(LEFT(A72,SEARCH(" ",A72)-1),MTRG[Code],MTRG[Aantal (EURO''s)],0)) -> 0 | C72: =IF(A72="","",_xlfn.XLOOKUP(LEFT(A72,SEARCH(" ",A72)-1),TInspectieTotaal[EML code],TInspectieTotaal[FUTP''s],""))
B73: =IF(A73="",0,_xlfn.XLOOKUP(LEFT(A73,SEARCH(" ",A73)-1),MTRG[Code],MTRG[Aantal (EURO''s)],0)) -> 0 | C73: =IF(A73="","",_xlfn.XLOOKUP(LEFT(A73,SEARCH(" ",A73)-1),TInspectieTotaal[EML code],TInspectieTotaal[FUTP''s],""))
B74: =IF(A74="",0,_xlfn.XLOOKUP(LEFT(A74,SEARCH(" ",A74)-1),MTRG[Code],MTRG[Aantal (EURO''s)],0)) -> 0 | C74: =IF(A74="","",_xlfn.XLOOKUP(LEFT(A74,SEARCH(" ",A74)-1),TInspectieTotaal[EML code],TInspectieTotaal[FUTP''s],""))
B75: =IF(A75="",0,_xlfn.XLOOKUP(LEFT(A75,SEARCH(" ",A75)-1),MTRG[Code],MTRG[Aantal (EURO''s)],0)) -> 0 | C75: =IF(A75="","",_xlfn.XLOOKUP(LEFT(A75,SEARCH(" ",A75)-1),TInspectieTotaal[EML code],TInspectieTotaal[FUTP''s],""))
B76: =IF(A76="",0,_xlfn.XLOOKUP(LEFT(A76,SEARCH(" ",A76)-1),MTRG[Code],MTRG[Aantal (EURO''s)],0)) -> 0 | C76: =IF(A76="","",_xlfn.XLOOKUP(LEFT(A76,SEARCH(" ",A76)-1),TInspectieTotaal[EML code],TInspectieTotaal[FUTP''s],""))
B77: =IF(A77="",0,_xlfn.XLOOKUP(LEFT(A77,SEARCH(" ",A77)-1),MTRG[Code],MTRG[Aantal (EURO''s)],0)) -> 0 | C77: =IF(A77="","",_xlfn.XLOOKUP(LEFT(A77,SEARCH(" ",A77)-1),TInspectieTotaal[EML code],TInspectieTotaal[FUTP''s],""))
B78: =IF(A78="",0,_xlfn.XLOOKUP(LEFT(A78,SEARCH(" ",A78)-1),MTRG[Code],MTRG[Aantal (EURO''s)],0)) -> 0 | C78: =IF(A78="","",_xlfn.XLOOKUP(LEFT(A78,SEARCH(" ",A78)-1),TInspectieTotaal[EML code],TInspectieTotaal[FUTP''s],""))
B79: =IF(A79="",0,_xlfn.XLOOKUP(LEFT(A79,SEARCH(" ",A79)-1),MTRG[Code],MTRG[Aantal (EURO''s)],0)) -> 0 | C79: =IF(A79="","",_xlfn.XLOOKUP(LEFT(A79,SEARCH(" ",A79)-1),TInspectieTotaal[EML code],TInspectieTotaal[FUTP''s],""))
B80: =IF(A80="",0,_xlfn.XLOOKUP(LEFT(A80,SEARCH(" ",A80)-1),MTRG[Code],MTRG[Aantal (EURO''s)],0)) -> 0 | C80: =IF(A80="","",_xlfn.XLOOKUP(LEFT(A80,SEARCH(" ",A80)-1),TInspectieTotaal[EML code],TInspectieTotaal[FUTP''s],""))
... B83: =IF(A83="",0,_xlfn.XLOOKUP(LEFT(A83,SEARCH(" ",A83)-1),MTRG[Code],MTRG[Aantal (EURO''s)],0)) -> 0 | C83: =IF(A83="","",_xlfn.XLOOKUP(LEFT(A83,SEARCH(" ",A83)-1),TInspectieTotaal[EML code],TInspectieTotaal[FUTP''s],""))
A84: Aanvullende werkzaamheden
A90: Maatregelen t.b.v. Instandhouding
A91: {=_xlfn._xlws.FILTER(MTRG[Code]& " - " & MTRG[Maatregel],(MTRG[Voorstel RVB uitvoering]="NM")*(MTRG[Aantal (EURO''s)]>1),"")} | B91: =IF(A91="",0,_xlfn.XLOOKUP(LEFT(A91,SEARCH(" ",A91)-1),MTRG[Code],MTRG[Aantal (EURO''s)],0)) -> 0 | C91: =IF(A91="","",_xlfn.XLOOKUP(LEFT(A91,SEARCH(" ",A91)-1),TInspectieTotaal[EML code],TInspectieTotaal[FUTP''s],""))
B92: =IF(A92="",0,_xlfn.XLOOKUP(LEFT(A92,SEARCH(" ",A92)-1),MTRG[Code],MTRG[Aantal (EURO''s)],0)) -> 0 | C92: =IF(A92="","",_xlfn.XLOOKUP(LEFT(A92,SEARCH(" ",A92)-1),TInspectieTotaal[EML code],TInspectieTotaal[FUTP''s],""))
B93: =IF(A93="",0,_xlfn.XLOOKUP(LEFT(A93,SEARCH(" ",A93)-1),MTRG[Code],MTRG[Aantal (EURO''s)],0)) -> 0 | C93: =IF(A93="","",_xlfn.XLOOKUP(LEFT(A93,SEARCH(" ",A93)-1),TInspectieTotaal[EML code],TInspectieTotaal[FUTP''s],""))
B94: =IF(A94="",0,_xlfn.XLOOKUP(LEFT(A94,SEARCH(" ",A94)-1),MTRG[Code],MTRG[Aantal (EURO''s)],0)) -> 0 | C94: =IF(A94="","",_xlfn.XLOOKUP(LEFT(A94,SEARCH(" ",A94)-1),TInspectieTotaal[EML code],TInspectieTotaal[FUTP''s],""))
B95: =IF(A95="",0,_xlfn.XLOOKUP(LEFT(A95,SEARCH(" ",A95)-1),MTRG[Code],MTRG[Aantal (EURO''s)],0)) -> 0 | C95: =IF(A95="","",_xlfn.XLOOKUP(LEFT(A95,SEARCH(" ",A95)-1),TInspectieTotaal[EML code],TInspectieTotaal[FUTP''s],""))

Sheet SCHOUW
B2: GEBOUWGEGEVENS
B4: Objectgegevens
B5: Object | D5: =Advies!B10 -> Voorbeeld
B6: Complexnaam | D6: =Advies!B11 -> Voorbeeld
B7: Gebouw
B8: Plaats | D8: =Advies!B14 -> Voorbeeld
B9: Gemeente | D9: =Advies!B15 -> Voorbeeld
B10: Hoofdgebruiker | D10: =Advies!B16 -> Voorbeeld
B11: Plicht | D11: Informatieplichting
B13: Gebouwgegevens
B14: Uniek ID | D14: =CONCATENATE(D5,".",D15) -> Voorbeeld.Voorbeeld
B15: Gebouwnummer | D15: =Advies!B12 -> Voorbeeld
B16: Bouwjaar | D16: =Advies!B17 -> 1943
B17: m² BVO | D17: =Advies!B18 -> 636
B18: Gebouwsoort | D18: =Advies!B19 -> Kantoor
B19: Gebouwcategorie | D19: =Advies!B20 -> 0
B20: Monumentenstatus | D20: =Advies!B21 -> 0
B21: Batch | D21: =Advies!B22 -> 3
B23: Schouw
B24: Datum | D24: =Advies!B36 -> 46260
B25: Bedrijf | D25: =Advies!B37 -> Naam bedrijf
B26: Uitgevoerd door | D26: =Advies!B40 -> Hugo
B28: Legenda
B29: V | C29: Volledig uitgevoerd
B30: A | C30: Alternatief uitgevoerd
B31: G | C31: Gedeeltelijk uitgevoerd
B32: U | C32: In uitvoering
B33: X | C33: (Nog) niet uitgevoerd
B34: NM | C34: Natuurlijk moment (nog) niet voorgedaan
B35: R | C35: Niet voldaan aan randvoorwaarden (technisch en/of economisch) | K35: Planning | O35: Raming kosten (€)
B36: N.V.T. | C36: Niet van toepassing | K36: Zelfstandig moment | O36: =SUMIF(MTRG[Voorstel RVB uitvoering],"ZM",MTRG[Aantal (EURO''s)]) -> 21840
B37: O | C37: Onderzoeksplicht, niet van toepassing | K37: Natuurlijk moment | O37: =SUMIF(MTRG[Voorstel RVB uitvoering],"NM",MTRG[Aantal (EURO''s)]) -> 0
B39: SCHOUWDATA | H39: Invullen | J39: Invullen | K39: Invullen | L39: Flora/Fauna issue?
B41: Status per maatregel | F41: Bureaustudie | H41: Schouw
B42: Type | C42: Code | D42: Categorie | E42: Maatregel | F42: Status | G42: Aantal | H42: Status schouw | I42: Aantal | J42: Toelichting | K42: Aantal (EURO's) | L42: Uitvoering vlgs. EML | M42: Voorstel RVB uitvoering | N42: Door RVB invullen | O42: B | P42: E | Q42: W | R42: T
B43: Faciliteiten | J43: In beheer bij RVB/Defensie | Q43: x
D44: =D45 -> Perslucht | Q44: x
B45: Faciliteiten | C45: FA1 | D45: Perslucht | E45: Vergroot de persluchtbuffer. | F45: O | G45: 0 | I45: =SUMIFS(TInspectieTotaal[Aantal],TInspectieTotaal[EML code],MTRG[[#This Row],[Code]]) -> 0 | J45: In beheer bij Defensie
B46: Faciliteiten | C46: FA2 | D46: Perslucht | E46: Plaats een afsluiter met tijdschakelaar om verlies van perslucht buiten bedrijfstijden te beperken. | F46: O | G46: 0 | H46: N.V.T. | I46: =SUMIFS(TInspectieTotaal[Aantal],TInspectieTotaal[EML code],MTRG[[#This Row],[Code]]) -> 0 | J46: voldoet aan gestelde eisen | K46: =SUMIFS(TInspectieTotaal[Raming kosten excl. BTW],TInspectieTotaal[EML code],MTRG[[#This Row],[Code]]) -> 0 | L46: ZM | N46: x | Q46: x
B47: Faciliteiten | C47: FA3 | D47: Perslucht | E47: Pas een flow-drukregelaar toe in het persluchtnet. | F47: O | G47: 0 | H47: N.V.T. | I47: =SUMIFS(TInspectieTotaal[Aantal],TInspectieTotaal[EML code],MTRG[[#This Row],[Code]]) -> 0 | J47: geen centrale toerengeregelde persluchtcompressor(en) en buffervat aanwezig | K47: =SUMIFS(TInspectieTotaal[Raming kosten excl. BTW],TInspectieTotaal[EML code],MTRG[[#This Row],[Code]]) -> 0 | L47: ZM | N47: x | Q47: x
B48: Faciliteiten | C48: FA4 | D48: Perslucht | E48: Plaats een luchtkanaal zodat de persluchtcompressor (koude) buitenlucht aanzuigt. | F48: O | G48: 0 | H48: N.V.T. | I48: =SUMIFS(TInspectieTotaal[Aantal],TInspectieTotaal[EML code],MTRG[[#This Row],[Code]]) -> 0 | J48: geen centrale persluchtnet aanwezig | K48: =SUMIFS(TInspectieTotaal[Raming kosten excl. BTW],TInspectieTotaal[EML code],MTRG[[#This Row],[Code]]) -> 0 | L48: ZM | N48: x | Q48: x
B49: Faciliteiten | C49: FA5 | D49: Perslucht | E49: Gebruik zuinige persluchtgereedschappen. | F49: O | G49: 0 | I49: =SUMIFS(TInspectieTotaal[Aantal],TInspectieTotaal[EML code],MTRG[[#This Row],[Code]]) -> 0 | J49: In beheer bij Defensie
B50: Faciliteiten | C50: FA6 | D50: Perslucht | E50: Gebruik elektrisch handgereedschap als vervanging voor pneumatisch aangedreven gereedschap. | F50: O | G50: 0 | I50: =SUMIFS(TInspectieTotaal[Aantal],TInspectieTotaal[EML code],MTRG[[#This Row],[Code]]) -> 0 | J50: In beheer bij Defensie
B51: Faciliteiten | C51: FA7 | D51: Perslucht | E51: Gebruik een blower voor het schoonblazen in plaats van perslucht. | F51: O | G51: 0 | I51: =SUMIFS(TInspectieTotaal[Aantal],TInspectieTotaal[EML code],MTRG[[#This Row],[Code]]) -> 0 | J51: In beheer bij Defensie
B52: Faciliteiten | C52: FA8 | D52: Perslucht | E52: Vervang de regelklepbediening op basis van perslucht door elektrische aandrijvingen. | F52: O | G52: 0 | I52: =SUMIFS(TInspectieTotaal[Aantal],TInspectieTotaal[EML code],MTRG[[#This Row],[Code]]) -> 0 | J52: In beheer bij Defensie
D53: =D54 -> Stoom | Q53: x
B54: Faciliteiten | C54: FB1 | D54: Stoom | E54: Verlaag de stoomdruk van het centrale stoomnet. | F54: O | G54: 0 | H54: N.V.T. | I54: =SUMIFS(TInspectieTotaal[Aantal],TInspectieTotaal[EML code],MTRG[[#This Row],[Code]]) -> 0 | J54: geen centraal stoomnet aanwezig | K54: =SUMIFS(TInspectieTotaal[Raming kosten excl. BTW],TInspectieTotaal[EML code],MTRG[[#This Row],[Code]]) -> 0 | L54: ZM | N54: x | Q54: x
B55: Faciliteiten | C55: FB2 | D55: Stoom | E55: Gebruik een economiser om warmte uit de rookgassen van de stoomketel nuttig in te zetten. | F55: O | G55: 0 | H55: N.V.T. | I55: =SUMIFS(TInspectieTotaal[Aantal],TInspectieTotaal[EML code],MTRG[[#This Row],[Code]]) -> 0 | J55: niet aanwezig | K55: =SUMIFS(TInspectieTotaal[Raming kosten excl. BTW],TInspectieTotaal[EML code],MTRG[[#This Row],[Code]]) -> 0 | L55: ZM | N55: x | Q55: x
B56: Faciliteiten | C56: FB3 | D56: Stoom | E56: Gebruik een rookgascondensor om warmte uit de rookgassen van de stoomketel nuttig in te zetten. | F56: O | G56: 0 | H56: N.V.T. | I56: =SUMIFS(TInspectieTotaal[Aantal],TInspectieTotaal[EML code],MTRG[[#This Row],[Code]]) -> 0 | J56: niet aanwezig | K56: =SUMIFS(TInspectieTotaal[Raming kosten excl. BTW],TInspectieTotaal[EML code],MTRG[[#This Row],[Code]]) -> 0 | L56: ZM | N56: x | Q56: x
B57: Faciliteiten | C57: FB4 | D57: Stoom | E57: Vervang stoom als middel voor ruimteverwarming. | F57: O | G57: 0 | H57: N.V.T. | I57: =SUMIFS(TInspectieTotaal[Aantal],TInspectieTotaal[EML code],MTRG[[#This Row],[Code]]) -> 0 | J57: geen stoomgevoede luchtverhitter aanwezig | K57: =SUMIFS(TInspectieTotaal[Raming kosten excl. BTW],TInspectieTotaal[EML code],MTRG[[#This Row],[Code]]) -> 0 | L57: ZM | N57: x | Q57: x
B58: Faciliteiten | C58: FB5 | D58: Stoom | E58: Isoleer ongeïsoleerde warme delen van de stoomketel. | F58: O | G58: 0 | H58: N.V.T. | I58: =SUMIFS(TInspectieTotaal[Aantal],TInspectieTotaal[EML code],MTRG[[#This Row],[Code]]) -> 0 | J58: niet aanwezig | K58: =SUMIFS(TInspectieTotaal[Raming kosten excl. BTW],TInspectieTotaal[EML code],MTRG[[#This Row],[Code]]) -> 0 | L58: ZM | N58: x | Q58: x
B59: Faciliteiten | C59: FB6 | D59: Stoom | E59: Isoleer stoomleidingen en appendages. | F59: O | G59: 0 | H59: N.V.T. | I59: =SUMIFS(TInspectieTotaal[Aantal],TInspectieTotaal[EML code],MTRG[[#This Row],[Code]]) -> 0 | J59: niet aanwezig | K59: =SUMIFS(TInspectieTotaal[Raming kosten excl. BTW],TInspectieTotaal[EML code],MTRG[[#This Row],[Code]]) -> 0 | L59: ZM | N59: x | Q59: x
B60: Faciliteiten | C60: FB7 | D60: Stoom | E60: Pas een omgekeerde osmose (RO)-installatie toe om de ketelwaterkwaliteit te verbeteren. | F60: O | G60: 0 | H60: N.V.T. | I60: =SUMIFS(TInspectieTotaal[Aantal],TInspectieTotaal[EML code],MTRG[[#This Row],[Code]]) -> 0 | J60: niet aanwezig | K60: =SUMIFS(TInspectieTotaal[Raming kosten excl. BTW],TInspectieTotaal[EML code],MTRG[[#This Row],[Code]]) -> 0 | L60: ZM | N60: x | Q60: x
B61: Faciliteiten | C61: FB8 | D61: Stoom | E61: Plaats een warmtewisselaar bij de uitgang van een heetwaterproces. | F61: O | G61: 0 | H61: N.V.T. | I61: =SUMIFS(TInspectieTotaal[Aantal],TInspectieTotaal[EML code],MTRG[[#This Row],[Code]]) -> 0 | J61: niet aanwezig | K61: =SUMIFS(TInspectieTotaal[Raming kosten excl. BTW],TInspectieTotaal[EML code],MTRG[[#This Row],[Code]]) -> 0 | L61: ZM | N61: x | Q61: x
D62: =D63 -> Aandrijvingen | O62: x | P62: x | Q62: x | R62: x
B63: Faciliteiten | C63: FC1 | D63: Aandrijvingen | E63: Pas een frequentieregeling toe op machines. | F63: O | G63: 0 | I63: =SUMIFS(TInspectieTotaal[Aantal],TInspectieTotaal[EML code],MTRG[[#This Row],[Code]]) -> 0 | J63: In beheer bij Defensie
B64: Faciliteiten | C64: FC2 | D64: Aandrijvingen | E64: Pas een frequentieregeling op pompen toe. | F64: O | G64: 0 | H64: R | I64: =SUMIFS(TInspectieTotaal[Aantal],TInspectieTotaal[EML code],MTRG[[#This Row],[Code]]) -> 0 | J64: bestaande pomp <4 kW en/of elektromotor beter dan IE2. Pompen alleen aanwezig op verdeler verzamelaar en leidingen en appendages verwarmen | K64: =SUMIFS(TInspectieTotaal[Raming kosten excl. BTW],TInspectieTotaal[EML code],MTRG[[#This Row],[Code]]) -> 0 | L64: ZM | N64: x | Q64: ? | R64: ?
B65: Faciliteiten | C65: FC3 | D65: Aandrijvingen | E65: Pas een frequentieregeling toe op compressoren van onder andere de koel-, vries- en persluchtinstallaties. | F65: O | G65: 0 | H65: N.V.T. | I65: =SUMIFS(TInspectieTotaal[Aantal],TInspectieTotaal[EML code],MTRG[[#This Row],[Code]]) -> 0 | J65: niet aanwezig | K65: =SUMIFS(TInspectieTotaal[Raming kosten excl. BTW],TInspectieTotaal[EML code],MTRG[[#This Row],[Code]]) -> 0 | L65: ZM | N65: x | Q65: x
B66: Faciliteiten | C66: FC4 | D66: Aandrijvingen | E66: Vervang elektromotoren met efficiëntieklasse IE2 of lager door een motor met efficiëntieklasse IE4 of hoger. | F66: O | G66: 0 | H66: R | I66: =SUMIFS(TInspectieTotaal[Aantal],TInspectieTotaal[EML code],MTRG[[#This Row],[Code]]) -> 0 | J66: vermogen motor <0,75 kW. Elektromotoren alleen aanwezig op verdeler verzamelaar en leidingen en appendages verwarmen | K66: =SUMIFS(TInspectieTotaal[Raming kosten excl. BTW],TInspectieTotaal[EML code],MTRG[[#This Row],[Code]]) -> 0 | L66: NM | N66: x | O66: ? | P66: ? | Q66: ? | R66: ?
B67: Faciliteiten | C67: FC5 | D67: Aandrijvingen | E67: Vervang IE3-elektromotoren door efficiëntieklasse IE4 of hoger. | F67: O | G67: 0 | I67: =SUMIFS(TInspectieTotaal[Aantal],TInspectieTotaal[EML code],MTRG[[#This Row],[Code]]) -> 0 | J67: In beheer bij Defensie
D68: =D69 -> Productkoeling | Q68: x
B69: Faciliteiten | C69: FD1 | D69: Productkoeling | E69: Gebruik een alternatief voor elektrische verwarming aan de binnenzijde van de glazen deur van een verticaal vriesmeubel. | F69: O | G69: 0 | I69: =SUMIFS(TInspectieTotaal[Aantal],TInspectieTotaal[EML code],MTRG[[#This Row],[Code]]) -> 0 | J69: In beheer bij Defensie
B70: Faciliteiten | C70: FD2 | D70: Productkoeling | E70: Plaats deuren voor verticale koelmeubels. | F70: O | G70: 0 | I70: =SUMIFS(TInspectieTotaal[Aantal],TInspectieTotaal[EML code],MTRG[[#This Row],[Code]]) -> 0 | J70: In beheer bij Defensie
B71: Faciliteiten | C71: FD3 | D71: Productkoeling | E71: Pas nachtafdekking toe bij semi-verticale koelmeubels. | F71: O | G71: 0 | I71: =SUMIFS(TInspectieTotaal[Aantal],TInspectieTotaal[EML code],MTRG[[#This Row],[Code]]) -> 0 | J71: In beheer bij Defensie
B72: Faciliteiten | C72: FD4 | D72: Productkoeling | E72: Plaats dagafdekking op horizontale vriesmeubels. | F72: O | G72: 0 | I72: =SUMIFS(TInspectieTotaal[Aantal],TInspectieTotaal[EML code],MTRG[[#This Row],[Code]]) -> 0 | J72: In beheer bij Defensie
B73: Faciliteiten | C73: FD5 | D73: Productkoeling | E73: Isoleer koel- en vriesleidingen. | F73: O | G73: 0 | H73: N.V.T. | I73: =SUMIFS(TInspectieTotaal[Aantal],TInspectieTotaal[EML code],MTRG[[#This Row],[Code]]) -> 0 | J73: niet aanwezig | K73: =SUMIFS(TInspectieTotaal[Raming kosten excl. BTW],TInspectieTotaal[EML code],MTRG[[#This Row],[Code]]) -> 0 | L73: ZM | N73: x | Q73: x
B74: Faciliteiten | C74: FD6 | D74: Productkoeling | E74: Koppel de verdamperventilator aan de vriesceldeur. | F74: O | G74: 0 | H74: N.V.T. | I74: =SUMIFS(TInspectieTotaal[Aantal],TInspectieTotaal[EML code],MTRG[[#This Row],[Code]]) -> 0 | J74: niet aanwezig | K74: =SUMIFS(TInspectieTotaal[Raming kosten excl. BTW],TInspectieTotaal[EML code],MTRG[[#This Row],[Code]]) -> 0 | L74: ZM | N74: x | Q74: x
B75: Faciliteiten | C75: FD7 | D75: Productkoeling | E75: Isoleer de wanden van koelcellen om warmte buiten te houden. | F75: O | G75: 0 | H75: N.V.T. | I75: =SUMIFS(TInspectieTotaal[Aantal],TInspectieTotaal[EML code],MTRG[[#This Row],[Code]]) -> 0 | J75: niet aanwezig | K75: =SUMIFS(TInspectieTotaal[Raming kosten excl. BTW],TInspectieTotaal[EML code],MTRG[[#This Row],[Code]]) -> 0 | L75: ZM | N75: x | Q75: x
B76: Faciliteiten | C76: FD8 | D76: Productkoeling | E76: Regel de verdamperventilatoren van koelcellen op basis van meerdere temperatuursensoren. | F76: O | G76: 0 | H76: N.V.T. | I76: =SUMIFS(TInspectieTotaal[Aantal],TInspectieTotaal[EML code],MTRG[[#This Row],[Code]]) -> 0 | J76: niet aanwezig | K76: =SUMIFS(TInspectieTotaal[Raming kosten excl. BTW],TInspectieTotaal[EML code],MTRG[[#This Row],[Code]]) -> 0 | L76: ZM | N76: x | Q76: x
B77: Faciliteiten | C77: FD9 | D77: Productkoeling | E77: Pas een frequentieregelaar toe om het circulatievoud te regelen bij gekoelde opslag van producten. | F77: O | G77: 0 | H77: N.V.T. | I77: =SUMIFS(TInspectieTotaal[Aantal],TInspectieTotaal[EML code],MTRG[[#This Row],[Code]]) -> 0 | J77: niet aanwezig | K77: =SUMIFS(TInspectieTotaal[Raming kosten excl. BTW],TInspectieTotaal[EML code],MTRG[[#This Row],[Code]]) -> 0 | L77: ZM | N77: x | Q77: x
B78: Faciliteiten | C78: FD10 | D78: Productkoeling | E78: Scheid de luchttoevoer naar de koelinstallatie van de warme lucht uit de koelinstallatie. | F78: O | G78: 0 | H78: N.V.T. | I78: =SUMIFS(TInspectieTotaal[Aantal],TInspectieTotaal[EML code],MTRG[[#This Row],[Code]]) -> 0 | J78: niet aanwezig | K78: =SUMIFS(TInspectieTotaal[Raming kosten excl. BTW],TInspectieTotaal[EML code],MTRG[[#This Row],[Code]]) -> 0 | L78: ZM | N78: x | Q78: x
B79: Faciliteiten | C79: FD11 | D79: Productkoeling | E79: Pas een condensordrukregeling op buitenluchttemperatuur toe op de koelinstallatie. | F79: O | G79: 0 | H79: N.V.T. | I79: =SUMIFS(TInspectieTotaal[Aantal],TInspectieTotaal[EML code],MTRG[[#This Row],[Code]]) -> 0 | J79: niet aanwezig | K79: =SUMIFS(TInspectieTotaal[Raming kosten excl. BTW],TInspectieTotaal[EML code],MTRG[[#This Row],[Code]]) -> 0 | L79: ZM | N79: x | Q79: x
B80: Faciliteiten | C80: FD12 | D80: Productkoeling | E80: Gebruik de restwarmte van de condensors van de koelinstallatie. | F80: O | G80: 0 | H80: N.V.T. | I80: =SUMIFS(TInspectieTotaal[Aantal],TInspectieTotaal[EML code],MTRG[[#This Row],[Code]]) -> 0 | J80: niet aanwezig | K80: =SUMIFS(TInspectieTotaal[Raming kosten excl. BTW],TInspectieTotaal[EML code],MTRG[[#This Row],[Code]]) -> 0 | L80: ZM | N80: x | Q80: x
B81: Faciliteiten | C81: FD13 | D81: Productkoeling | E81: Pas dagafdekking toe bij semi-verticale koelmeubels. | F81: O | G81: 0 | I81: =SUMIFS(TInspectieTotaal[Aantal],TInspectieTotaal[EML code],MTRG[[#This Row],[Code]]) -> 0 | J81: In beheer bij Defensie
B82: Faciliteiten | C82: FD14 | D82: Productkoeling | E82: Plaats LED-armaturen in gekoelde cellen. | F82: O | G82: 0 | H82: N.V.T. | I82: =SUMIFS(TInspectieTotaal[Aantal],TInspectieTotaal[EML code],MTRG[[#This Row],[Code]]) -> 0 | J82: niet aanwezig | K82: =SUMIFS(TInspectieTotaal[Raming kosten excl. BTW],TInspectieTotaal[EML code],MTRG[[#This Row],[Code]]) -> 0 | L82: NM | N82: x | Q82: x
B83: Faciliteiten | C83: FD15 | D83: Productkoeling | E83: Pas heetgasontdooiing toe op de vriesinstallatie. | F83: O | G83: 0 | H83: N.V.T. | I83: =SUMIFS(TInspectieTotaal[Aantal],TInspectieTotaal[EML code],MTRG[[#This Row],[Code]]) -> 0 | J83: niet aanwezig | K83: =SUMIFS(TInspectieTotaal[Raming kosten excl. BTW],TInspectieTotaal[EML code],MTRG[[#This Row],[Code]]) -> 0 | L83: NM | N83: x | Q83: x
D84: =D85 -> Grootkeukenapparatuur | Q84: x
B85: Faciliteiten | C85: FE1 | D85: Grootkeukenapparatuur | E85: Vervang de infrarood-salamander door een salamander met automatische pan/bord detectie. | F85: O | G85: 0 | I85: =SUMIFS(TInspectieTotaal[Aantal],TInspectieTotaal[EML code],MTRG[[#This Row],[Code]]) -> 0 | J85: In beheer bij Defensie
B86: Faciliteiten | C86: FE2 | D86: Grootkeukenapparatuur | E86: Pas hot-fill toe bij bestaande vaatwasapparatuur in grootkeukens. | F86: O | G86: 0 | H86: N.V.T. | I86: =SUMIFS(TInspectieTotaal[Aantal],TInspectieTotaal[EML code],MTRG[[#This Row],[Code]]) -> 0 | J86: niet aanwezig | K86: =SUMIFS(TInspectieTotaal[Raming kosten excl. BTW],TInspectieTotaal[EML code],MTRG[[#This Row],[Code]]) -> 0 | L86: ZM | N86: x | Q86: x
B87: Faciliteiten | C87: FE3 | D87: Grootkeukenapparatuur | E87: Pas een dubbelwandige vaatwasser toe in grootkeukens. | F87: O | G87: 0 | I87: =SUMIFS(TInspectieTotaal[Aantal],TInspectieTotaal[EML code],MTRG[[#This Row],[Code]]) -> 0 | J87: In beheer bij Defensie
B88: Faciliteiten | C88: FE4 | D88: Grootkeukenapparatuur | E88: Pas een laagdebiet afzuigkap toe bij grootkeukens. | F88: O | G88: 0 | H88: N.V.T. | I88: =SUMIFS(TInspectieTotaal[Aantal],TInspectieTotaal[EML code],MTRG[[#This Row],[Code]]) -> 0 | J88: niet aanwezig | K88: =SUMIFS(TInspectieTotaal[Raming kosten excl. BTW],TInspectieTotaal[EML code],MTRG[[#This Row],[Code]]) -> 0 | L88: NM | N88: x | Q88: x
B89: Faciliteiten | C89: FE5 | D89: Grootkeukenapparatuur | E89: Pas een elektrisch frituurtoestel toe in plaats van een gasgestookt toestel. | F89: O | G89: 0 | I89: =SUMIFS(TInspectieTotaal[Aantal],TInspectieTotaal[EML code],MTRG[[#This Row],[Code]]) -> 0 | J89: In beheer bij Defensie
B90: Faciliteiten | C90: FE6 | D90: Grootkeukenapparatuur | E90: Pas een elektrische combisteamer toe in plaats van een gasgestookte variant. | F90: O | G90: 0 | I90: =SUMIFS(TInspectieTotaal[Aantal],TInspectieTotaal[EML code],MTRG[[#This Row],[Code]]) -> 0 | J90: In beheer bij Defensie
D91: =D92 -> Ovens
B92: Faciliteiten | C92: FF1 | D92: Ovens | E92: Pas een rookgasklep toe in het rookgaskanaal van de gasgestookte oven om warmteverlies te beperken. | F92: O | G92: 0 | I92: =SUMIFS(TInspectieTotaal[Aantal],TInspectieTotaal[EML code],MTRG[[#This Row],[Code]]) -> 0 | J92: In beheer bij Defensie
B93: Faciliteiten | C93: FF2 | D93: Ovens | E93: Pas modulerende branders in ovens toe. | F93: O | G93: 0 | I93: =SUMIFS(TInspectieTotaal[Aantal],TInspectieTotaal[EML code],MTRG[[#This Row],[Code]]) -> 0 | J93: In beheer bij Defensie
D94: =D95 -> Terreinverlichting | P94: x
B95: Faciliteiten | C95: FG1 | D95: Terreinverlichting | E95: Plaats een tijdklok samen met een daglichtregeling als de verlichting op vaste tijden moet branden terwijl het donker is. | F95: O | G95: 0 | H95: N.V.T. | I95: =SUMIFS(TInspectieTotaal[Aantal],TInspectieTotaal[EML code],MTRG[[#This Row],[Code]]) -> 0 | J95: Zie schouwformulier terrein | K95: =SUMIFS(TInspectieTotaal[Raming kosten excl. BTW],TInspectieTotaal[EML code],MTRG[[#This Row],[Code]]) -> 0 | L95: ZM | N95: x | P95: x
B96: Faciliteiten | C96: FG2 | D96: Terreinverlichting | E96: Plaats een bewegingssensor op plaatsen waar de lampen niet altijd aan hoeven te zijn. | F96: O | G96: 0 | H96: N.V.T. | I96: =SUMIFS(TInspectieTotaal[Aantal],TInspectieTotaal[EML code],MTRG[[#This Row],[Code]]) -> 0 | J96: Zie schouwformulier terrein | K96: =SUMIFS(TInspectieTotaal[Raming kosten excl. BTW],TInspectieTotaal[EML code],MTRG[[#This Row],[Code]]) -> 0 | L96: ZM | N96: x | P96: x
B97: Faciliteiten | C97: FG3 | D97: Terreinverlichting | E97: Plaats extra schakelaars voor de veldverlichting per veld. | F97: O | G97: 0 | H97: N.V.T. | I97: =SUMIFS(TInspectieTotaal[Aantal],TInspectieTotaal[EML code],MTRG[[#This Row],[Code]]) -> 0 | J97: Zie schouwformulier terrein | K97: =SUMIFS(TInspectieTotaal[Raming kosten excl. BTW],TInspectieTotaal[EML code],MTRG[[#This Row],[Code]]) -> 0 | L97: ZM | N97: x | P97: x
B98: Faciliteiten | C98: FG4 | D98: Terreinverlichting | E98: Vervang op een lichtmast de armaturen met spaarlampen of gasontladingslampen door LED-armaturen. | F98: O | G98: 0 | H98: N.V.T. | I98: =SUMIFS(TInspectieTotaal[Aantal],TInspectieTotaal[EML code],MTRG[[#This Row],[Code]]) -> 0 | J98: Zie schouwformulier terrein | K98: =SUMIFS(TInspectieTotaal[Raming kosten excl. BTW],TInspectieTotaal[EML code],MTRG[[#This Row],[Code]]) -> 0 | L98: NM | N98: x | P98: x
B99: Faciliteiten | C99: FG5 | D99: Terreinverlichting | E99: Vervang bij terreinverlichting zonder mast de armaturen met gasontladingslampen door LED-armaturen. | F99: O | G99: 0 | H99: N.V.T. | I99: =SUMIFS(TInspectieTotaal[Aantal],TInspectieTotaal[EML code],MTRG[[#This Row],[Code]]) -> 0 | J99: Zie schouwformulier terrein | K99: =SUMIFS(TInspectieTotaal[Raming kosten excl. BTW],TInspectieTotaal[EML code],MTRG[[#This Row],[Code]]) -> 0 | L99: NM | N99: x | P99: x
D100: =D101 -> Zwembad | O100: x | Q100: x
B101: Faciliteiten | C101: FH1 | D101: Zwembad | E101: Vervang in bestaande kozijnen en ramen in de zwembadruimte het enkelglas door HR++ glas. | F101: O | G101: 0 | H101: N.V.T. | I101: =SUMIFS(TInspectieTotaal[Aantal],TInspectieTotaal[EML code],MTRG[[#This Row],[Code]]) -> 0 | J101: niet aanwezig | K101: =SUMIFS(TInspectieTotaal[Raming kosten excl. BTW],TInspectieTotaal[EML code],MTRG[[#This Row],[Code]]) -> 0 | L101: ZM | N101: x | O101: x
B102: Faciliteiten | C102: FH2 | D102: Zwembad | E102: Pas isolatie toe op ongeïsoleerde zwembadwaterleidingen in een zwembad. | F102: O | G102: 0 | H102: N.V.T. | I102: =SUMIFS(TInspectieTotaal[Aantal],TInspectieTotaal[EML code],MTRG[[#This Row],[Code]]) -> 0 | J102: niet aanwezig | K102: =SUMIFS(TInspectieTotaal[Raming kosten excl. BTW],TInspectieTotaal[EML code],MTRG[[#This Row],[Code]]) -> 0 | L102: ZM | N102: x | Q102: x
B103: Faciliteiten | C103: FH3 | D103: Zwembad | E103: Dek het zwembad af met zwembadafdekking buiten de openingstijden. | F103: O | G103: 0 | I103: =SUMIFS(TInspectieTotaal[Aantal],TInspectieTotaal[EML code],MTRG[[#This Row],[Code]]) -> 0 | J103: In beheer bij Defensie
B104: Faciliteiten | C104: FH4 | D104: Zwembad | E104: Plaats een glijbaanafsluiter op de uitgang van de waterglijbaan, die deels buiten de gebouwschil loopt. | F104: O | G104: 0 | I104: =SUMIFS(TInspectieTotaal[Aantal],TInspectieTotaal[EML code],MTRG[[#This Row],[Code]]) -> 0 | J104: In beheer bij Defensie
B105: Faciliteiten | C105: FH5 | D105: Zwembad | E105: Isoleer de wanden van het zwembassin. | F105: O | G105: 0 | H105: N.V.T. | I105: =SUMIFS(TInspectieTotaal[Aantal],TInspectieTotaal[EML code],MTRG[[#This Row],[Code]]) -> 0 | J105: niet aanwezig | K105: =SUMIFS(TInspectieTotaal[Raming kosten excl. BTW],TInspectieTotaal[EML code],MTRG[[#This Row],[Code]]) -> 0 | L105: ZM | N105: x | O105: x
B106: Faciliteiten | C106: FH6 | D106: Zwembad | E106: Win warmte terug uit het spoelwater door gebruik te maken van een spoelwaterbuffer. | F106: O | G106: 0 | H106: N.V.T. | I106: =SUMIFS(TInspectieTotaal[Aantal],TInspectieTotaal[EML code],MTRG[[#This Row],[Code]]) -> 0 | J106: niet aanwezig | K106: =SUMIFS(TInspectieTotaal[Raming kosten excl. BTW],TInspectieTotaal[EML code],MTRG[[#This Row],[Code]]) -> 0 | L106: ZM | N106: x | Q106: x
B107: Faciliteiten | C107: FH7 | D107: Zwembad | E107: Pas een HR-ketel toe voor zwembadwaterverwarming. | F107: O | G107: 0 | H107: N.V.T. | I107: =SUMIFS(TInspectieTotaal[Aantal],TInspectieTotaal[EML code],MTRG[[#This Row],[Code]]) -> 0 | J107: niet aanwezig | K107: =SUMIFS(TInspectieTotaal[Raming kosten excl. BTW],TInspectieTotaal[EML code],MTRG[[#This Row],[Code]]) -> 0 | L107: ZM | N107: x | Q107: x
...

Sheet Inventarisatie (reserve)
A1: Inventarisatie
A2: Object | B2: =CONCATENATE(Advies!B10,".",Advies!B12) -> Voorbeeld.Voorbeeld | C2: =Advies!B11 -> Voorbeeld | M2: m2 BVO | N2: =Advies!B18 -> 636 | O2: Bouwjaar | P2: =Advies!B17 -> 1943 | R2: Opmerking:
X3: Specifiek voor monumentale bouwdelen | AI3: Specifiek voor veiligheidsprogramma's
A4: UVID | B4: Code Bouwdeeltype | C4: Bouwdeel omschrijving | D4: Volgnr. | E4: Object | F4: Ruimte | G4: Locatie aanduiding | H4: Reden buiten gebruik | I4: Aantal | J4: Dimensie | K4: Vakgroep | L4: Kwaliteits-niveau | M4: Foto | N4: Datum van constructie of productie [jjjj-mm-dd] | O4: Einde garantie [jjjj-mm-dd] | P4: Technische levensduur [jaren] | Q4: Verwachte technische einddatum | R4: Vervangings-kosten (excl. BTW) | S4: Installatie-nummer | T4: Serienummer | U4: Model/type | V4: Omvang | W4: Omvang eenheid | X4: In oorspron-kelijke toestand | Y4: Materiaal toepassing | Z4: Monumentale waarde | AA4: Datum restauratie / revisie | AB4: Duurzaamheid bijdrage | AC4: Voldoen aan advies | AD4: Fabrikant | AE4: Servicebedrijf | AF4: Leverancier | AG4: Eigenaar | AH4: Verantwoordelijk | AI4: Brandv.-functie van toepassing? | AJ4: Waterveiligheid functie van toepassing | AK4: Asbeststatus | AL4: VWoH van toepassing? | AM4: Dossier

Sheet Beoordeling
C1: Inspectiebureau: | D1: =Advies!B37 -> Naam bedrijf
C2: Gecertificeerd onderhoudskundig inspecteur B: | D2: =Advies!B38 -> Jan
C3: Gecertificeerd onderhoudskundig inspecteur E: | D3: =Advies!B39 -> Willem
C4: Gecertificeerd onderhoudskundig inspecteur W: | D4: =Advies!B40 -> Hugo
C5: Complex / locatie: | D5: =Advies!B11 -> Voorbeeld | L5: Soort inventarisatie: | M5: nul inventarisatie / her inventarisatie*
C6: Object code: | D6: =Advies!B10 -> Voorbeeld | L6: Soort inspectie: | M6: nul inspectie / her inspectie*
C7: Bouwjaar: | D7: =Advies!B17 -> 1943 | L7: Monument: | M7: Ja/Nee*
C8: BVO: | D8: =Advies!B18 -> 636 | E8: m2 BVO
C9: Instandhoudingslabel: | D9: =Advies!B34 -> 3 | E9: Basis
C10: Datum beoordeling (RVB):
C11: Behandeld door RVB medewerker:
C12: Aangehouden DZH tabel: | D12: DZH Prog EML Defensie | L12: *: weghalen wat niet van toepassing is.
C13: Versie beoordeling:
C14: Vakgebied: | D14: B, E en W
C17: Onderwerp | D17: Toelichting | E17: Wegfactor | F17: score | G17: punten | L17: Opmerking / toelichting
C18: Inventariseren
C19: Algemene opmerkingen:
C20: Vakgebied: | F20: B | G20: B | H20: E | I20: E | J20: W | K20: W
B21: 1.1 | C21: Kennis van vereiste en gewenste inventarisatie gegevens | D21: Het verzamelen en weergeven van de vereiste informatie volgens het handboek RVB BOEI. | E21: 0.2246 | F21: 0 | G21: =(F21*E21) -> 0 | H21: 0 | I21: =E21*H21 -> 0 | J21: 0 | K21: =E21*J21 -> 0
B22: 1.2 | D22: Het verzamelen en weergeven van de vereiste informatie volgens de Energie- en duurzaamheidstabel van de huidige aanwezige waarde of techniek. | E22: 0.1609 | F22: 0 | G22: =F22*E22 -> 0 | H22: 0 | I22: =E22*H22 -> 0 | J22: 0 | K22: =E22*J22 -> 0
B23: 1.3 | C23: Kennis van afbakening van bouwdelen | E23: 0.2317 | F23: 0 | G23: =F23*E23 -> 0 | H23: 0 | I23: =E23*H23 -> 0 | J23: 0 | K23: =E23*J23 -> 0
B24: 1.4 | C24: Leesbaarheid geheel | D24: Het eenduidig houden van de informatie zonder in herhaling te vallen. | E24: 0.2572 | F24: 0 | G24: =F24*E24 -> 0 | H24: 0 | I24: =E24*H24 -> 0 | J24: 0 | K24: =E24*J24 -> 0
B25: 1.5 | C25: Integrale Vervangingswaarde (IVW) | D25: Realistische waardebepaling. | E25: 0.1256 | F25: 0 | G25: =F25*E25 -> 0 | H25: 0 | I25: =E25*H25 -> 0 | J25: 0 | K25: =E25*J25 -> 0
C26: Rapportcijfer: | E26: =SUM(E21:E25) -> 1 | G26: =SUM(G21:G25) -> 0 | I26: =SUM(I21:I25) -> 0 | K26: =SUM(K21:K25) -> 0 | L26: =IF((G26+I26+K26)<5.5,"Niet accepteren",(IF((G26+I26+K26)>7.5,"Volstaat","Optimalisatie vereist"))) -> Niet accepteren
C27: Inspecteren
C28: Algemene opmerkingen:
C29: Vakgebied: | F29: B | G29: B | H29: E | I29: E | J29: W | K29: W
B30: 2.1 | C30: Kennis van de BOEI 2.0 methodiek | D30: Functioneel (functie - proces - omgeving) en technisch vertalen van thema O a.d.h.v. de geldende relevante inspectiepunten. | E30: 0.0683 | F30: 0 | G30: =F30*E30 -> 0 | H30: 0 | I30: =E30*H30 -> 0 | J30: 0 | K30: =E30*J30 -> 0
B31: 2.2 | D31: Functioneel (functie - proces - omgeving) en technisch vertalen van thema E a.d.h.v. de geldende energie- en duurzaamheidstabel. | E31: 0.1258 | F31: 0 | G31: =F31*E31 -> 0 | H31: 0 | I31: =E31*H31 -> 0 | J31: 0 | K31: =E31*J31 -> 0
B32: 2.3 | C32: Kennis van wet- en regelgeving en geldende normen | D32: Het kunnen omzetten van EML regelgeving naar gebreken per bouwdeeltype. | E32: 0.1624 | F32: 0 | G32: =F32*E32 -> 0 | H32: 0 | I32: =E32*H32 -> 0 | J32: 0 | K32: =E32*J32 -> 0
B33: 2.4 | C33: Kennis van de beginselen, logica en variabelen met betrekking tot de werking en het gebruik van het bouwdeel, in combinatie met degradatie- en schademechanismen | D33: Kennis van gebreken met betrekking tot materiaal en constructie. | E33: 0.0825 | F33: 0 | G33: =F33*E33 -> 0 | H33: 0 | I33: =E33*H33 -> 0 | J33: 0 | K33: =E33*J33 -> 0
B34: 2.5 | C34: Kennis van logica van LOGRO | D34: Herkennen van de primaire oorzaak / de bron van het gebrek, het vaststellen van de (exacte) locatie van het gebrek en het kunnen vertalen naar het gevolg en (gebruiks-)risico en daaropvolgend kunnen bepalen en uitwerken van een duurzame technisch en financieel proportionele oplossing. | E34: 0.129 | F34: 0 | G34: =F34*E34 -> 0 | H34: 0 | I34: =E34*H34 -> 0 | J34: 0 | K34: =E34*J34 -> 0
B35: 2.6 | C35: SMART; Specifiek blijven, Meetbaar maken, Acceptabele toelichtingen, Realistische blijven en met de juiste Tijdsplanning. | D35: De beschreven gebrek annotatie / toelichting moet volledig en eenduidig zijn voor elke lezer nu en straks zodat uitvoering volledig transparant en uniek is. | E35: 0.0804 | F35: 0 | G35: =F35*E35 -> 0 | H35: 0 | I35: =E35*H35 -> 0 | J35: 0 | K35: =E35*J35 -> 0
B36: 2.7 | C36: Kostenraming | D36: Reëel bedragen bij thema's B-O-I en hanteren van een overzichtelijke opbouw naar budgetitems. | E36: 0.0443 | F36: 0 | G36: =F36*E36 -> 0 | H36: 0 | I36: =E36*H36 -> 0 | J36: 0 | K36: =E36*J36 -> 0
B37: 2.8 | C37: Vertalen van specialisten / expert rapportages en/of logboeken. | D37: Kunnen interpreteren en controleren van gebreken uit specialistische en expert rapportages en volledig en correct omzetten a.d.h.v. de RVB beslisboom soort gebrek. | E37: 0.0974 | F37: 0 | G37: =F37*E37 -> 0 | H37: 0 | I37: =E37*H37 -> 0 | J37: 0 | K37: =E37*J37 -> 0
B38: 2.9 | C38: Foto's | D38: De overzichts- / detailfoto's moeten scherp en leesbaar zijn. Op de foto mogen geen gevoelige informatie of personen zichtbaar zijn. | E38: 0.2099 | F38: 0 | G38: =F38*E38 -> 0 | H38: 0 | I38: =E38*H38 -> 0 | J38: 0 | K38: =E38*J38 -> 0
C39: Rapportcijfer: | E39: =SUM(E30:E38) -> 1 | G39: =SUM(G30:G38) -> 0 | I39: =SUM(I30:I38) -> 0 | K39: =SUM(K30:K38) -> 0 | L39: =IF((G39+I39+K39)<5.5,"Niet accepteren",(IF((G39+I39+K39)>7.5,"Volstaat","Optimalisatie vereist"))) -> Niet accepteren

Sheet Inventarisatie Totaal
B1: Inventarisatie
B2: Object | C2: =CONCATENATE(Advies!B10,".",Advies!B12) -> Voorbeeld.Voorbeeld | D2: =Advies!B11 -> Voorbeeld | N2: m2 BVO | O2: =Advies!B18 -> 636 | P2: Bouwjaar | Q2: =Advies!B17 -> 1943 | S2: Opmerking:
Y3: Specifiek voor monumentale bouwdelen | AJ3: Specifiek voor veiligheidsprogramma's
B4: UVID | C4: Code Bouwdeeltype | D4: Bouwdeel omschrijving | E4: Volgnr. | F4: Object | G4: Ruimte | H4: Locatie aanduiding | I4: Reden buiten gebruik | J4: Aantal | K4: Dimensie | L4: Vakgroep | M4: Kwaliteits-niveau | N4: Foto | O4: Datum van constructie of productie [jjjj-mm-dd] | P4: Einde garantie [jjjj-mm-dd] | Q4: Technische levensduur [jaren] | R4: Verwachte technische einddatum | S4: Vervangings-kosten (excl. BTW) | T4: Installatie-nummer | U4: Serienummer | V4: Model/type | W4: Omvang | X4: Omvang eenheid | Y4: In oorspron-kelijke toestand | Z4: Materiaal toepassing | AA4: Monumentale waarde | AB4: Datum restauratie / revisie | AC4: Duurzaamheid bijdrage | AD4: Fabrikant | AE4: Servicebedrijf | AF4: Leverancier | AG4: Eigenaar | AH4: Verantwoordelijk | AI4: Brandv.-functie van toepassing? | AJ4: Waterveiligheid functie van toepassing | AK4: Asbeststatus | AL4: VWoH van toepassing? | AM4: Dossier
B5: 210010-1 | C5: 210010 | D5: Gevel | E5: 1 | F5: Voorbeeld | G5: 1, 2, 3, 4, 6, 7, 8, 11, 12 | J5: 310 | K5: m2 | L5: B | M5: 3 | N5: [objectcode.gebouwnummer] -210010-1 | O5: 15707 | Q5: 100 | R5: 52207 | S5: 0 | T5: Onbekend | U5: Onbekend | V5: Metselwerk geschilderd | AC5: Voldoet niet aan vigerende W&R | AD5: Onbekend | AF5: Onbekend | AG5: Afnemer | AH5: Afnemer | AM5: Spouwbreedte 5cm. Geen isolatie in spouw. RC=0,5. Metselwerk staand verband. Orientatie: 43m2 Noord, 110m2 Oost, 43m2 Zuid, 114m2 West. Dekkend geschilderd wit. Dragend. Wandopeningen van Hout en glas. Vogelwering aanwezig. Hoogte gevel is 2,85m.
B6: 312010-1 | C6: 312010 | D6: Kozijnwerk buiten | E6: 1 | F6: Voorbeeld | G6: 1, 2, 3, 4, 6, 6a, 7, 8, 11, 12 | J6: 95 | K6: m2 | L6: B | M6: 3 | N6: [objectcode.gebouwnummer] -312010-1 | O6: 33604 | Q6: 50 | R6: 51854 | S6: 85500 | T6: Onbekend | U6: Onbekend | V6: Houten kozijnen dekkend geschilderd | AC6: Voldoet aan hoogste eisen | AD6: Onbekend | AF6: Onbekend | AG6: Afnemer | AH6: Afnemer | AM6: Voorzien van isolatieglas. Houten kozijn, 90 graden, draairamen en vaste ramen. Orientantie: 9m2 Noord, 36,5m2 Oost, 9m2 Zuid, 40,5m2 West. Dekkend geschilderd wit. Sponning is 2cm.
B7: 312010-2 | C7: 312010 | D7: Kozijnwerk buiten | E7: 2 | F7: Voorbeeld | G7: 106 | J7: 4 | K7: m2 | L7: B | M7: 3 | N7: [objectcode.gebouwnummer] -312010-2 | O7: 15707 | Q7: 75 | R7: 43082 | S7: 4000 | T7: Onbekend | U7: Onbekend | V7: Stalen kozijnen | AC7: Voldoet niet aan DZH-lijn | AD7: Onbekend | AF7: Onbekend | AG7: Afnemer | AH7: Afnemer | AM7: Betreft dakramen. Voorzien van enkelglas. Stalen kozijn, 45 graden, draairamen. Oriëntatie: 2m2 Oost. 2m2 west. Dekkend afgewerkt coating. Onbeschut. Rondom keramische dakpannen. Niet thermisch onderbroken
B8: 312030-1 | C8: 312030 | D8: Beglazing buiten | E8: 1 | F8: Voorbeeld | G8: 106 | J8: 4 | K8: m2 | L8: B | M8: 3 | N8: [objectcode.gebouwnummer] -312030-1 | O8: 15707 | Q8: 75 | R8: 43082 | S8: 560 | T8: Onbekend | U8: Onbekend | V8: Enkelglas | AC8: Voldoet niet aan vigerende W&R | AD8: Onbekend | AF8: Onbekend | AG8: Afnemer | AH8: Afnemer | AM8: Enkelglas 4mm in dakramen. Droog in stalen kozijn gelegd.
B9: 312050-1 | C9: 312050 | D9: Beglazing isolatieglas buiten | E9: 1 | F9: Voorbeeld | G9: 1, 2, 3, 4, 7, 8, 11 en 12 | J9: 48 | K9: m2 | L9: B | M9: 3 | N9: [objectcode.gebouwnummer] -312050-1 | O9: 33604 | Q9: 30 | R9: 44554 | S9: 6720 | T9: Onbekend | U9: Onbekend | V9: SANCO dubbelglas | AC9: Voldoet niet aan vigerende W&R | AD9: SANCO | AF9: Onbekend | AG9: Afnemer | AH9: Afnemer | AM9: Dubbelglas 18mm (4-10-4) Sanco. Glaslatten met kitwerk. Beglazing is aanwezig in ramen en deuren. Beglazing is identiek.
B10: 471210-1 | C10: 471210 | D10: Dakbedekking hellend dak | E10: 1 | F10: Voorbeeld | G10: 106 | J10: 420 | K10: m² | L10: B | M10: 3 | N10: [objectcode.gebouwnummer] -471210-1 | O10: 33756 | Q10: 75 | R10: 61131 | S10: 41580 | T10: 900016560 | U10: Onbekend | V10: Dakpannen keramisch | AC10: Voldoet niet aan DZH-lijn | AD10: Onbekend | AF10: Onbekend | AG10: Afnemer | AH10: Afnemer | AM10: Geen zonnepanelen aanwezig. Totale lengte goot = 70 m1, 70m1 aan nokvorstren keramisch. 420m2 aan oppervlakte. Geen bliksemvoorziening aanweizg. Geen aanwezigheid van valbeveiliging. RC waarde is 0 ivm ontbreken isolatie
B11: 634010-1 | C11: 634010 | D11: Noodverlichting centraal/decentraal | E11: 1 | F11: Voorbeeld | G11: 1, 1A, 9, 7 | J11: 1 | K11: Stuks | L11: E | M11: 3 | N11: [objectcode.gebouwnummer] LED vluchtweg overzicht, [objectcode.gebouwnummer] LED vluchtweg detail | O11: 43647 | Q11: 20 | R11: 50947 | S11: 2696 | T11: 900007031 | U11: Onbekend | V11: LED | W11: n.v.t. | X11: n.v.t. | AC11: Voldoet aan hoogste eisen | AD11: Van Lien | AF11: Onbekend | AG11: Afnemer | AH11: Afnemer | AM11: Aantal vluchtwegarmaturen: 8, aantal noodverlichting: 8
B12: 632010-1 | C12: 632010 | D12: Verlichting standaard armaturen | E12: 1 | F12: Voorbeeld | G12: 1–12, 1A, 6A, 9A–C, 10A, 12A en 106 | J12: 63 | K12: Stuks | L12: E | M12: 3 | N12: [objectcode.gebouwnummer] TL lamp overzicht, [objectcode.gebouwnummer] TL lamp overzicht2, [objectcode.gebouwnummer] TL lamp detail, [objectcode.gebouwnummer] TL lamp detail2 | O12: 36526 | Q12: 20 | R12: 43826 | S12: 21839 | T12: Onbekend | U12: Onbekend | V12: TL | W12: 636 | X12: m2 BVO | AC12: Voldoet niet aan vigerende W&R | AD12: Philips, Mazdafluor, Meyer | AF12: Onbekend | AG12: Afnemer | AH12: Afnemer | AM12: Type verlichting: TL ingebouwde plafond armaturen, aantallen naar type: 57 armaturen, TL montagebalken, aantallen naar type: 6 armaturen. Schakeling in alle ruimtes gaat met conventionele lichtknoppen
B13: 531010-1 | C13: 531010 | D13: Leidingen, appendages en toebehoren water | E13: 1 | F13: Voorbeeld | G13: 5A | J13: 1 | K13: Stuks | L13: W | M13: 3 | N13: [objectcode.gebouwnummer]-532110-1-Overzicht | O13: 15707 | Q13: 40 | R13: 30307 | S13: 1898.85 | T13: Onbekend | U13: Onbekend | V13: Metaal | W13: 635 | X13: m2 BVO | AC13: Voldoet niet aan DZH-lijn | AD13: Onbekend | AF13: Onbekend | AG13: Afnemer | AH13: Afnemer | AM13: 2 meter leiding, ongeïsoleerd in verwarmde ruimte, geen circulatieleiding, boiler bevindt zich binnen twee meter van tappunt, metalen leiding
B14: 532110-1 | C14: 532110 | D14: Verwarmd tapwater boiler | E14: 1 | F14: Voorbeeld | G14: 5A | J14: 1 | K14: Stuks | L14: W | M14: 3 | N14: [objectcode.gebouwnummer] -532110-1-Overzicht; [objectcode.gebouwnummer] 532110-1-type | O14: 38353 | Q14: 15 | R14: 43828 | S14: 1163 | T14: 900036611 | U14: 9629594 | V14: 07.10.18.041 | W14: 30 | X14: Liter | AC14: Voldoet niet aan DZH-lijn | AD14: Daalderop | AF14: Onbekend | AG14: Afnemer | AH14: Afnemer | AM14: Mono koper; 450 W, 30 liter, geen circulatieleiding, elektrische boiler
B15: 552110-1 | C15: 552110 | D15: Warmtepomp | E15: 1 | F15: Voorbeeld | G15: 2 | J15: 1 | K15: Stuks | L15: W | M15: 3 | N15: [objectcode.gebouwnummer] -552010-Overzicht; [objectcode.gebouwnummer] -552010-1-Type; [objectcode.gebouwnummer] -552010-1-Overzicht | O15: 36526 | Q15: 15 | R15: 42001 | S15: 5744.05 | T15: 9000161754 | U15: 4800969 | V15: AS-24H | X15: n.v.t. | AC15: Voldoet niet aan DZH-lijn | AD15: Fujitsu | AF15: Onbekend | AG15: Afnemer | AH15: Afnemer | AM15: Kan verwarmen en koelen, 2,5 kW nominaal e-vermogen, l-l warmtepomp, koelt/verwarmt enkel de ruimte waar die staat, compressiekoelmachine SEER < 3 (gebaseerd op basis van bouwjaar)
B16: 552110-2 | C16: 552110 | D16: Warmtepomp | E16: 2 | F16: Voorbeeld | G16: 12 | J16: 1 | K16: Stuks | L16: W | M16: 3 | N16: [objectcode.gebouwnummer] -552010-Overzicht; [objectcode.gebouwnummer] -552010-2-Overzicht; [objectcode.gebouwnummer] -552010-2-Type | O16: 32874 | Q16: 15 | R16: 38349 | S16: 5744.05 | T16: 900051738 | U16: Onbekend | V16: 900051738 | X16: n.v.t. | AC16: Voldoet niet aan DZH-lijn | AD16: Carrier | AF16: Onbekend | AG16: Afnemer | AH16: Afnemer | AM16: Kan verwarmen en koelen, vermogen onbekend, l-l warmtepomp, koelt/verwarmt enkel de ruimte waar die staat, compressiekoelmachine SEER < 3 (gebaseerd op basis van bouwjaar)
B17: 562110-1 | C17: 562110 | D17: Verwarming opwekking centraal | E17: 1 | F17: Voorbeeld | G17: 6 | J17: 1 | K17: Stuks | L17: W | M17: 3 | N17: [objectcode.gebouwnummer] -562110-Overzicht; [objectcode.gebouwnummer] -562110-1-type | O17: 45658 | Q17: 15 | R17: 51133 | S17: 10140 | T17: Onbekend | U17: 2434832338520 | V17: Quinta ACE 115 | W17: 107 | X17: kW | AC17: Voldoet niet aan DZH-lijn | AD17: Remeha | AF17: Unica | AG17: Afnemer | AH17: Afnemer | AM17: Aardgas, HR, cv-installatie verwarmd gebouwen 45H07.002, 45H07.003 & 45H07.004, 107 kW nominaal vermogen, een weersafhankelijke regeling is aanwezig, cascade opstelling
B18: 562110-2 | C18: 562110 | D18: Verwarming opwekking centraal | E18: 2 | F18: Voorbeeld | G18: 6 | J18: 1 | K18: Stuks | L18: W | M18: 3 | N18: [objectcode.gebouwnummer] -562110-Overzicht; [objectcode.gebouwnummer] -562110-2-type | O18: 45658 | Q18: 15 | R18: 51133 | S18: 10140 | T18: Onbekend | U18: 2434832338510 | V18: Quinta ACE 115 | W18: 107 | X18: kW | AC18: Voldoet niet aan DZH-lijn | AD18: Remeha | AF18: Unica | AG18: Afnemer | AH18: Afnemer | AM18: Aardgas, HR, cv-installatie verwarmd gebouwen 45H07.002, 45H07.003 & 45H07.004, 107 kW nominaal vermogen, een weersafhankelijke regeling is aanwezig, cascade opstelling
B19: 563010-1 | C19: 563010 | D19: Verdeler/verzamelaar verwarmen | E19: 1 | F19: Voorbeeld | G19: 6 | J19: 1 | K19: Stuks | L19: W | M19: 3 | N19: [objectcode.gebouwnummer] -563010-overzicht; [objectcode.gebouwnummer] -563010-pomp1;[objectcode.gebouwnummer] -563010-pomp2; [objectcode.gebouwnummer] -563010-pomp3; [objectcode.gebouwnummer] -563010-pomp4; [objectcode.gebouwnummer] -563010-pomp5; | O19: 15707 | Q19: 40 | R19: 30307 | S19: 10823 | T19: Onbekend | U19: Onbekend | V19: Metaal | W19: 5 | X19: Groepen | AC19: Voldoet niet aan vigerende W&R | AD19: Biral, Grundfos, | AF19: Niet bekend | AG19: Afnemer | AH19: Afnemer | AM19: 2x pomp biral NRF 14T (50 W) (niet frequentiegeregeld), 1x pomp grundfos MAGNA3 25-40 (50W) (frequentiegeregeld), 1x biral D 32-8 180 RED (134 W) (frequentiegeregeld, 1x pomp grundfos Alpha2 25-40/130 (18 W) (fequentiegeregeld), isolatie leidingen en appendages is toegepast, metalen leidingen
B20: 568010-1 | C20: 568010 | D20: Afgifte element warmte | E20: 1 | F20: Voorbeeld | G20: 2,3,4,5,7,8,11,12 | J20: 15 | K20: Stuks | L20: W | M20: 3 | N20: [objectcode.gebouwnummer] -568010 | O20: 15707 | Q20: 40 | R20: 30307 | S20: 10500 | T20: Onbekend | U20: Onbekend | V20: Radiatoren | W20: 30 | X20: kW | AC20: Voldoet niet aan DZH-lijn | AD20: Onbekend | AF20: Onbekend | AG20: Afnemer | AH20: Afnemer | AM20: Radiatoren allen voorzien van thermosstaatknoppen, waterzijdig verwarmingssyteem, vermogen ingeschat op basis van aantal radiatoren
B21: 569030-1 | C21: 569030 | D21: Leidingnet en appendages verwarmen | E21: 1 | F21: Voorbeeld | G21: 1 t/m 12 en 106 | J21: 1 | K21: m2 BVO | L21: W | M21: 3 | N21: [objectcode.gebouwnummer] -531010-overzicht1; [objectcode.gebouwnummer] -531010-overzicht2 | O21: 15707 | Q21: 40 | R21: 30307 | S21: 25255 | T21: 900055374 | U21: Onbekend | V21: Metaal | W21: 635 | X21: n.v.t. | AC21: Voldoet niet aan vigerende W&R | AD21: Onbekend | AF21: Onbekend | AG21: Afnemer | AH21: Afnemer | AM21: 30 meter leiding (metalen leiding) ongeïsoleerd in onverwarmde ruimte (ruimte 106), 2x pomp grundfos MAGNA3 25-40 (50W) (frequentiegeregeld)
B22: 573020-1 | C22: 573020 | D22: Mechanische luchtbehandeling | E22: 1 | F22: Voorbeeld | G22: 106 | J22: 1 | K22: Stuks | L22: W | M22: 3 | N22: [objectcode.gebouwnummer] -573020-overzicht; [objectcode.gebouwnummer] -573020-type | O22: 39814 | Q22: 20 | R22: 47114 | S22: 4176 | T22: Onbekend | U22: 471300530 | V22: Arctic 950 L CC | W22: 0.07 | X22: m3/sec. | AC22: Voldoet niet aan DZH-lijn | AD22: J.E. Stork Air | AF22: Onbekend | AG22: Afnemer | AH22: Afnemer | AM22: 994 Watt nominaal vermogen; klokregeling toegepast, 2 ventilatoren 100 W en IE1 klasse (bepaald o.b.v. leeftijd); 3.000 draaiuren per jaar
B23: 579040-1 | C23: 579040 | D23: Luchtkanalen, appendages en isolatie | E23: 1 | F23: Voorbeeld | G23: 1 t/m 12 en 106 | J23: 635 | K23: m2 BVO | L23: W | M23: 3 | N23: [objectcode.gebouwnummer] -579040-overzicht1 | O23: 15707 | Q23: 99 | R23: 51842 | S23: 10000 | T23: Onbekend | U23: Onbekend | V23: Metaal | X23: n.v.t. | AC23: Voldoet aan hoogste eisen | AD23: Onbekend | AF23: Onbekend | AG23: Afnemer | AH23: Afnemer | AM23: 3 meter aanzuigkanalen in onverwarmde ruimte (ruimte 106) geïsoleerd en 30 meter afzuigkanalen ongeïsoleerd (ruimte 106) , metalen luchtkanalen

Sheet Inspectie Totaal
B1: EML Inspectie
B2: Object | C2: =CONCATENATE(Advies!B10,".",Advies!B12) -> Voorbeeld.Voorbeeld | D2: =Advies!B11 -> Voorbeeld | N2: m2 BVO | O2: =Advies!B18 -> 636 | P2: Bouwjaar | Q2: =Advies!B17 -> 1943 | S2: Opmerking:
B4: UVID | C4: Code Bouwdeeltype | D4: Vak-groep | E4: Omschrijving bouwdeel | F4: Thema BOEI | G4: Soort gebrek | H4: Ernst categorie | I4: Soort gebrek (Voluit) | J4: Intensiteit | K4: Omvang | L4: Prioriteit | M4: Gebrek nr. | N4: Gebrekcode | O4: Aantal fotos | P4: Filenaam Foto's | Q4: Locatie | R4: Duurzaamheid bijdrage | S4: Oorzaak - Omschrijving | T4: EML code | U4: Gevolg (risico) | V4: Oplossing | W4: FUTP's | X4: Herstelmaatregel | Y4: Kengetal | Z4: Aantal | AA4: Raming kosten excl. BTW | AB4: Trede | AC4: Combi | AD4: FH | AE4: DH | AF4: Bouwdatum | AG4: Voldoen aan advies
B5: 210010-1 | C5: 210010 | D5: B | E5: Gevel | F5: O | G5: W-BK | H5: Wetsgebrek | I5: wettelijk basiskwaliteit | J5: Eind | K5: 1 | L5: 4 | M5: 3 | N5: 210010-1-3 | P5: [objectcode.gebouwnummer] -210010-1 | Q5: 8 | R5: Voldoet niet aan vigerende W&R | S5: Thermische scheurvorming | T5: N.v.t. | U5: Constructieve verzwakking, zetting, vervorming wanden en vloeren, vochtproblemen. | V5: Scheurvorming herstellen/dichtzetten. Nader onderzoek scheurvorming wordt geadviseerd. | W5: FUTP niet van toepassing | X5: Reparatie | Y5: 1200 | Z5: 1 | AA5: 1200 | AB5: 3 | AF5: 0
B6: 210010-1 | C6: 210010 | D6: B | E6: Gevel | F6: E | G6: G-PO | H6: Gering | I6: onderhoud | J6: Gevorderd | K6: 0.5 | L6: 4 | M6: 1 | N6: 210010-1-1 | P6: [objectcode.gebouwnummer] -210010-1 | Q6: 1, 2, 3, 4, 6, 6a, 7, 8, 11, 12 | R6: Voldoet niet aan vigerende W&R | S6: Ontwerp o.b.v. oude wetgeving | T6: GB1 | U6: EML nog niet uitgevoerd. Spouwbreedte >5cm. Geen isolatie in spouwmuur aanwezig. RC is 0,5. De goothoogte is 2,70m. Het is niet noodzakelijk om steigerwerk op te bouwen voor het na-isoleren van deze gevel. | V6: Na-isolereren op een natuurlijk moment volgens FUTP. Bij na isoleren van de spouwmuur wordt een RC van 5 behaald en wordt dus voldaan aan de hoogste eisen uit de dzh-tabel | W6: 21.00.00-01 Verduurzamen schil gebouw - Buitenwanden | X6: Integraal vervangen – imiteren | Y6: 35 | Z6: 310 | AA6: 10850 | AB6: 3 | AF6: 0
B7: 312010-1 | C7: 312010 | D7: B | E7: Kozijnwerk buiten | F7: O | G7: G-PO | H7: Gering | I7: onderhoud | J7: Gevorderd | K7: 0.02 | L7: 4 | M7: 1 | N7: 312010-1-1 | P7: [objectcode.gebouwnummer] -312010-1 | Q7: 8 (buitenzijde) | R7: Voldoet aan hoogste eisen | S7: Slechte afwerklaag. Onvoldoende bescherming. | T7: N.v.t. | U7: Houtrot aanwezig op verbindingsstukken. Onvoldoende waterkering en stabiliteit en vochtdoorslag | V7: Partieel herstellen | W7: FUTP niet van toepassing | X7: Reparatie | Y7: 1000 | Z7: 1 | AA7: 1000 | AB7: 3 | AF7: 0
B8: 312010-1 | C8: 312010 | D8: B | E8: Kozijnwerk buiten | F8: O | G8: T-75 | H8: Theoretisch | I8: ≥75% verval <87,5% | J8: Gevorderd | K8: 0.98 | L8: 9 | M8: 3 | N8: 312010-1-3 | P8: [objectcode.gebouwnummer] -312010-1 | Q8: 1, 2, 3, 4, 6, 6a, 7, 8, 11, 12 | R8: Voldoet aan hoogste eisen | S8: Door bereiken einde levensduur | T8: N.v.t. | U8: barsten, afbladderen en krijten. Beschermlaag onvoldoende om het kozijn optimaal te beschermen en houtrot kan ontstaan | V8: Planmatig vervangen op basis van leeftijd door houten kozijnen volgens hoogste eisen uit dzh-tabel. Voor vervangen kozijnen zie FUTP | W8: 31.20.00-01 Verduurzamen schil gebouw - HR++ beglazing en kozijnen | X8: Integraal vervangen – imiteren | Y8: 750 | Z8: 95 | AA8: 71250 | AB8: 3 | AF8: 0
B9: 312010-2 | C9: 312010 | D9: B | E9: Kozijnwerk buiten | F9: O | G9: T-87,5 | H9: Theoretisch | I9: Verval ≥ 87,5% | J9: Eind | K9: 1 | L9: 8 | M9: 1 | N9: 312010-2-1 | P9: [objectcode.gebouwnummer] -312010-2 | Q9: 106 | R9: Voldoet niet aan DZH-lijn | S9: Door bereiken einde levensduur | T9: N.v.t. | U9: Toename gebreken, niet functioneren delen | V9: Planmatig vervangen op basis van leeftijd door houten kozijnen volgens hoogste eisen uit dzh-tabel. Voor vervangen kozijnen zie FUTP | W9: 31.20.00-01 Verduurzamen schil gebouw - HR++ beglazing en kozijnen | X9: Integraal vervangen – imiteren | Y9: 1100 | Z9: 4 | AA9: 4400 | AB9: 3 | AF9: 0
B10: 312030-1 | C10: 312030 | D10: B | E10: Beglazing buiten | F10: E | G10: GG | H10: Geen | I10: Geen gebrek | J10: Eind | K10: 1 | L10: 0 | M10: 1 | N10: 312030-1-1 | P10: [objectcode.gebouwnummer] -312030-1 | Q10: 106 | R10: Voldoet niet aan vigerende W&R | S10: Verouderde beglazing | T10: N.v.t. | U10: Uitzakken glaswerk, sneller breuk in glaswerk. Comfort vermindering | V10: Vervangen beglazing. Vervang beglazing volgens FUTP. Enkelglas vervangen voor HR++ glas. Na aanbrengen voldoet het aan de hoogste eis van de DZH-tabel. | W10: 31.20.00-01 Verduurzamen schil gebouw - HR++ beglazing en kozijnen | X10: Integraal vervangen – imiteren | Y10: 250 | Z10: 95 | AA10: 23750 | AB10: 3 | AF10: 0
B11: 312030-1 | C11: 312030 | D11: B | E11: Beglazing buiten | F11: O | G11: T-87,5 | H11: Theoretisch | I11: Verval ≥ 87,5% | J11: Eind | K11: 1 | L11: 8 | M11: 2 | N11: 312030-1-2 | P11: [objectcode.gebouwnummer] -312030-1 | Q11: 106 | R11: Voldoet niet aan vigerende W&R | S11: niet van toepassing | T11: GB5 | U11: EML kan niet worden toegepast. In de huidige stalen kozijnen (dakramen) is het uitvoeren van GB5 niet mogelijk omdat hier geen ruimte is voor HR++ glas. Sponningsdiepte is kleiner dan 2cm. | V11: niet van toepassing | W11: FUTP niet van toepassing | X11: Niet van toepassing | AB11: 3 | AF11: 0
B12: 312050-1 | C12: 312050 | D12: B | E12: Beglazing isolatieglas buiten | F12: O | G12: T-75 | H12: Theoretisch | I12: ≥75% verval <87,5% | J12: Gevorderd | K12: 1 | L12: 9 | M12: 1 | N12: 312050-1-1 | P12: [objectcode.gebouwnummer] -312050-1 | Q12: 1, 2, 3, 4, 6, 6a, 7, 8, 11, 12 | R12: Voldoet niet aan vigerende W&R | S12: Door bereiken einde levensduur | T12: N.v.t. | U12: Matig comfort en verhoogde energieverbruik | V12: Vervang beglazing volgens FUTP. Kosten zijn opgnomen bij EML. 312050-1-2 | W12: 31.20.00-01 Verduurzamen schil gebouw - HR++ beglazing en kozijnen | X12: Elders opgenomen | AB12: 3 | AF12: 0
B13: 312050-1 | C13: 312050 | D13: B | E13: Beglazing isolatieglas buiten | F13: E | G13: GG | H13: Geen | I13: Geen gebrek | J13: Eind | K13: 1 | L13: 0 | M13: 2 | N13: 312050-1-2 | P13: [objectcode.gebouwnummer] -312050-1 | Q13: 1, 2, 3, 4, 6, 6a, 7, 8, 11, 12 | R13: Voldoet niet aan vigerende W&R | S13: Ontwerp o.b.v. oude wetgeving | T13: GB6 | U13: EML niet uitgevoerd en kan toegepast worden. Sponning is groter dan 2cm en ruimten worden verwarmt tot 18 graden of hoger. | V13: Vervang beglazing volgens FUTP. Dubbelglas vervangen voor HR++ glas. Sponning is 4cm. Na aanbrengen voldoet het aan de hoogste eis van de DZH-tabel. | W13: 31.20.00-01 Verduurzamen schil gebouw - HR++ beglazing en kozijnen | X13: Integraal vervangen – imiteren | Y13: 250 | Z13: 48 | AA13: 12000 | AB13: 3 | AF13: 0
B14: 471210-1 | C14: 471210 | D14: B | E14: Dakbedekking hellend dak | F14: O | G14: T-87,5 | H14: Theoretisch | I14: Verval ≥ 87,5% | J14: Eind | K14: 0.8 | L14: 8 | M14: 1 | N14: 471210-1-1 | P14: [objectcode.gebouwnummer] -471210-1 | Q14: 106 | R14: Voldoet niet aan DZH-lijn | S14: Erg verouderde dakafwerking | T14: N.v.t. | U14: Toename gebreken - onvoldoende primaire functie behouden - lekkages | V14: Planmatig vervangen op basis van leeftijd door houten kozijnen volgens hoogste eisen uit dzh-tabel: minimaal RC waarde 5 | W14: FUTP niet van toepassing | X14: Integraal vervangen – imiteren | Y14: 99 | Z14: 420 | AA14: 41580 | AB14: 3 | AF14: 0
B15: 471210-1 | C15: 471210 | D15: B | E15: Dakbedekking hellend dak | F15: O | G15: G-PO | H15: Gering | I15: onderhoud | J15: Gevorderd | K15: 0.2 | L15: 4 | M15: 2 | N15: 471210-1-2 | P15: [objectcode.gebouwnummer] -471210-1 | Q15: 106 | R15: Voldoet niet aan DZH-lijn | S15: Begroeïng rondom gebouw zorgt voor alg en mosgroei op het dak. | T15: N.v.t. | U15: Aantasten schutlaag dakpannen, verstoppingen door vervuiling, onvoldoende afschot voor regenwater | V15: Partieel reinigen mits integraal vervangen niet toegepast gaat worden. | W15: FUTP niet van toepassing | X15: Reinigen, doorspuiten, conserveren | Y15: 15 | Z15: 200 | AA15: 3000 | AB15: 3 | AF15: 0
B16: 471210-1 | C16: 471210 | D16: B | E16: Dakbedekking hellend dak | F16: E | G16: GG | H16: Geen | I16: Geen gebrek | J16: Eind | K16: 0.5 | L16: 0 | M16: 3 | N16: 471210-1-3 | P16: [objectcode.gebouwnummer] -471210-1 | Q16: 106 | R16: Voldoet niet aan DZH-lijn | S16: Niet van toepassing | T16: GH1 | U16: EML niet van toepassing. Dakoppervlak is kleiner dan de benodigde 2000m2. | V16: Niet van toepassing | W16: FUTP niet van toepassing | X16: Niet van toepassing | AB16: 3 | AF16: 0
B17: 634010-1 | C17: 634010 | D17: E | E17: Noodverlichting centraal/decentraal | F17: O | G17: T-0 | H17: Theoretisch | I17: Verval < 50% | J17: Begin | K17: 1 | L17: 9 | M17: 1 | N17: 634010-1-1 | P17: [objectcode.gebouwnummer] LED vluchtweg overzicht, [objectcode.gebouwnummer] LED vluchtweg detail | Q17: 1, 1A, 9, 7 | R17: Voldoet aan hoogste eisen | S17: Element vervangen in 2019, levensduur beslaat 20 jaar. Element heeft 35% van theoretische levensduur gehaald | T17: N.v.t. | U17: Functieverlies, toename aan gebreken/verstoringen | V17: Planmatig vervangen op basis van leeftijd volgens FUTP. Vervangen voor wederom een LED armatuur. Voldoet zowel in huidige situatie als na vervanging aan hoogste eisen DHZ-tabel. | W17: 63.20.10-01 Verduurzamen EML - verlichtingsarmaturen standaard | X17: Integraal vervangen – imiteren | Y17: 337 | Z17: 8 | AA17: 2700 | AB17: 3 | AF17: 0 | AG17: Voldoet
B18: 634010-1 | C18: 634010 | D18: E | E18: Noodverlichting centraal/decentraal | F18: E | G18: GG | H18: Geen | I18: Geen gebrek | J18: Eind | K18: 1 | L18: 0 | M18: 2 | N18: 634010-1-2 | P18: [objectcode.gebouwnummer] LED vluchtweg overzicht, [objectcode.gebouwnummer] LED vluchtweg detail | Q18: 1, 1A, 9, 7 | R18: Voldoet aan hoogste eisen | S18: Vervangen voor LED verlichting in 2019 | T18: GF15 | U18: GF15 is uitgevoerd, LED verlichting voor noodverlichting toegepast | V18: n.v.t. | X18: Niet van toepassing | AB18: 3 | AF18: 0 | AG18: Voldoet
B19: 632010-1 | C19: 632010 | D19: E | E19: Verlichting standaard armaturen | F19: O | G19: T-87,5 | H19: Theoretisch | I19: Verval ≥ 87,5% | J19: Eind | K19: 1 | L19: 8 | M19: 1 | N19: 632010-1-1 | P19: [objectcode.gebouwnummer]aan-uit schakeling | Q19: 1–12, 1A, 6A, 9A–C, 10A, 12A en 106 | R19: Voldoet niet aan vigerende W&R | S19: Element heeft >100% van theoretische levensduur gehaald | T19: N.v.t. | U19: Functieverlies, toename aan gebreken/verstoringen | V19: Planmatig vervangen op basis van leeftijd volgens FUTP.Kosten opgenomen onder bouwdeeltype 632010-1 gebrek 2, 3 en 4. Voldoet na invoeren oplossing aan hoogste technische eis DHZ-tabel (LED-armaturen). | W19: 63.20.10-01 Verduurzamen EML - verlichtingsarmaturen standaard | X19: Elders opgenomen | AB19: 3 | AF19: 0 | AG19: Voldoet niet
B20: 632010-1 | C20: 632010 | D20: E | E20: Verlichting standaard armaturen | F20: E | G20: W-BK | H20: Wetsgebrek | I20: wettelijk basiskwaliteit | J20: Eind | K20: 0.75 | L20: 4 | M20: 2 | N20: 632010-1-2 | P20: [objectcode.gebouwnummer] TL lamp overzicht, [objectcode.gebouwnummer] TL lamp overzicht2, [objectcode.gebouwnummer] TL lamp detail, [objectcode.gebouwnummer] TL lamp detail2 | Q20: 1–12, 1A, 6A, 9A–C, 10A, 12A en 106 | R20: Voldoet niet aan vigerende W&R | S20: Ontwerp van destijds | T20: GF1 | U20: GF1 is niet uitgevoerd, conventionele lichtknoppen aanwezig, geen beweginssensoren | V20: Bewegingssensoren plaatsen ter vervanging van lichtknoppen volgens FUTP.Voldoet na invoeren oplossing aan hoogste technische eis DHZ-tabel (LED-armaturen). | W20: 63.20.10-01 Verduurzamen EML - verlichtingsarmaturen standaard | X20: Verbeteren – modificeren | Y20: 169 | Z20: 20 | AA20: 3380 | AB20: 3 | AF20: 0 | AG20: Voldoet niet
B21: 632010-1 | C21: 632010 | D21: E | E21: Verlichting standaard armaturen | F21: E | G21: W-BK | H21: Wetsgebrek | I21: wettelijk basiskwaliteit | J21: Eind | K21: 0.03 | L21: 4 | M21: 3 | N21: 632010-1-3 | P21: [objectcode.gebouwnummer] TL overzicht3 | Q21: 6&7 | R21: Voldoet niet aan vigerende W&R | S21: Ontwerp van destijds | T21: GF6 | U21: GF6 is niet uitgevoerd, TL8 montagebalken aanwezig | V21: Conventionele verlichting vervangen voor LED volgens FUTP. Voldoet na invoeren oplossing aan hoogste technische eis DHZ-tabel (LED-armaturen). | W21: 63.20.10-01 Verduurzamen EML - verlichtingsarmaturen standaard | X21: Verbeteren – modificeren | Y21: 293 | Z21: 6 | AA21: 1760 | AB21: 3 | AF21: 0 | AG21: Voldoet niet
B22: 632010-1 | C22: 632010 | D22: E | E22: Verlichting standaard armaturen | F22: E | G22: W-BK | H22: Wetsgebrek | I22: wettelijk basiskwaliteit | J22: Eind | K22: 0.22 | L22: 4 | M22: 4 | N22: 632010-1-4 | P22: [objectcode.gebouwnummer] TL lamp overzicht, [objectcode.gebouwnummer] TL lamp overzicht2, [objectcode.gebouwnummer] TL lamp detail, [objectcode.gebouwnummer] TL lamp detail2 | Q22: 1–5 8-12, 1A, 6A, 9A–C, 10A, 12A en 106 | R22: Voldoet niet aan vigerende W&R | S22: Ontwerp van destijds | T22: GF14 | U22: GF14 is niet uitgevoerd, TL8 buizen aanwezig in ingebouwde plafondarmaturen | V22: Conventionele verlichting vervangen voor LED volgens FUTP.Voldoet na invoeren oplossing aan hoogste technische eis DHZ-tabel (LED-armaturen). | W22: 63.20.10-01 Verduurzamen EML - verlichtingsarmaturen standaard | X22: Verbeteren – modificeren | Y22: 293 | Z22: 57 | AA22: 16700 | AB22: 3 | AF22: 0 | AG22: Voldoet niet
B23: 532110-1 | C23: 532110 | D23: W | E23: Verwarmd tapwater boiler | F23: O | G23: T-87,5 | H23: Theoretisch | I23: Verval ≥ 87,5% | J23: Eind | K23: 1 | L23: 8 | M23: 1 | N23: 532110-1-1 | P23: [objectcode.gebouwnummer] -532110-1-Overzicht | Q23: 5A | R23: Voldoet niet aan DZH-lijn | S23: Element heeft 100% van theoretische levensduur gehaald | T23: N.v.t. | U23: Functieverlies installatie, toename aan gebreken / verstoringen | V23: Planmatig vervangen op basis van leeftijd volgens hoogste eisen uit de duurzaamheidstabel: Warmtepomp, zonneboiler of elektrische doorstromer direct bij tappunt Volgens FUTP 53.21.00-01 plaatsen elektrische boiler installatie. | W23: 53.21.00-01 Integraal vervangen - warm tapwater installatie | X23: Integraal vervangen – imiteren | Y23: 1163 | Z23: 1 | AA23: 1160 | AB23: 3 | AF23: 0
B24: 532110-1 | C24: 532110 | D24: W | E24: Verwarmd tapwater boiler | F24: E | G24: GG | H24: Geen | I24: Geen gebrek | J24: Eind | K24: 1 | L24: 0 | M24: 2 | N24: 532110-1-2 | P24: [objectcode.gebouwnummer] -532110-1-Overzicht | Q24: 5A | R24: Voldoet niet aan DZH-lijn | S24: n.v.t. | T24: GE3 | U24: GE3 niet van toepassing. Betreft een elektrisch verwarmde boiler. | V24: n.v.t. | W24: FUTP niet van toepassing | X24: Niet van toepassing | AB24: 3 | AF24: 0
B25: 552110-1 | C25: 552110 | D25: W | E25: Warmtepomp | F25: O | G25: T-87,5 | H25: Theoretisch | I25: Verval ≥ 87,5% | J25: Eind | K25: 1 | L25: 8 | M25: 1 | N25: 552110-1-1 | P25: [objectcode.gebouwnummer] -552010-Overzicht; [objectcode.gebouwnummer] -552010-1-Type; [objectcode.gebouwnummer] -552010-1-Overzicht | Q25: 2 | R25: Voldoet niet aan DZH-lijn | S25: Element heeft 100% van theoretische levensduur gehaald | T25: N.v.t. | U25: Functieverlies installatie, toename aan gebreken / verstoringen | V25: Planmatig vervangen op basis van leeftijd. Bij vervangen voldoen aan duurzaamheidstabel: toepassen van een l-l warmtepomp met een natuurlijk koudemiddel en een SEER > 3. Niet mogelijk om te voldoen aan hoogste eisen dzh-tabel want koeling benodigd door slechte isolatie en koudeopslag niet logisch gezien de geringe koudevraag | W25: FUTP niet van toepassing | X25: Integraal vervangen – imiteren | Y25: 5744 | Z25: 1 | AA25: 5740 | AB25: 3 | AF25: 0
B26: 552110-1 | C26: 552110 | D26: W | E26: Warmtepomp | F26: E | G26: GG | H26: Geen | I26: Geen gebrek | J26: Eind | K26: 0.5 | L26: 0 | M26: 2 | N26: 552110-1-2 | P26: [objectcode.gebouwnummer] -552010-Overzicht; [objectcode.gebouwnummer] -552010-1-Type; [objectcode.gebouwnummer] -552010-1-Overzicht | Q26: 2 | R26: Voldoet niet aan DZH-lijn | S26: n.v.t. | T26: GC2 | U26: GC2 is niet van toepassing doordat isolatie van de gebouwen niet voldoet aan eisen uit bouwbesluit van 1 oktober 1992. (Rc schil gebouw < 2,5 m2K/W) | V26: n.v.t. | W26: FUTP niet van toepassing | X26: Niet van toepassing | Y26: 0 | AB26: 3 | AF26: 0
B27: 552110-1 | C27: 552110 | D27: W | E27: Warmtepomp | F27: E | G27: GG | H27: Geen | I27: Geen gebrek | J27: Eind | K27: 0.5 | L27: 0 | M27: 3 | N27: 552110-1-3 | P27: [objectcode.gebouwnummer] -552010-Overzicht; [objectcode.gebouwnummer] -552010-1-Type; [objectcode.gebouwnummer] -552010-1-Overzicht | Q27: 2 | R27: Voldoet niet aan DZH-lijn | S27: n.v.t. | T27: GC3 | U27: GC3 is niet van toepassing want het betreft een lucht-lucht warmtepomp en in een airco is geen verwarmingswater aanwezig | V27: n.v.t. | W27: FUTP niet van toepassing | X27: Niet van toepassing | Y27: 0 | AB27: 3 | AF27: 0
B28: 552110-2 | C28: 552110 | D28: W | E28: Warmtepomp | F28: O | G28: T-87,5 | H28: Theoretisch | I28: Verval ≥ 87,5% | J28: Eind | K28: 1 | L28: 8 | M28: 1 | N28: 552110-2-1 | P28: [objectcode.gebouwnummer] -552010-Overzicht; [objectcode.gebouwnummer] -552010-2-Overzicht; [objectcode.gebouwnummer] -552010-2-Type | Q28: 12 | R28: Voldoet niet aan DZH-lijn | S28: Element heeft 100% van theoretische levensduur gehaald | T28: N.v.t. | U28: Functieverlies installatie, toename aan gebreken / verstoringen | V28: Planmatig vervangen op basis van leeftijd. Bij vervangen voldoen aan duurzaamheidstabel: toepassen van een l-l warmtepomp met een natuurlijk koudemiddel en een SEER > 3. Niet mogelijk om te voldoen aan hoogste eisen dzh-tabel want koeling benodigd door slechte isolatie en koudeopslag niet logisch gezien de geringe koudevraag | W28: FUTP niet van toepassing | X28: Integraal vervangen – imiteren | Y28: 5744 | Z28: 1 | AA28: 5740 | AB28: 3 | AF28: 0
B29: 552110-2 | C29: 552110 | D29: W | E29: Warmtepomp | F29: E | G29: GG | H29: Geen | I29: Geen gebrek | J29: Eind | K29: 0.5 | L29: 0 | M29: 2 | N29: 552110-2-2 | P29: [objectcode.gebouwnummer] -552010-Overzicht; [objectcode.gebouwnummer] -552010-2-Overzicht; [objectcode.gebouwnummer] -552010-2-Type | Q29: 12 | R29: Voldoet niet aan DZH-lijn | S29: n.v.t. | T29: GC2 | U29: GC2 is niet van toepassing doordat isolatie van de gebouwen niet voldoet aan eisen uit bouwbesluit van 1 oktober 1992. (Rc schil gebouw < 2,5 m2K/W) | V29: n.v.t. | W29: FUTP niet van toepassing | X29: Niet van toepassing | Y29: 0 | AB29: 3 | AF29: 0
B30: 552110-2 | C30: 552110 | D30: W | E30: Warmtepomp | F30: E | G30: GG | H30: Geen | I30: Geen gebrek | J30: Eind | K30: 0.5 | L30: 0 | M30: 3 | N30: 552110-2-3 | P30: [objectcode.gebouwnummer] -552010-Overzicht; [objectcode.gebouwnummer] -552010-2-Overzicht; [objectcode.gebouwnummer] -552010-2-Type | Q30: 12 | R30: Voldoet niet aan DZH-lijn | S30: n.v.t. | T30: GC3 | U30: GC3 is niet van toepassing want het betreft een airco en in een airco is geen verwarmingswater aanwezig | V30: n.v.t. | W30: FUTP niet van toepassing | X30: Niet van toepassing | Y30: 0 | AB30: 3 | AF30: 0
B31: 562110-1 | C31: 562110 | D31: W | E31: Verwarming opwekking centraal | F31: O | G31: T-0 | H31: Theoretisch | I31: Verval < 50% | J31: Begin | K31: 1 | L31: 9 | M31: 1 | N31: 562110-1-1 | P31: [objectcode.gebouwnummer] -562110-Overzicht | Q31: 6 | R31: Voldoet aan hoogste eisen | S31: Element heeft 10% van theoretische levensduur gehaald | T31: N.v.t. | U31: Functieverlies installatie, toename aan gebreken / verstoringen | V31: Planmatig vervangen op basis van leeftijd aan de hand van 56.21.00-02; Integrale vervanging – gasgestookt CV opwekeenheid centraal. Bij vervanging voldoen aan de duurzaamheidstabel:weersafhankelijke regeling en hybride warmtepomp toepassen. Volledige elektrische verwarming niet mogelijk vanwege de beperkte isolatie van het pand | W31: 56.21.00-02 Integraal vervangen CV opwekeenheid centraal | X31: Integraal vervangen – imiteren | Y31: 59000 | Z31: 1 | AA31: 59000 | AB31: 3 | AF31: 0
B32: 562110-1 | C32: 562110 | D32: W | E32: Verwarming opwekking centraal | F32: E | G32: GG | H32: Geen | I32: Geen gebrek | J32: Eind | K32: 0.1 | L32: 0 | M32: 2 | N32: 562110-1-2 | P32: [objectcode.gebouwnummer] -562110-Overzicht | Q32: 6 | R32: Voldoet niet aan DZH-lijn | S32: n.v.t. | T32: GC3 | U32: GC3 is uitgevoerd omdat een weersafhankelijke regeling is toegepast | V32: n.v.t. | W32: FUTP niet van toepassing | X32: Niet van toepassing | AB32: 3 | AF32: 0
B33: 562110-1 | C33: 562110 | D33: W | E33: Verwarming opwekking centraal | F33: E | G33: GG | H33: Geen | I33: Geen gebrek | J33: Eind | K33: 0.1 | L33: 0 | M33: 3 | N33: 562110-1-3 | P33: [objectcode.gebouwnummer] -562110-Overzicht | Q33: 6 | R33: Voldoet aan hoogste eisen | S33: n.v.t. | T33: GC2 | U33: GC2 is niet van toepassing doordat isolatie van de gebouwen voldoet niet aan eisen uit bouwbesluit van 1 oktober 1992. (Rc schil gebouw < 2,5 m2K/W) | V33: n.v.t. | W33: FUTP niet van toepassing | X33: Niet van toepassing | AB33: 3 | AF33: 0
B34: 562110-1 | C34: 562110 | D34: W | E34: Verwarming opwekking centraal | F34: E | G34: GG | H34: Geen | I34: Geen gebrek | J34: Eind | K34: 0.2 | L34: 0 | M34: 4 | N34: 562110-1-4 | P34: [objectcode.gebouwnummer] -562110-Overzicht | Q34: 6 | R34: Voldoet niet aan DZH-lijn | S34: n.v.t. | U34: GC1 is uitgevoerd doordat een klokregeling op de w-installatie is toegepast | V34: n.v.t. | W34: FUTP niet van toepassing | X34: Niet van toepassing | AB34: 3 | AF34: 0
B35: 562110-1 | C35: 562110 | D35: W | E35: Verwarming opwekking centraal | F35: E | G35: GG | H35: Geen | I35: Geen gebrek | J35: Eind | K35: 0.2 | L35: 0 | M35: 6 | N35: 562110-1-6 | P35: [objectcode.gebouwnummer] -562110-Overzicht | Q35: 6 | R35: Voldoet aan hoogste eisen | S35: n.v.t. | T35: FC2 | U35: FC2 niet van toepassing want er is geen pomp aanwezig op cv installatie | V35: n.v.t. | W35: FUTP niet van toepassing | X35: Niet van toepassing | AB35: 3 | AF35: 0
B36: 562110-1 | C36: 562110 | D36: W | E36: Verwarming opwekking centraal | F36: E | G36: GG | H36: Geen | I36: Geen gebrek | J36: Eind | K36: 0.2 | L36: 0 | M36: 7 | N36: 562110-1-7 | P36: [objectcode.gebouwnummer] -562110-Overzicht | Q36: 6 | R36: Voldoet niet aan DZH-lijn | S36: n.v.t. | T36: FC4 | U36: FC4 niet van toepassing want er is geen elektromotor aanwezig | V36: n.v.t. | W36: FUTP niet van toepassing | X36: Niet van toepassing | AB36: 3 | AF36: 0
B37: 562110-1 | C37: 562110 | D37: W | E37: Verwarming opwekking centraal | F37: E | G37: GG | H37: Geen | I37: Geen gebrek | J37: Eind | K37: 0.2 | L37: 0 | M37: 8 | N37: 562110-1-8 | P37: [objectcode.gebouwnummer] -562110-Overzicht | Q37: 6 | R37: Voldoet aan hoogste eisen | S37: n.v.t. | T37: GE3 | U37: GE3 niet van toepassing want er is geen verbeterd rendement (VR) ketel of conventionele ketel en opgeslagen in een buffervat aanwezig. Bovendien cv-installatie dient enkel als verwarmingsinstallatie | V37: n.v.t. | W37: FUTP niet van toepassing | X37: Niet van toepassing | AB37: 3 | AF37: 0
B38: 562110-2 | C38: 562110 | D38: W | E38: Verwarming opwekking centraal | F38: O | G38: T-0 | H38: Theoretisch | I38: Verval < 50% | J38: Begin | K38: 1 | L38: 9 | M38: 1 | N38: 562110-2-1 | P38: [objectcode.gebouwnummer] -562110-Overzicht | Q38: 6 | R38: Voldoet niet aan DZH-lijn | S38: Element heeft 10% van theoretische levensduur gehaald | T38: N.v.t. | U38: Functieverlies installatie, toename aan gebreken / verstoringen | V38: Planmatig vervangen op basis van leeftijd aan de hand van 56.21.00-02; Integrale vervanging – gasgestookt CV opwekeenheid centraal. Bij vervanging voldoen aan de duurzaamheidstabel:weersafhankelijke regeling en hybride warmtepomp toepassen. Volledige elektrische verwarming niet mogelijk vanwege de beperkte isolatie van het pand | W38: 56.21.00-02 Integraal vervangen CV opwekeenheid centraal | X38: Integraal vervangen – imiteren | Y38: 59000 | Z38: 1 | AA38: 59000 | AB38: 3 | AF38: 0
B39: 562110-2 | C39: 562110 | D39: W | E39: Verwarming opwekking centraal | F39: E | G39: GG | H39: Geen | I39: Geen gebrek | J39: Eind | K39: 0.1 | L39: 0 | M39: 2 | N39: 562110-2-2 | P39: [objectcode.gebouwnummer] -562110-Overzicht | Q39: 6 | R39: Voldoet aan hoogste eisen | S39: n.v.t. | T39: GC3 | U39: GC3 is uitgevoerd omdat een weersafhankelijke regeling is toegepast | V39: n.v.t. | W39: FUTP niet van toepassing | X39: Niet van toepassing | AB39: 3 | AF39: 0
B40: 562110-2 | C40: 562110 | D40: W | E40: Verwarming opwekking centraal | F40: E | G40: GG | H40: Geen | I40: Geen gebrek | J40: Eind | K40: 0.2 | L40: 0 | M40: 3 | N40: 562110-2-3 | P40: [objectcode.gebouwnummer] -562110-Overzicht | Q40: 6 | R40: Voldoet niet aan DZH-lijn | S40: n.v.t. | T40: GC2 | U40: GC2 is niet van toepassing doordat isolatie van de gebouwen voldoet niet aan eisen uit bouwbesluit van 1 oktober 1992. (Rc schil gebouw < 2,5 m2K/W) | V40: n.v.t. | W40: FUTP niet van toepassing | X40: Niet van toepassing | AB40: 3 | AF40: 0
B41: 562110-2 | C41: 562110 | D41: W | E41: Verwarming opwekking centraal | F41: E | G41: GG | H41: Geen | I41: Geen gebrek | J41: Eind | K41: 0.1 | L41: 0 | M41: 4 | N41: 562110-2-4 | P41: [objectcode.gebouwnummer] -568010 | Q41: 6 | R41: Voldoet aan hoogste eisen | S41: n.v.t. | U41: GC1 is uitgevoerd doordat een klokregeling op de w-installatie is toegepast | V41: n.v.t. | W41: FUTP niet van toepassing | X41: Niet van toepassing | AB41: 3 | AF41: 0
B42: 562110-2 | C42: 562110 | D42: W | E42: Verwarming opwekking centraal | F42: E | G42: GG | H42: Geen | I42: Geen gebrek | J42: Eind | K42: 0.2 | L42: 0 | M42: 6 | N42: 562110-2-6 | P42: [objectcode.gebouwnummer] -568010 | Q42: 6 | R42: Voldoet niet aan DZH-lijn | S42: n.v.t. | T42: FC2 | U42: FC2 niet van toepassing want geen pomp aanwezig op cv installatie | V42: n.v.t. | W42: FUTP niet van toepassing | X42: Niet van toepassing | AB42: 3 | AF42: 0
B43: 562110-2 | C43: 562110 | D43: W | E43: Verwarming opwekking centraal | F43: E | G43: GG | H43: Geen | I43: Geen gebrek | J43: Eind | K43: 0.2 | L43: 0 | M43: 7 | N43: 562110-2-7 | P43: [objectcode.gebouwnummer] -568010 | Q43: 6 | R43: Voldoet aan hoogste eisen | S43: n.v.t. | T43: FC4 | U43: FC4 niet van toepassing want geen elektromotor aanwezig | V43: n.v.t. | W43: FUTP niet van toepassing | X43: Niet van toepassing | AB43: 3 | AF43: 0
B44: 562110-2 | C44: 562110 | D44: W | E44: Verwarming opwekking centraal | F44: E | G44: GG | H44: Geen | I44: Geen gebrek | J44: Eind | K44: 0.2 | L44: 0 | M44: 8 | N44: 562110-2-8 | P44: [objectcode.gebouwnummer] -568010 | Q44: 6 | R44: Voldoet niet aan DZH-lijn | S44: n.v.t. | T44: GE3 | U44: GE3 niet van toepassing want geen verbeterd rendement (VR) ketel of conventionele ketel en opgeslagen in een buffervat aanwezig. Bovendien cv-installatie dient enkel als verwarmingsinstallatie | V44: n.v.t. | W44: FUTP niet van toepassing | X44: Niet van toepassing | AB44: 3 | AF44: 0
B45: 563010-1 | C45: 563010 | D45: W | E45: Verdeler/verzamelaar verwarmen | F45: O | G45: T-87,5 | H45: Theoretisch | I45: Verval ≥ 87,5% | J45: Eind | K45: 1 | L45: 8 | M45: 1 | N45: 563010-1-1 | P45: [objectcode.gebouwnummer] -563010-overzicht | Q45: 6 | R45: Voldoet niet aan vigerende W&R | S45: Element heeft 100% van theoretische levensduur gehaald | T45: N.v.t. | U45: Functieverlies installatie, toename aan gebreken / verstoringen | V45: Planmatig vervangen op basis van leeftijd volgens hoogste eisen uit de duurzaamheidstabel: vervangen door kuntstofleidingen en frequentiegeregelde pompen | W45: FUTP niet van toepassing | X45: Integraal vervangen – imiteren | Y45: 10140 | Z45: 1 | AA45: 10140 | AB45: 3 | AF45: 0
B46: 563010-1 | C46: 563010 | D46: W | E46: Verdeler/verzamelaar verwarmen | F46: E | G46: GG | H46: Geen | I46: Geen gebrek | J46: Eind | K46: 0.25 | L46: 0 | M46: 2 | N46: 563010-1-2 | P46: [objectcode.gebouwnummer] -563010-overzicht | Q46: 6 | R46: Voldoet niet aan vigerende W&R | S46: n.v.t. | T46: GC4 | U46: GC4 is uitgevoerd doordat alle leidingen en appendages zijn geïsoleerd | V46: n.v.t. | W46: FUTP niet van toepassing | X46: Niet van toepassing | AB46: 3 | AF46: 0
B47: 563010-1 | C47: 563010 | D47: W | E47: Verdeler/verzamelaar verwarmen | F47: E | G47: W-BK | H47: Wetsgebrek | I47: wettelijk basiskwaliteit | J47: Eind | K47: 0.25 | L47: 4 | M47: 3 | N47: 563010-1-3 | P47: [objectcode.gebouwnummer] -563010-pomp1; [objectcode.gebouwnummer] -563010-pomp2; [objectcode.gebouwnummer] -563010-pomp3; [objectcode.gebouwnummer] -563010-pomp4;[objectcode.gebouwnummer] -563010-pomp5; | Q47: 6 | R47: Voldoet niet aan vigerende W&R | S47: ontwerp van destijds | T47: GC7 | U47: GC7 is niet uitgevoerd doordat twee circulatiepompen niet frequentiegeregeld zijn waardoor elektriciteitsverlies optreedt | V47: Circulatiepompen vervangen door een frequentiegeregelde variant aan de hand van FUTP 56.21.00-01; Pas frequentiegeregelde circulatiepompen toe | W47: 56.21.00-02 Toepassen frequentiegeregelde circulatiepomp | X47: Verbeteren – modificeren | Y47: 604.63 | Z47: 2 | AA47: 1210 | AB47: 3 | AF47: 0
B48: 563010-1 | C48: 563010 | D48: W | E48: Verdeler/verzamelaar verwarmen | F48: E | G48: GG | H48: Geen | I48: Geen gebrek | J48: Eind | K48: 0.25 | L48: 0 | M48: 4 | N48: 563010-1-4 | P48: [objectcode.gebouwnummer] -563010-overzicht | Q48: 6 | R48: Voldoet niet aan vigerende W&R | S48: niet van toepassing | T48: FC2 | U48: FC2 niet van toepassing want elektromotor kleiner dan 4 kW | V48: niet van toepassing | W48: FUTP niet van toepassing | X48: niet van toepassing | Y48: 0 | AB48: 3 | AF48: 0
B49: 563010-1 | C49: 563010 | D49: W | E49: Verdeler/verzamelaar verwarmen | F49: E | G49: GG | H49: Geen | I49: Geen gebrek | J49: Eind | K49: 0.25 | L49: 0 | M49: 5 | N49: 563010-1-5 | P49: [objectcode.gebouwnummer] -563010-overzicht | Q49: 6 | R49: Voldoet niet aan vigerende W&R | S49: niet van toepassing | T49: FC4 | U49: FC4 niet van toepassing want elektromotor van ten minste 0,75 kW niet aanwezig | V49: niet van toepassing | W49: FUTP niet van toepassing | X49: niet van toepassing | Y49: 0 | AB49: 3 | AF49: 0
B50: 568010-1 | C50: 568010 | D50: W | E50: Afgifte element warmte | F50: O | G50: T-87,5 | H50: Theoretisch | I50: Verval ≥ 87,5% | J50: Eind | K50: 1 | L50: 8 | M50: 1 | N50: 568010-1-1 | P50: [objectcode.gebouwnummer] -568010 | Q50: 2,3,4,5,7,8,11,12 | R50: Voldoet niet aan DZH-lijn | S50: Element heeft 100% van theoretische levensduur gehaald | T50: N.v.t. | U50: Functieverlies installatie, toename aan gebreken / verstoringen | V50: Planmatig vervangen op basis van leeftijd volgens hoogste eisen uit de duurzaamheidstabel: individuele temperatuurregeling per ruimte wordt gewaarborgd | W50: FUTP niet van toepassing | X50: Integraal vervangen – imiteren | Y50: 700 | Z50: 15 | AA50: 10500 | AB50: 3 | AF50: 0
B51: 568010-1 | C51: 568010 | D51: W | E51: Afgifte element warmte | F51: E | G51: GG | H51: Geen | I51: Geen gebrek | J51: Eind | K51: 1 | L51: 0 | M51: 2 | N51: 568010-1-2 | P51: [objectcode.gebouwnummer] -568010 | Q51: 2,3,4,5,7,8,11,12 | R51: Voldoet niet aan DZH-lijn | S51: Niet van toepassing | T51: GC6 | U51: GC6 is uitgevoerd want alle radiatoren zijn voorzien van thermostaatknoppen | V51: niet van toepassing | W51: FUTP niet van toepassing | X51: Niet van toepassing | AB51: 3 | AF51: 0
B52: 569030-1 | C52: 569030 | D52: W | E52: Leidingnet en appendages verwarmen | F52: O | G52: T-87,5 | H52: Theoretisch | I52: Verval ≥ 87,5% | J52: Eind | K52: 1 | L52: 8 | M52: 1 | N52: 569030-1-1 | P52: [objectcode.gebouwnummer] -531010-overzicht1; [objectcode.gebouwnummer] -531010-overzicht2 | Q52: 106 | R52: Voldoet niet aan vigerende W&R | S52: Element heeft 100% van theoretische levensduur gehaald | T52: N.v.t. | U52: Functieverlies installatie, toename aan gebreken / verstoringen | V52: Planmatig vervangen op basis van leeftijd volgens hoogste eisen uit de duurzaamheidstabel: vervangen door kuntstofleidingen en frequentiegeregelde pompen | W52: FUTP niet van toepassing | X52: Integraal vervangen – imiteren | Y52: 25255 | Z52: 1 | AA52: 25260 | AB52: 3 | AF52: 0
B53: 569030-1 | C53: 569030 | D53: W | E53: Leidingnet en appendages verwarmen | F53: E | G53: W-BK | H53: Wetsgebrek | I53: wettelijk basiskwaliteit | J53: Eind | K53: 0.1 | L53: 4 | M53: 2 | N53: 569030-1-2 | P53: [objectcode.gebouwnummer] -531010-overzicht1; [objectcode.gebouwnummer] -531010-overzicht2 | Q53: 106 | R53: Voldoet niet aan vigerende W&R | S53: Ontwerp van destijds | T53: GC4 | U53: GC4 Is niet uitgevoerd want isolatie leidingen en appendages ontbreekt waardoor warmteverlies optreedt | V53: Leiding isoleren in ruimte 106 volgens FUTP 56.90.30-01 Verduurzamen EML leidingen, kanalen en appendages- isoleren verwarmen | W53: 56.90.30-01 Verduurzamen EML leidingen en appendages isoleren | X53: Verbeteren – modificeren | Y53: 61 | Z53: 30 | AA53: 1830 | AB53: 3 | AF53: 0
B54: 569030-1 | C54: 569030 | D54: W | E54: Leidingnet en appendages verwarmen | F54: E | G54: GG | H54: Geen | I54: Geen gebrek | J54: Eind | K54: 0.3 | L54: 0 | M54: 3 | N54: 569030-1-3 | P54: [objectcode.gebouwnummer] -563010-pomp1 | Q54: 106 | R54: Voldoet niet aan vigerende W&R | S54: Niet van toepassing | T54: GC7 | U54: GC7 is uitgevoerd doordat de circulatiepompen frequentie geregeld zijn | V54: niet van toepassing | W54: FUTP niet van toepassing | X54: Niet van toepassing | AB54: 3 | AF54: 0
B55: 569030-1 | C55: 569030 | D55: W | E55: Leidingnet en appendages verwarmen | F55: E | G55: GG | H55: Geen | I55: Geen gebrek | J55: Eind | K55: 0.6 | L55: 0 | M55: 6 | N55: 569030-1-6 | P55: [objectcode.gebouwnummer] -531010-overzicht1;[objectcode.gebouwnummer] -531010-overzicht2 | Q55: 106 | R55: Voldoet niet aan vigerende W&R | S55: niet van toepassing | T55: FC2 | U55: FC2 niet van toepassing want elektromotor kleiner dan 4 kW | V55: niet van toepassing | W55: FUTP niet van toepassing | X55: niet van toepassing | AB55: 3 | AF55: 0
B56: 573020-1 | C56: 573020 | D56: W | E56: Mechanische luchtbehandeling | F56: O | G56: T-87,5 | H56: Theoretisch | I56: Verval ≥ 87,5% | J56: Eind | K56: 1 | L56: 8 | M56: 1 | N56: 573020-1-1 | P56: [objectcode.gebouwnummer] -573020-overzicht; [objectcode.gebouwnummer] -573020-type | Q56: 106 | R56: Voldoet niet aan DZH-lijn | S56: Element heeft 90% van theoretische levensduur gehaald | T56: N.v.t. | U56: Functieverlies installatie, toename aan gebreken / verstoringen | V56: Planmatig vervangen op basis van leeftijd volgens een deel hoogste eisen dzh-tabel: Direct gedreven IE 4 ventilator en CO2 gestuurd. Daarnaast planmatig vervangen waarbij wordt voldaan aan de dzh-tabel op het volgende punt: warmteterugwinning d.m.v. warmtepomp. | W56: FUTP niet van toepassing | X56: Integraal vervangen – imiteren | Y56: 4176 | Z56: 1 | AA56: 4180 | AB56: 3 | AF56: 0
B57: 573020-1 | C57: 573020 | D57: W | E57: Mechanische luchtbehandeling | F57: E | G57: GG | H57: Geen | I57: Geen gebrek | J57: Eind | K57: 0.2 | L57: 0 | M57: 2 | N57: 573020-1-2 | P57: [objectcode.gebouwnummer] -573020-Klokregeling | Q57: 106 | R57: Voldoet niet aan DZH-lijn | S57: n.v.t. | T57: GD1 | U57: GD1 is uitgevoerd want klokregeling is toegepast | V57: n.v.t. | W57: FUTP niet van toepassing | X57: Niet van toepassing | AB57: 3 | AF57: 0
B58: 573020-1 | C58: 573020 | D58: W | E58: Mechanische luchtbehandeling | F58: E | G58: GG | H58: Geen | I58: Geen gebrek | J58: Eind | K58: 0.2 | L58: 0 | M58: 3 | N58: 573020-1-3 | P58: [objectcode.gebouwnummer] -573020-overzicht; [objectcode.gebouwnummer] -573020-type | Q58: 106 | R58: Voldoet niet aan DZH-lijn | S58: Ontwerp van destijds | T58: GD2 | U58: GD2 is uitgevoerd want warmteterugwinning op het balansventilatiesysteem is toegepast | V58: n.v.t. | W58: FUTP niet van toepassing | X58: net van toepassing | AB58: 3 | AF58: 0
B59: 573020-1 | C59: 573020 | D59: W | E59: Mechanische luchtbehandeling | F59: E | G59: GG | H59: Geen | I59: Geen gebrek | J59: Eind | K59: 0.2 | L59: 0 | M59: 4 | N59: 573020-1-4 | P59: [objectcode.gebouwnummer] -573020-overzicht; [objectcode.gebouwnummer] -573020-type | Q59: 106 | R59: Voldoet niet aan DZH-lijn | S59: n.v.t. | T59: GD3 | U59: GD3 is niet van toepassing want het vermogen van de IE1 ventilatoren is kleiner dan 5,5 kW | V59: n.v.t. | W59: FUTP niet van toepassing | X59: Niet van toepassing | AB59: 3 | AF59: 0
B60: 573020-1 | C60: 573020 | D60: W | E60: Mechanische luchtbehandeling | F60: E | G60: GG | H60: Geen | I60: Geen gebrek | J60: Eind | K60: 0.2 | L60: 0 | M60: 5 | N60: 573020-1-5 | P60: [objectcode.gebouwnummer] -573020-overzicht; [objectcode.gebouwnummer] -573020-type | Q60: 106 | R60: Voldoet niet aan DZH-lijn | S60: n.v.t. | T60: GD4 | U60: GD4 niet van toepassing want geen indirect aangedreven IE1 slakkenhuisventilatoren aanwezig | V60: n.v.t. | W60: FUTP niet van toepassing | X60: Niet van toepassing | AB60: 3 | AF60: 0
B61: 573020-1 | C61: 573020 | D61: W | E61: Mechanische luchtbehandeling | F61: E | G61: GG | H61: Geen | I61: Geen gebrek | J61: Eind | K61: 0.2 | L61: 0 | M61: 6 | N61: 573020-1-6 | P61: [objectcode.gebouwnummer] -573020-overzicht; [objectcode.gebouwnummer] -573020-type | Q61: 106 | R61: Voldoet niet aan DZH-lijn | S61: n.v.t. | T61: GD5 | U61: GD5 niet van toepassing want geen indirect aangedreven IE2 slakkenhuisventilatoren aanwezig | V61: n.v.t. | W61: FUTP niet van toepassing | X61: Niet van toepassing | AB61: 3 | AF61: 0
B62: 573020-1 | C62: 573020 | D62: W | E62: Mechanische luchtbehandeling | F62: E | G62: GG | H62: Geen | I62: Geen gebrek | J62: Eind | K62: 0.1 | L62: 0 | M62: 7 | N62: 573020-1-7 | P62: [objectcode.gebouwnummer] -573020-overzicht; [objectcode.gebouwnummer] -573020-type | Q62: 106 | R62: Voldoet niet aan DZH-lijn | S62: n.v.t. | T62: GD6 | U62: GD6 niet van toepassing want geen indirect aangedreven IE3 slakkenhuisventilatoren aanwezig | V62: n.v.t. | W62: FUTP niet van toepassing | X62: Niet van toepassing | AB62: 3 | AF62: 0
B63: 573020-1 | C63: 573020 | D63: W | E63: Mechanische luchtbehandeling | F63: E | G63: GG | H63: Geen | I63: Geen gebrek | J63: Eind | K63: 0.1 | L63: 0 | M63: 8 | N63: 573020-1-8 | P63: [objectcode.gebouwnummer] -573020-overzicht; [objectcode.gebouwnummer] -573020-type | Q63: 106 | R63: Voldoet niet aan DZH-lijn | S63: n.v.t. | T63: GD7 | U63: GD7 niet van toepassing want geen IE2 of IE3 ventilatoren aanwezig | V63: n.v.t. | W63: FUTP niet van toepassing | X63: Niet van toepassing | AB63: 3 | AF63: 0
B64: 579040-1 | C64: 579040 | D64: W | E64: Luchtkanalen, appendages en isolatie | F64: O | G64: T-87,5 | H64: Theoretisch | I64: Verval ≥ 87,5% | J64: Eind | K64: 1 | L64: 8 | M64: 1 | N64: 579040-1-1 | P64: [objectcode.gebouwnummer] -579040-overzicht; [objectcode.gebouwnummer] -579040-overzicht1 | Q64: 106 | R64: Voldoet aan hoogste eisen | S64: Element heeft 100% van theoretische levensduur gehaald | T64: N.v.t. | U64: Functieverlies installatie, toename aan gebreken / verstoringen | V64: Planmatig vervangen op basis van leeftijd volgens hoogste eisen uit de duurzaamheidstabel door geïsoleerde metalen luchtkanalen | W64: FUTP niet van toepassing | X64: Integraal vervangen – imiteren | Y64: 10000 | Z64: 1 | AA64: 10000 | AB64: 3 | AF64: 0
B65: 579040-1 | C65: 579040 | D65: W | E65: Luchtkanalen, appendages en isolatie | F65: E | G65: GG | H65: Geen | I65: Geen gebrek | J65: Eind | K65: 1 | L65: 0 | M65: 2 | N65: 579040-1-2 | P65: [objectcode.gebouwnummer] -579040-overzicht; [objectcode.gebouwnummer] -579040-overzicht1 | Q65: 106 | R65: Voldoet aan hoogste eisen | S65: n.v.t. | T65: GC5 | U65: GC5 is uitgevoerd want ventilatiekanalen waar warme lucht doorstroomd zijn geïsoleerd | V65: n.v.t. | W65: FUTP niet van toepassing | X65: Niet van toepassing | AB65: 3 | AF65: 0

Sheet Inspectie (reserve)
A1: EML Inspectie
A2: Object | B2: =CONCATENATE(Advies!B10,".",Advies!B12) -> Voorbeeld.Voorbeeld | C2: =Advies!B11 -> Voorbeeld | M2: m2 BVO | N2: =Advies!B18 -> 636 | O2: Bouwjaar | P2: =Advies!B17 -> 1943 | R2: Opmerking:
A4: UVID | B4: Code Bouwdeeltype | C4: Vak-groep | D4: Omschrijving bouwdeel | E4: Thema BOEI | F4: Soort gebrek | G4: Ernst categorie | H4: Soort gebrek (Voluit) | I4: Intensiteit | J4: Omvang | K4: Prioriteit | L4: Gebrek nr. | M4: Gebrekcode | N4: Aantal fotos | O4: Filenaam Foto's | P4: Locatie | Q4: Oorzaak - Omschrijving | R4: EML Code | S4: Gevolg (risico) | T4: Oplossing | U4: FUTP | V4: Herstel maatregel | W4: Kengetal | X4: Aantal | Y4: Raming kosten excl. BTW

Sheet Inventarisatie B
B1: HMI*: | C1: HMI*: | D1: Hand Matig Invoeren | M1: Inspectiedatum: | N1: =Advies!B36 -> 46260 | R1: Datum: | S1: 46261
B2: UVID | M2: Inspecteur: | N2: =Advies!B38 -> Jan | R2: Status: | S2: Concept
A3: Inventarisatie bouwkunde
A4: Object | B4: =Advies!B10 -> Voorbeeld | C4: =Advies!B12 -> Voorbeeld | K4: B | L4: =Advies!B34 -> 3 | M4: m2 BVO | N4: =Advies!B18 -> 636 | P4: Bouwjaar | Q4: =Advies!B17 -> 1943 | R4: Opmerking:
X5: Specifiek voor monumentale bouwdelen | AH5: Specifiek voor veiligheidsprogramma's
A6: formule | B6: formule | C6: Menu | D6: HMI* | E6: formule | F6: HMI* | G6: HMI* | H6: HMI* | I6: HMI* | J6: formule | K6: formule | L6: formule | M6: HMI* | N6: HMI* | O6: HMI* | P6: HMI* | Q6: formule | R6: HMI* | S6: HMI* | T6: HMI* | U6: HMI* | V6: HMI* | W6: formule | X6: Menu | Y6: Menu | Z6: Menu | AA6: HMI* | AB6: Menu | AC6: HMI* | AD6: HMI* | AE6: HMI* | AF6: Menu | AG6: Menu | AH6: Menu | AI6: Menu | AJ6: Menu | AK6: Menu | AL6: HMI*
A7: UVID | B7: Code Bouwdeeltype | C7: Bouwdeel omschrijving | D7: Volgnr. | E7: Object | F7: Ruimte | G7: Locatie aanduiding | H7: Reden buiten gebruik | I7: Aantal | J7: Dimensie | K7: Vakgroep | L7: Kwaliteits-niveau | M7: Foto | N7: Datum van constructie of productie [jjjj-mm-dd] | O7: Einde garantie [jjjj-mm-dd] | P7: Technische levensduur [jaren] | Q7: Verwachte technische einddatum | R7: Vervangings-kosten (excl. BTW) | S7: Installatie-nummer | T7: Serienummer | U7: Model/type | V7: Omvang | W7: Omvang eenheid | X7: In oorspron-kelijke toestand | Y7: Materiaal toepassing | Z7: Monumentale waarde | AA7: Datum restauratie / revisie | AB7: Duurzaamheid bijdrage | AC7: Fabrikant | AD7: Servicebedrijf | AE7: Leverancier | AF7: Eigenaar | AG7: Verantwoordelijk | AH7: Brandv.-functie van toepassing? | AI7: Waterveiligheid functie van toepassing | AJ7: Asbeststatus | AK7: VWoH van toepassing? | AL7: Dossier
A8: =IF(ISBLANK(TInventB[[#This Row],[Bouwdeel omschrijving]]),"",CONCATENATE(TInventB[[#This Row],[Code Bouwdeeltype]],"-",TInventB[[#This Row],[Volgnr.]])) -> 210010-1 | B8: =IF(ISBLANK(TInventB[[#This Row],[Bouwdeel omschrijving]]),"",VLOOKUP(TInventB[[#This Row],[Bouwdeel omschrijving]],TsblB[],2,FALSE)) -> 210010 | C8: Gevel | D8: 1 | E8: =IF(ISBLANK(TInventB[[#This Row],[Bouwdeel omschrijving]]),"",$B$4) -> Voorbeeld | F8: 1, 2, 3, 4, 6, 7, 8, 11, 12 | I8: 310 | J8: =IF(ISBLANK(TInventB[[#This Row],[Bouwdeel omschrijving]]),"",VLOOKUP(TInventB[[#This Row],[Bouwdeel omschrijving]],TsblB[],4,FALSE)) -> m2 | K8: =IF(ISBLANK(TInventB[[#This Row],[Bouwdeel omschrijving]]),"",VLOOKUP(TInventB[[#This Row],[Bouwdeel omschrijving]],TsblB[],3,FALSE)) -> B | L8: =IF(ISBLANK(C8),"",$L$4) -> 3 | M8: [objectcode.gebouwnummer] -210010-1 | N8: 15707 | P8: 100 | Q8: =IF(ISBLANK(TInventB[[#This Row],[Technische levensduur '[jaren']]]),"",(TInventB[[#This Row],[Datum van constructie of productie '[jjjj-mm-dd']]]+(TInventB[[#This Row],[Technische levensduur '[jaren']]]*365))) -> 52207 | R8: 0 | S8: Onbekend | T8: Onbekend | U8: Metselwerk geschilderd | AB8: Voldoet niet aan vigerende W&R | AC8: Onbekend | AE8: Onbekend | AF8: Afnemer | AG8: Afnemer | AL8: Spouwbreedte 5cm. Geen isolatie in spouw. RC=0,5. Metselwerk staand verband. Orientatie: 43m2 Noord, 110m2 Oost, 43m2 Zuid, 114m2 West. Dekkend geschilderd wit. Dragend. Wandopeningen van Hout en glas. Vogelwering aanwezig. Hoogte gevel is 2,85m.
A9: =IF(ISBLANK(TInventB[[#This Row],[Bouwdeel omschrijving]]),"",CONCATENATE(TInventB[[#This Row],[Code Bouwdeeltype]],"-",TInventB[[#This Row],[Volgnr.]])) -> 312010-1 | B9: =IF(ISBLANK(TInventB[[#This Row],[Bouwdeel omschrijving]]),"",VLOOKUP(TInventB[[#This Row],[Bouwdeel omschrijving]],TsblB[],2,FALSE)) -> 312010 | C9: Kozijnwerk buiten | D9: 1 | E9: =IF(ISBLANK(TInventB[[#This Row],[Bouwdeel omschrijving]]),"",$B$4) -> Voorbeeld | F9: 1, 2, 3, 4, 6, 6a, 7, 8, 11, 12 | I9: 95 | J9: =IF(ISBLANK(TInventB[[#This Row],[Bouwdeel omschrijving]]),"",VLOOKUP(TInventB[[#This Row],[Bouwdeel omschrijving]],TsblB[],4,FALSE)) -> m2 | K9: =IF(ISBLANK(TInventB[[#This Row],[Bouwdeel omschrijving]]),"",VLOOKUP(TInventB[[#This Row],[Bouwdeel omschrijving]],TsblB[],3,FALSE)) -> B | L9: =IF(ISBLANK(C9),"",$L$4) -> 3 | M9: [objectcode.gebouwnummer] -312010-1 | N9: 33604 | P9: 50 | Q9: =IF(ISBLANK(TInventB[[#This Row],[Technische levensduur '[jaren']]]),"",(TInventB[[#This Row],[Datum van constructie of productie '[jjjj-mm-dd']]]+(TInventB[[#This Row],[Technische levensduur '[jaren']]]*365))) -> 51854 | R9: 85500 | S9: Onbekend | T9: Onbekend | U9: Houten kozijnen dekkend geschilderd | AB9: Voldoet aan hoogste eisen | AC9: Onbekend | AE9: Onbekend | AF9: Afnemer | AG9: Afnemer | AL9: Voorzien van isolatieglas. Houten kozijn, 90 graden, draairamen en vaste ramen. Orientantie: 9m2 Noord, 36,5m2 Oost, 9m2 Zuid, 40,5m2 West. Dekkend geschilderd wit. Sponning is 2cm.
A10: =IF(ISBLANK(TInventB[[#This Row],[Bouwdeel omschrijving]]),"",CONCATENATE(TInventB[[#This Row],[Code Bouwdeeltype]],"-",TInventB[[#This Row],[Volgnr.]])) -> 312010-2 | B10: =IF(ISBLANK(TInventB[[#This Row],[Bouwdeel omschrijving]]),"",VLOOKUP(TInventB[[#This Row],[Bouwdeel omschrijving]],TsblB[],2,FALSE)) -> 312010 | C10: Kozijnwerk buiten | D10: 2 | E10: =IF(ISBLANK(TInventB[[#This Row],[Bouwdeel omschrijving]]),"",$B$4) -> Voorbeeld | F10: 106 | I10: 4 | J10: =IF(ISBLANK(TInventB[[#This Row],[Bouwdeel omschrijving]]),"",VLOOKUP(TInventB[[#This Row],[Bouwdeel omschrijving]],TsblB[],4,FALSE)) -> m2 | K10: =IF(ISBLANK(TInventB[[#This Row],[Bouwdeel omschrijving]]),"",VLOOKUP(TInventB[[#This Row],[Bouwdeel omschrijving]],TsblB[],3,FALSE)) -> B | L10: =IF(ISBLANK(C10),"",$L$4) -> 3 | M10: [objectcode.gebouwnummer] -312010-2 | N10: 15707 | P10: 75 | Q10: =IF(ISBLANK(TInventB[[#This Row],[Technische levensduur '[jaren']]]),"",(TInventB[[#This Row],[Datum van constructie of productie '[jjjj-mm-dd']]]+(TInventB[[#This Row],[Technische levensduur '[jaren']]]*365))) -> 43082 | R10: 4000 | S10: Onbekend | T10: Onbekend | U10: Stalen kozijnen | AB10: Voldoet niet aan DZH-lijn | AC10: Onbekend | AE10: Onbekend | AF10: Afnemer | AG10: Afnemer | AL10: Betreft dakramen. Voorzien van enkelglas. Stalen kozijn, 45 graden, draairamen. Oriëntatie: 2m2 Oost. 2m2 west. Dekkend afgewerkt coating. Onbeschut. Rondom keramische dakpannen. Niet thermisch onderbroken
A11: =IF(ISBLANK(TInventB[[#This Row],[Bouwdeel omschrijving]]),"",CONCATENATE(TInventB[[#This Row],[Code Bouwdeeltype]],"-",TInventB[[#This Row],[Volgnr.]])) -> 312030-1 | B11: =IF(ISBLANK(TInventB[[#This Row],[Bouwdeel omschrijving]]),"",VLOOKUP(TInventB[[#This Row],[Bouwdeel omschrijving]],TsblB[],2,FALSE)) -> 312030 | C11: Beglazing buiten | D11: 1 | E11: =IF(ISBLANK(TInventB[[#This Row],[Bouwdeel omschrijving]]),"",$B$4) -> Voorbeeld | F11: 106 | I11: 4 | J11: =IF(ISBLANK(TInventB[[#This Row],[Bouwdeel omschrijving]]),"",VLOOKUP(TInventB[[#This Row],[Bouwdeel omschrijving]],TsblB[],4,FALSE)) -> m2 | K11: =IF(ISBLANK(TInventB[[#This Row],[Bouwdeel omschrijving]]),"",VLOOKUP(TInventB[[#This Row],[Bouwdeel omschrijving]],TsblB[],3,FALSE)) -> B | L11: =IF(ISBLANK(C11),"",$L$4) -> 3 | M11: [objectcode.gebouwnummer] -312030-1 | N11: 15707 | P11: 75 | Q11: =IF(ISBLANK(TInventB[[#This Row],[Technische levensduur '[jaren']]]),"",(TInventB[[#This Row],[Datum van constructie of productie '[jjjj-mm-dd']]]+(TInventB[[#This Row],[Technische levensduur '[jaren']]]*365))) -> 43082 | R11: 560 | S11: Onbekend | T11: Onbekend | U11: Enkelglas | AB11: Voldoet niet aan vigerende W&R | AC11: Onbekend | AE11: Onbekend | AF11: Afnemer | AG11: Afnemer | AL11: Enkelglas 4mm in dakramen. Droog in stalen kozijn gelegd.
A12: =IF(ISBLANK(TInventB[[#This Row],[Bouwdeel omschrijving]]),"",CONCATENATE(TInventB[[#This Row],[Code Bouwdeeltype]],"-",TInventB[[#This Row],[Volgnr.]])) -> 312050-1 | B12: =IF(ISBLANK(TInventB[[#This Row],[Bouwdeel omschrijving]]),"",VLOOKUP(TInventB[[#This Row],[Bouwdeel omschrijving]],TsblB[],2,FALSE)) -> 312050 | C12: Beglazing isolatieglas buiten | D12: 1 | E12: =IF(ISBLANK(TInventB[[#This Row],[Bouwdeel omschrijving]]),"",$B$4) -> Voorbeeld | F12: 1, 2, 3, 4, 7, 8, 11 en 12 | I12: 48 | J12: =IF(ISBLANK(TInventB[[#This Row],[Bouwdeel omschrijving]]),"",VLOOKUP(TInventB[[#This Row],[Bouwdeel omschrijving]],TsblB[],4,FALSE)) -> m2 | K12: =IF(ISBLANK(TInventB[[#This Row],[Bouwdeel omschrijving]]),"",VLOOKUP(TInventB[[#This Row],[Bouwdeel omschrijving]],TsblB[],3,FALSE)) -> B | L12: =IF(ISBLANK(C12),"",$L$4) -> 3 | M12: [objectcode.gebouwnummer] -312050-1 | N12: 33604 | P12: 30 | Q12: =IF(ISBLANK(TInventB[[#This Row],[Technische levensduur '[jaren']]]),"",(TInventB[[#This Row],[Datum van constructie of productie '[jjjj-mm-dd']]]+(TInventB[[#This Row],[Technische levensduur '[jaren']]]*365))) -> 44554 | R12: 6720 | S12: Onbekend | T12: Onbekend | U12: SANCO dubbelglas | AB12: Voldoet niet aan vigerende W&R | AC12: SANCO | AE12: Onbekend | AF12: Afnemer | AG12: Afnemer | AL12: Dubbelglas 18mm (4-10-4) Sanco. Glaslatten met kitwerk. Beglazing is aanwezig in ramen en deuren. Beglazing is identiek.
A13: =IF(ISBLANK(TInventB[[#This Row],[Bouwdeel omschrijving]]),"",CONCATENATE(TInventB[[#This Row],[Code Bouwdeeltype]],"-",TInventB[[#This Row],[Volgnr.]])) -> 471210-1 | B13: =IF(ISBLANK(TInventB[[#This Row],[Bouwdeel omschrijving]]),"",VLOOKUP(TInventB[[#This Row],[Bouwdeel omschrijving]],TsblB[],2,FALSE)) -> 471210 | C13: Dakbedekking hellend dak | D13: 1 | E13: =IF(ISBLANK(TInventB[[#This Row],[Bouwdeel omschrijving]]),"",$B$4) -> Voorbeeld | F13: 106 | I13: 420 | J13: =IF(ISBLANK(TInventB[[#This Row],[Bouwdeel omschrijving]]),"",VLOOKUP(TInventB[[#This Row],[Bouwdeel omschrijving]],TsblB[],4,FALSE)) -> m² | K13: =IF(ISBLANK(TInventB[[#This Row],[Bouwdeel omschrijving]]),"",VLOOKUP(TInventB[[#This Row],[Bouwdeel omschrijving]],TsblB[],3,FALSE)) -> B | L13: =IF(ISBLANK(C13),"",$L$4) -> 3 | M13: [objectcode.gebouwnummer] -471210-1 | N13: 33756 | P13: 75 | Q13: =IF(ISBLANK(TInventB[[#This Row],[Technische levensduur '[jaren']]]),"",(TInventB[[#This Row],[Datum van constructie of productie '[jjjj-mm-dd']]]+(TInventB[[#This Row],[Technische levensduur '[jaren']]]*365))) -> 61131 | R13: 41580 | S13: 900016560 | T13: Onbekend | U13: Dakpannen keramisch | AB13: Voldoet niet aan DZH-lijn | AC13: Onbekend | AE13: Onbekend | AF13: Afnemer | AG13: Afnemer | AL13: Geen zonnepanelen aanwezig. Totale lengte goot = 70 m1, 70m1 aan nokvorstren keramisch. 420m2 aan oppervlakte. Geen bliksemvoorziening aanweizg. Geen aanwezigheid van valbeveiliging. RC waarde is 0 ivm ontbreken isolatie
A14: =IF(ISBLANK(TInventB[[#This Row],[Bouwdeel omschrijving]]),"",CONCATENATE(TInventB[[#This Row],[Code Bouwdeeltype]],"-",TInventB[[#This Row],[Volgnr.]])) | B14: =IF(ISBLANK(TInventB[[#This Row],[Bouwdeel omschrijving]]),"",VLOOKUP(TInventB[[#This Row],[Bouwdeel omschrijving]],TsblB[],2,FALSE)) | E14: =IF(ISBLANK(TInventB[[#This Row],[Bouwdeel omschrijving]]),"",$B$4) | J14: =IF(ISBLANK(TInventB[[#This Row],[Bouwdeel omschrijving]]),"",VLOOKUP(TInventB[[#This Row],[Bouwdeel omschrijving]],TsblB[],4,FALSE)) | K14: =IF(ISBLANK(TInventB[[#This Row],[Bouwdeel omschrijving]]),"",VLOOKUP(TInventB[[#This Row],[Bouwdeel omschrijving]],TsblB[],3,FALSE)) | L14: =IF(ISBLANK(C14),"",$L$4) | Q14: =IF(ISBLANK(TInventB[[#This Row],[Technische levensduur '[jaren']]]),"",(TInventB[[#This Row],[Datum van constructie of productie '[jjjj-mm-dd']]]+(TInventB[[#This Row],[Technische levensduur '[jaren']]]*365))) | AF14: Afnemer | AG14: Afnemer
A15: =IF(ISBLANK(TInventB[[#This Row],[Bouwdeel omschrijving]]),"",CONCATENATE(TInventB[[#This Row],[Code Bouwdeeltype]],"-",TInventB[[#This Row],[Volgnr.]])) | B15: =IF(ISBLANK(TInventB[[#This Row],[Bouwdeel omschrijving]]),"",VLOOKUP(TInventB[[#This Row],[Bouwdeel omschrijving]],TsblB[],2,FALSE)) | E15: =IF(ISBLANK(TInventB[[#This Row],[Bouwdeel omschrijving]]),"",$B$4) | J15: =IF(ISBLANK(TInventB[[#This Row],[Bouwdeel omschrijving]]),"",VLOOKUP(TInventB[[#This Row],[Bouwdeel omschrijving]],TsblB[],4,FALSE)) | K15: =IF(ISBLANK(TInventB[[#This Row],[Bouwdeel omschrijving]]),"",VLOOKUP(TInventB[[#This Row],[Bouwdeel omschrijving]],TsblB[],3,FALSE)) | L15: =IF(ISBLANK(C15),"",$L$4) | Q15: =IF(ISBLANK(TInventB[[#This Row],[Technische levensduur '[jaren']]]),"",(TInventB[[#This Row],[Datum van constructie of productie '[jjjj-mm-dd']]]+(TInventB[[#This Row],[Technische levensduur '[jaren']]]*365))) | AF15: Afnemer | AG15: Afnemer
A16: =IF(ISBLANK(TInventB[[#This Row],[Bouwdeel omschrijving]]),"",CONCATENATE(TInventB[[#This Row],[Code Bouwdeeltype]],"-",TInventB[[#This Row],[Volgnr.]])) | B16: =IF(ISBLANK(TInventB[[#This Row],[Bouwdeel omschrijving]]),"",VLOOKUP(TInventB[[#This Row],[Bouwdeel omschrijving]],TsblB[],2,FALSE)) | E16: =IF(ISBLANK(TInventB[[#This Row],[Bouwdeel omschrijving]]),"",$B$4) | J16: =IF(ISBLANK(TInventB[[#This Row],[Bouwdeel omschrijving]]),"",VLOOKUP(TInventB[[#This Row],[Bouwdeel omschrijving]],TsblB[],4,FALSE)) | K16: =IF(ISBLANK(TInventB[[#This Row],[Bouwdeel omschrijving]]),"",VLOOKUP(TInventB[[#This Row],[Bouwdeel omschrijving]],TsblB[],3,FALSE)) | L16: =IF(ISBLANK(C16),"",$L$4) | Q16: =IF(ISBLANK(TInventB[[#This Row],[Technische levensduur '[jaren']]]),"",(TInventB[[#This Row],[Datum van constructie of productie '[jjjj-mm-dd']]]+(TInventB[[#This Row],[Technische levensduur '[jaren']]]*365))) | AF16: Afnemer | AG16: Afnemer
A17: =IF(ISBLANK(TInventB[[#This Row],[Bouwdeel omschrijving]]),"",CONCATENATE(TInventB[[#This Row],[Code Bouwdeeltype]],"-",TInventB[[#This Row],[Volgnr.]])) | B17: =IF(ISBLANK(TInventB[[#This Row],[Bouwdeel omschrijving]]),"",VLOOKUP(TInventB[[#This Row],[Bouwdeel omschrijving]],TsblB[],2,FALSE)) | E17: =IF(ISBLANK(TInventB[[#This Row],[Bouwdeel omschrijving]]),"",$B$4) | J17: =IF(ISBLANK(TInventB[[#This Row],[Bouwdeel omschrijving]]),"",VLOOKUP(TInventB[[#This Row],[Bouwdeel omschrijving]],TsblB[],4,FALSE)) | K17: =IF(ISBLANK(TInventB[[#This Row],[Bouwdeel omschrijving]]),"",VLOOKUP(TInventB[[#This Row],[Bouwdeel omschrijving]],TsblB[],3,FALSE)) | L17: =IF(ISBLANK(C17),"",$L$4) | Q17: =IF(ISBLANK(TInventB[[#This Row],[Technische levensduur '[jaren']]]),"",(TInventB[[#This Row],[Datum van constructie of productie '[jjjj-mm-dd']]]+(TInventB[[#This Row],[Technische levensduur '[jaren']]]*365))) | AF17: Afnemer | AG17: Afnemer
A18: =IF(ISBLANK(TInventB[[#This Row],[Bouwdeel omschrijving]]),"",CONCATENATE(TInventB[[#This Row],[Code Bouwdeeltype]],"-",TInventB[[#This Row],[Volgnr.]])) | B18: =IF(ISBLANK(TInventB[[#This Row],[Bouwdeel omschrijving]]),"",VLOOKUP(TInventB[[#This Row],[Bouwdeel omschrijving]],TsblB[],2,FALSE)) | E18: =IF(ISBLANK(TInventB[[#This Row],[Bouwdeel omschrijving]]),"",$B$4) | J18: =IF(ISBLANK(TInventB[[#This Row],[Bouwdeel omschrijving]]),"",VLOOKUP(TInventB[[#This Row],[Bouwdeel omschrijving]],TsblB[],4,FALSE)) | K18: =IF(ISBLANK(TInventB[[#This Row],[Bouwdeel omschrijving]]),"",VLOOKUP(TInventB[[#This Row],[Bouwdeel omschrijving]],TsblB[],3,FALSE)) | L18: =IF(ISBLANK(C18),"",$L$4) | Q18: =IF(ISBLANK(TInventB[[#This Row],[Technische levensduur '[jaren']]]),"",(TInventB[[#This Row],[Datum van constructie of productie '[jjjj-mm-dd']]]+(TInventB[[#This Row],[Technische levensduur '[jaren']]]*365))) | AF18: Afnemer | AG18: Afnemer
A19: =IF(ISBLANK(TInventB[[#This Row],[Bouwdeel omschrijving]]),"",CONCATENATE(TInventB[[#This Row],[Code Bouwdeeltype]],"-",TInventB[[#This Row],[Volgnr.]])) | B19: =IF(ISBLANK(TInventB[[#This Row],[Bouwdeel omschrijving]]),"",VLOOKUP(TInventB[[#This Row],[Bouwdeel omschrijving]],TsblB[],2,FALSE)) | E19: =IF(ISBLANK(TInventB[[#This Row],[Bouwdeel omschrijving]]),"",$B$4) | J19: =IF(ISBLANK(TInventB[[#This Row],[Bouwdeel omschrijving]]),"",VLOOKUP(TInventB[[#This Row],[Bouwdeel omschrijving]],TsblB[],4,FALSE)) | K19: =IF(ISBLANK(TInventB[[#This Row],[Bouwdeel omschrijving]]),"",VLOOKUP(TInventB[[#This Row],[Bouwdeel omschrijving]],TsblB[],3,FALSE)) | L19: =IF(ISBLANK(C19),"",$L$4) | Q19: =IF(ISBLANK(TInventB[[#This Row],[Technische levensduur '[jaren']]]),"",(TInventB[[#This Row],[Datum van constructie of productie '[jjjj-mm-dd']]]+(TInventB[[#This Row],[Technische levensduur '[jaren']]]*365))) | AF19: Afnemer | AG19: Afnemer
A20: =IF(ISBLANK(TInventB[[#This Row],[Bouwdeel omschrijving]]),"",CONCATENATE(TInventB[[#This Row],[Code Bouwdeeltype]],"-",TInventB[[#This Row],[Volgnr.]])) | B20: =IF(ISBLANK(TInventB[[#This Row],[Bouwdeel omschrijving]]),"",VLOOKUP(TInventB[[#This Row],[Bouwdeel omschrijving]],TsblB[],2,FALSE)) | E20: =IF(ISBLANK(TInventB[[#This Row],[Bouwdeel omschrijving]]),"",$B$4) | J20: =IF(ISBLANK(TInventB[[#This Row],[Bouwdeel omschrijving]]),"",VLOOKUP(TInventB[[#This Row],[Bouwdeel omschrijving]],TsblB[],4,FALSE)) | K20: =IF(ISBLANK(TInventB[[#This Row],[Bouwdeel omschrijving]]),"",VLOOKUP(TInventB[[#This Row],[Bouwdeel omschrijving]],TsblB[],3,FALSE)) | L20: =IF(ISBLANK(C20),"",$L$4) | Q20: =IF(ISBLANK(TInventB[[#This Row],[Technische levensduur '[jaren']]]),"",(TInventB[[#This Row],[Datum van constructie of productie '[jjjj-mm-dd']]]+(TInventB[[#This Row],[Technische levensduur '[jaren']]]*365))) | AF20: Afnemer | AG20: Afnemer
A21: =IF(ISBLANK(TInventB[[#This Row],[Bouwdeel omschrijving]]),"",CONCATENATE(TInventB[[#This Row],[Code Bouwdeeltype]],"-",TInventB[[#This Row],[Volgnr.]])) | B21: =IF(ISBLANK(TInventB[[#This Row],[Bouwdeel omschrijving]]),"",VLOOKUP(TInventB[[#This Row],[Bouwdeel omschrijving]],TsblB[],2,FALSE)) | E21: =IF(ISBLANK(TInventB[[#This Row],[Bouwdeel omschrijving]]),"",$B$4) | J21: =IF(ISBLANK(TInventB[[#This Row],[Bouwdeel omschrijving]]),"",VLOOKUP(TInventB[[#This Row],[Bouwdeel omschrijving]],TsblB[],4,FALSE)) | K21: =IF(ISBLANK(TInventB[[#This Row],[Bouwdeel omschrijving]]),"",VLOOKUP(TInventB[[#This Row],[Bouwdeel omschrijving]],TsblB[],3,FALSE)) | L21: =IF(ISBLANK(C21),"",$L$4) | Q21: =IF(ISBLANK(TInventB[[#This Row],[Technische levensduur '[jaren']]]),"",(TInventB[[#This Row],[Datum van constructie of productie '[jjjj-mm-dd']]]+(TInventB[[#This Row],[Technische levensduur '[jaren']]]*365))) | AF21: Afnemer | AG21: Afnemer
A22: =IF(ISBLANK(TInventB[[#This Row],[Bouwdeel omschrijving]]),"",CONCATENATE(TInventB[[#This Row],[Code Bouwdeeltype]],"-",TInventB[[#This Row],[Volgnr.]])) | B22: =IF(ISBLANK(TInventB[[#This Row],[Bouwdeel omschrijving]]),"",VLOOKUP(TInventB[[#This Row],[Bouwdeel omschrijving]],TsblB[],2,FALSE)) | E22: =IF(ISBLANK(TInventB[[#This Row],[Bouwdeel omschrijving]]),"",$B$4) | J22: =IF(ISBLANK(TInventB[[#This Row],[Bouwdeel omschrijving]]),"",VLOOKUP(TInventB[[#This Row],[Bouwdeel omschrijving]],TsblB[],4,FALSE)) | K22: =IF(ISBLANK(TInventB[[#This Row],[Bouwdeel omschrijving]]),"",VLOOKUP(TInventB[[#This Row],[Bouwdeel omschrijving]],TsblB[],3,FALSE)) | L22: =IF(ISBLANK(C22),"",$L$4) | Q22: =IF(ISBLANK(TInventB[[#This Row],[Technische levensduur '[jaren']]]),"",(TInventB[[#This Row],[Datum van constructie of productie '[jjjj-mm-dd']]]+(TInventB[[#This Row],[Technische levensduur '[jaren']]]*365))) | AF22: Afnemer | AG22: Afnemer
A23: =IF(ISBLANK(TInventB[[#This Row],[Bouwdeel omschrijving]]),"",CONCATENATE(TInventB[[#This Row],[Code Bouwdeeltype]],"-",TInventB[[#This Row],[Volgnr.]])) | B23: =IF(ISBLANK(TInventB[[#This Row],[Bouwdeel omschrijving]]),"",VLOOKUP(TInventB[[#This Row],[Bouwdeel omschrijving]],TsblB[],2,FALSE)) | E23: =IF(ISBLANK(TInventB[[#This Row],[Bouwdeel omschrijving]]),"",$B$4) | J23: =IF(ISBLANK(TInventB[[#This Row],[Bouwdeel omschrijving]]),"",VLOOKUP(TInventB[[#This Row],[Bouwdeel omschrijving]],TsblB[],4,FALSE)) | K23: =IF(ISBLANK(TInventB[[#This Row],[Bouwdeel omschrijving]]),"",VLOOKUP(TInventB[[#This Row],[Bouwdeel omschrijving]],TsblB[],3,FALSE)) | L23: =IF(ISBLANK(C23),"",$L$4) | Q23: =IF(ISBLANK(TInventB[[#This Row],[Technische levensduur '[jaren']]]),"",(TInventB[[#This Row],[Datum van constructie of productie '[jjjj-mm-dd']]]+(TInventB[[#This Row],[Technische levensduur '[jaren']]]*365))) | AF23: Afnemer | AG23: Afnemer
A24: =IF(ISBLANK(TInventB[[#This Row],[Bouwdeel omschrijving]]),"",CONCATENATE(TInventB[[#This Row],[Code Bouwdeeltype]],"-",TInventB[[#This Row],[Volgnr.]])) | B24: =IF(ISBLANK(TInventB[[#This Row],[Bouwdeel omschrijving]]),"",VLOOKUP(TInventB[[#This Row],[Bouwdeel omschrijving]],TsblB[],2,FALSE)) | E24: =IF(ISBLANK(TInventB[[#This Row],[Bouwdeel omschrijving]]),"",$B$4) | J24: =IF(ISBLANK(TInventB[[#This Row],[Bouwdeel omschrijving]]),"",VLOOKUP(TInventB[[#This Row],[Bouwdeel omschrijving]],TsblB[],4,FALSE)) | K24: =IF(ISBLANK(TInventB[[#This Row],[Bouwdeel omschrijving]]),"",VLOOKUP(TInventB[[#This Row],[Bouwdeel omschrijving]],TsblB[],3,FALSE)) | L24: =IF(ISBLANK(C24),"",$L$4) | Q24: =IF(ISBLANK(TInventB[[#This Row],[Technische levensduur '[jaren']]]),"",(TInventB[[#This Row],[Datum van constructie of productie '[jjjj-mm-dd']]]+(TInventB[[#This Row],[Technische levensduur '[jaren']]]*365))) | AF24: Afnemer | AG24: Afnemer
A25: =IF(ISBLANK(TInventB[[#This Row],[Bouwdeel omschrijving]]),"",CONCATENATE(TInventB[[#This Row],[Code Bouwdeeltype]],"-",TInventB[[#This Row],[Volgnr.]])) | B25: =IF(ISBLANK(TInventB[[#This Row],[Bouwdeel omschrijving]]),"",VLOOKUP(TInventB[[#This Row],[Bouwdeel omschrijving]],TsblB[],2,FALSE)) | E25: =IF(ISBLANK(TInventB[[#This Row],[Bouwdeel omschrijving]]),"",$B$4) | J25: =IF(ISBLANK(TInventB[[#This Row],[Bouwdeel omschrijving]]),"",VLOOKUP(TInventB[[#This Row],[Bouwdeel omschrijving]],TsblB[],4,FALSE)) | K25: =IF(ISBLANK(TInventB[[#This Row],[Bouwdeel omschrijving]]),"",VLOOKUP(TInventB[[#This Row],[Bouwdeel omschrijving]],TsblB[],3,FALSE)) | L25: =IF(ISBLANK(C25),"",$L$4) | Q25: =IF(ISBLANK(TInventB[[#This Row],[Technische levensduur '[jaren']]]),"",(TInventB[[#This Row],[Datum van constructie of productie '[jjjj-mm-dd']]]+(TInventB[[#This Row],[Technische levensduur '[jaren']]]*365))) | AF25: Afnemer | AG25: Afnemer
... A59: =IF(ISBLANK(TInventB[[#This Row],[Bouwdeel omschrijving]]),"",CONCATENATE(TInventB[[#This Row],[Code Bouwdeeltype]],"-",TInventB[[#This Row],[Volgnr.]])) | B59: =IF(ISBLANK(TInventB[[#This Row],[Bouwdeel omschrijving]]),"",VLOOKUP(TInventB[[#This Row],[Bouwdeel omschrijving]],TsblB[],2,FALSE)) | E59: =IF(ISBLANK(TInventB[[#This Row],[Bouwdeel omschrijving]]),"",$B$4) | J59: =IF(ISBLANK(TInventB[[#This Row],[Bouwdeel omschrijving]]),"",VLOOKUP(TInventB[[#This Row],[Bouwdeel omschrijving]],TsblB[],4,FALSE)) | K59: =IF(ISBLANK(TInventB[[#This Row],[Bouwdeel omschrijving]]),"",VLOOKUP(TInventB[[#This Row],[Bouwdeel omschrijving]],TsblB[],3,FALSE)) | L59: =IF(ISBLANK(C59),"",$L$4) | Q59: =IF(ISBLANK(TInventB[[#This Row],[Technische levensduur '[jaren']]]),"",(TInventB[[#This Row],[Datum van constructie of productie '[jjjj-mm-dd']]]+(TInventB[[#This Row],[Technische levensduur '[jaren']]]*365))) | AF59: Afnemer | AG59: Afnemer

Sheet Inspectie B
A1: Inspecteren bouwkunde | K1: trede 1-5
A2: HMI*: | B2: Handmatig Invoeren
A3: UVID: | B3: Bepaling unieke indentificatie code | J3: B | K3: =Advies!B34 -> 3
A4: Menu | B4: Menustructuur | J4: E | K4: =Advies!B34 -> 3
A5: Inspectie datum: | B5: ='Inventarisatie B'!S1 -> 46261 | J5: W | K5: =Advies!B34 -> 3
A6: Fotomap: | B6: B | J6: T | K6: =Advies!B34 -> 3
J7: G | K7: =Advies!B34 -> 3
A8: Menu | B8: formule | C8: formule | D8: formule | E8: HMI* | F8: Menu | G8: formule | H8: formule | I8: formule | J8: HMI* | K8: formule | L8: HMI* | M8: formule | N8: HMI* | O8: HMI* | P8: HMI* | Q8: Menu | R8: HMI* | S8: Menu | T8: HMI* | U8: HMI* | V8: Menu | W8: Menu | X8: HMI* | Y8: HMI* | Z8: formule | AA8: formule | AB8: formule | AC8: formule | AD8: formule | AE8: formule
A9: UVID | B9: Code Bouwdeeltype | C9: Vak-groep | D9: Omschrijving bouwdeel | E9: Thema BOEI | F9: Soort gebrek | G9: Ernst categorie | H9: Soort gebrek (Voluit) | I9: Intensiteit | J9: Omvang | K9: Prioriteit | L9: Gebrek nr. | M9: Gebrekcode | N9: Aantal fotos | O9: Filenaam Foto's | P9: Locatie | Q9: Duurzaamheid bijdrage | R9: Oorzaak - Omschrijving | S9: EML code | T9: Gevolg (risico) | U9: Oplossing | V9: FUTP's | W9: Herstelmaatregel | X9: Kengetal | Y9: Aantal | Z9: Raming kosten excl. BTW | AA9: Trede | AB9: Combi | AC9: FH | AD9: DH | AE9: Bouwdatum
A10: {=IFERROR(INDEX(TInventB[UVID],ROUNDDOWN((ROW(A1)+1)/2,0)),"")} -> 210010-1 | B10: =IF(TInspectieB[[#This Row],[UVID]]="","",VLOOKUP(TInspectieB[[#This Row],[UVID]],TInventB[],2,FALSE)) -> 210010 | C10: =IF(TInspectieB[[#This Row],[UVID]]="","",VLOOKUP(TInspectieB[[#This Row],[UVID]],TInventB[],11,FALSE)) -> B | D10: =IF(TInspectieB[[#This Row],[UVID]]="","",VLOOKUP(TInspectieB[[#This Row],[UVID]],TInventB[],3,FALSE)) -> Gevel | E10: =IF(TInspectieB[[#This Row],[Omschrijving bouwdeel]]="","",IF(MOD(ROW()-2,2)=0,"O",IF(TRIM(TInspectieB[[#This Row],[Code Bouwdeeltype]])="312010","O","E"))) -> O | F10: W-BK | G10: =IF(ISBLANK(TInspectieB[[#This Row],[Soort gebrek]]),"",VLOOKUP(TInspectieB[[#This Row],[Soort gebrek]],TSoortGebrek[#Data],3,FALSE)) -> Wetsgebrek | H10: =IF(ISBLANK(TInspectieB[[#This Row],[Soort gebrek]]),"",VLOOKUP(TInspectieB[[#This Row],[Soort gebrek]],TSoortGebrek[#Data],2,FALSE)) -> wettelijk basiskwaliteit | I10: =IF(TInspectieB[[#This Row],[Soort gebrek]]=0,"",VLOOKUP(TInspectieB[[#This Row],[Soort gebrek]],TSoortGebrek[],4,FALSE)) -> Eind | J10: 1 | K10: =IF(TInspectieB[[#This Row],[Soort gebrek]]=0,"",VLOOKUP(TInspectieB[[#This Row],[Combi]],TPrio[#Data],2,FALSE)) -> 4 | L10: 3 | M10: =IF(ISBLANK(TInspectieB[[#This Row],[Gebrek nr.]]),"",TInspectieB[[#This Row],[UVID]]&"-"&TInspectieB[[#This Row],[Gebrek nr.]]) -> 210010-1-3 | O10: [objectcode.gebouwnummer] -210010-1 | P10: 8 | Q10: Voldoet niet aan vigerende W&R | R10: Thermische scheurvorming | S10: N.v.t. | T10: Constructieve verzwakking, zetting, vervorming wanden en vloeren, vochtproblemen. | U10: Scheurvorming herstellen/dichtzetten. Nader onderzoek scheurvorming wordt geadviseerd. | V10: FUTP niet van toepassing | W10: Reparatie | X10: 1200 | Y10: 1 | Z10: =IF(ISBLANK(TInspectieB[[#This Row],[Aantal]]),"",ROUND(TInspectieB[[#This Row],[Kengetal]]*TInspectieB[[#This Row],[Aantal]],-1)) -> 1200 | AA10: =IF(TInspectieB[[#This Row],[Vak-groep]]="","1",VLOOKUP(C10,$J$2:$K$7,2,FALSE)) -> 3 | AB10: =CONCATENATE(TInspectieB[[#This Row],[Soort gebrek]],TInspectieB[[#This Row],[Trede]]) -> W-BK3 | AC10: #N/A | AD10: #N/A | AE10: 0
A11: {=IFERROR(INDEX(TInventB[UVID],ROUNDDOWN((ROW(A2)+1)/2,0)),"")} -> 210010-1 | B11: =IF(TInspectieB[[#This Row],[UVID]]="","",VLOOKUP(TInspectieB[[#This Row],[UVID]],TInventB[],2,FALSE)) -> 210010 | C11: =IF(TInspectieB[[#This Row],[UVID]]="","",VLOOKUP(TInspectieB[[#This Row],[UVID]],TInventB[],11,FALSE)) -> B | D11: =IF(TInspectieB[[#This Row],[UVID]]="","",VLOOKUP(TInspectieB[[#This Row],[UVID]],TInventB[],3,FALSE)) -> Gevel | E11: =IF(TInspectieB[[#This Row],[Omschrijving bouwdeel]]="","",IF(MOD(ROW()-2,2)=0,"O",IF(TRIM(TInspectieB[[#This Row],[Code Bouwdeeltype]])="312010","O","E"))) -> E | F11: G-PO | G11: =IF(ISBLANK(TInspectieB[[#This Row],[Soort gebrek]]),"",VLOOKUP(TInspectieB[[#This Row],[Soort gebrek]],TSoortGebrek[#Data],3,FALSE)) -> Gering | H11: =IF(ISBLANK(TInspectieB[[#This Row],[Soort gebrek]]),"",VLOOKUP(TInspectieB[[#This Row],[Soort gebrek]],TSoortGebrek[#Data],2,FALSE)) -> onderhoud | I11: =IF(TInspectieB[[#This Row],[Soort gebrek]]=0,"",VLOOKUP(TInspectieB[[#This Row],[Soort gebrek]],TSoortGebrek[],4,FALSE)) -> Gevorderd | J11: 0.5 | K11: =IF(TInspectieB[[#This Row],[Soort gebrek]]=0,"",VLOOKUP(TInspectieB[[#This Row],[Combi]],TPrio[#Data],2,FALSE)) -> 4 | L11: 1 | M11: =IF(ISBLANK(TInspectieB[[#This Row],[Gebrek nr.]]),"",TInspectieB[[#This Row],[UVID]]&"-"&TInspectieB[[#This Row],[Gebrek nr.]]) -> 210010-1-1 | O11: [objectcode.gebouwnummer] -210010-1 | P11: 1, 2, 3, 4, 6, 6a, 7, 8, 11, 12 | Q11: Voldoet niet aan vigerende W&R | R11: Ontwerp o.b.v. oude wetgeving | S11: GB1 | T11: EML nog niet uitgevoerd. Spouwbreedte >5cm. Geen isolatie in spouwmuur aanwezig. RC is 0,5. De goothoogte is 2,70m. Het is niet noodzakelijk om steigerwerk op te bouwen voor het na-isoleren van deze gevel. | U11: Na-isolereren op een natuurlijk moment volgens FUTP. Bij na isoleren van de spouwmuur wordt een RC van 5 behaald en wordt dus voldaan aan de hoogste eisen uit de dzh-tabel | V11: 21.00.00-01 Verduurzamen schil gebouw - Buitenwanden | W11: Integraal vervangen – imiteren | X11: 35 | Y11: 310 | Z11: =IF(ISBLANK(TInspectieB[[#This Row],[Aantal]]),"",ROUND(TInspectieB[[#This Row],[Kengetal]]*TInspectieB[[#This Row],[Aantal]],-1)) -> 10850 | AA11: =IF(TInspectieB[[#This Row],[Vak-groep]]="","1",VLOOKUP(C11,$J$2:$K$7,2,FALSE)) -> 3 | AB11: =CONCATENATE(TInspectieB[[#This Row],[Soort gebrek]],TInspectieB[[#This Row],[Trede]]) -> G-PO3 | AC11: #N/A | AD11: #N/A | AE11: 0
A12: {=IFERROR(INDEX(TInventB[UVID],ROUNDDOWN((ROW(A3)+1)/2,0)),"")} -> 312010-1 | B12: =IF(TInspectieB[[#This Row],[UVID]]="","",VLOOKUP(TInspectieB[[#This Row],[UVID]],TInventB[],2,FALSE)) -> 312010 | C12: =IF(TInspectieB[[#This Row],[UVID]]="","",VLOOKUP(TInspectieB[[#This Row],[UVID]],TInventB[],11,FALSE)) -> B | D12: =IF(TInspectieB[[#This Row],[UVID]]="","",VLOOKUP(TInspectieB[[#This Row],[UVID]],TInventB[],3,FALSE)) -> Kozijnwerk buiten | E12: =IF(TInspectieB[[#This Row],[Omschrijving bouwdeel]]="","",IF(MOD(ROW()-2,2)=0,"O",IF(TRIM(TInspectieB[[#This Row],[Code Bouwdeeltype]])="312010","O","E"))) -> O | F12: G-PO | G12: =IF(ISBLANK(TInspectieB[[#This Row],[Soort gebrek]]),"",VLOOKUP(TInspectieB[[#This Row],[Soort gebrek]],TSoortGebrek[#Data],3,FALSE)) -> Gering | H12: =IF(ISBLANK(TInspectieB[[#This Row],[Soort gebrek]]),"",VLOOKUP(TInspectieB[[#This Row],[Soort gebrek]],TSoortGebrek[#Data],2,FALSE)) -> onderhoud | I12: =IF(TInspectieB[[#This Row],[Soort gebrek]]=0,"",VLOOKUP(TInspectieB[[#This Row],[Soort gebrek]],TSoortGebrek[],4,FALSE)) -> Gevorderd | J12: 0.02 | K12: =IF(TInspectieB[[#This Row],[Soort gebrek]]=0,"",VLOOKUP(TInspectieB[[#This Row],[Combi]],TPrio[#Data],2,FALSE)) -> 4 | L12: 1 | M12: =IF(ISBLANK(TInspectieB[[#This Row],[Gebrek nr.]]),"",TInspectieB[[#This Row],[UVID]]&"-"&TInspectieB[[#This Row],[Gebrek nr.]]) -> 312010-1-1 | O12: [objectcode.gebouwnummer] -312010-1 | P12: 8 (buitenzijde) | Q12: Voldoet aan hoogste eisen | R12: Slechte afwerklaag. Onvoldoende bescherming. | S12: N.v.t. | T12: Houtrot aanwezig op verbindingsstukken. Onvoldoende waterkering en stabiliteit en vochtdoorslag | U12: Partieel herstellen | V12: FUTP niet van toepassing | W12: Reparatie | X12: 1000 | Y12: 1 | Z12: =IF(ISBLANK(TInspectieB[[#This Row],[Aantal]]),"",ROUND(TInspectieB[[#This Row],[Kengetal]]*TInspectieB[[#This Row],[Aantal]],-1)) -> 1000 | AA12: =IF(TInspectieB[[#This Row],[Vak-groep]]="","1",VLOOKUP(C12,$J$2:$K$7,2,FALSE)) -> 3 | AB12: =CONCATENATE(TInspectieB[[#This Row],[Soort gebrek]],TInspectieB[[#This Row],[Trede]]) -> G-PO3 | AC12: #N/A | AD12: #N/A | AE12: 0
A13: {=IFERROR(INDEX(TInventB[UVID],ROUNDDOWN((ROW(A4)+1)/2,0)),"")} -> 312010-1 | B13: =IF(TInspectieB[[#This Row],[UVID]]="","",VLOOKUP(TInspectieB[[#This Row],[UVID]],TInventB[],2,FALSE)) -> 312010 | C13: =IF(TInspectieB[[#This Row],[UVID]]="","",VLOOKUP(TInspectieB[[#This Row],[UVID]],TInventB[],11,FALSE)) -> B | D13: =IF(TInspectieB[[#This Row],[UVID]]="","",VLOOKUP(TInspectieB[[#This Row],[UVID]],TInventB[],3,FALSE)) -> Kozijnwerk buiten | E13: =IF(TInspectieB[[#This Row],[Omschrijving bouwdeel]]="","",IF(MOD(ROW()-2,2)=0,"O",IF(TRIM(TInspectieB[[#This Row],[Code Bouwdeeltype]])="312010","O","E"))) -> O | F13: T-75 | G13: =IF(ISBLANK(TInspectieB[[#This Row],[Soort gebrek]]),"",VLOOKUP(TInspectieB[[#This Row],[Soort gebrek]],TSoortGebrek[#Data],3,FALSE)) -> Theoretisch | H13: =IF(ISBLANK(TInspectieB[[#This Row],[Soort gebrek]]),"",VLOOKUP(TInspectieB[[#This Row],[Soort gebrek]],TSoortGebrek[#Data],2,FALSE)) -> ≥75% verval <87,5% | I13: =IF(TInspectieB[[#This Row],[Soort gebrek]]=0,"",VLOOKUP(TInspectieB[[#This Row],[Soort gebrek]],TSoortGebrek[],4,FALSE)) -> Gevorderd | J13: 0.98 | K13: =IF(TInspectieB[[#This Row],[Soort gebrek]]=0,"",VLOOKUP(TInspectieB[[#This Row],[Combi]],TPrio[#Data],2,FALSE)) -> 9 | L13: 3 | M13: =IF(ISBLANK(TInspectieB[[#This Row],[Gebrek nr.]]),"",TInspectieB[[#This Row],[UVID]]&"-"&TInspectieB[[#This Row],[Gebrek nr.]]) -> 312010-1-3 | O13: [objectcode.gebouwnummer] -312010-1 | P13: 1, 2, 3, 4, 6, 6a, 7, 8, 11, 12 | Q13: Voldoet aan hoogste eisen | R13: Door bereiken einde levensduur | S13: N.v.t. | T13: barsten, afbladderen en krijten. Beschermlaag onvoldoende om het kozijn optimaal te beschermen en houtrot kan ontstaan | U13: Planmatig vervangen op basis van leeftijd door houten kozijnen volgens hoogste eisen uit dzh-tabel. Voor vervangen kozijnen zie FUTP | V13: 31.20.00-01 Verduurzamen schil gebouw - HR++ beglazing en kozijnen | W13: Integraal vervangen – imiteren | X13: 750 | Y13: 95 | Z13: =IF(ISBLANK(TInspectieB[[#This Row],[Aantal]]),"",ROUND(TInspectieB[[#This Row],[Kengetal]]*TInspectieB[[#This Row],[Aantal]],-1)) -> 71250 | AA13: =IF(TInspectieB[[#This Row],[Vak-groep]]="","1",VLOOKUP(C13,$J$2:$K$7,2,FALSE)) -> 3 | AB13: =CONCATENATE(TInspectieB[[#This Row],[Soort gebrek]],TInspectieB[[#This Row],[Trede]]) -> T-753 | AC13: #N/A | AD13: #N/A | AE13: 0
A14: {=IFERROR(INDEX(TInventB[UVID],ROUNDDOWN((ROW(A5)+1)/2,0)),"")} -> 312010-2 | B14: =IF(TInspectieB[[#This Row],[UVID]]="","",VLOOKUP(TInspectieB[[#This Row],[UVID]],TInventB[],2,FALSE)) -> 312010 | C14: =IF(TInspectieB[[#This Row],[UVID]]="","",VLOOKUP(TInspectieB[[#This Row],[UVID]],TInventB[],11,FALSE)) -> B | D14: =IF(TInspectieB[[#This Row],[UVID]]="","",VLOOKUP(TInspectieB[[#This Row],[UVID]],TInventB[],3,FALSE)) -> Kozijnwerk buiten | E14: =IF(TInspectieB[[#This Row],[Omschrijving bouwdeel]]="","",IF(MOD(ROW()-2,2)=0,"O",IF(TRIM(TInspectieB[[#This Row],[Code Bouwdeeltype]])="312010","O","E"))) -> O | F14: T-87,5 | G14: =IF(ISBLANK(TInspectieB[[#This Row],[Soort gebrek]]),"",VLOOKUP(TInspectieB[[#This Row],[Soort gebrek]],TSoortGebrek[#Data],3,FALSE)) -> Theoretisch | H14: =IF(ISBLANK(TInspectieB[[#This Row],[Soort gebrek]]),"",VLOOKUP(TInspectieB[[#This Row],[Soort gebrek]],TSoortGebrek[#Data],2,FALSE)) -> Verval ≥ 87,5% | I14: =IF(TInspectieB[[#This Row],[Soort gebrek]]=0,"",VLOOKUP(TInspectieB[[#This Row],[Soort gebrek]],TSoortGebrek[],4,FALSE)) -> Eind | J14: 1 | K14: =IF(TInspectieB[[#This Row],[Soort gebrek]]=0,"",VLOOKUP(TInspectieB[[#This Row],[Combi]],TPrio[#Data],2,FALSE)) -> 8 | L14: 1 | M14: =IF(ISBLANK(TInspectieB[[#This Row],[Gebrek nr.]]),"",TInspectieB[[#This Row],[UVID]]&"-"&TInspectieB[[#This Row],[Gebrek nr.]]) -> 312010-2-1 | O14: [objectcode.gebouwnummer] -312010-2 | P14: 106 | Q14: Voldoet niet aan DZH-lijn | R14: Door bereiken einde levensduur | S14: N.v.t. | T14: Toename gebreken, niet functioneren delen | U14: Planmatig vervangen op basis van leeftijd door houten kozijnen volgens hoogste eisen uit dzh-tabel. Voor vervangen kozijnen zie FUTP | V14: 31.20.00-01 Verduurzamen schil gebouw - HR++ beglazing en kozijnen | W14: Integraal vervangen – imiteren | X14: 1100 | Y14: 4 | Z14: =IF(ISBLANK(TInspectieB[[#This Row],[Aantal]]),"",ROUND(TInspectieB[[#This Row],[Kengetal]]*TInspectieB[[#This Row],[Aantal]],-1)) -> 4400 | AA14: =IF(TInspectieB[[#This Row],[Vak-groep]]="","1",VLOOKUP(C14,$J$2:$K$7,2,FALSE)) -> 3 | AB14: =CONCATENATE(TInspectieB[[#This Row],[Soort gebrek]],TInspectieB[[#This Row],[Trede]]) -> T-87,53 | AC14: #N/A | AD14: #N/A | AE14: 0
A15: {=IFERROR(INDEX(TInventB[UVID],ROUNDDOWN((ROW(A7)+1)/2,0)),"")} -> 312030-1 | B15: =IF(TInspectieB[[#This Row],[UVID]]="","",VLOOKUP(TInspectieB[[#This Row],[UVID]],TInventB[],2,FALSE)) -> 312030 | C15: =IF(TInspectieB[[#This Row],[UVID]]="","",VLOOKUP(TInspectieB[[#This Row],[UVID]],TInventB[],11,FALSE)) -> B | D15: =IF(TInspectieB[[#This Row],[UVID]]="","",VLOOKUP(TInspectieB[[#This Row],[UVID]],TInventB[],3,FALSE)) -> Beglazing buiten | E15: =IF(TInspectieB[[#This Row],[Omschrijving bouwdeel]]="","",IF(MOD(ROW()-2,2)=0,"O",IF(TRIM(TInspectieB[[#This Row],[Code Bouwdeeltype]])="312010","O","E"))) -> E | F15: GG | G15: =IF(ISBLANK(TInspectieB[[#This Row],[Soort gebrek]]),"",VLOOKUP(TInspectieB[[#This Row],[Soort gebrek]],TSoortGebrek[#Data],3,FALSE)) -> Geen | H15: =IF(ISBLANK(TInspectieB[[#This Row],[Soort gebrek]]),"",VLOOKUP(TInspectieB[[#This Row],[Soort gebrek]],TSoortGebrek[#Data],2,FALSE)) -> Geen gebrek | I15: =IF(TInspectieB[[#This Row],[Soort gebrek]]=0,"",VLOOKUP(TInspectieB[[#This Row],[Soort gebrek]],TSoortGebrek[],4,FALSE)) -> Eind | J15: 1 | K15: =IF(TInspectieB[[#This Row],[Soort gebrek]]=0,"",VLOOKUP(TInspectieB[[#This Row],[Combi]],TPrio[#Data],2,FALSE)) -> 0 | L15: 1 | M15: =IF(ISBLANK(TInspectieB[[#This Row],[Gebrek nr.]]),"",TInspectieB[[#This Row],[UVID]]&"-"&TInspectieB[[#This Row],[Gebrek nr.]]) -> 312030-1-1 | O15: [objectcode.gebouwnummer] -312030-1 | P15: 106 | Q15: Voldoet niet aan vigerende W&R | R15: Verouderde beglazing | S15: N.v.t. | T15: Uitzakken glaswerk, sneller breuk in glaswerk. Comfort vermindering | U15: Vervangen beglazing. Vervang beglazing volgens FUTP. Enkelglas vervangen voor HR++ glas. Na aanbrengen voldoet het aan de hoogste eis van de DZH-tabel. | V15: 31.20.00-01 Verduurzamen schil gebouw - HR++ beglazing en kozijnen | W15: Integraal vervangen – imiteren | X15: 250 | Y15: 95 | Z15: =IF(ISBLANK(TInspectieB[[#This Row],[Aantal]]),"",ROUND(TInspectieB[[#This Row],[Kengetal]]*TInspectieB[[#This Row],[Aantal]],-1)) -> 23750 | AA15: =IF(TInspectieB[[#This Row],[Vak-groep]]="","1",VLOOKUP(C15,$J$2:$K$7,2,FALSE)) -> 3 | AB15: =CONCATENATE(TInspectieB[[#This Row],[Soort gebrek]],TInspectieB[[#This Row],[Trede]]) -> GG3 | AC15: #N/A | AD15: #N/A | AE15: 0
A16: {=IFERROR(INDEX(TInventB[UVID],ROUNDDOWN((ROW(A8)+1)/2,0)),"")} -> 312030-1 | B16: =IF(TInspectieB[[#This Row],[UVID]]="","",VLOOKUP(TInspectieB[[#This Row],[UVID]],TInventB[],2,FALSE)) -> 312030 | C16: =IF(TInspectieB[[#This Row],[UVID]]="","",VLOOKUP(TInspectieB[[#This Row],[UVID]],TInventB[],11,FALSE)) -> B | D16: =IF(TInspectieB[[#This Row],[UVID]]="","",VLOOKUP(TInspectieB[[#This Row],[UVID]],TInventB[],3,FALSE)) -> Beglazing buiten | E16: =IF(TInspectieB[[#This Row],[Omschrijving bouwdeel]]="","",IF(MOD(ROW()-2,2)=0,"O",IF(TRIM(TInspectieB[[#This Row],[Code Bouwdeeltype]])="312010","O","E"))) -> O | F16: T-87,5 | G16: =IF(ISBLANK(TInspectieB[[#This Row],[Soort gebrek]]),"",VLOOKUP(TInspectieB[[#This Row],[Soort gebrek]],TSoortGebrek[#Data],3,FALSE)) -> Theoretisch | H16: =IF(ISBLANK(TInspectieB[[#This Row],[Soort gebrek]]),"",VLOOKUP(TInspectieB[[#This Row],[Soort gebrek]],TSoortGebrek[#Data],2,FALSE)) -> Verval ≥ 87,5% | I16: =IF(TInspectieB[[#This Row],[Soort gebrek]]=0,"",VLOOKUP(TInspectieB[[#This Row],[Soort gebrek]],TSoortGebrek[],4,FALSE)) -> Eind | J16: 1 | K16: =IF(TInspectieB[[#This Row],[Soort gebrek]]=0,"",VLOOKUP(TInspectieB[[#This Row],[Combi]],TPrio[#Data],2,FALSE)) -> 8 | L16: 2 | M16: =IF(ISBLANK(TInspectieB[[#This Row],[Gebrek nr.]]),"",TInspectieB[[#This Row],[UVID]]&"-"&TInspectieB[[#This Row],[Gebrek nr.]]) -> 312030-1-2 | O16: [objectcode.gebouwnummer] -312030-1 | P16: 106 | Q16: Voldoet niet aan vigerende W&R | R16: niet van toepassing | S16: GB5 | T16: EML kan niet worden toegepast. In de huidige stalen kozijnen (dakramen) is het uitvoeren van GB5 niet mogelijk omdat hier geen ruimte is voor HR++ glas. Sponningsdiepte is kleiner dan 2cm. | U16: niet van toepassing | V16: FUTP niet van toepassing | W16: Niet van toepassing | Z16: =IF(ISBLANK(TInspectieB[[#This Row],[Aantal]]),"",ROUND(TInspectieB[[#This Row],[Kengetal]]*TInspectieB[[#This Row],[Aantal]],-1)) | AA16: =IF(TInspectieB[[#This Row],[Vak-groep]]="","1",VLOOKUP(C16,$J$2:$K$7,2,FALSE)) -> 3 | AB16: =CONCATENATE(TInspectieB[[#This Row],[Soort gebrek]],TInspectieB[[#This Row],[Trede]]) -> T-87,53 | AC16: #N/A | AD16: #N/A | AE16: 0
A17: {=IFERROR(INDEX(TInventB[UVID],ROUNDDOWN((ROW(A9)+1)/2,0)),"")} -> 312050-1 | B17: =IF(TInspectieB[[#This Row],[UVID]]="","",VLOOKUP(TInspectieB[[#This Row],[UVID]],TInventB[],2,FALSE)) -> 312050 | C17: =IF(TInspectieB[[#This Row],[UVID]]="","",VLOOKUP(TInspectieB[[#This Row],[UVID]],TInventB[],11,FALSE)) -> B | D17: =IF(TInspectieB[[#This Row],[UVID]]="","",VLOOKUP(TInspectieB[[#This Row],[UVID]],TInventB[],3,FALSE)) -> Beglazing isolatieglas buiten | E17: O | F17: T-75 | G17: =IF(ISBLANK(TInspectieB[[#This Row],[Soort gebrek]]),"",VLOOKUP(TInspectieB[[#This Row],[Soort gebrek]],TSoortGebrek[#Data],3,FALSE)) -> Theoretisch | H17: =IF(ISBLANK(TInspectieB[[#This Row],[Soort gebrek]]),"",VLOOKUP(TInspectieB[[#This Row],[Soort gebrek]],TSoortGebrek[#Data],2,FALSE)) -> ≥75% verval <87,5% | I17: =IF(TInspectieB[[#This Row],[Soort gebrek]]=0,"",VLOOKUP(TInspectieB[[#This Row],[Soort gebrek]],TSoortGebrek[],4,FALSE)) -> Gevorderd | J17: 1 | K17: =IF(TInspectieB[[#This Row],[Soort gebrek]]=0,"",VLOOKUP(TInspectieB[[#This Row],[Combi]],TPrio[#Data],2,FALSE)) -> 9 | L17: 1 | M17: =IF(ISBLANK(TInspectieB[[#This Row],[Gebrek nr.]]),"",TInspectieB[[#This Row],[UVID]]&"-"&TInspectieB[[#This Row],[Gebrek nr.]]) -> 312050-1-1 | O17: [objectcode.gebouwnummer] -312050-1 | P17: 1, 2, 3, 4, 6, 6a, 7, 8, 11, 12 | Q17: Voldoet niet aan vigerende W&R | R17: Door bereiken einde levensduur | S17: N.v.t. | T17: Matig comfort en verhoogde energieverbruik | U17: Vervang beglazing volgens FUTP. Kosten zijn opgnomen bij EML. 312050-1-2 | V17: 31.20.00-01 Verduurzamen schil gebouw - HR++ beglazing en kozijnen | W17: Elders opgenomen | Z17: =IF(ISBLANK(TInspectieB[[#This Row],[Aantal]]),"",ROUND(TInspectieB[[#This Row],[Kengetal]]*TInspectieB[[#This Row],[Aantal]],-1)) | AA17: =IF(TInspectieB[[#This Row],[Vak-groep]]="","1",VLOOKUP(C17,$J$2:$K$7,2,FALSE)) -> 3 | AB17: =CONCATENATE(TInspectieB[[#This Row],[Soort gebrek]],TInspectieB[[#This Row],[Trede]]) -> T-753 | AC17: #N/A | AD17: #N/A | AE17: 0
A18: {=IFERROR(INDEX(TInventB[UVID],ROUNDDOWN((ROW(A10)+1)/2,0)),"")} -> 312050-1 | B18: =IF(TInspectieB[[#This Row],[UVID]]="","",VLOOKUP(TInspectieB[[#This Row],[UVID]],TInventB[],2,FALSE)) -> 312050 | C18: =IF(TInspectieB[[#This Row],[UVID]]="","",VLOOKUP(TInspectieB[[#This Row],[UVID]],TInventB[],11,FALSE)) -> B | D18: =IF(TInspectieB[[#This Row],[UVID]]="","",VLOOKUP(TInspectieB[[#This Row],[UVID]],TInventB[],3,FALSE)) -> Beglazing isolatieglas buiten | E18: E | F18: GG | G18: =IF(ISBLANK(TInspectieB[[#This Row],[Soort gebrek]]),"",VLOOKUP(TInspectieB[[#This Row],[Soort gebrek]],TSoortGebrek[#Data],3,FALSE)) -> Geen | H18: =IF(ISBLANK(TInspectieB[[#This Row],[Soort gebrek]]),"",VLOOKUP(TInspectieB[[#This Row],[Soort gebrek]],TSoortGebrek[#Data],2,FALSE)) -> Geen gebrek | I18: =IF(TInspectieB[[#This Row],[Soort gebrek]]=0,"",VLOOKUP(TInspectieB[[#This Row],[Soort gebrek]],TSoortGebrek[],4,FALSE)) -> Eind | J18: 1 | K18: =IF(TInspectieB[[#This Row],[Soort gebrek]]=0,"",VLOOKUP(TInspectieB[[#This Row],[Combi]],TPrio[#Data],2,FALSE)) -> 0 | L18: 2 | M18: =IF(ISBLANK(TInspectieB[[#This Row],[Gebrek nr.]]),"",TInspectieB[[#This Row],[UVID]]&"-"&TInspectieB[[#This Row],[Gebrek nr.]]) -> 312050-1-2 | O18: [objectcode.gebouwnummer] -312050-1 | P18: 1, 2, 3, 4, 6, 6a, 7, 8, 11, 12 | Q18: Voldoet niet aan vigerende W&R | R18: Ontwerp o.b.v. oude wetgeving | S18: GB6 | T18: EML niet uitgevoerd en kan toegepast worden. Sponning is groter dan 2cm en ruimten worden verwarmt tot 18 graden of hoger. | U18: Vervang beglazing volgens FUTP. Dubbelglas vervangen voor HR++ glas. Sponning is 4cm. Na aanbrengen voldoet het aan de hoogste eis van de DZH-tabel. | V18: 31.20.00-01 Verduurzamen schil gebouw - HR++ beglazing en kozijnen | W18: Integraal vervangen – imiteren | X18: 250 | Y18: 48 | Z18: =IF(ISBLANK(TInspectieB[[#This Row],[Aantal]]),"",ROUND(TInspectieB[[#This Row],[Kengetal]]*TInspectieB[[#This Row],[Aantal]],-1)) -> 12000 | AA18: =IF(TInspectieB[[#This Row],[Vak-groep]]="","1",VLOOKUP(C18,$J$2:$K$7,2,FALSE)) -> 3 | AB18: =CONCATENATE(TInspectieB[[#This Row],[Soort gebrek]],TInspectieB[[#This Row],[Trede]]) -> GG3 | AC18: #N/A | AD18: #N/A | AE18: 0
A19: {=IFERROR(INDEX(TInventB[UVID],ROUNDDOWN((ROW(A11)+1)/2,0)),"")} -> 471210-1 | B19: =IF(TInspectieB[[#This Row],[UVID]]="","",VLOOKUP(TInspectieB[[#This Row],[UVID]],TInventB[],2,FALSE)) -> 471210 | C19: =IF(TInspectieB[[#This Row],[UVID]]="","",VLOOKUP(TInspectieB[[#This Row],[UVID]],TInventB[],11,FALSE)) -> B | D19: =IF(TInspectieB[[#This Row],[UVID]]="","",VLOOKUP(TInspectieB[[#This Row],[UVID]],TInventB[],3,FALSE)) -> Dakbedekking hellend dak | E19: O | F19: T-87,5 | G19: =IF(ISBLANK(TInspectieB[[#This Row],[Soort gebrek]]),"",VLOOKUP(TInspectieB[[#This Row],[Soort gebrek]],TSoortGebrek[#Data],3,FALSE)) -> Theoretisch | H19: =IF(ISBLANK(TInspectieB[[#This Row],[Soort gebrek]]),"",VLOOKUP(TInspectieB[[#This Row],[Soort gebrek]],TSoortGebrek[#Data],2,FALSE)) -> Verval ≥ 87,5% | I19: =IF(TInspectieB[[#This Row],[Soort gebrek]]=0,"",VLOOKUP(TInspectieB[[#This Row],[Soort gebrek]],TSoortGebrek[],4,FALSE)) -> Eind | J19: 0.8 | K19: =IF(TInspectieB[[#This Row],[Soort gebrek]]=0,"",VLOOKUP(TInspectieB[[#This Row],[Combi]],TPrio[#Data],2,FALSE)) -> 8 | L19: 1 | M19: =IF(ISBLANK(TInspectieB[[#This Row],[Gebrek nr.]]),"",TInspectieB[[#This Row],[UVID]]&"-"&TInspectieB[[#This Row],[Gebrek nr.]]) -> 471210-1-1 | O19: [objectcode.gebouwnummer] -471210-1 | P19: 106 | Q19: Voldoet niet aan DZH-lijn | R19: Erg verouderde dakafwerking | S19: N.v.t. | T19: Toename gebreken - onvoldoende primaire functie behouden - lekkages | U19: Planmatig vervangen op basis van leeftijd door houten kozijnen volgens hoogste eisen uit dzh-tabel: minimaal RC waarde 5 | V19: FUTP niet van toepassing | W19: Integraal vervangen – imiteren | X19: 99 | Y19: 420 | Z19: =IF(ISBLANK(TInspectieB[[#This Row],[Aantal]]),"",ROUND(TInspectieB[[#This Row],[Kengetal]]*TInspectieB[[#This Row],[Aantal]],-1)) -> 41580 | AA19: =IF(TInspectieB[[#This Row],[Vak-groep]]="","1",VLOOKUP(C19,$J$2:$K$7,2,FALSE)) -> 3 | AB19: =CONCATENATE(TInspectieB[[#This Row],[Soort gebrek]],TInspectieB[[#This Row],[Trede]]) -> T-87,53 | AC19: #N/A | AD19: #N/A | AE19: 0
A20: {=IFERROR(INDEX(TInventB[UVID],ROUNDDOWN((ROW(A12)+1)/2,0)),"")} -> 471210-1 | B20: =IF(TInspectieB[[#This Row],[UVID]]="","",VLOOKUP(TInspectieB[[#This Row],[UVID]],TInventB[],2,FALSE)) -> 471210 | C20: =IF(TInspectieB[[#This Row],[UVID]]="","",VLOOKUP(TInspectieB[[#This Row],[UVID]],TInventB[],11,FALSE)) -> B | D20: =IF(TInspectieB[[#This Row],[UVID]]="","",VLOOKUP(TInspectieB[[#This Row],[UVID]],TInventB[],3,FALSE)) -> Dakbedekking hellend dak | E20: O | F20: G-PO | G20: =IF(ISBLANK(TInspectieB[[#This Row],[Soort gebrek]]),"",VLOOKUP(TInspectieB[[#This Row],[Soort gebrek]],TSoortGebrek[#Data],3,FALSE)) -> Gering | H20: =IF(ISBLANK(TInspectieB[[#This Row],[Soort gebrek]]),"",VLOOKUP(TInspectieB[[#This Row],[Soort gebrek]],TSoortGebrek[#Data],2,FALSE)) -> onderhoud | I20: =IF(TInspectieB[[#This Row],[Soort gebrek]]=0,"",VLOOKUP(TInspectieB[[#This Row],[Soort gebrek]],TSoortGebrek[],4,FALSE)) -> Gevorderd | J20: 0.2 | K20: =IF(TInspectieB[[#This Row],[Soort gebrek]]=0,"",VLOOKUP(TInspectieB[[#This Row],[Combi]],TPrio[#Data],2,FALSE)) -> 4 | L20: 2 | M20: =IF(ISBLANK(TInspectieB[[#This Row],[Gebrek nr.]]),"",TInspectieB[[#This Row],[UVID]]&"-"&TInspectieB[[#This Row],[Gebrek nr.]]) -> 471210-1-2 | O20: [objectcode.gebouwnummer] -471210-1 | P20: 106 | Q20: Voldoet niet aan DZH-lijn | R20: Begroeïng rondom gebouw zorgt voor alg en mosgroei op het dak. | S20: N.v.t. | T20: Aantasten schutlaag dakpannen, verstoppingen door vervuiling, onvoldoende afschot voor regenwater | U20: Partieel reinigen mits integraal vervangen niet toegepast gaat worden. | V20: FUTP niet van toepassing | W20: Reinigen, doorspuiten, conserveren | X20: 15 | Y20: 200 | Z20: =IF(ISBLANK(TInspectieB[[#This Row],[Aantal]]),"",ROUND(TInspectieB[[#This Row],[Kengetal]]*TInspectieB[[#This Row],[Aantal]],-1)) -> 3000 | AA20: =IF(TInspectieB[[#This Row],[Vak-groep]]="","1",VLOOKUP(C20,$J$2:$K$7,2,FALSE)) -> 3 | AB20: =CONCATENATE(TInspectieB[[#This Row],[Soort gebrek]],TInspectieB[[#This Row],[Trede]]) -> G-PO3 | AC20: #N/A | AD20: #N/A | AE20: 0
A21: 471210-1 | B21: =IF(TInspectieB[[#This Row],[UVID]]="","",VLOOKUP(TInspectieB[[#This Row],[UVID]],TInventB[],2,FALSE)) -> 471210 | C21: =IF(TInspectieB[[#This Row],[UVID]]="","",VLOOKUP(TInspectieB[[#This Row],[UVID]],TInventB[],11,FALSE)) -> B | D21: =IF(TInspectieB[[#This Row],[UVID]]="","",VLOOKUP(TInspectieB[[#This Row],[UVID]],TInventB[],3,FALSE)) -> Dakbedekking hellend dak | E21: E | F21: GG | G21: =IF(ISBLANK(TInspectieB[[#This Row],[Soort gebrek]]),"",VLOOKUP(TInspectieB[[#This Row],[Soort gebrek]],TSoortGebrek[#Data],3,FALSE)) -> Geen | H21: =IF(ISBLANK(TInspectieB[[#This Row],[Soort gebrek]]),"",VLOOKUP(TInspectieB[[#This Row],[Soort gebrek]],TSoortGebrek[#Data],2,FALSE)) -> Geen gebrek | I21: =IF(TInspectieB[[#This Row],[Soort gebrek]]=0,"",VLOOKUP(TInspectieB[[#This Row],[Soort gebrek]],TSoortGebrek[],4,FALSE)) -> Eind | J21: 0.5 | K21: =IF(TInspectieB[[#This Row],[Soort gebrek]]=0,"",VLOOKUP(TInspectieB[[#This Row],[Combi]],TPrio[#Data],2,FALSE)) -> 0 | L21: 3 | M21: =IF(ISBLANK(TInspectieB[[#This Row],[Gebrek nr.]]),"",TInspectieB[[#This Row],[UVID]]&"-"&TInspectieB[[#This Row],[Gebrek nr.]]) -> 471210-1-3 | O21: [objectcode.gebouwnummer] -471210-1 | P21: 106 | Q21: Voldoet niet aan DZH-lijn | R21: Niet van toepassing | S21: GH1 | T21: EML niet van toepassing. Dakoppervlak is kleiner dan de benodigde 2000m2. | U21: Niet van toepassing | V21: FUTP niet van toepassing | W21: Niet van toepassing | Z21: =IF(ISBLANK(TInspectieB[[#This Row],[Aantal]]),"",ROUND(TInspectieB[[#This Row],[Kengetal]]*TInspectieB[[#This Row],[Aantal]],-1)) | AA21: =IF(TInspectieB[[#This Row],[Vak-groep]]="","1",VLOOKUP(C21,$J$2:$K$7,2,FALSE)) -> 3 | AB21: =CONCATENATE(TInspectieB[[#This Row],[Soort gebrek]],TInspectieB[[#This Row],[Trede]]) -> GG3 | AC21: #N/A | AD21: #N/A | AE21: 0
A22: {=IFERROR(INDEX(TInventB[UVID],ROUNDDOWN((ROW(#REF!)+1)/2,0)),"")} | B22: =IF(TInspectieB[[#This Row],[UVID]]="","",VLOOKUP(TInspectieB[[#This Row],[UVID]],TInventB[],2,FALSE)) | C22: =IF(TInspectieB[[#This Row],[UVID]]="","",VLOOKUP(TInspectieB[[#This Row],[UVID]],TInventB[],11,FALSE)) | D22: =IF(TInspectieB[[#This Row],[UVID]]="","",VLOOKUP(TInspectieB[[#This Row],[UVID]],TInventB[],3,FALSE)) | E22: =IF(TInspectieB[[#This Row],[Omschrijving bouwdeel]]="","",IF(MOD(ROW()-2,2)=0,"O",IF(TRIM(TInspectieB[[#This Row],[Code Bouwdeeltype]])="312010","O","E"))) | G22: =IF(ISBLANK(TInspectieB[[#This Row],[Soort gebrek]]),"",VLOOKUP(TInspectieB[[#This Row],[Soort gebrek]],TSoortGebrek[#Data],3,FALSE)) | H22: =IF(ISBLANK(TInspectieB[[#This Row],[Soort gebrek]]),"",VLOOKUP(TInspectieB[[#This Row],[Soort gebrek]],TSoortGebrek[#Data],2,FALSE)) | I22: =IF(TInspectieB[[#This Row],[Soort gebrek]]=0,"",VLOOKUP(TInspectieB[[#This Row],[Soort gebrek]],TSoortGebrek[],4,FALSE)) | K22: =IF(TInspectieB[[#This Row],[Soort gebrek]]=0,"",VLOOKUP(TInspectieB[[#This Row],[Combi]],TPrio[#Data],2,FALSE)) | M22: =IF(ISBLANK(TInspectieB[[#This Row],[Gebrek nr.]]),"",TInspectieB[[#This Row],[UVID]]&"-"&TInspectieB[[#This Row],[Gebrek nr.]]) | Z22: =IF(ISBLANK(TInspectieB[[#This Row],[Aantal]]),"",ROUND(TInspectieB[[#This Row],[Kengetal]]*TInspectieB[[#This Row],[Aantal]],-1)) | AA22: =IF(TInspectieB[[#This Row],[Vak-groep]]="","1",VLOOKUP(C22,$J$2:$K$7,2,FALSE)) -> 1 | AB22: =CONCATENATE(TInspectieB[[#This Row],[Soort gebrek]],TInspectieB[[#This Row],[Trede]]) -> 1 | AC22: #N/A | AD22: #N/A | AE22: 0
A23: {=IFERROR(INDEX(TInventB[UVID],ROUNDDOWN((ROW(A15)+1)/2,0)),"")} | B23: =IF(TInspectieB[[#This Row],[UVID]]="","",VLOOKUP(TInspectieB[[#This Row],[UVID]],TInventB[],2,FALSE)) | C23: =IF(TInspectieB[[#This Row],[UVID]]="","",VLOOKUP(TInspectieB[[#This Row],[UVID]],TInventB[],11,FALSE)) | D23: =IF(TInspectieB[[#This Row],[UVID]]="","",VLOOKUP(TInspectieB[[#This Row],[UVID]],TInventB[],3,FALSE)) | E23: =IF(TInspectieB[[#This Row],[Omschrijving bouwdeel]]="","",IF(MOD(ROW()-2,2)=0,"O",IF(TRIM(TInspectieB[[#This Row],[Code Bouwdeeltype]])="312010","O","E"))) | G23: =IF(ISBLANK(TInspectieB[[#This Row],[Soort gebrek]]),"",VLOOKUP(TInspectieB[[#This Row],[Soort gebrek]],TSoortGebrek[#Data],3,FALSE)) | H23: =IF(ISBLANK(TInspectieB[[#This Row],[Soort gebrek]]),"",VLOOKUP(TInspectieB[[#This Row],[Soort gebrek]],TSoortGebrek[#Data],2,FALSE)) | I23: =IF(TInspectieB[[#This Row],[Soort gebrek]]=0,"",VLOOKUP(TInspectieB[[#This Row],[Soort gebrek]],TSoortGebrek[],4,FALSE)) | K23: =IF(TInspectieB[[#This Row],[Soort gebrek]]=0,"",VLOOKUP(TInspectieB[[#This Row],[Combi]],TPrio[#Data],2,FALSE)) | M23: =IF(ISBLANK(TInspectieB[[#This Row],[Gebrek nr.]]),"",TInspectieB[[#This Row],[UVID]]&"-"&TInspectieB[[#This Row],[Gebrek nr.]]) | Z23: =IF(ISBLANK(TInspectieB[[#This Row],[Aantal]]),"",ROUND(TInspectieB[[#This Row],[Kengetal]]*TInspectieB[[#This Row],[Aantal]],-1)) | AA23: =IF(TInspectieB[[#This Row],[Vak-groep]]="","1",VLOOKUP(C23,$J$2:$K$7,2,FALSE)) -> 1 | AB23: =CONCATENATE(TInspectieB[[#This Row],[Soort gebrek]],TInspectieB[[#This Row],[Trede]]) -> 1 | AC23: #N/A | AD23: #N/A | AE23: 0
A24: {=IFERROR(INDEX(TInventB[UVID],ROUNDDOWN((ROW(A16)+1)/2,0)),"")} | B24: =IF(TInspectieB[[#This Row],[UVID]]="","",VLOOKUP(TInspectieB[[#This Row],[UVID]],TInventB[],2,FALSE)) | C24: =IF(TInspectieB[[#This Row],[UVID]]="","",VLOOKUP(TInspectieB[[#This Row],[UVID]],TInventB[],11,FALSE)) | D24: =IF(TInspectieB[[#This Row],[UVID]]="","",VLOOKUP(TInspectieB[[#This Row],[UVID]],TInventB[],3,FALSE)) | E24: =IF(TInspectieB[[#This Row],[Omschrijving bouwdeel]]="","",IF(MOD(ROW()-2,2)=0,"O",IF(TRIM(TInspectieB[[#This Row],[Code Bouwdeeltype]])="312010","O","E"))) | G24: =IF(ISBLANK(TInspectieB[[#This Row],[Soort gebrek]]),"",VLOOKUP(TInspectieB[[#This Row],[Soort gebrek]],TSoortGebrek[#Data],3,FALSE)) | H24: =IF(ISBLANK(TInspectieB[[#This Row],[Soort gebrek]]),"",VLOOKUP(TInspectieB[[#This Row],[Soort gebrek]],TSoortGebrek[#Data],2,FALSE)) | I24: =IF(TInspectieB[[#This Row],[Soort gebrek]]=0,"",VLOOKUP(TInspectieB[[#This Row],[Soort gebrek]],TSoortGebrek[],4,FALSE)) | K24: =IF(TInspectieB[[#This Row],[Soort gebrek]]=0,"",VLOOKUP(TInspectieB[[#This Row],[Combi]],TPrio[#Data],2,FALSE)) | M24: =IF(ISBLANK(TInspectieB[[#This Row],[Gebrek nr.]]),"",TInspectieB[[#This Row],[UVID]]&"-"&TInspectieB[[#This Row],[Gebrek nr.]]) | Z24: =IF(ISBLANK(TInspectieB[[#This Row],[Aantal]]),"",ROUND(TInspectieB[[#This Row],[Kengetal]]*TInspectieB[[#This Row],[Aantal]],-1)) | AA24: =IF(TInspectieB[[#This Row],[Vak-groep]]="","1",VLOOKUP(C24,$J$2:$K$7,2,FALSE)) -> 1 | AB24: =CONCATENATE(TInspectieB[[#This Row],[Soort gebrek]],TInspectieB[[#This Row],[Trede]]) -> 1 | AC24: #N/A | AD24: #N/A | AE24: 0
A25: {=IFERROR(INDEX(TInventB[UVID],ROUNDDOWN((ROW(A17)+1)/2,0)),"")} | B25: =IF(TInspectieB[[#This Row],[UVID]]="","",VLOOKUP(TInspectieB[[#This Row],[UVID]],TInventB[],2,FALSE)) | C25: =IF(TInspectieB[[#This Row],[UVID]]="","",VLOOKUP(TInspectieB[[#This Row],[UVID]],TInventB[],11,FALSE)) | D25: =IF(TInspectieB[[#This Row],[UVID]]="","",VLOOKUP(TInspectieB[[#This Row],[UVID]],TInventB[],3,FALSE)) | E25: =IF(TInspectieB[[#This Row],[Omschrijving bouwdeel]]="","",IF(MOD(ROW()-2,2)=0,"O",IF(TRIM(TInspectieB[[#This Row],[Code Bouwdeeltype]])="312010","O","E"))) | G25: =IF(ISBLANK(TInspectieB[[#This Row],[Soort gebrek]]),"",VLOOKUP(TInspectieB[[#This Row],[Soort gebrek]],TSoortGebrek[#Data],3,FALSE)) | H25: =IF(ISBLANK(TInspectieB[[#This Row],[Soort gebrek]]),"",VLOOKUP(TInspectieB[[#This Row],[Soort gebrek]],TSoortGebrek[#Data],2,FALSE)) | I25: =IF(TInspectieB[[#This Row],[Soort gebrek]]=0,"",VLOOKUP(TInspectieB[[#This Row],[Soort gebrek]],TSoortGebrek[],4,FALSE)) | K25: =IF(TInspectieB[[#This Row],[Soort gebrek]]=0,"",VLOOKUP(TInspectieB[[#This Row],[Combi]],TPrio[#Data],2,FALSE)) | M25: =IF(ISBLANK(TInspectieB[[#This Row],[Gebrek nr.]]),"",TInspectieB[[#This Row],[UVID]]&"-"&TInspectieB[[#This Row],[Gebrek nr.]]) | Z25: =IF(ISBLANK(TInspectieB[[#This Row],[Aantal]]),"",ROUND(TInspectieB[[#This Row],[Kengetal]]*TInspectieB[[#This Row],[Aantal]],-1)) | AA25: =IF(TInspectieB[[#This Row],[Vak-groep]]="","1",VLOOKUP(C25,$J$2:$K$7,2,FALSE)) -> 1 | AB25: =CONCATENATE(TInspectieB[[#This Row],[Soort gebrek]],TInspectieB[[#This Row],[Trede]]) -> 1 | AC25: #N/A | AD25: #N/A | AE25: 0
A26: {=IFERROR(INDEX(TInventB[UVID],ROUNDDOWN((ROW(A18)+1)/2,0)),"")} | B26: =IF(TInspectieB[[#This Row],[UVID]]="","",VLOOKUP(TInspectieB[[#This Row],[UVID]],TInventB[],2,FALSE)) | C26: =IF(TInspectieB[[#This Row],[UVID]]="","",VLOOKUP(TInspectieB[[#This Row],[UVID]],TInventB[],11,FALSE)) | D26: =IF(TInspectieB[[#This Row],[UVID]]="","",VLOOKUP(TInspectieB[[#This Row],[UVID]],TInventB[],3,FALSE)) | E26: =IF(TInspectieB[[#This Row],[Omschrijving bouwdeel]]="","",IF(MOD(ROW()-2,2)=0,"O",IF(TRIM(TInspectieB[[#This Row],[Code Bouwdeeltype]])="312010","O","E"))) | G26: =IF(ISBLANK(TInspectieB[[#This Row],[Soort gebrek]]),"",VLOOKUP(TInspectieB[[#This Row],[Soort gebrek]],TSoortGebrek[#Data],3,FALSE)) | H26: =IF(ISBLANK(TInspectieB[[#This Row],[Soort gebrek]]),"",VLOOKUP(TInspectieB[[#This Row],[Soort gebrek]],TSoortGebrek[#Data],2,FALSE)) | I26: =IF(TInspectieB[[#This Row],[Soort gebrek]]=0,"",VLOOKUP(TInspectieB[[#This Row],[Soort gebrek]],TSoortGebrek[],4,FALSE)) | K26: =IF(TInspectieB[[#This Row],[Soort gebrek]]=0,"",VLOOKUP(TInspectieB[[#This Row],[Combi]],TPrio[#Data],2,FALSE)) | M26: =IF(ISBLANK(TInspectieB[[#This Row],[Gebrek nr.]]),"",TInspectieB[[#This Row],[UVID]]&"-"&TInspectieB[[#This Row],[Gebrek nr.]]) | Z26: =IF(ISBLANK(TInspectieB[[#This Row],[Aantal]]),"",ROUND(TInspectieB[[#This Row],[Kengetal]]*TInspectieB[[#This Row],[Aantal]],-1)) | AA26: =IF(TInspectieB[[#This Row],[Vak-groep]]="","1",VLOOKUP(C26,$J$2:$K$7,2,FALSE)) -> 1 | AB26: =CONCATENATE(TInspectieB[[#This Row],[Soort gebrek]],TInspectieB[[#This Row],[Trede]]) -> 1 | AC26: #N/A | AD26: #N/A | AE26: 0
A27: {=IFERROR(INDEX(TInventB[UVID],ROUNDDOWN((ROW(A19)+1)/2,0)),"")} | B27: =IF(TInspectieB[[#This Row],[UVID]]="","",VLOOKUP(TInspectieB[[#This Row],[UVID]],TInventB[],2,FALSE)) | C27: =IF(TInspectieB[[#This Row],[UVID]]="","",VLOOKUP(TInspectieB[[#This Row],[UVID]],TInventB[],11,FALSE)) | D27: =IF(TInspectieB[[#This Row],[UVID]]="","",VLOOKUP(TInspectieB[[#This Row],[UVID]],TInventB[],3,FALSE)) | E27: =IF(TInspectieB[[#This Row],[Omschrijving bouwdeel]]="","",IF(MOD(ROW()-2,2)=0,"O",IF(TRIM(TInspectieB[[#This Row],[Code Bouwdeeltype]])="312010","O","E"))) | G27: =IF(ISBLANK(TInspectieB[[#This Row],[Soort gebrek]]),"",VLOOKUP(TInspectieB[[#This Row],[Soort gebrek]],TSoortGebrek[#Data],3,FALSE)) | H27: =IF(ISBLANK(TInspectieB[[#This Row],[Soort gebrek]]),"",VLOOKUP(TInspectieB[[#This Row],[Soort gebrek]],TSoortGebrek[#Data],2,FALSE)) | I27: =IF(TInspectieB[[#This Row],[Soort gebrek]]=0,"",VLOOKUP(TInspectieB[[#This Row],[Soort gebrek]],TSoortGebrek[],4,FALSE)) | K27: =IF(TInspectieB[[#This Row],[Soort gebrek]]=0,"",VLOOKUP(TInspectieB[[#This Row],[Combi]],TPrio[#Data],2,FALSE)) | M27: =IF(ISBLANK(TInspectieB[[#This Row],[Gebrek nr.]]),"",TInspectieB[[#This Row],[UVID]]&"-"&TInspectieB[[#This Row],[Gebrek nr.]]) | Z27: =IF(ISBLANK(TInspectieB[[#This Row],[Aantal]]),"",ROUND(TInspectieB[[#This Row],[Kengetal]]*TInspectieB[[#This Row],[Aantal]],-1)) | AA27: =IF(TInspectieB[[#This Row],[Vak-groep]]="","1",VLOOKUP(C27,$J$2:$K$7,2,FALSE)) -> 1 | AB27: =CONCATENATE(TInspectieB[[#This Row],[Soort gebrek]],TInspectieB[[#This Row],[Trede]]) -> 1 | AC27: #N/A | AD27: #N/A | AE27: 0
A28: {=IFERROR(INDEX(TInventB[UVID],ROUNDDOWN((ROW(A20)+1)/2,0)),"")} | B28: =IF(TInspectieB[[#This Row],[UVID]]="","",VLOOKUP(TInspectieB[[#This Row],[UVID]],TInventB[],2,FALSE)) | C28: =IF(TInspectieB[[#This Row],[UVID]]="","",VLOOKUP(TInspectieB[[#This Row],[UVID]],TInventB[],11,FALSE)) | D28: =IF(TInspectieB[[#This Row],[UVID]]="","",VLOOKUP(TInspectieB[[#This Row],[UVID]],TInventB[],3,FALSE)) | E28: =IF(TInspectieB[[#This Row],[Omschrijving bouwdeel]]="","",IF(MOD(ROW()-2,2)=0,"O",IF(TRIM(TInspectieB[[#This Row],[Code Bouwdeeltype]])="312010","O","E"))) | G28: =IF(ISBLANK(TInspectieB[[#This Row],[Soort gebrek]]),"",VLOOKUP(TInspectieB[[#This Row],[Soort gebrek]],TSoortGebrek[#Data],3,FALSE)) | H28: =IF(ISBLANK(TInspectieB[[#This Row],[Soort gebrek]]),"",VLOOKUP(TInspectieB[[#This Row],[Soort gebrek]],TSoortGebrek[#Data],2,FALSE)) | I28: =IF(TInspectieB[[#This Row],[Soort gebrek]]=0,"",VLOOKUP(TInspectieB[[#This Row],[Soort gebrek]],TSoortGebrek[],4,FALSE)) | K28: =IF(TInspectieB[[#This Row],[Soort gebrek]]=0,"",VLOOKUP(TInspectieB[[#This Row],[Combi]],TPrio[#Data],2,FALSE)) | M28: =IF(ISBLANK(TInspectieB[[#This Row],[Gebrek nr.]]),"",TInspectieB[[#This Row],[UVID]]&"-"&TInspectieB[[#This Row],[Gebrek nr.]]) | Z28: =IF(ISBLANK(TInspectieB[[#This Row],[Aantal]]),"",ROUND(TInspectieB[[#This Row],[Kengetal]]*TInspectieB[[#This Row],[Aantal]],-1)) | AA28: =IF(TInspectieB[[#This Row],[Vak-groep]]="","1",VLOOKUP(C28,$J$2:$K$7,2,FALSE)) -> 1 | AB28: =CONCATENATE(TInspectieB[[#This Row],[Soort gebrek]],TInspectieB[[#This Row],[Trede]]) -> 1 | AC28: #N/A | AD28: #N/A | AE28: 0
A29: {=IFERROR(INDEX(TInventB[UVID],ROUNDDOWN((ROW(A21)+1)/2,0)),"")} | B29: =IF(TInspectieB[[#This Row],[UVID]]="","",VLOOKUP(TInspectieB[[#This Row],[UVID]],TInventB[],2,FALSE)) | C29: =IF(TInspectieB[[#This Row],[UVID]]="","",VLOOKUP(TInspectieB[[#This Row],[UVID]],TInventB[],11,FALSE)) | D29: =IF(TInspectieB[[#This Row],[UVID]]="","",VLOOKUP(TInspectieB[[#This Row],[UVID]],TInventB[],3,FALSE)) | E29: =IF(TInspectieB[[#This Row],[Omschrijving bouwdeel]]="","",IF(MOD(ROW()-2,2)=0,"O",IF(TRIM(TInspectieB[[#This Row],[Code Bouwdeeltype]])="312010","O","E"))) | G29: =IF(ISBLANK(TInspectieB[[#This Row],[Soort gebrek]]),"",VLOOKUP(TInspectieB[[#This Row],[Soort gebrek]],TSoortGebrek[#Data],3,FALSE)) | H29: =IF(ISBLANK(TInspectieB[[#This Row],[Soort gebrek]]),"",VLOOKUP(TInspectieB[[#This Row],[Soort gebrek]],TSoortGebrek[#Data],2,FALSE)) | I29: =IF(TInspectieB[[#This Row],[Soort gebrek]]=0,"",VLOOKUP(TInspectieB[[#This Row],[Soort gebrek]],TSoortGebrek[],4,FALSE)) | K29: =IF(TInspectieB[[#This Row],[Soort gebrek]]=0,"",VLOOKUP(TInspectieB[[#This Row],[Combi]],TPrio[#Data],2,FALSE)) | M29: =IF(ISBLANK(TInspectieB[[#This Row],[Gebrek nr.]]),"",TInspectieB[[#This Row],[UVID]]&"-"&TInspectieB[[#This Row],[Gebrek nr.]]) | Z29: =IF(ISBLANK(TInspectieB[[#This Row],[Aantal]]),"",ROUND(TInspectieB[[#This Row],[Kengetal]]*TInspectieB[[#This Row],[Aantal]],-1)) | AA29: =IF(TInspectieB[[#This Row],[Vak-groep]]="","1",VLOOKUP(C29,$J$2:$K$7,2,FALSE)) -> 1 | AB29: =CONCATENATE(TInspectieB[[#This Row],[Soort gebrek]],TInspectieB[[#This Row],[Trede]]) -> 1 | AC29: #N/A | AD29: #N/A | AE29: 0
A30: {=IFERROR(INDEX(TInventB[UVID],ROUNDDOWN((ROW(#REF!)+1)/2,0)),"")} | B30: =IF(TInspectieB[[#This Row],[UVID]]="","",VLOOKUP(TInspectieB[[#This Row],[UVID]],TInventB[],2,FALSE)) | C30: =IF(TInspectieB[[#This Row],[UVID]]="","",VLOOKUP(TInspectieB[[#This Row],[UVID]],TInventB[],11,FALSE)) | D30: =IF(TInspectieB[[#This Row],[UVID]]="","",VLOOKUP(TInspectieB[[#This Row],[UVID]],TInventB[],3,FALSE)) | E30: =IF(TInspectieB[[#This Row],[Omschrijving bouwdeel]]="","",IF(MOD(ROW()-2,2)=0,"O",IF(TRIM(TInspectieB[[#This Row],[Code Bouwdeeltype]])="312010","O","E"))) | G30: =IF(ISBLANK(TInspectieB[[#This Row],[Soort gebrek]]),"",VLOOKUP(TInspectieB[[#This Row],[Soort gebrek]],TSoortGebrek[#Data],3,FALSE)) | H30: =IF(ISBLANK(TInspectieB[[#This Row],[Soort gebrek]]),"",VLOOKUP(TInspectieB[[#This Row],[Soort gebrek]],TSoortGebrek[#Data],2,FALSE)) | I30: =IF(TInspectieB[[#This Row],[Soort gebrek]]=0,"",VLOOKUP(TInspectieB[[#This Row],[Soort gebrek]],TSoortGebrek[],4,FALSE)) | K30: =IF(TInspectieB[[#This Row],[Soort gebrek]]=0,"",VLOOKUP(TInspectieB[[#This Row],[Combi]],TPrio[#Data],2,FALSE)) | M30: =IF(ISBLANK(TInspectieB[[#This Row],[Gebrek nr.]]),"",TInspectieB[[#This Row],[UVID]]&"-"&TInspectieB[[#This Row],[Gebrek nr.]]) | Z30: =IF(ISBLANK(TInspectieB[[#This Row],[Aantal]]),"",ROUND(TInspectieB[[#This Row],[Kengetal]]*TInspectieB[[#This Row],[Aantal]],-1)) | AA30: =IF(TInspectieB[[#This Row],[Vak-groep]]="","1",VLOOKUP(C30,$J$2:$K$7,2,FALSE)) -> 1 | AB30: =CONCATENATE(TInspectieB[[#This Row],[Soort gebrek]],TInspectieB[[#This Row],[Trede]]) -> 1 | AC30: #N/A | AD30: #N/A | AE30: 0
A31: {=IFERROR(INDEX(TInventB[UVID],ROUNDDOWN((ROW(A22)+1)/2,0)),"")} | B31: =IF(TInspectieB[[#This Row],[UVID]]="","",VLOOKUP(TInspectieB[[#This Row],[UVID]],TInventB[],2,FALSE)) | C31: =IF(TInspectieB[[#This Row],[UVID]]="","",VLOOKUP(TInspectieB[[#This Row],[UVID]],TInventB[],11,FALSE)) | D31: =IF(TInspectieB[[#This Row],[UVID]]="","",VLOOKUP(TInspectieB[[#This Row],[UVID]],TInventB[],3,FALSE)) | E31: =IF(TInspectieB[[#This Row],[Omschrijving bouwdeel]]="","",IF(MOD(ROW()-2,2)=0,"O",IF(TRIM(TInspectieB[[#This Row],[Code Bouwdeeltype]])="312010","O","E"))) | G31: =IF(ISBLANK(TInspectieB[[#This Row],[Soort gebrek]]),"",VLOOKUP(TInspectieB[[#This Row],[Soort gebrek]],TSoortGebrek[#Data],3,FALSE)) | H31: =IF(ISBLANK(TInspectieB[[#This Row],[Soort gebrek]]),"",VLOOKUP(TInspectieB[[#This Row],[Soort gebrek]],TSoortGebrek[#Data],2,FALSE)) | I31: =IF(TInspectieB[[#This Row],[Soort gebrek]]=0,"",VLOOKUP(TInspectieB[[#This Row],[Soort gebrek]],TSoortGebrek[],4,FALSE)) | K31: =IF(TInspectieB[[#This Row],[Soort gebrek]]=0,"",VLOOKUP(TInspectieB[[#This Row],[Combi]],TPrio[#Data],2,FALSE)) | M31: =IF(ISBLANK(TInspectieB[[#This Row],[Gebrek nr.]]),"",TInspectieB[[#This Row],[UVID]]&"-"&TInspectieB[[#This Row],[Gebrek nr.]]) | Z31: =IF(ISBLANK(TInspectieB[[#This Row],[Aantal]]),"",ROUND(TInspectieB[[#This Row],[Kengetal]]*TInspectieB[[#This Row],[Aantal]],-1)) | AA31: =IF(TInspectieB[[#This Row],[Vak-groep]]="","1",VLOOKUP(C31,$J$2:$K$7,2,FALSE)) -> 1 | AB31: =CONCATENATE(TInspectieB[[#This Row],[Soort gebrek]],TInspectieB[[#This Row],[Trede]]) -> 1 | AC31: #N/A | AD31: #N/A | AE31: 0
A32: {=IFERROR(INDEX(TInventB[UVID],ROUNDDOWN((ROW(A23)+1)/2,0)),"")} | B32: =IF(TInspectieB[[#This Row],[UVID]]="","",VLOOKUP(TInspectieB[[#This Row],[UVID]],TInventB[],2,FALSE)) | C32: =IF(TInspectieB[[#This Row],[UVID]]="","",VLOOKUP(TInspectieB[[#This Row],[UVID]],TInventB[],11,FALSE)) | D32: =IF(TInspectieB[[#This Row],[UVID]]="","",VLOOKUP(TInspectieB[[#This Row],[UVID]],TInventB[],3,FALSE)) | E32: =IF(TInspectieB[[#This Row],[Omschrijving bouwdeel]]="","",IF(MOD(ROW()-2,2)=0,"O",IF(TRIM(TInspectieB[[#This Row],[Code Bouwdeeltype]])="312010","O","E"))) | G32: =IF(ISBLANK(TInspectieB[[#This Row],[Soort gebrek]]),"",VLOOKUP(TInspectieB[[#This Row],[Soort gebrek]],TSoortGebrek[#Data],3,FALSE)) | H32: =IF(ISBLANK(TInspectieB[[#This Row],[Soort gebrek]]),"",VLOOKUP(TInspectieB[[#This Row],[Soort gebrek]],TSoortGebrek[#Data],2,FALSE)) | I32: =IF(TInspectieB[[#This Row],[Soort gebrek]]=0,"",VLOOKUP(TInspectieB[[#This Row],[Soort gebrek]],TSoortGebrek[],4,FALSE)) | K32: =IF(TInspectieB[[#This Row],[Soort gebrek]]=0,"",VLOOKUP(TInspectieB[[#This Row],[Combi]],TPrio[#Data],2,FALSE)) | M32: =IF(ISBLANK(TInspectieB[[#This Row],[Gebrek nr.]]),"",TInspectieB[[#This Row],[UVID]]&"-"&TInspectieB[[#This Row],[Gebrek nr.]]) | Z32: =IF(ISBLANK(TInspectieB[[#This Row],[Aantal]]),"",ROUND(TInspectieB[[#This Row],[Kengetal]]*TInspectieB[[#This Row],[Aantal]],-1)) | AA32: =IF(TInspectieB[[#This Row],[Vak-groep]]="","1",VLOOKUP(C32,$J$2:$K$7,2,FALSE)) -> 1 | AB32: =CONCATENATE(TInspectieB[[#This Row],[Soort gebrek]],TInspectieB[[#This Row],[Trede]]) -> 1 | AC32: #N/A | AD32: #N/A | AE32: 0
A33: {=IFERROR(INDEX(TInventB[UVID],ROUNDDOWN((ROW(A24)+1)/2,0)),"")} | B33: =IF(TInspectieB[[#This Row],[UVID]]="","",VLOOKUP(TInspectieB[[#This Row],[UVID]],TInventB[],2,FALSE)) | C33: =IF(TInspectieB[[#This Row],[UVID]]="","",VLOOKUP(TInspectieB[[#This Row],[UVID]],TInventB[],11,FALSE)) | D33: =IF(TInspectieB[[#This Row],[UVID]]="","",VLOOKUP(TInspectieB[[#This Row],[UVID]],TInventB[],3,FALSE)) | E33: =IF(TInspectieB[[#This Row],[Omschrijving bouwdeel]]="","",IF(MOD(ROW()-2,2)=0,"O",IF(TRIM(TInspectieB[[#This Row],[Code Bouwdeeltype]])="312010","O","E"))) | G33: =IF(ISBLANK(TInspectieB[[#This Row],[Soort gebrek]]),"",VLOOKUP(TInspectieB[[#This Row],[Soort gebrek]],TSoortGebrek[#Data],3,FALSE)) | H33: =IF(ISBLANK(TInspectieB[[#This Row],[Soort gebrek]]),"",VLOOKUP(TInspectieB[[#This Row],[Soort gebrek]],TSoortGebrek[#Data],2,FALSE)) | I33: =IF(TInspectieB[[#This Row],[Soort gebrek]]=0,"",VLOOKUP(TInspectieB[[#This Row],[Soort gebrek]],TSoortGebrek[],4,FALSE)) | K33: =IF(TInspectieB[[#This Row],[Soort gebrek]]=0,"",VLOOKUP(TInspectieB[[#This Row],[Combi]],TPrio[#Data],2,FALSE)) | M33: =IF(ISBLANK(TInspectieB[[#This Row],[Gebrek nr.]]),"",TInspectieB[[#This Row],[UVID]]&"-"&TInspectieB[[#This Row],[Gebrek nr.]]) | Z33: =IF(ISBLANK(TInspectieB[[#This Row],[Aantal]]),"",ROUND(TInspectieB[[#This Row],[Kengetal]]*TInspectieB[[#This Row],[Aantal]],-1)) | AA33: =IF(TInspectieB[[#This Row],[Vak-groep]]="","1",VLOOKUP(C33,$J$2:$K$7,2,FALSE)) -> 1 | AB33: =CONCATENATE(TInspectieB[[#This Row],[Soort gebrek]],TInspectieB[[#This Row],[Trede]]) -> 1 | AC33: #N/A | AD33: #N/A | AE33: 0
A34: {=IFERROR(INDEX(TInventB[UVID],ROUNDDOWN((ROW(A25)+1)/2,0)),"")} | B34: =IF(TInspectieB[[#This Row],[UVID]]="","",VLOOKUP(TInspectieB[[#This Row],[UVID]],TInventB[],2,FALSE)) | C34: =IF(TInspectieB[[#This Row],[UVID]]="","",VLOOKUP(TInspectieB[[#This Row],[UVID]],TInventB[],11,FALSE)) | D34: =IF(TInspectieB[[#This Row],[UVID]]="","",VLOOKUP(TInspectieB[[#This Row],[UVID]],TInventB[],3,FALSE)) | E34: =IF(TInspectieB[[#This Row],[Omschrijving bouwdeel]]="","",IF(MOD(ROW()-2,2)=0,"O",IF(TRIM(TInspectieB[[#This Row],[Code Bouwdeeltype]])="312010","O","E"))) | G34: =IF(ISBLANK(TInspectieB[[#This Row],[Soort gebrek]]),"",VLOOKUP(TInspectieB[[#This Row],[Soort gebrek]],TSoortGebrek[#Data],3,FALSE)) | H34: =IF(ISBLANK(TInspectieB[[#This Row],[Soort gebrek]]),"",VLOOKUP(TInspectieB[[#This Row],[Soort gebrek]],TSoortGebrek[#Data],2,FALSE)) | I34: =IF(TInspectieB[[#This Row],[Soort gebrek]]=0,"",VLOOKUP(TInspectieB[[#This Row],[Soort gebrek]],TSoortGebrek[],4,FALSE)) | K34: =IF(TInspectieB[[#This Row],[Soort gebrek]]=0,"",VLOOKUP(TInspectieB[[#This Row],[Combi]],TPrio[#Data],2,FALSE)) | M34: =IF(ISBLANK(TInspectieB[[#This Row],[Gebrek nr.]]),"",TInspectieB[[#This Row],[UVID]]&"-"&TInspectieB[[#This Row],[Gebrek nr.]]) | Z34: =IF(ISBLANK(TInspectieB[[#This Row],[Aantal]]),"",ROUND(TInspectieB[[#This Row],[Kengetal]]*TInspectieB[[#This Row],[Aantal]],-1)) | AA34: =IF(TInspectieB[[#This Row],[Vak-groep]]="","1",VLOOKUP(C34,$J$2:$K$7,2,FALSE)) -> 1 | AB34: =CONCATENATE(TInspectieB[[#This Row],[Soort gebrek]],TInspectieB[[#This Row],[Trede]]) -> 1 | AC34: #N/A | AD34: #N/A | AE34: 0
A35: {=IFERROR(INDEX(TInventB[UVID],ROUNDDOWN((ROW(A26)+1)/2,0)),"")} | B35: =IF(TInspectieB[[#This Row],[UVID]]="","",VLOOKUP(TInspectieB[[#This Row],[UVID]],TInventB[],2,FALSE)) | C35: =IF(TInspectieB[[#This Row],[UVID]]="","",VLOOKUP(TInspectieB[[#This Row],[UVID]],TInventB[],11,FALSE)) | D35: =IF(TInspectieB[[#This Row],[UVID]]="","",VLOOKUP(TInspectieB[[#This Row],[UVID]],TInventB[],3,FALSE)) | E35: =IF(TInspectieB[[#This Row],[Omschrijving bouwdeel]]="","",IF(MOD(ROW()-2,2)=0,"O",IF(TRIM(TInspectieB[[#This Row],[Code Bouwdeeltype]])="312010","O","E"))) | G35: =IF(ISBLANK(TInspectieB[[#This Row],[Soort gebrek]]),"",VLOOKUP(TInspectieB[[#This Row],[Soort gebrek]],TSoortGebrek[#Data],3,FALSE)) | H35: =IF(ISBLANK(TInspectieB[[#This Row],[Soort gebrek]]),"",VLOOKUP(TInspectieB[[#This Row],[Soort gebrek]],TSoortGebrek[#Data],2,FALSE)) | I35: =IF(TInspectieB[[#This Row],[Soort gebrek]]=0,"",VLOOKUP(TInspectieB[[#This Row],[Soort gebrek]],TSoortGebrek[],4,FALSE)) | K35: =IF(TInspectieB[[#This Row],[Soort gebrek]]=0,"",VLOOKUP(TInspectieB[[#This Row],[Combi]],TPrio[#Data],2,FALSE)) | M35: =IF(ISBLANK(TInspectieB[[#This Row],[Gebrek nr.]]),"",TInspectieB[[#This Row],[UVID]]&"-"&TInspectieB[[#This Row],[Gebrek nr.]]) | Z35: =IF(ISBLANK(TInspectieB[[#This Row],[Aantal]]),"",ROUND(TInspectieB[[#This Row],[Kengetal]]*TInspectieB[[#This Row],[Aantal]],-1)) | AA35: =IF(TInspectieB[[#This Row],[Vak-groep]]="","1",VLOOKUP(C35,$J$2:$K$7,2,FALSE)) -> 1 | AB35: =CONCATENATE(TInspectieB[[#This Row],[Soort gebrek]],TInspectieB[[#This Row],[Trede]]) -> 1 | AC35: #N/A | AD35: #N/A | AE35: 0
A36: {=IFERROR(INDEX(TInventB[UVID],ROUNDDOWN((ROW(A27)+1)/2,0)),"")} | B36: =IF(TInspectieB[[#This Row],[UVID]]="","",VLOOKUP(TInspectieB[[#This Row],[UVID]],TInventB[],2,FALSE)) | C36: =IF(TInspectieB[[#This Row],[UVID]]="","",VLOOKUP(TInspectieB[[#This Row],[UVID]],TInventB[],11,FALSE)) | D36: =IF(TInspectieB[[#This Row],[UVID]]="","",VLOOKUP(TInspectieB[[#This Row],[UVID]],TInventB[],3,FALSE)) | E36: =IF(TInspectieB[[#This Row],[Omschrijving bouwdeel]]="","",IF(MOD(ROW()-2,2)=0,"O",IF(TRIM(TInspectieB[[#This Row],[Code Bouwdeeltype]])="312010","O","E"))) | G36: =IF(ISBLANK(TInspectieB[[#This Row],[Soort gebrek]]),"",VLOOKUP(TInspectieB[[#This Row],[Soort gebrek]],TSoortGebrek[#Data],3,FALSE)) | H36: =IF(ISBLANK(TInspectieB[[#This Row],[Soort gebrek]]),"",VLOOKUP(TInspectieB[[#This Row],[Soort gebrek]],TSoortGebrek[#Data],2,FALSE)) | I36: =IF(TInspectieB[[#This Row],[Soort gebrek]]=0,"",VLOOKUP(TInspectieB[[#This Row],[Soort gebrek]],TSoortGebrek[],4,FALSE)) | K36: =IF(TInspectieB[[#This Row],[Soort gebrek]]=0,"",VLOOKUP(TInspectieB[[#This Row],[Combi]],TPrio[#Data],2,FALSE)) | M36: =IF(ISBLANK(TInspectieB[[#This Row],[Gebrek nr.]]),"",TInspectieB[[#This Row],[UVID]]&"-"&TInspectieB[[#This Row],[Gebrek nr.]]) | Z36: =IF(ISBLANK(TInspectieB[[#This Row],[Aantal]]),"",ROUND(TInspectieB[[#This Row],[Kengetal]]*TInspectieB[[#This Row],[Aantal]],-1)) | AA36: =IF(TInspectieB[[#This Row],[Vak-groep]]="","1",VLOOKUP(C36,$J$2:$K$7,2,FALSE)) -> 1 | AB36: =CONCATENATE(TInspectieB[[#This Row],[Soort gebrek]],TInspectieB[[#This Row],[Trede]]) -> 1 | AC36: #N/A | AD36: #N/A | AE36: 0
A37: {=IFERROR(INDEX(TInventB[UVID],ROUNDDOWN((ROW(A28)+1)/2,0)),"")} | B37: =IF(TInspectieB[[#This Row],[UVID]]="","",VLOOKUP(TInspectieB[[#This Row],[UVID]],TInventB[],2,FALSE)) | C37: =IF(TInspectieB[[#This Row],[UVID]]="","",VLOOKUP(TInspectieB[[#This Row],[UVID]],TInventB[],11,FALSE)) | D37: =IF(TInspectieB[[#This Row],[UVID]]="","",VLOOKUP(TInspectieB[[#This Row],[UVID]],TInventB[],3,FALSE)) | E37: =IF(TInspectieB[[#This Row],[Omschrijving bouwdeel]]="","",IF(MOD(ROW()-2,2)=0,"O",IF(TRIM(TInspectieB[[#This Row],[Code Bouwdeeltype]])="312010","O","E"))) | G37: =IF(ISBLANK(TInspectieB[[#This Row],[Soort gebrek]]),"",VLOOKUP(TInspectieB[[#This Row],[Soort gebrek]],TSoortGebrek[#Data],3,FALSE)) | H37: =IF(ISBLANK(TInspectieB[[#This Row],[Soort gebrek]]),"",VLOOKUP(TInspectieB[[#This Row],[Soort gebrek]],TSoortGebrek[#Data],2,FALSE)) | I37: =IF(TInspectieB[[#This Row],[Soort gebrek]]=0,"",VLOOKUP(TInspectieB[[#This Row],[Soort gebrek]],TSoortGebrek[],4,FALSE)) | K37: =IF(TInspectieB[[#This Row],[Soort gebrek]]=0,"",VLOOKUP(TInspectieB[[#This Row],[Combi]],TPrio[#Data],2,FALSE)) | M37: =IF(ISBLANK(TInspectieB[[#This Row],[Gebrek nr.]]),"",TInspectieB[[#This Row],[UVID]]&"-"&TInspectieB[[#This Row],[Gebrek nr.]]) | Z37: =IF(ISBLANK(TInspectieB[[#This Row],[Aantal]]),"",ROUND(TInspectieB[[#This Row],[Kengetal]]*TInspectieB[[#This Row],[Aantal]],-1)) | AA37: =IF(TInspectieB[[#This Row],[Vak-groep]]="","1",VLOOKUP(C37,$J$2:$K$7,2,FALSE)) -> 1 | AB37: =CONCATENATE(TInspectieB[[#This Row],[Soort gebrek]],TInspectieB[[#This Row],[Trede]]) -> 1 | AC37: #N/A | AD37: #N/A | AE37: 0
A38: {=IFERROR(INDEX(TInventB[UVID],ROUNDDOWN((ROW(A29)+1)/2,0)),"")} | B38: =IF(TInspectieB[[#This Row],[UVID]]="","",VLOOKUP(TInspectieB[[#This Row],[UVID]],TInventB[],2,FALSE)) | C38: =IF(TInspectieB[[#This Row],[UVID]]="","",VLOOKUP(TInspectieB[[#This Row],[UVID]],TInventB[],11,FALSE)) | D38: =IF(TInspectieB[[#This Row],[UVID]]="","",VLOOKUP(TInspectieB[[#This Row],[UVID]],TInventB[],3,FALSE)) | E38: =IF(TInspectieB[[#This Row],[Omschrijving bouwdeel]]="","",IF(MOD(ROW()-2,2)=0,"O",IF(TRIM(TInspectieB[[#This Row],[Code Bouwdeeltype]])="312010","O","E"))) | G38: =IF(ISBLANK(TInspectieB[[#This Row],[Soort gebrek]]),"",VLOOKUP(TInspectieB[[#This Row],[Soort gebrek]],TSoortGebrek[#Data],3,FALSE)) | H38: =IF(ISBLANK(TInspectieB[[#This Row],[Soort gebrek]]),"",VLOOKUP(TInspectieB[[#This Row],[Soort gebrek]],TSoortGebrek[#Data],2,FALSE)) | I38: =IF(TInspectieB[[#This Row],[Soort gebrek]]=0,"",VLOOKUP(TInspectieB[[#This Row],[Soort gebrek]],TSoortGebrek[],4,FALSE)) | K38: =IF(TInspectieB[[#This Row],[Soort gebrek]]=0,"",VLOOKUP(TInspectieB[[#This Row],[Combi]],TPrio[#Data],2,FALSE)) | M38: =IF(ISBLANK(TInspectieB[[#This Row],[Gebrek nr.]]),"",TInspectieB[[#This Row],[UVID]]&"-"&TInspectieB[[#This Row],[Gebrek nr.]]) | Z38: =IF(ISBLANK(TInspectieB[[#This Row],[Aantal]]),"",ROUND(TInspectieB[[#This Row],[Kengetal]]*TInspectieB[[#This Row],[Aantal]],-1)) | AA38: =IF(TInspectieB[[#This Row],[Vak-groep]]="","1",VLOOKUP(C38,$J$2:$K$7,2,FALSE)) -> 1 | AB38: =CONCATENATE(TInspectieB[[#This Row],[Soort gebrek]],TInspectieB[[#This Row],[Trede]]) -> 1 | AC38: #N/A | AD38: #N/A | AE38: 0
A39: {=IFERROR(INDEX(TInventB[UVID],ROUNDDOWN((ROW(A30)+1)/2,0)),"")} | B39: =IF(TInspectieB[[#This Row],[UVID]]="","",VLOOKUP(TInspectieB[[#This Row],[UVID]],TInventB[],2,FALSE)) | C39: =IF(TInspectieB[[#This Row],[UVID]]="","",VLOOKUP(TInspectieB[[#This Row],[UVID]],TInventB[],11,FALSE)) | D39: =IF(TInspectieB[[#This Row],[UVID]]="","",VLOOKUP(TInspectieB[[#This Row],[UVID]],TInventB[],3,FALSE)) | E39: =IF(TInspectieB[[#This Row],[Omschrijving bouwdeel]]="","",IF(MOD(ROW()-2,2)=0,"O",IF(TRIM(TInspectieB[[#This Row],[Code Bouwdeeltype]])="312010","O","E"))) | G39: =IF(ISBLANK(TInspectieB[[#This Row],[Soort gebrek]]),"",VLOOKUP(TInspectieB[[#This Row],[Soort gebrek]],TSoortGebrek[#Data],3,FALSE)) | H39: =IF(ISBLANK(TInspectieB[[#This Row],[Soort gebrek]]),"",VLOOKUP(TInspectieB[[#This Row],[Soort gebrek]],TSoortGebrek[#Data],2,FALSE)) | I39: =IF(TInspectieB[[#This Row],[Soort gebrek]]=0,"",VLOOKUP(TInspectieB[[#This Row],[Soort gebrek]],TSoortGebrek[],4,FALSE)) | K39: =IF(TInspectieB[[#This Row],[Soort gebrek]]=0,"",VLOOKUP(TInspectieB[[#This Row],[Combi]],TPrio[#Data],2,FALSE)) | M39: =IF(ISBLANK(TInspectieB[[#This Row],[Gebrek nr.]]),"",TInspectieB[[#This Row],[UVID]]&"-"&TInspectieB[[#This Row],[Gebrek nr.]]) | Z39: =IF(ISBLANK(TInspectieB[[#This Row],[Aantal]]),"",ROUND(TInspectieB[[#This Row],[Kengetal]]*TInspectieB[[#This Row],[Aantal]],-1)) | AA39: =IF(TInspectieB[[#This Row],[Vak-groep]]="","1",VLOOKUP(C39,$J$2:$K$7,2,FALSE)) -> 1 | AB39: =CONCATENATE(TInspectieB[[#This Row],[Soort gebrek]],TInspectieB[[#This Row],[Trede]]) -> 1 | AC39: #N/A | AD39: #N/A | AE39: 0
A40: {=IFERROR(INDEX(TInventB[UVID],ROUNDDOWN((ROW(A31)+1)/2,0)),"")} | B40: =IF(TInspectieB[[#This Row],[UVID]]="","",VLOOKUP(TInspectieB[[#This Row],[UVID]],TInventB[],2,FALSE)) | C40: =IF(TInspectieB[[#This Row],[UVID]]="","",VLOOKUP(TInspectieB[[#This Row],[UVID]],TInventB[],11,FALSE)) | D40: =IF(TInspectieB[[#This Row],[UVID]]="","",VLOOKUP(TInspectieB[[#This Row],[UVID]],TInventB[],3,FALSE)) | E40: =IF(TInspectieB[[#This Row],[Omschrijving bouwdeel]]="","",IF(MOD(ROW()-2,2)=0,"O",IF(TRIM(TInspectieB[[#This Row],[Code Bouwdeeltype]])="312010","O","E"))) | G40: =IF(ISBLANK(TInspectieB[[#This Row],[Soort gebrek]]),"",VLOOKUP(TInspectieB[[#This Row],[Soort gebrek]],TSoortGebrek[#Data],3,FALSE)) | H40: =IF(ISBLANK(TInspectieB[[#This Row],[Soort gebrek]]),"",VLOOKUP(TInspectieB[[#This Row],[Soort gebrek]],TSoortGebrek[#Data],2,FALSE)) | I40: =IF(TInspectieB[[#This Row],[Soort gebrek]]=0,"",VLOOKUP(TInspectieB[[#This Row],[Soort gebrek]],TSoortGebrek[],4,FALSE)) | K40: =IF(TInspectieB[[#This Row],[Soort gebrek]]=0,"",VLOOKUP(TInspectieB[[#This Row],[Combi]],TPrio[#Data],2,FALSE)) | M40: =IF(ISBLANK(TInspectieB[[#This Row],[Gebrek nr.]]),"",TInspectieB[[#This Row],[UVID]]&"-"&TInspectieB[[#This Row],[Gebrek nr.]]) | Z40: =IF(ISBLANK(TInspectieB[[#This Row],[Aantal]]),"",ROUND(TInspectieB[[#This Row],[Kengetal]]*TInspectieB[[#This Row],[Aantal]],-1)) | AA40: =IF(TInspectieB[[#This Row],[Vak-groep]]="","1",VLOOKUP(C40,$J$2:$K$7,2,FALSE)) -> 1 | AB40: =CONCATENATE(TInspectieB[[#This Row],[Soort gebrek]],TInspectieB[[#This Row],[Trede]]) -> 1 | AC40: #N/A | AD40: #N/A | AE40: 0
A41: {=IFERROR(INDEX(TInventB[UVID],ROUNDDOWN((ROW(A32)+1)/2,0)),"")} | B41: =IF(TInspectieB[[#This Row],[UVID]]="","",VLOOKUP(TInspectieB[[#This Row],[UVID]],TInventB[],2,FALSE)) | C41: =IF(TInspectieB[[#This Row],[UVID]]="","",VLOOKUP(TInspectieB[[#This Row],[UVID]],TInventB[],11,FALSE)) | D41: =IF(TInspectieB[[#This Row],[UVID]]="","",VLOOKUP(TInspectieB[[#This Row],[UVID]],TInventB[],3,FALSE)) | E41: =IF(TInspectieB[[#This Row],[Omschrijving bouwdeel]]="","",IF(MOD(ROW()-2,2)=0,"O",IF(TRIM(TInspectieB[[#This Row],[Code Bouwdeeltype]])="312010","O","E"))) | G41: =IF(ISBLANK(TInspectieB[[#This Row],[Soort gebrek]]),"",VLOOKUP(TInspectieB[[#This Row],[Soort gebrek]],TSoortGebrek[#Data],3,FALSE)) | H41: =IF(ISBLANK(TInspectieB[[#This Row],[Soort gebrek]]),"",VLOOKUP(TInspectieB[[#This Row],[Soort gebrek]],TSoortGebrek[#Data],2,FALSE)) | I41: =IF(TInspectieB[[#This Row],[Soort gebrek]]=0,"",VLOOKUP(TInspectieB[[#This Row],[Soort gebrek]],TSoortGebrek[],4,FALSE)) | K41: =IF(TInspectieB[[#This Row],[Soort gebrek]]=0,"",VLOOKUP(TInspectieB[[#This Row],[Combi]],TPrio[#Data],2,FALSE)) | M41: =IF(ISBLANK(TInspectieB[[#This Row],[Gebrek nr.]]),"",TInspectieB[[#This Row],[UVID]]&"-"&TInspectieB[[#This Row],[Gebrek nr.]]) | Z41: =IF(ISBLANK(TInspectieB[[#This Row],[Aantal]]),"",ROUND(TInspectieB[[#This Row],[Kengetal]]*TInspectieB[[#This Row],[Aantal]],-1)) | AA41: =IF(TInspectieB[[#This Row],[Vak-groep]]="","1",VLOOKUP(C41,$J$2:$K$7,2,FALSE)) -> 1 | AB41: =CONCATENATE(TInspectieB[[#This Row],[Soort gebrek]],TInspectieB[[#This Row],[Trede]]) -> 1 | AC41: #N/A | AD41: #N/A | AE41: 0
A42: {=IFERROR(INDEX(TInventB[UVID],ROUNDDOWN((ROW(A33)+1)/2,0)),"")} | B42: =IF(TInspectieB[[#This Row],[UVID]]="","",VLOOKUP(TInspectieB[[#This Row],[UVID]],TInventB[],2,FALSE)) | C42: =IF(TInspectieB[[#This Row],[UVID]]="","",VLOOKUP(TInspectieB[[#This Row],[UVID]],TInventB[],11,FALSE)) | D42: =IF(TInspectieB[[#This Row],[UVID]]="","",VLOOKUP(TInspectieB[[#This Row],[UVID]],TInventB[],3,FALSE)) | E42: =IF(TInspectieB[[#This Row],[Omschrijving bouwdeel]]="","",IF(MOD(ROW()-2,2)=0,"O",IF(TRIM(TInspectieB[[#This Row],[Code Bouwdeeltype]])="312010","O","E"))) | G42: =IF(ISBLANK(TInspectieB[[#This Row],[Soort gebrek]]),"",VLOOKUP(TInspectieB[[#This Row],[Soort gebrek]],TSoortGebrek[#Data],3,FALSE)) | H42: =IF(ISBLANK(TInspectieB[[#This Row],[Soort gebrek]]),"",VLOOKUP(TInspectieB[[#This Row],[Soort gebrek]],TSoortGebrek[#Data],2,FALSE)) | I42: =IF(TInspectieB[[#This Row],[Soort gebrek]]=0,"",VLOOKUP(TInspectieB[[#This Row],[Soort gebrek]],TSoortGebrek[],4,FALSE)) | K42: =IF(TInspectieB[[#This Row],[Soort gebrek]]=0,"",VLOOKUP(TInspectieB[[#This Row],[Combi]],TPrio[#Data],2,FALSE)) | M42: =IF(ISBLANK(TInspectieB[[#This Row],[Gebrek nr.]]),"",TInspectieB[[#This Row],[UVID]]&"-"&TInspectieB[[#This Row],[Gebrek nr.]]) | Z42: =IF(ISBLANK(TInspectieB[[#This Row],[Aantal]]),"",ROUND(TInspectieB[[#This Row],[Kengetal]]*TInspectieB[[#This Row],[Aantal]],-1)) | AA42: =IF(TInspectieB[[#This Row],[Vak-groep]]="","1",VLOOKUP(C42,$J$2:$K$7,2,FALSE)) -> 1 | AB42: =CONCATENATE(TInspectieB[[#This Row],[Soort gebrek]],TInspectieB[[#This Row],[Trede]]) -> 1 | AC42: #N/A | AD42: #N/A | AE42: 0
... A193: {=IFERROR(INDEX(TInventB[UVID],ROUNDDOWN((ROW(A184)+1)/2,0)),"")} | B193: =IF(TInspectieB[[#This Row],[UVID]]="","",VLOOKUP(TInspectieB[[#This Row],[UVID]],TInventB[],2,FALSE)) | C193: =IF(TInspectieB[[#This Row],[UVID]]="","",VLOOKUP(TInspectieB[[#This Row],[UVID]],TInventB[],11,FALSE)) | D193: =IF(TInspectieB[[#This Row],[UVID]]="","",VLOOKUP(TInspectieB[[#This Row],[UVID]],TInventB[],3,FALSE)) | E193: =IF(TInspectieB[[#This Row],[Omschrijving bouwdeel]]="","",IF(MOD(ROW()-2,2)=0,"O",IF(TRIM(TInspectieB[[#This Row],[Code Bouwdeeltype]])="312010","O","E"))) | G193: =IF(ISBLANK(TInspectieB[[#This Row],[Soort gebrek]]),"",VLOOKUP(TInspectieB[[#This Row],[Soort gebrek]],TSoortGebrek[#Data],3,FALSE)) | H193: =IF(ISBLANK(TInspectieB[[#This Row],[Soort gebrek]]),"",VLOOKUP(TInspectieB[[#This Row],[Soort gebrek]],TSoortGebrek[#Data],2,FALSE)) | I193: =IF(TInspectieB[[#This Row],[Soort gebrek]]=0,"",VLOOKUP(TInspectieB[[#This Row],[Soort gebrek]],TSoortGebrek[],4,FALSE)) | K193: =IF(TInspectieB[[#This Row],[Soort gebrek]]=0,"",VLOOKUP(TInspectieB[[#This Row],[Combi]],TPrio[#Data],2,FALSE)) | M193: =IF(ISBLANK(TInspectieB[[#This Row],[Gebrek nr.]]),"",TInspectieB[[#This Row],[UVID]]&"-"&TInspectieB[[#This Row],[Gebrek nr.]]) | Z193: =IF(ISBLANK(TInspectieB[[#This Row],[Aantal]]),"",ROUND(TInspectieB[[#This Row],[Kengetal]]*TInspectieB[[#This Row],[Aantal]],-1)) | AA193: =IF(TInspectieB[[#This Row],[Vak-groep]]="","1",VLOOKUP(C193,$J$2:$K$7,2,FALSE)) -> 1 | AB193: =CONCATENATE(TInspectieB[[#This Row],[Soort gebrek]],TInspectieB[[#This Row],[Trede]]) -> 1 | AC193: #N/A | AD193: #N/A | AE193: 0

Sheet Inventarisatie E
B1: HMI*: | C1: HMI*: | D1: Hand Matig Invoeren | M1: Inspectiedatum: | N1: =Advies!B36 -> 46260 | R1: Datum: | S1: 46261
B2: UVID | M2: Inspecteur: | N2: =Advies!B39 -> Willem | R2: Status: | S2: Concept
A3: Inventarisatie elektrotechniek
A4: Object | B4: =Advies!B10 -> Voorbeeld | C4: =Advies!B12 -> Voorbeeld | K4: B | L4: =Advies!B34 -> 3 | M4: m2 BVO | N4: =Advies!B18 -> 636 | P4: Bouwjaar | Q4: =Advies!B17 -> 1943 | R4: Opmerking:
X5: Specifiek voor monumentale bouwdelen | AH5: Specifiek voor veiligheidsprogramma's
A6: formule | B6: formule | C6: Menu | D6: HMI* | E6: formule | F6: HMI* | G6: HMI* | H6: HMI* | I6: HMI* | J6: formule | K6: formule | L6: formule | M6: HMI* | N6: HMI* | O6: HMI* | P6: HMI* | Q6: formule | R6: HMI* | S6: HMI* | T6: HMI* | U6: HMI* | V6: HMI* | W6: formule | X6: Menu | Y6: Menu | Z6: Menu | AA6: HMI* | AB6: Menu | AC6: HMI* | AD6: HMI* | AE6: HMI* | AF6: Menu | AG6: Menu | AH6: Menu | AI6: Menu | AJ6: Menu | AK6: Menu | AL6: HMI*
A7: UVID | B7: Code Bouwdeeltype | C7: Bouwdeel omschrijving | D7: Volgnr. | E7: Object | F7: Ruimte | G7: Locatie aanduiding | H7: Reden buiten gebruik | I7: Aantal | J7: Dimensie | K7: Vakgroep | L7: Kwaliteits-niveau | M7: Foto | N7: Datum van constructie of productie [jjjj-mm-dd] | O7: Einde garantie [jjjj-mm-dd] | P7: Technische levensduur [jaren] | Q7: Verwachte technische einddatum | R7: Vervangings-kosten (excl. BTW) | S7: Installatie-nummer | T7: Serienummer | U7: Model/type | V7: Omvang | W7: Omvang eenheid | X7: In oorspron-kelijke toestand | Y7: Materiaal toepassing | Z7: Monumentale waarde | AA7: Datum restauratie / revisie | AB7: Duurzaamheid bijdrage | AC7: Fabrikant | AD7: Servicebedrijf | AE7: Leverancier | AF7: Eigenaar | AG7: Verantwoordelijk | AH7: Brandv.-functie van toepassing? | AI7: Waterveiligheid functie van toepassing | AJ7: Asbeststatus | AK7: VWoH van toepassing? | AL7: Dossier
A8: =IF(ISBLANK(TInventE[[#This Row],[Bouwdeel omschrijving]]),"",CONCATENATE(TInventE[[#This Row],[Code Bouwdeeltype]],"-",TInventE[[#This Row],[Volgnr.]])) -> 634010-1 | B8: =IF(ISBLANK(TInventE[[#This Row],[Bouwdeel omschrijving]]),"",VLOOKUP(TInventE[[#This Row],[Bouwdeel omschrijving]],TsblE[],2,FALSE)) -> 634010 | C8: Noodverlichting centraal/decentraal | D8: 1 | E8: =IF(ISBLANK(TInventE[[#This Row],[Bouwdeel omschrijving]]),"",$B$4) -> Voorbeeld | F8: 1, 1A, 9, 7 | I8: 1 | J8: =IF(ISBLANK(TInventE[[#This Row],[Bouwdeel omschrijving]]),"",VLOOKUP(TInventE[[#This Row],[Bouwdeel omschrijving]],TsblE[],4,FALSE)) -> Stuks | K8: =IF(ISBLANK(TInventE[[#This Row],[Bouwdeel omschrijving]]),"",VLOOKUP(TInventE[[#This Row],[Bouwdeel omschrijving]],TsblE[],3,FALSE)) -> E | L8: =IF(ISBLANK(C8),"",$L$4) -> 3 | M8: [objectcode.gebouwnummer] LED vluchtweg overzicht, [objectcode.gebouwnummer] LED vluchtweg detail | N8: 43647 | P8: 20 | Q8: =IF(ISBLANK(TInventE[[#This Row],[Technische levensduur '[jaren']]]),"",(TInventE[[#This Row],[Datum van constructie of productie '[jjjj-mm-dd']]]+(TInventE[[#This Row],[Technische levensduur '[jaren']]]*365))) -> 50947 | R8: 2696 | S8: 900007031 | T8: Onbekend | U8: LED | V8: n.v.t. | W8: =IF(ISBLANK(TInventE[[#This Row],[Bouwdeel omschrijving]]),"",VLOOKUP(TInventE[[#This Row],[Bouwdeel omschrijving]],TsblE[],5,FALSE)) -> n.v.t. | AB8: Voldoet aan hoogste eisen | AC8: Van Lien | AE8: Onbekend | AF8: Afnemer | AG8: Afnemer | AL8: Aantal vluchtwegarmaturen: 8, aantal noodverlichting: 8
A9: =IF(ISBLANK(TInventE[[#This Row],[Bouwdeel omschrijving]]),"",CONCATENATE(TInventE[[#This Row],[Code Bouwdeeltype]],"-",TInventE[[#This Row],[Volgnr.]])) -> 632010-1 | B9: =IF(ISBLANK(TInventE[[#This Row],[Bouwdeel omschrijving]]),"",VLOOKUP(TInventE[[#This Row],[Bouwdeel omschrijving]],TsblE[],2,FALSE)) -> 632010 | C9: Verlichting standaard armaturen | D9: 1 | E9: =IF(ISBLANK(TInventE[[#This Row],[Bouwdeel omschrijving]]),"",$B$4) -> Voorbeeld | F9: 1–12, 1A, 6A, 9A–C, 10A, 12A en 106 | I9: 63 | J9: =IF(ISBLANK(TInventE[[#This Row],[Bouwdeel omschrijving]]),"",VLOOKUP(TInventE[[#This Row],[Bouwdeel omschrijving]],TsblE[],4,FALSE)) -> Stuks | K9: =IF(ISBLANK(TInventE[[#This Row],[Bouwdeel omschrijving]]),"",VLOOKUP(TInventE[[#This Row],[Bouwdeel omschrijving]],TsblE[],3,FALSE)) -> E | L9: =IF(ISBLANK(C9),"",$L$4) -> 3 | M9: [objectcode.gebouwnummer] TL lamp overzicht, [objectcode.gebouwnummer] TL lamp overzicht2, [objectcode.gebouwnummer] TL lamp detail, [objectcode.gebouwnummer] TL lamp detail2 | N9: 36526 | P9: 20 | Q9: =IF(ISBLANK(TInventE[[#This Row],[Technische levensduur '[jaren']]]),"",(TInventE[[#This Row],[Datum van constructie of productie '[jjjj-mm-dd']]]+(TInventE[[#This Row],[Technische levensduur '[jaren']]]*365))) -> 43826 | R9: 21839 | S9: Onbekend | T9: Onbekend | U9: TL | V9: 636 | W9: =IF(ISBLANK(TInventE[[#This Row],[Bouwdeel omschrijving]]),"",VLOOKUP(TInventE[[#This Row],[Bouwdeel omschrijving]],TsblE[],5,FALSE)) -> m2 BVO | AB9: Voldoet niet aan vigerende W&R | AC9: Philips, Mazdafluor, Meyer | AE9: Onbekend | AF9: Afnemer | AG9: Afnemer | AL9: Type verlichting: TL ingebouwde plafond armaturen, aantallen naar type: 57 armaturen, TL montagebalken, aantallen naar type: 6 armaturen. Schakeling in alle ruimtes gaat met conventionele lichtknoppen
A10: =IF(ISBLANK(TInventE[[#This Row],[Bouwdeel omschrijving]]),"",CONCATENATE(TInventE[[#This Row],[Code Bouwdeeltype]],"-",TInventE[[#This Row],[Volgnr.]])) | B10: =IF(ISBLANK(TInventE[[#This Row],[Bouwdeel omschrijving]]),"",VLOOKUP(TInventE[[#This Row],[Bouwdeel omschrijving]],TsblE[],2,FALSE)) | E10: =IF(ISBLANK(TInventE[[#This Row],[Bouwdeel omschrijving]]),"",$B$4) | J10: =IF(ISBLANK(TInventE[[#This Row],[Bouwdeel omschrijving]]),"",VLOOKUP(TInventE[[#This Row],[Bouwdeel omschrijving]],TsblE[],4,FALSE)) | K10: =IF(ISBLANK(TInventE[[#This Row],[Bouwdeel omschrijving]]),"",VLOOKUP(TInventE[[#This Row],[Bouwdeel omschrijving]],TsblE[],3,FALSE)) | L10: =IF(ISBLANK(C10),"",$L$4) | Q10: =IF(ISBLANK(TInventE[[#This Row],[Technische levensduur '[jaren']]]),"",(TInventE[[#This Row],[Datum van constructie of productie '[jjjj-mm-dd']]]+(TInventE[[#This Row],[Technische levensduur '[jaren']]]*365))) | W10: =IF(ISBLANK(TInventE[[#This Row],[Bouwdeel omschrijving]]),"",VLOOKUP(TInventE[[#This Row],[Bouwdeel omschrijving]],TsblE[],5,FALSE)) | AF10: Afnemer | AG10: Afnemer
A11: =IF(ISBLANK(TInventE[[#This Row],[Bouwdeel omschrijving]]),"",CONCATENATE(TInventE[[#This Row],[Code Bouwdeeltype]],"-",TInventE[[#This Row],[Volgnr.]])) | B11: =IF(ISBLANK(TInventE[[#This Row],[Bouwdeel omschrijving]]),"",VLOOKUP(TInventE[[#This Row],[Bouwdeel omschrijving]],TsblE[],2,FALSE)) | E11: =IF(ISBLANK(TInventE[[#This Row],[Bouwdeel omschrijving]]),"",$B$4) | J11: =IF(ISBLANK(TInventE[[#This Row],[Bouwdeel omschrijving]]),"",VLOOKUP(TInventE[[#This Row],[Bouwdeel omschrijving]],TsblE[],4,FALSE)) | K11: =IF(ISBLANK(TInventE[[#This Row],[Bouwdeel omschrijving]]),"",VLOOKUP(TInventE[[#This Row],[Bouwdeel omschrijving]],TsblE[],3,FALSE)) | L11: =IF(ISBLANK(C11),"",$L$4) | Q11: =IF(ISBLANK(TInventE[[#This Row],[Technische levensduur '[jaren']]]),"",(TInventE[[#This Row],[Datum van constructie of productie '[jjjj-mm-dd']]]+(TInventE[[#This Row],[Technische levensduur '[jaren']]]*365))) | W11: =IF(ISBLANK(TInventE[[#This Row],[Bouwdeel omschrijving]]),"",VLOOKUP(TInventE[[#This Row],[Bouwdeel omschrijving]],TsblE[],5,FALSE)) | AF11: Afnemer | AG11: Afnemer
A12: =IF(ISBLANK(TInventE[[#This Row],[Bouwdeel omschrijving]]),"",CONCATENATE(TInventE[[#This Row],[Code Bouwdeeltype]],"-",TInventE[[#This Row],[Volgnr.]])) | B12: =IF(ISBLANK(TInventE[[#This Row],[Bouwdeel omschrijving]]),"",VLOOKUP(TInventE[[#This Row],[Bouwdeel omschrijving]],TsblE[],2,FALSE)) | E12: =IF(ISBLANK(TInventE[[#This Row],[Bouwdeel omschrijving]]),"",$B$4) | J12: =IF(ISBLANK(TInventE[[#This Row],[Bouwdeel omschrijving]]),"",VLOOKUP(TInventE[[#This Row],[Bouwdeel omschrijving]],TsblE[],4,FALSE)) | K12: =IF(ISBLANK(TInventE[[#This Row],[Bouwdeel omschrijving]]),"",VLOOKUP(TInventE[[#This Row],[Bouwdeel omschrijving]],TsblE[],3,FALSE)) | L12: =IF(ISBLANK(C12),"",$L$4) | Q12: =IF(ISBLANK(TInventE[[#This Row],[Technische levensduur '[jaren']]]),"",(TInventE[[#This Row],[Datum van constructie of productie '[jjjj-mm-dd']]]+(TInventE[[#This Row],[Technische levensduur '[jaren']]]*365))) | W12: =IF(ISBLANK(TInventE[[#This Row],[Bouwdeel omschrijving]]),"",VLOOKUP(TInventE[[#This Row],[Bouwdeel omschrijving]],TsblE[],5,FALSE)) | AF12: Afnemer | AG12: Afnemer
A13: =IF(ISBLANK(TInventE[[#This Row],[Bouwdeel omschrijving]]),"",CONCATENATE(TInventE[[#This Row],[Code Bouwdeeltype]],"-",TInventE[[#This Row],[Volgnr.]])) | B13: =IF(ISBLANK(TInventE[[#This Row],[Bouwdeel omschrijving]]),"",VLOOKUP(TInventE[[#This Row],[Bouwdeel omschrijving]],TsblE[],2,FALSE)) | E13: =IF(ISBLANK(TInventE[[#This Row],[Bouwdeel omschrijving]]),"",$B$4) | J13: =IF(ISBLANK(TInventE[[#This Row],[Bouwdeel omschrijving]]),"",VLOOKUP(TInventE[[#This Row],[Bouwdeel omschrijving]],TsblE[],4,FALSE)) | K13: =IF(ISBLANK(TInventE[[#This Row],[Bouwdeel omschrijving]]),"",VLOOKUP(TInventE[[#This Row],[Bouwdeel omschrijving]],TsblE[],3,FALSE)) | L13: =IF(ISBLANK(C13),"",$L$4) | Q13: =IF(ISBLANK(TInventE[[#This Row],[Technische levensduur '[jaren']]]),"",(TInventE[[#This Row],[Datum van constructie of productie '[jjjj-mm-dd']]]+(TInventE[[#This Row],[Technische levensduur '[jaren']]]*365))) | W13: =IF(ISBLANK(TInventE[[#This Row],[Bouwdeel omschrijving]]),"",VLOOKUP(TInventE[[#This Row],[Bouwdeel omschrijving]],TsblE[],5,FALSE)) | AF13: Afnemer | AG13: Afnemer
A14: =IF(ISBLANK(TInventE[[#This Row],[Bouwdeel omschrijving]]),"",CONCATENATE(TInventE[[#This Row],[Code Bouwdeeltype]],"-",TInventE[[#This Row],[Volgnr.]])) | B14: =IF(ISBLANK(TInventE[[#This Row],[Bouwdeel omschrijving]]),"",VLOOKUP(TInventE[[#This Row],[Bouwdeel omschrijving]],TsblE[],2,FALSE)) | E14: =IF(ISBLANK(TInventE[[#This Row],[Bouwdeel omschrijving]]),"",$B$4) | J14: =IF(ISBLANK(TInventE[[#This Row],[Bouwdeel omschrijving]]),"",VLOOKUP(TInventE[[#This Row],[Bouwdeel omschrijving]],TsblE[],4,FALSE)) | K14: =IF(ISBLANK(TInventE[[#This Row],[Bouwdeel omschrijving]]),"",VLOOKUP(TInventE[[#This Row],[Bouwdeel omschrijving]],TsblE[],3,FALSE)) | L14: =IF(ISBLANK(C14),"",$L$4) | Q14: =IF(ISBLANK(TInventE[[#This Row],[Technische levensduur '[jaren']]]),"",(TInventE[[#This Row],[Datum van constructie of productie '[jjjj-mm-dd']]]+(TInventE[[#This Row],[Technische levensduur '[jaren']]]*365))) | W14: =IF(ISBLANK(TInventE[[#This Row],[Bouwdeel omschrijving]]),"",VLOOKUP(TInventE[[#This Row],[Bouwdeel omschrijving]],TsblE[],5,FALSE)) | AF14: Afnemer | AG14: Afnemer
A15: =IF(ISBLANK(TInventE[[#This Row],[Bouwdeel omschrijving]]),"",CONCATENATE(TInventE[[#This Row],[Code Bouwdeeltype]],"-",TInventE[[#This Row],[Volgnr.]])) | B15: =IF(ISBLANK(TInventE[[#This Row],[Bouwdeel omschrijving]]),"",VLOOKUP(TInventE[[#This Row],[Bouwdeel omschrijving]],TsblE[],2,FALSE)) | E15: =IF(ISBLANK(TInventE[[#This Row],[Bouwdeel omschrijving]]),"",$B$4) | J15: =IF(ISBLANK(TInventE[[#This Row],[Bouwdeel omschrijving]]),"",VLOOKUP(TInventE[[#This Row],[Bouwdeel omschrijving]],TsblE[],4,FALSE)) | K15: =IF(ISBLANK(TInventE[[#This Row],[Bouwdeel omschrijving]]),"",VLOOKUP(TInventE[[#This Row],[Bouwdeel omschrijving]],TsblE[],3,FALSE)) | L15: =IF(ISBLANK(C15),"",$L$4) | Q15: =IF(ISBLANK(TInventE[[#This Row],[Technische levensduur '[jaren']]]),"",(TInventE[[#This Row],[Datum van constructie of productie '[jjjj-mm-dd']]]+(TInventE[[#This Row],[Technische levensduur '[jaren']]]*365))) | W15: =IF(ISBLANK(TInventE[[#This Row],[Bouwdeel omschrijving]]),"",VLOOKUP(TInventE[[#This Row],[Bouwdeel omschrijving]],TsblE[],5,FALSE)) | AF15: Afnemer | AG15: Afnemer
A16: =IF(ISBLANK(TInventE[[#This Row],[Bouwdeel omschrijving]]),"",CONCATENATE(TInventE[[#This Row],[Code Bouwdeeltype]],"-",TInventE[[#This Row],[Volgnr.]])) | B16: =IF(ISBLANK(TInventE[[#This Row],[Bouwdeel omschrijving]]),"",VLOOKUP(TInventE[[#This Row],[Bouwdeel omschrijving]],TsblE[],2,FALSE)) | E16: =IF(ISBLANK(TInventE[[#This Row],[Bouwdeel omschrijving]]),"",$B$4) | J16: =IF(ISBLANK(TInventE[[#This Row],[Bouwdeel omschrijving]]),"",VLOOKUP(TInventE[[#This Row],[Bouwdeel omschrijving]],TsblE[],4,FALSE)) | K16: =IF(ISBLANK(TInventE[[#This Row],[Bouwdeel omschrijving]]),"",VLOOKUP(TInventE[[#This Row],[Bouwdeel omschrijving]],TsblE[],3,FALSE)) | L16: =IF(ISBLANK(C16),"",$L$4) | Q16: =IF(ISBLANK(TInventE[[#This Row],[Technische levensduur '[jaren']]]),"",(TInventE[[#This Row],[Datum van constructie of productie '[jjjj-mm-dd']]]+(TInventE[[#This Row],[Technische levensduur '[jaren']]]*365))) | W16: =IF(ISBLANK(TInventE[[#This Row],[Bouwdeel omschrijving]]),"",VLOOKUP(TInventE[[#This Row],[Bouwdeel omschrijving]],TsblE[],5,FALSE)) | AF16: Afnemer | AG16: Afnemer
A17: =IF(ISBLANK(TInventE[[#This Row],[Bouwdeel omschrijving]]),"",CONCATENATE(TInventE[[#This Row],[Code Bouwdeeltype]],"-",TInventE[[#This Row],[Volgnr.]])) | B17: =IF(ISBLANK(TInventE[[#This Row],[Bouwdeel omschrijving]]),"",VLOOKUP(TInventE[[#This Row],[Bouwdeel omschrijving]],TsblE[],2,FALSE)) | E17: =IF(ISBLANK(TInventE[[#This Row],[Bouwdeel omschrijving]]),"",$B$4) | J17: =IF(ISBLANK(TInventE[[#This Row],[Bouwdeel omschrijving]]),"",VLOOKUP(TInventE[[#This Row],[Bouwdeel omschrijving]],TsblE[],4,FALSE)) | K17: =IF(ISBLANK(TInventE[[#This Row],[Bouwdeel omschrijving]]),"",VLOOKUP(TInventE[[#This Row],[Bouwdeel omschrijving]],TsblE[],3,FALSE)) | L17: =IF(ISBLANK(C17),"",$L$4) | Q17: =IF(ISBLANK(TInventE[[#This Row],[Technische levensduur '[jaren']]]),"",(TInventE[[#This Row],[Datum van constructie of productie '[jjjj-mm-dd']]]+(TInventE[[#This Row],[Technische levensduur '[jaren']]]*365))) | W17: =IF(ISBLANK(TInventE[[#This Row],[Bouwdeel omschrijving]]),"",VLOOKUP(TInventE[[#This Row],[Bouwdeel omschrijving]],TsblE[],5,FALSE)) | AF17: Afnemer | AG17: Afnemer
A18: =IF(ISBLANK(TInventE[[#This Row],[Bouwdeel omschrijving]]),"",CONCATENATE(TInventE[[#This Row],[Code Bouwdeeltype]],"-",TInventE[[#This Row],[Volgnr.]])) | B18: =IF(ISBLANK(TInventE[[#This Row],[Bouwdeel omschrijving]]),"",VLOOKUP(TInventE[[#This Row],[Bouwdeel omschrijving]],TsblE[],2,FALSE)) | E18: =IF(ISBLANK(TInventE[[#This Row],[Bouwdeel omschrijving]]),"",$B$4) | J18: =IF(ISBLANK(TInventE[[#This Row],[Bouwdeel omschrijving]]),"",VLOOKUP(TInventE[[#This Row],[Bouwdeel omschrijving]],TsblE[],4,FALSE)) | K18: =IF(ISBLANK(TInventE[[#This Row],[Bouwdeel omschrijving]]),"",VLOOKUP(TInventE[[#This Row],[Bouwdeel omschrijving]],TsblE[],3,FALSE)) | L18: =IF(ISBLANK(C18),"",$L$4) | Q18: =IF(ISBLANK(TInventE[[#This Row],[Technische levensduur '[jaren']]]),"",(TInventE[[#This Row],[Datum van constructie of productie '[jjjj-mm-dd']]]+(TInventE[[#This Row],[Technische levensduur '[jaren']]]*365))) | W18: =IF(ISBLANK(TInventE[[#This Row],[Bouwdeel omschrijving]]),"",VLOOKUP(TInventE[[#This Row],[Bouwdeel omschrijving]],TsblE[],5,FALSE)) | AF18: Afnemer | AG18: Afnemer
A19: =IF(ISBLANK(TInventE[[#This Row],[Bouwdeel omschrijving]]),"",CONCATENATE(TInventE[[#This Row],[Code Bouwdeeltype]],"-",TInventE[[#This Row],[Volgnr.]])) | B19: =IF(ISBLANK(TInventE[[#This Row],[Bouwdeel omschrijving]]),"",VLOOKUP(TInventE[[#This Row],[Bouwdeel omschrijving]],TsblE[],2,FALSE)) | E19: =IF(ISBLANK(TInventE[[#This Row],[Bouwdeel omschrijving]]),"",$B$4) | J19: =IF(ISBLANK(TInventE[[#This Row],[Bouwdeel omschrijving]]),"",VLOOKUP(TInventE[[#This Row],[Bouwdeel omschrijving]],TsblE[],4,FALSE)) | K19: =IF(ISBLANK(TInventE[[#This Row],[Bouwdeel omschrijving]]),"",VLOOKUP(TInventE[[#This Row],[Bouwdeel omschrijving]],TsblE[],3,FALSE)) | L19: =IF(ISBLANK(C19),"",$L$4) | Q19: =IF(ISBLANK(TInventE[[#This Row],[Technische levensduur '[jaren']]]),"",(TInventE[[#This Row],[Datum van constructie of productie '[jjjj-mm-dd']]]+(TInventE[[#This Row],[Technische levensduur '[jaren']]]*365))) | W19: =IF(ISBLANK(TInventE[[#This Row],[Bouwdeel omschrijving]]),"",VLOOKUP(TInventE[[#This Row],[Bouwdeel omschrijving]],TsblE[],5,FALSE)) | AF19: Afnemer | AG19: Afnemer
A20: =IF(ISBLANK(TInventE[[#This Row],[Bouwdeel omschrijving]]),"",CONCATENATE(TInventE[[#This Row],[Code Bouwdeeltype]],"-",TInventE[[#This Row],[Volgnr.]])) | B20: =IF(ISBLANK(TInventE[[#This Row],[Bouwdeel omschrijving]]),"",VLOOKUP(TInventE[[#This Row],[Bouwdeel omschrijving]],TsblE[],2,FALSE)) | E20: =IF(ISBLANK(TInventE[[#This Row],[Bouwdeel omschrijving]]),"",$B$4) | J20: =IF(ISBLANK(TInventE[[#This Row],[Bouwdeel omschrijving]]),"",VLOOKUP(TInventE[[#This Row],[Bouwdeel omschrijving]],TsblE[],4,FALSE)) | K20: =IF(ISBLANK(TInventE[[#This Row],[Bouwdeel omschrijving]]),"",VLOOKUP(TInventE[[#This Row],[Bouwdeel omschrijving]],TsblE[],3,FALSE)) | L20: =IF(ISBLANK(C20),"",$L$4) | Q20: =IF(ISBLANK(TInventE[[#This Row],[Technische levensduur '[jaren']]]),"",(TInventE[[#This Row],[Datum van constructie of productie '[jjjj-mm-dd']]]+(TInventE[[#This Row],[Technische levensduur '[jaren']]]*365))) | W20: =IF(ISBLANK(TInventE[[#This Row],[Bouwdeel omschrijving]]),"",VLOOKUP(TInventE[[#This Row],[Bouwdeel omschrijving]],TsblE[],5,FALSE)) | AF20: Afnemer | AG20: Afnemer
A21: =IF(ISBLANK(TInventE[[#This Row],[Bouwdeel omschrijving]]),"",CONCATENATE(TInventE[[#This Row],[Code Bouwdeeltype]],"-",TInventE[[#This Row],[Volgnr.]])) | B21: =IF(ISBLANK(TInventE[[#This Row],[Bouwdeel omschrijving]]),"",VLOOKUP(TInventE[[#This Row],[Bouwdeel omschrijving]],TsblE[],2,FALSE)) | E21: =IF(ISBLANK(TInventE[[#This Row],[Bouwdeel omschrijving]]),"",$B$4) | J21: =IF(ISBLANK(TInventE[[#This Row],[Bouwdeel omschrijving]]),"",VLOOKUP(TInventE[[#This Row],[Bouwdeel omschrijving]],TsblE[],4,FALSE)) | K21: =IF(ISBLANK(TInventE[[#This Row],[Bouwdeel omschrijving]]),"",VLOOKUP(TInventE[[#This Row],[Bouwdeel omschrijving]],TsblE[],3,FALSE)) | L21: =IF(ISBLANK(C21),"",$L$4) | Q21: =IF(ISBLANK(TInventE[[#This Row],[Technische levensduur '[jaren']]]),"",(TInventE[[#This Row],[Datum van constructie of productie '[jjjj-mm-dd']]]+(TInventE[[#This Row],[Technische levensduur '[jaren']]]*365))) | W21: =IF(ISBLANK(TInventE[[#This Row],[Bouwdeel omschrijving]]),"",VLOOKUP(TInventE[[#This Row],[Bouwdeel omschrijving]],TsblE[],5,FALSE)) | AF21: Afnemer | AG21: Afnemer
... A59: =IF(ISBLANK(TInventE[[#This Row],[Bouwdeel omschrijving]]),"",CONCATENATE(TInventE[[#This Row],[Code Bouwdeeltype]],"-",TInventE[[#This Row],[Volgnr.]])) | B59: =IF(ISBLANK(TInventE[[#This Row],[Bouwdeel omschrijving]]),"",VLOOKUP(TInventE[[#This Row],[Bouwdeel omschrijving]],TsblE[],2,FALSE)) | E59: =IF(ISBLANK(TInventE[[#This Row],[Bouwdeel omschrijving]]),"",$B$4) | J59: =IF(ISBLANK(TInventE[[#This Row],[Bouwdeel omschrijving]]),"",VLOOKUP(TInventE[[#This Row],[Bouwdeel omschrijving]],TsblE[],4,FALSE)) | K59: =IF(ISBLANK(TInventE[[#This Row],[Bouwdeel omschrijving]]),"",VLOOKUP(TInventE[[#This Row],[Bouwdeel omschrijving]],TsblE[],3,FALSE)) | L59: =IF(ISBLANK(C59),"",$L$4) | Q59: =IF(ISBLANK(TInventE[[#This Row],[Technische levensduur '[jaren']]]),"",(TInventE[[#This Row],[Datum van constructie of productie '[jjjj-mm-dd']]]+(TInventE[[#This Row],[Technische levensduur '[jaren']]]*365))) | W59: =IF(ISBLANK(TInventE[[#This Row],[Bouwdeel omschrijving]]),"",VLOOKUP(TInventE[[#This Row],[Bouwdeel omschrijving]],TsblE[],5,FALSE)) | AF59: Afnemer | AG59: Afnemer

Sheet Inspectie E
A1: Inspecteren elektrotechniek | K1: trede 1-5
A2: HMI*: | B2: Handmatig Invoeren
A3: UVID: | B3: Bepaling unieke indentificatie code | J3: B | K3: =Advies!B34 -> 3
A4: Menu | B4: Menustructuur | J4: E | K4: =Advies!B34 -> 3
A5: Inspectie datum: | B5: ='Inventarisatie E'!N1 -> 46260 | J5: W | K5: =Advies!B34 -> 3
A6: Fotomap: | B6: E | J6: T | K6: =Advies!B34 -> 3
J7: G | K7: =Advies!B34 -> 3
A8: Menu | B8: formule | C8: formule | D8: formule | E8: HMI* | F8: Menu | G8: formule | H8: formule | I8: formule | J8: HMI* | K8: formule | L8: HMI* | M8: formule | N8: HMI* | O8: HMI* | P8: HMI* | Q8: Menu | R8: formule | S8: HMI* | T8: Menu | U8: HMI* | V8: HMI* | W8: Menu | X8: Menu | Y8: HMI* | Z8: HMI* | AA8: formule | AB8: formule | AC8: formule | AD8: formule | AE8: formule | AF8: formule
A9: UVID | B9: Code Bouwdeeltype | C9: Vak-groep | D9: Omschrijving bouwdeel | E9: Thema BOEI | F9: Soort gebrek | G9: Ernst categorie | H9: Soort gebrek (Voluit) | I9: Intensiteit | J9: Omvang | K9: Prioriteit | L9: Gebrek nr. | M9: Gebrekcode | N9: Aantal fotos | O9: Filenaam Foto's | P9: Locatie | Q9: Duurzaamheid bijdrage | R9: Voldoen aan advies | S9: Oorzaak - Omschrijving | T9: EML code | U9: Gevolg (risico) | V9: Oplossing | W9: FUTP's | X9: Herstelmaatregel | Y9: Kengetal | Z9: Aantal | AA9: Raming kosten excl. BTW | AB9: Trede | AC9: Combi | AD9: FH | AE9: DH | AF9: Bouwdatum
A10: {=IFERROR(INDEX(TInventE[UVID],ROUNDDOWN((ROW(A1)+1)/2,0)),"")} -> 634010-1 | B10: =IF(TInspectieE[[#This Row],[UVID]]="","",VLOOKUP(TInspectieE[[#This Row],[UVID]],TInventE[],2,FALSE)) -> 634010 | C10: =IF(TInspectieE[[#This Row],[UVID]]="","",VLOOKUP(TInspectieE[[#This Row],[UVID]],TInventE[],11,FALSE)) -> E | D10: =IF(TInspectieE[[#This Row],[UVID]]="","",VLOOKUP(TInspectieE[[#This Row],[UVID]],TInventE[],3,FALSE)) -> Noodverlichting centraal/decentraal | E10: =IF(TInspectieE[[#This Row],[Omschrijving bouwdeel]]="","",IF(ISEVEN(ROW()),"O","E")) -> O | F10: T-0 | G10: =IF(ISBLANK(TInspectieE[[#This Row],[Soort gebrek]]),"",VLOOKUP(TInspectieE[[#This Row],[Soort gebrek]],TSoortGebrek[#Data],3,FALSE)) -> Theoretisch | H10: =IF(ISBLANK(TInspectieE[[#This Row],[Soort gebrek]]),"",VLOOKUP(TInspectieE[[#This Row],[Soort gebrek]],TSoortGebrek[#Data],2,FALSE)) -> Verval < 50% | I10: =IF(TInspectieE[[#This Row],[Soort gebrek]]=0,"",VLOOKUP(TInspectieE[[#This Row],[Soort gebrek]],TSoortGebrek[],4,FALSE)) -> Begin | J10: 1 | K10: =IF(TInspectieE[[#This Row],[Soort gebrek]]=0,"",VLOOKUP(TInspectieE[[#This Row],[Combi]],TPrio[#Data],2,FALSE)) -> 9 | L10: 1 | M10: =IF(ISBLANK(TInspectieE[[#This Row],[Gebrek nr.]]),"",TInspectieE[[#This Row],[UVID]]&"-"&TInspectieE[[#This Row],[Gebrek nr.]]) -> 634010-1-1 | O10: [objectcode.gebouwnummer] LED vluchtweg overzicht, [objectcode.gebouwnummer] LED vluchtweg detail | P10: 1, 1A, 9, 7 | Q10: Voldoet aan hoogste eisen | R10: =IF(OR(TInspectieE[[#This Row],[Duurzaamheid bijdrage]]="Voldoet niet aan DZH-lijn",TInspectieE[[#This Row],[Duurzaamheid bijdrage]]="Voldoet niet aan vigerende W&R"),"Voldoet niet","Voldoet") -> Voldoet | S10: Element vervangen in 2019, levensduur beslaat 20 jaar. Element heeft 35% van theoretische levensduur gehaald | T10: N.v.t. | U10: Functieverlies, toename aan gebreken/verstoringen | V10: Planmatig vervangen op basis van leeftijd volgens FUTP. Vervangen voor wederom een LED armatuur. Voldoet zowel in huidige situatie als na vervanging aan hoogste eisen DHZ-tabel. | W10: 63.20.10-01 Verduurzamen EML - verlichtingsarmaturen standaard | X10: Integraal vervangen – imiteren | Y10: 337 | Z10: 8 | AA10: =IF(ISBLANK(TInspectieE[[#This Row],[Aantal]]),"",ROUND(TInspectieE[[#This Row],[Kengetal]]*TInspectieE[[#This Row],[Aantal]],-1)) -> 2700 | AB10: =IF(TInspectieE[[#This Row],[Vak-groep]]="","1",VLOOKUP(C10,$J$2:$K$7,2,FALSE)) -> 3 | AC10: =CONCATENATE(TInspectieE[[#This Row],[Soort gebrek]],TInspectieE[[#This Row],[Trede]]) -> T-03 | AD10: #N/A | AE10: #N/A | AF10: 0
