Workbook
Name A: #REF!
Name B: #REF!
Name Bouwjaar: 'Inventarisatie (reserve)'!$P$2
Name BVO: #REF!
Name BVO: 'Inventarisatie (reserve)'!#REF!
Name comp: #REF!
Name Discipline: #REF!
Name Discipline: 'Inventarisatie (reserve)'!$M$2
Name E: #REF!
Name Fotolocatie: 'Inspectie (reserve)'!#REF!
Name G: #REF!
Name Gebouwid: #REF!
Name Gebouwid: 'Inventarisatie (reserve)'!#REF!
Name KOSTVP: #REF!
Name labels: #REF!
Name T: #REF!
Name W: #REF!

Sheet Advies
A5: Advies programma Label C/EML Defensie
A6: =CONCATENATE(B13,",",B14) -> Voorbeeld,Voorbeeld
A8: Gele velden invullen door Opdrachtnemer
A10: Object: | B10: Voorbeeld
A11: Complexnaam: | B11: Voorbeeld
A12: Gebouwnummer: | B12: Voorbeeld
A13: Straat en huisnummer: | B13: Voorbeeld
A14: Plaats: | B14: Voorbeeld
A15: Gemeente: | B15: Voorbeeld
A16: Hoofdgebruiker: | B16: Voorbeeld
A17: Bouwjaar: | B17: 1943
A18: m2 BVO: | B18: 636
A19: Gebouwsoort: | B19: Kantoor
A20: Gebouwcategorie:
A21: Monumentale status:
A22: Batch: | B22: 3
A23: Huidige label: | B23: N.v.t.
A24: Gemiddeld gasverbruik locatie | B24: 100000 | C24: m3 / jaar (o.b.v. jaarverbruiken periode 2023-2025)
A25: Contractvermogen elektra | C25: kW (Contract capacity) elektrisch
A26: Beschikbare elektrisch vermogen binnen lopend contract | C26: kW (Contract capacity - MaxPeak) elektrisch
A27: Asbestinventarisatie | B27: =IF(B17>=1993,"Asbest vrij op basis bouwjaar",IF(B28=NOT(ISBLANK(B28)),"Niet beschikbaar","Beschikbaar")) -> Niet beschikbaar
A28: Vervaldatum asbestinventarisatie
A29: GBS aanwezig | B29: Ja
A30: Duur van de werkzaamheden | B30: =ROUNDUP(B53/100000,0) -> 0 | C30: maanden
A31: Mate van overlast
A32: Zwembad aanwezig | B32: Nee
A33: Stoom aanwezig | B33: Nee
A34: Instandhoudingslabel | B34: 3
A36: Datum inspectie: | B36: 46260
A37: Inspectiebedrijf | B37: Naam bedrijf
A38: Inspecteur B: | B38: Jan
A39: Inspecteur E: | B39: Willem
A40: Inspecteur W: | B40: Hugo
A42: Datum advies RVB:
A43: Versie advies:
A44: Adviseur:
A46: Onderwerp | B46: Raming kosten excl. BTW | C46: Opmerking
A47: Label C Maatregelen | B47: 0
A48: EML minimale maatregelen | B48: =SUM(B69:B83) -> 0
B49: =0.6*(B47+B48) -> 0
...

Sheet SCHOUW
B2: GEBOUWGEGEVENS
B4: Objectgegevens
B5: Object | D5: =Advies!B10 -> Voorbeeld
B6: Complexnaam | D6: =Advies!B11 -> Voorbeeld
B7: Gebouw
B8: Plaats | D8: =Advies!B14 -> Voorbeeld
B9: Gemeente | D9: =Advies!B15 -> Voorbeeld
B10: Hoofdgebruiker | D10: =Advies!B16 -> Voorbeeld
B11: Plicht | D11: Informatieplichting
B13: Gebouwgegevens
B14: Uniek ID | D14: =CONCATENATE(D5,".",D15) -> Voorbeeld.Voorbeeld
B15: Gebouwnummer | D15: =Advies!B12 -> Voorbeeld
B16: Bouwjaar | D16: =Advies!B17 -> 1943
B17: m² BVO | D17: =Advies!B18 -> 636
B18: Gebouwsoort | D18: =Advies!B19 -> Kantoor
B19: Gebouwcategorie | D19: =Advies!B20 -> 0
B20: Monumentenstatus | D20: =Advies!B21 -> 0
B21: Batch | D21: =Advies!B22 -> 3
B23: Schouw
B24: Datum | D24: =Advies!B36 -> 46260
B25: Bedrijf | D25: =Advies!B37 -> Naam bedrijf
B26: Uitgevoerd door | D26: =Advies!B40 -> Hugo
B28: Legenda
B29: V | C29: Volledig uitgevoerd
B30: A | C30: Alternatief uitgevoerd
B31: G | C31: Gedeeltelijk uitgevoerd
B32: U | C32: In uitvoering
B33: X | C33: (Nog) niet uitgevoerd
B34: NM | C34: Natuurlijk moment (nog) niet voorgedaan
B35: R | C35: Niet voldaan aan randvoorwaarden (technisch en/of economisch) | K35: Planning | O35: Raming kosten (€)
B36: N.V.T. | C36: Niet van toepassing | K36: Zelfstandig moment | O36: =SUMIF(MTRG[Voorstel RVB uitvoering],"ZM",MTRG[Aantal (EURO''s)]) -> 21840
B37: O | C37: Onderzoeksplicht, niet van toepassing | K37: Natuurlijk moment | O37: =SUMIF(MTRG[Voorstel RVB uitvoering],"NM",MTRG[Aantal (EURO''s)]) -> 0
B39: SCHOUWDATA | H39: Invullen | J39: Invullen | K39: Invullen | L39: Flora/Fauna issue?
B41: Status per maatregel | F41: Bureaustudie | H41: Schouw
B42: Type | C42: Code | D42: Categorie | E42: Maatregel | F42: Status | G42: Aantal | H42: Status schouw | I42: Aantal | J42: Toelichting | K42: Aantal (EURO's) | L42: Uitvoering vlgs. EML | M42: Voorstel RVB uitvoering | N42: Door RVB invullen | O42: B | P42: E | Q42: W | R42: T
B43: Faciliteiten | J43: In beheer bij RVB/Defensie | Q43: x
D44: =D45 -> Perslucht | Q44: x
B45: Faciliteiten | C45: FA1 | D45: Perslucht | E45: Vergroot de persluchtbuffer. | F45: O | G45: 0 | I45: =SUMIFS(TInspectieTotaal[Aantal],TInspectieTotaal[EML code],MTRG[[#This Row],[Code]]) -> 0 | J45: In beheer bij Defensie
B46: Faciliteiten | C46: FA2 | D46: Perslucht | E46: Plaats een afsluiter met tijdschakelaar om verlies van perslucht buiten bedrijfstijden te beperken. | F46: O | G46: 0 | H46: N.V.T. | I46: =SUMIFS(TInspectieTotaal[Aantal],TInspectieTotaal[EML code],MTRG[[#This Row],[Code]]) -> 0 | J46: voldoet aan gestelde eisen | K46: =SUMIFS(TInspectieTotaal[Raming kosten excl. BTW],TInspectieTotaal[EML code],MTRG[[#This Row],[Code]]) -> 0 | L46: ZM | N46: x | Q46: x
B47: Faciliteiten | C47: FA3 | D47: Perslucht | E47: Pas een flow-drukregelaar toe in het persluchtnet. | F47: O | G47: 0 | H47: N.V.T. | I47: =SUMIFS(TInspectieTotaal[Aantal],TInspectieTotaal[EML code],MTRG[[#This Row],[Code]]) -> 0 | J47: geen centrale toerengeregelde persluchtcompressor(en) en buffervat aanwezig | K47: =SUMIFS(TInspectieTotaal[Raming kosten excl. BTW],TInspectieTotaal[EML code],MTRG[[#This Row],[Code]]) -> 0 | L47: ZM | N47: x | Q47: x
...

Sheet Inventarisatie (reserve)
A1: Inventarisatie
A2: Object | B2: =CONCATENATE(Advies!B10,".",Advies!B12) -> Voorbeeld.Voorbeeld | C2: =Advies!B11 -> Voorbeeld | M2: m2 BVO | N2: =Advies!B18 -> 636 | O2: Bouwjaar | P2: =Advies!B17 -> 1943 | R2: Opmerking:
X3: Specifiek voor monumentale bouwdelen | AI3: Specifiek voor veiligheidsprogramma's
A4: UVID | B4: Code Bouwdeeltype | C4: Bouwdeel omschrijving | D4: Volgnr. | E4: Object | F4: Ruimte | G4: Locatie aanduiding | H4: Reden buiten gebruik | I4: Aantal | J4: Dimensie | K4: Vakgroep | L4: Kwaliteits-niveau | M4: Foto | N4: Datum van constructie of productie [jjjj-mm-dd] | O4: Einde garantie [jjjj-mm-dd] | P4: Technische levensduur [jaren] | Q4: Verwachte technische einddatum | R4: Vervangings-kosten (excl. BTW) | S4: Installatie-nummer | T4: Serienummer | U4: Model/type | V4: Omvang | W4: Omvang eenheid | X4: In oorspron-kelijke toestand | Y4: Materiaal toepassing | Z4: Monumentale waarde | AA4: Datum restauratie / revisie | AB4: Duurzaamheid bijdrage | AC4: Voldoen aan advies | AD4: Fabrikant | AE4: Servicebedrijf | AF4: Leverancier | AG4: Eigenaar | AH4: Verantwoordelijk | AI4: Brandv.-functie van toepassing? | AJ4: Waterveiligheid functie van toepassing | AK4: Asbeststatus | AL4: VWoH van toepassing? | AM4: Dossier

Sheet Beoordeling
C1: Inspectiebureau: | D1: =Advies!B37 -> Naam bedrijf
C2: Gecertificeerd onderhoudskundig inspecteur B: | D2: =Advies!B38 -> Jan
C3: Gecertificeerd onderhoudskundig inspecteur E: | D3: =Advies!B39 -> Willem
C4: Gecertificeerd onderhoudskundig inspecteur W: | D4: =Advies!B40 -> Hugo
C5: Complex / locatie: | D5: =Advies!B11 -> Voorbeeld | L5: Soort inventarisatie: | M5: nul inventarisatie / her inventarisatie*
C6: Object code: | D6: =Advies!B10 -> Voorbeeld | L6: Soort inspectie: | M6: nul inspectie / her inspectie*
C7: Bouwjaar: | D7: =Advies!B17 -> 1943 | L7: Monument: | M7: Ja/Nee*
C8: BVO: | D8: =Advies!B18 -> 636 | E8: m2 BVO
C9: Instandhoudingslabel: | D9: =Advies!B34 -> 3 | E9: Basis
C10: Datum beoordeling (RVB):
C11: Behandeld door RVB medewerker:
C12: Aangehouden DZH tabel: | D12: DZH Prog EML Defensie | L12: *: weghalen wat niet van toepassing is.
C13: Versie beoordeling:
C14: Vakgebied: | D14: B, E en W
C17: Onderwerp | D17: Toelichting | E17: Wegfactor | F17: score | G17: punten | L17: Opmerking / toelichting
C18: Inventariseren
C19: Algemene opmerkingen:
C20: Vakgebied: | F20: B | G20: B | H20: E | I20: E | J20: W | K20: W
B21: 1.1 | C21: Kennis van vereiste en gewenste inventarisatie gegevens | D21: Het verzamelen en weergeven van de vereiste informatie volgens het handboek RVB BOEI. | E21: 0.2246 | F21: 0 | G21: =(F21*E21) -> 0 | H21: 0 | I21: =E21*H21 -> 0 | J21: 0 | K21: =E21*J21 -> 0
B22: 1.2 | D22: Het verzamelen en weergeven van de vereiste informatie volgens de Energie- en duurzaamheidstabel van de huidige aanwezige waarde of techniek. | E22: 0.1609 | F22: 0 | G22: =F22*E22 -> 0 | H22: 0 | I22: =E22*H22 -> 0 | J22: 0 | K22: =E22*J22 -> 0
B23: 1.3 | C23: Kennis van afbakening van bouwdelen | E23: 0.2317 | F23: 0 | G23: =F23*E23 -> 0 | H23: 0 | I23: =E23*H23 -> 0 | J23: 0 | K23: =E23*J23 -> 0
B24: 1.4 | C24: Leesbaarheid geheel | D24: Het eenduidig houden van de informatie zonder in herhaling te vallen. | E24: 0.2572 | F24: 0 | G24: =F24*E24 -> 0 | H24: 0 | I24: =E24*H24 -> 0 | J24: 0 | K24: =E24*J24 -> 0
B25: 1.5 | C25: Integrale Vervangingswaarde (IVW) | D25: Realistische waardebepaling. | E25: 0.1256 | F25: 0 | G25: =F25*E25 -> 0 | H25: 0 | I25: =E25*H25 -> 0 | J25: 0 | K25: =E25*J25 -> 0
C26: Rapportcijfer: | E26: =SUM(E21:E25) -> 1 | G26: =SUM(G21:G25) -> 0 | I26: =SUM(I21:I25) -> 0 | K26: =SUM(K21:K25) -> 0 | L26: =IF((G26+I26+K26)<5.5,"Niet accepteren",(IF((G26+I26+K26)>7.5,"Volstaat","Optimalisatie vereist"))) -> Niet accepteren
C27: Inspecteren
C28: Algemene opmerkingen:
C29: Vakgebied: | F29: B | G29: B | H29: E | I29: E | J29: W | K29: W
B30: 2.1 | C30: Kennis van de BOEI 2.0 methodiek | D30: Functioneel (functie - proces - omgeving) en technisch vertalen van thema O a.d.h.v. de geldende relevante inspectiepunten. | E30: 0.0683 | F30: 0 | G30: =F30*E30 -> 0 | H30: 0 | I30: =E30*H30 -> 0 | J30: 0 | K30: =E30*J30 -> 0
B31: 2.2 | D31: Functioneel (functie - proces - omgeving) en technisch vertalen van thema E a.d.h.v. de geldende energie- en duurzaamheidstabel. | E31: 0.1258 | F31: 0 | G31: =F31*E31 -> 0 | H31: 0 | I31: =E31*H31 -> 0 | J31: 0 | K31: =E31*J31 -> 0
B32: 2.3 | C32: Kennis van wet- en regelgeving en geldende normen | D32: Het kunnen omzetten van EML regelgeving naar gebreken per bouwdeeltype. | E32: 0.1624 | F32: 0 | G32: =F32*E32 -> 0 | H32: 0 | I32: =E32*H32 -> 0 | J32: 0 | K32: =E32*J32 -> 0
B33: 2.4 | C33: Kennis van de beginselen, logica en variabelen met betrekking tot de werking en het gebruik van het bouwdeel, in combinatie met degradatie- en schademechanismen | D33: Kennis van gebreken met betrekking tot materiaal en constructie. | E33: 0.0825 | F33: 0 | G33: =F33*E33 -> 0 | H33: 0 | I33: =E33*H33 -> 0 | J33: 0 | K33: =E33*J33 -> 0
B34: 2.5 | C34: Kennis van logica van LOGRO | D34: Herkennen van de primaire oorzaak / de bron van het gebrek, het vaststellen van de (exacte) locatie van het gebrek en het kunnen vertalen naar het gevolg en (gebruiks-)risico en daaropvolgend kunnen bepalen en uitwerken van een duurzame technisch en financieel proportionele oplossing. | E34: 0.129 | F34: 0 | G34: =F34*E34 -> 0 | H34: 0 | I34: =E34*H34 -> 0 | J34: 0 | K34: =E34*J34 -> 0
B35: 2.6 | C35: SMART; Specifiek blijven, Meetbaar maken, Acceptabele toelichtingen, Realistische blijven en met de juiste Tijdsplanning. | D35: De beschreven gebrek annotatie / toelichting moet volledig en eenduidig zijn voor elke lezer nu en straks zodat uitvoering volledig transparant en uniek is. | E35: 0.0804 | F35: 0 | G35: =F35*E35 -> 0 | H35: 0 | I35: =E35*H35 -> 0 | J35: 0 | K35: =E35*J35 -> 0
B36: 2.7 | C36: Kostenraming | D36: Reëel bedragen bij thema's B-O-I en hanteren van een overzichtelijke opbouw naar budgetitems. | E36: 0.0443 | F36: 0 | G36: =F36*E36 -> 0 | H36: 0 | I36: =E36*H36 -> 0 | J36: 0 | K36: =E36*J36 -> 0
B37: 2.8 | C37: Vertalen van specialisten / expert rapportages en/of logboeken. | D37: Kunnen interpreteren en controleren van gebreken uit specialistische en expert rapportages en volledig en correct omzetten a.d.h.v. de RVB beslisboom soort gebrek. | E37: 0.0974 | F37: 0 | G37: =F37*E37 -> 0 | H37: 0 | I37: =E37*H37 -> 0 | J37: 0 | K37: =E37*J37 -> 0
B38: 2.9 | C38: Foto's | D38: De overzichts- / detailfoto's moeten scherp en leesbaar zijn. Op de foto mogen geen gevoelige informatie of personen zichtbaar zijn. | E38: 0.2099 | F38: 0 | G38: =F38*E38 -> 0 | H38: 0 | I38: =E38*H38 -> 0 | J38: 0 | K38: =E38*J38 -> 0
C39: Rapportcijfer: | E39: =SUM(E30:E38) -> 1 | G39: =SUM(G30:G38) -> 0 | I39: =SUM(I30:I38) -> 0 | K39: =SUM(K30:K38) -> 0 | L39: =IF((G39+I39+K39)<5.5,"Niet accepteren",(IF((G39+I39+K39)>7.5,"Volstaat","Optimalisatie vereist"))) -> Niet accepteren

Sheet Inventarisatie Totaal
B1: Inventarisatie
B2: Object | C2: =CONCATENATE(Advies!B10,".",Advies!B12) -> Voorbeeld.Voorbeeld | D2: =Advies!B11 -> Voorbeeld | N2: m2 BVO | O2: =Advies!B18 -> 636 | P2: Bouwjaar | Q2: =Advies!B17 -> 1943 | S2: Opmerking:
Y3: Specifiek voor monumentale bouwdelen | AJ3: Specifiek voor veiligheidsprogramma's
B4: UVID | C4: Code Bouwdeeltype | D4: Bouwdeel omschrijving | E4: Volgnr. | F4: Object | G4: Ruimte | H4: Locatie aanduiding | I4: Reden buiten gebruik | J4: Aantal | K4: Dimensie | L4: Vakgroep | M4: Kwaliteits-niveau | N4: Foto | O4: Datum van constructie of productie [jjjj-mm-dd] | P4: Einde garantie [jjjj-mm-dd] | Q4: Technische levensduur [jaren] | R4: Verwachte technische einddatum | S4: Vervangings-kosten (excl. BTW) | T4: Installatie-nummer | U4: Serienummer | V4: Model/type | W4: Omvang | X4: Omvang eenheid | Y4: In oorspron-kelijke toestand | Z4: Materiaal toepassing | AA4: Monumentale waarde | AB4: Datum restauratie / revisie | AC4: Duurzaamheid bijdrage | AD4: Fabrikant | AE4: Servicebedrijf | AF4: Leverancier | AG4: Eigenaar | AH4: Verantwoordelijk | AI4: Brandv.-functie van toepassing? | AJ4: Waterveiligheid functie van toepassing | AK4: Asbeststatus | AL4: VWoH van toepassing? | AM4: Dossier
B5: 210010-1 | C5: 210010 | D5: Gevel | E5: 1 | F5: Voorbeeld | G5: 1, 2, 3, 4, 6, 7, 8, 11, 12 | J5: 310 | K5: m2 | L5: B | M5: 3 | N5: [objectcode.gebouwnummer] -210010-1 | O5: 15707 | Q5: 100 | R5: 52207 | S5: 0 | T5: Onbekend | U5: Onbekend | V5: Metselwerk geschilderd | AC5: Voldoet niet aan vigerende W&R | AD5: Onbekend | AF5: Onbekend | AG5: Afnemer | AH5: Afnemer | AM5: Spouwbreedte 5cm. Geen isolatie in spouw. RC=0,5. Metselwerk staand verband. Orientatie: 43m2 Noord, 110m2 Oost, 43m2 Zuid, 114m2 West. Dekkend geschilderd wit. Dragend. Wandopeningen van Hout en glas. Vogelwering aanwezig. Hoogte gevel is 2,85m.
B6: 312010-1 | C6: 312010 | D6: Kozijnwerk buiten | E6: 1 | F6: Voorbeeld | G6: 1, 2, 3, 4, 6, 6a, 7, 8, 11, 12 | J6: 95 | K6: m2 | L6: B | M6: 3 | N6: [objectcode.gebouwnummer] -312010-1 | O6: 33604 | Q6: 50 | R6: 51854 | S6: 85500 | T6: Onbekend | U6: Onbekend | V6: Houten kozijnen dekkend geschilderd | AC6: Voldoet aan hoogste eisen | AD6: Onbekend | AF6: Onbekend | AG6: Afnemer | AH6: Afnemer | AM6: Voorzien van isolatieglas. Houten kozijn, 90 graden, draairamen en vaste ramen. Orientantie: 9m2 Noord, 36,5m2 Oost, 9m2 Zuid, 40,5m2 West. Dekkend geschilderd wit. Sponning is 2cm.
B7: 312010-2 | C7: 312010 | D7: Kozijnwerk buiten | E7: 2 | F7: Voorbeeld | G7: 106 | J7: 4 | K7: m2 | L7: B | M7: 3 | N7: [objectcode.gebouwnummer] -312010-2 | O7: 15707 | Q7: 75 | R7: 43082 | S7: 4000 | T7: Onbekend | U7: Onbekend | V7: Stalen kozijnen | AC7: Voldoet niet aan DZH-lijn | AD7: Onbekend | AF7: Onbekend | AG7: Afnemer | AH7: Afnemer | AM7: Betreft dakramen. Voorzien van enkelglas. Stalen kozijn, 45 graden, draairamen. Oriëntatie: 2m2 Oost. 2m2 west. Dekkend afgewerkt coating. Onbeschut. Rondom keramische dakpannen. Niet thermisch onderbroken
B8: 312030-1 | C8: 312030 | D8: Beglazing buiten | E8: 1 | F8: Voorbeeld | G8: 106 | J8: 4 | K8: m2 | L8: B | M8: 3 | N8: [objectcode.gebouwnummer] -312030-1 | O8: 15707 | Q8: 75 | R8: 43082 | S8: 560 | T8: Onbekend | U8: Onbekend | V8: Enkelglas | AC8: Voldoet niet aan vigerende W&R | AD8: Onbekend | AF8: Onbekend | AG8: Afnemer | AH8: Afnemer | AM8: Enkelglas 4mm in dakramen. Droog in stalen kozijn gelegd.
B9: 312050-1 | C9: 312050 | D9: Beglazing isolatieglas buiten | E9: 1 | F9: Voorbeeld | G9: 1, 2, 3, 4, 7, 8, 11 en 12 | J9: 48 | K9: m2 | L9: B | M9: 3 | N9: [objectcode.gebouwnummer] -312050-1 | O9: 33604 | Q9: 30 | R9: 44554 | S9: 6720 | T9: Onbekend | U9: Onbekend | V9: SANCO dubbelglas | AC9: Voldoet niet aan vigerende W&R | AD9: SANCO | AF9: Onbekend | AG9: Afnemer | AH9: Afnemer | AM9: Dubbelglas 18mm (4-10-4) Sanco. Glaslatten met kitwerk. Beglazing is aanwezig in ramen en deuren. Beglazing is identiek.
B10: 471210-1 | C10: 471210 | D10: Dakbedekking hellend dak | E10: 1 | F10: Voorbeeld | G10: 106 | J10: 420 | K10: m² | L10: B | M10: 3 | N10: [objectcode.gebouwnummer] -471210-1 | O10: 33756 | Q10: 75 | R10: 61131 | S10: 41580 | T10: 900016560 | U10: Onbekend | V10: Dakpannen keramisch | AC10: Voldoet niet aan DZH-lijn | AD10: Onbekend | AF10: Onbekend | AG10: Afnemer | AH10: Afnemer | AM10: Geen zonnepanelen aanwezig. Totale lengte goot = 70 m1, 70m1 aan nokvorstren keramisch. 420m2 aan oppervlakte. Geen bliksemvoorziening aanweizg. Geen aanwezigheid van valbeveiliging. RC waarde is 0 ivm ontbreken isolatie
B11: 634010-1 | C11: 634010 | D11: Noodverlichting centraal/decentraal | E11: 1 | F11: Voorbeeld | G11: 1, 1A, 9, 7 | J11: 1 | K11: Stuks | L11: E | M11: 3 | N11: [objectcode.gebouwnummer] LED vluchtweg overzicht, [objectcode.gebouwnummer] LED vluchtweg detail | O11: 43647 | Q11: 20 | R11: 50947 | S11: 2696 | T11: 900007031 | U11: Onbekend | V11: LED | W11: n.v.t. | X11: n.v.t. | AC11: Voldoet aan hoogste eisen | AD11: Van Lien | AF11: Onbekend | AG11: Afnemer | AH11: Afnemer | AM11: Aantal vluchtwegarmaturen: 8, aantal noodverlichting: 8
B12: 632010-1 | C12: 632010 | D12: Verlichting standaard armaturen | E12: 1 | F12: Voorbeeld | G12: 1–12, 1A, 6A, 9A–C, 10A, 12A en 106 | J12: 63 | K12: Stuks | L12: E | M12: 3 | N12: [objectcode.gebouwnummer] TL lamp overzicht, [objectcode.gebouwnummer] TL lamp overzicht2, [objectcode.gebouwnummer] TL lamp detail, [objectcode.gebouwnummer] TL lamp detail2 | O12: 36526 | Q12: 20 | R12: 43826 | S12: 21839 | T12: Onbekend | U12: Onbekend | V12: TL | W12: 636 | X12: m2 BVO | AC12: Voldoet niet aan vigerende W&R | AD12: Philips, Mazdafluor, Meyer | AF12: Onbekend | AG12: Afnemer | AH12: Afnemer | AM12: Type verlichting: TL ingebouwde plafond armaturen, aantallen naar type: 57 armaturen, TL montagebalken, aantallen naar type: 6 armaturen. Schakeling in alle ruimtes gaat met conventionele lichtknoppen
B13: 531010-1 | C13: 531010 | D13: Leidingen, appendages en toebehoren water | E13: 1 | F13: Voorbeeld | G13: 5A | J13: 1 | K13: Stuks | L13: W | M13: 3 | N13: [objectcode.gebouwnummer]-532110-1-Overzicht | O13: 15707 | Q13: 40 | R13: 30307 | S13: 1898.85 | T13: Onbekend | U13: Onbekend | V13: Metaal | W13: 635 | X13: m2 BVO | AC13: Voldoet niet aan DZH-lijn | AD13: Onbekend | AF13: Onbekend | AG13: Afnemer | AH13: Afnemer | AM13: 2 meter leiding, ongeïsoleerd in verwarmde ruimte, geen circulatieleiding, boiler bevindt zich binnen twee meter van tappunt, metalen leiding
B14: 532110-1 | C14: 532110 | D14: Verwarmd tapwater boiler | E14: 1 | F14: Voorbeeld | G14: 5A | J14: 1 | K14: Stuks | L14: W | M14: 3 | N14: [objectcode.gebouwnummer] -532110-1-Overzicht; [objectcode.gebouwnummer] 532110-1-type | O14: 38353 | Q14: 15 | R14: 43828 | S14: 1163 | T14: 900036611 | U14: 9629594 | V14: 07.10.18.041 | W14: 30 | X14: Liter | AC14: Voldoet niet aan DZH-lijn | AD14: Daalderop | AF14: Onbekend | AG14: Afnemer | AH14: Afnemer | AM14: Mono koper; 450 W, 30 liter, geen circulatieleiding, elektrische boiler
B15: 552110-1 | C15: 552110 | D15: Warmtepomp | E15: 1 | F15: Voorbeeld | G15: 2 | J15: 1 | K15: Stuks | L15: W | M15: 3 | N15: [objectcode.gebouwnummer] -552010-Overzicht; [objectcode.gebouwnummer] -552010-1-Type; [objectcode.gebouwnummer] -552010-1-Overzicht | O15: 36526 | Q15: 15 | R15: 42001 | S15: 5744.05 | T15: 9000161754 | U15: 4800969 | V15: AS-24H | X15: n.v.t. | AC15: Voldoet niet aan DZH-lijn | AD15: Fujitsu | AF15: Onbekend | AG15: Afnemer | AH15: Afnemer | AM15: Kan verwarmen en koelen, 2,5 kW nominaal e-vermogen, l-l warmtepomp, koelt/verwarmt enkel de ruimte waar die staat, compressiekoelmachine SEER < 3 (gebaseerd op basis van bouwjaar)
B16: 552110-2 | C16: 552110 | D16: Warmtepomp | E16: 2 | F16: Voorbeeld | G16: 12 | J16: 1 | K16: Stuks | L16: W | M16: 3 | N16: [objectcode.gebouwnummer] -552010-Overzicht; [objectcode.gebouwnummer] -552010-2-Overzicht; [objectcode.gebouwnummer] -552010-2-Type | O16: 32874 | Q16: 15 | R16: 38349 | S16: 5744.05 | T16: 900051738 | U16: Onbekend | V16: 900051738 | X16: n.v.t. | AC16: Voldoet niet aan DZH-lijn | AD16: Carrier | AF16: Onbekend | AG16: Afnemer | AH16: Afnemer | AM16: Kan verwarmen en koelen, vermogen onbekend, l-l warmtepomp, koelt/verwarmt enkel de ruimte waar die staat, compressiekoelmachine SEER < 3 (gebaseerd op basis van bouwjaar)
B17: 562110-1 | C17: 562110 | D17: Verwarming opwekking centraal | E17: 1 | F17: Voorbeeld | G17: 6 | J17: 1 | K17: Stuks | L17: W | M17: 3 | N17: [objectcode.gebouwnummer] -562110-Overzicht; [objectcode.gebouwnummer] -562110-1-type | O17: 45658 | Q17: 15 | R17: 51133 | S17: 10140 | T17: Onbekend | U17: 2434832338520 | V17: Quinta ACE 115 | W17: 107 | X17: kW | AC17: Voldoet niet aan DZH-lijn | AD17: Remeha | AF17: Unica | AG17: Afnemer | AH17: Afnemer | AM17: Aardgas, HR, cv-installatie verwarmd gebouwen 45H07.002, 45H07.003 & 45H07.004, 107 kW nominaal vermogen, een weersafhankelijke regeling is aanwezig, cascade opstelling
B18: 562110-2 | C18: 562110 | D18: Verwarming opwekking centraal | E18: 2 | F18: Voorbeeld | G18: 6 | J18: 1 | K18: Stuks | L18: W | M18: 3 | N18: [objectcode.gebouwnummer] -562110-Overzicht; [objectcode.gebouwnummer] -562110-2-type | O18: 45658 | Q18: 15 | R18: 51133 | S18: 10140 | T18: Onbekend | U18: 2434832338510 | V18: Quinta ACE 115 | W18: 107 | X18: kW | AC18: Voldoet niet aan DZH-lijn | AD18: Remeha | AF18: Unica | AG18: Afnemer | AH18: Afnemer | AM18: Aardgas, HR, cv-installatie verwarmd gebouwen 45H07.002, 45H07.003 & 45H07.004, 107 kW nominaal vermogen, een weersafhankelijke regeling is aanwezig, cascade opstelling
B19: 563010-1 | C19: 563010 | D19: Verdeler/verzamelaar verwarmen | E19: 1 | F19: Voorbeeld | G19: 6 | J19: 1 | K19: Stuks | L19: W | M19: 3 | N19: [objectcode.gebouwnummer] -563010-overzicht; [objectcode.gebouwnummer] -563010-pomp1;[objectcode.gebouwnummer] -563010-pomp2; [objectcode.gebouwnummer] -563010-pomp3; [objectcode.gebouwnummer] -563010-pomp4; [objectcode.gebouwnummer] -563010-pomp5; | O19: 15707 | Q19: 40 | R19: 30307 | S19: 10823 | T19: Onbekend | U19: Onbekend | V19: Metaal | W19: 5 | X19: Groepen | AC19: Voldoet niet aan vigerende W&R | AD19: Biral, Grundfos, | AF19: Niet bekend | AG19: Afnemer | AH19: Afnemer | AM19: 2x pomp biral NRF 14T (50 W) (niet frequentiegeregeld), 1x pomp grundfos MAGNA3 25-40 (50W) (frequentiegeregeld), 1x biral D 32-8 180 RED (134 W) (frequentiegeregeld, 1x pomp grundfos Alpha2 25-40/130 (18 W) (fequentiegeregeld), isolatie leidingen en appendages is toegepast, metalen leidingen
B20: 568010-1 | C20: 568010 | D20: Afgifte element warmte | E20: 1 | F20: Voorbeeld | G20: 2,3,4,5,7,8,11,12 | J20: 15 | K20: Stuks | L20: W | M20: 3 | N20: [objectcode.gebouwnummer] -568010 | O20: 15707 | Q20: 40 | R20: 30307 | S20: 10500 | T20: Onbekend | U20: Onbekend | V20: Radiatoren | W20: 30 | X20: kW | AC20: Voldoet niet aan DZH-lijn | AD20: Onbekend | AF20: Onbekend | AG20: Afnemer | AH20: Afnemer | AM20: Radiatoren allen voorzien van thermosstaatknoppen, waterzijdig verwarmingssyteem, vermogen ingeschat op basis van aantal radiatoren
B21: 569030-1 | C21: 569030 | D21: Leidingnet en appendages verwarmen | E21: 1 | F21: Voorbeeld | G21: 1 t/m 12 en 106 | J21: 1 | K21: m2 BVO | L21: W | M21: 3 | N21: [objectcode.gebouwnummer] -531010-overzicht1; [objectcode.gebouwnummer] -531010-overzicht2 | O21: 15707 | Q21: 40 | R21: 30307 | S21: 25255 | T21: 900055374 | U21: Onbekend | V21: Metaal | W21: 635 | X21: n.v.t. | AC21: Voldoet niet aan vigerende W&R | AD21: Onbekend | AF21: Onbekend | AG21: Afnemer | AH21: Afnemer | AM21: 30 meter leiding (metalen leiding) ongeïsoleerd in onverwarmde ruimte (ruimte 106), 2x pomp grundfos MAGNA3 25-40 (50W) (frequentiegeregeld)
B22: 573020-1 | C22: 573020 | D22: Mechanische luchtbehandeling | E22: 1 | F22: Voorbeeld | G22: 106 | J22: 1 | K22: Stuks | L22: W | M22: 3 | N22: [objectcode.gebouwnummer] -573020-overzicht; [objectcode.gebouwnummer] -573020-type | O22: 39814 | Q22: 20 | R22: 47114 | S22: 4176 | T22: Onbekend | U22: 471300530 | V22: Arctic 950 L CC | W22: 0.07 | X22: m3/sec. | AC22: Voldoet niet aan DZH-lijn | AD22: J.E. Stork Air | AF22: Onbekend | AG22: Afnemer | AH22: Afnemer | AM22: 994 Watt nominaal vermogen; klokregeling toegepast, 2 ventilatoren 100 W en IE1 klasse (bepaald o.b.v. leeftijd); 3.000 draaiuren per jaar
B23: 579040-1 | C23: 579040 | D23: Luchtkanalen, appendages en isolatie | E23: 1 | F23: Voorbeeld | G23: 1 t/m 12 en 106 | J23: 635 | K23: m2 BVO | L23: W | M23: 3 | N23: [objectcode.gebouwnummer] -579040-overzicht1 | O23: 15707 | Q23: 99 | R23: 51842 | S23: 10000 | T23: Onbekend | U23: Onbekend | V23: Metaal | X23: n.v.t. | AC23: Voldoet aan hoogste eisen | AD23: Onbekend | AF23: Onbekend | AG23: Afnemer | AH23: Afnemer | AM23: 3 meter aanzuigkanalen in onverwarmde ruimte (ruimte 106) geïsoleerd en 30 meter afzuigkanalen ongeïsoleerd (ruimte 106) , metalen luchtkanalen

Sheet Inspectie Totaal
B1: EML Inspectie
B2: Object | C2: =CONCATENATE(Advies!B10,".",Advies!B12) -> Voorbeeld.Voorbeeld | D2: =Advies!B11 -> Voorbeeld | N2: m2 BVO | O2: =Advies!B18 -> 636 | P2: Bouwjaar | Q2: =Advies!B17 -> 1943 | S2: Opmerking:
B4: UVID | C4: Code Bouwdeeltype | D4: Vak-groep | E4: Omschrijving bouwdeel | F4: Thema BOEI | G4: Soort gebrek | H4: Ernst categorie | I4: Soort gebrek (Voluit) | J4: Intensiteit | K4: Omvang | L4: Prioriteit | M4: Gebrek nr. | N4: Gebrekcode | O4: Aantal fotos | P4: Filenaam Foto's | Q4: Locatie | R4: Duurzaamheid bijdrage | S4: Oorzaak - Omschrijving | T4: EML code | U4: Gevolg (risico) | V4: Oplossing | W4: FUTP's | X4: Herstelmaatregel | Y4: Kengetal | Z4: Aantal | AA4: Raming kosten excl. BTW | AB4: Trede | AC4: Combi | AD4: FH | AE4: DH | AF4: Bouwdatum | AG4: Voldoen aan advies
B5: 210010-1 | C5: 210010 | D5: B | E5: Gevel | F5: O | G5: W-BK | H5: Wetsgebrek | I5: wettelijk basiskwaliteit | J5: Eind | K5: 1 | L5: 4 | M5: 3 | N5: 210010-1-3 | P5: [objectcode.gebouwnummer] -210010-1 | Q5: 8 | R5: Voldoet niet aan vigerende W&R | S5: Thermische scheurvorming | T5: N.v.t. | U5: Constructieve verzwakking, zetting, vervorming wanden en vloeren, vochtproblemen. | V5: Scheurvorming herstellen/dichtzetten. Nader onderzoek scheurvorming wordt geadviseerd. | W5: FUTP niet van toepassing | X5: Reparatie | Y5: 1200 | Z5: 1 | AA5: 1200 | AB5: 3 | AF5: 0
B6: 210010-1 | C6: 210010 | D6: B | E6: Gevel | F6: E | G6: G-PO | H6: Gering | I6: onderhoud | J6: Gevorderd | K6: 0.5 | L6: 4 | M6: 1 | N6: 210010-1-1 | P6: [objectcode.gebouwnummer] -210010-1 | Q6: 1, 2, 3, 4, 6, 6a, 7, 8, 11, 12 | R6: Voldoet niet aan vigerende W&R | S6: Ontwerp o.b.v. oude wetgeving | T6: GB1 | U6: EML nog niet uitgevoerd. Spouwbreedte >5cm. Geen isolatie in spouwmuur aanwezig. RC is 0,5. De goothoogte is 2,70m. Het is niet noodzakelijk om steigerwerk op te bouwen voor het na-isoleren van deze gevel. | V6: Na-isolereren op een natuurlijk moment volgens FUTP. Bij na isoleren van de spouwmuur wordt een RC van 5 behaald en wordt dus voldaan aan de hoogste eisen uit de dzh-tabel | W6: 21.00.00-01 Verduurzamen schil gebouw - Buitenwanden | X6: Integraal vervangen – imiteren | Y6: 35 | Z6: 310 | AA6: 10850 | AB6: 3 | AF6: 0
B7: 312010-1 | C7: 312010 | D7: B | E7: Kozijnwerk buiten | F7: O | G7: G-PO | H7: Gering | I7: onderhoud | J7: Gevorderd | K7: 0.02 | L7: 4 | M7: 1 | N7: 312010-1-1 | P7: [objectcode.gebouwnummer] -312010-1 | Q7: 8 (buitenzijde) | R7: Voldoet aan hoogste eisen | S7: Slechte afwerklaag. Onvoldoende bescherming. | T7: N.v.t. | U7: Houtrot aanwezig op verbindingsstukken. Onvoldoende waterkering en stabiliteit en vochtdoorslag | V7: Partieel herstellen | W7: FUTP niet van toepassing | X7: Reparatie | Y7: 1000 | Z7: 1 | AA7: 1000 | AB7: 3 | AF7: 0
B8: 312010-1 | C8: 312010 | D8: B | E8: Kozijnwerk buiten | F8: O | G8: T-75 | H8: Theoretisch | I8: ≥75% verval <87,5% | J8: Gevorderd | K8: 0.98 | L8: 9 | M8: 3 | N8: 312010-1-3 | P8: [objectcode.gebouwnummer] -312010-1 | Q8: 1, 2, 3, 4, 6, 6a, 7, 8, 11, 12 | R8: Voldoet aan hoogste eisen | S8: Door bereiken einde levensduur | T8: N.v.t. | U8: barsten, afbladderen en krijten. Beschermlaag onvoldoende om het kozijn optimaal te beschermen en houtrot kan ontstaan | V8: Planmatig vervangen op basis van leeftijd door houten kozijnen volgens hoogste eisen uit dzh-tabel. Voor vervangen kozijnen zie FUTP | W8: 31.20.00-01 Verduurzamen schil gebouw - HR++ beglazing en kozijnen | X8: Integraal vervangen – imiteren | Y8: 750 | Z8: 95 | AA8: 71250 | AB8: 3 | AF8: 0
B9: 312010-2 | C9: 312010 | D9: B | E9: Kozijnwerk buiten | F9: O | G9: T-87,5 | H9: Theoretisch | I9: Verval ≥ 87,5% | J9: Eind | K9: 1 | L9: 8 | M9: 1 | N9: 312010-2-1 | P9: [objectcode.gebouwnummer] -312010-2 | Q9: 106 | R9: Voldoet niet aan DZH-lijn | S9: Door bereiken einde levensduur | T9: N.v.t. | U9: Toename gebreken, niet functioneren delen | V9: Planmatig vervangen op basis van leeftijd door houten kozijnen volgens hoogste eisen uit dzh-tabel. Voor vervangen kozijnen zie FUTP | W9: 31.20.00-01 Verduurzamen schil gebouw - HR++ beglazing en kozijnen | X9: Integraal vervangen – imiteren | Y9: 1100 | Z9: 4 | AA9: 4400 | AB9: 3 | AF9: 0
B10: 312030-1 | C10: 312030 | D10: B | E10: Beglazing buiten | F10: E | G10: GG | H10: Geen | I10: Geen gebrek | J10: Eind | K10: 1 | L10: 0 | M10: 1 | N10: 312030-1-1 | P10: [objectcode.gebouwnummer] -312030-1 | Q10: 106 | R10: Voldoet niet aan vigerende W&R | S10: Verouderde beglazing | T10: N.v.t. | U10: Uitzakken glaswerk, sneller breuk in glaswerk. Comfort vermindering | V10: Vervangen beglazing. Vervang beglazing volgens FUTP. Enkelglas vervangen voor HR++ glas. Na aanbrengen voldoet het aan de hoogste eis van de DZH-tabel. | W10: 31.20.00-01 Verduurzamen schil gebouw - HR++ beglazing en kozijnen | X10: Integraal vervangen – imiteren | Y10: 250 | Z10: 95 | AA10: 23750 | AB10: 3 | AF10: 0
B11: 312030-1 | C11: 312030 | D11: B | E11: Beglazing buiten | F11: O | G11: T-87,5 | H11: Theoretisch | I11: Verval ≥ 87,5% | J11: Eind | K11: 1 | L11: 8 | M11: 2 | N11: 312030-1-2 | P11: [objectcode.gebouwnummer] -312030-1 | Q11: 106 | R11: Voldoet niet aan vigerende W&R | S11: niet van toepassing | T11: GB5 | U11: EML kan niet worden toegepast. In de huidige stalen kozijnen (dakramen) is het uitvoeren van GB5 niet mogelijk omdat hier geen ruimte is voor HR++ glas. Sponningsdiepte is kleiner dan 2cm. | V11: niet van toepassing | W11: FUTP niet van toepassing | X11: Niet van toepassing | AB11: 3 | AF11: 0
B12: 312050-1 | C12: 312050 | D12: B | E12: Beglazing isolatieglas buiten | F12: O | G12: T-75 | H12: Theoretisch | I12: ≥75% verval <87,5% | J12: Gevorderd | K12: 1 | L12: 9 | M12: 1 | N12: 312050-1-1 | P12: [objectcode.gebouwnummer] -312050-1 | Q12: 1, 2, 3, 4, 6, 6a, 7, 8, 11, 12 | R12: Voldoet niet aan vigerende W&R | S12: Door bereiken einde levensduur | T12: N.v.t. | U12: Matig comfort en verhoogde energieverbruik | V12: Vervang beglazing volgens FUTP. Kosten zijn opgnomen bij EML. 312050-1-2 | W12: 31.20.00-01 Verduurzamen schil gebouw - HR++ beglazing en kozijnen | X12: Elders opgenomen | AB12: 3 | AF12: 0
B13: 312050-1 | C13: 312050 | D13: B | E13: Beglazing isolatieglas buiten | F13: E | G13: GG | H13: Geen | I13: Geen gebrek | J13: Eind | K13: 1 | L13: 0 | M13: 2 | N13: 312050-1-2 | P13: [objectcode.gebouwnummer] -312050-1 | Q13: 1, 2, 3, 4, 6, 6a, 7, 8, 11, 12 | R13: Voldoet niet aan vigerende W&R | S13: Ontwerp o.b.v. oude wetgeving | T13: GB6 | U13: EML niet uitgevoerd en kan toegepast worden. Sponning is groter dan 2cm en ruimten worden verwarmt tot 18 graden of hoger. | V13: Vervang beglazing volgens FUTP. Dubbelglas vervangen voor HR++ glas. Sponning is 4cm. Na aanbrengen voldoet het aan de hoogste eis van de DZH-tabel. | W13: 31.20.00-01 Verduurzamen schil gebouw - HR++ beglazing en kozijnen | X13: Integraal vervangen – imiteren | Y13: 250 | Z13: 48 | AA13: 12000 | AB13: 3 | AF13: 0
B14: 471210-1 | C14: 471210 | D14: B | E14: Dakbedekking hellend dak | F14: O | G14: T-87,5 | H14: Theoretisch | I14: Verval ≥ 87,5% | J14: Eind | K14: 0.8 | L14: 8 | M14: 1 | N14: 471210-1-1 | P14: [objectcode.gebouwnummer] -471210-1 | Q14: 106 | R14: Voldoet niet aan DZH-lijn | S14: Erg verouderde dakafwerking | T14: N.v.t. | U14: Toename gebreken - onvoldoende primaire functie behouden - lekkages | V14: Planmatig vervangen op basis van leeftijd door houten kozijnen volgens hoogste eisen uit dzh-tabel: minimaal RC waarde 5 | W14: FUTP niet van toepassing | X14: Integraal vervangen – imiteren | Y14: 99 | Z14: 420 | AA14: 41580 | AB14: 3 | AF14: 0
B15: 471210-1 | C15: 471210 | D15: B | E15: Dakbedekking hellend dak | F15: O | G15: G-PO | H15: Gering | I15: onderhoud | J15: Gevorderd | K15: 0.2 | L15: 4 | M15: 2 | N15: 471210-1-2 | P15: [objectcode.gebouwnummer] -471210-1 | Q15: 106 | R15: Voldoet niet aan DZH-lijn | S15: Begroeïng rondom gebouw zorgt voor alg en mosgroei op het dak. | T15: N.v.t. | U15: Aantasten schutlaag dakpannen, verstoppingen door vervuiling, onvoldoende afschot voor regenwater | V15: Partieel reinigen mits integraal vervangen niet toegepast gaat worden. | W15: FUTP niet van toepassing | X15: Reinigen, doorspuiten, conserveren | Y15: 15 | Z15: 200 | AA15: 3000 | AB15: 3 | AF15: 0
B16: 471210-1 | C16: 471210 | D16: B | E16: Dakbedekking hellend dak | F16: E | G16: GG | H16: Geen | I16: Geen gebrek | J16: Eind | K16: 0.5 | L16: 0 | M16: 3 | N16: 471210-1-3 | P16: [objectcode.gebouwnummer] -471210-1 | Q16: 106 | R16: Voldoet niet aan DZH-lijn | S16: Niet van toepassing | T16: GH1 | U16: EML niet van toepassing. Dakoppervlak is kleiner dan de benodigde 2000m2. | V16: Niet van toepassing | W16: FUTP niet van toepassing | X16: Niet van toepassing | AB16: 3 | AF16: 0
B17: 634010-1 | C17: 634010 | D17: E | E17: Noodverlichting centraal/decentraal | F17: O | G17: T-0 | H17: Theoretisch | I17: Verval < 50% | J17: Begin | K17: 1 | L17: 9 | M17: 1 | N17: 634010-1-1 | P17: [objectcode.gebouwnummer] LED vluchtweg overzicht, [objectcode.gebouwnummer] LED vluchtweg detail | Q17: 1, 1A, 9, 7 | R17: Voldoet aan hoogste eisen | S17: Element vervangen in 2019, levensduur beslaat 20 jaar. Element heeft 35% van theoretische levensduur gehaald | T17: N.v.t. | U17: Functieverlies, toename aan gebreken/verstoringen | V17: Planmatig vervangen op basis van leeftijd volgens FUTP. Vervangen voor wederom een LED armatuur. Voldoet zowel in huidige situatie als na vervanging aan hoogste eisen DHZ-tabel. | W17: 63.20.10-01 Verduurzamen EML - verlichtingsarmaturen standaard | X17: Integraal vervangen – imiteren | Y17: 337 | Z17: 8 | AA17: 2700 | AB17: 3 | AF17: 0 | AG17: Voldoet
B18: 634010-1 | C18: 634010 | D18: E | E18: Noodverlichting centraal/decentraal | F18: E | G18: GG | H18: Geen | I18: Geen gebrek | J18: Eind | K18: 1 | L18: 0 | M18: 2 | N18: 634010-1-2 | P18: [objectcode.gebouwnummer] LED vluchtweg overzicht, [objectcode.gebouwnummer] LED vluchtweg detail | Q18: 1, 1A, 9, 7 | R18: Voldoet aan hoogste eisen | S18: Vervangen voor LED verlichting in 2019 | T18: GF15 | U18: GF15 is uitgevoerd, LED verlichting voor noodverlichting toegepast | V18: n.v.t. | X18: Niet van toepassing | AB18: 3 | AF18: 0 | AG18: Voldoet
B19: 632010-1 | C19: 632010 | D19: E | E19: Verlichting standaard armaturen | F19: O | G19: T-87,5 | H19: Theoretisch | I19: Verval ≥ 87,5% | J19: Eind | K19: 1 | L19: 8 | M19: 1 | N19: 632010-1-1 | P19: [objectcode.gebouwnummer]aan-uit schakeling | Q19: 1–12, 1A, 6A, 9A–C, 10A, 12A en 106 | R19: Voldoet niet aan vigerende W&R | S19: Element heeft >100% van theoretische levensduur gehaald | T19: N.v.t. | U19: Functieverlies, toename aan gebreken/verstoringen | V19: Planmatig vervangen op basis van leeftijd volgens FUTP.Kosten opgenomen onder bouwdeeltype 632010-1 gebrek 2, 3 en 4. Voldoet na invoeren oplossing aan hoogste technische eis DHZ-tabel (LED-armaturen). | W19: 63.20.10-01 Verduurzamen EML - verlichtingsarmaturen standaard | X19: Elders opgenomen | AB19: 3 | AF19: 0 | AG19: Voldoet niet
B20: 632010-1 | C20: 632010 | D20: E | E20: Verlichting standaard armaturen | F20: E | G20: W-BK | H20: Wetsgebrek | I20: wettelijk basiskwaliteit | J20: Eind | K20: 0.75 | L20: 4 | M20: 2 | N20: 632010-1-2 | P20: [objectcode.gebouwnummer] TL lamp overzicht, [objectcode.gebouwnummer] TL lamp overzicht2, [objectcode.gebouwnummer] TL lamp detail, [objectcode.gebouwnummer] TL lamp detail2 | Q20: 1–12, 1A, 6A, 9A–C, 10A, 12A en 106 | R20: Voldoet niet aan vigerende W&R | S20: Ontwerp van destijds | T20: GF1 | U20: GF1 is niet uitgevoerd, conventionele lichtknoppen aanwezig, geen beweginssensoren | V20: Bewegingssensoren plaatsen ter vervanging van lichtknoppen volgens FUTP.Voldoet na invoeren oplossing aan hoogste technische eis DHZ-tabel (LED-armaturen). | W20: 63.20.10-01 Verduurzamen EML - verlichtingsarmaturen standaard | X20: Verbeteren – modificeren | Y20: 169 | Z20: 20 | AA20: 3380 | AB20: 3 | AF20: 0 | AG20: Voldoet niet
B21: 632010-1 | C21: 632010 | D21: E | E21: Verlichting standaard armaturen | F21: E | G21: W-BK | H21: Wetsgebrek | I21: wettelijk basiskwaliteit | J21: Eind | K21: 0.03 | L21: 4 | M21: 3 | N21: 632010-1-3 | P21: [objectcode.gebouwnummer] TL overzicht3 | Q21: 6&7 | R21: Voldoet niet aan vigerende W&R | S21: Ontwerp van destijds | T21: GF6 | U21: GF6 is niet uitgevoerd, TL8 montagebalken aanwezig | V21: Conventionele verlichting vervangen voor LED volgens FUTP. Voldoet na invoeren oplossing aan hoogste technische eis DHZ-tabel (LED-armaturen). | W21: 63.20.10-01 Verduurzamen EML - verlichtingsarmaturen standaard | X21: Verbeteren – modificeren | Y21: 293 | Z21: 6 | AA21: 1760 | AB21: 3 | AF21: 0 | AG21: Voldoet niet
B22: 632010-1 | C22: 632010 | D22: E | E22: Verlichting standaard armaturen | F22: E | G22: W-BK | H22: Wetsgebrek | I22: wettelijk basiskwaliteit | J22: Eind | K22: 0.22 | L22: 4 | M22: 4 | N22: 632010-1-4 | P22: [objectcode.gebouwnummer] TL lamp overzicht, [objectcode.gebouwnummer] TL lamp overzicht2, [objectcode.gebouwnummer] TL lamp detail, [objectcode.gebouwnummer] TL lamp detail2 | Q22: 1–5 8-12, 1A, 6A, 9A–C, 10A, 12A en 106 | R22: Voldoet niet aan vigerende W&R | S22: Ontwerp van destijds | T22: GF14 | U22: GF14 is niet uitgevoerd, TL8 buizen aanwezig in ingebouwde plafondarmaturen | V22: Conventionele verlichting vervangen voor LED volgens FUTP.Voldoet na invoeren oplossing aan hoogste technische eis DHZ-tabel (LED-armaturen). | W22: 63.20.10-01 Verduurzamen EML - verlichtingsarmaturen standaard | X22: Verbeteren – modificeren | Y22: 293 | Z22: 57 | AA22: 16700 | AB22: 3 | AF22: 0 | AG22: Voldoet niet
B23: 532110-1 | C23: 532110 | D23: W | E23: Verwarmd tapwater boiler | F23: O | G23: T-87,5 | H23: Theoretisch | I23: Verval ≥ 87,5% | J23: Eind | K23: 1 | L23: 8 | M23: 1 | N23: 532110-1-1 | P23: [objectcode.gebouwnummer] -532110-1-Overzicht | Q23: 5A | R23: Voldoet niet aan DZH-lijn | S23: Element heeft 100% van theoretische levensduur gehaald | T23: N.v.t. | U23: Functieverlies installatie, toename aan gebreken / verstoringen | V23: Planmatig vervangen op basis van leeftijd volgens hoogste eisen uit de duurzaamheidstabel: Warmtepomp, zonneboiler of elektrische doorstromer direct bij tappunt Volgens FUTP 53.21.00-01 plaatsen elektrische boiler installatie. | W23: 53.21.00-01 Integraal vervangen - warm tapwater installatie | X23: Integraal vervangen – imiteren | Y23: 1163 | Z23: 1 | AA23: 1160 | AB23: 3 | AF23: 0
B24: 532110-1 | C24: 532110 | D24: W | E24: Verwarmd tapwater boiler | F24: E | G24: GG | H24: Geen | I24: Geen gebrek | J24: Eind | K24: 1 | L24: 0 | M24: 2 | N24: 532110-1-2 | P24: [objectcode.gebouwnummer] -532110-1-Overzicht | Q24: 5A | R24: Voldoet niet aan DZH-lijn | S24: n.v.t. | T24: GE3 | U24: GE3 niet van toepassing. Betreft een elektrisch verwarmde boiler. | V24: n.v.t. | W24: FUTP niet van toepassing | X24: Niet van toepassing | AB24: 3 | AF24: 0
B25: 552110-1 | C25: 552110 | D25: W | E25: Warmtepomp | F25: O | G25: T-87,5 | H25: Theoretisch | I25: Verval ≥ 87,5% | J25: Eind | K25: 1 | L25: 8 | M25: 1 | N25: 552110-1-1 | P25: [objectcode.gebouwnummer] -552010-Overzicht; [objectcode.gebouwnummer] -552010-1-Type; [objectcode.gebouwnummer] -552010-1-Overzicht | Q25: 2 | R25: Voldoet niet aan DZH-lijn | S25: Element heeft 100% van theoretische levensduur gehaald | T25: N.v.t. | U25: Functieverlies installatie, toename aan gebreken / verstoringen | V25: Planmatig vervangen op basis van leeftijd. Bij vervangen voldoen aan duurzaamheidstabel: toepassen van een l-l warmtepomp met een natuurlijk koudemiddel en een SEER > 3. Niet mogelijk om te voldoen aan hoogste eisen dzh-tabel want koeling benodigd door slechte isolatie en koudeopslag niet logisch gezien de geringe koudevraag | W25: FUTP niet van toepassing | X25: Integraal vervangen – imiteren | Y25: 5744 | Z25: 1 | AA25: 5740 | AB25: 3 | AF25: 0
B26: 552110-1 | C26: 552110 | D26: W | E26: Warmtepomp | F26: E | G26: GG | H26: Geen | I26: Geen gebrek | J26: Eind | K26: 0.5 | L26: 0 | M26: 2 | N26: 552110-1-2 | P26: [objectcode.gebouwnummer] -552010-Overzicht; [objectcode.gebouwnummer] -552010-1-Type; [objectcode.gebouwnummer] -552010-1-Overzicht | Q26: 2 | R26: Voldoet niet aan DZH-lijn | S26: n.v.t. | T26: GC2 | U26: GC2 is niet van toepassing doordat isolatie van de gebouwen niet voldoet aan eisen uit bouwbesluit van 1 oktober 1992. (Rc schil gebouw < 2,5 m2K/W) | V26: n.v.t. | W26: FUTP niet van toepassing | X26: Niet van toepassing | Y26: 0 | AB26: 3 | AF26: 0
B27: 552110-1 | C27: 552110 | D27: W | E27: Warmtepomp | F27: E | G27: GG | H27: Geen | I27: Geen gebrek | J27: Eind | K27: 0.5 | L27: 0 | M27: 3 | N27: 552110-1-3 | P27: [objectcode.gebouwnummer] -552010-Overzicht; [objectcode.gebouwnummer] -552010-1-Type; [objectcode.gebouwnummer] -552010-1-Overzicht | Q27: 2 | R27: Voldoet niet aan DZH-lijn | S27: n.v.t. | T27: GC3 | U27: GC3 is niet van toepassing want het betreft een lucht-lucht warmtepomp en in een airco is geen verwarmingswater aanwezig | V27: n.v.t. | W27: FUTP niet van toepassing | X27: Niet van toepassing | Y27: 0 | AB27: 3 | AF27: 0
B28: 552110-2 | C28: 552110 | D28: W | E28: Warmtepomp | F28: O | G28: T-87,5 | H28: Theoretisch | I28: Verval ≥ 87,5% | J28: Eind | K28: 1 | L28: 8 | M28: 1 | N28: 552110-2-1 | P28: [objectcode.gebouwnummer] -552010-Overzicht; [objectcode.gebouwnummer] -552010-2-Overzicht; [objectcode.gebouwnummer] -552010-2-Type | Q28: 12 | R28: Voldoet niet aan DZH-lijn | S28: Element heeft 100% van theoretische levensduur gehaald | T28: N.v.t. | U28: Functieverlies installatie, toename aan gebreken / verstoringen | V28: Planmatig vervangen op basis van leeftijd. Bij vervangen voldoen aan duurzaamheidstabel: toepassen van een l-l warmtepomp met een natuurlijk koudemiddel en een SEER > 3. Niet mogelijk om te voldoen aan hoogste eisen dzh-tabel want koeling benodigd door slechte isolatie en koudeopslag niet logisch gezien de geringe koudevraag | W28: FUTP niet van toepassing | X28: Integraal vervangen – imiteren | Y28: 5744 | Z28: 1 | AA28: 5740 | AB28: 3 | AF28: 0
B29: 552110-2 | C29: 552110 | D29: W | E29: Warmtepomp | F29: E | G29: GG | H29: Geen | I29: Geen gebrek | J29: Eind | K29: 0.5 | L29: 0 | M29: 2 | N29: 552110-2-2 | P29: [objectcode.gebouwnummer] -552010-Overzicht; [objectcode.gebouwnummer] -552010-2-Overzicht; [objectcode.gebouwnummer] -552010-2-Type | Q29: 12 | R29: Voldoet niet aan DZH-lijn | S29: n.v.t. | T29: GC2 | U29: GC2 is niet van toepassing doordat isolatie van de gebouwen niet voldoet aan eisen uit bouwbesluit van 1 oktober 1992. (Rc schil gebouw < 2,5 m2K/W) | V29: n.v.t. | W29: FUTP niet van toepassing | X29: Niet van toepassing | Y29: 0 | AB29: 3 | AF29: 0
B30: 552110-2 | C30: 552110 | D30: W | E30: Warmtepomp | F30: E | G30: GG | H30: Geen | I30: Geen gebrek | J30: Eind | K30: 0.5 | L30: 0 | M30: 3 | N30: 552110-2-3 | P30: [objectcode.gebouwnummer] -552010-Overzicht; [objectcode.gebouwnummer] -552010-2-Overzicht; [objectcode.gebouwnummer] -552010-2-Type | Q30: 12 | R30: Voldoet niet aan DZH-lijn | S30: n.v.t. | T30: GC3 | U30: GC3 is niet van toepassing want het betreft een airco en in een airco is geen verwarmingswater aanwezig | V30: n.v.t. | W30: FUTP niet van toepassing | X30: Niet van toepassing | Y30: 0 | AB30: 3 | AF30: 0
B31: 562110-1 | C31: 562110 | D31: W | E31: Verwarming opwekking centraal | F31: O | G31: T-0 | H31: Theoretisch | I31: Verval < 50% | J31: Begin | K31: 1 | L31: 9 | M31: 1 | N31: 562110-1-1 | P31: [objectcode.gebouwnummer] -562110-Overzicht | Q31: 6 | R31: Voldoet aan hoogste eisen | S31: Element heeft 10% van theoretische levensduur gehaald | T31: N.v.t. | U31: Functieverlies installatie, toename aan gebreken / verstoringen | V31: Planmatig vervangen op basis van leeftijd aan de hand van 56.21.00-02; Integrale vervanging – gasgestookt CV opwekeenheid centraal. Bij vervanging voldoen aan de duurzaamheidstabel:weersafhankelijke regeling en hybride warmtepomp toepassen. Volledige elektrische verwarming niet mogelijk vanwege de beperkte isolatie van het pand | W31: 56.21.00-02 Integraal vervangen CV opwekeenheid centraal | X31: Integraal vervangen – imiteren | Y31: 59000 | Z31: 1 | AA31: 59000 | AB31: 3 | AF31: 0
B32: 562110-1 | C32: 562110 | D32: W | E32: Verwarming opwekking centraal | F32: E | G32: GG | H32: Geen | I32: Geen gebrek | J32: Eind | K32: 0.1 | L32: 0 | M32: 2 | N32: 562110-1-2 | P32: [objectcode.gebouwnummer] -562110-Overzicht | Q32: 6 | R32: Voldoet niet aan DZH-lijn | S32: n.v.t. | T32: GC3 | U32: GC3 is uitgevoerd omdat een weersafhankelijke regeling is toegepast | V32: n.v.t. | W32: FUTP niet van toepassing | X32: Niet van toepassing | AB32: 3 | AF32: 0
B33: 562110-1 | C33: 562110 | D33: W | E33: Verwarming opwekking centraal | F33: E | G33: GG | H33: Geen | I33: Geen gebrek | J33: Eind | K33: 0.1 | L33: 0 | M33: 3 | N33: 562110-1-3 | P33: [objectcode.gebouwnummer] -562110-Overzicht | Q33: 6 | R33: Voldoet aan hoogste eisen | S33: n.v.t. | T33: GC2 | U33: GC2 is niet van toepassing doordat isolatie van de gebouwen voldoet niet aan eisen uit bouwbesluit van 1 oktober 1992. (Rc schil gebouw < 2,5 m2K/W) | V33: n.v.t. | W33: FUTP niet van toepassing | X33: Niet van toepassing | AB33: 3 | AF33: 0
B34: 562110-1 | C34: 562110 | D34: W | E34: Verwarming opwekking centraal | F34: E | G34: GG | H34: Geen | I34: Geen gebrek | J34: Eind | K34: 0.2 | L34: 0 | M34: 4 | N34: 562110-1-4 | P34: [objectcode.gebouwnummer] -562110-Overzicht | Q34: 6 | R34: Voldoet niet aan DZH-lijn | S34: n.v.t. | U34: GC1 is uitgevoerd doordat een klokregeling op de w-installatie is toegepast | V34: n.v.t. | W34: FUTP niet van toepassing | X34: Niet van toepassing | AB34: 3 | AF34: 0
B35: 562110-1 | C35: 562110 | D35: W | E35: Verwarming opwekking centraal | F35: E | G35: GG | H35: Geen | I35: Geen gebrek | J35: Eind | K35: 0.2 | L35: 0 | M35: 6 | N35: 562110-1-6 | P35: [objectcode.gebouwnummer] -562110-Overzicht | Q35: 6 | R35: Voldoet aan hoogste eisen | S35: n.v.t. | T35: FC2 | U35: FC2 niet van toepassing want er is geen pomp aanwezig op cv installatie | V35: n.v.t. | W35: FUTP niet van toepassing | X35: Niet van toepassing | AB35: 3 | AF35: 0
B36: 562110-1 | C36: 562110 | D36: W | E36: Verwarming opwekking centraal | F36: E | G36: GG | H36: Geen | I36: Geen gebrek | J36: Eind | K36: 0.2 | L36: 0 | M36: 7 | N36: 562110-1-7 | P36: [objectcode.gebouwnummer] -562110-Overzicht | Q36: 6 | R36: Voldoet niet aan DZH-lijn | S36: n.v.t. | T36: FC4 | U36: FC4 niet van toepassing want er is geen elektromotor aanwezig | V36: n.v.t. | W36: FUTP niet van toepassing | X36: Niet van toepassing | AB36: 3 | AF36: 0
B37: 562110-1 | C37: 562110 | D37: W | E37: Verwarming opwekking centraal | F37: E | G37: GG | H37: Geen | I37: Geen gebrek | J37: Eind | K37: 0.2 | L37: 0 | M37: 8 | N37: 562110-1-8 | P37: [objectcode.gebouwnummer] -562110-Overzicht | Q37: 6 | R37: Voldoet aan hoogste eisen | S37: n.v.t. | T37: GE3 | U37: GE3 niet van toepassing want er is geen verbeterd rendement (VR) ketel of conventionele ketel en opgeslagen in een buffervat aanwezig. Bovendien cv-installatie dient enkel als verwarmingsinstallatie | V37: n.v.t. | W37: FUTP niet van toepassing | X37: Niet van toepassing | AB37: 3 | AF37: 0
B38: 562110-2 | C38: 562110 | D38: W | E38: Verwarming opwekking centraal | F38: O | G38: T-0 | H38: Theoretisch | I38: Verval < 50% | J38: Begin | K38: 1 | L38: 9 | M38: 1 | N38: 562110-2-1 | P38: [objectcode.gebouwnummer] -562110-Overzicht | Q38: 6 | R38: Voldoet niet aan DZH-lijn | S38: Element heeft 10% van theoretische levensduur gehaald | T38: N.v.t. | U38: Functieverlies installatie, toename aan gebreken / verstoringen | V38: Planmatig vervangen op basis van leeftijd aan de hand van 56.21.00-02; Integrale vervanging – gasgestookt CV opwekeenheid centraal. Bij vervanging voldoen aan de duurzaamheidstabel:weersafhankelijke regeling en hybride warmtepomp toepassen. Volledige elektrische verwarming niet mogelijk vanwege de beperkte isolatie van het pand | W38: 56.21.00-02 Integraal vervangen CV opwekeenheid centraal | X38: Integraal vervangen – imiteren | Y38: 59000 | Z38: 1 | AA38: 59000 | AB38: 3 | AF38: 0
B39: 562110-2 | C39: 562110 | D39: W | E39: Verwarming opwekking centraal | F39: E | G39: GG | H39: Geen | I39: Geen gebrek | J39: Eind | K39: 0.1 | L39: 0 | M39: 2 | N39: 562110-2-2 | P39: [objectcode.gebouwnummer] -562110-Overzicht | Q39: 6 | R39: Voldoet aan hoogste eisen | S39: n.v.t. | T39: GC3 | U39: GC3 is uitgevoerd omdat een weersafhankelijke regeling is toegepast | V39: n.v.t. | W39: FUTP niet van toepassing | X39: Niet van toepassing | AB39: 3 | AF39: 0
B40: 562110-2 | C40: 562110 | D40: W | E40: Verwarming opwekking centraal | F40: E | G40: GG | H40: Geen | I40: Geen gebrek | J40: Eind | K40: 0.2 | L40: 0 | M40: 3 | N40: 562110-2-3 | P40: [objectcode.gebouwnummer] -562110-Overzicht | Q40: 6 | R40: Voldoet niet aan DZH-lijn | S40: n.v.t. | T40: GC2 | U40: GC2 is niet van toepassing doordat isolatie van de gebouwen voldoet niet aan eisen uit bouwbesluit van 1 oktober 1992. (Rc schil gebouw < 2,5 m2K/W) | V40: n.v.t. | W40: FUTP niet van toepassing | X40: Niet van toepassing | AB40: 3 | AF40: 0
B41: 562110-2 | C41: 562110 | D41: W | E41: Verwarming opwekking centraal | F41: E | G41: GG | H41: Geen | I41: Geen gebrek | J41: Eind | K41: 0.1 | L41: 0 | M41: 4 | N41: 562110-2-4 | P41: [objectcode.gebouwnummer] -568010 | Q41: 6 | R41: Voldoet aan hoogste eisen | S41: n.v.t. | U41: GC1 is uitgevoerd doordat een klokregeling op de w-installatie is toegepast | V41: n.v.t. | W41: FUTP niet van toepassing | X41: Niet van toepassing | AB41: 3 | AF41: 0
...

Sheet Inspectie (reserve)
A1: EML Inspectie
A2: Object | B2: =CONCATENATE(Advies!B10,".",Advies!B12) -> Voorbeeld.Voorbeeld | C2: =Advies!B11 -> Voorbeeld | M2: m2 BVO | N2: =Advies!B18 -> 636 | O2: Bouwjaar | P2: =Advies!B17 -> 1943 | R2: Opmerking:
A4: UVID | B4: Code Bouwdeeltype | C4: Vak-groep | D4: Omschrijving bouwdeel | E4: Thema BOEI | F4: Soort gebrek | G4: Ernst categorie | H4: Soort gebrek (Voluit) | I4: Intensiteit | J4: Omvang | K4: Prioriteit | L4: Gebrek nr. | M4: Gebrekcode | N4: Aantal fotos | O4: Filenaam Foto's | P4: Locatie | Q4: Oorzaak - Omschrijving | R4: EML Code | S4: Gevolg (risico) | T4: Oplossing | U4: FUTP | V4: Herstel maatregel | W4: Kengetal | X4: Aantal | Y4: Raming kosten excl. BTW

Sheet Inventarisatie B
B1: HMI*: | C1: HMI*: | D1: Hand Matig Invoeren | M1: Inspectiedatum: | N1: =Advies!B36 -> 46260 | R1: Datum: | S1: 46261
B2: UVID | M2: Inspecteur: | N2: =Advies!B38 -> Jan | R2: Status: | S2: Concept
A3: Inventarisatie bouwkunde
A4: Object | B4: =Advies!B10 -> Voorbeeld | C4: =Advies!B12 -> Voorbeeld | K4: B | L4: =Advies!B34 -> 3 | M4: m2 BVO | N4: =Advies!B18 -> 636 | P4: Bouwjaar | Q4: =Advies!B17 -> 1943 | R4: Opmerking:
X5: Specifiek voor monumentale bouwdelen | AH5: Specifiek voor veiligheidsprogramma's
A6: formule | B6: formule | C6: Menu | D6: HMI* | E6: formule | F6: HMI* | G6: HMI* | H6: HMI* | I6: HMI* | J6: formule | K6: formule | L6: formule | M6: HMI* | N6: HMI* | O6: HMI* | P6: HMI* | Q6: formule | R6: HMI* | S6: HMI* | T6: HMI* | U6: HMI* | V6: HMI* | W6: formule | X6: Menu | Y6: Menu | Z6: Menu | AA6: HMI* | AB6: Menu | AC6: HMI* | AD6: HMI* | AE6: HMI* | AF6: Menu | AG6: Menu | AH6: Menu | AI6: Menu | AJ6: Menu | AK6: Menu | AL6: HMI*
A7: UVID | B7: Code Bouwdeeltype | C7: Bouwdeel omschrijving | D7: Volgnr. | E7: Object | F7: Ruimte | G7: Locatie aanduiding | H7: Reden buiten gebruik | I7: Aantal | J7: Dimensie | K7: Vakgroep | L7: Kwaliteits-niveau | M7: Foto | N7: Datum van constructie of productie [jjjj-mm-dd] | O7: Einde garantie [jjjj-mm-dd] | P7: Technische levensduur [jaren] | Q7: Verwachte technische einddatum | R7: Vervangings-kosten (excl. BTW) | S7: Installatie-nummer | T7: Serienummer | U7: Model/type | V7: Omvang | W7: Omvang eenheid | X7: In oorspron-kelijke toestand | Y7: Materiaal toepassing | Z7: Monumentale waarde | AA7: Datum restauratie / revisie | AB7: Duurzaamheid bijdrage | AC7: Fabrikant | AD7: Servicebedrijf | AE7: Leverancier | AF7: Eigenaar | AG7: Verantwoordelijk | AH7: Brandv.-functie van toepassing? | AI7: Waterveiligheid functie van toepassing | AJ7: Asbeststatus | AK7: VWoH van toepassing? | AL7: Dossier
A8: =IF(ISBLANK(TInventB[[#This Row],[Bouwdeel omschrijving]]),"",CONCATENATE(TInventB[[#This Row],[Code Bouwdeeltype]],"-",TInventB[[#This Row],[Volgnr.]])) -> 210010-1 | B8: =IF(ISBLANK(TInventB[[#This Row],[Bouwdeel omschrijving]]),"",VLOOKUP(TInventB[[#This Row],[Bouwdeel omschrijving]],TsblB[],2,FALSE)) -> 210010 | C8: Gevel | D8: 1 | E8: =IF(ISBLANK(TInventB[[#This Row],[Bouwdeel omschrijving]]),"",$B$4) -> Voorbeeld | F8: 1, 2, 3, 4, 6, 7, 8, 11, 12 | I8: 310 | J8: =IF(ISBLANK(TInventB[[#This Row],[Bouwdeel omschrijving]]),"",VLOOKUP(TInventB[[#This Row],[Bouwdeel omschrijving]],TsblB[],4,FALSE)) -> m2 | K8: =IF(ISBLANK(TInventB[[#This Row],[Bouwdeel omschrijving]]),"",VLOOKUP(TInventB[[#This Row],[Bouwdeel omschrijving]],TsblB[],3,FALSE)) -> B | L8: =IF(ISBLANK(C8),"",$L$4) -> 3 | M8: [objectcode.gebouwnummer] -210010-1 | N8: 15707 | P8: 100 | Q8: =IF(ISBLANK(TInventB[[#This Row],[Technische levensduur '[jaren']]]),"",(TInventB[[#This Row],[Datum van constructie of productie '[jjjj-mm-dd']]]+(TInventB[[#This Row],[Technische levensduur '[jaren']]]*365))) -> 52207 | R8: 0 | S8: Onbekend | T8: Onbekend | U8: Metselwerk geschilderd | AB8: Voldoet niet aan vigerende W&R | AC8: Onbekend | AE8: Onbekend | AF8: Afnemer | AG8: Afnemer | AL8: Spouwbreedte 5cm. Geen isolatie in spouw. RC=0,5. Metselwerk staand verband. Orientatie: 43m2 Noord, 110m2 Oost, 43m2 Zuid, 114m2 West. Dekkend geschilderd wit. Dragend. Wandopeningen van Hout en glas. Vogelwering aanwezig. Hoogte gevel is 2,85m.
A9: =IF(ISBLANK(TInventB[[#This Row],[Bouwdeel omschrijving]]),"",CONCATENATE(TInventB[[#This Row],[Code Bouwdeeltype]],"-",TInventB[[#This Row],[Volgnr.]])) -> 312010-1 | B9: =IF(ISBLANK(TInventB[[#This Row],[Bouwdeel omschrijving]]),"",VLOOKUP(TInventB[[#This Row],[Bouwdeel omschrijving]],TsblB[],2,FALSE)) -> 312010 | C9: Kozijnwerk buiten | D9: 1 | E9: =IF(ISBLANK(TInventB[[#This Row],[Bouwdeel omschrijving]]),"",$B$4) -> Voorbeeld | F9: 1, 2, 3, 4, 6, 6a, 7, 8, 11, 12 | I9: 95 | J9: =IF(ISBLANK(TInventB[[#This Row],[Bouwdeel omschrijving]]),"",VLOOKUP(TInventB[[#This Row],[Bouwdeel omschrijving]],TsblB[],4,FALSE)) -> m2 | K9: =IF(ISBLANK(TInventB[[#This Row],[Bouwdeel omschrijving]]),"",VLOOKUP(TInventB[[#This Row],[Bouwdeel omschrijving]],TsblB[],3,FALSE)) -> B | L9: =IF(ISBLANK(C9),"",$L$4) -> 3 | M9: [objectcode.gebouwnummer] -312010-1 | N9: 33604 | P9: 50 | Q9: =IF(ISBLANK(TInventB[[#This Row],[Technische levensduur '[jaren']]]),"",(TInventB[[#This Row],[Datum van constructie of productie '[jjjj-mm-dd']]]+(TInventB[[#This Row],[Technische levensduur '[jaren']]]*365))) -> 51854 | R9: 85500 | S9: Onbekend | T9: Onbekend | U9: Houten kozijnen dekkend geschilderd | AB9: Voldoet aan hoogste eisen | AC9: Onbekend | AE9: Onbekend | AF9: Afnemer | AG9: Afnemer | AL9: Voorzien van isolatieglas. Houten kozijn, 90 graden, draairamen en vaste ramen. Orientantie: 9m2 Noord, 36,5m2 Oost, 9m2 Zuid, 40,5m2 West. Dekkend geschilderd wit. Sponning is 2cm.
A10: =IF(ISBLANK(TInventB[[#This Row],[Bouwdeel omschrijving]]),"",CONCATENATE(TInventB[[#This Row],[Code Bouwdeeltype]],"-",TInventB[[#This Row],[Volgnr.]])) -> 312010-2 | B10: =IF(ISBLANK(TInventB[[#This Row],[Bouwdeel omschrijving]]),"",VLOOKUP(TInventB[[#This Row],[Bouwdeel omschrijving]],TsblB[],2,FALSE)) -> 312010 | C10: Kozijnwerk buiten | D10: 2 | E10: =IF(ISBLANK(TInventB[[#This Row],[Bouwdeel omschrijving]]),"",$B$4) -> Voorbeeld | F10: 106 | I10: 4 | J10: =IF(ISBLANK(TInventB[[#This Row],[Bouwdeel omschrijving]]),"",VLOOKUP(TInventB[[#This Row],[Bouwdeel omschrijving]],TsblB[],4,FALSE)) -> m2 | K10: =IF(ISBLANK(TInventB[[#This Row],[Bouwdeel omschrijving]]),"",VLOOKUP(TInventB[[#This Row],[Bouwdeel omschrijving]],TsblB[],3,FALSE)) -> B | L10: =IF(ISBLANK(C10),"",$L$4) -> 3 | M10: [objectcode.gebouwnummer] -312010-2 | N10: 15707 | P10: 75 | Q10: =IF(ISBLANK(TInventB[[#This Row],[Technische levensduur '[jaren']]]),"",(TInventB[[#This Row],[Datum van constructie of productie '[jjjj-mm-dd']]]+(TInventB[[#This Row],[Technische levensduur '[jaren']]]*365))) -> 43082 | R10: 4000 | S10: Onbekend | T10: Onbekend | U10: Stalen kozijnen | AB10: Voldoet niet aan DZH-lijn | AC10: Onbekend | AE10: Onbekend | AF10: Afnemer | AG10: Afnemer | AL10: Betreft dakramen. Voorzien van enkelglas. Stalen kozijn, 45 graden, draairamen. Oriëntatie: 2m2 Oost. 2m2 west. Dekkend afgewerkt coating. Onbeschut. Rondom keramische dakpannen. Niet thermisch onderbroken
A11: =IF(ISBLANK(TInventB[[#This Row],[Bouwdeel omschrijving]]),"",CONCATENATE(TInventB[[#This Row],[Code Bouwdeeltype]],"-",TInventB[[#This Row],[Volgnr.]])) -> 312030-1 | B11: =IF(ISBLANK(TInventB[[#This Row],[Bouwdeel omschrijving]]),"",VLOOKUP(TInventB[[#This Row],[Bouwdeel omschrijving]],TsblB[],2,FALSE)) -> 312030 | C11: Beglazing buiten | D11: 1 | E11: =IF(ISBLANK(TInventB[[#This Row],[Bouwdeel omschrijving]]),"",$B$4) -> Voorbeeld | F11: 106 | I11: 4 | J11: =IF(ISBLANK(TInventB[[#This Row],[Bouwdeel omschrijving]]),"",VLOOKUP(TInventB[[#This Row],[Bouwdeel omschrijving]],TsblB[],4,FALSE)) -> m2 | K11: =IF(ISBLANK(TInventB[[#This Row],[Bouwdeel omschrijving]]),"",VLOOKUP(TInventB[[#This Row],[Bouwdeel omschrijving]],TsblB[],3,FALSE)) -> B | L11: =IF(ISBLANK(C11),"",$L$4) -> 3 | M11: [objectcode.gebouwnummer] -312030-1 | N11: 15707 | P11: 75 | Q11: =IF(ISBLANK(TInventB[[#This Row],[Technische levensduur '[jaren']]]),"",(TInventB[[#This Row],[Datum van constructie of productie '[jjjj-mm-dd']]]+(TInventB[[#This Row],[Technische levensduur '[jaren']]]*365))) -> 43082 | R11: 560 | S11: Onbekend | T11: Onbekend | U11: Enkelglas | AB11: Voldoet niet aan vigerende W&R | AC11: Onbekend | AE11: Onbekend | AF11: Afnemer | AG11: Afnemer | AL11: Enkelglas 4mm in dakramen. Droog in stalen kozijn gelegd.
