Workbook

Sheet Voorblad
B2: Tabblad: Voorblad
B3: Openbare Europese aanbesteding "Levering technische materialen en gereedschappen” VRGZ
B4: TenderNed kenmerk: TN577273
B5: Datum: 10-09-2026/ Versie: 2.0
B6: Perceel 2 Ge- en verbruiksartikelen
B7: Naam Inschrijver: | C7: Invullen op 'voorblad'

Sheet Instructie
B2: Tabblad: Instructie
B3: =Voorblad!B3 -> Openbare Europese aanbesteding "Levering technische materialen en gereedschappen” VRGZ
B4: Nr. | C4: Invulinstructie
B5: 1 | C5: Inschrijver dient uitsluitend de geel gearceerde cellen te voorzien van de gevraagde informatie. Om de werking van het prijzenblad te laten zien staat er nu fictief 1,00 euro of het getal 1 in. Dit kan Inschrijver zelf aanpassen.
B6: 2 | C6: De in te vullen bedragen zijn gebaseerd op de in de Inschrijvingsleidraad en Bijlagen vermelde informatie.
B7: 3 | C7: Inschrijvers dienen alle gevraagde prijzen volledig in te vullen met gebruikmaking van dit Prijzenblad. Tabblad [Totale kosten] dient Inschrijver rechtsgeldig te ondertekenen en (dit blad als. Pdf indienen) en daarnaast een excel versie met alle tabbladen.
B8: 4 | C8: De prijzen dienen alle kosten te bevatten die nodig zijn voor het uitvoeren van de werkzaamheden, inclusief overhead, uitvoeringskosten, reiskosten, algemene kosten, winst en risico, afschrijvingskosten, transportkosten, (back)order- en verzendkosten, belastingen, (milieu-) heffingen, verwijderingsbijdragen, statiegeld, kosten voor overleg en dergelijke. Kosten welke niet in de template zijn opgenomen kunnen niet bij de Opdrachtgever in rekening worden gebracht. Prijzen zijn op basis van franco levering op het door OG aangegeven afleveradressen binnen het gehele verzorgingsgebied van OG. ON hanteert geen drempelbedragen of toeslagen voor minimale orderwaarde, factuurkosten, verpakkingskosten, backorderkosten etc. Let op: Het realiseren van de kwalitatieve gunningscriteria zit in de prijs inbegrepen, dit geldt dus ook voor hetgeen tijdens de Demonstratie wordt gedemonstreerd.
B9: 5 | C9: De prijsopgave dient in Euro’s en exclusief BTW te geschieden.
B10: 6 | C10: Het indienen van negatieve prijzen, prijzen onder de onderdrempel of boven de bovendrempel (per prijsitem) (indien van toepassing) is niet toegestaan op straffe van uitsluiting. Zie tabblad [eenmalige kosten], [structurele kosten], [additionele kosten] en tabblad [Totale kosten].
B11: 7 | C11: De opgegeven prijzen dienen op maximaal twee cijfers achter de komma te worden afgerond.
B12: 8 | C12: Abnormaal lage prijzen kunnen door Opdrachtgever gecontroleerd/nagevraagd worden, conform artikel 2.116 Aw kan de Inschrijving ongeldig worden verklaard.
B13: 9 | C13: Het verkeerd interpreteren van het Prijzenblad komt voor verantwoordelijkheid van Inschrijver. Vragen omtrent dit Inschrijfbiljet kunnen gesteld worden, conform de mogelijkheden die staan beschreven in de Inschrijvingsleidraad.
B14: 10 | C14: Het aanbrengen van wijzigingen of het doen van aanvullingen (tenzij Opdrachtgever expliciet hier toestemming voor heeft gegeven) in de Inschrijfbiljeten kan tot ongeldigverklaring van uw Inschrijving leiden en derhalve tot uitsluiting.
B15: 11 | C15: Het niet volledig invullen van deze bijlage kan tot ongeldigverklaring van uw Inschrijving en derhalve tot uitsluiting leiden.
B16: Toelichting tabbladen
B17: 12 | C17: Tabblad [Voorblad]: Inschrijver dient eenmalig zijn naam in te vullen in het tabblad 'voorblad'.
B18: 13 | C18: Tabblad [Instructie P2]: Dit tabblad, in dit tabblad wordt een algemene toelichting en een toelichting op de verschillende onderdelen per tabblad benoemd.
B19: 14 | C19: Tabblad [Eenmalige kosten P2]: in dit tabblad zijn de eenmalige kosten opgenomen.
B20: 15 | C20: Tabblad [Structurele kosten P2]: in dit tabblad zijn de variabele kosten opgenomen.
B21: 16 | C21: Tabblad [Winkelmandje P2]: 1) In dit tabblad is een representatief winkelmandje weeergegeven. Inschrijver dient de geel gearceerde cellen verplicht in te vullen. Indien een product niet beschikbaar is, moeten de oranje cellen verplicht worden ingevuld met een alternatief product. Bij ieder beschreven artikel/product dient inschrijver een bruto prijs per eenheid en korting op te geven. 2) Het kortingspercentage is geldig voor de gehele looptijd van de af te sluiten raamovereenkomst. 3) Inschrijver dient een bruto prijs per eenheid in te vullen. Bij een afwijkende eenheid anders dan beschreven, dient de inschrijver deze om te rekenen naar de opgegeven prijs per eenheid. 4) De eenheid staat bschreven in kolom D en E, van tabblad winkelmandje. 5) In kolom I staat een fictieve hoeveelheid opgenomen.
B22: 17 | C22: Tabblad [Kortingen per productgroep P2]: Inschrijver dient per productgroep een standaard korting op te nemen.
B23: 18 | C23: Tabblad [Totale kosten P2]: dit tabblad wordt automatisch gevuld, Inschrijver hoeft deze niet te vullen.

Sheet Eenmalige kosten P2
B2: Tabblad Eenmalige kosten
B3: =Voorblad!B3 -> Openbare Europese aanbesteding "Levering technische materialen en gereedschappen” VRGZ
B4: =Voorblad!B4 -> TenderNed kenmerk: TN577273
B5: =Voorblad!B5 -> Datum: 10-09-2026/ Versie: 2.0
B6: =Voorblad!B6 -> Perceel 2 Ge- en verbruiksartikelen
B7: Naam Inschrijver: | C7: =Voorblad!C7 -> Invullen op 'voorblad'
B9: Prijsitem 1 Project- en implementatiekosten P2 | C9: Bedrag excl. BTW
B10: Toelichting: Gebruiksklaar opleveren van de Webshop inclusief koppelingen: Dit prijsitem betreft alle kosten voor het gebruiksklaar opleveren van de Webshop, inclusief de realisatie van de benodigde koppelingen met de systemen van Opdrachtgever, gedurende de implementatieperiode vanaf gunning tot en met formele acceptatie door Opdrachtgever. Inschrijver dient dit prijsitem eenmalig en all-in af te prijzen (exclusief BTW) met inachtneming van alle gestelde eisen, wensen en voorwaarden uit de aanbestedingsdocumenten, waaronder het Programma van Eisen en de toepasselijke contractvoorwaarden (ARIV2026). | C10: 1
B11: Subtotaal prijsitem 1 | C11: =C10 -> 1
B13: Prijsitem 2 Koppelingen P2 | C13: Bedrag excl. BTW
B14: 3a. Ultimo | C14: 1
B15: 3b. AFAS | C15: 1
B16: Subtotaal prijsitem 3 | C16: =SUM(C14:C15) -> 2
B18: TOTAAL EENMALIGE KOSTEN EXCL. BTW (Optelsom van subtotaal prijsitem 1 t/m subtotaal prijsitem 2. | C18: =C11+C16 -> 3
C20: 2000
C21: Prijsplafond/bovendrempel optelsom prijsitem 1 t/m 2

Sheet Structurele kosten P2
B2: Tabblad Eenmalige kosten
B3: =Voorblad!B3 -> Openbare Europese aanbesteding "Levering technische materialen en gereedschappen” VRGZ
B4: =Voorblad!B4 -> TenderNed kenmerk: TN577273
B5: =Voorblad!B5 -> Datum: 10-09-2026/ Versie: 2.0
B6: =Voorblad!B6 -> Perceel 2 Ge- en verbruiksartikelen
B7: Naam Inschrijver: | C7: =Voorblad!C7 -> Invullen op 'voorblad'
B9: Prijsitem 3 Structurele kosten koppelingen P2 | C9: Prijs/ maand excl. BTW | D9: Maanden | E9: Bedrag excl. BTW
B10: Toelichting: Dit betreft de maandelijkse kosten voor het beheer en onderhoud van de koppelingen welke staan gespecificeerd in Prijsitem 2 van het tabblad [Eenmalige kosten]. Voor de weging worden deze fictief * 12 maal vermenigvuldigd.
B11: 3a. Ultimo | C11: 1 | D11: 12 | E11: =C11*D11 -> 12
B12: 3b. AFAS | C12: 1 | D12: 12 | E12: =C12*D12 -> 12
B13: Subtotaal prijsitem 3 | E13: =SUM(E11:E12) -> 24
B15: TOTAAL STRUCTURELE KOSTEN EXCL. BTW (Optelsom van subtotaal prijsitem 3) | E15: =E13 -> 24
E17: 1000 | G17: Prijsplafond prijsitem 3

Sheet Winkelmandje P2
B2: Tabblad Structurele kosten
B3: =Voorblad!B3 -> Openbare Europese aanbesteding "Levering technische materialen en gereedschappen” VRGZ
B4: =Voorblad!B4 -> TenderNed kenmerk: TN577273
B5: =Voorblad!B5 -> Datum: 10-09-2026/ Versie: 2.0
B6: =Voorblad!B6 -> Perceel 2 Ge- en verbruiksartikelen
B7: Naam Inschrijver: | D7: =Voorblad!$C$7 -> Invullen op 'voorblad'
B9: Prijsitem 4 Winkelmandje P2
F10: Huidig assortiment | L10: Alternatief A-merk
B11: Nr. | C11: EAN code | D11: Omschrijving assortiment | E11: Eenheid st./mtr. | F11: Bruto prijs per eenheid | G11: Korting | H11: Netto prijs per eenheid | I11: Fictieve hoeveelheid | J11: Subtotaal | K11: Omschrijving alternatief | L11: Bruto prijs per eenheid | M11: Korting | N11: Netto prijs per eenheid | O11: Subtotaal
B12: 1 | C12: 4019787603201 | D12: Heco TOPIX- plus Torx 3,5 x 45 mm Voldraad TX-20 / HD-20 200st | E12: 1 | F12: 1 | G12: 0.01 | H12: =F12-(F12*G12) -> 0.99 | I12: 2 | J12: =H12*I12 -> 1.98 | L12: 0 | M12: 0 | N12: =L12-(L12*M12) -> 0 | O12: =I12*N12 -> 0
B13: 2 | C13: 4019787604284 | D13: Heco TOPIX- plus Torx4,0 x 30 mm Voldraad TX-20 / HD-20 200st | E13: 1 | F13: 1 | G13: 0.01 | H13: =F13-(F13*G13) -> 0.99 | I13: 2 | J13: =H13*I13 -> 1.98 | L13: 0 | M13: 0 | N13: =L13-(L13*M13) -> 0 | O13: =I13*N13 -> 0
B14: 3 | C14: 4019787604758 | D14: Heco TOPIX- plus Torx4,0 x 40 mm Voldraad TX-20 / HD-20 200st | E14: 1 | F14: 1 | G14: 0.01 | H14: =F14-(F14*G14) -> 0.99 | I14: 2 | J14: =H14*I14 -> 1.98 | L14: 0 | M14: 0 | N14: =L14-(L14*M14) -> 0 | O14: =I14*N14 -> 0
B15: 4 | C15: 4019787605250 | D15: Heco TOPIX- plus Torx4,0 x 50 mm Voldraad TX-20 / HD-20 200st | E15: 1 | F15: 1 | G15: 0.01 | H15: =F15-(F15*G15) -> 0.99 | I15: 2 | J15: =H15*I15 -> 1.98 | L15: 0 | M15: 0 | N15: =L15-(L15*M15) -> 0 | O15: =I15*N15 -> 0
B16: 5 | C16: 4019787605601 | D16: Heco TOPIX- plus Torx4,0 x 60 mm Deeldraad TX-20 / HD-20 200st | E16: 1 | F16: 1 | G16: 0.01 | H16: =F16-(F16*G16) -> 0.99 | I16: 2 | J16: =H16*I16 -> 1.98 | L16: 0 | M16: 0 | N16: =L16-(L16*M16) -> 0 | O16: =I16*N16 -> 0
B17: 6 | C17: 4019787607766 | D17: Heco TOPIX- plus Torx4,5 x 70 mm Deeldraad TX-20 / HD-20 200st | E17: 1 | F17: 1 | G17: 0.01 | H17: =F17-(F17*G17) -> 0.99 | I17: 2 | J17: =H17*I17 -> 1.98 | L17: 0 | M17: 0 | N17: =L17-(L17*M17) -> 0 | O17: =I17*N17 -> 0
B18: 7 | C18: 4019787607865 | D18: Heco TOPIX- plus Torx4,5 x 80 mm Deeldraad TX-20 / HD-20 200st | E18: 1 | F18: 1 | G18: 0.01 | H18: =F18-(F18*G18) -> 0.99 | I18: 2 | J18: =H18*I18 -> 1.98 | L18: 0 | M18: 0 | N18: =L18-(L18*M18) -> 0 | O18: =I18*N18 -> 0
B19: 8 | C19: 4019787609296 | D19: Heco TOPIX- plus Torx5,0 x 60 mm Deeldraad TX-20 / HD-20 200st | E19: 1 | F19: 1 | G19: 0.01 | H19: =F19-(F19*G19) -> 0.99 | I19: 2 | J19: =H19*I19 -> 1.98 | L19: 0 | M19: 0 | N19: =L19-(L19*M19) -> 0 | O19: =I19*N19 -> 0
B20: 9 | C20: 4019787610339 | D20: Heco TOPIX- plus Torx6,0 x 50 mm Deeldraad TX-30 / HD-30 200st | E20: 1 | F20: 1 | G20: 0.01 | H20: =F20-(F20*G20) -> 0.99 | I20: 2 | J20: =H20*I20 -> 1.98 | L20: 0 | M20: 0 | N20: =L20-(L20*M20) -> 0 | O20: =I20*N20 -> 0
B21: 10 | C21: 4019787610889 | D21: Heco TOPIX- plus Torx6,0 x 80 mm Deeldraad TX-30 / HD-30 200st | E21: 1 | F21: 1 | G21: 0.01 | H21: =F21-(F21*G21) -> 0.99 | I21: 2 | J21: =H21*I21 -> 1.98 | L21: 0 | M21: 0 | N21: =L21-(L21*M21) -> 0 | O21: =I21*N21 -> 0
B22: 11 | C22: 8712811071224 | D22: Fabory BORGMOER NYLOC DIN985 M10 RVS A2 SW17, prijs per 500 stuks | E22: 1 | F22: 1 | G22: 0.01 | H22: =F22-(F22*G22) -> 0.99 | I22: 2 | J22: =H22*I22 -> 1.98 | L22: 0 | M22: 0 | N22: =L22-(L22*M22) -> 0 | O22: =I22*N22 -> 0
B23: 12 | C23: 8715492307590 | D23: Fabory BORGMOER NYLOC DIN985 M5 RVS A2 SW 8, prijs per 500 stuks | E23: 1 | F23: 1 | G23: 0.01 | H23: =F23-(F23*G23) -> 0.99 | I23: 2 | J23: =H23*I23 -> 1.98 | L23: 0 | M23: 0 | N23: =L23-(L23*M23) -> 0 | O23: =I23*N23 -> 0
... B124: 113 | C124: 88381741323 | D124: Makita DTM52ZJ | E124: 1 | F124: 1 | G124: 0.01 | H124: =F124-(F124*G124) -> 0.99 | I124: 1 | J124: =H124*I124 -> 0.99 | L124: 0 | M124: 0 | N124: =L124-(L124*M124) -> 0 | O124: =I124*N124 -> 0
C125: Totaal excl. BTW | H125: A1 | J125: =SUM(J12:J124) -> 1770.12 | N125: A2 | O125: =SUM(O12:O124) -> 0
D127: Prijsitem 4= 'TOTAAL WINKELMANDJE P1 EXCL. BTW Optelsom (A1 + A2) | J127: =J125+O125 -> 1770.12

Sheet Kortingen per productgroep P2
B2: Tabblad Kortingen per productgroep
B3: =Voorblad!B3 -> Openbare Europese aanbesteding "Levering technische materialen en gereedschappen” VRGZ
B4: =Voorblad!B4 -> TenderNed kenmerk: TN577273
B5: =Voorblad!B5 -> Datum: 10-09-2026/ Versie: 2.0
B6: =Voorblad!B6 -> Perceel 2 Ge- en verbruiksartikelen
B7: Naam Inschrijver: | C7: =Voorblad!C7 -> Invullen op 'voorblad'
B9: Prijsitem 5 Korting per productgroep P2
B10: Categorie | C10: Korting
B11: Bevestigingsmiddelen RVS | C11: 0.01
B12: Bevestigingsmiddelen staal | C12: 0.01
B13: Electrisch handgereedschap | C13: 0.01
B14: Lijmen, kitten en tapes | C14: 0.01
B15: Magazijn en logistiek | C15: 0.01
B16: Mechanisch handgereedschap | C16: 0.01
B17: Olien en smeermiddelen | C17: 0.01
B18: Reinigingsmiddelen | C18: 0.01
B19: Verspaningsmiddelen | C19: 0.01
B20: Verbruiksartikelen | C20: 0.01
B21: Gemiddeld kortingspercentage | C21: =AVERAGE(C11:C20) -> 0.01
B22: Fictief bedrag | C22: 35000
B23: TOTAAL Prijsitem 5 = Gewogen gemiddeld kortingspercentage | C23: =C22-(C22*C21) -> 34650

Sheet Totale kosten
B2: Tabblad Totale kosten
B3: =Voorblad!B3 -> Openbare Europese aanbesteding "Levering technische materialen en gereedschappen” VRGZ
B4: =Voorblad!B4 -> TenderNed kenmerk: TN577273
B5: =Voorblad!B5 -> Datum: 10-09-2026/ Versie: 2.0
B6: =Voorblad!B6 -> Perceel 2 Ge- en verbruiksartikelen
B7: Naam Inschrijver: | C7: =Voorblad!C7 -> Invullen op 'voorblad'
B9: Prijsitem | C9: Type kosten | D9: Totale kosten, excl. BTW
B10: ='Eenmalige kosten P2'!B9 -> Prijsitem 1 Project- en implementatiekosten P2 | C10: Eenmalige kosten | D10: ='Eenmalige kosten P2'!C11 -> 1 | F10: ='Eenmalige kosten P2'!C20 -> 2000 | G10: Prijsplafond
B11: ='Eenmalige kosten P2'!B13 -> Prijsitem 2 Koppelingen P2 | C11: Eenmalige kosten | D11: ='Eenmalige kosten P2'!C16 -> 2
B12: ='Structurele kosten P2'!B9 -> Prijsitem 3 Structurele kosten koppelingen P2 | C12: Structurele kosten | D12: ='Structurele kosten P2'!E13 -> 24 | F12: ='Structurele kosten P2'!E17 -> 1000 | G12: Prijsplafond
B13: ='Winkelmandje P2'!B9 -> Prijsitem 4 Winkelmandje P2 | C13: Winkelmandje | D13: ='Winkelmandje P2'!J127 -> 1770.12
B14: ='Kortingen per productgroep P2'!B9 -> Prijsitem 5 Korting per productgroep P2 | C14: Kortingen productgroepen | D14: ='Kortingen per productgroep P2'!C23 -> 34650
B15: Totale fictieve Inschrijfprijs | D15: =SUM(D10:D14) -> 36447.12
B17: Rechtsgeldige ondertekening Inschrijver Toelichting: (dit blad als. Pdf indienen) en daarnaast een excel versie met alle tabbladen.
B18: Naam:
B19: Functie:
B20: Datum:
B21: Handtekening:
