Workbook

Sheet Inschrijfprijs
A1: Prijzenblad Europese aanbesteding Restromen
A2: TenderNed kenmerk: TN 595021
A11: Uitgangspunten Prijzenblad:
A12: Inschrijver kan op geen enkele wijze rechten ontlenen aan de in dit prijzenblad opgegeven aantallen.
A13: Inschrijver mag alleen de gele cellen in kolom B, C en D invullen.
A14: Opbrengsten dienen niet te worden opgenomen in dit prijzenblad. Indien Inschrijver voor bepaalde afvalstromen of onderdelen geen kosten berekent, mag een nultarief worden ingevuld.
A15: De weegfactor voor huur is berekend o.b.v. het aantal containers x 12 maanden. De weegfactor voor transport/ledigen is gebaseerd o.b.v. cijfers uit het verleden.
A16: Voor inzamelmiddelen met de ledigingsfrequentie 'afroep' is de weegfactor gebassseerd op historisch gegevens.
A17: Opdrachtgever houdt zich het recht voor om de ledigingsfrequenties in het bovenstaande schema te wijzigen.
A18: De rolcontainers op locatie Kapittelweg 35 dienen te voldoen aan eis 23 zoals gesteld in het Programma van Eisen v2.0
A20: Nijmegen
A21: Totaalprijs Verwerkingskosten | B21: =Nijmegen!D30 -> 0
A22: Totaalprijs huur / lediging | B22: =Nijmegen!F79 -> 0
A23: Totaalprijs Transport | B23: =Nijmegen!F111 -> 0
A24: TOTAALPRIJS NIJMEGEN | B24: =SUM(B21:B23) -> 0
A26: Arnhem
A27: Totaalprijs Verwerkingskosten | B27: =Arnhem!D24 -> 0
A28: Totaalprijs huur / lediging | B28: =Arnhem!F61 -> 0
A29: Totaalprijs Transport | B29: =Arnhem!F84 -> 0
A30: TOTAALPRIJS ARNHEM | B30: =SUM(B27:B29) -> 0
A33: INSCHRIJFPRIJS | B33: =B24+B30 -> 0
A36: Naam organisatie
A37: Naam tekenbevoegde
A38: functionaris
A39: Functie
A41: Plaats en datum
A42: Handtekening

Sheet Nijmegen
A2: VERWERKINGSKOSTEN
A3: Nijmegen
A4: Afvalstroom | B4: Tonnage per jaar | C4: Tarief per ton (excl. btw) | D4: Subtotaal
A5: Kapittelweg 33
A6: Restafval | B6: 65 | D6: =B6*C6 -> 0
A7: Papier | B7: 29 | D7: =B7*C7 -> 0
A8: Vertrouwelijk Papier | B8: 1.5 | D8: =B8*C8 -> 0
A9: Swill | B9: 32 | D9: =B9*C9 -> 0
A10: Kapittelweg 35
A11: Vertrouwelijk papier | B11: 1 | D11: =B11*C11 -> 0
A12: Swill | B12: 15 | D12: =B12*C12 -> 0
A13: Laan van Scheut 2
A14: Restafval | B14: 53 | D14: =B14*C14 -> 0
A15: Papier | B15: 5.3 | D15: =B15*C15 -> 0
A16: Vertrouwelijk Papier | B16: 0.6 | D16: =B16*C16 -> 0
A17: Laboratoriumglas | B17: 0.6 | D17: =B17*C17 -> 0
A18: Chemisch afval | B18: 1.5 | D18: =B18*C18 -> 0
A19: Laan van scheut 10
A20: Restafval | B20: 12 | D20: =B20*C20 -> 0
A21: Papier | B21: 13 | D21: =B21*C21 -> 0
A22: Vertrouwelijk Papier | B22: 1.2 | D22: =B22*C22 -> 0
A23: Swill | B23: 8 | D23: =B23*C23 -> 0
A24: Professor Molkenboerstraat 3
A25: Restafval | B25: 22.5 | D25: =B25*C25 -> 0
A26: Papier | B26: 2.4 | D26: =B26*C26 -> 0
A27: Vertrouwelijk Papier | B27: 0.3 | D27: =B27*C27 -> 0
A28: Verlengde Goenestraat 75
A29: Swill | B29: 3.5 | D29: =B29*C29 -> 0
A30: Totaal verwerkingskosten | D30: =SUM(D6:D9,D11:D12,D14:D18,D20:D23,D25:D27,D29) -> 0
A32: HUUR / LEDIGING
A33: Inzamelmiddel | B33: Aantal | C33: Onderwerp | D33: Tarief (excl. btw) | E33: Weegfactor | F33: Subtotaal per jaar | I33: ledigingsfrequentie
A34: KAPITTELWEG 33
A35: Perscontainer 18m3 Restafval | B35: 1 | C35: huur per maand | E35: 12 | F35: =D35*E35 -> 0
A36: Perscontainer 18m3 Papier | B36: 1 | C36: huur per maand | E36: 12 | F36: =D36*E36 -> 0
A37: Container 600L Vertrouwelijk papier | B37: 3 | C37: huur per maand | E37: 36 | F37: =D37*E37 -> 0
A38: Container 250L Vertrouwelijk papier | B38: 10 | C38: huur per maand | E38: =B38*12 -> 120 | F38: =D38*E38 -> 0 | I38: Afroep
A39: Container 660L Restafval | B39: 10 | C39: huur per maand | E39: =B39*12 -> 120 | F39: =D39*E39 -> 0
A40: Container 660L Papier | B40: 6 | C40: huur per maand | E40: =B40*12 -> 72 | F40: =D40*E40 -> 0 | I40: 1 x per week
A41: Container 120L Swill | B41: 10 | C41: huur per maand | E41: =B41*12 -> 120 | F41: =D41*E41 -> 0 | I41: 1 x per week
A42: 3 m3 Vetput | B42: 1 | C42: lediging | E42: 4 | F42: =D42*E42 -> 0 | I42: 4 x per jaar
...

Sheet Arnhem
A2: VERWERKINGSKOSTEN
A3: Arnhem
A4: Afvalstroom | B4: Tonnage per jaar | C4: Tarief per ton (excl. btw) | D4: Subtotaal per jaar
A5: Ruitenberglaan 26
A6: Restafval | B6: 26 | D6: =B6*C6 -> 0
A7: Papier | B7: 18 | D7: =B7*C7 -> 0
A8: Vertrouwelijk Papier | B8: 3.7 | D8: =B8*C8 -> 0
A9: Swill | B9: 21 | D9: =B9*C9 -> 0
A10: Ruitenberglaan 27
A11: Restafval | B11: 41 | D11: =B11*C11 -> 0
A12: Papier | B12: 3.7 | D12: =B12*C12 -> 0
A13: Vertrouwelijk Papier | B13: 0.5 | D13: =B13*C13 -> 0
A14: Ruitenberglaan 29
A15: Restafval | B15: 45 | D15: =B15*C15 -> 0
A16: Papier | B16: 7.5 | D16: =B16*C16 -> 0
A17: Vertrouwelijk Papier | B17: 0.5 | D17: =B17*C17 -> 0
A18: Chemisch afval | B18: 1 | D18: =B18*C18 -> 0
A19: Ruitenberglaan 31
A20: Restafval | B20: 93 | D20: =B20*C20 -> 0
A21: Papier | B21: 22 | D21: =B21*C21 -> 0
A22: Vertrouwelijk Papier | B22: 0.5 | D22: =B22*C22 -> 0
A23: Swill | B23: 20 | D23: =B23*C23 -> 0
A24: Totaalprijs verwerkingskosten | D24: =SUM(D6:D9,D11:D13,D15:D18,D20:D23) -> 0
A26: HUUR / LEDIGING
A27: Inzamelmiddel | B27: Aantal | C27: Onderwerp | D27: Tarief (excl. btw) | E27: Weegfactor | F27: Subtotaal per jaar
A28: RUITENBERGLAAN 26
A29: Perscontainer 10 m3 Restafval | B29: 1 | C29: huur per maand | D29: 0 | E29: 12 | F29: =D29*E29 -> 0
A30: Container 660 L Restafval | B30: 5 | C30: huur per maand | D30: 0 | E30: =B30*12 -> 60 | F30: =D30*E30 -> 0
A31: Container 1100 L Restafval | B31: 1 | C31: huur per maand | D31: 0 | E31: =B31*12 -> 12 | F31: =D31*E31 -> 0
A32: Container 660 L Papier | B32: 8 | C32: huur per maand | D32: 0 | E32: =B32*12 -> 96 | F32: =D32*E32 -> 0
A33: Container 250 L Vertrouwelijk papier | B33: 10 | C33: huur per maand | D33: 0 | E33: =B33*12 -> 120 | F33: =D33*E33 -> 0
A34: Container 600 L Vertrouwelijk papier | B34: 8 | C34: huur per maand | D34: 0 | E34: =B34*12 -> 96 | F34: =D34*E34 -> 0
A35: Container 120 L Swill | B35: 6 | C35: huur per maand | D35: 0 | E35: =B35*12 -> 72 | F35: =D35*E35 -> 0
A36: vetput 3 m3 | B36: 1 | C36: lediging | D36: 0 | E36: 4 | F36: =D36*E36 -> 0
A37: vetput 1,5 m3 | B37: 1 | C37: lediging | D37: 0 | E37: 4 | F37: =D37*E37 -> 0
A38: Container 60 L datadrager (gesloten) | B38: 1 | C38: huur per maand | D38: 0 | E38: =B38*12 -> 12 | F38: =D38*E38 -> 0
A39: RUITENBERGLAAN 27
A40: Container 1100 L Restafval | B40: 4 | C40: huur per maand | D40: 0 | E40: 48 | F40: =D40*E40 -> 0
A41: Container 1700 L Papier | B41: 1 | C41: huur per maand | D41: 0 | E41: 12 | F41: =D41*E41 -> 0
A42: Container 600 L Vertrouwelijk papier | B42: 1 | C42: huur per maand | D42: 0 | E42: 12 | F42: =D42*E42 -> 0
...
