Workbook

Sheet Inschrijfprijs
A1: Prijzenblad Europese aanbesteding Restromen
A2: TenderNed kenmerk: TN 595021
A11: Uitgangspunten Prijzenblad:
A12: Inschrijver kan op geen enkele wijze rechten ontlenen aan de in dit prijzenblad opgegeven aantallen.
A13: Inschrijver mag alleen de gele cellen in kolom B, C en D invullen.
A14: Opbrengsten dienen niet te worden opgenomen in dit prijzenblad. Indien Inschrijver voor bepaalde afvalstromen of onderdelen geen kosten berekent, mag een nultarief worden ingevuld.
A15: De weegfactor voor huur is berekend o.b.v. het aantal containers x 12 maanden. De weegfactor voor transport/ledigen is gebaseerd o.b.v. cijfers uit het verleden.
A16: Voor inzamelmiddelen met de ledigingsfrequentie 'afroep' is de weegfactor gebassseerd op historisch gegevens.
A17: Opdrachtgever houdt zich het recht voor om de ledigingsfrequenties in het bovenstaande schema te wijzigen.
A18: De rolcontainers op locatie Kapittelweg 35 dienen te voldoen aan eis 23 zoals gesteld in het Programma van Eisen v2.0
A20: Nijmegen
A21: Totaalprijs Verwerkingskosten | B21: =Nijmegen!D30 -> 0
A22: Totaalprijs huur / lediging | B22: =Nijmegen!F79 -> 0
A23: Totaalprijs Transport | B23: =Nijmegen!F111 -> 0
A24: TOTAALPRIJS NIJMEGEN | B24: =SUM(B21:B23) -> 0
A26: Arnhem
A27: Totaalprijs Verwerkingskosten | B27: =Arnhem!D24 -> 0
A28: Totaalprijs huur / lediging | B28: =Arnhem!F61 -> 0
A29: Totaalprijs Transport | B29: =Arnhem!F84 -> 0
A30: TOTAALPRIJS ARNHEM | B30: =SUM(B27:B29) -> 0
A33: INSCHRIJFPRIJS | B33: =B24+B30 -> 0
A36: Naam organisatie
A37: Naam tekenbevoegde
A38: functionaris
A39: Functie
A41: Plaats en datum
A42: Handtekening

Sheet Nijmegen
A2: VERWERKINGSKOSTEN
A3: Nijmegen
A4: Afvalstroom | B4: Tonnage per jaar | C4: Tarief per ton (excl. btw) | D4: Subtotaal
A5: Kapittelweg 33
A6: Restafval | B6: 65 | D6: =B6*C6 -> 0
A7: Papier | B7: 29 | D7: =B7*C7 -> 0
A8: Vertrouwelijk Papier | B8: 1.5 | D8: =B8*C8 -> 0
A9: Swill | B9: 32 | D9: =B9*C9 -> 0
A10: Kapittelweg 35
A11: Vertrouwelijk papier | B11: 1 | D11: =B11*C11 -> 0
A12: Swill | B12: 15 | D12: =B12*C12 -> 0
A13: Laan van Scheut 2
A14: Restafval | B14: 53 | D14: =B14*C14 -> 0
A15: Papier | B15: 5.3 | D15: =B15*C15 -> 0
A16: Vertrouwelijk Papier | B16: 0.6 | D16: =B16*C16 -> 0
A17: Laboratoriumglas | B17: 0.6 | D17: =B17*C17 -> 0
A18: Chemisch afval | B18: 1.5 | D18: =B18*C18 -> 0
A19: Laan van scheut 10
A20: Restafval | B20: 12 | D20: =B20*C20 -> 0
A21: Papier | B21: 13 | D21: =B21*C21 -> 0
A22: Vertrouwelijk Papier | B22: 1.2 | D22: =B22*C22 -> 0
A23: Swill | B23: 8 | D23: =B23*C23 -> 0
A24: Professor Molkenboerstraat 3
A25: Restafval | B25: 22.5 | D25: =B25*C25 -> 0
A26: Papier | B26: 2.4 | D26: =B26*C26 -> 0
A27: Vertrouwelijk Papier | B27: 0.3 | D27: =B27*C27 -> 0
A28: Verlengde Goenestraat 75
A29: Swill | B29: 3.5 | D29: =B29*C29 -> 0
A30: Totaal verwerkingskosten | D30: =SUM(D6:D9,D11:D12,D14:D18,D20:D23,D25:D27,D29) -> 0
A32: HUUR / LEDIGING
A33: Inzamelmiddel | B33: Aantal | C33: Onderwerp | D33: Tarief (excl. btw) | E33: Weegfactor | F33: Subtotaal per jaar | I33: ledigingsfrequentie
A34: KAPITTELWEG 33
A35: Perscontainer 18m3 Restafval | B35: 1 | C35: huur per maand | E35: 12 | F35: =D35*E35 -> 0
A36: Perscontainer 18m3 Papier | B36: 1 | C36: huur per maand | E36: 12 | F36: =D36*E36 -> 0
A37: Container 600L Vertrouwelijk papier | B37: 3 | C37: huur per maand | E37: 36 | F37: =D37*E37 -> 0
A38: Container 250L Vertrouwelijk papier | B38: 10 | C38: huur per maand | E38: =B38*12 -> 120 | F38: =D38*E38 -> 0 | I38: Afroep
A39: Container 660L Restafval | B39: 10 | C39: huur per maand | E39: =B39*12 -> 120 | F39: =D39*E39 -> 0
A40: Container 660L Papier | B40: 6 | C40: huur per maand | E40: =B40*12 -> 72 | F40: =D40*E40 -> 0 | I40: 1 x per week
A41: Container 120L Swill | B41: 10 | C41: huur per maand | E41: =B41*12 -> 120 | F41: =D41*E41 -> 0 | I41: 1 x per week
A42: 3 m3 Vetput | B42: 1 | C42: lediging | E42: 4 | F42: =D42*E42 -> 0 | I42: 4 x per jaar
A43: 1,5 m3 Vetput | B43: 1 | C43: lediging | E43: 4 | F43: =D43*E43 -> 0
A44: KAPITTELWEG 35
A45: Container 660L Restafval | B45: 3 | C45: huur per maand | E45: =B45*12 -> 36 | F45: =D45*E45 -> 0 | I45: Afroep
A46: Container 660L Papier | B46: 3 | C46: huur per maand | E46: =B46*12 -> 36 | F46: =D46*E46 -> 0 | I46: Afroep
A47: Vertrouwelijk papier 250L | B47: 5 | C47: huur per maand | E47: =B47*12 -> 60 | F47: =D47*E47 -> 0
A48: Container 600L Vertrouwelijk papier | B48: 2 | C48: huur per maand | E48: =B48*12 -> 24 | F48: =D48*E48 -> 0 | I48: Afroep
A49: 3 m3 Vetput | B49: 1 | C49: lediging | E49: 2 | F49: =D49*E49 -> 0 | I49: 4 x per jaar
A50: Container 120L Swill | B50: 6 | C50: huur per maand | E50: =B50*12 -> 72 | F50: =D50*E50 -> 0
A51: Datadrager container 60L | B51: 1 | C51: huur per maand | E51: =B51*12 -> 12 | F51: =D51*E51 -> 0
A52: LAAN VAN SCHEUT 2
A53: Container 1300L Restafval (metalen container) | B53: 2 | C53: huur per maand | E53: =B53*12 -> 24 | F53: =D53*E53 -> 0 | I53: 3 x per week
A54: Container 1100L Papier | B54: 2 | C54: huur per maand | E54: =B54*12 -> 24 | F54: =D54*E54 -> 0 | I54: 2 x per week
A55: Container 600L Vertrouwelijk papier | B55: 1 | C55: huur per maand | E55: =B55*12 -> 12 | F55: =D55*E55 -> 0
A56: Container 250L Vertrouwelijk papier | B56: 1 | C56: huur per maand | E56: =B56*12 -> 12 | F56: =D56*E56 -> 0 | I56: Afroep
A57: Container 140L / Laboratoriumglas | B57: 15 | C57: huur per maand | E57: =B57*12 -> 180 | F57: =D57*E57 -> 0 | I57: Afroep
A58: Container 60L Datadrager (afgesloten) | B58: 1 | C58: huur per maand | E58: =B58*12 -> 12 | F58: =D58*E58 -> 0
A59: LAAN VAN SCHEUT 10
A60: Perscontainer 18m3 (Restafval) | B60: 1 | C60: huur per maand | E60: 12 | F60: =D60*E60 -> 0
A61: Container 660 L t.b.v. restafval | B61: 6 | C61: huur per maand | E61: =B61*12 -> 72 | F61: =D61*E61 -> 0
A62: Container 770 L Papier | B62: 5 | C62: huur per maand | E62: =B62*12 -> 60 | F62: =D62*E62 -> 0 | I62: 2 x per week
A63: Container 500 L Vertrouwelijk papier | B63: 4 | C63: huur per maand | E63: =B63*12 -> 48 | F63: =D63*E63 -> 0 | I63: Afroep
A64: Container 120 L Swill | B64: 3 | C64: huur per maand | E64: =B64*12 -> 36 | F64: =D64*E64 -> 0 | I64: 1 x per week
A65: 3 m3 Vetput | B65: 1 | C65: lediging | E65: 1 | F65: =D65*E65 -> 0 | I65: 4 x per jaar
A66: PROFESSOR MOLKENBOERSTRAAT 3
A67: Container 1100 L Restafval | B67: 2 | C67: huur per maand | E67: 24 | F67: =D67*E67 -> 0 | I67: 2 x per week
A68: Container 1100 L Papier | B68: 1 | C68: huur per maand | E68: 12 | F68: =D68*E68 -> 0 | I68: 1 x per week
A69: Container 250 L Vertrouwelijk papier | B69: 3 | C69: huur per maand | E69: 60 | F69: =D69*E69 -> 0 | I69: Afroep
A70: Container 120 L Swill | B70: 1 | C70: huur per maand | E70: 12 | F70: =D70*E70 -> 0 | I70: 1 x per week
A71: 3 m3 Vetput | B71: 1 | C71: lediging | E71: 1 | F71: =D71*E71 -> 0
A72: VERLENGDE GROENESTRAAT 75
A73: Container 660 L Restafval | B73: 1 | C73: huur per maand | E73: =B73*12 -> 12 | F73: =D73*E73 -> 0
A74: Container 770 L Papier | B74: 1 | C74: huur per maand | E74: =B74*12 -> 12 | F74: =D74*E74 -> 0
A75: Container 250 L Vertrouwelijk papier | B75: 3 | C75: huur per maand | E75: =B75*12 -> 36 | F75: =D75*E75 -> 0
A76: Container 240 L Afroep | B76: 1 | C76: huur per maand | E76: =B76*12 -> 12 | F76: =D76*E76 -> 0
A77: Container 120 L Swill | B77: 1 | C77: huur per maand | E77: =B77*12 -> 12 | F77: =D77*E77 -> 0
A78: 3 m3 vetput | B78: 1 | C78: Lediging | E78: 1 | F78: =D78*E78 -> 0
A79: Totaalprijs Huur / Lediging | F79: =SUM(F35:F78) -> 0
A81: Transport | B81: Ledigingsfrequentie | C81: Onderwerp | D81: Tarief (excl. btw) | E81: Weegfactor | F81: Subtotaal per jaar
A82: Route inzameling Restafval Kapittelweg 33 | B82: afroep | C82: transport | E82: 4 | F82: =D82*E82 -> 0
A83: Route inzameling Papier Kapittelweg 33 | B83: afroep | C83: transport | E83: 4 | F83: =D83*E83 -> 0
A84: Route inzameling Vertrouwelijk Papier Kapittelweg 33 | B84: afroep | C84: transport | E84: 7 | F84: =D84*E84 -> 0
A85: Route inzameling Swill Kapittelweg 33 | B85: 1 x per week | C85: transport | E85: 40 | F85: =D85*E85 -> 0
A87: Route inzameling Vertrouwelijk Papier Kapittelweg 35 | B87: afroep | C87: transport | E87: 3 | F87: =D87*E87 -> 0
A88: Route inzameling Swill Kapittelweg 35 | B88: 1 x per week | C88: transport | E88: 40 | F88: =D88*E88 -> 0
A89: Route inzameling Datadrager Kapittelweg 35 | B89: afroep | C89: transport | E89: 1 | F89: =D89*E89 -> 0
A91: Route Inzameling Chemisch afval (Laan van Scheut 2) | B91: afroep | C91: transport | E91: 8 | F91: =D91*E91 -> 0
A92: Route inzameling Restafval Laan van Scheut 2 | B92: 3 x per week | C92: transport | E92: 120 | F92: =D92*E92 -> 0
A93: Route inzameling Papier Laan van Scheut 2 | B93: 2 x per week | C93: transport | E93: 80 | F93: =D93*E93 -> 0
A94: Route inzameling Vertrouwelijk Papier Laan van Scheut 2 | B94: afroep | C94: transport | E94: 4 | F94: =D94*E94 -> 0
A95: Container 140L / Laboratoriumglas Laan van Scheut 2 | B95: afroep | C95: transport | E95: 3 | F95: =D95*E95 -> 0 | I95: Afroep
A96: Route inzameling Datadrager Laan van Scheut 2 | B96: afroep | C96: transport | E96: 1 | F96: =D96*E96 -> 0
A98: Route inzameling Restafval Laan van Scheut 10 | B98: afroep | C98: transport | E98: 4 | F98: =D98*E98 -> 0
A99: Route inzameling Papier Laan van Scheut 10 | B99: 2 x per week | C99: transport | E99: 80 | F99: =D99*E99 -> 0
A100: Route inzameling Vertrouwelijk Papier Laan van Scheut 10 | B100: afroep | C100: transport | E100: 2 | F100: =D100*E100 -> 0
A101: Route inzameling Swill Laan van Scheut 10 | B101: 1 x per week | C101: transport | E101: 40 | F101: =D101*E101 -> 0
A103: Route inzameling Restafval Professor Molkenboerstraat 3 | B103: 2 x per week | C103: transport | E103: 80 | F103: =D103*E103 -> 0
A104: Route inzameling Papier Professor Molkenboerstraat 3 | B104: 1 x per week | C104: transport | E104: 40 | F104: =D104*E104 -> 0
A105: Route inzameling Vertrouwelijk Papier Professor Molkenboerstraat 3 | B105: afroep | C105: transport | E105: 2 | F105: =D105*E105 -> 0
A106: Route inzameling Swill Professor Molkenboerstraat 3 | B106: 1 x per week | C106: transport | E106: 40 | F106: =D106*E106 -> 0
A108: Route inzameling Papier Verlengde Groenestraat 75 | B108: 1 x per week | C108: transport | E108: 40 | F108: =D108*E108 -> 0
...

Sheet Arnhem
A2: VERWERKINGSKOSTEN
A3: Arnhem
A4: Afvalstroom | B4: Tonnage per jaar | C4: Tarief per ton (excl. btw) | D4: Subtotaal per jaar
A5: Ruitenberglaan 26
A6: Restafval | B6: 26 | D6: =B6*C6 -> 0
A7: Papier | B7: 18 | D7: =B7*C7 -> 0
A8: Vertrouwelijk Papier | B8: 3.7 | D8: =B8*C8 -> 0
A9: Swill | B9: 21 | D9: =B9*C9 -> 0
A10: Ruitenberglaan 27
A11: Restafval | B11: 41 | D11: =B11*C11 -> 0
A12: Papier | B12: 3.7 | D12: =B12*C12 -> 0
A13: Vertrouwelijk Papier | B13: 0.5 | D13: =B13*C13 -> 0
A14: Ruitenberglaan 29
A15: Restafval | B15: 45 | D15: =B15*C15 -> 0
A16: Papier | B16: 7.5 | D16: =B16*C16 -> 0
A17: Vertrouwelijk Papier | B17: 0.5 | D17: =B17*C17 -> 0
A18: Chemisch afval | B18: 1 | D18: =B18*C18 -> 0
A19: Ruitenberglaan 31
A20: Restafval | B20: 93 | D20: =B20*C20 -> 0
A21: Papier | B21: 22 | D21: =B21*C21 -> 0
A22: Vertrouwelijk Papier | B22: 0.5 | D22: =B22*C22 -> 0
A23: Swill | B23: 20 | D23: =B23*C23 -> 0
A24: Totaalprijs verwerkingskosten | D24: =SUM(D6:D9,D11:D13,D15:D18,D20:D23) -> 0
A26: HUUR / LEDIGING
A27: Inzamelmiddel | B27: Aantal | C27: Onderwerp | D27: Tarief (excl. btw) | E27: Weegfactor | F27: Subtotaal per jaar
A28: RUITENBERGLAAN 26
A29: Perscontainer 10 m3 Restafval | B29: 1 | C29: huur per maand | D29: 0 | E29: 12 | F29: =D29*E29 -> 0
A30: Container 660 L Restafval | B30: 5 | C30: huur per maand | D30: 0 | E30: =B30*12 -> 60 | F30: =D30*E30 -> 0
A31: Container 1100 L Restafval | B31: 1 | C31: huur per maand | D31: 0 | E31: =B31*12 -> 12 | F31: =D31*E31 -> 0
A32: Container 660 L Papier | B32: 8 | C32: huur per maand | D32: 0 | E32: =B32*12 -> 96 | F32: =D32*E32 -> 0
A33: Container 250 L Vertrouwelijk papier | B33: 10 | C33: huur per maand | D33: 0 | E33: =B33*12 -> 120 | F33: =D33*E33 -> 0
A34: Container 600 L Vertrouwelijk papier | B34: 8 | C34: huur per maand | D34: 0 | E34: =B34*12 -> 96 | F34: =D34*E34 -> 0
A35: Container 120 L Swill | B35: 6 | C35: huur per maand | D35: 0 | E35: =B35*12 -> 72 | F35: =D35*E35 -> 0
A36: vetput 3 m3 | B36: 1 | C36: lediging | D36: 0 | E36: 4 | F36: =D36*E36 -> 0
A37: vetput 1,5 m3 | B37: 1 | C37: lediging | D37: 0 | E37: 4 | F37: =D37*E37 -> 0
A38: Container 60 L datadrager (gesloten) | B38: 1 | C38: huur per maand | D38: 0 | E38: =B38*12 -> 12 | F38: =D38*E38 -> 0
A39: RUITENBERGLAAN 27
A40: Container 1100 L Restafval | B40: 4 | C40: huur per maand | D40: 0 | E40: 48 | F40: =D40*E40 -> 0
A41: Container 1700 L Papier | B41: 1 | C41: huur per maand | D41: 0 | E41: 12 | F41: =D41*E41 -> 0
A42: Container 600 L Vertrouwelijk papier | B42: 1 | C42: huur per maand | D42: 0 | E42: 12 | F42: =D42*E42 -> 0
A43: Vetput 1,5 m3 | B43: 1 | C43: lediging | D43: 0 | E43: 2 | F43: =D43*E43 -> 0
A44: RUITENBERGLAAN 29
A45: Container 1100 L Restafval | B45: 2 | C45: huur per maand | D45: 0 | E45: 24 | F45: =D45*E45 -> 0
A46: Container 660 L Restafval | B46: 1 | C46: huur per maand | D46: 0 | E46: 12 | F46: =D46*E46 -> 0
A47: Container 660 L Papier | B47: 1 | C47: huur per maand | D47: 0 | E47: 12 | F47: =D47*E47 -> 0
A48: Container 770 L Papier | B48: 2 | C48: huur per maand | D48: 0 | E48: 24 | F48: =D48*E48 -> 0
A49: Container 250 L Vertrouwelijk papier | B49: 2 | C49: huur per maand | D49: 0 | E49: 24 | F49: =D49*E49 -> 0
A50: Container 600 L Vertrouwelijk papier | B50: 2 | C50: huur per maand | D50: 0 | E50: 24 | F50: =D50*E50 -> 0
A51: 1,5 m3 Vetput | B51: 1 | C51: lediging | D51: 0 | E51: 1 | F51: =D51*E51 -> 0
A52: RUITENBERGLAAN 31
A53: Container 1700 L Restafval | B53: 4 | C53: huur per maand | D53: 0 | E53: 48 | F53: =D53*E53 -> 0
A54: Container 2400 L Gaaskooi Papier | B54: 3 | C54: huur per maand | D54: 0 | E54: 36 | F54: =D54*E54 -> 0
A55: Container 240 L Papier | B55: 2 | C55: huur per maand | D55: 0 | E55: 24 | F55: =D55*E55 -> 0
A56: Container 770 L Papier | B56: 3 | C56: huur per maand | D56: 0 | E56: 36 | F56: =D56*E56 -> 0
A57: Container 250 L Vertrouwelijk papier | B57: 1 | C57: huur per maand | D57: 0 | E57: 12 | F57: =D57*E57 -> 0
A58: Container 600 L Vertrouwelijk papier | B58: 1 | C58: huur per maand | D58: 0 | E58: 12 | F58: =D58*E58 -> 0
A59: Container 120 L Swill | B59: 8 | C59: huur per maand | D59: 0 | E59: 96 | F59: =D59*E59 -> 0
A60: 5 m3 Vetput | B60: 1 | C60: lediging | D60: 0 | E60: 6 | F60: =D60*E60 -> 0
A61: Totaalprijs HUUR / LEDIGING | F61: =SUM(F29:F60) -> 0
A64: Transport | B64: Ledigingsfrequentie | C64: Onderwerp | D64: Tarief (excl. btw) | E64: Weegfactor | F64: Subtotaal per jaar
A65: Route inzameling Restafval Ruitenberglaan 26 | B65: afroep | C65: transport | E65: 4 | F65: =D65*E65 -> 0
A66: Route inzameling Papier Ruitenberglaan 26 | B66: 2 x per week | C66: transport | E66: 80 | F66: =D66*E66 -> 0
A67: Route inzameling Vertrouwelijk Papier Ruitenberglaan 26 | B67: afroep | C67: transport | E67: 5 | F67: =D67*E67 -> 0
A68: Route inzameling Swill Ruitenberglaan 26 | B68: 1 x per week | C68: transport | E68: 40 | F68: =D68*E68 -> 0
A69: Route inzameling Datadrager Ruitenberglaan 26 | B69: afroep | C69: transport | E69: 1 | F69: =D69*E69 -> 0
A71: Route inzameling Restafval Ruitenberglaan 27 | B71: 2 x per week | C71: transport | E71: 80 | F71: =D71*E71 -> 0
A72: Route inzameling Papier Ruitenberglaan 27 | B72: 1 x per week | C72: transport | E72: 40 | F72: =D72*E72 -> 0
A73: Route inzameling Vertrouwelijk Papier Ruitenberglaan 27 | B73: afroep | C73: transport | E73: 2 | F73: =D73*E73 -> 0
A75: Route Inzameling Chemisch afval Ruitenberglaan 29 | B75: afroep | C75: transport | E75: 2 | F75: =D75*E75 -> 0
A76: Route inzameling Restafval Ruitenberglaan 29 | B76: 2 x per week | C76: transport | E76: 80 | F76: =D76*E76 -> 0
A77: Route inzameling Papier Ruitenberglaan 29 | B77: 2 x per week | C77: transport | E77: 80 | F77: =D77*E77 -> 0
A78: Route inzameling Vertrouwelijk Papier Ruitenberglaan 29 | B78: afroep | C78: transport | E78: 2 | F78: =D78*E78 -> 0
... A83: Route inzameling Swill Ruitenberglaan 31 | B83: 1 x per week | C83: transport | E83: 40 | F83: =D83*E83 -> 0
A84: Totaalprijs HUUR / LEDIGING | F84: =SUM(F65:F83) -> 0
