Workbook

Sheet Voorblad
A1: Aanbesteding los meubilair 'Stroomopwaarts' Gemeente Oisterwijk
A2: Overzicht totaal aan te besteden meubilair - gunningscriterium 4
A3: Alleen oranje cellen mogen ingevuld worden!
A4: Naam inschrijver
A5: Adres
A6: Contactpersoon
A7: Datum
A11: Zitelementen | C11: =Zitelementen!W233 -> 0
A13: Tafels | C13: =Tafels!W236 -> 0
A15: Kasten & overig | C15: ='Kasten & overig'!W73 -> 0
A18: Totaal exclusief btw | C18: =SUM(C11:C17) -> 0 | D18: ex btw
A20: Offerte gebaseerd op: prijs vast einde werk
A21: Prijzen zijn exclusief BTW
A22: Alleen oranje cellen mogen ingevuld worden
A27: Gunningscriterium 5
A29: Vast kortingspercentage t.o.v. brutoadviesprijzen | D29: %
A33: Restwaarde oud meubilair
A35: Waarde excl BTW | D35: €

Sheet Zitelementen
C2: GEMEENTE OISTERWIJK | LOS MEUBILAIR - ZITELEMENTEN | K2: Invulformulier inschrijver
D4: Algemene aandachtspunten: | K4: Naam inschrijver | M4: =Voorblad!B4 -> 0
D5: De in de omschrijving aangegeven materialisatie en kleurstelling en type zijn leidend. Afbeeldingen dienen uitsluitend ter indicatie van model. | K5: Adres | M5: =Voorblad!B5 -> 0
D6: Refurbished meubilair dient technisch gecontroleerd, gereinigd en hersteld te worden geleverd, met nieuwe stoffering conform omschrijving. | K6: Contactpersoon | M6: =Voorblad!B6 -> 0
K7: -Prijzen in te vullen exclusief BTW.
K8: - Alleen oranje cellen mogen ingevuld worden
C9: Meubelcategorie: Zitmeubilair | K9: - Inschrijver mag enkel hetgeen als voorgeschreven óf een alternatief afprijzen. Als de prijs van het alternatief wordt ingevuld, wordt automatisch dit bedrag meegenomen in de totaaltelling.
K10: - Alternatieve dienen minimaal gelijkwaardig te zijn aan de uitgevraagde items
B12: Specifiek fabricaat | C12: Functionele specificaties | F12: Aantallen | I12: Totaal | K12: Prijs | M12: Totaalprijs | P12: Afbeelding alternatief | Q12: Specificaties | T12: Prijs alternatief | U12: Totaalprijs alternatief | W12: doorrekening UITVRAAG OF ALTERNATIEF
F15: BG | G15: V1 | H15: V2
B16: Nieuw
B17: #VALUE! | C17: 1 | D17: Merk | E17: Muuto | F17: 10 | G17: 0 | H17: 0 | I17: =SUM(F17:H27) -> 10 | M17: =I17*K17 -> 0 | Q17: 1 | R17: Merk | U17: =I17*T17 -> 0 | W17: =IF(ISBLANK(T17),M17,U17) -> 0
C18: 2 | D18: Type | E18: Fiber side Chair | Q18: 2 | R18: Type
C19: 3 | D19: Ondergrond | E19: Zachte vloerafwerking | Q19: 3 | R19: Ondergrond
C20: 4 | D20: Zitting en rugleuning | E20: Gestoffeerd | Q20: 4 | R20: Zitting en rugleuning
C21: 5 | D21: Bekleding/Afwerking (zitting) | E21: Kvadrat stofgroep 4 voor prijsvorming om prijs te kunnen garanderen (uiteindelijke keuze in lagere stofgroep is automatisch verrekening in minderwerk) | Q21: 5 | R21: Bekleding/Afwerking (zitting)
C22: 6 | D22: Armleggers | E22: - | Q22: 6 | R22: Armleggers
C23: 7 | D23: Bekleding/Afwerking (armleggers) | E23: - | Q23: 7 | R23: Bekleding/Afwerking (armleggers)
C24: 8 | D24: Onderstel | E24: Swiffel met wielen | Q24: 8 | R24: Onderstel
C25: 9 | D25: Afwerking (onderstel) | E25: Zwart | Q25: 9 | R25: Afwerking (onderstel)
B26: Z01 | C26: 10 | D26: Afmeting | E26: B475xD530xH770mm | ZH460mm | Q26: 10 | R26: Afmeting
Q27: 11 | R27: Aanvullend
B28: Z02 | D28: Zie hergebruik
B30: #VALUE! | C30: 1 | D30: Merk | E30: Muuto | F30: 0 | G30: 12 | H30: 12 | I30: =SUM(F30:H40) -> 24 | M30: =I30*K30 -> 0 | Q30: 1 | R30: Merk | U30: =I30*T30 -> 0 | W30: =IF(ISBLANK(T30),M30,U30) -> 0
C31: 2 | D31: Type | E31: Fiber Armchair | Q31: 2 | R31: Type
C32: 3 | D32: Ondergrond | E32: Zachte vloerafwerking | Q32: 3 | R32: Ondergrond
C33: 4 | D33: Zitting en rugleuning | E33: Gestoffeerd | Q33: 4 | R33: Zitting en rugleuning
C34: 5 | D34: Bekleding/Afwerking (zitting) | E34: Kvadrat stofgroep 4 voor prijsvorming om prijs te kunnen garanderen (uiteindelijke keuze in lagere stofgroep is automatisch verrekening in minderwerk) | Q34: 5 | R34: Bekleding/Afwerking (zitting)
C35: 6 | D35: Armleggers | E35: Geintegreerd in kuip | Q35: 6 | R35: Armleggers
C36: 7 | D36: Bekleding/Afwerking (armleggers) | E36: Kvadrat stofgroep 4 voor prijsvorming om prijs te kunnen garanderen (uiteindelijke keuze in lagere stofgroep is automatisch verrekening in minderwerk) | Q36: 7 | R36: Bekleding/Afwerking (armleggers)
C37: 8 | D37: Onderstel | E37: Swiffel met wielen | Q37: 8 | R37: Onderstel
B38: Z03 | C38: 9 | D38: Bekleding/Afwerking (onderstel) | E38: Zwart | Q38: 9 | R38: Afwerking (onderstel)
C39: 10 | D39: Afmeting | E39: B545xD560xH770mm | ZH460mm | Q39: 10 | R39: Afmeting
D40: Overig | Q40: 11 | R40: Aanvullend
B41: #VALUE! | C41: 1 | D41: Merk | E41: Muuto | F41: 0 | G41: 6 | H41: 12 | I41: =SUM(F41:H51) -> 18 | M41: =I41*K41 -> 0 | Q41: 1 | R41: Merk | U41: =I41*T41 -> 0 | W41: =IF(ISBLANK(T41),M41,U41) -> 0
C42: 2 | D42: Type | E42: Fiber Armchair | Q42: 2 | R42: Type
C43: 3 | D43: Ondergrond | E43: Zachte vloerafwerking | Q43: 3 | R43: Ondergrond
C44: 4 | D44: Zitting en rugleuning | E44: Gestoffeerd | Q44: 4 | R44: Zitting en rugleuning
C45: 5 | D45: Bekleding/Afwerking (zitting) | E45: Kvadrat stofgroep 4 voor prijsvorming om prijs te kunnen garanderen (uiteindelijke keuze in lagere stofgroep is automatisch verrekening in minderwerk) | Q45: 5 | R45: Bekleding/Afwerking (zitting)
C46: 6 | D46: Armleggers | E46: Geintegreerd in kuip | Q46: 6 | R46: Armleggers
...

Sheet Tafels
C2: GEMEENTE OISTERWIJK | LOS MEUBILAIR - TAFELS | K2: Invulformulier inschrijver
D4: Algemene aandachtspunten: | K4: Naam inschrijver | M4: =Voorblad!B4 -> 0
D5: De in de omschrijving aangegeven materialisatie en kleurstelling en type zijn leidend. Afbeeldingen dienen uitsluitend ter indicatie van model. | K5: Adres | M5: =Voorblad!B5 -> 0
D6: Refurbished meubilair dient technisch gecontroleerd, gereinigd en hersteld te worden geleverd, met nieuwe stoffering conform omschrijving. | K6: Contactpersoon | M6: =Voorblad!B6 -> 0
K7: -Prijzen in te vullen exclusief BTW.
K8: - Alleen oranje cellen mogen ingevuld worden
C9: Meubelcategorie: Tafels | K9: - Inschrijver mag enkel hetgeen als voorgeschreven óf een alternatief afprijzen. Als de prijs van het alternatief wordt ingevuld, wordt automatisch dit bedrag meegenomen in de totaaltelling.
K10: - Alternatieve dienen minimaal gelijkwaardig te zijn aan de uitgevraagde items
B12: Specifiek fabricaat | C12: Functionele specificaties | F12: Aantallen | I12: Totaal | K12: Prijs | M12: Totaalprijs | P12: Afbeelding alternatief | Q12: Specificaties | T12: Prijs alternatief | U12: Totaalprijs alternatief | W12: doorrekening UITVRAAG OF ALTERNATIEF
F15: BG | G15: V1 | H15: V2
B16: #VALUE! | C16: 1 | D16: Merk | E16: Table du Sud | F16: 1 | G16: 0 | H16: 0 | I16: =SUM(F16:H26) -> 1 | M16: =I16*K16 -> 0 | Q16: 1 | R16: Merk | U16: =I16*T16 -> 0 | W16: =IF(ISBLANK(T16),M16,U16) -> 0
C17: 2 | D17: Type | E17: Rond Quattro | Q17: 2 | R17: Type
C18: 3 | D18: Tafelblad | E18: Rond met facet randafwerking | Q18: 3 | R18: Tafelblad
C19: 4 | D19: Afwerking tafelblad | E19: Verfijnd eiken naturel afwerking ultra mat | Q19: 4 | R19: Afwerking tafelblad
C20: 5 | D20: Onderstel | E20: Quattro | Q20: 5 | R20: Onderstel
C21: 6 | D21: Afwerking onderstel | E21: Verfijnd eiken naturel afwerking ultra mat | Q21: 6 | R21: Afwerking onderstel
C22: 7 | D22: Elektrificatie | E22: LID | Flax | 1 stuk te voorzien van power units Black (2x USB-C en 2x 220V) | Q22: 7 | R22: Elektrificatie
C23: 8 | D23: Afmeting | E23: Ø2400?xH740mm | Q23: 8 | R23: Afmeting
B24: T01 | C24: 9 | D24: Aanvullend | Q24: 9 | R24: Aanvullend
B27: #VALUE! | C27: 1 | D27: Merk | E27: Table du Sud | F27: 1 | G27: 0 | H27: 0 | I27: =SUM(F27:H37) -> 1 | M27: =I27*K27 -> 0 | Q27: 1 | R27: Merk | U27: =I27*T27 -> 0 | W27: =IF(ISBLANK(T27),M27,U27) -> 0
C28: 2 | D28: Type | E28: Halve circel Cone Duo | Q28: 2 | R28: Type
C29: 3 | D29: Tafelblad | E29: Halve circel met facet randafwerking | Q29: 3 | R29: Tafelblad
C30: 4 | D30: Afwerking tafelblad | E30: Verfijnd eiken naturel afwerking ultra mat | Q30: 4 | R30: Afwerking tafelblad
C31: 5 | D31: Onderstel | E31: Eqone | Q31: 5 | R31: Onderstel
C32: 6 | D32: Afwerking onderstel | E32: RAL n.t.b. | Q32: 6 | R32: Afwerking onderstel
C33: 7 | D33: Elektrificatie | E33: LID | Flax | 1 stuk te voorzien van power units Black (2x USB-C en 2x 220V) | Q33: 7 | R33: Elektrificatie
C34: 8 | D34: Afmeting | E34: L3000xB1500xH740mm | Q34: 8 | R34: Afmeting
B35: T02 | C35: 9 | D35: Aanvullend | Q35: 9 | R35: Aanvullend
B38: #VALUE! | C38: 1 | D38: Merk | E38: Brunner | F38: 7 | G38: 0 | H38: 0 | I38: =SUM(F38:H46) -> 7 | M38: =I38*K38 -> 0 | Q38: 1 | R38: Merk | U38: =I38*T38 -> 0 | W38: 0
C39: 2 | D39: Type | E39: Torino | Q39: 2 | R39: Type
C40: 3 | D40: Tafelblad | E40: Langwerpig opklapbaar 30mm | Q40: 3 | R40: Tafelblad
C41: 4 | D41: Afwerking tafelblad | E41: Eiken fineer incl. randafwerking | Q41: 4 | R41: Afwerking tafelblad
C42: 5 | D42: Onderstel | E42: Column met wielen | Q42: 5 | R42: Onderstel
C43: 6 | D43: Afwerking onderstel | E43: RAL 7021 | Q43: 6 | R43: Afwerking onderstel
C44: 7 | D44: Elektrificatie | E44: - | Q44: 7 | R44: Elektrificatie
C45: 8 | D45: Afmeting | E45: L1600xD800xH740mm | Q45: 8 | R45: Afmeting
B46: T03 | C46: 9 | D46: Aanvullend | E46: - Links en rechts koppelbaar - Blad opklapbaar - Voorzien van cabblecubby - Nestbaar - Remmen aan voorzijde van de tafel | Q46: 9 | R46: Aanvullend
B47: #VALUE! | C47: 1 | D47: Merk | E47: Mara | F47: 11 | G47: 0 | H47: 0 | I47: =SUM(F47:H57) -> 11 | M47: =I47*K47 -> 0 | Q47: 1 | R47: Merk | U47: =I47*T47 -> 0 | W47: =IF(ISBLANK(T47),M47,U47) -> 0
C48: 2 | D48: Type | E48: Follow meeting monochromatic | Q48: 2 | R48: Type
C49: 3 | D49: Tafelblad | E49: Fenix | Q49: 3 | R49: Tafelblad
...

Sheet Kasten & overig
C2: GEMEENTE OISTERWIJK | LOS MEUBILAIR - KASTEN & OVERIG | K2: Invulformulier inschrijver
D4: Algemene aandachtspunten: | K4: Naam inschrijver | M4: =Voorblad!B4 -> 0
D5: De in de omschrijving aangegeven materialisatie en kleurstelling en type zijn leidend. Afbeeldingen dienen uitsluitend ter indicatie van model. | K5: Adres | M5: =Voorblad!B5 -> 0
D6: Refurbished meubilair dient technisch gecontroleerd, gereinigd en hersteld te worden geleverd, met nieuwe stoffering conform omschrijving. | K6: Contactpersoon | M6: =Voorblad!B6 -> 0
K7: -Prijzen in te vullen exclusief BTW, in offerte.
K8: - Alleen oranje cellen mogen ingevuld worden
C9: Meubelcategorie: Kasten & overig | K9: - Inschrijver mag enkel hetgeen als voorgeschreven óf een alternatief afprijzen. Als de prijs van het alternatief wordt ingevuld, wordt automatisch dit bedrag meegenomen in de totaaltelling.
K10: - Alternatieve dienen minimaal gelijkwaardig te zijn aan de uitgevraagde items
B12: Specifiek fabricaat | C12: Functionele specificaties | F12: Aantallen | I12: Totaal | K12: Prijs | M12: Totaalprijs | P12: Afbeelding alternatief | Q12: Specificaties | T12: Prijs alternatief | U12: Totaalprijs alternatief | W12: doorrekening UITVRAAG OF ALTERNATIEF
F15: BG | G15: V1 | H15: V2
B16: #VALUE! | C16: 1 | D16: Merk | E16: Ahrend | F16: 5 | G16: 11 | H16: 5 | I16: =SUM(F16:H26) -> 21 | M16: =I16*K16 -> 0 | Q16: 1 | R16: Merk | U16: =I16*T16 -> 0 | W16: =IF(ISBLANK(T16),M16,U16) -> 0
C17: 2 | D17: Type | E17: Schuifdeurkast SDK | Q17: 2 | R17: Type
C18: 3 | D18: Afwerking | E18: Staal gepeodercoat wit n.t.b. | Q18: 3 | R18: Afwerkingen
C19: 4 | D19: Deuren | E19: Voorzien van miniperforatie en afsluitbaar | Q19: 4 | R19: Deuren
C20: 5 | D20: Afmetingen | E20: B1800xH830xD470mm | Q20: 5 | R20: Afmetingen
B24: K01
B27: #VALUE! | C27: 1 | D27: Merk | E27: Ahrend | F27: 0 | G27: 0 | H27: 1 | I27: =SUM(F27:H37) -> 1 | M27: =I27*K27 -> 0 | Q27: 1 | R27: Merk | U27: =I27*T27 -> 0 | W27: =IF(ISBLANK(T27),M27,U27) -> 0
C28: 2 | D28: Type | E28: Schuifdeurkast SDK | Q28: 2 | R28: Type
C29: 3 | D29: Afwerking | E29: Staal gepeodercoat wit n.t.b. | Q29: 3 | R29: Afwerkingen
C30: 4 | D30: Deuren | E30: Voorzien van miniperforatie en afsluitbaar | Q30: 4 | R30: Deuren
C31: 5 | D31: Afmetingen | E31: B1800xH1180xD470mm | Q31: 5 | R31: Afmetingen
B35: K02
B38: #VALUE! | C38: 1 | D38: Merk | E38: Ahrend | F38: 2 | G38: 0 | H38: 1 | I38: =SUM(F38:H48) -> 3 | M38: =I38*K38 -> 0 | Q38: 1 | R38: Merk | U38: =I38*T38 -> 0 | W38: =IF(ISBLANK(T38),M38,U38) -> 0
C39: 2 | D39: Type | E39: Schuifdeurkast SDK | Q39: 2 | R39: Type
C40: 3 | D40: Afwerking | E40: Staal gepeodercoat wit n.t.b. | Q40: 3 | R40: Afwerkingen
C41: 4 | D41: Deuren | E41: Voorzien van miniperforatie en afsluitbaar | Q41: 4 | R41: Deuren
C42: 5 | D42: Afmetingen | E42: B1800xH1950xD470mm | Q42: 5 | R42: Afmetingen
B46: K03
B49: #VALUE! | C49: 1 | D49: Merk | E49: Lintex | F49: 0 | G49: 3 | H49: 0 | I49: =SUM(F49:H59) -> 3 | M49: =I49*K49 -> 0 | Q49: 1 | R49: Merk | U49: =I49*T49 -> 0 | W49: =IF(ISBLANK(T49),M49,U49) -> 0
C50: 2 | D50: Type | E50: Unit Mobile Acoustic Devider | Q50: 2 | R50: Type
C51: 3 | D51: Afwerking voor en achterzijde | E51: Kvadrat Screen 328 (taupe) | Q51: 3 | R51: Afwerkingen achterzijde
C52: 4 | D52: Randafwerking | E52: Staal in kleur pearl white | Q52: 4 | R52: Randafwerking
C53: 5 | D53: Afwerking poten | E53: Eikenhout | Q53: 5 | R53: Afwerking poten
C54: 6 | D54: Afmetingen | E54: B1200xH1855mm | Q54: 6 | R54: Afmetingen
B57: K04
B60: #VALUE! | C60: 1 | D60: Merk | E60: De Vorm | F60: 0 | G60: 10 | H60: 0 | I60: =SUM(F60:H70) -> 10 | M60: =I60*K60 -> 0 | Q60: 1 | R60: Merk | U60: =I60*T60 -> 0 | W60: =IF(ISBLANK(T60),M60,U60) -> 0
C61: 2 | D61: Type | E61: Workspace Divider | Q61: 2 | R61: Type
C62: 3 | D62: Afwerking voor en achterzijde | E62: PET Felt kleur n.t.b. | Q62: 3 | R62: Afwerking voor en achterzijde
C63: 4 | D63: Vulling | E63: Honingraat | Q63: 4 | R63: Vulling
C64: 5 | D64: Bevestiging | E64: Staal gepoedercoat RAL n.t.b. | Q64: 5 | R64: Bevestiging
...
