Workbook

Sheet Voorblad
A1: Aanbesteding los meubilair 'Stroomopwaarts' Gemeente Oisterwijk
A2: Overzicht totaal aan te besteden meubilair - gunningscriterium 4
A3: Alleen oranje cellen mogen ingevuld worden!
A4: Naam inschrijver
A5: Adres
A6: Contactpersoon
A7: Datum
A11: Zitelementen | C11: =Zitelementen!W233 -> 0
A13: Tafels | C13: =Tafels!W236 -> 0
A15: Kasten & overig | C15: ='Kasten & overig'!W73 -> 0
A18: Totaal exclusief btw | C18: =SUM(C11:C17) -> 0 | D18: ex btw
A20: Offerte gebaseerd op: prijs vast einde werk
A21: Prijzen zijn exclusief BTW
A22: Alleen oranje cellen mogen ingevuld worden
A27: Gunningscriterium 5
A29: Vast kortingspercentage t.o.v. brutoadviesprijzen | D29: %
A33: Restwaarde oud meubilair
A35: Waarde excl BTW | D35: €

Sheet Zitelementen
C2: GEMEENTE OISTERWIJK | LOS MEUBILAIR - ZITELEMENTEN | K2: Invulformulier inschrijver
D4: Algemene aandachtspunten: | K4: Naam inschrijver | M4: =Voorblad!B4 -> 0
D5: De in de omschrijving aangegeven materialisatie en kleurstelling en type zijn leidend. Afbeeldingen dienen uitsluitend ter indicatie van model. | K5: Adres | M5: =Voorblad!B5 -> 0
D6: Refurbished meubilair dient technisch gecontroleerd, gereinigd en hersteld te worden geleverd, met nieuwe stoffering conform omschrijving. | K6: Contactpersoon | M6: =Voorblad!B6 -> 0
K7: -Prijzen in te vullen exclusief BTW.
K8: - Alleen oranje cellen mogen ingevuld worden
C9: Meubelcategorie: Zitmeubilair | K9: - Inschrijver mag enkel hetgeen als voorgeschreven óf een alternatief afprijzen. Als de prijs van het alternatief wordt ingevuld, wordt automatisch dit bedrag meegenomen in de totaaltelling.
K10: - Alternatieve dienen minimaal gelijkwaardig te zijn aan de uitgevraagde items
B12: Specifiek fabricaat | C12: Functionele specificaties | F12: Aantallen | I12: Totaal | K12: Prijs | M12: Totaalprijs | P12: Afbeelding alternatief | Q12: Specificaties | T12: Prijs alternatief | U12: Totaalprijs alternatief | W12: doorrekening UITVRAAG OF ALTERNATIEF
F15: BG | G15: V1 | H15: V2
B16: Nieuw
B17: #VALUE! | C17: 1 | D17: Merk | E17: Muuto | F17: 10 | G17: 0 | H17: 0 | I17: =SUM(F17:H27) -> 10 | M17: =I17*K17 -> 0 | Q17: 1 | R17: Merk | U17: =I17*T17 -> 0 | W17: =IF(ISBLANK(T17),M17,U17) -> 0
C18: 2 | D18: Type | E18: Fiber side Chair | Q18: 2 | R18: Type
C19: 3 | D19: Ondergrond | E19: Zachte vloerafwerking | Q19: 3 | R19: Ondergrond
C20: 4 | D20: Zitting en rugleuning | E20: Gestoffeerd | Q20: 4 | R20: Zitting en rugleuning
C21: 5 | D21: Bekleding/Afwerking (zitting) | E21: Kvadrat stofgroep 4 voor prijsvorming om prijs te kunnen garanderen (uiteindelijke keuze in lagere stofgroep is automatisch verrekening in minderwerk) | Q21: 5 | R21: Bekleding/Afwerking (zitting)
C22: 6 | D22: Armleggers | E22: - | Q22: 6 | R22: Armleggers
C23: 7 | D23: Bekleding/Afwerking (armleggers) | E23: - | Q23: 7 | R23: Bekleding/Afwerking (armleggers)
C24: 8 | D24: Onderstel | E24: Swiffel met wielen | Q24: 8 | R24: Onderstel
C25: 9 | D25: Afwerking (onderstel) | E25: Zwart | Q25: 9 | R25: Afwerking (onderstel)
B26: Z01 | C26: 10 | D26: Afmeting | E26: B475xD530xH770mm | ZH460mm | Q26: 10 | R26: Afmeting
Q27: 11 | R27: Aanvullend
B28: Z02 | D28: Zie hergebruik
B30: #VALUE! | C30: 1 | D30: Merk | E30: Muuto | F30: 0 | G30: 12 | H30: 12 | I30: =SUM(F30:H40) -> 24 | M30: =I30*K30 -> 0 | Q30: 1 | R30: Merk | U30: =I30*T30 -> 0 | W30: =IF(ISBLANK(T30),M30,U30) -> 0
C31: 2 | D31: Type | E31: Fiber Armchair | Q31: 2 | R31: Type
C32: 3 | D32: Ondergrond | E32: Zachte vloerafwerking | Q32: 3 | R32: Ondergrond
C33: 4 | D33: Zitting en rugleuning | E33: Gestoffeerd | Q33: 4 | R33: Zitting en rugleuning
C34: 5 | D34: Bekleding/Afwerking (zitting) | E34: Kvadrat stofgroep 4 voor prijsvorming om prijs te kunnen garanderen (uiteindelijke keuze in lagere stofgroep is automatisch verrekening in minderwerk) | Q34: 5 | R34: Bekleding/Afwerking (zitting)
C35: 6 | D35: Armleggers | E35: Geintegreerd in kuip | Q35: 6 | R35: Armleggers
C36: 7 | D36: Bekleding/Afwerking (armleggers) | E36: Kvadrat stofgroep 4 voor prijsvorming om prijs te kunnen garanderen (uiteindelijke keuze in lagere stofgroep is automatisch verrekening in minderwerk) | Q36: 7 | R36: Bekleding/Afwerking (armleggers)
C37: 8 | D37: Onderstel | E37: Swiffel met wielen | Q37: 8 | R37: Onderstel
B38: Z03 | C38: 9 | D38: Bekleding/Afwerking (onderstel) | E38: Zwart | Q38: 9 | R38: Afwerking (onderstel)
C39: 10 | D39: Afmeting | E39: B545xD560xH770mm | ZH460mm | Q39: 10 | R39: Afmeting
D40: Overig | Q40: 11 | R40: Aanvullend
B41: #VALUE! | C41: 1 | D41: Merk | E41: Muuto | F41: 0 | G41: 6 | H41: 12 | I41: =SUM(F41:H51) -> 18 | M41: =I41*K41 -> 0 | Q41: 1 | R41: Merk | U41: =I41*T41 -> 0 | W41: =IF(ISBLANK(T41),M41,U41) -> 0
C42: 2 | D42: Type | E42: Fiber Armchair | Q42: 2 | R42: Type
C43: 3 | D43: Ondergrond | E43: Zachte vloerafwerking | Q43: 3 | R43: Ondergrond
C44: 4 | D44: Zitting en rugleuning | E44: Gestoffeerd | Q44: 4 | R44: Zitting en rugleuning
C45: 5 | D45: Bekleding/Afwerking (zitting) | E45: Kvadrat stofgroep 4 voor prijsvorming om prijs te kunnen garanderen (uiteindelijke keuze in lagere stofgroep is automatisch verrekening in minderwerk) | Q45: 5 | R45: Bekleding/Afwerking (zitting)
C46: 6 | D46: Armleggers | E46: Geintegreerd in kuip | Q46: 6 | R46: Armleggers
C47: 7 | D47: Bekleding/Afwerking (armleggers) | E47: Kvadrat stofgroep 4 voor prijsvorming om prijs te kunnen garanderen (uiteindelijke keuze in lagere stofgroep is automatisch verrekening in minderwerk) | Q47: 7 | R47: Bekleding/Afwerking (armleggers)
C48: 8 | D48: Onderstel | E48: Swiffel met wielen | Q48: 8 | R48: Onderstel
B49: Z04 | C49: 9 | D49: Bekleding/Afwerking (onderstel) | E49: Grijs | Q49: 9 | R49: Afwerking (onderstel)
C50: 10 | D50: Afmeting | E50: B545xD560xH770mm | ZH460mm | Q50: 10 | R50: Afmeting
Q51: 11 | R51: Aanvullend
B52: #VALUE! | C52: 1 | D52: Merk | E52: Muuto | F52: 0 | G52: 19 | H52: 4 | I52: =SUM(F52:H62) -> 23 | M52: =I52*K52 -> 0 | Q52: 1 | R52: Merk | U52: =I52*T52 -> 0 | W52: =IF(ISBLANK(T52),M52,U52) -> 0
C53: 2 | D53: Type | E53: Fiber Armchair | Q53: 2 | R53: Type
C54: 3 | D54: Ondergrond | E54: Zachte vloerafwerking | Q54: 3 | R54: Ondergrond
C55: 4 | D55: Zitting en rugleuning | E55: Gestoffeerd | Q55: 4 | R55: Zitting en rugleuning
C56: 5 | D56: Bekleding/Afwerking (zitting) | E56: Kvadrat stofgroep 4 voor prijsvorming om prijs te kunnen garanderen (uiteindelijke keuze in lagere stofgroep is automatisch verrekening in minderwerk) | Q56: 5 | R56: Bekleding/Afwerking (zitting)
C57: 6 | D57: Armleggers | E57: Geintegreerd in kuip | Q57: 6 | R57: Armleggers
C58: 7 | D58: Bekleding/Afwerking (armleggers) | E58: Kvadrat stofgroep 4 voor prijsvorming om prijs te kunnen garanderen (uiteindelijke keuze in lagere stofgroep is automatisch verrekening in minderwerk) | Q58: 7 | R58: Bekleding/Afwerking (armleggers)
C59: 8 | D59: Onderstel | E59: Swiffel met gasveer en wielen | Q59: 8 | R59: Onderstel
B60: Z05 | C60: 9 | D60: Bekleding/Afwerking (onderstel) | E60: Zwart | Q60: 9 | R60: Afwerking (onderstel)
C61: 10 | D61: Afmeting | E61: B545xD560xH770mm | ZH460mm | Q61: 10 | R61: Afmeting
D62: Overig | E62: Gasveer geschikt voor 8 uur gebruik per werkdag | Q62: 11 | R62: Aanvullend
B63: #VALUE! | C63: 1 | D63: Merk | E63: PlanQ | F63: 6 | G63: 0 | H63: 3 | I63: =SUM(F63:H73) -> 9 | M63: =I63*K63 -> 0 | Q63: 1 | R63: Merk | U63: =I63*T63 -> 0 | W63: =IF(ISBLANK(T63),M63,U63) -> 0
C64: 2 | D64: Type | E64: Rebel Chair Rezign | Q64: 2 | R64: Type
C65: 3 | D65: Ondergrond | E65: Harde vloerafwerking | Q65: 3 | R65: Ondergrond
C66: 4 | D66: Zitting en rugleuning | E66: Ongestoffeerd | Q66: 4 | R66: Zitting en rugleuning
C67: 5 | D67: Bekleding/Afwerking (zitting) | E67: Rezign Flax | Q67: 5 | R67: Bekleding/Afwerking (zitting)
C68: 6 | D68: Armleggers | E68: - | Q68: 6 | R68: Armleggers
C69: 7 | D69: Bekleding/Afwerking (armleggers) | E69: - | Q69: 7 | R69: Bekleding/Afwerking (armleggers)
C70: 8 | D70: Onderstel | E70: Stalen vierpoot | Q70: 8 | R70: Onderstel
C71: 9 | D71: Bekleding/Afwerking (onderstel) | E71: RAL 5008 (donker blauw) | Q71: 9 | R71: Afwerking (onderstel)
B72: Z06 | C72: 10 | D72: Afmeting | E72: B480xD515xH820mm | ZH450mm | Q72: 10 | R72: Afmeting
D73: Overig | E73: Stapelbaar en voorzien van bijbehorende trolley i.v.m. uithuisbaarheid) | Q73: 11 | R73: Aanvullend
B74: #VALUE! | C74: 1 | D74: Merk | E74: PlanQ | F74: 27 | G74: 0 | H74: 0 | I74: =SUM(F74:H84) -> 27 | M74: =I74*K74 -> 0 | Q74: 1 | R74: Merk | U74: =I74*T74 -> 0 | W74: =IF(ISBLANK(T74),M74,U74) -> 0
C75: 2 | D75: Type | E75: Rebel Chair Rezign | Q75: 2 | R75: Type
C76: 3 | D76: Ondergrond | E76: Harde vloerafwerking | Q76: 3 | R76: Ondergrond
C77: 4 | D77: Zitting en rugleuning | E77: Ongestoffeerd | Q77: 4 | R77: Zitting en rugleuning
C78: 5 | D78: Bekleding/Afwerking (zitting) | E78: Rezign Flax | Q78: 5 | R78: Bekleding/Afwerking (zitting)
C79: 6 | D79: Armleggers | E79: - | Q79: 6 | R79: Armleggers
C80: 7 | D80: Bekleding/Afwerking (armleggers) | E80: - | Q80: 7 | R80: Bekleding/Afwerking (armleggers)
C81: 8 | D81: Onderstel | E81: Stalen vierpoot | Q81: 8 | R81: Onderstel
B82: Z07 | C82: 9 | D82: Bekleding/Afwerking (onderstel) | E82: RAL 9002 (licht grijs) | Q82: 9 | R82: Afwerking (onderstel)
C83: 10 | D83: Afmeting | E83: B480xD515xH820mm | ZH450mm | Q83: 10 | R83: Afmeting
D84: Overig | E84: Stapelbaar en voorzien van bijbehorende trolley i.v.m. uithuisbaarheid) | Q84: 11 | R84: Aanvullend
B85: #VALUE! | C85: 1 | D85: Merk | E85: PlanQ | F85: 6 | G85: 0 | H85: 0 | I85: =SUM(F85:H95) -> 6 | M85: =I85*K85 -> 0 | Q85: 1 | R85: Merk | U85: =I85*T85 -> 0 | W85: =IF(ISBLANK(T85),M85,U85) -> 0
C86: 2 | D86: Type | E86: Rebel Chair Rezign | Q86: 2 | R86: Type
C87: 3 | D87: Ondergrond | E87: Harde vloerafwerking | Q87: 3 | R87: Ondergrond
C88: 4 | D88: Zitting en rugleuning | E88: Ongestoffeerd | Q88: 4 | R88: Zitting en rugleuning
C89: 5 | D89: Bekleding/Afwerking (zitting) | E89: Rezign Flax | Q89: 5 | R89: Bekleding/Afwerking (zitting)
C90: 6 | D90: Armleggers | E90: Staal | Q90: 6 | R90: Armleggers
C91: 7 | D91: Bekleding/Afwerking (armleggers) | E91: RAL 9002 (licht grijs) | Q91: 7 | R91: Bekleding/Afwerking (armleggers)
C92: 8 | D92: Onderstel | E92: Stalen vierpoot | Q92: 8 | R92: Onderstel
B93: Z08 | C93: 9 | D93: Bekleding/Afwerking (onderstel) | E93: RAL 9002 (licht grijs) | Q93: 9 | R93: Afwerking (onderstel)
C94: 10 | D94: Afmeting | E94: B480xD515xH820mm | ZH450mm | Q94: 10 | R94: Afmeting
D95: Overig | E95: Stapelbaar en voorzien van bijbehorende trolley i.v.m. uithuisbaarheid) | Q95: 11 | R95: Aanvullend
B96: #VALUE! | C96: 1 | D96: Merk | E96: Normann Copenhagen | F96: 6 | G96: 6 | H96: 0 | I96: =SUM(F96:H106) -> 12 | M96: =I96*K96 -> 0 | Q96: 1 | R96: Merk | U96: =I96*T96 -> 0 | W96: =IF(ISBLANK(T96),M96,U96) -> 0
C97: 2 | D97: Type | E97: Mat Barstool | Q97: 2 | R97: Type
C98: 3 | D98: Ondergrond | E98: Harde vloerafwerking | Q98: 3 | R98: Ondergrond
C99: 4 | D99: Zitting en rugleuning | E99: Ongestoffeerd | Q99: 4 | R99: Zitting en rugleuning
C100: 5 | D100: Bekleding/Afwerking (zitting) | E100: Seaweed | Q100: 5 | R100: Bekleding/Afwerking (zitting)
C101: 6 | D101: Armleggers | E101: - | Q101: 6 | R101: Armleggers
C102: 7 | D102: Bekleding/Afwerking (armleggers) | E102: - | Q102: 7 | R102: Bekleding/Afwerking (armleggers)
C103: 8 | D103: Onderstel | E103: Stalen vierpoot met voetenring | Q103: 8 | R103: Onderstel
B104: Z09 | C104: 9 | D104: Bekleding/Afwerking (onderstel) | E104: Zwart | Q104: 9 | R104: Afwerking (onderstel)
C105: 10 | D105: Afmeting | E105: B516xD550xH101mm | ZH650mm | Q105: 10 | R105: Afmeting
Q106: 11 | R106: Aanvullend
...

Sheet Tafels
C2: GEMEENTE OISTERWIJK | LOS MEUBILAIR - TAFELS | K2: Invulformulier inschrijver
D4: Algemene aandachtspunten: | K4: Naam inschrijver | M4: =Voorblad!B4 -> 0
D5: De in de omschrijving aangegeven materialisatie en kleurstelling en type zijn leidend. Afbeeldingen dienen uitsluitend ter indicatie van model. | K5: Adres | M5: =Voorblad!B5 -> 0
D6: Refurbished meubilair dient technisch gecontroleerd, gereinigd en hersteld te worden geleverd, met nieuwe stoffering conform omschrijving. | K6: Contactpersoon | M6: =Voorblad!B6 -> 0
K7: -Prijzen in te vullen exclusief BTW.
K8: - Alleen oranje cellen mogen ingevuld worden
C9: Meubelcategorie: Tafels | K9: - Inschrijver mag enkel hetgeen als voorgeschreven óf een alternatief afprijzen. Als de prijs van het alternatief wordt ingevuld, wordt automatisch dit bedrag meegenomen in de totaaltelling.
K10: - Alternatieve dienen minimaal gelijkwaardig te zijn aan de uitgevraagde items
B12: Specifiek fabricaat | C12: Functionele specificaties | F12: Aantallen | I12: Totaal | K12: Prijs | M12: Totaalprijs | P12: Afbeelding alternatief | Q12: Specificaties | T12: Prijs alternatief | U12: Totaalprijs alternatief | W12: doorrekening UITVRAAG OF ALTERNATIEF
F15: BG | G15: V1 | H15: V2
B16: #VALUE! | C16: 1 | D16: Merk | E16: Table du Sud | F16: 1 | G16: 0 | H16: 0 | I16: =SUM(F16:H26) -> 1 | M16: =I16*K16 -> 0 | Q16: 1 | R16: Merk | U16: =I16*T16 -> 0 | W16: =IF(ISBLANK(T16),M16,U16) -> 0
C17: 2 | D17: Type | E17: Rond Quattro | Q17: 2 | R17: Type
C18: 3 | D18: Tafelblad | E18: Rond met facet randafwerking | Q18: 3 | R18: Tafelblad
C19: 4 | D19: Afwerking tafelblad | E19: Verfijnd eiken naturel afwerking ultra mat | Q19: 4 | R19: Afwerking tafelblad
C20: 5 | D20: Onderstel | E20: Quattro | Q20: 5 | R20: Onderstel
C21: 6 | D21: Afwerking onderstel | E21: Verfijnd eiken naturel afwerking ultra mat | Q21: 6 | R21: Afwerking onderstel
C22: 7 | D22: Elektrificatie | E22: LID | Flax | 1 stuk te voorzien van power units Black (2x USB-C en 2x 220V) | Q22: 7 | R22: Elektrificatie
C23: 8 | D23: Afmeting | E23: Ø2400?xH740mm | Q23: 8 | R23: Afmeting
B24: T01 | C24: 9 | D24: Aanvullend | Q24: 9 | R24: Aanvullend
B27: #VALUE! | C27: 1 | D27: Merk | E27: Table du Sud | F27: 1 | G27: 0 | H27: 0 | I27: =SUM(F27:H37) -> 1 | M27: =I27*K27 -> 0 | Q27: 1 | R27: Merk | U27: =I27*T27 -> 0 | W27: =IF(ISBLANK(T27),M27,U27) -> 0
C28: 2 | D28: Type | E28: Halve circel Cone Duo | Q28: 2 | R28: Type
C29: 3 | D29: Tafelblad | E29: Halve circel met facet randafwerking | Q29: 3 | R29: Tafelblad
C30: 4 | D30: Afwerking tafelblad | E30: Verfijnd eiken naturel afwerking ultra mat | Q30: 4 | R30: Afwerking tafelblad
C31: 5 | D31: Onderstel | E31: Eqone | Q31: 5 | R31: Onderstel
C32: 6 | D32: Afwerking onderstel | E32: RAL n.t.b. | Q32: 6 | R32: Afwerking onderstel
C33: 7 | D33: Elektrificatie | E33: LID | Flax | 1 stuk te voorzien van power units Black (2x USB-C en 2x 220V) | Q33: 7 | R33: Elektrificatie
C34: 8 | D34: Afmeting | E34: L3000xB1500xH740mm | Q34: 8 | R34: Afmeting
B35: T02 | C35: 9 | D35: Aanvullend | Q35: 9 | R35: Aanvullend
B38: #VALUE! | C38: 1 | D38: Merk | E38: Brunner | F38: 7 | G38: 0 | H38: 0 | I38: =SUM(F38:H46) -> 7 | M38: =I38*K38 -> 0 | Q38: 1 | R38: Merk | U38: =I38*T38 -> 0 | W38: 0
C39: 2 | D39: Type | E39: Torino | Q39: 2 | R39: Type
C40: 3 | D40: Tafelblad | E40: Langwerpig opklapbaar 30mm | Q40: 3 | R40: Tafelblad
C41: 4 | D41: Afwerking tafelblad | E41: Eiken fineer incl. randafwerking | Q41: 4 | R41: Afwerking tafelblad
C42: 5 | D42: Onderstel | E42: Column met wielen | Q42: 5 | R42: Onderstel
C43: 6 | D43: Afwerking onderstel | E43: RAL 7021 | Q43: 6 | R43: Afwerking onderstel
C44: 7 | D44: Elektrificatie | E44: - | Q44: 7 | R44: Elektrificatie
C45: 8 | D45: Afmeting | E45: L1600xD800xH740mm | Q45: 8 | R45: Afmeting
B46: T03 | C46: 9 | D46: Aanvullend | E46: - Links en rechts koppelbaar - Blad opklapbaar - Voorzien van cabblecubby - Nestbaar - Remmen aan voorzijde van de tafel | Q46: 9 | R46: Aanvullend
B47: #VALUE! | C47: 1 | D47: Merk | E47: Mara | F47: 11 | G47: 0 | H47: 0 | I47: =SUM(F47:H57) -> 11 | M47: =I47*K47 -> 0 | Q47: 1 | R47: Merk | U47: =I47*T47 -> 0 | W47: =IF(ISBLANK(T47),M47,U47) -> 0
C48: 2 | D48: Type | E48: Follow meeting monochromatic | Q48: 2 | R48: Type
C49: 3 | D49: Tafelblad | E49: Fenix | Q49: 3 | R49: Tafelblad
C50: 4 | D50: Afwerking tafelblad | E50: 6x NTM Bloom 0792 Blu Shaba (donker blauw) + 5x Eiken (licht) | Q50: 4 | R50: Afwerking tafelblad
C51: 5 | D51: Onderstel | E51: Gepoedercoat staal | Q51: 5 | R51: Onderstel
C52: 6 | D52: Afwerking onderstel | E52: 6x RAL 5008 (donker blauw) + 5x RAL 9002 (licht grijs) | Q52: 6 | R52: Afwerking onderstel
C53: 7 | D53: Elektrificatie | E53: - | Q53: 7 | R53: Elektrificatie
C54: 8 | D54: Afmeting | E54: Ø800xH730-1160mm | Q54: 8 | R54: Afmeting
B55: T04 | C55: 9 | D55: Aanvullend | E55: - In hoogte verstelbaar tot statafel middels gasveer geschikt voor intensief gebruik - Extra stil In gebruik | Q55: 9 | R55: Aanvullend
B58: #VALUE! | C58: 1 | D58: Merk | E58: De Vorm | F58: 4 | G58: 0 | H58: 2 | I58: =SUM(F58:H68) -> 6 | M58: =I58*K58 -> 0 | Q58: 1 | R58: Merk | U58: =I58*T58 -> 0 | W58: =IF(ISBLANK(T58),M58,U58) -> 0
C59: 2 | D59: Type | E59: MG 2 side table | Q59: 2 | R59: Type
C60: 3 | D60: Tafelblad | E60: Fenix | Q60: 3 | R60: Tafelblad
C61: 4 | D61: Afwerking tafelblad | E61: NTM Bloom 0792 Blu Shaba (donker blauw) | Q61: 4 | R61: Afwerking tafelblad
C62: 5 | D62: Onderstel | E62: Gepoedercoat staal | Q62: 5 | R62: Onderstel
C63: 6 | D63: Afwerking onderstel | E63: RAL 5008 (donker blauw) | Q63: 6 | R63: Afwerking onderstel
C64: 7 | D64: Elektrificatie | E64: - | Q64: 7 | R64: Elektrificatie
C65: 8 | D65: Afmeting | E65: L470x340xH??mm | Q65: 8 | R65: Afmeting
B66: T05 | C66: 9 | D66: Aanvullend | E66: - | Q66: 9 | R66: Aanvullend
B69: #VALUE! | C69: 1 | D69: Merk | E69: Mara | F69: 1 | G69: 0 | H69: 0 | I69: =SUM(F69:H79) -> 1 | M69: =I69*K69 -> 0 | Q69: 1 | R69: Merk | U69: =I69*T69 -> 0 | W69: =IF(ISBLANK(T69),M69,U69) -> 0
C70: 2 | D70: Type | E70: Follow meeting monochromatic | Q70: 2 | R70: Type
C71: 3 | D71: Tafelblad | E71: Rond | Q71: 3 | R71: Tafelblad
C72: 4 | D72: Afwerking tafelblad | E72: Eiken fineer | Q72: 4 | R72: Afwerking tafelblad
C73: 5 | D73: Onderstel | E73: Gepoedercoat staal | Q73: 5 | R73: Onderstel
C74: 6 | D74: Afwerking onderstel | E74: RAL 9002 (licht grijs) | Q74: 6 | R74: Afwerking onderstel
C75: 7 | D75: Elektrificatie | E75: - | Q75: 7 | R75: Elektrificatie
C76: 8 | D76: Afmeting | E76: Ø1200xH730-1160mm | Q76: 8 | R76: Afmeting
C77: 9 | D77: Aanvullend | E77: - In hoogte verstelbaar tot statafel middels gasveer geschikt voor intensief gebruik - Extra stil In gebruik | Q77: 9 | R77: Aanvullend
B78: T06
B80: #VALUE! | C80: 1 | D80: Merk | E80: Brunner | F80: 11 | G80: 0 | H80: 0 | I80: =SUM(F80:H90) -> 11 | M80: =I80*K80 -> 0 | Q80: 1 | R80: Merk | U80: =I80*T80 -> 0 | W80: =IF(ISBLANK(T80),M80,U80) -> 0
C81: 2 | D81: Type | E81: Torino | Q81: 2 | R81: Type
C82: 3 | D82: Tafelblad | E82: Vierkant | Q82: 3 | R82: Tafelblad
C83: 4 | D83: Afwerking tafelblad | E83: Fenix kleur n.t.b. (beige) | Q83: 4 | R83: Afwerking tafelblad
C84: 5 | D84: Onderstel | E84: Vierteen met wielen en gasveer | Q84: 5 | R84: Onderstel
C85: 6 | D85: Afwerking onderstel | E85: RAL 9002 (licht grijs) | Q85: 6 | R85: Afwerking onderstel
C86: 7 | D86: Elektrificatie | E86: - | Q86: 7 | R86: Elektrificatie
C87: 8 | D87: Afmeting | E87: L800xB800xH740mm | Q87: 8 | R87: Afmeting
B88: T07 | C88: 9 | D88: Aanvullend | E88: Moet door de deur van vergaderkamer 0.33 passen | Q88: 9 | R88: Aanvullend
B91: #VALUE! | C91: 1 | D91: Merk | E91: Gispen | F91: 1 | G91: 0 | H91: 0 | I91: =SUM(F91:H101) -> 1 | M91: =I91*K91 -> 0 | Q91: 1 | R91: Merk | U91: =I91*T91 -> 0 | W91: =IF(ISBLANK(T91),M91,U91) -> 0
C92: 2 | D92: Type | E92: UT | Q92: 2 | R92: Type
C93: 3 | D93: Tafelblad | E93: Rechthoekig | Q93: 3 | R93: Tafelblad
C94: 4 | D94: Afwerking tafelblad | E94: Melamine conform bureaus n.t.b. (licht grijs) | Q94: 4 | R94: Afwerking tafelblad
C95: 5 | D95: Onderstel | E95: Stalen vier poot | Q95: 5 | R95: Onderstel
C96: 6 | D96: Afwerking onderstel | E96: RAL 9002 (licht grijs) | Q96: 6 | R96: Afwerking onderstel
C97: 7 | D97: Elektrificatie | E97: - | Q97: 7 | R97: Elektrificatie
C98: 8 | D98: Afmeting | E98: L1600xB800xH950mm | Q98: 8 | R98: Afmeting
B99: T08 | C99: 9 | D99: Aanvullend | Q99: 9 | R99: Aanvullend
B102: #VALUE! | C102: 1 | D102: Merk | E102: Gispen | F102: 1 | G102: 0 | H102: 0 | I102: =SUM(F102:H112) -> 1 | M102: =I102*K102 -> 0 | Q102: 1 | R102: Merk | U102: =I102*T102 -> 0 | W102: =IF(ISBLANK(T102),M102,U102) -> 0
C103: 2 | D103: Type | E103: UT | Q103: 2 | R103: Type
C104: 3 | D104: Tafelblad | E104: Rechthoekig | Q104: 3 | R104: Tafelblad
C105: 4 | D105: Afwerking tafelblad | E105: Melamine conform bureaus n.t.b. (licht grijs) | Q105: 4 | R105: Afwerking tafelblad
C106: 5 | D106: Onderstel | E106: Stalen vier poot | Q106: 5 | R106: Onderstel
C107: 6 | D107: Afwerking onderstel | E107: RAL 9002 (licht grijs) | Q107: 6 | R107: Afwerking onderstel
C108: 7 | D108: Elektrificatie | E108: - | Q108: 7 | R108: Elektrificatie
C109: 8 | D109: Afmeting | E109: L2000xB800xH950mm | Q109: 8 | R109: Afmeting
B110: T09 | C110: 9 | D110: Aanvullend | Q110: 9 | R110: Aanvullend
B113: #VALUE! | C113: 1 | D113: Merk | E113: De Vorm | F113: 4 | G113: 0 | H113: 3 | I113: =SUM(F113:H123) -> 7 | M113: =I113*K113 -> 0 | Q113: 1 | R113: Merk | U113: =I113*T113 -> 0 | W113: =IF(ISBLANK(T113),M113,U113) -> 0
C114: 2 | D114: Type | E114: MG table | Q114: 2 | R114: Type
C115: 3 | D115: Tafelblad | E115: Rechthoekig | Q115: 3 | R115: Tafelblad
C116: 4 | D116: Afwerking tafelblad | E116: 4x Fenix kleur n.t.b. (beige) + 3x NTM Bloom 0792 Blu Shaba (donker blauw) | Q116: 4 | R116: Afwerking tafelblad
C117: 5 | D117: Onderstel | E117: Stalen plaatvoet | Q117: 5 | R117: Onderstel
C118: 6 | D118: Afwerking onderstel | E118: 4x RAL 9002 (licht grijs) + RAL 5008 (donker blauw) | Q118: 6 | R118: Afwerking onderstel
C119: 7 | D119: Elektrificatie | E119: - | Q119: 7 | R119: Elektrificatie
C120: 8 | D120: Afmeting | E120: L800xB800xH740mm | Q120: 8 | R120: Afmeting
...

Sheet Kasten & overig
C2: GEMEENTE OISTERWIJK | LOS MEUBILAIR - KASTEN & OVERIG | K2: Invulformulier inschrijver
D4: Algemene aandachtspunten: | K4: Naam inschrijver | M4: =Voorblad!B4 -> 0
D5: De in de omschrijving aangegeven materialisatie en kleurstelling en type zijn leidend. Afbeeldingen dienen uitsluitend ter indicatie van model. | K5: Adres | M5: =Voorblad!B5 -> 0
D6: Refurbished meubilair dient technisch gecontroleerd, gereinigd en hersteld te worden geleverd, met nieuwe stoffering conform omschrijving. | K6: Contactpersoon | M6: =Voorblad!B6 -> 0
K7: -Prijzen in te vullen exclusief BTW, in offerte.
K8: - Alleen oranje cellen mogen ingevuld worden
C9: Meubelcategorie: Kasten & overig | K9: - Inschrijver mag enkel hetgeen als voorgeschreven óf een alternatief afprijzen. Als de prijs van het alternatief wordt ingevuld, wordt automatisch dit bedrag meegenomen in de totaaltelling.
K10: - Alternatieve dienen minimaal gelijkwaardig te zijn aan de uitgevraagde items
B12: Specifiek fabricaat | C12: Functionele specificaties | F12: Aantallen | I12: Totaal | K12: Prijs | M12: Totaalprijs | P12: Afbeelding alternatief | Q12: Specificaties | T12: Prijs alternatief | U12: Totaalprijs alternatief | W12: doorrekening UITVRAAG OF ALTERNATIEF
F15: BG | G15: V1 | H15: V2
B16: #VALUE! | C16: 1 | D16: Merk | E16: Ahrend | F16: 5 | G16: 11 | H16: 5 | I16: =SUM(F16:H26) -> 21 | M16: =I16*K16 -> 0 | Q16: 1 | R16: Merk | U16: =I16*T16 -> 0 | W16: =IF(ISBLANK(T16),M16,U16) -> 0
C17: 2 | D17: Type | E17: Schuifdeurkast SDK | Q17: 2 | R17: Type
C18: 3 | D18: Afwerking | E18: Staal gepeodercoat wit n.t.b. | Q18: 3 | R18: Afwerkingen
C19: 4 | D19: Deuren | E19: Voorzien van miniperforatie en afsluitbaar | Q19: 4 | R19: Deuren
C20: 5 | D20: Afmetingen | E20: B1800xH830xD470mm | Q20: 5 | R20: Afmetingen
B24: K01
B27: #VALUE! | C27: 1 | D27: Merk | E27: Ahrend | F27: 0 | G27: 0 | H27: 1 | I27: =SUM(F27:H37) -> 1 | M27: =I27*K27 -> 0 | Q27: 1 | R27: Merk | U27: =I27*T27 -> 0 | W27: =IF(ISBLANK(T27),M27,U27) -> 0
C28: 2 | D28: Type | E28: Schuifdeurkast SDK | Q28: 2 | R28: Type
C29: 3 | D29: Afwerking | E29: Staal gepeodercoat wit n.t.b. | Q29: 3 | R29: Afwerkingen
C30: 4 | D30: Deuren | E30: Voorzien van miniperforatie en afsluitbaar | Q30: 4 | R30: Deuren
C31: 5 | D31: Afmetingen | E31: B1800xH1180xD470mm | Q31: 5 | R31: Afmetingen
B35: K02
B38: #VALUE! | C38: 1 | D38: Merk | E38: Ahrend | F38: 2 | G38: 0 | H38: 1 | I38: =SUM(F38:H48) -> 3 | M38: =I38*K38 -> 0 | Q38: 1 | R38: Merk | U38: =I38*T38 -> 0 | W38: =IF(ISBLANK(T38),M38,U38) -> 0
C39: 2 | D39: Type | E39: Schuifdeurkast SDK | Q39: 2 | R39: Type
C40: 3 | D40: Afwerking | E40: Staal gepeodercoat wit n.t.b. | Q40: 3 | R40: Afwerkingen
C41: 4 | D41: Deuren | E41: Voorzien van miniperforatie en afsluitbaar | Q41: 4 | R41: Deuren
C42: 5 | D42: Afmetingen | E42: B1800xH1950xD470mm | Q42: 5 | R42: Afmetingen
B46: K03
B49: #VALUE! | C49: 1 | D49: Merk | E49: Lintex | F49: 0 | G49: 3 | H49: 0 | I49: =SUM(F49:H59) -> 3 | M49: =I49*K49 -> 0 | Q49: 1 | R49: Merk | U49: =I49*T49 -> 0 | W49: =IF(ISBLANK(T49),M49,U49) -> 0
C50: 2 | D50: Type | E50: Unit Mobile Acoustic Devider | Q50: 2 | R50: Type
C51: 3 | D51: Afwerking voor en achterzijde | E51: Kvadrat Screen 328 (taupe) | Q51: 3 | R51: Afwerkingen achterzijde
C52: 4 | D52: Randafwerking | E52: Staal in kleur pearl white | Q52: 4 | R52: Randafwerking
C53: 5 | D53: Afwerking poten | E53: Eikenhout | Q53: 5 | R53: Afwerking poten
C54: 6 | D54: Afmetingen | E54: B1200xH1855mm | Q54: 6 | R54: Afmetingen
B57: K04
B60: #VALUE! | C60: 1 | D60: Merk | E60: De Vorm | F60: 0 | G60: 10 | H60: 0 | I60: =SUM(F60:H70) -> 10 | M60: =I60*K60 -> 0 | Q60: 1 | R60: Merk | U60: =I60*T60 -> 0 | W60: =IF(ISBLANK(T60),M60,U60) -> 0
C61: 2 | D61: Type | E61: Workspace Divider | Q61: 2 | R61: Type
C62: 3 | D62: Afwerking voor en achterzijde | E62: PET Felt kleur n.t.b. | Q62: 3 | R62: Afwerking voor en achterzijde
C63: 4 | D63: Vulling | E63: Honingraat | Q63: 4 | R63: Vulling
C64: 5 | D64: Bevestiging | E64: Staal gepoedercoat RAL n.t.b. | Q64: 5 | R64: Bevestiging
C65: 6 | D65: Afmetingen | E65: H630xB830xD50mm | Q65: 6 | R65: Afmetingen
B68: K05
W73: =SUM(W16:W70) -> 0
