Workbook
Name bestekcontract: [1]verzamelblad!$A$2
Name bestekcontract: #REF!
Name besteknr: [1]verzamelblad!$A$3
Name besteknr: #REF!
Name directtoezicht: [1]uurtariefopbouw!$D$26
Name offertetarief: [1]uurtariefopbouw!$E$37
Name opdrachtgever: Basisgegevens!#REF!
Name opdrachtnemer: Basisgegevens!#REF!
Name opdrachtnemerplaats: Basisgegevens!#REF!
Name plaatsopdrnmr: Basisgegevens!#REF!
Name regietarief: [1]uurtariefopbouw!$G$37
Name spectarief: [1]uurtariefopbouw!$I$37

Sheet Basisgegevens
A1: Basisgegevens
A3: Aanbestedende Dienst
A4: Naam Opdrachtgever | B4: Stichting Goud Onderwijs en Opvang
A5: Vestigingsplaats Opdrachtgever | B5: Warffum
A6: Kvk-nummer | B6: 02073954
A9: Inschrijver
A10: Volledige naam Inschrijver (Handelsnaam KvK)
A11: Vestigingsplaats Inschrijver (KvK)
A12: KvK-nummer
A13: Tekenbevoegde voor overeenkomt
A14: Functie
A16: Contactpersoon offerte
A17: Functie
A18: Mobiel telefoonnummer
A19: Email adres

Sheet Totaalblad 
B1: Totaalblad Versie 2
B7: Prijzen vaste jaren
B8: Multifunctionals | C8: Aantal | D8: Prijs per maand o.b.v. 60 maanden | E8: Totaalprijs 5 jaren
B9: Apparaat 1 | C9: =Informatie!J37 -> 34 | D9: ='Prijzenblad Multifunctionals'!C18 -> 0 | E9: =C9*D9*60 -> 0
B10: Apparaat 2 | C10: 2 | D10: ='Prijzenblad Multifunctionals'!F18 -> 0 | E10: =C10*D10*60 -> 0
B12: Prijzen optiejaren
B13: Multifunctionals | C13: Aantal | D13: Prijs per maand o.b.v. 3 x 12 maanden | E13: Totaalprijs 3 jaren
B14: Apparaat 1 | C14: =Informatie!J37 -> 34 | D14: ='Prijzenblad Multifunctionals'!C29 -> 0 | E14: =C14*D14*36 -> 0
B15: Apparaat 2 | C15: 2 | D15: ='Prijzenblad Multifunctionals'!F29 -> 0 | E15: =C15*D15*36 -> 0
B17: Afdrukken
B18: Afdrukken | D18: Prijs per jaar | E18: Totaalprijs 8 jaren
B19: Afdrukken zwart/wit en kleur | D19: ='Prijzenblad verbruiksgoederen'!E48 -> 0 | E19: =D19*8 -> 0
B21: Overige prijzen
D22: Prijs per jaar | E22: Totaalprijs 8 jaren
B23: Nietjes | C23: 500 | D23: ='Prijzenblad verbruiksgoederen'!H4 -> 0 | E23: =D23*C23*8 -> 0
B25: Verhuiskosten
C26: Aantal | D26: Prijs per eenheid | E26: Totaalprijs
B27: All-in verhuiskosten intern | C27: 8 | D27: ='Prijzenblad verbruiksgoederen'!H11 -> 0 | E27: =C27*D27 -> 0
B28: All-in verhuiskosten extern | C28: 7 | D28: ='Prijzenblad verbruiksgoederen'!H12 -> 0 | E28: =C28*D28 -> 0
B30: TOTAAL, exclusief BTW (vergelijkingsprijs) | E30: =E9+E10+E14+E15+E19+E23+E27+E28 -> 0

Sheet Informatie
B1: Locatie | E1: Zwart | F1: Kleur | G1: Gemiddeld aantal afdrukken | H1: Gemiddeld aantal afdrukken | I1: Gemiddeld aantal afdrukken | J1: Apparaattype o.b.v. aantal afdrukken per maand (totaal) | M1: Expiratie datum huidige | N1: Bijzonderheden
B2: Naam | C2: Adres | D2: Plaats | E2: 4-2025 t/m 2-2026 | F2: 4-2025 t/m 2-2026 | G2: zwart / per jaar | H2: kleur / per jaar | I2: (totaal) per maand | J2: tot 17500 | K2: 17500 - 35000 | L2: 35000 - 50000 | M2: overeenkomst | O2: Verhuizing verwacht (aantal)
A3: 1 | B3: De Vlieger incl. Taalklas | C3: Hamrik 6 | D3: WINSUM | E3: 32131 | F3: 110557 | G3: =E3/11*12 -> 35052 | H3: =F3/11*12 -> 120607.64 | I3: =(G3+H3)/12 -> 12971.636 | J3: 1
A4: 2 | B4: SWS De Dobbe | C4: Zuster Kortestraat 73 | D4: ROODESCHOOL | E4: 29094 | F4: 38092 | G4: =E4/11*12 -> 31738.909 | H4: =F4/11*12 -> 41554.909 | I4: =(G4+H4)/12 -> 6107.8182 | J4: 1
A5: 3 | B5: De Getijden | C5: Frederiksoordweg 26 D | D5: PIETERBUREN | E5: 16674 | F5: 24376 | G5: =E5/11*12 -> 18189.818 | H5: =F5/11*12 -> 26592 | I5: =(G5+H5)/12 -> 3731.8182 | J5: 1
A6: 4 | B6: Kromme Akkers | C6: Hunzeweg 68 | D6: GARNWERD | E6: 9400 | F6: 15885 | G6: =E6/11*12 -> 10254.545 | H6: =F6/11*12 -> 17329.091 | I6: =(G6+H6)/12 -> 2298.6364 | J6: 1
A7: 5 | B7: De Wierde | C7: Kleinestraat 8 | D7: ADORP | E7: 32893 | F7: 25404 | G7: =E7/11*12 -> 35883.273 | H7: =F7/11*12 -> 27713.455 | I7: =(G7+H7)/12 -> 5299.7273 | J7: 1
A8: 6 | B8: Nijensteijn | C8: Onnemaweg 1 | D8: ZANDEWEER | E8: 10500 | F8: 21745 | G8: =E8/11*12 -> 11454.545 | H8: =F8/11*12 -> 23721.818 | I8: =(G8+H8)/12 -> 2931.3636 | J8: 1
A9: 7 | B9: CBS Koning Willem-Alexander | C9: Oude Tilsterweg 2 | D9: UITHUIZEN | E9: 36363 | F9: 39655 | G9: =E9/11*12 -> 39668.727 | H9: =F9/11*12 -> 43260 | I9: =(G9+H9)/12 -> 6910.7273 | J9: 1
A10: 8 | B10: De Regenboog bg | C10: R. Ritzemastraat 2 A | D10: LEENS | E10: 15595 | F10: 41366 | G10: =E10/11*12 -> 17012.727 | H10: =F10/11*12 -> 45126.545 | I10: =(G10+H10)/12 -> 5178.2727 | J10: 1
A11: 9 | B11: 1e etage | C11: Schoolstraat 12 | D11: BEDUM | E11: 35303 | F11: 47361 | G11: =E11/11*12 -> 38512.364 | H11: =F11/11*12 -> 51666.545 | I11: =(G11+H11)/12 -> 7514.9091 | J11: 1
A12: 10 | B12: De Piramiden bg | C12: Meeden 1g | D12: WINSUM | E12: 17124 | F12: 17498 | G12: =E12/11*12 -> 18680.727 | H12: =F12/11*12 -> 19088.727 | I12: =(G12+H12)/12 -> 3147.4545 | J12: 1
A13: 11 | B13: De Rank bg | C13: De Volle Handt 1 | D13: WARFFUM | E13: 8111 | F13: 18975 | G13: =E13/11*12 -> 8848.3636 | H13: =F13/11*12 -> 20700 | I13: =(G13+H13)/12 -> 2462.3636 | J13: 1
A14: 12 | B14: H. de Cockschool bg | C14: Borgweg 46 A | D14: ULRUM | E14: 20181 | F14: 39512 | G14: =E14/11*12 -> 22015.636 | H14: =F14/11*12 -> 43104 | I14: =(G14+H14)/12 -> 5426.6364 | J14: 1
... A34: 32 | B34: CBS Ichthus | C34: Meijmaweg 9 A | D34: RASQUERT | E34: 19922 | F34: 41925 | G34: =E34/11*12 -> 21733.091 | H34: =F34/11*12 -> 45736.364 | I34: =(G34+H34)/12 -> 5622.4545 | J34: 1
B35: Bestuurskantoor | C35: Noorderstraat 13 | D35: WARFFUM | G35: 11950 | H35: 33895 | I35: =(G35+H35)/12 -> 3820.4167 | J35: 1
B36: NBS de Sterren | C36: Willem de Merodelaan 5 | D36: UITHUIZERMEEDEN | G36: 37650 | H36: 27275 | I36: =(G36+H36)/12 -> 5410.4167 | J36: 1
B37: Totaal | E37: =SUM(E3:E36) -> 749249 | F37: =SUM(F3:F36) -> 1216209 | G37: =SUM(G3:G36) -> 866962.55 | H37: =SUM(H3:H36) -> 1387943.5 | I37: =SUM(I3:I36) -> 187908.83 | J37: =SUM(J3:J36) -> 34 | K37: =SUM(K3:K34) -> 0 | L37: =SUM(L3:L34) -> 0 | O37: =SUM(O3:O34) -> 0

Sheet Prijzenblad Multifunctionals
B1: Prijzenblad Multifunctional
B3: Multifunctional 1 | E3: Multifunctional 2
B4: Minimaal aantal afdrukken per minuut | C4: 25 | E4: Minimaal aantal afdrukken per minuut | F4: 30
B5: Minimaal aantal afdrukken per maand | C5: 17500 | E5: Minimaal aantal afdrukken per maand | F5: 35000
B6: Aangeboden machine (merk/type/uitvoering) | E6: Aangeboden machine (merk/type/uitvoering)
B7: Aangeboden aantal afdrukken per minuut | E7: Aangeboden aantal afdrukken per minuut
B8: Aangeboden aantal afdrukken per maand | E8: Aangeboden aantal afdrukken per maand
B10: Prijzen vaste jaren (5 jaren) | C10: prijs per maand | E10: Prijzen vaste jaren (5 jaren) | F10: prijs per maand
B11: Huurprijs per maand, op basis van 60 maanden | C11: 0 | E11: Huurprijs per maand, op basis van 60 maanden | F11: 0
B12: Service en onderhoud, op basis van 60 maanden | C12: 0 | E12: Service en onderhoud, op basis van 60 maanden | F12: 0
B13: Software licentie, op basis van 60 maanden | C13: 0 | E13: Software licentie, op basis van 60 maanden | F13: 0
B14: Optioneel: Externe finisher (incl. nieten en uitvoer 2000 vel) | C14: 0 | E14: Optioneel: Externe finisher (incl. nieten en uitvoer 2000 vel) | F14: 0
B15: Optioneel: Bookletmaker (inclusief perforeren en vouwen)* | C15: 0 | E15: Optioneel: Bookletmaker (inclusief perforeren en vouwen)* | F15: 0
B16: Optioneel: Extra papierlade 500 vel A4 | C16: 0 | E16: Optioneel: Extra papierlade 500 vel A4 | F16: 0
B17: Optioneel: NFC kaartlezer | C17: 0 | E17: Optioneel: NFC kaartlezer | F17: 0
B18: Totaal prijs per maand | C18: =SUM(C11:C17) -> 0 | E18: Totaal prijs per maand | F18: =SUM(F11:F17) -> 0
B21: Prijzen optie jaren (3 jaren) | C21: prijs per maand | E21: Prijzen optie jaren (3 jaren) | F21: prijs per maand
B22: Huurprijs per maand, op basis van 3 x 12 maanden | C22: 0 | E22: Huurprijs per maand, op basis van 3 x 12 maanden | F22: 0
B23: Service en onderhoud, op basis van 3 x 12 maanden | C23: 0 | E23: Service en onderhoud, op basis van 3 x 12 maanden | F23: 0
B24: Software licentie, op basis van 3 x 12 maanden | C24: 0 | E24: Software licentie, op basis van 3 x 12 maanden | F24: 0
B25: Optioneel: Externe finisher (incl. nieten en uitvoer 2000 vel) | C25: 0 | E25: Optioneel: Externe finisher (incl. nieten en uitvoer 2000 vel) | F25: 0
B26: Optioneel: Bookletmaker (inclusief perforeren en vouwen)* | C26: 0 | E26: Optioneel: Bookletmaker (inclusief perforeren en vouwen)* | F26: 0
B27: Optioneel: Extra papierlade 500 vel A4 | C27: 0 | E27: Optioneel: Extra papierlade 500 vel A4 | F27: 0
B28: Optioneel: NFC kaartlezer | C28: 0 | E28: Optioneel: NFC kaartlezer | F28: 0
B29: Totaal prijs per maand | C29: =SUM(C22:C28) -> 0 | E29: Totaal prijs per maand | F29: =SUM(F22:F28) -> 0
B32: * Bij afname bookletmaker wordt automatisch ook de externe finisher afgenomen
B33: Alle prijzen exclusief BTW.

Sheet Prijzenblad verbruiksgoederen
B1: Prijzenblad verbruiksgoederen
B3: Afdrukken | G3: Overige prijzen
G4: Nietjes (prijs per 1000 stuks) | H4: 0
B5: Prijs per tellertik Zwart Wit | C5: 0
B6: Prijs per tellertik Kleur | C6: 0
G7: Verhuiskosten
G8: All-in prijsstelling voor het verplaatsen van 1 multifunctional, inclusief
G9: alle bijkomende handelingen in zowel oude als nieuwe opstelling.
G11: All-in verhuiskosten per multifunctional intern | H11: 0 | I11: *Verhuizing binnen 1 locatie
G12: All-in verhuiskosten per multifunctional extern | H12: 0 | I12: *Verhuizing van ene locatie naar een andere locatie
B13: Locatie | C13: Gemiddeld aantal afdrukken zwart wit | D13: Gemiddeld aantal afdrukken kleur | E13: Totaal (inschrijfprijs)
B14: =Informatie!B3 -> De Vlieger incl. Taalklas | C14: =Informatie!G3 -> 35052 | D14: =Informatie!H3 -> 120607.64 | E14: =SUM(C14*$C$5)+(D14*$C$6) -> 0
B15: =Informatie!B4 -> SWS De Dobbe | C15: =Informatie!G4 -> 31738.909 | D15: =Informatie!H4 -> 41554.909 | E15: =SUM(C15*$C$5)+(D15*$C$6) -> 0
B16: =Informatie!B5 -> De Getijden | C16: =Informatie!G5 -> 18189.818 | D16: =Informatie!H5 -> 26592 | E16: =SUM(C16*$C$5)+(D16*$C$6) -> 0
B17: =Informatie!B6 -> Kromme Akkers | C17: =Informatie!G6 -> 10254.545 | D17: =Informatie!H6 -> 17329.091 | E17: =SUM(C17*$C$5)+(D17*$C$6) -> 0
B18: =Informatie!B7 -> De Wierde | C18: =Informatie!G7 -> 35883.273 | D18: =Informatie!H7 -> 27713.455 | E18: =SUM(C18*$C$5)+(D18*$C$6) -> 0
B19: =Informatie!B8 -> Nijensteijn | C19: =Informatie!G8 -> 11454.545 | D19: =Informatie!H8 -> 23721.818 | E19: =SUM(C19*$C$5)+(D19*$C$6) -> 0
B20: =Informatie!B9 -> CBS Koning Willem-Alexander | C20: =Informatie!G9 -> 39668.727 | D20: =Informatie!H9 -> 43260 | E20: =SUM(C20*$C$5)+(D20*$C$6) -> 0
B21: =Informatie!B10 -> De Regenboog bg | C21: =Informatie!G10 -> 17012.727 | D21: =Informatie!H10 -> 45126.545 | E21: =SUM(C21*$C$5)+(D21*$C$6) -> 0
B22: =Informatie!B11 -> 1e etage | C22: =Informatie!G11 -> 38512.364 | D22: =Informatie!H11 -> 51666.545 | E22: =SUM(C22*$C$5)+(D22*$C$6) -> 0
B23: =Informatie!B12 -> De Piramiden bg | C23: =Informatie!G12 -> 18680.727 | D23: =Informatie!H12 -> 19088.727 | E23: =SUM(C23*$C$5)+(D23*$C$6) -> 0
B24: =Informatie!B13 -> De Rank bg | C24: =Informatie!G13 -> 8848.3636 | D24: =Informatie!H13 -> 20700 | E24: =SUM(C24*$C$5)+(D24*$C$6) -> 0
B25: =Informatie!B14 -> H. de Cockschool bg | C25: =Informatie!G14 -> 22015.636 | D25: =Informatie!H14 -> 43104 | E25: =SUM(C25*$C$5)+(D25*$C$6) -> 0
... B47: =Informatie!B36 -> NBS de Sterren | C47: =Informatie!G36 -> 37650 | D47: =Informatie!H36 -> 27275 | E47: =SUM(C47*$C$5)+(D47*$C$6) -> 0
B48: Totaal | C48: =SUM(C14:C47) -> 866962.55 | D48: =SUM(D14:D47) -> 1387943.5 | E48: =SUM(E14:E47) -> 0
