Workbook
Name \0: #REF!
Name \M: #REF!
Name \P: #REF!
Name \W: #REF!
Name _1: #REF!
Name _10: #REF!
Name _11: #REF!
Name _12: #REF!
Name _125: [2]Begroting!#REF!
Name _13: #REF!
Name _14: #REF!
Name _15: #REF!
Name _16: #REF!
Name _17: #REF!
Name _18: #REF!
Name _19: #REF!
Name _2: #REF!
Name _20: #REF!
Name _21: #REF!
Name _22: #REF!
Name _23: #REF!
Name _3: #REF!
Name _4: #REF!
Name _5: #REF!
Name _6: #REF!
Name _7: #REF!
Name _8: #REF!
Name _9: #REF!
Name _DAT1: #REF!
Name _DAT10: #REF!
Name _DAT11: #REF!
Name _DAT12: #REF!
Name _DAT13: #REF!
Name _DAT14: #REF!
Name _DAT2: #REF!
Name _DAT3: #REF!
Name _DAT4: #REF!
Name _DAT5: #REF!
Name _DAT6: #REF!
Name _DAT7: #REF!
Name _DAT8: #REF!
Name _DAT9: #REF!
Name _Hlk39130726: '1-Uitgangspunten'!$A$16
Name _Toc106114456: '1-Uitgangspunten'!$A$2
Name _Toc106114457: '1-Uitgangspunten'!$A$5
Name _Toc106114458: '1-Uitgangspunten'!$A$9
Name _Toc106114459: '1-Uitgangspunten'!$A$13
Name _Toc518445846: '1-Uitgangspunten'!$A$17
Name aantal_niet_gebruikt: [6]Programma_check!$Y$1
Name antwoord: #REF!
Name berichtok: '2-Kosten per locatie'!berichtok
Name berichtok: '2-Kosten per locatie'!berichtok
Name berichtoke: '2-Kosten per locatie'!berichtoke
Name berichtoke: '2-Kosten per locatie'!berichtoke
Name berichtoke1: '2-Kosten per locatie'!berichtoke1
Name berichtoke1: '2-Kosten per locatie'!berichtoke1
Name Berkt: '2-Kosten per locatie'!Berkt
Name Berkt: '2-Kosten per locatie'!Berkt
Name einde: '2-Kosten per locatie'!einde
Name einde: '2-Kosten per locatie'!einde

Sheet 1-Uitgangspunten
A1: Naam opdrachtgever | B1: ='2-Kosten per locatie'!B3 -> Rijn IJssel
A2: Calculatie onderdeel | B2: =MID(CELL("bestandsnaam",$B$11),SEARCH("]",CELL("bestandsnaam",$B$11),1)+1,256) -> 1-Uitgangspunten
A3: Gebouw/plaats | B3: ='2-Kosten per locatie'!B5 -> Divers
A4: Referentie nummer | B4: ='2-Kosten per locatie'!B6 -> RIJSDVGB2026

Sheet 2-Kosten per locatie
A1: Invoervelden | E1: Minimale taakgrootte | J1: EINDTOTAAL KOSTEN PER JAAR EXCLUSIEF BTW INSCHRIJVINGSBEDRAG | P1: =K54 -> #DIV/0!
F2: uur per dag | J2: BTW | O2: 0.21 | P2: =O2*P1 -> #DIV/0!
A3: Naam opdrachtgever | B3: Rijn IJssel | J3: Totale kosten per jaar inclusief btw | P3: =P1+P2 -> #DIV/0!
A4: Calculatie onderdeel | B4: =MID(CELL("bestandsnaam",$B$13),SEARCH("]",CELL("bestandsnaam",$B$13),1)+1,256) -> 2-Kosten per locatie | E4: Toezicht percentage
A5: Gebouw/plaats | B5: Divers | F5: per prod. Uur | J5: MAXIMALE BOVENGRENS PLAFONDBEDRAG INSCHRIJVINGSBEDRAG | P5: 1950000
A6: Referentie nummer | B6: RIJSDVGB2026 | J6: MAXIMALE ONDERGRENS INSCHRIJVINGSBEDRAG | P6: 1660000
A7: Naam dienstverlener
A8: Prijspeil | B8: 46388 | J8: SUPPLETIEKOSTEN OVERNAME PERSONEEL
A9: Versie | B9: Aanbesteding_V2 | J9: Dit is het maximale bedrag dat door de dienstverlener aan suppletiekosten in rekening wordt gebracht. Indien hier niets wordt
J10: ingevuld, betekent dit dat er geen suppletiekosten door de dienstverlener in rekening worden gebracht.
F13: PRODUCTIE UREN PER JAAR | H13: UREN OPSLAG MINIMALE TAAKGROOTTE PER JAAR | J13: TOEZICHTUREN PER JAAR
A14: Locatie | B14: Totaal m2 in scope | C14: Locatie factor | D14: Hoogste frequentie ma t/m vr | E14: Hoogste frequentie ma t/m vr naloop | F14: Productie uren ma t/m vr | G14: Productie uren ma t/m vr naloop | H14: Uren minimale taakgrootte ma t/m vrij | I14: Uren minimale taakgrootte ma t/m vrij naloop | J14: Toezicht uren per jaar ma t/m vr | K14: Toezicht uren per jaar ma t/m vr naloop
A15: Alexanderstraat 35, Arnhem | B15: =SUMIF('4-Basis ruimtestaat'!B:B,'2-Kosten per locatie'!A15,'4-Basis ruimtestaat'!I:I)-SUMIFS('4-Basis ruimtestaat'!I:I,'4-Basis ruimtestaat'!B:B,'2-Kosten per locatie'!A15,'4-Basis ruimtestaat'!L:L,"nio") -> 1551 | D15: =_xlfn.MAXIFS('4-Basis ruimtestaat'!L:L,'4-Basis ruimtestaat'!B:B,'2-Kosten per locatie'!A15) -> 205 | E15: =_xlfn.MAXIFS('4-Basis ruimtestaat'!M:M,'4-Basis ruimtestaat'!B:B,'2-Kosten per locatie'!A15) -> 0 | F15: =SUMIF('4-Basis ruimtestaat'!B:B,'2-Kosten per locatie'!A15,'4-Basis ruimtestaat'!N:N) -> #DIV/0! | G15: =SUMIF('4-Basis ruimtestaat'!B:B,'2-Kosten per locatie'!A15,'4-Basis ruimtestaat'!O:O) -> 0 | H15: =IF(F15<(D15*$E$2),D15*$E$2-F15,0) -> #DIV/0! | I15: =IF(G15<(E15*$E$2),E15*$E$2-G15,0) -> 0 | J15: =F15*$E$5 -> #DIV/0! | K15: =G15*$E$5 -> 0
A16: Apeldoornseweg 210, Arnhem | B16: =SUMIF('4-Basis ruimtestaat'!B:B,'2-Kosten per locatie'!A16,'4-Basis ruimtestaat'!I:I)-SUMIFS('4-Basis ruimtestaat'!I:I,'4-Basis ruimtestaat'!B:B,'2-Kosten per locatie'!A16,'4-Basis ruimtestaat'!L:L,"nio") -> 3118.2 | D16: =_xlfn.MAXIFS('4-Basis ruimtestaat'!L:L,'4-Basis ruimtestaat'!B:B,'2-Kosten per locatie'!A16) -> 200 | E16: =_xlfn.MAXIFS('4-Basis ruimtestaat'!M:M,'4-Basis ruimtestaat'!B:B,'2-Kosten per locatie'!A16) -> 200 | F16: =SUMIF('4-Basis ruimtestaat'!B:B,'2-Kosten per locatie'!A16,'4-Basis ruimtestaat'!N:N) -> #DIV/0! | G16: =SUMIF('4-Basis ruimtestaat'!B:B,'2-Kosten per locatie'!A16,'4-Basis ruimtestaat'!O:O) -> #DIV/0! | H16: =IF(F16<(D16*$E$2),D16*$E$2-F16,0) -> #DIV/0! | I16: =IF(G16<(E16*$E$2),E16*$E$2-G16,0) -> #DIV/0! | J16: =F16*$E$5 -> #DIV/0! | K16: =G16*$E$5 -> #DIV/0!
A17: Beukenlaan 3, Arnhem | B17: =SUMIF('4-Basis ruimtestaat'!B:B,'2-Kosten per locatie'!A17,'4-Basis ruimtestaat'!I:I)-SUMIFS('4-Basis ruimtestaat'!I:I,'4-Basis ruimtestaat'!B:B,'2-Kosten per locatie'!A17,'4-Basis ruimtestaat'!L:L,"nio") -> 6996.6 | D17: =_xlfn.MAXIFS('4-Basis ruimtestaat'!L:L,'4-Basis ruimtestaat'!B:B,'2-Kosten per locatie'!A17) -> 200 | E17: =_xlfn.MAXIFS('4-Basis ruimtestaat'!M:M,'4-Basis ruimtestaat'!B:B,'2-Kosten per locatie'!A17) -> 200 | F17: =SUMIF('4-Basis ruimtestaat'!B:B,'2-Kosten per locatie'!A17,'4-Basis ruimtestaat'!N:N) -> #DIV/0! | G17: =SUMIF('4-Basis ruimtestaat'!B:B,'2-Kosten per locatie'!A17,'4-Basis ruimtestaat'!O:O) -> #DIV/0! | H17: =IF(F17<(D17*$E$2),D17*$E$2-F17,0) -> #DIV/0! | I17: =IF(G17<(E17*$E$2),E17*$E$2-G17,0) -> #DIV/0! | J17: =F17*$E$5 -> #DIV/0! | K17: =G17*$E$5 -> #DIV/0!
A18: Industrieweg 26, Renkum | B18: =SUMIF('4-Basis ruimtestaat'!B:B,'2-Kosten per locatie'!A18,'4-Basis ruimtestaat'!I:I)-SUMIFS('4-Basis ruimtestaat'!I:I,'4-Basis ruimtestaat'!B:B,'2-Kosten per locatie'!A18,'4-Basis ruimtestaat'!L:L,"nio") -> 267.503 | D18: =_xlfn.MAXIFS('4-Basis ruimtestaat'!L:L,'4-Basis ruimtestaat'!B:B,'2-Kosten per locatie'!A18) -> 200 | E18: =_xlfn.MAXIFS('4-Basis ruimtestaat'!M:M,'4-Basis ruimtestaat'!B:B,'2-Kosten per locatie'!A18) -> 0 | F18: =SUMIF('4-Basis ruimtestaat'!B:B,'2-Kosten per locatie'!A18,'4-Basis ruimtestaat'!N:N) -> #DIV/0! | G18: =SUMIF('4-Basis ruimtestaat'!B:B,'2-Kosten per locatie'!A18,'4-Basis ruimtestaat'!O:O) -> 0 | H18: =IF(F18<(D18*$E$2),D18*$E$2-F18,0) -> #DIV/0! | I18: =IF(G18<(E18*$E$2),E18*$E$2-G18,0) -> 0 | J18: =F18*$E$5 -> #DIV/0! | K18: =G18*$E$5 -> 0
A19: Kronenburgsingel 16, Arnhem | B19: =SUMIF('4-Basis ruimtestaat'!B:B,'2-Kosten per locatie'!A19,'4-Basis ruimtestaat'!I:I)-SUMIFS('4-Basis ruimtestaat'!I:I,'4-Basis ruimtestaat'!B:B,'2-Kosten per locatie'!A19,'4-Basis ruimtestaat'!L:L,"nio") -> 6615.3776 | D19: =_xlfn.MAXIFS('4-Basis ruimtestaat'!L:L,'4-Basis ruimtestaat'!B:B,'2-Kosten per locatie'!A19) -> 200 | E19: =_xlfn.MAXIFS('4-Basis ruimtestaat'!M:M,'4-Basis ruimtestaat'!B:B,'2-Kosten per locatie'!A19) -> 200 | F19: =SUMIF('4-Basis ruimtestaat'!B:B,'2-Kosten per locatie'!A19,'4-Basis ruimtestaat'!N:N) -> #DIV/0! | G19: =SUMIF('4-Basis ruimtestaat'!B:B,'2-Kosten per locatie'!A19,'4-Basis ruimtestaat'!O:O) -> #DIV/0! | H19: =IF(F19<(D19*$E$2),D19*$E$2-F19,0) -> #DIV/0! | I19: =IF(G19<(E19*$E$2),E19*$E$2-G19,0) -> #DIV/0! | J19: =F19*$E$5 -> #DIV/0! | K19: =G19*$E$5 -> #DIV/0!
A20: Loods, Tivolilaan 70, Arnhem | B20: =SUMIF('4-Basis ruimtestaat'!B:B,'2-Kosten per locatie'!A20,'4-Basis ruimtestaat'!I:I)-SUMIFS('4-Basis ruimtestaat'!I:I,'4-Basis ruimtestaat'!B:B,'2-Kosten per locatie'!A20,'4-Basis ruimtestaat'!L:L,"nio") -> 709.6 | D20: =_xlfn.MAXIFS('4-Basis ruimtestaat'!L:L,'4-Basis ruimtestaat'!B:B,'2-Kosten per locatie'!A20) -> 200 | E20: =_xlfn.MAXIFS('4-Basis ruimtestaat'!M:M,'4-Basis ruimtestaat'!B:B,'2-Kosten per locatie'!A20) -> 0 | F20: =SUMIF('4-Basis ruimtestaat'!B:B,'2-Kosten per locatie'!A20,'4-Basis ruimtestaat'!N:N) -> #DIV/0! | G20: =SUMIF('4-Basis ruimtestaat'!B:B,'2-Kosten per locatie'!A20,'4-Basis ruimtestaat'!O:O) -> 0 | H20: =IF(F20<(D20*$E$2),D20*$E$2-F20,0) -> #DIV/0! | I20: =IF(G20<(E20*$E$2),E20*$E$2-G20,0) -> 0 | J20: =F20*$E$5 -> #DIV/0! | K20: =G20*$E$5 -> 0
A21: Marijkeweg 5, Wageningen | B21: =SUMIF('4-Basis ruimtestaat'!B:B,'2-Kosten per locatie'!A21,'4-Basis ruimtestaat'!I:I)-SUMIFS('4-Basis ruimtestaat'!I:I,'4-Basis ruimtestaat'!B:B,'2-Kosten per locatie'!A21,'4-Basis ruimtestaat'!L:L,"nio") -> 5961.5 | D21: =_xlfn.MAXIFS('4-Basis ruimtestaat'!L:L,'4-Basis ruimtestaat'!B:B,'2-Kosten per locatie'!A21) -> 200 | E21: =_xlfn.MAXIFS('4-Basis ruimtestaat'!M:M,'4-Basis ruimtestaat'!B:B,'2-Kosten per locatie'!A21) -> 160 | F21: =SUMIF('4-Basis ruimtestaat'!B:B,'2-Kosten per locatie'!A21,'4-Basis ruimtestaat'!N:N) -> #DIV/0! | G21: =SUMIF('4-Basis ruimtestaat'!B:B,'2-Kosten per locatie'!A21,'4-Basis ruimtestaat'!O:O) -> #DIV/0! | H21: =IF(F21<(D21*$E$2),D21*$E$2-F21,0) -> #DIV/0! | I21: =IF(G21<(E21*$E$2),E21*$E$2-G21,0) -> #DIV/0! | J21: =F21*$E$5 -> #DIV/0! | K21: =G21*$E$5 -> #DIV/0!
A22: Middachtensingel 2, Arnhem | B22: =SUMIF('4-Basis ruimtestaat'!B:B,'2-Kosten per locatie'!A22,'4-Basis ruimtestaat'!I:I)-SUMIFS('4-Basis ruimtestaat'!I:I,'4-Basis ruimtestaat'!B:B,'2-Kosten per locatie'!A22,'4-Basis ruimtestaat'!L:L,"nio") -> 8797.64 | D22: =_xlfn.MAXIFS('4-Basis ruimtestaat'!L:L,'4-Basis ruimtestaat'!B:B,'2-Kosten per locatie'!A22) -> 200 | E22: =_xlfn.MAXIFS('4-Basis ruimtestaat'!M:M,'4-Basis ruimtestaat'!B:B,'2-Kosten per locatie'!A22) -> 200 | F22: =SUMIF('4-Basis ruimtestaat'!B:B,'2-Kosten per locatie'!A22,'4-Basis ruimtestaat'!N:N) -> #DIV/0! | G22: =SUMIF('4-Basis ruimtestaat'!B:B,'2-Kosten per locatie'!A22,'4-Basis ruimtestaat'!O:O) -> #DIV/0! | H22: =IF(F22<(D22*$E$2),D22*$E$2-F22,0) -> #DIV/0! | I22: =IF(G22<(E22*$E$2),E22*$E$2-G22,0) -> #DIV/0! | J22: =F22*$E$5 -> #DIV/0! | K22: =G22*$E$5 -> #DIV/0!
A23: Paviljoen, Tivolilaan 30, Arnhem | B23: =SUMIF('4-Basis ruimtestaat'!B:B,'2-Kosten per locatie'!A23,'4-Basis ruimtestaat'!I:I)-SUMIFS('4-Basis ruimtestaat'!I:I,'4-Basis ruimtestaat'!B:B,'2-Kosten per locatie'!A23,'4-Basis ruimtestaat'!L:L,"nio") -> 1012 | D23: =_xlfn.MAXIFS('4-Basis ruimtestaat'!L:L,'4-Basis ruimtestaat'!B:B,'2-Kosten per locatie'!A23) -> 200 | E23: =_xlfn.MAXIFS('4-Basis ruimtestaat'!M:M,'4-Basis ruimtestaat'!B:B,'2-Kosten per locatie'!A23) -> 200 | F23: =SUMIF('4-Basis ruimtestaat'!B:B,'2-Kosten per locatie'!A23,'4-Basis ruimtestaat'!N:N) -> #DIV/0! | G23: =SUMIF('4-Basis ruimtestaat'!B:B,'2-Kosten per locatie'!A23,'4-Basis ruimtestaat'!O:O) -> #DIV/0! | H23: =IF(F23<(D23*$E$2),D23*$E$2-F23,0) -> #DIV/0! | I23: =IF(G23<(E23*$E$2),E23*$E$2-G23,0) -> #DIV/0! | J23: =F23*$E$5 -> #DIV/0! | K23: =G23*$E$5 -> #DIV/0!
A24: Stationsplein 8, Zevenaar | B24: =SUMIF('4-Basis ruimtestaat'!B:B,'2-Kosten per locatie'!A24,'4-Basis ruimtestaat'!I:I)-SUMIFS('4-Basis ruimtestaat'!I:I,'4-Basis ruimtestaat'!B:B,'2-Kosten per locatie'!A24,'4-Basis ruimtestaat'!L:L,"nio") -> 572.7 | D24: =_xlfn.MAXIFS('4-Basis ruimtestaat'!L:L,'4-Basis ruimtestaat'!B:B,'2-Kosten per locatie'!A24) -> 200 | E24: =_xlfn.MAXIFS('4-Basis ruimtestaat'!M:M,'4-Basis ruimtestaat'!B:B,'2-Kosten per locatie'!A24) -> 0 | F24: =SUMIF('4-Basis ruimtestaat'!B:B,'2-Kosten per locatie'!A24,'4-Basis ruimtestaat'!N:N) -> #DIV/0! | G24: =SUMIF('4-Basis ruimtestaat'!B:B,'2-Kosten per locatie'!A24,'4-Basis ruimtestaat'!O:O) -> 0 | H24: =IF(F24<(D24*$E$2),D24*$E$2-F24,0) -> #DIV/0! | I24: =IF(G24<(E24*$E$2),E24*$E$2-G24,0) -> 0 | J24: =F24*$E$5 -> #DIV/0! | K24: =G24*$E$5 -> 0
A25: Tech Plaza, Tivolilaan 40, Arnhem | B25: =SUMIF('4-Basis ruimtestaat'!B:B,'2-Kosten per locatie'!A25,'4-Basis ruimtestaat'!I:I)-SUMIFS('4-Basis ruimtestaat'!I:I,'4-Basis ruimtestaat'!B:B,'2-Kosten per locatie'!A25,'4-Basis ruimtestaat'!L:L,"nio") -> 8373.13 | D25: =_xlfn.MAXIFS('4-Basis ruimtestaat'!L:L,'4-Basis ruimtestaat'!B:B,'2-Kosten per locatie'!A25) -> 200 | E25: =_xlfn.MAXIFS('4-Basis ruimtestaat'!M:M,'4-Basis ruimtestaat'!B:B,'2-Kosten per locatie'!A25) -> 0 | F25: =SUMIF('4-Basis ruimtestaat'!B:B,'2-Kosten per locatie'!A25,'4-Basis ruimtestaat'!N:N) -> #DIV/0! | G25: =SUMIF('4-Basis ruimtestaat'!B:B,'2-Kosten per locatie'!A25,'4-Basis ruimtestaat'!O:O) -> 0 | H25: =IF(F25<(D25*$E$2),D25*$E$2-F25,0) -> #DIV/0! | I25: =IF(G25<(E25*$E$2),E25*$E$2-G25,0) -> 0 | J25: =F25*$E$5 -> #DIV/0! | K25: =G25*$E$5 -> 0
A26: Toren, Tivolilaan 10, Arnhem | B26: =SUMIF('4-Basis ruimtestaat'!B:B,'2-Kosten per locatie'!A26,'4-Basis ruimtestaat'!I:I)-SUMIFS('4-Basis ruimtestaat'!I:I,'4-Basis ruimtestaat'!B:B,'2-Kosten per locatie'!A26,'4-Basis ruimtestaat'!L:L,"nio") -> 4870.44 | D26: =_xlfn.MAXIFS('4-Basis ruimtestaat'!L:L,'4-Basis ruimtestaat'!B:B,'2-Kosten per locatie'!A26) -> 200 | E26: =_xlfn.MAXIFS('4-Basis ruimtestaat'!M:M,'4-Basis ruimtestaat'!B:B,'2-Kosten per locatie'!A26) -> 200 | F26: =SUMIF('4-Basis ruimtestaat'!B:B,'2-Kosten per locatie'!A26,'4-Basis ruimtestaat'!N:N) -> #DIV/0! | G26: =SUMIF('4-Basis ruimtestaat'!B:B,'2-Kosten per locatie'!A26,'4-Basis ruimtestaat'!O:O) -> #DIV/0! | H26: =IF(F26<(D26*$E$2),D26*$E$2-F26,0) -> #DIV/0! | I26: =IF(G26<(E26*$E$2),E26*$E$2-G26,0) -> #DIV/0! | J26: =F26*$E$5 -> #DIV/0! | K26: =G26*$E$5 -> #DIV/0!
... A30: Kazerneplein 6, Arnhem | B30: =SUMIF('4-Basis ruimtestaat'!B:B,'2-Kosten per locatie'!A30,'4-Basis ruimtestaat'!I:I)-SUMIFS('4-Basis ruimtestaat'!I:I,'4-Basis ruimtestaat'!B:B,'2-Kosten per locatie'!A30,'4-Basis ruimtestaat'!L:L,"nio") -> 1789.3 | D30: =_xlfn.MAXIFS('4-Basis ruimtestaat'!L:L,'4-Basis ruimtestaat'!B:B,'2-Kosten per locatie'!A30) -> 200 | E30: =_xlfn.MAXIFS('4-Basis ruimtestaat'!M:M,'4-Basis ruimtestaat'!B:B,'2-Kosten per locatie'!A30) -> 0 | F30: =SUMIF('4-Basis ruimtestaat'!B:B,'2-Kosten per locatie'!A30,'4-Basis ruimtestaat'!N:N) -> #DIV/0! | G30: =SUMIF('4-Basis ruimtestaat'!B:B,'2-Kosten per locatie'!A30,'4-Basis ruimtestaat'!O:O) -> 0 | H30: =IF(F30<(D30*$E$2),D30*$E$2-F30,0) -> #DIV/0! | I30: =IF(G30<(E30*$E$2),E30*$E$2-G30,0) -> 0 | J30: =F30*$E$5 -> #DIV/0! | K30: =G30*$E$5 -> 0
A31: Algemeen | B31: =SUMIF('4-Basis ruimtestaat'!B:B,'2-Kosten per locatie'!A31,'4-Basis ruimtestaat'!K:K) -> 0 | C31: =SUMIF('4-Basis ruimtestaat'!C:C,'2-Kosten per locatie'!B31,'4-Basis ruimtestaat'!L:L) -> 0 | H31: =IF(F31<(D31*$E$2),D31*$E$2-F31,0) -> 0 | I31: =IF(G31<(E31*$E$2),E31*$E$2-G31,0) -> 0 | J31: =F31*$E$5 -> 0 | K31: =G31*$E$5 -> 0
A32: Totaal | B32: =SUM(B15:B31) -> 70151.926 | F32: =SUM(F15:F31) -> #DIV/0! | G32: =SUM(G15:G31) -> #DIV/0! | H32: =SUM(H15:H31) -> #DIV/0! | I32: =SUM(I15:I31) -> #DIV/0! | J32: =SUM(J15:J31) -> #DIV/0! | K32: =SUM(K15:K31) -> #DIV/0!
A34: Locatie | B34: Kosten productie per jaar ma t/m vr incl. minimale taakgrootte | C34: Kosten productie per jaar ma t/m vr naloop incl. minimale taakgrootte | D34: Totale kosten productie per jaar | E34: Kosten toezicht per jaar ma t/m vr | F34: Kosten toezicht per jaar ma t/m vr naloop | G34: Totale kosten toezicht per jaar | H34: Kosten Additioneel per jaar | I34: Kosten glasbewassing per jaar | J34: Kosten sanitaire voorzieningen per jaar | K34: Totaal kosten per jaar excl. btw | L34: Totaal kosten per maand excl. btw
A35: =A15 -> Alexanderstraat 35, Arnhem | B35: =(F15+H15)*'6-Opbouw uurtarief productie'!$E$47 -> #DIV/0! | C35: =(G15+I15)*'6-Opbouw uurtarief productie'!$E$47 -> #DIV/0! | D35: =SUM(B35:C35) -> #DIV/0! | E35: =(J15+P15)*'7-Opbouw uurtarief toezicht'!$E$46 -> #DIV/0! | F35: =K15*'7-Opbouw uurtarief toezicht'!$E$46 -> #DIV/0! | G35: =SUM(E35:F35) -> #DIV/0! | H35: =SUMIF('8-Additionele kosten'!A:A,'2-Kosten per locatie'!A35,'8-Additionele kosten'!G:G) -> 0 | I35: =SUMIF('10-Glasbewassing'!A:A,'2-Kosten per locatie'!A35,'10-Glasbewassing'!H:H) -> 0 | K35: =D35+G35+H35+I35+J35 -> #DIV/0! | L35: =K35/12 -> #DIV/0!
A36: =A16 -> Apeldoornseweg 210, Arnhem | B36: =(F16+H16)*'6-Opbouw uurtarief productie'!$E$47 -> #DIV/0! | C36: =(G16+I16)*'6-Opbouw uurtarief productie'!$E$47 -> #DIV/0! | D36: =SUM(B36:C36) -> #DIV/0! | E36: =(J16+P16)*'7-Opbouw uurtarief toezicht'!$E$46 -> #DIV/0! | F36: =K16*'7-Opbouw uurtarief toezicht'!$E$46 -> #DIV/0! | G36: =SUM(E36:F36) -> #DIV/0! | H36: =SUMIF('8-Additionele kosten'!A:A,'2-Kosten per locatie'!A36,'8-Additionele kosten'!G:G) -> 0 | I36: =SUMIF('10-Glasbewassing'!A:A,'2-Kosten per locatie'!A36,'10-Glasbewassing'!H:H) -> 0 | K36: =D36+G36+H36+I36+J36 -> #DIV/0! | L36: =K36/12 -> #DIV/0!
A37: =A17 -> Beukenlaan 3, Arnhem | B37: =(F17+H17)*'6-Opbouw uurtarief productie'!$E$47 -> #DIV/0! | C37: =(G17+I17)*'6-Opbouw uurtarief productie'!$E$47 -> #DIV/0! | D37: =SUM(B37:C37) -> #DIV/0! | E37: =(J17+P17)*'7-Opbouw uurtarief toezicht'!$E$46 -> #DIV/0! | F37: =K17*'7-Opbouw uurtarief toezicht'!$E$46 -> #DIV/0! | G37: =SUM(E37:F37) -> #DIV/0! | H37: =SUMIF('8-Additionele kosten'!A:A,'2-Kosten per locatie'!A37,'8-Additionele kosten'!G:G) -> 0 | I37: =SUMIF('10-Glasbewassing'!A:A,'2-Kosten per locatie'!A37,'10-Glasbewassing'!H:H) -> 0 | K37: =D37+G37+H37+I37+J37 -> #DIV/0! | L37: =K37/12 -> #DIV/0!
A38: =A18 -> Industrieweg 26, Renkum | B38: =(F18+H18)*'6-Opbouw uurtarief productie'!$E$47 -> #DIV/0! | C38: =(G18+I18)*'6-Opbouw uurtarief productie'!$E$47 -> #DIV/0! | D38: =SUM(B38:C38) -> #DIV/0! | E38: =(J18+P18)*'7-Opbouw uurtarief toezicht'!$E$46 -> #DIV/0! | F38: =K18*'7-Opbouw uurtarief toezicht'!$E$46 -> #DIV/0! | G38: =SUM(E38:F38) -> #DIV/0! | H38: =SUMIF('8-Additionele kosten'!A:A,'2-Kosten per locatie'!A38,'8-Additionele kosten'!G:G) -> 0 | I38: =SUMIF('10-Glasbewassing'!A:A,'2-Kosten per locatie'!A38,'10-Glasbewassing'!H:H) -> 0 | K38: =D38+G38+H38+I38+J38 -> #DIV/0! | L38: =K38/12 -> #DIV/0!
A39: =A19 -> Kronenburgsingel 16, Arnhem | B39: =(F19+H19)*'6-Opbouw uurtarief productie'!$E$47 -> #DIV/0! | C39: =(G19+I19)*'6-Opbouw uurtarief productie'!$E$47 -> #DIV/0! | D39: =SUM(B39:C39) -> #DIV/0! | E39: =(J19+P19)*'7-Opbouw uurtarief toezicht'!$E$46 -> #DIV/0! | F39: =K19*'7-Opbouw uurtarief toezicht'!$E$46 -> #DIV/0! | G39: =SUM(E39:F39) -> #DIV/0! | H39: =SUMIF('8-Additionele kosten'!A:A,'2-Kosten per locatie'!A39,'8-Additionele kosten'!G:G) -> 0 | I39: =SUMIF('10-Glasbewassing'!A:A,'2-Kosten per locatie'!A39,'10-Glasbewassing'!H:H) -> 0 | K39: =D39+G39+H39+I39+J39 -> #DIV/0! | L39: =K39/12 -> #DIV/0!
A40: =A20 -> Loods, Tivolilaan 70, Arnhem | B40: =(F20+H20)*'6-Opbouw uurtarief productie'!$E$47 -> #DIV/0! | C40: =(G20+I20)*'6-Opbouw uurtarief productie'!$E$47 -> #DIV/0! | D40: =SUM(B40:C40) -> #DIV/0! | E40: =(J20+P20)*'7-Opbouw uurtarief toezicht'!$E$46 -> #DIV/0! | F40: =K20*'7-Opbouw uurtarief toezicht'!$E$46 -> #DIV/0! | G40: =SUM(E40:F40) -> #DIV/0! | H40: =SUMIF('8-Additionele kosten'!A:A,'2-Kosten per locatie'!A40,'8-Additionele kosten'!G:G) -> 0 | I40: =SUMIF('10-Glasbewassing'!A:A,'2-Kosten per locatie'!A40,'10-Glasbewassing'!H:H) -> 0 | K40: =D40+G40+H40+I40+J40 -> #DIV/0! | L40: =K40/12 -> #DIV/0!
A41: =A21 -> Marijkeweg 5, Wageningen | B41: =(F21+H21)*'6-Opbouw uurtarief productie'!$E$47 -> #DIV/0! | C41: =(G21+I21)*'6-Opbouw uurtarief productie'!$E$47 -> #DIV/0! | D41: =SUM(B41:C41) -> #DIV/0! | E41: =(J21+P21)*'7-Opbouw uurtarief toezicht'!$E$46 -> #DIV/0! | F41: =K21*'7-Opbouw uurtarief toezicht'!$E$46 -> #DIV/0! | G41: =SUM(E41:F41) -> #DIV/0! | H41: =SUMIF('8-Additionele kosten'!A:A,'2-Kosten per locatie'!A41,'8-Additionele kosten'!G:G) -> 0 | I41: =SUMIF('10-Glasbewassing'!A:A,'2-Kosten per locatie'!A41,'10-Glasbewassing'!H:H) -> 0 | K41: =D41+G41+H41+I41+J41 -> #DIV/0! | L41: =K41/12 -> #DIV/0!
A42: =A22 -> Middachtensingel 2, Arnhem | B42: =(F22+H22)*'6-Opbouw uurtarief productie'!$E$47 -> #DIV/0! | C42: =(G22+I22)*'6-Opbouw uurtarief productie'!$E$47 -> #DIV/0! | D42: =SUM(B42:C42) -> #DIV/0! | E42: =(J22+P22)*'7-Opbouw uurtarief toezicht'!$E$46 -> #DIV/0! | F42: =K22*'7-Opbouw uurtarief toezicht'!$E$46 -> #DIV/0! | G42: =SUM(E42:F42) -> #DIV/0! | H42: =SUMIF('8-Additionele kosten'!A:A,'2-Kosten per locatie'!A42,'8-Additionele kosten'!G:G) -> 0 | I42: =SUMIF('10-Glasbewassing'!A:A,'2-Kosten per locatie'!A42,'10-Glasbewassing'!H:H) -> 0 | K42: =D42+G42+H42+I42+J42 -> #DIV/0! | L42: =K42/12 -> #DIV/0!
A43: =A23 -> Paviljoen, Tivolilaan 30, Arnhem | B43: =(F23+H23)*'6-Opbouw uurtarief productie'!$E$47 -> #DIV/0! | C43: =(G23+I23)*'6-Opbouw uurtarief productie'!$E$47 -> #DIV/0! | D43: =SUM(B43:C43) -> #DIV/0! | E43: =(J23+P23)*'7-Opbouw uurtarief toezicht'!$E$46 -> #DIV/0! | F43: =K23*'7-Opbouw uurtarief toezicht'!$E$46 -> #DIV/0! | G43: =SUM(E43:F43) -> #DIV/0! | H43: =SUMIF('8-Additionele kosten'!A:A,'2-Kosten per locatie'!A43,'8-Additionele kosten'!G:G) -> 0 | I43: =SUMIF('10-Glasbewassing'!A:A,'2-Kosten per locatie'!A43,'10-Glasbewassing'!H:H) -> 0 | K43: =D43+G43+H43+I43+J43 -> #DIV/0! | L43: =K43/12 -> #DIV/0!
A44: =A24 -> Stationsplein 8, Zevenaar | B44: =(F24+H24)*'6-Opbouw uurtarief productie'!$E$47 -> #DIV/0! | C44: =(G24+I24)*'6-Opbouw uurtarief productie'!$E$47 -> #DIV/0! | D44: =SUM(B44:C44) -> #DIV/0! | E44: =(J24+P24)*'7-Opbouw uurtarief toezicht'!$E$46 -> #DIV/0! | F44: =K24*'7-Opbouw uurtarief toezicht'!$E$46 -> #DIV/0! | G44: =SUM(E44:F44) -> #DIV/0! | H44: =SUMIF('8-Additionele kosten'!A:A,'2-Kosten per locatie'!A44,'8-Additionele kosten'!G:G) -> 0 | I44: =SUMIF('10-Glasbewassing'!A:A,'2-Kosten per locatie'!A44,'10-Glasbewassing'!H:H) -> 0 | K44: =D44+G44+H44+I44+J44 -> #DIV/0! | L44: =K44/12 -> #DIV/0!
A45: =A25 -> Tech Plaza, Tivolilaan 40, Arnhem | B45: =(F25+H25)*'6-Opbouw uurtarief productie'!$E$47 -> #DIV/0! | C45: =(G25+I25)*'6-Opbouw uurtarief productie'!$E$47 -> #DIV/0! | D45: =SUM(B45:C45) -> #DIV/0! | E45: =(J25+P25)*'7-Opbouw uurtarief toezicht'!$E$46 -> #DIV/0! | F45: =K25*'7-Opbouw uurtarief toezicht'!$E$46 -> #DIV/0! | G45: =SUM(E45:F45) -> #DIV/0! | H45: =SUMIF('8-Additionele kosten'!A:A,'2-Kosten per locatie'!A45,'8-Additionele kosten'!G:G) -> 0 | I45: =SUMIF('10-Glasbewassing'!A:A,'2-Kosten per locatie'!A45,'10-Glasbewassing'!H:H) -> 0 | K45: =D45+G45+H45+I45+J45 -> #DIV/0! | L45: =K45/12 -> #DIV/0!
A46: =A26 -> Toren, Tivolilaan 10, Arnhem | B46: =(F26+H26)*'6-Opbouw uurtarief productie'!$E$47 -> #DIV/0! | C46: =(G26+I26)*'6-Opbouw uurtarief productie'!$E$47 -> #DIV/0! | D46: =SUM(B46:C46) -> #DIV/0! | E46: =(J26+P26)*'7-Opbouw uurtarief toezicht'!$E$46 -> #DIV/0! | F46: =K26*'7-Opbouw uurtarief toezicht'!$E$46 -> #DIV/0! | G46: =SUM(E46:F46) -> #DIV/0! | H46: =SUMIF('8-Additionele kosten'!A:A,'2-Kosten per locatie'!A46,'8-Additionele kosten'!G:G) -> 0 | I46: =SUMIF('10-Glasbewassing'!A:A,'2-Kosten per locatie'!A46,'10-Glasbewassing'!H:H) -> 0 | K46: =D46+G46+H46+I46+J46 -> #DIV/0! | L46: =K46/12 -> #DIV/0!
...

Sheet 3-Productie normen
A1: Invoervelden
A3: ='2-Kosten per locatie'!A3 -> Naam opdrachtgever | B3: ='2-Kosten per locatie'!B3 -> Rijn IJssel
A4: ='2-Kosten per locatie'!A4 -> Calculatie onderdeel | B4: =MID(CELL("bestandsnaam",$B$7),SEARCH("]",CELL("bestandsnaam",$B$7),1)+1,256) -> 3-Productie normen
A5: ='2-Kosten per locatie'!A5 -> Gebouw/plaats | B5: ='2-Kosten per locatie'!B5 -> Divers
A6: ='2-Kosten per locatie'!A6 -> Referentie nummer | B6: ='2-Kosten per locatie'!B6 -> RIJSDVGB2026 | E6: Gewogen prestatie | H6: =SUM('4-Basis ruimtestaat'!U:U)/SUM('4-Basis ruimtestaat'!N:O) -> #DIV/0! | J6: m2/uur
A8: Frequentie van uitvoering (per jaar): | B8: 4 | C8: 12 | D8: 20 | E8: 40 | F8: 41 | G8: 80 | H8: 120 | I8: 123 | J8: 200 | K8: 205
A9: Ruimtecategorie | B9: Prestatienorm in aantal m2 per uur | M9: M2 Totaal | N9: Naloop opslag ma-vr | P9: VSR Code
A10: Administratieve ruimten | M10: =SUMIF('4-Basis ruimtestaat'!F:F,'3-Productie normen'!A10,'4-Basis ruimtestaat'!I:I) -> 6566.7212 | P10: B
A11: Aula | M11: =SUMIF('4-Basis ruimtestaat'!F:F,'3-Productie normen'!A11,'4-Basis ruimtestaat'!I:I) -> 2569.3426 | P11: V
A12: Bibliotheek | M12: =SUMIF('4-Basis ruimtestaat'!F:F,'3-Productie normen'!A12,'4-Basis ruimtestaat'!I:I) -> 1206.18 | P12: V
A13: Buitenruimte | M13: =SUMIF('4-Basis ruimtestaat'!F:F,'3-Productie normen'!A13,'4-Basis ruimtestaat'!I:I) -> 91.1 | P13: V
A14: Doucheruimten | M14: =SUMIF('4-Basis ruimtestaat'!F:F,'3-Productie normen'!A14,'4-Basis ruimtestaat'!I:I) -> 171.8485 | P14: S
A15: Entree | M15: =SUMIF('4-Basis ruimtestaat'!F:F,'3-Productie normen'!A15,'4-Basis ruimtestaat'!I:I) -> 358.29935 | P15: V
A16: Fitness | M16: =SUMIF('4-Basis ruimtestaat'!F:F,'3-Productie normen'!A16,'4-Basis ruimtestaat'!I:I) -> 422.4 | P16: V
A17: Gang, hal | M17: =SUMIF('4-Basis ruimtestaat'!F:F,'3-Productie normen'!A17,'4-Basis ruimtestaat'!I:I) -> 13735.632 | P17: V
A18: Keuken, pantry | M18: =SUMIF('4-Basis ruimtestaat'!F:F,'3-Productie normen'!A18,'4-Basis ruimtestaat'!I:I) -> 2104.952 | P18: V
A19: Kleed- wasruimte | M19: =SUMIF('4-Basis ruimtestaat'!F:F,'3-Productie normen'!A19,'4-Basis ruimtestaat'!I:I) -> 784.892 | P19: S
A20: Leslokaal | M20: =SUMIF('4-Basis ruimtestaat'!F:F,'3-Productie normen'!A20,'4-Basis ruimtestaat'!I:I) -> 17071.21 | P20: L
A21: Lift | M21: =SUMIF('4-Basis ruimtestaat'!F:F,'3-Productie normen'!A21,'4-Basis ruimtestaat'!I:I) -> 55.4374 | P21: V
... A29: Vergaderruimten | M29: =SUMIF('4-Basis ruimtestaat'!F:F,'3-Productie normen'!A29,'4-Basis ruimtestaat'!I:I) -> 2555.9818 | P29: B
M30: =SUMIF('4-Basis ruimtestaat'!F:F,'3-Productie normen'!A30,'4-Basis ruimtestaat'!I:I) -> 0
A32: Niet in onderhoud | M32: =SUMIF('4-Basis ruimtestaat'!F:F,'3-Productie normen'!A32,'4-Basis ruimtestaat'!I:I) -> 7903.4715 | P32: nvt
A33: Totaal | M33: =SUM(M10:M32) -> 78216.397
A35: Kolom voor matrix | B35: 2 | C35: 3 | D35: 4 | E35: 5 | F35: 6 | G35: 7 | H35: 8 | I35: 9 | J35: 10 | K35: 11
A37: Frequentie verklaring | B37: Freq | C37: Kolom
A38: 4 x per jaar | B38: 4 | C38: 2
A39: 1 x per maand | B39: 12 | C39: 3
A40: 1 x per 2 weken (40 weken) | B40: 20 | C40: 4
A41: 1 x per week (40 weken) | B41: 40 | C41: 5
A42: 1 x per week (41 weken) | B42: 41 | C42: 6
A43: 2 x per week (40 weken) | B43: 80 | C43: 7
A44: 3 x per week (40 weken) | B44: 120 | C44: 8
A45: 3 x per week (41 weken) | B45: 123 | C45: 9
A46: 5 x per week (40 weken) | B46: 200 | C46: 10
A47: 5 x per week (41 weken) | B47: 205 | C47: 11

Sheet 4-Basis ruimtestaat
B1: Invoervelden
A2: 2
A3: 3 | B3: ='2-Kosten per locatie'!A3 -> Naam opdrachtgever | C3: ='2-Kosten per locatie'!B3 -> Rijn IJssel
A4: 4 | B4: ='2-Kosten per locatie'!A4 -> Calculatie onderdeel | C4: =MID(CELL("bestandsnaam",$C$9),SEARCH("]",CELL("bestandsnaam",$C$9),1)+1,256) -> 4-Basis ruimtestaat
A5: 5 | B5: ='2-Kosten per locatie'!A5 -> Gebouw/plaats | C5: ='2-Kosten per locatie'!B5 -> Divers | Q5: % van reguliere norm
A6: 6 | B6: ='2-Kosten per locatie'!A6 -> Referentie nummer | C6: ='2-Kosten per locatie'!B6 -> RIJSDVGB2026
A7: 7 | B7: ='2-Kosten per locatie'!A7 -> Naam dienstverlener | C7: ='2-Kosten per locatie'!B7 -> 0
A8: 8 | Q8: ='3-Productie normen'!N8 -> 0
A9: 9 | B9: Gebouw | C9: Verdieping | D9: Ruimte nummer | E9: Ruimteomschrijving opdrachtgever | F9: Ruimte categorie | G9: Vloer soort | H9: Vloercategorie | I9: M2 vloer | J9: Correctie- factor | K9: Totaal frequentie | L9: Freq. ma-vr | M9: Freq. ma-vr naloop | N9: Uren p/j ma t/m vrij | O9: Uren p/j ma t/m vrij naloop | P9: Norm ma t/m vr | Q9: Naloop opslag ma-vr | R9: VSR code | S9: Bijzonderheden / opmerkingen | U9: M2 per jaar
A10: 10 | B10: Alexanderstraat 35, Arnhem | C10: BG | D10: 0.01 | E10: theorielokaal | F10: Leslokaal | G10: Linoleum | H10: Linoleum | I10: 54 | K10: =SUM(L10:M10) -> 205 | L10: 205 | N10: =IF(L10="nio",0,IF(L10>0,L10*I10/P10,0))*J10*VLOOKUP(B10,'2-Kosten per locatie'!$A$14:$C$31,3,FALSE) -> #DIV/0! | O10: =IF(M10>0,M10*I10/Q10,0)*VLOOKUP(B10,'2-Kosten per locatie'!$A$14:$C$31,3,FALSE) -> 0 | P10: =IF(L10="nio",0,IF(L10>0,VLOOKUP(F10,'3-Productie normen'!A:O,VLOOKUP(L10,'3-Productie normen'!$B$38:$C$48,2,FALSE),FALSE)))*J10 -> 0 | Q10: =IF(M10>0,P10*$Q$8,0) -> 0 | R10: =VLOOKUP(F10,'3-Productie normen'!A:P,16,FALSE) -> L | U10: =K10*I10 -> 11070
A11: 11 | B11: Alexanderstraat 35, Arnhem | C11: BG | D11: 0.02 | E11: theorielokaal | F11: Leslokaal | G11: Linoleum | H11: Linoleum | I11: 57 | K11: =SUM(L11:M11) -> 205 | L11: 205 | N11: =IF(L11="nio",0,IF(L11>0,L11*I11/P11,0))*VLOOKUP(B11,'2-Kosten per locatie'!$A$14:$C$31,3,FALSE) -> #DIV/0! | O11: =IF(M11>0,M11*I11/Q11,0)*VLOOKUP(B11,'2-Kosten per locatie'!$A$14:$C$31,3,FALSE) -> 0 | P11: =IF(L11="nio",0,IF(L11>0,VLOOKUP(F11,'3-Productie normen'!A:O,VLOOKUP(L11,'3-Productie normen'!$B$38:$C$48,2,FALSE),FALSE)))*J11 -> 0 | Q11: =IF(M11>0,P11*$Q$8,0) -> 0 | R11: =VLOOKUP(F11,'3-Productie normen'!A:P,16,FALSE) -> L | U11: =K11*I11 -> 11685
A12: 12 | B12: Alexanderstraat 35, Arnhem | C12: BG | D12: 0.03 | E12: overlegruimte | F12: Vergaderruimten | G12: Linoleum | H12: Linoleum | I12: 20 | K12: =SUM(L12:M12) -> 205 | L12: 205 | N12: =IF(L12="nio",0,IF(L12>0,L12*I12/P12,0))*VLOOKUP(B12,'2-Kosten per locatie'!$A$14:$C$31,3,FALSE) -> #DIV/0! | O12: =IF(M12>0,M12*I12/Q12,0)*VLOOKUP(B12,'2-Kosten per locatie'!$A$14:$C$31,3,FALSE) -> 0 | P12: =IF(L12="nio",0,IF(L12>0,VLOOKUP(F12,'3-Productie normen'!A:O,VLOOKUP(L12,'3-Productie normen'!$B$38:$C$48,2,FALSE),FALSE)))*J12 -> 0 | Q12: =IF(M12>0,P12*$Q$8,0) -> 0 | R12: =VLOOKUP(F12,'3-Productie normen'!A:P,16,FALSE) -> B | U12: =K12*I12 -> 4100
A13: 13 | B13: Alexanderstraat 35, Arnhem | C13: BG | D13: 0.04 | E13: theorielokaal | F13: Leslokaal | G13: Linoleum | H13: Linoleum | I13: 56 | K13: =SUM(L13:M13) -> 205 | L13: 205 | N13: =IF(L13="nio",0,IF(L13>0,L13*I13/P13,0))*VLOOKUP(B13,'2-Kosten per locatie'!$A$14:$C$31,3,FALSE) -> #DIV/0! | O13: =IF(M13>0,M13*I13/Q13,0)*VLOOKUP(B13,'2-Kosten per locatie'!$A$14:$C$31,3,FALSE) -> 0 | P13: =IF(L13="nio",0,IF(L13>0,VLOOKUP(F13,'3-Productie normen'!A:O,VLOOKUP(L13,'3-Productie normen'!$B$38:$C$48,2,FALSE),FALSE)))*J13 -> 0 | Q13: =IF(M13>0,P13*$Q$8,0) -> 0 | R13: =VLOOKUP(F13,'3-Productie normen'!A:P,16,FALSE) -> L | U13: =K13*I13 -> 11480
A14: 14 | B14: Alexanderstraat 35, Arnhem | C14: BG | D14: 0.05 | E14: theorielokaal | F14: Leslokaal | G14: Linoleum | H14: Linoleum | I14: 58 | K14: =SUM(L14:M14) -> 205 | L14: 205 | N14: =IF(L14="nio",0,IF(L14>0,L14*I14/P14,0))*VLOOKUP(B14,'2-Kosten per locatie'!$A$14:$C$31,3,FALSE) -> #DIV/0! | O14: =IF(M14>0,M14*I14/Q14,0)*VLOOKUP(B14,'2-Kosten per locatie'!$A$14:$C$31,3,FALSE) -> 0 | P14: =IF(L14="nio",0,IF(L14>0,VLOOKUP(F14,'3-Productie normen'!A:O,VLOOKUP(L14,'3-Productie normen'!$B$38:$C$48,2,FALSE),FALSE)))*J14 -> 0 | Q14: =IF(M14>0,P14*$Q$8,0) -> 0 | R14: =VLOOKUP(F14,'3-Productie normen'!A:P,16,FALSE) -> L | U14: =K14*I14 -> 11890
A15: 15 | B15: Alexanderstraat 35, Arnhem | C15: BG | D15: 0.06 | E15: theorielokaal | F15: Leslokaal | G15: Linoleum | H15: Linoleum | I15: 70 | K15: =SUM(L15:M15) -> 205 | L15: 205 | N15: =IF(L15="nio",0,IF(L15>0,L15*I15/P15,0))*VLOOKUP(B15,'2-Kosten per locatie'!$A$14:$C$31,3,FALSE) -> #DIV/0! | O15: =IF(M15>0,M15*I15/Q15,0)*VLOOKUP(B15,'2-Kosten per locatie'!$A$14:$C$31,3,FALSE) -> 0 | P15: =IF(L15="nio",0,IF(L15>0,VLOOKUP(F15,'3-Productie normen'!A:O,VLOOKUP(L15,'3-Productie normen'!$B$38:$C$48,2,FALSE),FALSE)))*J15 -> 0 | Q15: =IF(M15>0,P15*$Q$8,0) -> 0 | R15: =VLOOKUP(F15,'3-Productie normen'!A:P,16,FALSE) -> L | U15: =K15*I15 -> 14350
A16: 16 | B16: Alexanderstraat 35, Arnhem | C16: BG | D16: 0.06.2 | E16: opslag | F16: Niet in onderhoud | G16: Linoleum | H16: Linoleum | I16: 20 | K16: =SUM(L16:M16) -> 0 | L16: nio | N16: =IF(L16="nio",0,IF(L16>0,L16*I16/P16,0))*VLOOKUP(B16,'2-Kosten per locatie'!$A$14:$C$31,3,FALSE) -> 0 | O16: =IF(M16>0,M16*I16/Q16,0)*VLOOKUP(B16,'2-Kosten per locatie'!$A$14:$C$31,3,FALSE) -> 0 | P16: =IF(L16="nio",0,IF(L16>0,VLOOKUP(F16,'3-Productie normen'!A:O,VLOOKUP(L16,'3-Productie normen'!$B$38:$C$48,2,FALSE),FALSE)))*J16 -> 0 | Q16: =IF(M16>0,P16*$Q$8,0) -> 0 | R16: =VLOOKUP(F16,'3-Productie normen'!A:P,16,FALSE) -> nvt | U16: =K16*I16 -> 0
A17: 17 | B17: Alexanderstraat 35, Arnhem | C17: BG | D17: 0.07 | E17: theorielokaal | F17: Leslokaal | G17: Linoleum | H17: Linoleum | I17: 70 | K17: =SUM(L17:M17) -> 205 | L17: 205 | N17: =IF(L17="nio",0,IF(L17>0,L17*I17/P17,0))*VLOOKUP(B17,'2-Kosten per locatie'!$A$14:$C$31,3,FALSE) -> #DIV/0! | O17: =IF(M17>0,M17*I17/Q17,0)*VLOOKUP(B17,'2-Kosten per locatie'!$A$14:$C$31,3,FALSE) -> 0 | P17: =IF(L17="nio",0,IF(L17>0,VLOOKUP(F17,'3-Productie normen'!A:O,VLOOKUP(L17,'3-Productie normen'!$B$38:$C$48,2,FALSE),FALSE)))*J17 -> 0 | Q17: =IF(M17>0,P17*$Q$8,0) -> 0 | R17: =VLOOKUP(F17,'3-Productie normen'!A:P,16,FALSE) -> L | U17: =K17*I17 -> 14350
A18: 18 | B18: Alexanderstraat 35, Arnhem | C18: BG | D18: 0.08 | E18: facilitair | F18: Opslagruimten | G18: Linoleum | H18: Linoleum | I18: 30 | K18: =SUM(L18:M18) -> 41 | L18: 41 | N18: =IF(L18="nio",0,IF(L18>0,L18*I18/P18,0))*VLOOKUP(B18,'2-Kosten per locatie'!$A$14:$C$31,3,FALSE) -> #DIV/0! | O18: =IF(M18>0,M18*I18/Q18,0)*VLOOKUP(B18,'2-Kosten per locatie'!$A$14:$C$31,3,FALSE) -> 0 | P18: =IF(L18="nio",0,IF(L18>0,VLOOKUP(F18,'3-Productie normen'!A:O,VLOOKUP(L18,'3-Productie normen'!$B$38:$C$48,2,FALSE),FALSE)))*J18 -> 0 | Q18: =IF(M18>0,P18*$Q$8,0) -> 0 | R18: =VLOOKUP(F18,'3-Productie normen'!A:P,16,FALSE) -> V | U18: =K18*I18 -> 1230
A19: 19 | B19: Alexanderstraat 35, Arnhem | C19: BG | D19: 0.09 | E19: natuurkundelokaal | F19: Leslokaal | G19: Linoleum | H19: Linoleum | I19: 81 | K19: =SUM(L19:M19) -> 205 | L19: 205 | N19: =IF(L19="nio",0,IF(L19>0,L19*I19/P19,0))*VLOOKUP(B19,'2-Kosten per locatie'!$A$14:$C$31,3,FALSE) -> #DIV/0! | O19: =IF(M19>0,M19*I19/Q19,0)*VLOOKUP(B19,'2-Kosten per locatie'!$A$14:$C$31,3,FALSE) -> 0 | P19: =IF(L19="nio",0,IF(L19>0,VLOOKUP(F19,'3-Productie normen'!A:O,VLOOKUP(L19,'3-Productie normen'!$B$38:$C$48,2,FALSE),FALSE)))*J19 -> 0 | Q19: =IF(M19>0,P19*$Q$8,0) -> 0 | R19: =VLOOKUP(F19,'3-Productie normen'!A:P,16,FALSE) -> L | U19: =K19*I19 -> 16605
A20: 20 | B20: Alexanderstraat 35, Arnhem | C20: BG | D20: 0.09.1 | E20: kabinet | F20: Niet in onderhoud | G20: Linoleum | H20: Linoleum | I20: 28 | K20: =SUM(L20:M20) -> 0 | L20: nio | N20: =IF(L20="nio",0,IF(L20>0,L20*I20/P20,0))*VLOOKUP(B20,'2-Kosten per locatie'!$A$14:$C$31,3,FALSE) -> 0 | O20: =IF(M20>0,M20*I20/Q20,0)*VLOOKUP(B20,'2-Kosten per locatie'!$A$14:$C$31,3,FALSE) -> 0 | P20: =IF(L20="nio",0,IF(L20>0,VLOOKUP(F20,'3-Productie normen'!A:O,VLOOKUP(L20,'3-Productie normen'!$B$38:$C$48,2,FALSE),FALSE)))*J20 -> 0 | Q20: =IF(M20>0,P20*$Q$8,0) -> 0 | R20: =VLOOKUP(F20,'3-Productie normen'!A:P,16,FALSE) -> nvt | U20: =K20*I20 -> 0
A21: 21 | B21: Alexanderstraat 35, Arnhem | C21: BG | D21: 0.10 | E21: overlegruimte | F21: Vergaderruimten | G21: Linoleum | H21: Linoleum | I21: 8 | K21: =SUM(L21:M21) -> 205 | L21: 205 | N21: =IF(L21="nio",0,IF(L21>0,L21*I21/P21,0))*VLOOKUP(B21,'2-Kosten per locatie'!$A$14:$C$31,3,FALSE) -> #DIV/0! | O21: =IF(M21>0,M21*I21/Q21,0)*VLOOKUP(B21,'2-Kosten per locatie'!$A$14:$C$31,3,FALSE) -> 0 | P21: =IF(L21="nio",0,IF(L21>0,VLOOKUP(F21,'3-Productie normen'!A:O,VLOOKUP(L21,'3-Productie normen'!$B$38:$C$48,2,FALSE),FALSE)))*J21 -> 0 | Q21: =IF(M21>0,P21*$Q$8,0) -> 0 | R21: =VLOOKUP(F21,'3-Productie normen'!A:P,16,FALSE) -> B | U21: =K21*I21 -> 1640
A22: 22 | B22: Alexanderstraat 35, Arnhem | C22: BG | D22: 0.11 | E22: studienis | F22: Leslokaal | G22: Linoleum | H22: Linoleum | I22: 13 | K22: =SUM(L22:M22) -> 205 | L22: 205 | N22: =IF(L22="nio",0,IF(L22>0,L22*I22/P22,0))*VLOOKUP(B22,'2-Kosten per locatie'!$A$14:$C$31,3,FALSE) -> #DIV/0! | O22: =IF(M22>0,M22*I22/Q22,0)*VLOOKUP(B22,'2-Kosten per locatie'!$A$14:$C$31,3,FALSE) -> 0 | P22: =IF(L22="nio",0,IF(L22>0,VLOOKUP(F22,'3-Productie normen'!A:O,VLOOKUP(L22,'3-Productie normen'!$B$38:$C$48,2,FALSE),FALSE)))*J22 -> 0 | Q22: =IF(M22>0,P22*$Q$8,0) -> 0 | R22: =VLOOKUP(F22,'3-Productie normen'!A:P,16,FALSE) -> L | U22: =K22*I22 -> 2665
A23: 23 | B23: Alexanderstraat 35, Arnhem | C23: BG | D23: 0.12 | E23: overlegruimte | F23: Vergaderruimten | G23: Linoleum | H23: Linoleum | I23: 11 | K23: =SUM(L23:M23) -> 205 | L23: 205 | N23: =IF(L23="nio",0,IF(L23>0,L23*I23/P23,0))*VLOOKUP(B23,'2-Kosten per locatie'!$A$14:$C$31,3,FALSE) -> #DIV/0! | O23: =IF(M23>0,M23*I23/Q23,0)*VLOOKUP(B23,'2-Kosten per locatie'!$A$14:$C$31,3,FALSE) -> 0 | P23: =IF(L23="nio",0,IF(L23>0,VLOOKUP(F23,'3-Productie normen'!A:O,VLOOKUP(L23,'3-Productie normen'!$B$38:$C$48,2,FALSE),FALSE)))*J23 -> 0 | Q23: =IF(M23>0,P23*$Q$8,0) -> 0 | R23: =VLOOKUP(F23,'3-Productie normen'!A:P,16,FALSE) -> B | U23: =K23*I23 -> 2255
A24: 24 | B24: Alexanderstraat 35, Arnhem | C24: BG | D24: 0.13 | E24: tekenlokaal | F24: Leslokaal | G24: Linoleum | H24: Linoleum | I24: 84 | K24: =SUM(L24:M24) -> 205 | L24: 205 | N24: =IF(L24="nio",0,IF(L24>0,L24*I24/P24,0))*VLOOKUP(B24,'2-Kosten per locatie'!$A$14:$C$31,3,FALSE) -> #DIV/0! | O24: =IF(M24>0,M24*I24/Q24,0)*VLOOKUP(B24,'2-Kosten per locatie'!$A$14:$C$31,3,FALSE) -> 0 | P24: =IF(L24="nio",0,IF(L24>0,VLOOKUP(F24,'3-Productie normen'!A:O,VLOOKUP(L24,'3-Productie normen'!$B$38:$C$48,2,FALSE),FALSE)))*J24 -> 0 | Q24: =IF(M24>0,P24*$Q$8,0) -> 0 | R24: =VLOOKUP(F24,'3-Productie normen'!A:P,16,FALSE) -> L | U24: =K24*I24 -> 17220
A25: 25 | B25: Alexanderstraat 35, Arnhem | C25: BG | D25: 0.13.1 | E25: opslag | F25: Niet in onderhoud | G25: Linoleum | H25: Linoleum | I25: 15 | K25: =SUM(L25:M25) -> 0 | L25: nio | N25: =IF(L25="nio",0,IF(L25>0,L25*I25/P25,0))*VLOOKUP(B25,'2-Kosten per locatie'!$A$14:$C$31,3,FALSE) -> 0 | O25: =IF(M25>0,M25*I25/Q25,0)*VLOOKUP(B25,'2-Kosten per locatie'!$A$14:$C$31,3,FALSE) -> 0 | P25: =IF(L25="nio",0,IF(L25>0,VLOOKUP(F25,'3-Productie normen'!A:O,VLOOKUP(L25,'3-Productie normen'!$B$38:$C$48,2,FALSE),FALSE)))*J25 -> 0 | Q25: =IF(M25>0,P25*$Q$8,0) -> 0 | R25: =VLOOKUP(F25,'3-Productie normen'!A:P,16,FALSE) -> nvt | U25: =K25*I25 -> 0
A26: 26 | B26: Alexanderstraat 35, Arnhem | C26: BG | D26: 0.13.2 | E26: ICT ruimte | F26: Niet in onderhoud | G26: Linoleum | H26: Linoleum | I26: 13 | K26: =SUM(L26:M26) -> 0 | L26: nio | N26: =IF(L26="nio",0,IF(L26>0,L26*I26/P26,0))*VLOOKUP(B26,'2-Kosten per locatie'!$A$14:$C$31,3,FALSE) -> 0 | O26: =IF(M26>0,M26*I26/Q26,0)*VLOOKUP(B26,'2-Kosten per locatie'!$A$14:$C$31,3,FALSE) -> 0 | P26: =IF(L26="nio",0,IF(L26>0,VLOOKUP(F26,'3-Productie normen'!A:O,VLOOKUP(L26,'3-Productie normen'!$B$38:$C$48,2,FALSE),FALSE)))*J26 -> 0 | Q26: =IF(M26>0,P26*$Q$8,0) -> 0 | R26: =VLOOKUP(F26,'3-Productie normen'!A:P,16,FALSE) -> nvt | U26: =K26*I26 -> 0
A27: 27 | B27: Alexanderstraat 35, Arnhem | C27: BG | D27: 0.14 | E27: opslag | F27: Niet in onderhoud | G27: Linoleum | H27: Linoleum | I27: 15 | K27: =SUM(L27:M27) -> 0 | L27: nio | N27: =IF(L27="nio",0,IF(L27>0,L27*I27/P27,0))*VLOOKUP(B27,'2-Kosten per locatie'!$A$14:$C$31,3,FALSE) -> 0 | O27: =IF(M27>0,M27*I27/Q27,0)*VLOOKUP(B27,'2-Kosten per locatie'!$A$14:$C$31,3,FALSE) -> 0 | P27: =IF(L27="nio",0,IF(L27>0,VLOOKUP(F27,'3-Productie normen'!A:O,VLOOKUP(L27,'3-Productie normen'!$B$38:$C$48,2,FALSE),FALSE)))*J27 -> 0 | Q27: =IF(M27>0,P27*$Q$8,0) -> 0 | R27: =VLOOKUP(F27,'3-Productie normen'!A:P,16,FALSE) -> nvt | U27: =K27*I27 -> 0
A28: 28 | B28: Alexanderstraat 35, Arnhem | C28: BG | D28: 0.15 | E28: theorielokaal | F28: Leslokaal | G28: Linoleum | H28: Linoleum | I28: 70 | K28: =SUM(L28:M28) -> 205 | L28: 205 | N28: =IF(L28="nio",0,IF(L28>0,L28*I28/P28,0))*VLOOKUP(B28,'2-Kosten per locatie'!$A$14:$C$31,3,FALSE) -> #DIV/0! | O28: =IF(M28>0,M28*I28/Q28,0)*VLOOKUP(B28,'2-Kosten per locatie'!$A$14:$C$31,3,FALSE) -> 0 | P28: =IF(L28="nio",0,IF(L28>0,VLOOKUP(F28,'3-Productie normen'!A:O,VLOOKUP(L28,'3-Productie normen'!$B$38:$C$48,2,FALSE),FALSE)))*J28 -> 0 | Q28: =IF(M28>0,P28*$Q$8,0) -> 0 | R28: =VLOOKUP(F28,'3-Productie normen'!A:P,16,FALSE) -> L | U28: =K28*I28 -> 14350
A29: 29 | B29: Alexanderstraat 35, Arnhem | C29: BG | D29: 0.16 | E29: theorielokaal | F29: Leslokaal | G29: Linoleum | H29: Linoleum | I29: 70 | K29: =SUM(L29:M29) -> 205 | L29: 205 | N29: =IF(L29="nio",0,IF(L29>0,L29*I29/P29,0))*VLOOKUP(B29,'2-Kosten per locatie'!$A$14:$C$31,3,FALSE) -> #DIV/0! | O29: =IF(M29>0,M29*I29/Q29,0)*VLOOKUP(B29,'2-Kosten per locatie'!$A$14:$C$31,3,FALSE) -> 0 | P29: =IF(L29="nio",0,IF(L29>0,VLOOKUP(F29,'3-Productie normen'!A:O,VLOOKUP(L29,'3-Productie normen'!$B$38:$C$48,2,FALSE),FALSE)))*J29 -> 0 | Q29: =IF(M29>0,P29*$Q$8,0) -> 0 | R29: =VLOOKUP(F29,'3-Productie normen'!A:P,16,FALSE) -> L | U29: =K29*I29 -> 14350
A30: 30 | B30: Alexanderstraat 35, Arnhem | C30: BG | D30: 0.17 | E30: kolfruimte | F30: Administratieve ruimten | G30: Linoleum | H30: Linoleum | I30: 15 | K30: =SUM(L30:M30) -> 123 | L30: 123 | N30: =IF(L30="nio",0,IF(L30>0,L30*I30/P30,0))*VLOOKUP(B30,'2-Kosten per locatie'!$A$14:$C$31,3,FALSE) -> #DIV/0! | O30: =IF(M30>0,M30*I30/Q30,0)*VLOOKUP(B30,'2-Kosten per locatie'!$A$14:$C$31,3,FALSE) -> 0 | P30: =IF(L30="nio",0,IF(L30>0,VLOOKUP(F30,'3-Productie normen'!A:O,VLOOKUP(L30,'3-Productie normen'!$B$38:$C$48,2,FALSE),FALSE)))*J30 -> 0 | Q30: =IF(M30>0,P30*$Q$8,0) -> 0 | R30: =VLOOKUP(F30,'3-Productie normen'!A:P,16,FALSE) -> B | U30: =K30*I30 -> 1845
A31: 31 | B31: Alexanderstraat 35, Arnhem | C31: BG | D31: 0.18 | E31: werkomgeving | F31: Administratieve ruimten | G31: Linoleum | H31: Linoleum | I31: 57 | K31: =SUM(L31:M31) -> 123 | L31: 123 | N31: =IF(L31="nio",0,IF(L31>0,L31*I31/P31,0))*VLOOKUP(B31,'2-Kosten per locatie'!$A$14:$C$31,3,FALSE) -> #DIV/0! | O31: =IF(M31>0,M31*I31/Q31,0)*VLOOKUP(B31,'2-Kosten per locatie'!$A$14:$C$31,3,FALSE) -> 0 | P31: =IF(L31="nio",0,IF(L31>0,VLOOKUP(F31,'3-Productie normen'!A:O,VLOOKUP(L31,'3-Productie normen'!$B$38:$C$48,2,FALSE),FALSE)))*J31 -> 0 | Q31: =IF(M31>0,P31*$Q$8,0) -> 0 | R31: =VLOOKUP(F31,'3-Productie normen'!A:P,16,FALSE) -> B | U31: =K31*I31 -> 7011
A32: 32 | B32: Alexanderstraat 35, Arnhem | C32: BG | D32: 0.19 | E32: overlegruimte | F32: Vergaderruimten | G32: Linoleum | H32: Linoleum | I32: 21 | K32: =SUM(L32:M32) -> 205 | L32: 205 | N32: =IF(L32="nio",0,IF(L32>0,L32*I32/P32,0))*VLOOKUP(B32,'2-Kosten per locatie'!$A$14:$C$31,3,FALSE) -> #DIV/0! | O32: =IF(M32>0,M32*I32/Q32,0)*VLOOKUP(B32,'2-Kosten per locatie'!$A$14:$C$31,3,FALSE) -> 0 | P32: =IF(L32="nio",0,IF(L32>0,VLOOKUP(F32,'3-Productie normen'!A:O,VLOOKUP(L32,'3-Productie normen'!$B$38:$C$48,2,FALSE),FALSE)))*J32 -> 0 | Q32: =IF(M32>0,P32*$Q$8,0) -> 0 | R32: =VLOOKUP(F32,'3-Productie normen'!A:P,16,FALSE) -> B | U32: =K32*I32 -> 4305
A33: 33 | B33: Alexanderstraat 35, Arnhem | C33: BG | D33: 0.20 | E33: werkomgeving | F33: Administratieve ruimten | G33: Linoleum | H33: Linoleum | I33: 56 | K33: =SUM(L33:M33) -> 123 | L33: 123 | N33: =IF(L33="nio",0,IF(L33>0,L33*I33/P33,0))*VLOOKUP(B33,'2-Kosten per locatie'!$A$14:$C$31,3,FALSE) -> #DIV/0! | O33: =IF(M33>0,M33*I33/Q33,0)*VLOOKUP(B33,'2-Kosten per locatie'!$A$14:$C$31,3,FALSE) -> 0 | P33: =IF(L33="nio",0,IF(L33>0,VLOOKUP(F33,'3-Productie normen'!A:O,VLOOKUP(L33,'3-Productie normen'!$B$38:$C$48,2,FALSE),FALSE)))*J33 -> 0 | Q33: =IF(M33>0,P33*$Q$8,0) -> 0 | R33: =VLOOKUP(F33,'3-Productie normen'!A:P,16,FALSE) -> B | U33: =K33*I33 -> 6888
A34: 34 | B34: Alexanderstraat 35, Arnhem | C34: BG | D34: 0.20.1 | E34: pantry | F34: Keuken, pantry | G34: Linoleum | H34: Linoleum | I34: 12 | K34: =SUM(L34:M34) -> 205 | L34: 205 | N34: =IF(L34="nio",0,IF(L34>0,L34*I34/P34,0))*VLOOKUP(B34,'2-Kosten per locatie'!$A$14:$C$31,3,FALSE) -> #DIV/0! | O34: =IF(M34>0,M34*I34/Q34,0)*VLOOKUP(B34,'2-Kosten per locatie'!$A$14:$C$31,3,FALSE) -> 0 | P34: =IF(L34="nio",0,IF(L34>0,VLOOKUP(F34,'3-Productie normen'!A:O,VLOOKUP(L34,'3-Productie normen'!$B$38:$C$48,2,FALSE),FALSE)))*J34 -> 0 | Q34: =IF(M34>0,P34*$Q$8,0) -> 0 | R34: =VLOOKUP(F34,'3-Productie normen'!A:P,16,FALSE) -> V | U34: =K34*I34 -> 2460
A35: 35 | B35: Alexanderstraat 35, Arnhem | C35: BG | D35: 0.21 | E35: overlegruimte | F35: Vergaderruimten | G35: Linoleum | H35: Linoleum | I35: 14 | K35: =SUM(L35:M35) -> 205 | L35: 205 | N35: =IF(L35="nio",0,IF(L35>0,L35*I35/P35,0))*VLOOKUP(B35,'2-Kosten per locatie'!$A$14:$C$31,3,FALSE) -> #DIV/0! | O35: =IF(M35>0,M35*I35/Q35,0)*VLOOKUP(B35,'2-Kosten per locatie'!$A$14:$C$31,3,FALSE) -> 0 | P35: =IF(L35="nio",0,IF(L35>0,VLOOKUP(F35,'3-Productie normen'!A:O,VLOOKUP(L35,'3-Productie normen'!$B$38:$C$48,2,FALSE),FALSE)))*J35 -> 0 | Q35: =IF(M35>0,P35*$Q$8,0) -> 0 | R35: =VLOOKUP(F35,'3-Productie normen'!A:P,16,FALSE) -> B | U35: =K35*I35 -> 2870
A36: 36 | B36: Alexanderstraat 35, Arnhem | C36: BG | D36: 0.22 | E36: servicedesk | F36: Administratieve ruimten | G36: Linoleum | H36: Linoleum | I36: 17 | K36: =SUM(L36:M36) -> 123 | L36: 123 | N36: =IF(L36="nio",0,IF(L36>0,L36*I36/P36,0))*VLOOKUP(B36,'2-Kosten per locatie'!$A$14:$C$31,3,FALSE) -> #DIV/0! | O36: =IF(M36>0,M36*I36/Q36,0)*VLOOKUP(B36,'2-Kosten per locatie'!$A$14:$C$31,3,FALSE) -> 0 | P36: =IF(L36="nio",0,IF(L36>0,VLOOKUP(F36,'3-Productie normen'!A:O,VLOOKUP(L36,'3-Productie normen'!$B$38:$C$48,2,FALSE),FALSE)))*J36 -> 0 | Q36: =IF(M36>0,P36*$Q$8,0) -> 0 | R36: =VLOOKUP(F36,'3-Productie normen'!A:P,16,FALSE) -> B | U36: =K36*I36 -> 2091
A37: 37 | B37: Alexanderstraat 35, Arnhem | C37: BG | D37: 0.22.1 | E37: back office | F37: Administratieve ruimten | G37: Linoleum | H37: Linoleum | I37: 9 | K37: =SUM(L37:M37) -> 123 | L37: 123 | N37: =IF(L37="nio",0,IF(L37>0,L37*I37/P37,0))*VLOOKUP(B37,'2-Kosten per locatie'!$A$14:$C$31,3,FALSE) -> #DIV/0! | O37: =IF(M37>0,M37*I37/Q37,0)*VLOOKUP(B37,'2-Kosten per locatie'!$A$14:$C$31,3,FALSE) -> 0 | P37: =IF(L37="nio",0,IF(L37>0,VLOOKUP(F37,'3-Productie normen'!A:O,VLOOKUP(L37,'3-Productie normen'!$B$38:$C$48,2,FALSE),FALSE)))*J37 -> 0 | Q37: =IF(M37>0,P37*$Q$8,0) -> 0 | R37: =VLOOKUP(F37,'3-Productie normen'!A:P,16,FALSE) -> B | U37: =K37*I37 -> 1107
A38: 38 | B38: Alexanderstraat 35, Arnhem | C38: BG | D38: 0.23 | E38: multifunctioneel | F38: Leslokaal | G38: Linoleum | H38: Linoleum | I38: 39 | K38: =SUM(L38:M38) -> 205 | L38: 205 | N38: =IF(L38="nio",0,IF(L38>0,L38*I38/P38,0))*VLOOKUP(B38,'2-Kosten per locatie'!$A$14:$C$31,3,FALSE) -> #DIV/0! | O38: =IF(M38>0,M38*I38/Q38,0)*VLOOKUP(B38,'2-Kosten per locatie'!$A$14:$C$31,3,FALSE) -> 0 | P38: =IF(L38="nio",0,IF(L38>0,VLOOKUP(F38,'3-Productie normen'!A:O,VLOOKUP(L38,'3-Productie normen'!$B$38:$C$48,2,FALSE),FALSE)))*J38 -> 0 | Q38: =IF(M38>0,P38*$Q$8,0) -> 0 | R38: =VLOOKUP(F38,'3-Productie normen'!A:P,16,FALSE) -> L | U38: =K38*I38 -> 7995
A39: 39 | B39: Alexanderstraat 35, Arnhem | C39: BG | D39: 0.24 | E39: kantine | F39: Restauratieve ruimten | G39: Linoleum | H39: Linoleum | I39: 174 | K39: =SUM(L39:M39) -> 123 | L39: 123 | N39: =IF(L39="nio",0,IF(L39>0,L39*I39/P39,0))*VLOOKUP(B39,'2-Kosten per locatie'!$A$14:$C$31,3,FALSE) -> #DIV/0! | O39: =IF(M39>0,M39*I39/Q39,0)*VLOOKUP(B39,'2-Kosten per locatie'!$A$14:$C$31,3,FALSE) -> 0 | P39: =IF(L39="nio",0,IF(L39>0,VLOOKUP(F39,'3-Productie normen'!A:O,VLOOKUP(L39,'3-Productie normen'!$B$38:$C$48,2,FALSE),FALSE)))*J39 -> 0 | Q39: =IF(M39>0,P39*$Q$8,0) -> 0 | R39: =VLOOKUP(F39,'3-Productie normen'!A:P,16,FALSE) -> V | U39: =K39*I39 -> 21402
... A41: 41 | B41: Alexanderstraat 35, Arnhem | C41: BG | D41: 0.34 | E41: toilet | F41: Sanitaire ruimten | G41: Gietvloer | H41: Harde vloeren zonder waslaag (natte ruimten) | I41: 14 | K41: =SUM(L41:M41) -> 205 | L41: 205 | N41: =IF(L41="nio",0,IF(L41>0,L41*I41/P41,0))*VLOOKUP(B41,'2-Kosten per locatie'!$A$14:$C$31,3,FALSE) -> #DIV/0! | O41: =IF(M41>0,M41*I41/Q41,0)*VLOOKUP(B41,'2-Kosten per locatie'!$A$14:$C$31,3,FALSE) -> 0 | P41: =IF(L41="nio",0,IF(L41>0,VLOOKUP(F41,'3-Productie normen'!A:O,VLOOKUP(L41,'3-Productie normen'!$B$38:$C$48,2,FALSE),FALSE)))*J41 -> 0 | Q41: =IF(M41>0,P41*$Q$8,0) -> 0 | R41: =VLOOKUP(F41,'3-Productie normen'!A:P,16,FALSE) -> S | U41: =K41*I41 -> 2870
...

Sheet 5-Premies en opslagen
A1: Invoervelden
A3: ='2-Kosten per locatie'!A3 -> Naam opdrachtgever | B3: ='2-Kosten per locatie'!B3 -> Rijn IJssel
A4: ='2-Kosten per locatie'!A4 -> Calculatie onderdeel | B4: =MID(CELL("bestandsnaam",$C$9),SEARCH("]",CELL("bestandsnaam",$C$9),1)+1,256) -> 5-Premies en opslagen
A5: ='2-Kosten per locatie'!A5 -> Gebouw/plaats | B5: ='2-Kosten per locatie'!B5 -> Divers
A6: ='2-Kosten per locatie'!A6 -> Referentie nummer | B6: ='2-Kosten per locatie'!B6 -> RIJSDVGB2026
A7: ='2-Kosten per locatie'!A7 -> Naam dienstverlener | B7: ='2-Kosten per locatie'!B7 -> 0
A8: ='2-Kosten per locatie'!A8 -> Prijspeil | B8: ='2-Kosten per locatie'!B8 -> 46388
A10: Sociale verzekeringen
C12: Bedrijfsgemiddelde
A13: WIA Basispremie
A14: WGA
A15: ZW-flex
A16: Totaal | C16: =SUM(C13:C15) -> 0
A18: WW premie- Algemeen Werkeloosheidsfonds (Awf)
A19: Transitievergoeding
A20: Zorgverzekeringswet (Zvw)
A21: OP/NP | C21: =C34 -> #DIV/0!
A22: Kinderopvang
A23: RAS premie
A24: Totaal opslag sociale lasten | C24: =SUM(C16:C23) -> #DIV/0!
A26: Sociale verzekeringen - Ouderdomspensioen (OP/NP)
C28: werkgeversdeel
A29: SV uurloon inclusief toeslagen | C29: ='6-Opbouw uurtarief productie'!E20 -> 0
A30: Franchise OP-premie per uur | B30: Let op -/- bedrag
A31: Grondslag loon voor berekening OP premie | C31: =C29+C30 -> 0
A32: Premie Ouderdomspensioen (OP)
A34: Effectieve OP premie | C34: =(C31/C29)*C32 -> #DIV/0!
A36: Berekening werkbare dagen
B38: Schoonmaak
A39: Aantal kalenderdagen | B39: 365
A40: Weekenddagen | B40: 104
A41: Werkdagen per jaar | B41: =B39-B40 -> 261
A43: Nat. feestdagen, kort verzuim, bijz. CAO
A44: Vakantiedagen
A45: Ziektedagen
A46: Vorstverlet
A47: Werkbare dagen per jaar | B47: =B41-SUM(B43:B46) -> 261
A49: Nat. feestdagen, kort verzuim, bijz CAO | B49: =IF(B43=0,0,B43/$B$47) -> 0
A50: Vakantiedagen | B50: =IF(B44=0,0,B44/$B$47) -> 0
A51: Ziektedagen | B51: =IF(B45=0,0,B45/$B$47) -> 0
...

Sheet 6-Opbouw uurtarief productie
A1: Invoervelden
A3: ='2-Kosten per locatie'!A3 -> Naam opdrachtgever | B3: ='2-Kosten per locatie'!B3 -> Rijn IJssel
A4: ='2-Kosten per locatie'!A4 -> Calculatie onderdeel | B4: =MID(CELL("bestandsnaam",$C$9),SEARCH("]",CELL("bestandsnaam",$C$9),1)+1,256) -> 6-Opbouw uurtarief productie
A5: ='2-Kosten per locatie'!A5 -> Gebouw/plaats | B5: ='2-Kosten per locatie'!B5 -> Divers
A6: ='2-Kosten per locatie'!A6 -> Referentie nummer | B6: ='2-Kosten per locatie'!B6 -> RIJSDVGB2026
A7: ='2-Kosten per locatie'!A7 -> Naam dienstverlener | B7: ='2-Kosten per locatie'!B7 -> 0
A8: ='2-Kosten per locatie'!A8 -> Prijspeil | B8: ='2-Kosten per locatie'!B8 -> 46388
A10: Tariefopbouw schoonmaak | E10: Gemiddeld tarief ma t/m vr | H10: Medewerker | I10: Uurlonen 1 januari 2027
I11: 1 | J11: 2 | K11: 3 | L11: 4 | M11: 5 | N11: 6
A12: Basisuurloon | B12: CAO gebonden kosten | E12: =SUM(I41:N41) -> 0 | H12: 17 jaar en jonger
A13: Specialistentoeslag | B13: CAO gebonden kosten | H13: 18 jaar
A14: Bruto uurloon | E14: =SUM(E12:E13) -> 0 | H14: 19 jaar
H15: Vakvolwassen 1 dienstjaar
A16: Vakantietoeslag | B16: CAO gebonden kosten | E16: =$C16*E14 -> 0 | H16: Vakvolwassen 2 dienstjaren
A17: Structurele eindejaarsuitkering | B17: CAO gebonden kosten | E17: =$C17*E14 -> 0 | H17: Vakvolwassen 3 dienstjaren
A18: Bruto uurloon inclusief toeslagen | E18: =SUM(E14:E17) -> 0 | F18: =IF(E18=0,0,E18/E$47) -> 0 | H18: Vakvolwassen 4 dienstjaren
A20: SV-loon grondslag voor berekening sociale verzekeringen | E20: =E18*0.96 -> 0 | H20: Medewerker | I20: Percentage per loongroep voor gemiddeld tarief
A21: Premies Sociale Verzekeringen | C21: [zie premies en opslagen] | E21: =E20*'5-Premies en opslagen'!$C24 -> #DIV/0! | I21: 1 | J21: 2 | K21: 3 | L21: 4 | M21: 5 | N21: 6
A22: Subtotaal loonkosten per uur inclusief sociale verzekeringen | E22: =E21+E18 -> #DIV/0! | F22: =IF(E22=0,0,E22/E$47) -> #DIV/0! | H22: 17 jaar en jonger
H23: 18 jaar
A24: Opslag niet werkbare dagen | C24: [zie premies en opslagen] | E24: =E22*'5-Premies en opslagen'!$B53 -> #DIV/0! | H24: 19 jaar
A25: Totaal loonkosten per uur | E25: =SUM(E22:E24) -> #DIV/0! | F25: =IF(E25=0,0,E25/E$47) -> #DIV/0! | H25: Vakvolwassen 1 dienstjaar
H26: Vakvolwassen 2 dienstjaren
A27: Materiaal/- en middelen | C27: Projectgebonden! | F27: 0 | H27: Vakvolwassen 3 dienstjaren
A28: Werkkleding en uitrusting | C28: Projectgebonden! | F28: 0 | H28: Vakvolwassen 4 dienstjaren
A29: Machinekosten | H29: Totaal per loongroepen | I29: =SUM(I22:I28) -> 0 | J29: =SUM(J22:J28) -> 0 | K29: =SUM(K22:K28) -> 0 | L29: =SUM(L22:L28) -> 0 | M29: =SUM(M22:M28) -> 0 | N29: =SUM(N22:N28) -> 0 | O29: =SUM(I29:N29) -> 0
A30: Overige cao-gerelateerde verplichtingen (reiskosten) | C30: Projectgebonden!
A32: Totaal directe kosten | E32: =SUM(E25:E31) -> #DIV/0! | F32: =IF(E32=0,0,E32/E$47) -> #DIV/0! | H32: Medewerker | I32: Opbouw gemiddeld tarief
I33: 1 | J33: 2 | K33: 3 | L33: 4 | M33: 5 | N33: 6
A34: Indirect toezicht | F34: =E34/$E$47 -> #DIV/0! | H34: 17 jaar en jonger | I34: =I22*I12 -> 0 | J34: =J22*J12 -> 0 | K34: =K22*K12 -> 0 | L34: =L22*L12 -> 0 | M34: =M22*M12 -> 0 | N34: =N22*N12 -> 0
A35: Managementkosten | F35: =E35/$E$47 -> #DIV/0! | H35: 18 jaar | I35: =I23*I13 -> 0 | J35: =J23*J13 -> 0 | K35: =K23*K13 -> 0 | L35: =L23*L13 -> 0 | M35: =M23*M13 -> 0 | N35: =N23*N13 -> 0
A36: P.Z. kosten | F36: =E36/$E$47 -> #DIV/0! | H36: 19 jaar | I36: =I24*I14 -> 0 | J36: =J24*J14 -> 0 | K36: =K24*K14 -> 0 | L36: =L24*L14 -> 0 | M36: =M24*M14 -> 0 | N36: =N24*N14 -> 0
A37: Opleiding | F37: =E37/$E$47 -> #DIV/0! | H37: Vakvolwassen 1 dienstjaar | I37: =I25*I15 -> 0 | J37: =J25*J15 -> 0 | K37: =K25*K15 -> 0 | L37: =L25*L15 -> 0 | M37: =M25*M15 -> 0 | N37: =N25*N15 -> 0
A38: Administratiekosten | F38: =E38/$E$47 -> #DIV/0! | H38: Vakvolwassen 2 dienstjaren | I38: =I26*I16 -> 0 | J38: =J26*J16 -> 0 | K38: =K26*K16 -> 0 | L38: =L26*L16 -> 0 | M38: =M26*M16 -> 0 | N38: =N26*N16 -> 0
A39: Huisvestingskosten | F39: =E39/$E$47 -> #DIV/0! | H39: Vakvolwassen 3 dienstjaren | I39: =I27*I17 -> 0 | J39: =J27*J17 -> 0 | K39: =K27*K17 -> 0 | L39: =L27*L17 -> 0 | M39: =M27*M17 -> 0 | N39: =N27*N17 -> 0
A40: Reiskosten/autokosten | C40: Projectgebonden! | F40: =E40/$E$47 -> #DIV/0! | H40: Vakvolwassen 4 dienstjaren | I40: =I28*I18 -> 0 | J40: =J28*J18 -> 0 | K40: =K28*K18 -> 0 | L40: =L28*L18 -> 0 | M40: =M28*M18 -> 0 | N40: =N28*N18 -> 0
A41: Kosten verzuimbegeleiding en re-integratie | F41: =E41/$E$47 -> #DIV/0! | H41: Totaal per loongroepen | I41: =SUM(I34:I40) -> 0 | J41: =SUM(J34:J40) -> 0 | K41: =SUM(K34:K40) -> 0 | L41: =SUM(L34:L40) -> 0 | M41: =SUM(M34:M40) -> 0 | N41: =SUM(N34:N40) -> 0
A43: Totaal indirecte kosten | E43: =SUM(E32:E42) -> #DIV/0! | F43: =IF(E43=0,0,E43/E$47) -> #DIV/0!
H44: Tarief componenten samenvatting | K44: Gemiddeld tarief ma t/m vr
A45: Risico en winst | F45: =(IF(E45=0,0,E45/E$47)) -> 0
...

Sheet 7-Opbouw uurtarief toezicht
A1: Invoervelden
A3: ='2-Kosten per locatie'!A3 -> Naam opdrachtgever | B3: ='2-Kosten per locatie'!B3 -> Rijn IJssel
A4: ='2-Kosten per locatie'!A4 -> Calculatie onderdeel | B4: =MID(CELL("bestandsnaam",$C$9),SEARCH("]",CELL("bestandsnaam",$C$9),1)+1,256) -> 7-Opbouw uurtarief toezicht
A5: ='2-Kosten per locatie'!A5 -> Gebouw/plaats | B5: ='2-Kosten per locatie'!B5 -> Divers
A6: ='2-Kosten per locatie'!A6 -> Referentie nummer | B6: ='2-Kosten per locatie'!B6 -> RIJSDVGB2026
A7: ='2-Kosten per locatie'!A7 -> Naam dienstverlener | B7: ='2-Kosten per locatie'!B7 -> 0
A8: ='2-Kosten per locatie'!A8 -> Prijspeil | B8: ='2-Kosten per locatie'!B8 -> 46388
A10: Tariefopbouw toezicht | E10: Gemiddeld tarief ma t/m vr | H10: Medewerker | I10: Uurlonen 1 januari 2027
I11: 1 | J11: 2 | K11: 3 | L11: 4 | M11: 5 | N11: 6
A12: Basisuurloon | B12: CAO gebonden kosten | E12: =SUM(I31:N31) -> 0 | H12: Vakvolwassen 1 dienstjaar
A13: Specialistentoeslag | B13: CAO gebonden kosten | H13: Vakvolwassen 2 dienstjaren
A14: Bruto uurloon | E14: =SUM(E12:E13) -> 0 | H14: Vakvolwassen 3 dienstjaren
H15: Vakvolwassen 4 dienstjaren
A16: Vakantietoeslag | B16: CAO gebonden kosten | E16: =$C16*E14 -> 0
A17: Structurele eindejaarsuitkering | B17: CAO gebonden kosten | E17: =$C17*E14 -> 0 | H17: Medewerker | I17: Percentage per loongroep voor gemiddeld tarief
A18: Bruto uurloon inclusief toeslagen | E18: =SUM(E14:E17) -> 0 | F18: =IF(E18=0,0,E18/E$46) -> 0 | I18: 1 | J18: 2 | K18: 3 | L18: 4 | M18: 5 | N18: 6
H19: Vakvolwassen 1 dienstjaar
A20: SV-loon grondslag voor berekening sociale verzekeringen | E20: =E18*0.96 -> 0 | H20: Vakvolwassen 2 dienstjaren
A21: Premies Sociale Verzekeringen | C21: [zie premies en opslagen] | E21: =E20*'5-Premies en opslagen'!$C24 -> #DIV/0! | H21: Vakvolwassen 3 dienstjaren
A22: Subtotaal loonkosten per uur inclusief sociale verzekeringen | E22: =E21+E18 -> #DIV/0! | F22: =IF(E22=0,0,E22/E$46) -> #DIV/0! | H22: Vakvolwassen 4 dienstjaren
H23: Totaal per loongroepen | I23: =SUM(I19:I22) -> 0 | J23: =SUM(J19:J22) -> 0 | K23: =SUM(K19:K22) -> 0 | L23: =SUM(L19:L22) -> 0 | M23: =SUM(M19:M22) -> 0 | N23: =SUM(N19:N22) -> 0 | O23: =SUM(I23:N23) -> 0
A24: Opslag niet werkbare dagen | C24: [zie premies en opslagen] | E24: =E22*'5-Premies en opslagen'!$B53 -> #DIV/0!
A25: Totaal loonkosten per uur | E25: =SUM(E22:E24) -> #DIV/0! | F25: =IF(E25=0,0,E25/E$46) -> #DIV/0! | H25: Medewerker | I25: Opbouw gemiddeld tarief
I26: 1 | J26: 2 | K26: 3 | L26: 4 | M26: 5 | N26: 6
A27: Materiaal/- en middelen | C27: Projectgebonden! | F27: 0 | H27: Vakvolwassen 1 dienstjaar | I27: =I19*I12 -> 0 | J27: =J19*J12 -> 0 | K27: =K19*K12 -> 0 | L27: =L19*L12 -> 0 | M27: =M19*M12 -> 0 | N27: =N19*N12 -> 0
A28: Werkkleding en uitrusting | C28: Projectgebonden! | F28: 0 | H28: Vakvolwassen 2 dienstjaren | I28: =I20*I13 -> 0 | J28: =J20*J13 -> 0 | K28: =K20*K13 -> 0 | L28: =L20*L13 -> 0 | M28: =M20*M13 -> 0 | N28: =N20*N13 -> 0
A29: Overige cao-gerelateerde verplichtingen | H29: Vakvolwassen 3 dienstjaren | I29: =I21*I14 -> 0 | J29: =J21*J14 -> 0 | K29: =K21*K14 -> 0 | L29: =L21*L14 -> 0 | M29: =M21*M14 -> 0 | N29: =N21*N14 -> 0
H30: Vakvolwassen 4 dienstjaren | I30: =I22*I15 -> 0 | J30: =J22*J15 -> 0 | K30: =K22*K15 -> 0 | L30: =L22*L15 -> 0 | M30: =M22*M15 -> 0 | N30: =N22*N15 -> 0
A31: Totaal directe kosten | E31: =SUM(E25:E30) -> #DIV/0! | F31: =IF(E31=0,0,E31/E$46) -> #DIV/0! | H31: Totaal per loongroepen | I31: =SUM(I27:I30) -> 0 | J31: =SUM(J27:J30) -> 0 | K31: =SUM(K27:K30) -> 0 | L31: =SUM(L27:L30) -> 0 | M31: =SUM(M27:M30) -> 0 | N31: =SUM(N27:N30) -> 0
A33: Indirect toezicht | F33: =E33/$E$46 -> #DIV/0!
A34: Managementkosten | F34: =E34/$E$46 -> #DIV/0!
A35: P.Z. kosten | F35: =E35/$E$46 -> #DIV/0!
A36: Opleiding | F36: =E36/$E$46 -> #DIV/0!
A37: Administratiekosten | F37: =E37/$E$46 -> #DIV/0!
A38: Huisvestingskosten | F38: =E38/$E$46 -> #DIV/0!
A39: Reiskosten/autokosten | C39: Projectgebonden! | F39: =E39/$E$46 -> #DIV/0!
A40: Kosten verzuimbegeleiding en re-integratie | F40: =E40/$E$46 -> #DIV/0!
A42: Totaal indirecte kosten | E42: =SUM(E31:E41) -> #DIV/0! | F42: =IF(E42=0,0,E42/E$46) -> #DIV/0!
H43: Tarief componenten samenvatting | K43: Gemiddeld tarief ma t/m vr
A44: Risico en winst | F44: =(IF(E44=0,0,E44/E$46)) -> 0
...

Sheet 8-Additionele kosten
A1: Invoervelden
A3: ='2-Kosten per locatie'!A3 -> Naam opdrachtgever | B3: ='2-Kosten per locatie'!B3 -> Rijn IJssel
A4: ='2-Kosten per locatie'!A4 -> Calculatie onderdeel | B4: =MID(CELL("bestandsnaam",$C$9),SEARCH("]",CELL("bestandsnaam",$C$9),1)+1,256) -> 8-Additionele kosten
A5: ='2-Kosten per locatie'!A5 -> Gebouw/plaats | B5: ='2-Kosten per locatie'!B5 -> Divers
A6: ='2-Kosten per locatie'!A6 -> Referentie nummer | B6: ='2-Kosten per locatie'!B6 -> RIJSDVGB2026
A7: ='2-Kosten per locatie'!A7 -> Naam dienstverlener | B7: ='2-Kosten per locatie'!B7 -> 0
A8: ='2-Kosten per locatie'!A8 -> Prijspeil | B8: ='2-Kosten per locatie'!B8 -> 46388
A10: Locatie | B10: Omschrijving werkzaamheden | C10: frequentie per jaar | D10: uren per m2/ beurt | E10: uren per jaar | F10: uurtarief | G10: kosten per jaar incl. toezicht
A11: Alexanderstraat 35, Arnhem | B11: Schoonmaak tijdens vakantiedag | C11: 4 | E11: =D11*C11 -> 0 | G11: =F11*E11 -> 0
