Workbook
Name \0: #REF!
Name \M: #REF!
Name \P: #REF!
Name \W: #REF!
Name _1: #REF!
Name _10: #REF!
Name _11: #REF!
Name _12: #REF!
Name _125: [2]Begroting!#REF!
Name _13: #REF!
Name _14: #REF!
Name _15: #REF!
Name _16: #REF!
Name _17: #REF!
Name _18: #REF!
Name _19: #REF!
Name _2: #REF!
Name _20: #REF!
Name _21: #REF!
Name _22: #REF!
Name _23: #REF!
Name _3: #REF!
Name _4: #REF!
Name _5: #REF!
Name _6: #REF!
Name _7: #REF!
Name _8: #REF!
Name _9: #REF!
Name _DAT1: #REF!
Name _DAT10: #REF!
Name _DAT11: #REF!
Name _DAT12: #REF!
Name _DAT13: #REF!
Name _DAT14: #REF!
Name _DAT2: #REF!
Name _DAT3: #REF!
Name _DAT4: #REF!
Name _DAT5: #REF!
Name _DAT6: #REF!
Name _DAT7: #REF!
Name _DAT8: #REF!
Name _DAT9: #REF!
Name _Hlk39130726: '1-Uitgangspunten'!$A$16
Name _Toc106114456: '1-Uitgangspunten'!$A$2
Name _Toc106114457: '1-Uitgangspunten'!$A$5
Name _Toc106114458: '1-Uitgangspunten'!$A$9
Name _Toc106114459: '1-Uitgangspunten'!$A$13
Name _Toc518445846: '1-Uitgangspunten'!$A$17
Name aantal_niet_gebruikt: [6]Programma_check!$Y$1
Name antwoord: #REF!
Name berichtok: '2-Kosten per locatie'!berichtok
Name berichtok: '2-Kosten per locatie'!berichtok
Name berichtoke: '2-Kosten per locatie'!berichtoke
Name berichtoke: '2-Kosten per locatie'!berichtoke
Name berichtoke1: '2-Kosten per locatie'!berichtoke1
Name berichtoke1: '2-Kosten per locatie'!berichtoke1
Name Berkt: '2-Kosten per locatie'!Berkt
Name Berkt: '2-Kosten per locatie'!Berkt
Name einde: '2-Kosten per locatie'!einde
Name einde: '2-Kosten per locatie'!einde

Sheet 1-Uitgangspunten
A1: Naam opdrachtgever | B1: ='2-Kosten per locatie'!B3 -> Rijn IJssel
A2: Calculatie onderdeel | B2: =MID(CELL("bestandsnaam",$B$11),SEARCH("]",CELL("bestandsnaam",$B$11),1)+1,256) -> 1-Uitgangspunten
A3: Gebouw/plaats | B3: ='2-Kosten per locatie'!B5 -> Divers
A4: Referentie nummer | B4: ='2-Kosten per locatie'!B6 -> RIJSDVGB2026

Sheet 2-Kosten per locatie
A1: Invoervelden | E1: Minimale taakgrootte | J1: EINDTOTAAL KOSTEN PER JAAR EXCLUSIEF BTW INSCHRIJVINGSBEDRAG | P1: =K54 -> #DIV/0!
F2: uur per dag | J2: BTW | O2: 0.21 | P2: =O2*P1 -> #DIV/0!
A3: Naam opdrachtgever | B3: Rijn IJssel | J3: Totale kosten per jaar inclusief btw | P3: =P1+P2 -> #DIV/0!
A4: Calculatie onderdeel | B4: =MID(CELL("bestandsnaam",$B$13),SEARCH("]",CELL("bestandsnaam",$B$13),1)+1,256) -> 2-Kosten per locatie | E4: Toezicht percentage
A5: Gebouw/plaats | B5: Divers | F5: per prod. Uur | J5: MAXIMALE BOVENGRENS PLAFONDBEDRAG INSCHRIJVINGSBEDRAG | P5: 1950000
A6: Referentie nummer | B6: RIJSDVGB2026 | J6: MAXIMALE ONDERGRENS INSCHRIJVINGSBEDRAG | P6: 1660000
A7: Naam dienstverlener
A8: Prijspeil | B8: 46388 | J8: SUPPLETIEKOSTEN OVERNAME PERSONEEL
A9: Versie | B9: Aanbesteding_V2 | J9: Dit is het maximale bedrag dat door de dienstverlener aan suppletiekosten in rekening wordt gebracht. Indien hier niets wordt
J10: ingevuld, betekent dit dat er geen suppletiekosten door de dienstverlener in rekening worden gebracht.
F13: PRODUCTIE UREN PER JAAR | H13: UREN OPSLAG MINIMALE TAAKGROOTTE PER JAAR | J13: TOEZICHTUREN PER JAAR
A14: Locatie | B14: Totaal m2 in scope | C14: Locatie factor | D14: Hoogste frequentie ma t/m vr | E14: Hoogste frequentie ma t/m vr naloop | F14: Productie uren ma t/m vr | G14: Productie uren ma t/m vr naloop | H14: Uren minimale taakgrootte ma t/m vrij | I14: Uren minimale taakgrootte ma t/m vrij naloop | J14: Toezicht uren per jaar ma t/m vr | K14: Toezicht uren per jaar ma t/m vr naloop
A15: Alexanderstraat 35, Arnhem | B15: =SUMIF('4-Basis ruimtestaat'!B:B,'2-Kosten per locatie'!A15,'4-Basis ruimtestaat'!I:I)-SUMIFS('4-Basis ruimtestaat'!I:I,'4-Basis ruimtestaat'!B:B,'2-Kosten per locatie'!A15,'4-Basis ruimtestaat'!L:L,"nio") -> 1551 | D15: =_xlfn.MAXIFS('4-Basis ruimtestaat'!L:L,'4-Basis ruimtestaat'!B:B,'2-Kosten per locatie'!A15) -> 205 | E15: =_xlfn.MAXIFS('4-Basis ruimtestaat'!M:M,'4-Basis ruimtestaat'!B:B,'2-Kosten per locatie'!A15) -> 0 | F15: =SUMIF('4-Basis ruimtestaat'!B:B,'2-Kosten per locatie'!A15,'4-Basis ruimtestaat'!N:N) -> #DIV/0! | G15: =SUMIF('4-Basis ruimtestaat'!B:B,'2-Kosten per locatie'!A15,'4-Basis ruimtestaat'!O:O) -> 0 | H15: =IF(F15<(D15*$E$2),D15*$E$2-F15,0) -> #DIV/0! | I15: =IF(G15<(E15*$E$2),E15*$E$2-G15,0) -> 0 | J15: =F15*$E$5 -> #DIV/0! | K15: =G15*$E$5 -> 0
A16: Apeldoornseweg 210, Arnhem | B16: =SUMIF('4-Basis ruimtestaat'!B:B,'2-Kosten per locatie'!A16,'4-Basis ruimtestaat'!I:I)-SUMIFS('4-Basis ruimtestaat'!I:I,'4-Basis ruimtestaat'!B:B,'2-Kosten per locatie'!A16,'4-Basis ruimtestaat'!L:L,"nio") -> 3118.2 | D16: =_xlfn.MAXIFS('4-Basis ruimtestaat'!L:L,'4-Basis ruimtestaat'!B:B,'2-Kosten per locatie'!A16) -> 200 | E16: =_xlfn.MAXIFS('4-Basis ruimtestaat'!M:M,'4-Basis ruimtestaat'!B:B,'2-Kosten per locatie'!A16) -> 200 | F16: =SUMIF('4-Basis ruimtestaat'!B:B,'2-Kosten per locatie'!A16,'4-Basis ruimtestaat'!N:N) -> #DIV/0! | G16: =SUMIF('4-Basis ruimtestaat'!B:B,'2-Kosten per locatie'!A16,'4-Basis ruimtestaat'!O:O) -> #DIV/0! | H16: =IF(F16<(D16*$E$2),D16*$E$2-F16,0) -> #DIV/0! | I16: =IF(G16<(E16*$E$2),E16*$E$2-G16,0) -> #DIV/0! | J16: =F16*$E$5 -> #DIV/0! | K16: =G16*$E$5 -> #DIV/0!
A17: Beukenlaan 3, Arnhem | B17: =SUMIF('4-Basis ruimtestaat'!B:B,'2-Kosten per locatie'!A17,'4-Basis ruimtestaat'!I:I)-SUMIFS('4-Basis ruimtestaat'!I:I,'4-Basis ruimtestaat'!B:B,'2-Kosten per locatie'!A17,'4-Basis ruimtestaat'!L:L,"nio") -> 6996.6 | D17: =_xlfn.MAXIFS('4-Basis ruimtestaat'!L:L,'4-Basis ruimtestaat'!B:B,'2-Kosten per locatie'!A17) -> 200 | E17: =_xlfn.MAXIFS('4-Basis ruimtestaat'!M:M,'4-Basis ruimtestaat'!B:B,'2-Kosten per locatie'!A17) -> 200 | F17: =SUMIF('4-Basis ruimtestaat'!B:B,'2-Kosten per locatie'!A17,'4-Basis ruimtestaat'!N:N) -> #DIV/0! | G17: =SUMIF('4-Basis ruimtestaat'!B:B,'2-Kosten per locatie'!A17,'4-Basis ruimtestaat'!O:O) -> #DIV/0! | H17: =IF(F17<(D17*$E$2),D17*$E$2-F17,0) -> #DIV/0! | I17: =IF(G17<(E17*$E$2),E17*$E$2-G17,0) -> #DIV/0! | J17: =F17*$E$5 -> #DIV/0! | K17: =G17*$E$5 -> #DIV/0!
A18: Industrieweg 26, Renkum | B18: =SUMIF('4-Basis ruimtestaat'!B:B,'2-Kosten per locatie'!A18,'4-Basis ruimtestaat'!I:I)-SUMIFS('4-Basis ruimtestaat'!I:I,'4-Basis ruimtestaat'!B:B,'2-Kosten per locatie'!A18,'4-Basis ruimtestaat'!L:L,"nio") -> 267.503 | D18: =_xlfn.MAXIFS('4-Basis ruimtestaat'!L:L,'4-Basis ruimtestaat'!B:B,'2-Kosten per locatie'!A18) -> 200 | E18: =_xlfn.MAXIFS('4-Basis ruimtestaat'!M:M,'4-Basis ruimtestaat'!B:B,'2-Kosten per locatie'!A18) -> 0 | F18: =SUMIF('4-Basis ruimtestaat'!B:B,'2-Kosten per locatie'!A18,'4-Basis ruimtestaat'!N:N) -> #DIV/0! | G18: =SUMIF('4-Basis ruimtestaat'!B:B,'2-Kosten per locatie'!A18,'4-Basis ruimtestaat'!O:O) -> 0 | H18: =IF(F18<(D18*$E$2),D18*$E$2-F18,0) -> #DIV/0! | I18: =IF(G18<(E18*$E$2),E18*$E$2-G18,0) -> 0 | J18: =F18*$E$5 -> #DIV/0! | K18: =G18*$E$5 -> 0
A19: Kronenburgsingel 16, Arnhem | B19: =SUMIF('4-Basis ruimtestaat'!B:B,'2-Kosten per locatie'!A19,'4-Basis ruimtestaat'!I:I)-SUMIFS('4-Basis ruimtestaat'!I:I,'4-Basis ruimtestaat'!B:B,'2-Kosten per locatie'!A19,'4-Basis ruimtestaat'!L:L,"nio") -> 6615.3776 | D19: =_xlfn.MAXIFS('4-Basis ruimtestaat'!L:L,'4-Basis ruimtestaat'!B:B,'2-Kosten per locatie'!A19) -> 200 | E19: =_xlfn.MAXIFS('4-Basis ruimtestaat'!M:M,'4-Basis ruimtestaat'!B:B,'2-Kosten per locatie'!A19) -> 200 | F19: =SUMIF('4-Basis ruimtestaat'!B:B,'2-Kosten per locatie'!A19,'4-Basis ruimtestaat'!N:N) -> #DIV/0! | G19: =SUMIF('4-Basis ruimtestaat'!B:B,'2-Kosten per locatie'!A19,'4-Basis ruimtestaat'!O:O) -> #DIV/0! | H19: =IF(F19<(D19*$E$2),D19*$E$2-F19,0) -> #DIV/0! | I19: =IF(G19<(E19*$E$2),E19*$E$2-G19,0) -> #DIV/0! | J19: =F19*$E$5 -> #DIV/0! | K19: =G19*$E$5 -> #DIV/0!
A20: Loods, Tivolilaan 70, Arnhem | B20: =SUMIF('4-Basis ruimtestaat'!B:B,'2-Kosten per locatie'!A20,'4-Basis ruimtestaat'!I:I)-SUMIFS('4-Basis ruimtestaat'!I:I,'4-Basis ruimtestaat'!B:B,'2-Kosten per locatie'!A20,'4-Basis ruimtestaat'!L:L,"nio") -> 709.6 | D20: =_xlfn.MAXIFS('4-Basis ruimtestaat'!L:L,'4-Basis ruimtestaat'!B:B,'2-Kosten per locatie'!A20) -> 200 | E20: =_xlfn.MAXIFS('4-Basis ruimtestaat'!M:M,'4-Basis ruimtestaat'!B:B,'2-Kosten per locatie'!A20) -> 0 | F20: =SUMIF('4-Basis ruimtestaat'!B:B,'2-Kosten per locatie'!A20,'4-Basis ruimtestaat'!N:N) -> #DIV/0! | G20: =SUMIF('4-Basis ruimtestaat'!B:B,'2-Kosten per locatie'!A20,'4-Basis ruimtestaat'!O:O) -> 0 | H20: =IF(F20<(D20*$E$2),D20*$E$2-F20,0) -> #DIV/0! | I20: =IF(G20<(E20*$E$2),E20*$E$2-G20,0) -> 0 | J20: =F20*$E$5 -> #DIV/0! | K20: =G20*$E$5 -> 0
A21: Marijkeweg 5, Wageningen | B21: =SUMIF('4-Basis ruimtestaat'!B:B,'2-Kosten per locatie'!A21,'4-Basis ruimtestaat'!I:I)-SUMIFS('4-Basis ruimtestaat'!I:I,'4-Basis ruimtestaat'!B:B,'2-Kosten per locatie'!A21,'4-Basis ruimtestaat'!L:L,"nio") -> 5961.5 | D21: =_xlfn.MAXIFS('4-Basis ruimtestaat'!L:L,'4-Basis ruimtestaat'!B:B,'2-Kosten per locatie'!A21) -> 200 | E21: =_xlfn.MAXIFS('4-Basis ruimtestaat'!M:M,'4-Basis ruimtestaat'!B:B,'2-Kosten per locatie'!A21) -> 160 | F21: =SUMIF('4-Basis ruimtestaat'!B:B,'2-Kosten per locatie'!A21,'4-Basis ruimtestaat'!N:N) -> #DIV/0! | G21: =SUMIF('4-Basis ruimtestaat'!B:B,'2-Kosten per locatie'!A21,'4-Basis ruimtestaat'!O:O) -> #DIV/0! | H21: =IF(F21<(D21*$E$2),D21*$E$2-F21,0) -> #DIV/0! | I21: =IF(G21<(E21*$E$2),E21*$E$2-G21,0) -> #DIV/0! | J21: =F21*$E$5 -> #DIV/0! | K21: =G21*$E$5 -> #DIV/0!
A22: Middachtensingel 2, Arnhem | B22: =SUMIF('4-Basis ruimtestaat'!B:B,'2-Kosten per locatie'!A22,'4-Basis ruimtestaat'!I:I)-SUMIFS('4-Basis ruimtestaat'!I:I,'4-Basis ruimtestaat'!B:B,'2-Kosten per locatie'!A22,'4-Basis ruimtestaat'!L:L,"nio") -> 8797.64 | D22: =_xlfn.MAXIFS('4-Basis ruimtestaat'!L:L,'4-Basis ruimtestaat'!B:B,'2-Kosten per locatie'!A22) -> 200 | E22: =_xlfn.MAXIFS('4-Basis ruimtestaat'!M:M,'4-Basis ruimtestaat'!B:B,'2-Kosten per locatie'!A22) -> 200 | F22: =SUMIF('4-Basis ruimtestaat'!B:B,'2-Kosten per locatie'!A22,'4-Basis ruimtestaat'!N:N) -> #DIV/0! | G22: =SUMIF('4-Basis ruimtestaat'!B:B,'2-Kosten per locatie'!A22,'4-Basis ruimtestaat'!O:O) -> #DIV/0! | H22: =IF(F22<(D22*$E$2),D22*$E$2-F22,0) -> #DIV/0! | I22: =IF(G22<(E22*$E$2),E22*$E$2-G22,0) -> #DIV/0! | J22: =F22*$E$5 -> #DIV/0! | K22: =G22*$E$5 -> #DIV/0!
A23: Paviljoen, Tivolilaan 30, Arnhem | B23: =SUMIF('4-Basis ruimtestaat'!B:B,'2-Kosten per locatie'!A23,'4-Basis ruimtestaat'!I:I)-SUMIFS('4-Basis ruimtestaat'!I:I,'4-Basis ruimtestaat'!B:B,'2-Kosten per locatie'!A23,'4-Basis ruimtestaat'!L:L,"nio") -> 1012 | D23: =_xlfn.MAXIFS('4-Basis ruimtestaat'!L:L,'4-Basis ruimtestaat'!B:B,'2-Kosten per locatie'!A23) -> 200 | E23: =_xlfn.MAXIFS('4-Basis ruimtestaat'!M:M,'4-Basis ruimtestaat'!B:B,'2-Kosten per locatie'!A23) -> 200 | F23: =SUMIF('4-Basis ruimtestaat'!B:B,'2-Kosten per locatie'!A23,'4-Basis ruimtestaat'!N:N) -> #DIV/0! | G23: =SUMIF('4-Basis ruimtestaat'!B:B,'2-Kosten per locatie'!A23,'4-Basis ruimtestaat'!O:O) -> #DIV/0! | H23: =IF(F23<(D23*$E$2),D23*$E$2-F23,0) -> #DIV/0! | I23: =IF(G23<(E23*$E$2),E23*$E$2-G23,0) -> #DIV/0! | J23: =F23*$E$5 -> #DIV/0! | K23: =G23*$E$5 -> #DIV/0!
A24: Stationsplein 8, Zevenaar | B24: =SUMIF('4-Basis ruimtestaat'!B:B,'2-Kosten per locatie'!A24,'4-Basis ruimtestaat'!I:I)-SUMIFS('4-Basis ruimtestaat'!I:I,'4-Basis ruimtestaat'!B:B,'2-Kosten per locatie'!A24,'4-Basis ruimtestaat'!L:L,"nio") -> 572.7 | D24: =_xlfn.MAXIFS('4-Basis ruimtestaat'!L:L,'4-Basis ruimtestaat'!B:B,'2-Kosten per locatie'!A24) -> 200 | E24: =_xlfn.MAXIFS('4-Basis ruimtestaat'!M:M,'4-Basis ruimtestaat'!B:B,'2-Kosten per locatie'!A24) -> 0 | F24: =SUMIF('4-Basis ruimtestaat'!B:B,'2-Kosten per locatie'!A24,'4-Basis ruimtestaat'!N:N) -> #DIV/0! | G24: =SUMIF('4-Basis ruimtestaat'!B:B,'2-Kosten per locatie'!A24,'4-Basis ruimtestaat'!O:O) -> 0 | H24: =IF(F24<(D24*$E$2),D24*$E$2-F24,0) -> #DIV/0! | I24: =IF(G24<(E24*$E$2),E24*$E$2-G24,0) -> 0 | J24: =F24*$E$5 -> #DIV/0! | K24: =G24*$E$5 -> 0
A25: Tech Plaza, Tivolilaan 40, Arnhem | B25: =SUMIF('4-Basis ruimtestaat'!B:B,'2-Kosten per locatie'!A25,'4-Basis ruimtestaat'!I:I)-SUMIFS('4-Basis ruimtestaat'!I:I,'4-Basis ruimtestaat'!B:B,'2-Kosten per locatie'!A25,'4-Basis ruimtestaat'!L:L,"nio") -> 8373.13 | D25: =_xlfn.MAXIFS('4-Basis ruimtestaat'!L:L,'4-Basis ruimtestaat'!B:B,'2-Kosten per locatie'!A25) -> 200 | E25: =_xlfn.MAXIFS('4-Basis ruimtestaat'!M:M,'4-Basis ruimtestaat'!B:B,'2-Kosten per locatie'!A25) -> 0 | F25: =SUMIF('4-Basis ruimtestaat'!B:B,'2-Kosten per locatie'!A25,'4-Basis ruimtestaat'!N:N) -> #DIV/0! | G25: =SUMIF('4-Basis ruimtestaat'!B:B,'2-Kosten per locatie'!A25,'4-Basis ruimtestaat'!O:O) -> 0 | H25: =IF(F25<(D25*$E$2),D25*$E$2-F25,0) -> #DIV/0! | I25: =IF(G25<(E25*$E$2),E25*$E$2-G25,0) -> 0 | J25: =F25*$E$5 -> #DIV/0! | K25: =G25*$E$5 -> 0
A26: Toren, Tivolilaan 10, Arnhem | B26: =SUMIF('4-Basis ruimtestaat'!B:B,'2-Kosten per locatie'!A26,'4-Basis ruimtestaat'!I:I)-SUMIFS('4-Basis ruimtestaat'!I:I,'4-Basis ruimtestaat'!B:B,'2-Kosten per locatie'!A26,'4-Basis ruimtestaat'!L:L,"nio") -> 4870.44 | D26: =_xlfn.MAXIFS('4-Basis ruimtestaat'!L:L,'4-Basis ruimtestaat'!B:B,'2-Kosten per locatie'!A26) -> 200 | E26: =_xlfn.MAXIFS('4-Basis ruimtestaat'!M:M,'4-Basis ruimtestaat'!B:B,'2-Kosten per locatie'!A26) -> 200 | F26: =SUMIF('4-Basis ruimtestaat'!B:B,'2-Kosten per locatie'!A26,'4-Basis ruimtestaat'!N:N) -> #DIV/0! | G26: =SUMIF('4-Basis ruimtestaat'!B:B,'2-Kosten per locatie'!A26,'4-Basis ruimtestaat'!O:O) -> #DIV/0! | H26: =IF(F26<(D26*$E$2),D26*$E$2-F26,0) -> #DIV/0! | I26: =IF(G26<(E26*$E$2),E26*$E$2-G26,0) -> #DIV/0! | J26: =F26*$E$5 -> #DIV/0! | K26: =G26*$E$5 -> #DIV/0!
... A30: Kazerneplein 6, Arnhem | B30: =SUMIF('4-Basis ruimtestaat'!B:B,'2-Kosten per locatie'!A30,'4-Basis ruimtestaat'!I:I)-SUMIFS('4-Basis ruimtestaat'!I:I,'4-Basis ruimtestaat'!B:B,'2-Kosten per locatie'!A30,'4-Basis ruimtestaat'!L:L,"nio") -> 1789.3 | D30: =_xlfn.MAXIFS('4-Basis ruimtestaat'!L:L,'4-Basis ruimtestaat'!B:B,'2-Kosten per locatie'!A30) -> 200 | E30: =_xlfn.MAXIFS('4-Basis ruimtestaat'!M:M,'4-Basis ruimtestaat'!B:B,'2-Kosten per locatie'!A30) -> 0 | F30: =SUMIF('4-Basis ruimtestaat'!B:B,'2-Kosten per locatie'!A30,'4-Basis ruimtestaat'!N:N) -> #DIV/0! | G30: =SUMIF('4-Basis ruimtestaat'!B:B,'2-Kosten per locatie'!A30,'4-Basis ruimtestaat'!O:O) -> 0 | H30: =IF(F30<(D30*$E$2),D30*$E$2-F30,0) -> #DIV/0! | I30: =IF(G30<(E30*$E$2),E30*$E$2-G30,0) -> 0 | J30: =F30*$E$5 -> #DIV/0! | K30: =G30*$E$5 -> 0
A31: Algemeen | B31: =SUMIF('4-Basis ruimtestaat'!B:B,'2-Kosten per locatie'!A31,'4-Basis ruimtestaat'!K:K) -> 0 | C31: =SUMIF('4-Basis ruimtestaat'!C:C,'2-Kosten per locatie'!B31,'4-Basis ruimtestaat'!L:L) -> 0 | H31: =IF(F31<(D31*$E$2),D31*$E$2-F31,0) -> 0 | I31: =IF(G31<(E31*$E$2),E31*$E$2-G31,0) -> 0 | J31: =F31*$E$5 -> 0 | K31: =G31*$E$5 -> 0
A32: Totaal | B32: =SUM(B15:B31) -> 70151.926 | F32: =SUM(F15:F31) -> #DIV/0! | G32: =SUM(G15:G31) -> #DIV/0! | H32: =SUM(H15:H31) -> #DIV/0! | I32: =SUM(I15:I31) -> #DIV/0! | J32: =SUM(J15:J31) -> #DIV/0! | K32: =SUM(K15:K31) -> #DIV/0!
A34: Locatie | B34: Kosten productie per jaar ma t/m vr incl. minimale taakgrootte | C34: Kosten productie per jaar ma t/m vr naloop incl. minimale taakgrootte | D34: Totale kosten productie per jaar | E34: Kosten toezicht per jaar ma t/m vr | F34: Kosten toezicht per jaar ma t/m vr naloop | G34: Totale kosten toezicht per jaar | H34: Kosten Additioneel per jaar | I34: Kosten glasbewassing per jaar | J34: Kosten sanitaire voorzieningen per jaar | K34: Totaal kosten per jaar excl. btw | L34: Totaal kosten per maand excl. btw
A35: =A15 -> Alexanderstraat 35, Arnhem | B35: =(F15+H15)*'6-Opbouw uurtarief productie'!$E$47 -> #DIV/0! | C35: =(G15+I15)*'6-Opbouw uurtarief productie'!$E$47 -> #DIV/0! | D35: =SUM(B35:C35) -> #DIV/0! | E35: =(J15+P15)*'7-Opbouw uurtarief toezicht'!$E$46 -> #DIV/0! | F35: =K15*'7-Opbouw uurtarief toezicht'!$E$46 -> #DIV/0! | G35: =SUM(E35:F35) -> #DIV/0! | H35: =SUMIF('8-Additionele kosten'!A:A,'2-Kosten per locatie'!A35,'8-Additionele kosten'!G:G) -> 0 | I35: =SUMIF('10-Glasbewassing'!A:A,'2-Kosten per locatie'!A35,'10-Glasbewassing'!H:H) -> 0 | K35: =D35+G35+H35+I35+J35 -> #DIV/0! | L35: =K35/12 -> #DIV/0!
A36: =A16 -> Apeldoornseweg 210, Arnhem | B36: =(F16+H16)*'6-Opbouw uurtarief productie'!$E$47 -> #DIV/0! | C36: =(G16+I16)*'6-Opbouw uurtarief productie'!$E$47 -> #DIV/0! | D36: =SUM(B36:C36) -> #DIV/0! | E36: =(J16+P16)*'7-Opbouw uurtarief toezicht'!$E$46 -> #DIV/0! | F36: =K16*'7-Opbouw uurtarief toezicht'!$E$46 -> #DIV/0! | G36: =SUM(E36:F36) -> #DIV/0! | H36: =SUMIF('8-Additionele kosten'!A:A,'2-Kosten per locatie'!A36,'8-Additionele kosten'!G:G) -> 0 | I36: =SUMIF('10-Glasbewassing'!A:A,'2-Kosten per locatie'!A36,'10-Glasbewassing'!H:H) -> 0 | K36: =D36+G36+H36+I36+J36 -> #DIV/0! | L36: =K36/12 -> #DIV/0!
A37: =A17 -> Beukenlaan 3, Arnhem | B37: =(F17+H17)*'6-Opbouw uurtarief productie'!$E$47 -> #DIV/0! | C37: =(G17+I17)*'6-Opbouw uurtarief productie'!$E$47 -> #DIV/0! | D37: =SUM(B37:C37) -> #DIV/0! | E37: =(J17+P17)*'7-Opbouw uurtarief toezicht'!$E$46 -> #DIV/0! | F37: =K17*'7-Opbouw uurtarief toezicht'!$E$46 -> #DIV/0! | G37: =SUM(E37:F37) -> #DIV/0! | H37: =SUMIF('8-Additionele kosten'!A:A,'2-Kosten per locatie'!A37,'8-Additionele kosten'!G:G) -> 0 | I37: =SUMIF('10-Glasbewassing'!A:A,'2-Kosten per locatie'!A37,'10-Glasbewassing'!H:H) -> 0 | K37: =D37+G37+H37+I37+J37 -> #DIV/0! | L37: =K37/12 -> #DIV/0!
A38: =A18 -> Industrieweg 26, Renkum | B38: =(F18+H18)*'6-Opbouw uurtarief productie'!$E$47 -> #DIV/0! | C38: =(G18+I18)*'6-Opbouw uurtarief productie'!$E$47 -> #DIV/0! | D38: =SUM(B38:C38) -> #DIV/0! | E38: =(J18+P18)*'7-Opbouw uurtarief toezicht'!$E$46 -> #DIV/0! | F38: =K18*'7-Opbouw uurtarief toezicht'!$E$46 -> #DIV/0! | G38: =SUM(E38:F38) -> #DIV/0! | H38: =SUMIF('8-Additionele kosten'!A:A,'2-Kosten per locatie'!A38,'8-Additionele kosten'!G:G) -> 0 | I38: =SUMIF('10-Glasbewassing'!A:A,'2-Kosten per locatie'!A38,'10-Glasbewassing'!H:H) -> 0 | K38: =D38+G38+H38+I38+J38 -> #DIV/0! | L38: =K38/12 -> #DIV/0!
A39: =A19 -> Kronenburgsingel 16, Arnhem | B39: =(F19+H19)*'6-Opbouw uurtarief productie'!$E$47 -> #DIV/0! | C39: =(G19+I19)*'6-Opbouw uurtarief productie'!$E$47 -> #DIV/0! | D39: =SUM(B39:C39) -> #DIV/0! | E39: =(J19+P19)*'7-Opbouw uurtarief toezicht'!$E$46 -> #DIV/0! | F39: =K19*'7-Opbouw uurtarief toezicht'!$E$46 -> #DIV/0! | G39: =SUM(E39:F39) -> #DIV/0! | H39: =SUMIF('8-Additionele kosten'!A:A,'2-Kosten per locatie'!A39,'8-Additionele kosten'!G:G) -> 0 | I39: =SUMIF('10-Glasbewassing'!A:A,'2-Kosten per locatie'!A39,'10-Glasbewassing'!H:H) -> 0 | K39: =D39+G39+H39+I39+J39 -> #DIV/0! | L39: =K39/12 -> #DIV/0!
A40: =A20 -> Loods, Tivolilaan 70, Arnhem | B40: =(F20+H20)*'6-Opbouw uurtarief productie'!$E$47 -> #DIV/0! | C40: =(G20+I20)*'6-Opbouw uurtarief productie'!$E$47 -> #DIV/0! | D40: =SUM(B40:C40) -> #DIV/0! | E40: =(J20+P20)*'7-Opbouw uurtarief toezicht'!$E$46 -> #DIV/0! | F40: =K20*'7-Opbouw uurtarief toezicht'!$E$46 -> #DIV/0! | G40: =SUM(E40:F40) -> #DIV/0! | H40: =SUMIF('8-Additionele kosten'!A:A,'2-Kosten per locatie'!A40,'8-Additionele kosten'!G:G) -> 0 | I40: =SUMIF('10-Glasbewassing'!A:A,'2-Kosten per locatie'!A40,'10-Glasbewassing'!H:H) -> 0 | K40: =D40+G40+H40+I40+J40 -> #DIV/0! | L40: =K40/12 -> #DIV/0!
A41: =A21 -> Marijkeweg 5, Wageningen | B41: =(F21+H21)*'6-Opbouw uurtarief productie'!$E$47 -> #DIV/0! | C41: =(G21+I21)*'6-Opbouw uurtarief productie'!$E$47 -> #DIV/0! | D41: =SUM(B41:C41) -> #DIV/0! | E41: =(J21+P21)*'7-Opbouw uurtarief toezicht'!$E$46 -> #DIV/0! | F41: =K21*'7-Opbouw uurtarief toezicht'!$E$46 -> #DIV/0! | G41: =SUM(E41:F41) -> #DIV/0! | H41: =SUMIF('8-Additionele kosten'!A:A,'2-Kosten per locatie'!A41,'8-Additionele kosten'!G:G) -> 0 | I41: =SUMIF('10-Glasbewassing'!A:A,'2-Kosten per locatie'!A41,'10-Glasbewassing'!H:H) -> 0 | K41: =D41+G41+H41+I41+J41 -> #DIV/0! | L41: =K41/12 -> #DIV/0!
A42: =A22 -> Middachtensingel 2, Arnhem | B42: =(F22+H22)*'6-Opbouw uurtarief productie'!$E$47 -> #DIV/0! | C42: =(G22+I22)*'6-Opbouw uurtarief productie'!$E$47 -> #DIV/0! | D42: =SUM(B42:C42) -> #DIV/0! | E42: =(J22+P22)*'7-Opbouw uurtarief toezicht'!$E$46 -> #DIV/0! | F42: =K22*'7-Opbouw uurtarief toezicht'!$E$46 -> #DIV/0! | G42: =SUM(E42:F42) -> #DIV/0! | H42: =SUMIF('8-Additionele kosten'!A:A,'2-Kosten per locatie'!A42,'8-Additionele kosten'!G:G) -> 0 | I42: =SUMIF('10-Glasbewassing'!A:A,'2-Kosten per locatie'!A42,'10-Glasbewassing'!H:H) -> 0 | K42: =D42+G42+H42+I42+J42 -> #DIV/0! | L42: =K42/12 -> #DIV/0!
A43: =A23 -> Paviljoen, Tivolilaan 30, Arnhem | B43: =(F23+H23)*'6-Opbouw uurtarief productie'!$E$47 -> #DIV/0! | C43: =(G23+I23)*'6-Opbouw uurtarief productie'!$E$47 -> #DIV/0! | D43: =SUM(B43:C43) -> #DIV/0! | E43: =(J23+P23)*'7-Opbouw uurtarief toezicht'!$E$46 -> #DIV/0! | F43: =K23*'7-Opbouw uurtarief toezicht'!$E$46 -> #DIV/0! | G43: =SUM(E43:F43) -> #DIV/0! | H43: =SUMIF('8-Additionele kosten'!A:A,'2-Kosten per locatie'!A43,'8-Additionele kosten'!G:G) -> 0 | I43: =SUMIF('10-Glasbewassing'!A:A,'2-Kosten per locatie'!A43,'10-Glasbewassing'!H:H) -> 0 | K43: =D43+G43+H43+I43+J43 -> #DIV/0! | L43: =K43/12 -> #DIV/0!
A44: =A24 -> Stationsplein 8, Zevenaar | B44: =(F24+H24)*'6-Opbouw uurtarief productie'!$E$47 -> #DIV/0! | C44: =(G24+I24)*'6-Opbouw uurtarief productie'!$E$47 -> #DIV/0! | D44: =SUM(B44:C44) -> #DIV/0! | E44: =(J24+P24)*'7-Opbouw uurtarief toezicht'!$E$46 -> #DIV/0! | F44: =K24*'7-Opbouw uurtarief toezicht'!$E$46 -> #DIV/0! | G44: =SUM(E44:F44) -> #DIV/0! | H44: =SUMIF('8-Additionele kosten'!A:A,'2-Kosten per locatie'!A44,'8-Additionele kosten'!G:G) -> 0 | I44: =SUMIF('10-Glasbewassing'!A:A,'2-Kosten per locatie'!A44,'10-Glasbewassing'!H:H) -> 0 | K44: =D44+G44+H44+I44+J44 -> #DIV/0! | L44: =K44/12 -> #DIV/0!
A45: =A25 -> Tech Plaza, Tivolilaan 40, Arnhem | B45: =(F25+H25)*'6-Opbouw uurtarief productie'!$E$47 -> #DIV/0! | C45: =(G25+I25)*'6-Opbouw uurtarief productie'!$E$47 -> #DIV/0! | D45: =SUM(B45:C45) -> #DIV/0! | E45: =(J25+P25)*'7-Opbouw uurtarief toezicht'!$E$46 -> #DIV/0! | F45: =K25*'7-Opbouw uurtarief toezicht'!$E$46 -> #DIV/0! | G45: =SUM(E45:F45) -> #DIV/0! | H45: =SUMIF('8-Additionele kosten'!A:A,'2-Kosten per locatie'!A45,'8-Additionele kosten'!G:G) -> 0 | I45: =SUMIF('10-Glasbewassing'!A:A,'2-Kosten per locatie'!A45,'10-Glasbewassing'!H:H) -> 0 | K45: =D45+G45+H45+I45+J45 -> #DIV/0! | L45: =K45/12 -> #DIV/0!
A46: =A26 -> Toren, Tivolilaan 10, Arnhem | B46: =(F26+H26)*'6-Opbouw uurtarief productie'!$E$47 -> #DIV/0! | C46: =(G26+I26)*'6-Opbouw uurtarief productie'!$E$47 -> #DIV/0! | D46: =SUM(B46:C46) -> #DIV/0! | E46: =(J26+P26)*'7-Opbouw uurtarief toezicht'!$E$46 -> #DIV/0! | F46: =K26*'7-Opbouw uurtarief toezicht'!$E$46 -> #DIV/0! | G46: =SUM(E46:F46) -> #DIV/0! | H46: =SUMIF('8-Additionele kosten'!A:A,'2-Kosten per locatie'!A46,'8-Additionele kosten'!G:G) -> 0 | I46: =SUMIF('10-Glasbewassing'!A:A,'2-Kosten per locatie'!A46,'10-Glasbewassing'!H:H) -> 0 | K46: =D46+G46+H46+I46+J46 -> #DIV/0! | L46: =K46/12 -> #DIV/0!
... A50: =A30 -> Kazerneplein 6, Arnhem | B50: =(F30+H30)*'6-Opbouw uurtarief productie'!$E$47 -> #DIV/0! | C50: =(G30+I30)*'6-Opbouw uurtarief productie'!$E$47 -> #DIV/0! | D50: =SUM(B50:C50) -> #DIV/0! | E50: =(J30+P30)*'7-Opbouw uurtarief toezicht'!$E$46 -> #DIV/0! | F50: =K30*'7-Opbouw uurtarief toezicht'!$E$46 -> #DIV/0! | G50: =SUM(E50:F50) -> #DIV/0! | H50: =SUMIF('8-Additionele kosten'!A:A,'2-Kosten per locatie'!A50,'8-Additionele kosten'!G:G) -> 0 | I50: =SUMIF('10-Glasbewassing'!A:A,'2-Kosten per locatie'!A50,'10-Glasbewassing'!H:H) -> 0 | K50: =D50+G50+H50+I50+J50 -> #DIV/0! | L50: =K50/12 -> #DIV/0!
A51: Bovenbeekstraat, Arnhem | H51: =SUMIF('8-Additionele kosten'!A:A,'2-Kosten per locatie'!A51,'8-Additionele kosten'!G:G) -> 0 | K51: =D51+G51+H51+I51+J51 -> 0 | L51: =K51/12 -> 0
A52: Nijverheidstraat 1, Huissen | H52: =SUMIF('8-Additionele kosten'!A:A,'2-Kosten per locatie'!A52,'8-Additionele kosten'!G:G) -> 0 | K52: =D52+G52+H52+I52+J52 -> 0 | L52: =K52/12 -> 0
A53: =A31 -> Algemeen | H53: =SUMIF('8-Additionele kosten'!A:A,'2-Kosten per locatie'!A53,'8-Additionele kosten'!G:G) -> 0 | J53: =SUMIF('11-Sanitaire voorzieningen'!A:A,'2-Kosten per locatie'!A53,'11-Sanitaire voorzieningen'!F:F) -> 0 | K53: =D53+G53+H53+I53+J53 -> 0 | L53: =K53/12 -> 0
A54: Totaal | B54: =SUM(B35:B53) -> #DIV/0! | C54: =SUM(C35:C53) -> #DIV/0! | D54: =SUM(D35:D53) -> #DIV/0! | E54: =SUM(E35:E53) -> #DIV/0! | F54: =SUM(F35:F53) -> #DIV/0! | G54: =SUM(G35:G53) -> #DIV/0! | H54: =SUM(H35:H53) -> 0 | I54: =SUM(I35:I53) -> 0 | ... L54: =SUM(L35:L53) -> #DIV/0!

Sheet 3-Productie normen
A1: Invoervelden
A3: ='2-Kosten per locatie'!A3 -> Naam opdrachtgever | B3: ='2-Kosten per locatie'!B3 -> Rijn IJssel
A4: ='2-Kosten per locatie'!A4 -> Calculatie onderdeel | B4: =MID(CELL("bestandsnaam",$B$7),SEARCH("]",CELL("bestandsnaam",$B$7),1)+1,256) -> 3-Productie normen
A5: ='2-Kosten per locatie'!A5 -> Gebouw/plaats | B5: ='2-Kosten per locatie'!B5 -> Divers
A6: ='2-Kosten per locatie'!A6 -> Referentie nummer | B6: ='2-Kosten per locatie'!B6 -> RIJSDVGB2026 | E6: Gewogen prestatie | H6: =SUM('4-Basis ruimtestaat'!U:U)/SUM('4-Basis ruimtestaat'!N:O) -> #DIV/0! | J6: m2/uur
A8: Frequentie van uitvoering (per jaar): | B8: 4 | C8: 12 | D8: 20 | E8: 40 | F8: 41 | G8: 80 | H8: 120 | I8: 123 | J8: 200 | K8: 205
A9: Ruimtecategorie | B9: Prestatienorm in aantal m2 per uur | M9: M2 Totaal | N9: Naloop opslag ma-vr | P9: VSR Code
A10: Administratieve ruimten | M10: =SUMIF('4-Basis ruimtestaat'!F:F,'3-Productie normen'!A10,'4-Basis ruimtestaat'!I:I) -> 6566.7212 | P10: B
A11: Aula | M11: =SUMIF('4-Basis ruimtestaat'!F:F,'3-Productie normen'!A11,'4-Basis ruimtestaat'!I:I) -> 2569.3426 | P11: V
A12: Bibliotheek | M12: =SUMIF('4-Basis ruimtestaat'!F:F,'3-Productie normen'!A12,'4-Basis ruimtestaat'!I:I) -> 1206.18 | P12: V
A13: Buitenruimte | M13: =SUMIF('4-Basis ruimtestaat'!F:F,'3-Productie normen'!A13,'4-Basis ruimtestaat'!I:I) -> 91.1 | P13: V
A14: Doucheruimten | M14: =SUMIF('4-Basis ruimtestaat'!F:F,'3-Productie normen'!A14,'4-Basis ruimtestaat'!I:I) -> 171.8485 | P14: S
A15: Entree | M15: =SUMIF('4-Basis ruimtestaat'!F:F,'3-Productie normen'!A15,'4-Basis ruimtestaat'!I:I) -> 358.29935 | P15: V
A16: Fitness | M16: =SUMIF('4-Basis ruimtestaat'!F:F,'3-Productie normen'!A16,'4-Basis ruimtestaat'!I:I) -> 422.4 | P16: V
A17: Gang, hal | M17: =SUMIF('4-Basis ruimtestaat'!F:F,'3-Productie normen'!A17,'4-Basis ruimtestaat'!I:I) -> 13735.632 | P17: V
A18: Keuken, pantry | M18: =SUMIF('4-Basis ruimtestaat'!F:F,'3-Productie normen'!A18,'4-Basis ruimtestaat'!I:I) -> 2104.952 | P18: V
A19: Kleed- wasruimte | M19: =SUMIF('4-Basis ruimtestaat'!F:F,'3-Productie normen'!A19,'4-Basis ruimtestaat'!I:I) -> 784.892 | P19: S
A20: Leslokaal | M20: =SUMIF('4-Basis ruimtestaat'!F:F,'3-Productie normen'!A20,'4-Basis ruimtestaat'!I:I) -> 17071.21 | P20: L
A21: Lift | M21: =SUMIF('4-Basis ruimtestaat'!F:F,'3-Productie normen'!A21,'4-Basis ruimtestaat'!I:I) -> 55.4374 | P21: V
... A29: Vergaderruimten | M29: =SUMIF('4-Basis ruimtestaat'!F:F,'3-Productie normen'!A29,'4-Basis ruimtestaat'!I:I) -> 2555.9818 | P29: B
M30: =SUMIF('4-Basis ruimtestaat'!F:F,'3-Productie normen'!A30,'4-Basis ruimtestaat'!I:I) -> 0
A32: Niet in onderhoud | M32: =SUMIF('4-Basis ruimtestaat'!F:F,'3-Productie normen'!A32,'4-Basis ruimtestaat'!I:I) -> 7903.4715 | P32: nvt
A33: Totaal | M33: =SUM(M10:M32) -> 78216.397
A35: Kolom voor matrix | B35: 2 | C35: 3 | D35: 4 | E35: 5 | F35: 6 | G35: 7 | H35: 8 | I35: 9 | J35: 10 | K35: 11
A37: Frequentie verklaring | B37: Freq | C37: Kolom
A38: 4 x per jaar | B38: 4 | C38: 2
A39: 1 x per maand | B39: 12 | C39: 3
A40: 1 x per 2 weken (40 weken) | B40: 20 | C40: 4
A41: 1 x per week (40 weken) | B41: 40 | C41: 5
A42: 1 x per week (41 weken) | B42: 41 | C42: 6
A43: 2 x per week (40 weken) | B43: 80 | C43: 7
A44: 3 x per week (40 weken) | B44: 120 | C44: 8
A45: 3 x per week (41 weken) | B45: 123 | C45: 9
A46: 5 x per week (40 weken) | B46: 200 | C46: 10
A47: 5 x per week (41 weken) | B47: 205 | C47: 11

Sheet 4-Basis ruimtestaat
B1: Invoervelden
A2: 2
A3: 3 | B3: ='2-Kosten per locatie'!A3 -> Naam opdrachtgever | C3: ='2-Kosten per locatie'!B3 -> Rijn IJssel
A4: 4 | B4: ='2-Kosten per locatie'!A4 -> Calculatie onderdeel | C4: =MID(CELL("bestandsnaam",$C$9),SEARCH("]",CELL("bestandsnaam",$C$9),1)+1,256) -> 4-Basis ruimtestaat
A5: 5 | B5: ='2-Kosten per locatie'!A5 -> Gebouw/plaats | C5: ='2-Kosten per locatie'!B5 -> Divers | Q5: % van reguliere norm
A6: 6 | B6: ='2-Kosten per locatie'!A6 -> Referentie nummer | C6: ='2-Kosten per locatie'!B6 -> RIJSDVGB2026
A7: 7 | B7: ='2-Kosten per locatie'!A7 -> Naam dienstverlener | C7: ='2-Kosten per locatie'!B7 -> 0
A8: 8 | Q8: ='3-Productie normen'!N8 -> 0
A9: 9 | B9: Gebouw | C9: Verdieping | D9: Ruimte nummer | E9: Ruimteomschrijving opdrachtgever | F9: Ruimte categorie | G9: Vloer soort | H9: Vloercategorie | I9: M2 vloer | J9: Correctie- factor | K9: Totaal frequentie | L9: Freq. ma-vr | M9: Freq. ma-vr naloop | N9: Uren p/j ma t/m vrij | O9: Uren p/j ma t/m vrij naloop | P9: Norm ma t/m vr | Q9: Naloop opslag ma-vr | R9: VSR code | S9: Bijzonderheden / opmerkingen | U9: M2 per jaar
A10: 10 | B10: Alexanderstraat 35, Arnhem | C10: BG | D10: 0.01 | E10: theorielokaal | F10: Leslokaal | G10: Linoleum | H10: Linoleum | I10: 54 | K10: =SUM(L10:M10) -> 205 | L10: 205 | N10: =IF(L10="nio",0,IF(L10>0,L10*I10/P10,0))*J10*VLOOKUP(B10,'2-Kosten per locatie'!$A$14:$C$31,3,FALSE) -> #DIV/0! | O10: =IF(M10>0,M10*I10/Q10,0)*VLOOKUP(B10,'2-Kosten per locatie'!$A$14:$C$31,3,FALSE) -> 0 | P10: =IF(L10="nio",0,IF(L10>0,VLOOKUP(F10,'3-Productie normen'!A:O,VLOOKUP(L10,'3-Productie normen'!$B$38:$C$48,2,FALSE),FALSE)))*J10 -> 0 | Q10: =IF(M10>0,P10*$Q$8,0) -> 0 | R10: =VLOOKUP(F10,'3-Productie normen'!A:P,16,FALSE) -> L | U10: =K10*I10 -> 11070
A11: 11 | B11: Alexanderstraat 35, Arnhem | C11: BG | D11: 0.02 | E11: theorielokaal | F11: Leslokaal | G11: Linoleum | H11: Linoleum | I11: 57 | K11: =SUM(L11:M11) -> 205 | L11: 205 | N11: =IF(L11="nio",0,IF(L11>0,L11*I11/P11,0))*VLOOKUP(B11,'2-Kosten per locatie'!$A$14:$C$31,3,FALSE) -> #DIV/0! | O11: =IF(M11>0,M11*I11/Q11,0)*VLOOKUP(B11,'2-Kosten per locatie'!$A$14:$C$31,3,FALSE) -> 0 | P11: =IF(L11="nio",0,IF(L11>0,VLOOKUP(F11,'3-Productie normen'!A:O,VLOOKUP(L11,'3-Productie normen'!$B$38:$C$48,2,FALSE),FALSE)))*J11 -> 0 | Q11: =IF(M11>0,P11*$Q$8,0) -> 0 | R11: =VLOOKUP(F11,'3-Productie normen'!A:P,16,FALSE) -> L | U11: =K11*I11 -> 11685
A12: 12 | B12: Alexanderstraat 35, Arnhem | C12: BG | D12: 0.03 | E12: overlegruimte | F12: Vergaderruimten | G12: Linoleum | H12: Linoleum | I12: 20 | K12: =SUM(L12:M12) -> 205 | L12: 205 | N12: =IF(L12="nio",0,IF(L12>0,L12*I12/P12,0))*VLOOKUP(B12,'2-Kosten per locatie'!$A$14:$C$31,3,FALSE) -> #DIV/0! | O12: =IF(M12>0,M12*I12/Q12,0)*VLOOKUP(B12,'2-Kosten per locatie'!$A$14:$C$31,3,FALSE) -> 0 | P12: =IF(L12="nio",0,IF(L12>0,VLOOKUP(F12,'3-Productie normen'!A:O,VLOOKUP(L12,'3-Productie normen'!$B$38:$C$48,2,FALSE),FALSE)))*J12 -> 0 | Q12: =IF(M12>0,P12*$Q$8,0) -> 0 | R12: =VLOOKUP(F12,'3-Productie normen'!A:P,16,FALSE) -> B | U12: =K12*I12 -> 4100
A13: 13 | B13: Alexanderstraat 35, Arnhem | C13: BG | D13: 0.04 | E13: theorielokaal | F13: Leslokaal | G13: Linoleum | H13: Linoleum | I13: 56 | K13: =SUM(L13:M13) -> 205 | L13: 205 | N13: =IF(L13="nio",0,IF(L13>0,L13*I13/P13,0))*VLOOKUP(B13,'2-Kosten per locatie'!$A$14:$C$31,3,FALSE) -> #DIV/0! | O13: =IF(M13>0,M13*I13/Q13,0)*VLOOKUP(B13,'2-Kosten per locatie'!$A$14:$C$31,3,FALSE) -> 0 | P13: =IF(L13="nio",0,IF(L13>0,VLOOKUP(F13,'3-Productie normen'!A:O,VLOOKUP(L13,'3-Productie normen'!$B$38:$C$48,2,FALSE),FALSE)))*J13 -> 0 | Q13: =IF(M13>0,P13*$Q$8,0) -> 0 | R13: =VLOOKUP(F13,'3-Productie normen'!A:P,16,FALSE) -> L | U13: =K13*I13 -> 11480
A14: 14 | B14: Alexanderstraat 35, Arnhem | C14: BG | D14: 0.05 | E14: theorielokaal | F14: Leslokaal | G14: Linoleum | H14: Linoleum | I14: 58 | K14: =SUM(L14:M14) -> 205 | L14: 205 | N14: =IF(L14="nio",0,IF(L14>0,L14*I14/P14,0))*VLOOKUP(B14,'2-Kosten per locatie'!$A$14:$C$31,3,FALSE) -> #DIV/0! | O14: =IF(M14>0,M14*I14/Q14,0)*VLOOKUP(B14,'2-Kosten per locatie'!$A$14:$C$31,3,FALSE) -> 0 | P14: =IF(L14="nio",0,IF(L14>0,VLOOKUP(F14,'3-Productie normen'!A:O,VLOOKUP(L14,'3-Productie normen'!$B$38:$C$48,2,FALSE),FALSE)))*J14 -> 0 | Q14: =IF(M14>0,P14*$Q$8,0) -> 0 | R14: =VLOOKUP(F14,'3-Productie normen'!A:P,16,FALSE) -> L | U14: =K14*I14 -> 11890
A15: 15 | B15: Alexanderstraat 35, Arnhem | C15: BG | D15: 0.06 | E15: theorielokaal | F15: Leslokaal | G15: Linoleum | H15: Linoleum | I15: 70 | K15: =SUM(L15:M15) -> 205 | L15: 205 | N15: =IF(L15="nio",0,IF(L15>0,L15*I15/P15,0))*VLOOKUP(B15,'2-Kosten per locatie'!$A$14:$C$31,3,FALSE) -> #DIV/0! | O15: =IF(M15>0,M15*I15/Q15,0)*VLOOKUP(B15,'2-Kosten per locatie'!$A$14:$C$31,3,FALSE) -> 0 | P15: =IF(L15="nio",0,IF(L15>0,VLOOKUP(F15,'3-Productie normen'!A:O,VLOOKUP(L15,'3-Productie normen'!$B$38:$C$48,2,FALSE),FALSE)))*J15 -> 0 | Q15: =IF(M15>0,P15*$Q$8,0) -> 0 | R15: =VLOOKUP(F15,'3-Productie normen'!A:P,16,FALSE) -> L | U15: =K15*I15 -> 14350
A16: 16 | B16: Alexanderstraat 35, Arnhem | C16: BG | D16: 0.06.2 | E16: opslag | F16: Niet in onderhoud | G16: Linoleum | H16: Linoleum | I16: 20 | K16: =SUM(L16:M16) -> 0 | L16: nio | N16: =IF(L16="nio",0,IF(L16>0,L16*I16/P16,0))*VLOOKUP(B16,'2-Kosten per locatie'!$A$14:$C$31,3,FALSE) -> 0 | O16: =IF(M16>0,M16*I16/Q16,0)*VLOOKUP(B16,'2-Kosten per locatie'!$A$14:$C$31,3,FALSE) -> 0 | P16: =IF(L16="nio",0,IF(L16>0,VLOOKUP(F16,'3-Productie normen'!A:O,VLOOKUP(L16,'3-Productie normen'!$B$38:$C$48,2,FALSE),FALSE)))*J16 -> 0 | Q16: =IF(M16>0,P16*$Q$8,0) -> 0 | R16: =VLOOKUP(F16,'3-Productie normen'!A:P,16,FALSE) -> nvt | U16: =K16*I16 -> 0
A17: 17 | B17: Alexanderstraat 35, Arnhem | C17: BG | D17: 0.07 | E17: theorielokaal | F17: Leslokaal | G17: Linoleum | H17: Linoleum | I17: 70 | K17: =SUM(L17:M17) -> 205 | L17: 205 | N17: =IF(L17="nio",0,IF(L17>0,L17*I17/P17,0))*VLOOKUP(B17,'2-Kosten per locatie'!$A$14:$C$31,3,FALSE) -> #DIV/0! | O17: =IF(M17>0,M17*I17/Q17,0)*VLOOKUP(B17,'2-Kosten per locatie'!$A$14:$C$31,3,FALSE) -> 0 | P17: =IF(L17="nio",0,IF(L17>0,VLOOKUP(F17,'3-Productie normen'!A:O,VLOOKUP(L17,'3-Productie normen'!$B$38:$C$48,2,FALSE),FALSE)))*J17 -> 0 | Q17: =IF(M17>0,P17*$Q$8,0) -> 0 | R17: =VLOOKUP(F17,'3-Productie normen'!A:P,16,FALSE) -> L | U17: =K17*I17 -> 14350
A18: 18 | B18: Alexanderstraat 35, Arnhem | C18: BG | D18: 0.08 | E18: facilitair | F18: Opslagruimten | G18: Linoleum | H18: Linoleum | I18: 30 | K18: =SUM(L18:M18) -> 41 | L18: 41 | N18: =IF(L18="nio",0,IF(L18>0,L18*I18/P18,0))*VLOOKUP(B18,'2-Kosten per locatie'!$A$14:$C$31,3,FALSE) -> #DIV/0! | O18: =IF(M18>0,M18*I18/Q18,0)*VLOOKUP(B18,'2-Kosten per locatie'!$A$14:$C$31,3,FALSE) -> 0 | P18: =IF(L18="nio",0,IF(L18>0,VLOOKUP(F18,'3-Productie normen'!A:O,VLOOKUP(L18,'3-Productie normen'!$B$38:$C$48,2,FALSE),FALSE)))*J18 -> 0 | Q18: =IF(M18>0,P18*$Q$8,0) -> 0 | R18: =VLOOKUP(F18,'3-Productie normen'!A:P,16,FALSE) -> V | U18: =K18*I18 -> 1230
A19: 19 | B19: Alexanderstraat 35, Arnhem | C19: BG | D19: 0.09 | E19: natuurkundelokaal | F19: Leslokaal | G19: Linoleum | H19: Linoleum | I19: 81 | K19: =SUM(L19:M19) -> 205 | L19: 205 | N19: =IF(L19="nio",0,IF(L19>0,L19*I19/P19,0))*VLOOKUP(B19,'2-Kosten per locatie'!$A$14:$C$31,3,FALSE) -> #DIV/0! | O19: =IF(M19>0,M19*I19/Q19,0)*VLOOKUP(B19,'2-Kosten per locatie'!$A$14:$C$31,3,FALSE) -> 0 | P19: =IF(L19="nio",0,IF(L19>0,VLOOKUP(F19,'3-Productie normen'!A:O,VLOOKUP(L19,'3-Productie normen'!$B$38:$C$48,2,FALSE),FALSE)))*J19 -> 0 | Q19: =IF(M19>0,P19*$Q$8,0) -> 0 | R19: =VLOOKUP(F19,'3-Productie normen'!A:P,16,FALSE) -> L | U19: =K19*I19 -> 16605
A20: 20 | B20: Alexanderstraat 35, Arnhem | C20: BG | D20: 0.09.1 | E20: kabinet | F20: Niet in onderhoud | G20: Linoleum | H20: Linoleum | I20: 28 | K20: =SUM(L20:M20) -> 0 | L20: nio | N20: =IF(L20="nio",0,IF(L20>0,L20*I20/P20,0))*VLOOKUP(B20,'2-Kosten per locatie'!$A$14:$C$31,3,FALSE) -> 0 | O20: =IF(M20>0,M20*I20/Q20,0)*VLOOKUP(B20,'2-Kosten per locatie'!$A$14:$C$31,3,FALSE) -> 0 | P20: =IF(L20="nio",0,IF(L20>0,VLOOKUP(F20,'3-Productie normen'!A:O,VLOOKUP(L20,'3-Productie normen'!$B$38:$C$48,2,FALSE),FALSE)))*J20 -> 0 | Q20: =IF(M20>0,P20*$Q$8,0) -> 0 | R20: =VLOOKUP(F20,'3-Productie normen'!A:P,16,FALSE) -> nvt | U20: =K20*I20 -> 0
A21: 21 | B21: Alexanderstraat 35, Arnhem | C21: BG | D21: 0.10 | E21: overlegruimte | F21: Vergaderruimten | G21: Linoleum | H21: Linoleum | I21: 8 | K21: =SUM(L21:M21) -> 205 | L21: 205 | N21: =IF(L21="nio",0,IF(L21>0,L21*I21/P21,0))*VLOOKUP(B21,'2-Kosten per locatie'!$A$14:$C$31,3,FALSE) -> #DIV/0! | O21: =IF(M21>0,M21*I21/Q21,0)*VLOOKUP(B21,'2-Kosten per locatie'!$A$14:$C$31,3,FALSE) -> 0 | P21: =IF(L21="nio",0,IF(L21>0,VLOOKUP(F21,'3-Productie normen'!A:O,VLOOKUP(L21,'3-Productie normen'!$B$38:$C$48,2,FALSE),FALSE)))*J21 -> 0 | Q21: =IF(M21>0,P21*$Q$8,0) -> 0 | R21: =VLOOKUP(F21,'3-Productie normen'!A:P,16,FALSE) -> B | U21: =K21*I21 -> 1640
A22: 22 | B22: Alexanderstraat 35, Arnhem | C22: BG | D22: 0.11 | E22: studienis | F22: Leslokaal | G22: Linoleum | H22: Linoleum | I22: 13 | K22: =SUM(L22:M22) -> 205 | L22: 205 | N22: =IF(L22="nio",0,IF(L22>0,L22*I22/P22,0))*VLOOKUP(B22,'2-Kosten per locatie'!$A$14:$C$31,3,FALSE) -> #DIV/0! | O22: =IF(M22>0,M22*I22/Q22,0)*VLOOKUP(B22,'2-Kosten per locatie'!$A$14:$C$31,3,FALSE) -> 0 | P22: =IF(L22="nio",0,IF(L22>0,VLOOKUP(F22,'3-Productie normen'!A:O,VLOOKUP(L22,'3-Productie normen'!$B$38:$C$48,2,FALSE),FALSE)))*J22 -> 0 | Q22: =IF(M22>0,P22*$Q$8,0) -> 0 | R22: =VLOOKUP(F22,'3-Productie normen'!A:P,16,FALSE) -> L | U22: =K22*I22 -> 2665
A23: 23 | B23: Alexanderstraat 35, Arnhem | C23: BG | D23: 0.12 | E23: overlegruimte | F23: Vergaderruimten | G23: Linoleum | H23: Linoleum | I23: 11 | K23: =SUM(L23:M23) -> 205 | L23: 205 | N23: =IF(L23="nio",0,IF(L23>0,L23*I23/P23,0))*VLOOKUP(B23,'2-Kosten per locatie'!$A$14:$C$31,3,FALSE) -> #DIV/0! | O23: =IF(M23>0,M23*I23/Q23,0)*VLOOKUP(B23,'2-Kosten per locatie'!$A$14:$C$31,3,FALSE) -> 0 | P23: =IF(L23="nio",0,IF(L23>0,VLOOKUP(F23,'3-Productie normen'!A:O,VLOOKUP(L23,'3-Productie normen'!$B$38:$C$48,2,FALSE),FALSE)))*J23 -> 0 | Q23: =IF(M23>0,P23*$Q$8,0) -> 0 | R23: =VLOOKUP(F23,'3-Productie normen'!A:P,16,FALSE) -> B | U23: =K23*I23 -> 2255
A24: 24 | B24: Alexanderstraat 35, Arnhem | C24: BG | D24: 0.13 | E24: tekenlokaal | F24: Leslokaal | G24: Linoleum | H24: Linoleum | I24: 84 | K24: =SUM(L24:M24) -> 205 | L24: 205 | N24: =IF(L24="nio",0,IF(L24>0,L24*I24/P24,0))*VLOOKUP(B24,'2-Kosten per locatie'!$A$14:$C$31,3,FALSE) -> #DIV/0! | O24: =IF(M24>0,M24*I24/Q24,0)*VLOOKUP(B24,'2-Kosten per locatie'!$A$14:$C$31,3,FALSE) -> 0 | P24: =IF(L24="nio",0,IF(L24>0,VLOOKUP(F24,'3-Productie normen'!A:O,VLOOKUP(L24,'3-Productie normen'!$B$38:$C$48,2,FALSE),FALSE)))*J24 -> 0 | Q24: =IF(M24>0,P24*$Q$8,0) -> 0 | R24: =VLOOKUP(F24,'3-Productie normen'!A:P,16,FALSE) -> L | U24: =K24*I24 -> 17220
A25: 25 | B25: Alexanderstraat 35, Arnhem | C25: BG | D25: 0.13.1 | E25: opslag | F25: Niet in onderhoud | G25: Linoleum | H25: Linoleum | I25: 15 | K25: =SUM(L25:M25) -> 0 | L25: nio | N25: =IF(L25="nio",0,IF(L25>0,L25*I25/P25,0))*VLOOKUP(B25,'2-Kosten per locatie'!$A$14:$C$31,3,FALSE) -> 0 | O25: =IF(M25>0,M25*I25/Q25,0)*VLOOKUP(B25,'2-Kosten per locatie'!$A$14:$C$31,3,FALSE) -> 0 | P25: =IF(L25="nio",0,IF(L25>0,VLOOKUP(F25,'3-Productie normen'!A:O,VLOOKUP(L25,'3-Productie normen'!$B$38:$C$48,2,FALSE),FALSE)))*J25 -> 0 | Q25: =IF(M25>0,P25*$Q$8,0) -> 0 | R25: =VLOOKUP(F25,'3-Productie normen'!A:P,16,FALSE) -> nvt | U25: =K25*I25 -> 0
A26: 26 | B26: Alexanderstraat 35, Arnhem | C26: BG | D26: 0.13.2 | E26: ICT ruimte | F26: Niet in onderhoud | G26: Linoleum | H26: Linoleum | I26: 13 | K26: =SUM(L26:M26) -> 0 | L26: nio | N26: =IF(L26="nio",0,IF(L26>0,L26*I26/P26,0))*VLOOKUP(B26,'2-Kosten per locatie'!$A$14:$C$31,3,FALSE) -> 0 | O26: =IF(M26>0,M26*I26/Q26,0)*VLOOKUP(B26,'2-Kosten per locatie'!$A$14:$C$31,3,FALSE) -> 0 | P26: =IF(L26="nio",0,IF(L26>0,VLOOKUP(F26,'3-Productie normen'!A:O,VLOOKUP(L26,'3-Productie normen'!$B$38:$C$48,2,FALSE),FALSE)))*J26 -> 0 | Q26: =IF(M26>0,P26*$Q$8,0) -> 0 | R26: =VLOOKUP(F26,'3-Productie normen'!A:P,16,FALSE) -> nvt | U26: =K26*I26 -> 0
A27: 27 | B27: Alexanderstraat 35, Arnhem | C27: BG | D27: 0.14 | E27: opslag | F27: Niet in onderhoud | G27: Linoleum | H27: Linoleum | I27: 15 | K27: =SUM(L27:M27) -> 0 | L27: nio | N27: =IF(L27="nio",0,IF(L27>0,L27*I27/P27,0))*VLOOKUP(B27,'2-Kosten per locatie'!$A$14:$C$31,3,FALSE) -> 0 | O27: =IF(M27>0,M27*I27/Q27,0)*VLOOKUP(B27,'2-Kosten per locatie'!$A$14:$C$31,3,FALSE) -> 0 | P27: =IF(L27="nio",0,IF(L27>0,VLOOKUP(F27,'3-Productie normen'!A:O,VLOOKUP(L27,'3-Productie normen'!$B$38:$C$48,2,FALSE),FALSE)))*J27 -> 0 | Q27: =IF(M27>0,P27*$Q$8,0) -> 0 | R27: =VLOOKUP(F27,'3-Productie normen'!A:P,16,FALSE) -> nvt | U27: =K27*I27 -> 0
A28: 28 | B28: Alexanderstraat 35, Arnhem | C28: BG | D28: 0.15 | E28: theorielokaal | F28: Leslokaal | G28: Linoleum | H28: Linoleum | I28: 70 | K28: =SUM(L28:M28) -> 205 | L28: 205 | N28: =IF(L28="nio",0,IF(L28>0,L28*I28/P28,0))*VLOOKUP(B28,'2-Kosten per locatie'!$A$14:$C$31,3,FALSE) -> #DIV/0! | O28: =IF(M28>0,M28*I28/Q28,0)*VLOOKUP(B28,'2-Kosten per locatie'!$A$14:$C$31,3,FALSE) -> 0 | P28: =IF(L28="nio",0,IF(L28>0,VLOOKUP(F28,'3-Productie normen'!A:O,VLOOKUP(L28,'3-Productie normen'!$B$38:$C$48,2,FALSE),FALSE)))*J28 -> 0 | Q28: =IF(M28>0,P28*$Q$8,0) -> 0 | R28: =VLOOKUP(F28,'3-Productie normen'!A:P,16,FALSE) -> L | U28: =K28*I28 -> 14350
A29: 29 | B29: Alexanderstraat 35, Arnhem | C29: BG | D29: 0.16 | E29: theorielokaal | F29: Leslokaal | G29: Linoleum | H29: Linoleum | I29: 70 | K29: =SUM(L29:M29) -> 205 | L29: 205 | N29: =IF(L29="nio",0,IF(L29>0,L29*I29/P29,0))*VLOOKUP(B29,'2-Kosten per locatie'!$A$14:$C$31,3,FALSE) -> #DIV/0! | O29: =IF(M29>0,M29*I29/Q29,0)*VLOOKUP(B29,'2-Kosten per locatie'!$A$14:$C$31,3,FALSE) -> 0 | P29: =IF(L29="nio",0,IF(L29>0,VLOOKUP(F29,'3-Productie normen'!A:O,VLOOKUP(L29,'3-Productie normen'!$B$38:$C$48,2,FALSE),FALSE)))*J29 -> 0 | Q29: =IF(M29>0,P29*$Q$8,0) -> 0 | R29: =VLOOKUP(F29,'3-Productie normen'!A:P,16,FALSE) -> L | U29: =K29*I29 -> 14350
A30: 30 | B30: Alexanderstraat 35, Arnhem | C30: BG | D30: 0.17 | E30: kolfruimte | F30: Administratieve ruimten | G30: Linoleum | H30: Linoleum | I30: 15 | K30: =SUM(L30:M30) -> 123 | L30: 123 | N30: =IF(L30="nio",0,IF(L30>0,L30*I30/P30,0))*VLOOKUP(B30,'2-Kosten per locatie'!$A$14:$C$31,3,FALSE) -> #DIV/0! | O30: =IF(M30>0,M30*I30/Q30,0)*VLOOKUP(B30,'2-Kosten per locatie'!$A$14:$C$31,3,FALSE) -> 0 | P30: =IF(L30="nio",0,IF(L30>0,VLOOKUP(F30,'3-Productie normen'!A:O,VLOOKUP(L30,'3-Productie normen'!$B$38:$C$48,2,FALSE),FALSE)))*J30 -> 0 | Q30: =IF(M30>0,P30*$Q$8,0) -> 0 | R30: =VLOOKUP(F30,'3-Productie normen'!A:P,16,FALSE) -> B | U30: =K30*I30 -> 1845
A31: 31 | B31: Alexanderstraat 35, Arnhem | C31: BG | D31: 0.18 | E31: werkomgeving | F31: Administratieve ruimten | G31: Linoleum | H31: Linoleum | I31: 57 | K31: =SUM(L31:M31) -> 123 | L31: 123 | N31: =IF(L31="nio",0,IF(L31>0,L31*I31/P31,0))*VLOOKUP(B31,'2-Kosten per locatie'!$A$14:$C$31,3,FALSE) -> #DIV/0! | O31: =IF(M31>0,M31*I31/Q31,0)*VLOOKUP(B31,'2-Kosten per locatie'!$A$14:$C$31,3,FALSE) -> 0 | P31: =IF(L31="nio",0,IF(L31>0,VLOOKUP(F31,'3-Productie normen'!A:O,VLOOKUP(L31,'3-Productie normen'!$B$38:$C$48,2,FALSE),FALSE)))*J31 -> 0 | Q31: =IF(M31>0,P31*$Q$8,0) -> 0 | R31: =VLOOKUP(F31,'3-Productie normen'!A:P,16,FALSE) -> B | U31: =K31*I31 -> 7011
A32: 32 | B32: Alexanderstraat 35, Arnhem | C32: BG | D32: 0.19 | E32: overlegruimte | F32: Vergaderruimten | G32: Linoleum | H32: Linoleum | I32: 21 | K32: =SUM(L32:M32) -> 205 | L32: 205 | N32: =IF(L32="nio",0,IF(L32>0,L32*I32/P32,0))*VLOOKUP(B32,'2-Kosten per locatie'!$A$14:$C$31,3,FALSE) -> #DIV/0! | O32: =IF(M32>0,M32*I32/Q32,0)*VLOOKUP(B32,'2-Kosten per locatie'!$A$14:$C$31,3,FALSE) -> 0 | P32: =IF(L32="nio",0,IF(L32>0,VLOOKUP(F32,'3-Productie normen'!A:O,VLOOKUP(L32,'3-Productie normen'!$B$38:$C$48,2,FALSE),FALSE)))*J32 -> 0 | Q32: =IF(M32>0,P32*$Q$8,0) -> 0 | R32: =VLOOKUP(F32,'3-Productie normen'!A:P,16,FALSE) -> B | U32: =K32*I32 -> 4305
A33: 33 | B33: Alexanderstraat 35, Arnhem | C33: BG | D33: 0.20 | E33: werkomgeving | F33: Administratieve ruimten | G33: Linoleum | H33: Linoleum | I33: 56 | K33: =SUM(L33:M33) -> 123 | L33: 123 | N33: =IF(L33="nio",0,IF(L33>0,L33*I33/P33,0))*VLOOKUP(B33,'2-Kosten per locatie'!$A$14:$C$31,3,FALSE) -> #DIV/0! | O33: =IF(M33>0,M33*I33/Q33,0)*VLOOKUP(B33,'2-Kosten per locatie'!$A$14:$C$31,3,FALSE) -> 0 | P33: =IF(L33="nio",0,IF(L33>0,VLOOKUP(F33,'3-Productie normen'!A:O,VLOOKUP(L33,'3-Productie normen'!$B$38:$C$48,2,FALSE),FALSE)))*J33 -> 0 | Q33: =IF(M33>0,P33*$Q$8,0) -> 0 | R33: =VLOOKUP(F33,'3-Productie normen'!A:P,16,FALSE) -> B | U33: =K33*I33 -> 6888
A34: 34 | B34: Alexanderstraat 35, Arnhem | C34: BG | D34: 0.20.1 | E34: pantry | F34: Keuken, pantry | G34: Linoleum | H34: Linoleum | I34: 12 | K34: =SUM(L34:M34) -> 205 | L34: 205 | N34: =IF(L34="nio",0,IF(L34>0,L34*I34/P34,0))*VLOOKUP(B34,'2-Kosten per locatie'!$A$14:$C$31,3,FALSE) -> #DIV/0! | O34: =IF(M34>0,M34*I34/Q34,0)*VLOOKUP(B34,'2-Kosten per locatie'!$A$14:$C$31,3,FALSE) -> 0 | P34: =IF(L34="nio",0,IF(L34>0,VLOOKUP(F34,'3-Productie normen'!A:O,VLOOKUP(L34,'3-Productie normen'!$B$38:$C$48,2,FALSE),FALSE)))*J34 -> 0 | Q34: =IF(M34>0,P34*$Q$8,0) -> 0 | R34: =VLOOKUP(F34,'3-Productie normen'!A:P,16,FALSE) -> V | U34: =K34*I34 -> 2460
A35: 35 | B35: Alexanderstraat 35, Arnhem | C35: BG | D35: 0.21 | E35: overlegruimte | F35: Vergaderruimten | G35: Linoleum | H35: Linoleum | I35: 14 | K35: =SUM(L35:M35) -> 205 | L35: 205 | N35: =IF(L35="nio",0,IF(L35>0,L35*I35/P35,0))*VLOOKUP(B35,'2-Kosten per locatie'!$A$14:$C$31,3,FALSE) -> #DIV/0! | O35: =IF(M35>0,M35*I35/Q35,0)*VLOOKUP(B35,'2-Kosten per locatie'!$A$14:$C$31,3,FALSE) -> 0 | P35: =IF(L35="nio",0,IF(L35>0,VLOOKUP(F35,'3-Productie normen'!A:O,VLOOKUP(L35,'3-Productie normen'!$B$38:$C$48,2,FALSE),FALSE)))*J35 -> 0 | Q35: =IF(M35>0,P35*$Q$8,0) -> 0 | R35: =VLOOKUP(F35,'3-Productie normen'!A:P,16,FALSE) -> B | U35: =K35*I35 -> 2870
A36: 36 | B36: Alexanderstraat 35, Arnhem | C36: BG | D36: 0.22 | E36: servicedesk | F36: Administratieve ruimten | G36: Linoleum | H36: Linoleum | I36: 17 | K36: =SUM(L36:M36) -> 123 | L36: 123 | N36: =IF(L36="nio",0,IF(L36>0,L36*I36/P36,0))*VLOOKUP(B36,'2-Kosten per locatie'!$A$14:$C$31,3,FALSE) -> #DIV/0! | O36: =IF(M36>0,M36*I36/Q36,0)*VLOOKUP(B36,'2-Kosten per locatie'!$A$14:$C$31,3,FALSE) -> 0 | P36: =IF(L36="nio",0,IF(L36>0,VLOOKUP(F36,'3-Productie normen'!A:O,VLOOKUP(L36,'3-Productie normen'!$B$38:$C$48,2,FALSE),FALSE)))*J36 -> 0 | Q36: =IF(M36>0,P36*$Q$8,0) -> 0 | R36: =VLOOKUP(F36,'3-Productie normen'!A:P,16,FALSE) -> B | U36: =K36*I36 -> 2091
A37: 37 | B37: Alexanderstraat 35, Arnhem | C37: BG | D37: 0.22.1 | E37: back office | F37: Administratieve ruimten | G37: Linoleum | H37: Linoleum | I37: 9 | K37: =SUM(L37:M37) -> 123 | L37: 123 | N37: =IF(L37="nio",0,IF(L37>0,L37*I37/P37,0))*VLOOKUP(B37,'2-Kosten per locatie'!$A$14:$C$31,3,FALSE) -> #DIV/0! | O37: =IF(M37>0,M37*I37/Q37,0)*VLOOKUP(B37,'2-Kosten per locatie'!$A$14:$C$31,3,FALSE) -> 0 | P37: =IF(L37="nio",0,IF(L37>0,VLOOKUP(F37,'3-Productie normen'!A:O,VLOOKUP(L37,'3-Productie normen'!$B$38:$C$48,2,FALSE),FALSE)))*J37 -> 0 | Q37: =IF(M37>0,P37*$Q$8,0) -> 0 | R37: =VLOOKUP(F37,'3-Productie normen'!A:P,16,FALSE) -> B | U37: =K37*I37 -> 1107
A38: 38 | B38: Alexanderstraat 35, Arnhem | C38: BG | D38: 0.23 | E38: multifunctioneel | F38: Leslokaal | G38: Linoleum | H38: Linoleum | I38: 39 | K38: =SUM(L38:M38) -> 205 | L38: 205 | N38: =IF(L38="nio",0,IF(L38>0,L38*I38/P38,0))*VLOOKUP(B38,'2-Kosten per locatie'!$A$14:$C$31,3,FALSE) -> #DIV/0! | O38: =IF(M38>0,M38*I38/Q38,0)*VLOOKUP(B38,'2-Kosten per locatie'!$A$14:$C$31,3,FALSE) -> 0 | P38: =IF(L38="nio",0,IF(L38>0,VLOOKUP(F38,'3-Productie normen'!A:O,VLOOKUP(L38,'3-Productie normen'!$B$38:$C$48,2,FALSE),FALSE)))*J38 -> 0 | Q38: =IF(M38>0,P38*$Q$8,0) -> 0 | R38: =VLOOKUP(F38,'3-Productie normen'!A:P,16,FALSE) -> L | U38: =K38*I38 -> 7995
A39: 39 | B39: Alexanderstraat 35, Arnhem | C39: BG | D39: 0.24 | E39: kantine | F39: Restauratieve ruimten | G39: Linoleum | H39: Linoleum | I39: 174 | K39: =SUM(L39:M39) -> 123 | L39: 123 | N39: =IF(L39="nio",0,IF(L39>0,L39*I39/P39,0))*VLOOKUP(B39,'2-Kosten per locatie'!$A$14:$C$31,3,FALSE) -> #DIV/0! | O39: =IF(M39>0,M39*I39/Q39,0)*VLOOKUP(B39,'2-Kosten per locatie'!$A$14:$C$31,3,FALSE) -> 0 | P39: =IF(L39="nio",0,IF(L39>0,VLOOKUP(F39,'3-Productie normen'!A:O,VLOOKUP(L39,'3-Productie normen'!$B$38:$C$48,2,FALSE),FALSE)))*J39 -> 0 | Q39: =IF(M39>0,P39*$Q$8,0) -> 0 | R39: =VLOOKUP(F39,'3-Productie normen'!A:P,16,FALSE) -> V | U39: =K39*I39 -> 21402
... A41: 41 | B41: Alexanderstraat 35, Arnhem | C41: BG | D41: 0.34 | E41: toilet | F41: Sanitaire ruimten | G41: Gietvloer | H41: Harde vloeren zonder waslaag (natte ruimten) | I41: 14 | K41: =SUM(L41:M41) -> 205 | L41: 205 | N41: =IF(L41="nio",0,IF(L41>0,L41*I41/P41,0))*VLOOKUP(B41,'2-Kosten per locatie'!$A$14:$C$31,3,FALSE) -> #DIV/0! | O41: =IF(M41>0,M41*I41/Q41,0)*VLOOKUP(B41,'2-Kosten per locatie'!$A$14:$C$31,3,FALSE) -> 0 | P41: =IF(L41="nio",0,IF(L41>0,VLOOKUP(F41,'3-Productie normen'!A:O,VLOOKUP(L41,'3-Productie normen'!$B$38:$C$48,2,FALSE),FALSE)))*J41 -> 0 | Q41: =IF(M41>0,P41*$Q$8,0) -> 0 | R41: =VLOOKUP(F41,'3-Productie normen'!A:P,16,FALSE) -> S | U41: =K41*I41 -> 2870
A42: 42 | B42: Alexanderstraat 35, Arnhem | C42: BG | D42: 0.35 | E42: werkkast | F42: Niet in onderhoud | G42: Linoleum | H42: Linoleum | I42: 5 | K42: =SUM(L42:M42) -> 0 | L42: nio | N42: =IF(L42="nio",0,IF(L42>0,L42*I42/P42,0))*VLOOKUP(B42,'2-Kosten per locatie'!$A$14:$C$31,3,FALSE) -> 0 | O42: =IF(M42>0,M42*I42/Q42,0)*VLOOKUP(B42,'2-Kosten per locatie'!$A$14:$C$31,3,FALSE) -> 0 | P42: =IF(L42="nio",0,IF(L42>0,VLOOKUP(F42,'3-Productie normen'!A:O,VLOOKUP(L42,'3-Productie normen'!$B$38:$C$48,2,FALSE),FALSE)))*J42 -> 0 | Q42: =IF(M42>0,P42*$Q$8,0) -> 0 | R42: =VLOOKUP(F42,'3-Productie normen'!A:P,16,FALSE) -> nvt | U42: =K42*I42 -> 0
A43: 43 | B43: Alexanderstraat 35, Arnhem | C43: BG | D43: 0.36 | E43: MIVA toilet | F43: Sanitaire ruimten | G43: Gietvloer | H43: Harde vloeren zonder waslaag (natte ruimten) | I43: 5 | K43: =SUM(L43:M43) -> 205 | L43: 205 | N43: =IF(L43="nio",0,IF(L43>0,L43*I43/P43,0))*VLOOKUP(B43,'2-Kosten per locatie'!$A$14:$C$31,3,FALSE) -> #DIV/0! | O43: =IF(M43>0,M43*I43/Q43,0)*VLOOKUP(B43,'2-Kosten per locatie'!$A$14:$C$31,3,FALSE) -> 0 | P43: =IF(L43="nio",0,IF(L43>0,VLOOKUP(F43,'3-Productie normen'!A:O,VLOOKUP(L43,'3-Productie normen'!$B$38:$C$48,2,FALSE),FALSE)))*J43 -> 0 | Q43: =IF(M43>0,P43*$Q$8,0) -> 0 | R43: =VLOOKUP(F43,'3-Productie normen'!A:P,16,FALSE) -> S | U43: =K43*I43 -> 1025
A44: 44 | B44: Alexanderstraat 35, Arnhem | C44: BG | D44: 0.37 | E44: toilet | F44: Sanitaire ruimten | G44: Gietvloer | H44: Harde vloeren zonder waslaag (natte ruimten) | I44: 14 | K44: =SUM(L44:M44) -> 205 | L44: 205 | N44: =IF(L44="nio",0,IF(L44>0,L44*I44/P44,0))*VLOOKUP(B44,'2-Kosten per locatie'!$A$14:$C$31,3,FALSE) -> #DIV/0! | O44: =IF(M44>0,M44*I44/Q44,0)*VLOOKUP(B44,'2-Kosten per locatie'!$A$14:$C$31,3,FALSE) -> 0 | P44: =IF(L44="nio",0,IF(L44>0,VLOOKUP(F44,'3-Productie normen'!A:O,VLOOKUP(L44,'3-Productie normen'!$B$38:$C$48,2,FALSE),FALSE)))*J44 -> 0 | Q44: =IF(M44>0,P44*$Q$8,0) -> 0 | R44: =VLOOKUP(F44,'3-Productie normen'!A:P,16,FALSE) -> S | U44: =K44*I44 -> 2870
A45: 45 | B45: Alexanderstraat 35, Arnhem | C45: BG | D45: 0.38 | E45: douche | F45: Doucheruimten | G45: Gietvloer | H45: Harde vloeren zonder waslaag (overige ruimten) | I45: 6 | K45: =SUM(L45:M45) -> 205 | L45: 205 | N45: =IF(L45="nio",0,IF(L45>0,L45*I45/P45,0))*VLOOKUP(B45,'2-Kosten per locatie'!$A$14:$C$31,3,FALSE) -> #DIV/0! | O45: =IF(M45>0,M45*I45/Q45,0)*VLOOKUP(B45,'2-Kosten per locatie'!$A$14:$C$31,3,FALSE) -> 0 | P45: =IF(L45="nio",0,IF(L45>0,VLOOKUP(F45,'3-Productie normen'!A:O,VLOOKUP(L45,'3-Productie normen'!$B$38:$C$48,2,FALSE),FALSE)))*J45 -> 0 | Q45: =IF(M45>0,P45*$Q$8,0) -> 0 | R45: =VLOOKUP(F45,'3-Productie normen'!A:P,16,FALSE) -> S | U45: =K45*I45 -> 1230
A46: 46 | B46: Alexanderstraat 35, Arnhem | C46: BG | D46: gang | E46: verkeersruimte | F46: Gang, hal | G46: Linoleum | H46: Linoleum | I46: 340 | K46: =SUM(L46:M46) -> 205 | L46: 205 | N46: =IF(L46="nio",0,IF(L46>0,L46*I46/P46,0))*VLOOKUP(B46,'2-Kosten per locatie'!$A$14:$C$31,3,FALSE) -> #DIV/0! | O46: =IF(M46>0,M46*I46/Q46,0)*VLOOKUP(B46,'2-Kosten per locatie'!$A$14:$C$31,3,FALSE) -> 0 | P46: =IF(L46="nio",0,IF(L46>0,VLOOKUP(F46,'3-Productie normen'!A:O,VLOOKUP(L46,'3-Productie normen'!$B$38:$C$48,2,FALSE),FALSE)))*J46 -> 0 | Q46: =IF(M46>0,P46*$Q$8,0) -> 0 | R46: =VLOOKUP(F46,'3-Productie normen'!A:P,16,FALSE) -> V | U46: =K46*I46 -> 69700
A47: 47 | B47: Apeldoornseweg 210, Arnhem | C47: Kelder | D47: -1.01 | E47: doorgang / overdekte buitenruimte | F47: Niet in onderhoud | G47: Linoleum | H47: Linoleum | I47: 11.2 | K47: =SUM(L47:M47) -> 0 | L47: nio | N47: =IF(L47="nio",0,IF(L47>0,L47*I47/P47,0))*VLOOKUP(B47,'2-Kosten per locatie'!$A$14:$C$31,3,FALSE) -> 0 | O47: =IF(M47>0,M47*I47/Q47,0)*VLOOKUP(B47,'2-Kosten per locatie'!$A$14:$C$31,3,FALSE) -> 0 | P47: =IF(L47="nio",0,IF(L47>0,VLOOKUP(F47,'3-Productie normen'!A:O,VLOOKUP(L47,'3-Productie normen'!$B$38:$C$48,2,FALSE),FALSE)))*J47 -> 0 | Q47: =IF(M47>0,P47*$Q$8,0) -> 0 | R47: =VLOOKUP(F47,'3-Productie normen'!A:P,16,FALSE) -> nvt | U47: =K47*I47 -> 0
A48: 48 | B48: Apeldoornseweg 210, Arnhem | C48: Kelder | D48: -1.02 | E48: containerruimte | F48: Niet in onderhoud | G48: Beton | H48: Harde vloeren zonder waslaag (overige ruimten) | I48: 11.3 | K48: =SUM(L48:M48) -> 0 | L48: nio | N48: =IF(L48="nio",0,IF(L48>0,L48*I48/P48,0))*VLOOKUP(B48,'2-Kosten per locatie'!$A$14:$C$31,3,FALSE) -> 0 | O48: =IF(M48>0,M48*I48/Q48,0)*VLOOKUP(B48,'2-Kosten per locatie'!$A$14:$C$31,3,FALSE) -> 0 | P48: =IF(L48="nio",0,IF(L48>0,VLOOKUP(F48,'3-Productie normen'!A:O,VLOOKUP(L48,'3-Productie normen'!$B$38:$C$48,2,FALSE),FALSE)))*J48 -> 0 | Q48: =IF(M48>0,P48*$Q$8,0) -> 0 | R48: =VLOOKUP(F48,'3-Productie normen'!A:P,16,FALSE) -> nvt | U48: =K48*I48 -> 0
A49: 49 | B49: Apeldoornseweg 210, Arnhem | C49: Kelder | D49: -1.03 | E49: traphal | F49: Trappenhuis | G49: Steen | H49: Harde vloeren zonder waslaag (overige ruimten) | I49: 17.5 | K49: =SUM(L49:M49) -> 200 | L49: 200 | N49: =IF(L49="nio",0,IF(L49>0,L49*I49/P49,0))*VLOOKUP(B49,'2-Kosten per locatie'!$A$14:$C$31,3,FALSE) -> #DIV/0! | O49: =IF(M49>0,M49*I49/Q49,0)*VLOOKUP(B49,'2-Kosten per locatie'!$A$14:$C$31,3,FALSE) -> 0 | P49: =IF(L49="nio",0,IF(L49>0,VLOOKUP(F49,'3-Productie normen'!A:O,VLOOKUP(L49,'3-Productie normen'!$B$38:$C$48,2,FALSE),FALSE)))*J49 -> 0 | Q49: =IF(M49>0,P49*$Q$8,0) -> 0 | R49: =VLOOKUP(F49,'3-Productie normen'!A:P,16,FALSE) -> V | U49: =K49*I49 -> 3500
A50: 50 | B50: Apeldoornseweg 210, Arnhem | C50: Kelder | D50: -1.04 | E50: berging | F50: Niet in onderhoud | G50: Beton | H50: Harde vloeren zonder waslaag (overige ruimten) | I50: 8.8 | K50: =SUM(L50:M50) -> 0 | L50: nio | N50: =IF(L50="nio",0,IF(L50>0,L50*I50/P50,0))*VLOOKUP(B50,'2-Kosten per locatie'!$A$14:$C$31,3,FALSE) -> 0 | O50: =IF(M50>0,M50*I50/Q50,0)*VLOOKUP(B50,'2-Kosten per locatie'!$A$14:$C$31,3,FALSE) -> 0 | P50: =IF(L50="nio",0,IF(L50>0,VLOOKUP(F50,'3-Productie normen'!A:O,VLOOKUP(L50,'3-Productie normen'!$B$38:$C$48,2,FALSE),FALSE)))*J50 -> 0 | Q50: =IF(M50>0,P50*$Q$8,0) -> 0 | R50: =VLOOKUP(F50,'3-Productie normen'!A:P,16,FALSE) -> nvt | U50: =K50*I50 -> 0
A51: 51 | B51: Apeldoornseweg 210, Arnhem | C51: Kelder | D51: -1.05 | E51: meterruimte | F51: Niet in onderhoud | G51: Beton | H51: Harde vloeren zonder waslaag (overige ruimten) | I51: 7.6 | K51: =SUM(L51:M51) -> 0 | L51: nio | N51: =IF(L51="nio",0,IF(L51>0,L51*I51/P51,0))*VLOOKUP(B51,'2-Kosten per locatie'!$A$14:$C$31,3,FALSE) -> 0 | O51: =IF(M51>0,M51*I51/Q51,0)*VLOOKUP(B51,'2-Kosten per locatie'!$A$14:$C$31,3,FALSE) -> 0 | P51: =IF(L51="nio",0,IF(L51>0,VLOOKUP(F51,'3-Productie normen'!A:O,VLOOKUP(L51,'3-Productie normen'!$B$38:$C$48,2,FALSE),FALSE)))*J51 -> 0 | Q51: =IF(M51>0,P51*$Q$8,0) -> 0 | R51: =VLOOKUP(F51,'3-Productie normen'!A:P,16,FALSE) -> nvt | U51: =K51*I51 -> 0
A52: 52 | B52: Apeldoornseweg 210, Arnhem | C52: Kelder | D52: -1.06 | E52: werkplaats | F52: Niet in onderhoud | G52: Linoleum | H52: Linoleum | I52: 18.2 | K52: =SUM(L52:M52) -> 0 | L52: nio | N52: =IF(L52="nio",0,IF(L52>0,L52*I52/P52,0))*VLOOKUP(B52,'2-Kosten per locatie'!$A$14:$C$31,3,FALSE) -> 0 | O52: =IF(M52>0,M52*I52/Q52,0)*VLOOKUP(B52,'2-Kosten per locatie'!$A$14:$C$31,3,FALSE) -> 0 | P52: =IF(L52="nio",0,IF(L52>0,VLOOKUP(F52,'3-Productie normen'!A:O,VLOOKUP(L52,'3-Productie normen'!$B$38:$C$48,2,FALSE),FALSE)))*J52 -> 0 | Q52: =IF(M52>0,P52*$Q$8,0) -> 0 | R52: =VLOOKUP(F52,'3-Productie normen'!A:P,16,FALSE) -> nvt | U52: =K52*I52 -> 0
A53: 53 | B53: Apeldoornseweg 210, Arnhem | C53: Kelder | D53: -1.07 | E53: CV install ruimte | F53: Niet in onderhoud | G53: Linoleum | H53: Linoleum | I53: 21.7 | K53: =SUM(L53:M53) -> 0 | L53: nio | N53: =IF(L53="nio",0,IF(L53>0,L53*I53/P53,0))*VLOOKUP(B53,'2-Kosten per locatie'!$A$14:$C$31,3,FALSE) -> 0 | O53: =IF(M53>0,M53*I53/Q53,0)*VLOOKUP(B53,'2-Kosten per locatie'!$A$14:$C$31,3,FALSE) -> 0 | P53: =IF(L53="nio",0,IF(L53>0,VLOOKUP(F53,'3-Productie normen'!A:O,VLOOKUP(L53,'3-Productie normen'!$B$38:$C$48,2,FALSE),FALSE)))*J53 -> 0 | Q53: =IF(M53>0,P53*$Q$8,0) -> 0 | R53: =VLOOKUP(F53,'3-Productie normen'!A:P,16,FALSE) -> nvt | U53: =K53*I53 -> 0
A54: 54 | B54: Apeldoornseweg 210, Arnhem | C54: Kelder | D54: -1.08 | E54: onbenoemde ruimte | F54: Niet in onderhoud | G54: Beton | H54: Harde vloeren zonder waslaag (overige ruimten) | I54: 4.8 | K54: =SUM(L54:M54) -> 0 | L54: nio | N54: =IF(L54="nio",0,IF(L54>0,L54*I54/P54,0))*VLOOKUP(B54,'2-Kosten per locatie'!$A$14:$C$31,3,FALSE) -> 0 | O54: =IF(M54>0,M54*I54/Q54,0)*VLOOKUP(B54,'2-Kosten per locatie'!$A$14:$C$31,3,FALSE) -> 0 | P54: =IF(L54="nio",0,IF(L54>0,VLOOKUP(F54,'3-Productie normen'!A:O,VLOOKUP(L54,'3-Productie normen'!$B$38:$C$48,2,FALSE),FALSE)))*J54 -> 0 | Q54: =IF(M54>0,P54*$Q$8,0) -> 0 | R54: =VLOOKUP(F54,'3-Productie normen'!A:P,16,FALSE) -> nvt | U54: =K54*I54 -> 0
A55: 55 | B55: Apeldoornseweg 210, Arnhem | C55: Kelder | D55: -1.09 | E55: onbenoemde ruimte | F55: Niet in onderhoud | G55: Beton | H55: Harde vloeren zonder waslaag (overige ruimten) | I55: 4.7 | K55: =SUM(L55:M55) -> 0 | L55: nio | N55: =IF(L55="nio",0,IF(L55>0,L55*I55/P55,0))*VLOOKUP(B55,'2-Kosten per locatie'!$A$14:$C$31,3,FALSE) -> 0 | O55: =IF(M55>0,M55*I55/Q55,0)*VLOOKUP(B55,'2-Kosten per locatie'!$A$14:$C$31,3,FALSE) -> 0 | P55: =IF(L55="nio",0,IF(L55>0,VLOOKUP(F55,'3-Productie normen'!A:O,VLOOKUP(L55,'3-Productie normen'!$B$38:$C$48,2,FALSE),FALSE)))*J55 -> 0 | Q55: =IF(M55>0,P55*$Q$8,0) -> 0 | R55: =VLOOKUP(F55,'3-Productie normen'!A:P,16,FALSE) -> nvt | U55: =K55*I55 -> 0
A56: 56 | B56: Apeldoornseweg 210, Arnhem | C56: Kelder | D56: -1.10 | E56: onbenoemde ruimte | F56: Niet in onderhoud | G56: Beton | H56: Harde vloeren zonder waslaag (overige ruimten) | I56: 4.8 | K56: =SUM(L56:M56) -> 0 | L56: nio | N56: =IF(L56="nio",0,IF(L56>0,L56*I56/P56,0))*VLOOKUP(B56,'2-Kosten per locatie'!$A$14:$C$31,3,FALSE) -> 0 | O56: =IF(M56>0,M56*I56/Q56,0)*VLOOKUP(B56,'2-Kosten per locatie'!$A$14:$C$31,3,FALSE) -> 0 | P56: =IF(L56="nio",0,IF(L56>0,VLOOKUP(F56,'3-Productie normen'!A:O,VLOOKUP(L56,'3-Productie normen'!$B$38:$C$48,2,FALSE),FALSE)))*J56 -> 0 | Q56: =IF(M56>0,P56*$Q$8,0) -> 0 | R56: =VLOOKUP(F56,'3-Productie normen'!A:P,16,FALSE) -> nvt | U56: =K56*I56 -> 0
A57: 57 | B57: Apeldoornseweg 210, Arnhem | C57: Kelder | D57: -1.11 | E57: onbenoemde ruimte | F57: Niet in onderhoud | G57: Beton | H57: Harde vloeren zonder waslaag (overige ruimten) | I57: 4.8 | K57: =SUM(L57:M57) -> 0 | L57: nio | N57: =IF(L57="nio",0,IF(L57>0,L57*I57/P57,0))*VLOOKUP(B57,'2-Kosten per locatie'!$A$14:$C$31,3,FALSE) -> 0 | O57: =IF(M57>0,M57*I57/Q57,0)*VLOOKUP(B57,'2-Kosten per locatie'!$A$14:$C$31,3,FALSE) -> 0 | P57: =IF(L57="nio",0,IF(L57>0,VLOOKUP(F57,'3-Productie normen'!A:O,VLOOKUP(L57,'3-Productie normen'!$B$38:$C$48,2,FALSE),FALSE)))*J57 -> 0 | Q57: =IF(M57>0,P57*$Q$8,0) -> 0 | R57: =VLOOKUP(F57,'3-Productie normen'!A:P,16,FALSE) -> nvt | U57: =K57*I57 -> 0
A58: 58 | B58: Apeldoornseweg 210, Arnhem | C58: Kelder | D58: -1.12 | E58: onbenoemde ruimte | F58: Niet in onderhoud | G58: Beton | H58: Harde vloeren zonder waslaag (overige ruimten) | I58: 8.7 | K58: =SUM(L58:M58) -> 0 | L58: nio | N58: =IF(L58="nio",0,IF(L58>0,L58*I58/P58,0))*VLOOKUP(B58,'2-Kosten per locatie'!$A$14:$C$31,3,FALSE) -> 0 | O58: =IF(M58>0,M58*I58/Q58,0)*VLOOKUP(B58,'2-Kosten per locatie'!$A$14:$C$31,3,FALSE) -> 0 | P58: =IF(L58="nio",0,IF(L58>0,VLOOKUP(F58,'3-Productie normen'!A:O,VLOOKUP(L58,'3-Productie normen'!$B$38:$C$48,2,FALSE),FALSE)))*J58 -> 0 | Q58: =IF(M58>0,P58*$Q$8,0) -> 0 | R58: =VLOOKUP(F58,'3-Productie normen'!A:P,16,FALSE) -> nvt | U58: =K58*I58 -> 0
A59: 59 | B59: Apeldoornseweg 210, Arnhem | C59: Kelder | D59: -1.13 | E59: schakelstation Liander | F59: Niet in onderhoud | G59: Beton | H59: Harde vloeren zonder waslaag (overige ruimten) | I59: 35.3 | K59: =SUM(L59:M59) -> 0 | L59: nio | N59: =IF(L59="nio",0,IF(L59>0,L59*I59/P59,0))*VLOOKUP(B59,'2-Kosten per locatie'!$A$14:$C$31,3,FALSE) -> 0 | O59: =IF(M59>0,M59*I59/Q59,0)*VLOOKUP(B59,'2-Kosten per locatie'!$A$14:$C$31,3,FALSE) -> 0 | P59: =IF(L59="nio",0,IF(L59>0,VLOOKUP(F59,'3-Productie normen'!A:O,VLOOKUP(L59,'3-Productie normen'!$B$38:$C$48,2,FALSE),FALSE)))*J59 -> 0 | Q59: =IF(M59>0,P59*$Q$8,0) -> 0 | R59: =VLOOKUP(F59,'3-Productie normen'!A:P,16,FALSE) -> nvt | U59: =K59*I59 -> 0
A60: 60 | B60: Apeldoornseweg 210, Arnhem | C60: Kelder | D60: -1.14 | E60: gang | F60: Gang, hal | G60: Steen | H60: Harde vloeren zonder waslaag (overige ruimten) | I60: 8.6 | K60: =SUM(L60:M60) -> 200 | L60: 200 | N60: =IF(L60="nio",0,IF(L60>0,L60*I60/P60,0))*VLOOKUP(B60,'2-Kosten per locatie'!$A$14:$C$31,3,FALSE) -> #DIV/0! | O60: =IF(M60>0,M60*I60/Q60,0)*VLOOKUP(B60,'2-Kosten per locatie'!$A$14:$C$31,3,FALSE) -> 0 | P60: =IF(L60="nio",0,IF(L60>0,VLOOKUP(F60,'3-Productie normen'!A:O,VLOOKUP(L60,'3-Productie normen'!$B$38:$C$48,2,FALSE),FALSE)))*J60 -> 0 | Q60: =IF(M60>0,P60*$Q$8,0) -> 0 | R60: =VLOOKUP(F60,'3-Productie normen'!A:P,16,FALSE) -> V | U60: =K60*I60 -> 1720
A61: 61 | B61: Apeldoornseweg 210, Arnhem | C61: Kelder | D61: -1.15 | E61: kleed-wasruimte | F61: Kleed- wasruimte | G61: Gietvloer | H61: Harde vloeren zonder waslaag (overige ruimten) | I61: 11.2 | K61: =SUM(L61:M61) -> 400 | L61: 200 | M61: 200 | N61: =IF(L61="nio",0,IF(L61>0,L61*I61/P61,0))*VLOOKUP(B61,'2-Kosten per locatie'!$A$14:$C$31,3,FALSE) -> #DIV/0! | O61: =IF(M61>0,M61*I61/Q61,0)*VLOOKUP(B61,'2-Kosten per locatie'!$A$14:$C$31,3,FALSE) -> #DIV/0! | P61: =IF(L61="nio",0,IF(L61>0,VLOOKUP(F61,'3-Productie normen'!A:O,VLOOKUP(L61,'3-Productie normen'!$B$38:$C$48,2,FALSE),FALSE)))*J61 -> 0 | Q61: =IF(M61>0,P61*$Q$8,0) -> 0 | R61: =VLOOKUP(F61,'3-Productie normen'!A:P,16,FALSE) -> S | U61: =K61*I61 -> 4480
A62: 62 | B62: Apeldoornseweg 210, Arnhem | C62: Kelder | D62: -1.16 | E62: werkplaats | F62: Niet in onderhoud | G62: Linoleum | H62: Linoleum | I62: 9.2 | K62: =SUM(L62:M62) -> 0 | L62: nio | N62: =IF(L62="nio",0,IF(L62>0,L62*I62/P62,0))*VLOOKUP(B62,'2-Kosten per locatie'!$A$14:$C$31,3,FALSE) -> 0 | O62: =IF(M62>0,M62*I62/Q62,0)*VLOOKUP(B62,'2-Kosten per locatie'!$A$14:$C$31,3,FALSE) -> 0 | P62: =IF(L62="nio",0,IF(L62>0,VLOOKUP(F62,'3-Productie normen'!A:O,VLOOKUP(L62,'3-Productie normen'!$B$38:$C$48,2,FALSE),FALSE)))*J62 -> 0 | Q62: =IF(M62>0,P62*$Q$8,0) -> 0 | R62: =VLOOKUP(F62,'3-Productie normen'!A:P,16,FALSE) -> nvt | U62: =K62*I62 -> 0
A63: 63 | B63: Apeldoornseweg 210, Arnhem | C63: Kelder | D63: -1.17 | E63: repro ruimte / berging | F63: Opslagruimten | G63: Linoleum | H63: Linoleum | I63: 31.5 | K63: =SUM(L63:M63) -> 40 | L63: 40 | N63: =IF(L63="nio",0,IF(L63>0,L63*I63/P63,0))*VLOOKUP(B63,'2-Kosten per locatie'!$A$14:$C$31,3,FALSE) -> #DIV/0! | O63: =IF(M63>0,M63*I63/Q63,0)*VLOOKUP(B63,'2-Kosten per locatie'!$A$14:$C$31,3,FALSE) -> 0 | P63: =IF(L63="nio",0,IF(L63>0,VLOOKUP(F63,'3-Productie normen'!A:O,VLOOKUP(L63,'3-Productie normen'!$B$38:$C$48,2,FALSE),FALSE)))*J63 -> 0 | Q63: =IF(M63>0,P63*$Q$8,0) -> 0 | R63: =VLOOKUP(F63,'3-Productie normen'!A:P,16,FALSE) -> V | U63: =K63*I63 -> 1260
A64: 64 | B64: Apeldoornseweg 210, Arnhem | C64: Kelder | D64: -1.18 | E64: kantoor | F64: Administratieve ruimten | G64: Linoleum | H64: Linoleum | I64: 18.6 | K64: =SUM(L64:M64) -> 120 | L64: 120 | N64: =IF(L64="nio",0,IF(L64>0,L64*I64/P64,0))*VLOOKUP(B64,'2-Kosten per locatie'!$A$14:$C$31,3,FALSE) -> #DIV/0! | O64: =IF(M64>0,M64*I64/Q64,0)*VLOOKUP(B64,'2-Kosten per locatie'!$A$14:$C$31,3,FALSE) -> 0 | P64: =IF(L64="nio",0,IF(L64>0,VLOOKUP(F64,'3-Productie normen'!A:O,VLOOKUP(L64,'3-Productie normen'!$B$38:$C$48,2,FALSE),FALSE)))*J64 -> 0 | Q64: =IF(M64>0,P64*$Q$8,0) -> 0 | R64: =VLOOKUP(F64,'3-Productie normen'!A:P,16,FALSE) -> B | U64: =K64*I64 -> 2232
A65: 65 | B65: Apeldoornseweg 210, Arnhem | C65: Kelder | D65: -1.19 | E65: berging | F65: Niet in onderhoud | G65: Linoleum | H65: Linoleum | I65: 9.4 | K65: =SUM(L65:M65) -> 0 | L65: nio | N65: =IF(L65="nio",0,IF(L65>0,L65*I65/P65,0))*VLOOKUP(B65,'2-Kosten per locatie'!$A$14:$C$31,3,FALSE) -> 0 | O65: =IF(M65>0,M65*I65/Q65,0)*VLOOKUP(B65,'2-Kosten per locatie'!$A$14:$C$31,3,FALSE) -> 0 | P65: =IF(L65="nio",0,IF(L65>0,VLOOKUP(F65,'3-Productie normen'!A:O,VLOOKUP(L65,'3-Productie normen'!$B$38:$C$48,2,FALSE),FALSE)))*J65 -> 0 | Q65: =IF(M65>0,P65*$Q$8,0) -> 0 | R65: =VLOOKUP(F65,'3-Productie normen'!A:P,16,FALSE) -> nvt | U65: =K65*I65 -> 0
A66: 66 | B66: Apeldoornseweg 210, Arnhem | C66: Kelder | D66: -1.20 | E66: berging | F66: Niet in onderhoud | G66: Linoleum | H66: Linoleum | I66: 32.2 | K66: =SUM(L66:M66) -> 0 | L66: nio | N66: =IF(L66="nio",0,IF(L66>0,L66*I66/P66,0))*VLOOKUP(B66,'2-Kosten per locatie'!$A$14:$C$31,3,FALSE) -> 0 | O66: =IF(M66>0,M66*I66/Q66,0)*VLOOKUP(B66,'2-Kosten per locatie'!$A$14:$C$31,3,FALSE) -> 0 | P66: =IF(L66="nio",0,IF(L66>0,VLOOKUP(F66,'3-Productie normen'!A:O,VLOOKUP(L66,'3-Productie normen'!$B$38:$C$48,2,FALSE),FALSE)))*J66 -> 0 | Q66: =IF(M66>0,P66*$Q$8,0) -> 0 | R66: =VLOOKUP(F66,'3-Productie normen'!A:P,16,FALSE) -> nvt | U66: =K66*I66 -> 0
A67: 67 | B67: Apeldoornseweg 210, Arnhem | C67: Kelder | D67: -1.21 | E67: berging | F67: Niet in onderhoud | G67: Linoleum | H67: Linoleum | I67: 36.5 | K67: =SUM(L67:M67) -> 0 | L67: nio | N67: =IF(L67="nio",0,IF(L67>0,L67*I67/P67,0))*VLOOKUP(B67,'2-Kosten per locatie'!$A$14:$C$31,3,FALSE) -> 0 | O67: =IF(M67>0,M67*I67/Q67,0)*VLOOKUP(B67,'2-Kosten per locatie'!$A$14:$C$31,3,FALSE) -> 0 | P67: =IF(L67="nio",0,IF(L67>0,VLOOKUP(F67,'3-Productie normen'!A:O,VLOOKUP(L67,'3-Productie normen'!$B$38:$C$48,2,FALSE),FALSE)))*J67 -> 0 | Q67: =IF(M67>0,P67*$Q$8,0) -> 0 | R67: =VLOOKUP(F67,'3-Productie normen'!A:P,16,FALSE) -> nvt | U67: =K67*I67 -> 0
A68: 68 | B68: Apeldoornseweg 210, Arnhem | C68: BG | D68: 0.01 | E68: entree | F68: Entree | G68: Tapijt | H68: Zachte vloeren | I68: 11.2 | K68: =SUM(L68:M68) -> 200 | L68: 200 | N68: =IF(L68="nio",0,IF(L68>0,L68*I68/P68,0))*VLOOKUP(B68,'2-Kosten per locatie'!$A$14:$C$31,3,FALSE) -> #DIV/0! | O68: =IF(M68>0,M68*I68/Q68,0)*VLOOKUP(B68,'2-Kosten per locatie'!$A$14:$C$31,3,FALSE) -> 0 | P68: =IF(L68="nio",0,IF(L68>0,VLOOKUP(F68,'3-Productie normen'!A:O,VLOOKUP(L68,'3-Productie normen'!$B$38:$C$48,2,FALSE),FALSE)))*J68 -> 0 | Q68: =IF(M68>0,P68*$Q$8,0) -> 0 | R68: =VLOOKUP(F68,'3-Productie normen'!A:P,16,FALSE) -> V | U68: =K68*I68 -> 2240
A69: 69 | B69: Apeldoornseweg 210, Arnhem | C69: BG | D69: 0.02 | E69: hal | F69: Gang, hal | G69: Steen | H69: Harde vloeren zonder waslaag (overige ruimten) | I69: 143.8 | K69: =SUM(L69:M69) -> 200 | L69: 200 | N69: =IF(L69="nio",0,IF(L69>0,L69*I69/P69,0))*VLOOKUP(B69,'2-Kosten per locatie'!$A$14:$C$31,3,FALSE) -> #DIV/0! | O69: =IF(M69>0,M69*I69/Q69,0)*VLOOKUP(B69,'2-Kosten per locatie'!$A$14:$C$31,3,FALSE) -> 0 | P69: =IF(L69="nio",0,IF(L69>0,VLOOKUP(F69,'3-Productie normen'!A:O,VLOOKUP(L69,'3-Productie normen'!$B$38:$C$48,2,FALSE),FALSE)))*J69 -> 0 | Q69: =IF(M69>0,P69*$Q$8,0) -> 0 | R69: =VLOOKUP(F69,'3-Productie normen'!A:P,16,FALSE) -> V | U69: =K69*I69 -> 28760
A70: 70 | B70: Apeldoornseweg 210, Arnhem | C70: BG | D70: 0.04 | E70: theorielokaal | F70: Leslokaal | G70: Linoleum | H70: Linoleum | I70: 44.6 | K70: =SUM(L70:M70) -> 200 | L70: 200 | N70: =IF(L70="nio",0,IF(L70>0,L70*I70/P70,0))*VLOOKUP(B70,'2-Kosten per locatie'!$A$14:$C$31,3,FALSE) -> #DIV/0! | O70: =IF(M70>0,M70*I70/Q70,0)*VLOOKUP(B70,'2-Kosten per locatie'!$A$14:$C$31,3,FALSE) -> 0 | P70: =IF(L70="nio",0,IF(L70>0,VLOOKUP(F70,'3-Productie normen'!A:O,VLOOKUP(L70,'3-Productie normen'!$B$38:$C$48,2,FALSE),FALSE)))*J70 -> 0 | Q70: =IF(M70>0,P70*$Q$8,0) -> 0 | R70: =VLOOKUP(F70,'3-Productie normen'!A:P,16,FALSE) -> L | U70: =K70*I70 -> 8920
A71: 71 | B71: Apeldoornseweg 210, Arnhem | C71: BG | D71: 0.05 | E71: informatiebalie | F71: Administratieve ruimten | G71: PVC | H71: Harde vloeren zonder waslaag (overige ruimten) | I71: 20.5 | K71: =SUM(L71:M71) -> 120 | L71: 120 | N71: =IF(L71="nio",0,IF(L71>0,L71*I71/P71,0))*VLOOKUP(B71,'2-Kosten per locatie'!$A$14:$C$31,3,FALSE) -> #DIV/0! | O71: =IF(M71>0,M71*I71/Q71,0)*VLOOKUP(B71,'2-Kosten per locatie'!$A$14:$C$31,3,FALSE) -> 0 | P71: =IF(L71="nio",0,IF(L71>0,VLOOKUP(F71,'3-Productie normen'!A:O,VLOOKUP(L71,'3-Productie normen'!$B$38:$C$48,2,FALSE),FALSE)))*J71 -> 0 | Q71: =IF(M71>0,P71*$Q$8,0) -> 0 | R71: =VLOOKUP(F71,'3-Productie normen'!A:P,16,FALSE) -> B | U71: =K71*I71 -> 2460
A72: 72 | B72: Apeldoornseweg 210, Arnhem | C72: BG | D72: 0.06 | E72: medewerkers facilitair | F72: Administratieve ruimten | G72: PVC | H72: Harde vloeren zonder waslaag (overige ruimten) | I72: 17.1 | K72: =SUM(L72:M72) -> 120 | L72: 120 | N72: =IF(L72="nio",0,IF(L72>0,L72*I72/P72,0))*VLOOKUP(B72,'2-Kosten per locatie'!$A$14:$C$31,3,FALSE) -> #DIV/0! | O72: =IF(M72>0,M72*I72/Q72,0)*VLOOKUP(B72,'2-Kosten per locatie'!$A$14:$C$31,3,FALSE) -> 0 | P72: =IF(L72="nio",0,IF(L72>0,VLOOKUP(F72,'3-Productie normen'!A:O,VLOOKUP(L72,'3-Productie normen'!$B$38:$C$48,2,FALSE),FALSE)))*J72 -> 0 | Q72: =IF(M72>0,P72*$Q$8,0) -> 0 | R72: =VLOOKUP(F72,'3-Productie normen'!A:P,16,FALSE) -> B | U72: =K72*I72 -> 2052
A73: 73 | B73: Apeldoornseweg 210, Arnhem | C73: BG | D73: 0.07 | E73: werkplekken SSC | F73: Administratieve ruimten | G73: PVC | H73: Harde vloeren zonder waslaag (overige ruimten) | I73: 34.5 | K73: =SUM(L73:M73) -> 120 | L73: 120 | N73: =IF(L73="nio",0,IF(L73>0,L73*I73/P73,0))*VLOOKUP(B73,'2-Kosten per locatie'!$A$14:$C$31,3,FALSE) -> #DIV/0! | O73: =IF(M73>0,M73*I73/Q73,0)*VLOOKUP(B73,'2-Kosten per locatie'!$A$14:$C$31,3,FALSE) -> 0 | P73: =IF(L73="nio",0,IF(L73>0,VLOOKUP(F73,'3-Productie normen'!A:O,VLOOKUP(L73,'3-Productie normen'!$B$38:$C$48,2,FALSE),FALSE)))*J73 -> 0 | Q73: =IF(M73>0,P73*$Q$8,0) -> 0 | R73: =VLOOKUP(F73,'3-Productie normen'!A:P,16,FALSE) -> B | U73: =K73*I73 -> 4140
A74: 74 | B74: Apeldoornseweg 210, Arnhem | C74: BG | D74: 0.08 | E74: gang | F74: Gang, hal | G74: Steen | H74: Harde vloeren zonder waslaag (overige ruimten) | I74: 8.2 | K74: =SUM(L74:M74) -> 200 | L74: 200 | N74: =IF(L74="nio",0,IF(L74>0,L74*I74/P74,0))*VLOOKUP(B74,'2-Kosten per locatie'!$A$14:$C$31,3,FALSE) -> #DIV/0! | O74: =IF(M74>0,M74*I74/Q74,0)*VLOOKUP(B74,'2-Kosten per locatie'!$A$14:$C$31,3,FALSE) -> 0 | P74: =IF(L74="nio",0,IF(L74>0,VLOOKUP(F74,'3-Productie normen'!A:O,VLOOKUP(L74,'3-Productie normen'!$B$38:$C$48,2,FALSE),FALSE)))*J74 -> 0 | Q74: =IF(M74>0,P74*$Q$8,0) -> 0 | R74: =VLOOKUP(F74,'3-Productie normen'!A:P,16,FALSE) -> V | U74: =K74*I74 -> 1640
A75: 75 | B75: Apeldoornseweg 210, Arnhem | C75: BG | D75: 0.08a | E75: belplek | F75: Administratieve ruimten | G75: PVC | H75: Harde vloeren zonder waslaag (overige ruimten) | I75: 4.5 | K75: =SUM(L75:M75) -> 120 | L75: 120 | N75: =IF(L75="nio",0,IF(L75>0,L75*I75/P75,0))*VLOOKUP(B75,'2-Kosten per locatie'!$A$14:$C$31,3,FALSE) -> #DIV/0! | O75: =IF(M75>0,M75*I75/Q75,0)*VLOOKUP(B75,'2-Kosten per locatie'!$A$14:$C$31,3,FALSE) -> 0 | P75: =IF(L75="nio",0,IF(L75>0,VLOOKUP(F75,'3-Productie normen'!A:O,VLOOKUP(L75,'3-Productie normen'!$B$38:$C$48,2,FALSE),FALSE)))*J75 -> 0 | Q75: =IF(M75>0,P75*$Q$8,0) -> 0 | R75: =VLOOKUP(F75,'3-Productie normen'!A:P,16,FALSE) -> B | U75: =K75*I75 -> 540
A76: 76 | B76: Apeldoornseweg 210, Arnhem | C76: BG | D76: 0.08b | E76: belplek | F76: Administratieve ruimten | G76: PVC | H76: Harde vloeren zonder waslaag (overige ruimten) | I76: 5.4 | K76: =SUM(L76:M76) -> 120 | L76: 120 | N76: =IF(L76="nio",0,IF(L76>0,L76*I76/P76,0))*VLOOKUP(B76,'2-Kosten per locatie'!$A$14:$C$31,3,FALSE) -> #DIV/0! | O76: =IF(M76>0,M76*I76/Q76,0)*VLOOKUP(B76,'2-Kosten per locatie'!$A$14:$C$31,3,FALSE) -> 0 | P76: =IF(L76="nio",0,IF(L76>0,VLOOKUP(F76,'3-Productie normen'!A:O,VLOOKUP(L76,'3-Productie normen'!$B$38:$C$48,2,FALSE),FALSE)))*J76 -> 0 | Q76: =IF(M76>0,P76*$Q$8,0) -> 0 | R76: =VLOOKUP(F76,'3-Productie normen'!A:P,16,FALSE) -> B | U76: =K76*I76 -> 648
A77: 77 | B77: Apeldoornseweg 210, Arnhem | C77: BG | D77: 0.09 | E77: spreekkamer | F77: Vergaderruimten | G77: PVC | H77: Harde vloeren zonder waslaag (overige ruimten) | I77: 12.9 | K77: =SUM(L77:M77) -> 200 | L77: 200 | N77: =IF(L77="nio",0,IF(L77>0,L77*I77/P77,0))*VLOOKUP(B77,'2-Kosten per locatie'!$A$14:$C$31,3,FALSE) -> #DIV/0! | O77: =IF(M77>0,M77*I77/Q77,0)*VLOOKUP(B77,'2-Kosten per locatie'!$A$14:$C$31,3,FALSE) -> 0 | P77: =IF(L77="nio",0,IF(L77>0,VLOOKUP(F77,'3-Productie normen'!A:O,VLOOKUP(L77,'3-Productie normen'!$B$38:$C$48,2,FALSE),FALSE)))*J77 -> 0 | Q77: =IF(M77>0,P77*$Q$8,0) -> 0 | R77: =VLOOKUP(F77,'3-Productie normen'!A:P,16,FALSE) -> B | U77: =K77*I77 -> 2580
A78: 78 | B78: Apeldoornseweg 210, Arnhem | C78: BG | D78: 0.10 | E78: spreekkamer | F78: Vergaderruimten | G78: PVC | H78: Harde vloeren zonder waslaag (overige ruimten) | I78: 12.7 | K78: =SUM(L78:M78) -> 200 | L78: 200 | N78: =IF(L78="nio",0,IF(L78>0,L78*I78/P78,0))*VLOOKUP(B78,'2-Kosten per locatie'!$A$14:$C$31,3,FALSE) -> #DIV/0! | O78: =IF(M78>0,M78*I78/Q78,0)*VLOOKUP(B78,'2-Kosten per locatie'!$A$14:$C$31,3,FALSE) -> 0 | P78: =IF(L78="nio",0,IF(L78>0,VLOOKUP(F78,'3-Productie normen'!A:O,VLOOKUP(L78,'3-Productie normen'!$B$38:$C$48,2,FALSE),FALSE)))*J78 -> 0 | Q78: =IF(M78>0,P78*$Q$8,0) -> 0 | R78: =VLOOKUP(F78,'3-Productie normen'!A:P,16,FALSE) -> B | U78: =K78*I78 -> 2540
A79: 79 | B79: Apeldoornseweg 210, Arnhem | C79: BG | D79: 0.11 | E79: medewerkersgebied | F79: Administratieve ruimten | G79: PVC | H79: Harde vloeren zonder waslaag (overige ruimten) | I79: 45.8 | K79: =SUM(L79:M79) -> 120 | L79: 120 | N79: =IF(L79="nio",0,IF(L79>0,L79*I79/P79,0))*VLOOKUP(B79,'2-Kosten per locatie'!$A$14:$C$31,3,FALSE) -> #DIV/0! | O79: =IF(M79>0,M79*I79/Q79,0)*VLOOKUP(B79,'2-Kosten per locatie'!$A$14:$C$31,3,FALSE) -> 0 | P79: =IF(L79="nio",0,IF(L79>0,VLOOKUP(F79,'3-Productie normen'!A:O,VLOOKUP(L79,'3-Productie normen'!$B$38:$C$48,2,FALSE),FALSE)))*J79 -> 0 | Q79: =IF(M79>0,P79*$Q$8,0) -> 0 | R79: =VLOOKUP(F79,'3-Productie normen'!A:P,16,FALSE) -> B | U79: =K79*I79 -> 5496
... A83: 83 | B83: Apeldoornseweg 210, Arnhem | C83: BG | D83: 0.15 | E83: entree | F83: Entree | G83: Tapijt | H83: Zachte vloeren | I83: 38.3 | K83: =SUM(L83:M83) -> 200 | L83: 200 | N83: =IF(L83="nio",0,IF(L83>0,L83*I83/P83,0))*VLOOKUP(B83,'2-Kosten per locatie'!$A$14:$C$31,3,FALSE) -> #DIV/0! | O83: =IF(M83>0,M83*I83/Q83,0)*VLOOKUP(B83,'2-Kosten per locatie'!$A$14:$C$31,3,FALSE) -> 0 | P83: =IF(L83="nio",0,IF(L83>0,VLOOKUP(F83,'3-Productie normen'!A:O,VLOOKUP(L83,'3-Productie normen'!$B$38:$C$48,2,FALSE),FALSE)))*J83 -> 0 | Q83: =IF(M83>0,P83*$Q$8,0) -> 0 | R83: =VLOOKUP(F83,'3-Productie normen'!A:P,16,FALSE) -> V | U83: =K83*I83 -> 7660
A84: 84 | B84: Apeldoornseweg 210, Arnhem | C84: BG | D84: 0.15a | E84: werkkast | F84: Niet in onderhoud | G84: Steen | H84: Harde vloeren zonder waslaag (overige ruimten) | I84: 5.8 | K84: =SUM(L84:M84) -> 0 | L84: nio | N84: =IF(L84="nio",0,IF(L84>0,L84*I84/P84,0))*VLOOKUP(B84,'2-Kosten per locatie'!$A$14:$C$31,3,FALSE) -> 0 | O84: =IF(M84>0,M84*I84/Q84,0)*VLOOKUP(B84,'2-Kosten per locatie'!$A$14:$C$31,3,FALSE) -> 0 | P84: =IF(L84="nio",0,IF(L84>0,VLOOKUP(F84,'3-Productie normen'!A:O,VLOOKUP(L84,'3-Productie normen'!$B$38:$C$48,2,FALSE),FALSE)))*J84 -> 0 | Q84: =IF(M84>0,P84*$Q$8,0) -> 0 | R84: =VLOOKUP(F84,'3-Productie normen'!A:P,16,FALSE) -> nvt | U84: =K84*I84 -> 0
A85: 85 | B85: Apeldoornseweg 210, Arnhem | C85: BG | D85: 0.16 | E85: toilet | F85: Sanitaire ruimten | G85: Steen | H85: Harde vloeren zonder waslaag (natte ruimten) | I85: 4.2 | K85: =SUM(L85:M85) -> 200 | L85: 200 | N85: =IF(L85="nio",0,IF(L85>0,L85*I85/P85,0))*VLOOKUP(B85,'2-Kosten per locatie'!$A$14:$C$31,3,FALSE) -> #DIV/0! | O85: =IF(M85>0,M85*I85/Q85,0)*VLOOKUP(B85,'2-Kosten per locatie'!$A$14:$C$31,3,FALSE) -> 0 | P85: =IF(L85="nio",0,IF(L85>0,VLOOKUP(F85,'3-Productie normen'!A:O,VLOOKUP(L85,'3-Productie normen'!$B$38:$C$48,2,FALSE),FALSE)))*J85 -> 0 | Q85: =IF(M85>0,P85*$Q$8,0) -> 0 | R85: =VLOOKUP(F85,'3-Productie normen'!A:P,16,FALSE) -> S | U85: =K85*I85 -> 840
A86: 86 | B86: Apeldoornseweg 210, Arnhem | C86: BG | D86: 0.17 | E86: gang | F86: Gang, hal | G86: Steen | H86: Harde vloeren zonder waslaag (overige ruimten) | I86: 49.6 | K86: =SUM(L86:M86) -> 200 | L86: 200 | N86: =IF(L86="nio",0,IF(L86>0,L86*I86/P86,0))*VLOOKUP(B86,'2-Kosten per locatie'!$A$14:$C$31,3,FALSE) -> #DIV/0! | O86: =IF(M86>0,M86*I86/Q86,0)*VLOOKUP(B86,'2-Kosten per locatie'!$A$14:$C$31,3,FALSE) -> 0 | P86: =IF(L86="nio",0,IF(L86>0,VLOOKUP(F86,'3-Productie normen'!A:O,VLOOKUP(L86,'3-Productie normen'!$B$38:$C$48,2,FALSE),FALSE)))*J86 -> 0 | Q86: =IF(M86>0,P86*$Q$8,0) -> 0 | R86: =VLOOKUP(F86,'3-Productie normen'!A:P,16,FALSE) -> V | U86: =K86*I86 -> 9920
A87: 87 | B87: Apeldoornseweg 210, Arnhem | C87: BG | D87: 0.18 | E87: Te Ha Tex | F87: Leslokaal | G87: Linoleum | H87: Linoleum | I87: 80.7 | K87: =SUM(L87:M87) -> 200 | L87: 200 | N87: =IF(L87="nio",0,IF(L87>0,L87*I87/P87,0))*VLOOKUP(B87,'2-Kosten per locatie'!$A$14:$C$31,3,FALSE) -> #DIV/0! | O87: =IF(M87>0,M87*I87/Q87,0)*VLOOKUP(B87,'2-Kosten per locatie'!$A$14:$C$31,3,FALSE) -> 0 | P87: =IF(L87="nio",0,IF(L87>0,VLOOKUP(F87,'3-Productie normen'!A:O,VLOOKUP(L87,'3-Productie normen'!$B$38:$C$48,2,FALSE),FALSE)))*J87 -> 0 | Q87: =IF(M87>0,P87*$Q$8,0) -> 0 | R87: =VLOOKUP(F87,'3-Productie normen'!A:P,16,FALSE) -> L | U87: =K87*I87 -> 16140
A88: 88 | B88: Apeldoornseweg 210, Arnhem | C88: BG | D88: 0.19 | E88: kleedruimte dramalokaal | F88: Kleed- wasruimte | G88: Linoleum | H88: Linoleum | I88: 51.5 | K88: =SUM(L88:M88) -> 200 | L88: 200 | N88: =IF(L88="nio",0,IF(L88>0,L88*I88/P88,0))*VLOOKUP(B88,'2-Kosten per locatie'!$A$14:$C$31,3,FALSE) -> #DIV/0! | O88: =IF(M88>0,M88*I88/Q88,0)*VLOOKUP(B88,'2-Kosten per locatie'!$A$14:$C$31,3,FALSE) -> 0 | P88: =IF(L88="nio",0,IF(L88>0,VLOOKUP(F88,'3-Productie normen'!A:O,VLOOKUP(L88,'3-Productie normen'!$B$38:$C$48,2,FALSE),FALSE)))*J88 -> 0 | Q88: =IF(M88>0,P88*$Q$8,0) -> 0 | R88: =VLOOKUP(F88,'3-Productie normen'!A:P,16,FALSE) -> S | U88: =K88*I88 -> 10300
A89: 89 | B89: Apeldoornseweg 210, Arnhem | C89: BG | D89: 0.20 | E89: drama/speellokaal | F89: Leslokaal | G89: PVC | H89: Harde vloeren zonder waslaag (overige ruimten) | I89: 122.8 | K89: =SUM(L89:M89) -> 200 | L89: 200 | N89: =IF(L89="nio",0,IF(L89>0,L89*I89/P89,0))*VLOOKUP(B89,'2-Kosten per locatie'!$A$14:$C$31,3,FALSE) -> #DIV/0! | O89: =IF(M89>0,M89*I89/Q89,0)*VLOOKUP(B89,'2-Kosten per locatie'!$A$14:$C$31,3,FALSE) -> 0 | P89: =IF(L89="nio",0,IF(L89>0,VLOOKUP(F89,'3-Productie normen'!A:O,VLOOKUP(L89,'3-Productie normen'!$B$38:$C$48,2,FALSE),FALSE)))*J89 -> 0 | Q89: =IF(M89>0,P89*$Q$8,0) -> 0 | R89: =VLOOKUP(F89,'3-Productie normen'!A:P,16,FALSE) -> L | U89: =K89*I89 -> 24560
A90: 90 | B90: Apeldoornseweg 210, Arnhem | C90: BG | D90: 0.20a | E90: lockers | F90: Gang, hal | G90: Linoleum | H90: Linoleum | I90: 25 | K90: =SUM(L90:M90) -> 200 | L90: 200 | N90: =IF(L90="nio",0,IF(L90>0,L90*I90/P90,0))*VLOOKUP(B90,'2-Kosten per locatie'!$A$14:$C$31,3,FALSE) -> #DIV/0! | O90: =IF(M90>0,M90*I90/Q90,0)*VLOOKUP(B90,'2-Kosten per locatie'!$A$14:$C$31,3,FALSE) -> 0 | P90: =IF(L90="nio",0,IF(L90>0,VLOOKUP(F90,'3-Productie normen'!A:O,VLOOKUP(L90,'3-Productie normen'!$B$38:$C$48,2,FALSE),FALSE)))*J90 -> 0 | Q90: =IF(M90>0,P90*$Q$8,0) -> 0 | R90: =VLOOKUP(F90,'3-Productie normen'!A:P,16,FALSE) -> V | U90: =K90*I90 -> 5000
A91: 91 | B91: Apeldoornseweg 210, Arnhem | C91: BG | D91: 0.21 | E91: toiletten | F91: Sanitaire ruimten | G91: Steen | H91: Harde vloeren zonder waslaag (natte ruimten) | I91: 15.8 | K91: =SUM(L91:M91) -> 400 | L91: 200 | M91: 200 | N91: =IF(L91="nio",0,IF(L91>0,L91*I91/P91,0))*VLOOKUP(B91,'2-Kosten per locatie'!$A$14:$C$31,3,FALSE) -> #DIV/0! | O91: =IF(M91>0,M91*I91/Q91,0)*VLOOKUP(B91,'2-Kosten per locatie'!$A$14:$C$31,3,FALSE) -> #DIV/0! | P91: =IF(L91="nio",0,IF(L91>0,VLOOKUP(F91,'3-Productie normen'!A:O,VLOOKUP(L91,'3-Productie normen'!$B$38:$C$48,2,FALSE),FALSE)))*J91 -> 0 | Q91: =IF(M91>0,P91*$Q$8,0) -> 0 | R91: =VLOOKUP(F91,'3-Productie normen'!A:P,16,FALSE) -> S | U91: =K91*I91 -> 6320
A92: 92 | B92: Apeldoornseweg 210, Arnhem | C92: BG | D92: 0.22 | E92: toiletten | F92: Sanitaire ruimten | G92: Steen | H92: Harde vloeren zonder waslaag (natte ruimten) | I92: 14.4 | K92: =SUM(L92:M92) -> 400 | L92: 200 | M92: 200 | N92: =IF(L92="nio",0,IF(L92>0,L92*I92/P92,0))*VLOOKUP(B92,'2-Kosten per locatie'!$A$14:$C$31,3,FALSE) -> #DIV/0! | O92: =IF(M92>0,M92*I92/Q92,0)*VLOOKUP(B92,'2-Kosten per locatie'!$A$14:$C$31,3,FALSE) -> #DIV/0! | P92: =IF(L92="nio",0,IF(L92>0,VLOOKUP(F92,'3-Productie normen'!A:O,VLOOKUP(L92,'3-Productie normen'!$B$38:$C$48,2,FALSE),FALSE)))*J92 -> 0 | Q92: =IF(M92>0,P92*$Q$8,0) -> 0 | R92: =VLOOKUP(F92,'3-Productie normen'!A:P,16,FALSE) -> S | U92: =K92*I92 -> 5760
A93: 93 | B93: Apeldoornseweg 210, Arnhem | C93: BG | D93: 0.23 | E93: gang | F93: Gang, hal | G93: Steen | H93: Harde vloeren zonder waslaag (overige ruimten) | I93: 45.3 | K93: =SUM(L93:M93) -> 200 | L93: 200 | N93: =IF(L93="nio",0,IF(L93>0,L93*I93/P93,0))*VLOOKUP(B93,'2-Kosten per locatie'!$A$14:$C$31,3,FALSE) -> #DIV/0! | O93: =IF(M93>0,M93*I93/Q93,0)*VLOOKUP(B93,'2-Kosten per locatie'!$A$14:$C$31,3,FALSE) -> 0 | P93: =IF(L93="nio",0,IF(L93>0,VLOOKUP(F93,'3-Productie normen'!A:O,VLOOKUP(L93,'3-Productie normen'!$B$38:$C$48,2,FALSE),FALSE)))*J93 -> 0 | Q93: =IF(M93>0,P93*$Q$8,0) -> 0 | R93: =VLOOKUP(F93,'3-Productie normen'!A:P,16,FALSE) -> V | U93: =K93*I93 -> 9060
A94: 94 | B94: Apeldoornseweg 210, Arnhem | C94: BG | D94: 0.24 | E94: theorielokaal | F94: Leslokaal | G94: Linoleum | H94: Linoleum | I94: 67.9 | K94: =SUM(L94:M94) -> 200 | L94: 200 | N94: =IF(L94="nio",0,IF(L94>0,L94*I94/P94,0))*VLOOKUP(B94,'2-Kosten per locatie'!$A$14:$C$31,3,FALSE) -> #DIV/0! | O94: =IF(M94>0,M94*I94/Q94,0)*VLOOKUP(B94,'2-Kosten per locatie'!$A$14:$C$31,3,FALSE) -> 0 | P94: =IF(L94="nio",0,IF(L94>0,VLOOKUP(F94,'3-Productie normen'!A:O,VLOOKUP(L94,'3-Productie normen'!$B$38:$C$48,2,FALSE),FALSE)))*J94 -> 0 | Q94: =IF(M94>0,P94*$Q$8,0) -> 0 | R94: =VLOOKUP(F94,'3-Productie normen'!A:P,16,FALSE) -> L | U94: =K94*I94 -> 13580
A95: 95 | B95: Apeldoornseweg 210, Arnhem | C95: BG | D95: 0.25 | E95: spreekkamer | F95: Vergaderruimten | G95: PVC | H95: Harde vloeren zonder waslaag (overige ruimten) | I95: 17.8 | K95: =SUM(L95:M95) -> 200 | L95: 200 | N95: =IF(L95="nio",0,IF(L95>0,L95*I95/P95,0))*VLOOKUP(B95,'2-Kosten per locatie'!$A$14:$C$31,3,FALSE) -> #DIV/0! | O95: =IF(M95>0,M95*I95/Q95,0)*VLOOKUP(B95,'2-Kosten per locatie'!$A$14:$C$31,3,FALSE) -> 0 | P95: =IF(L95="nio",0,IF(L95>0,VLOOKUP(F95,'3-Productie normen'!A:O,VLOOKUP(L95,'3-Productie normen'!$B$38:$C$48,2,FALSE),FALSE)))*J95 -> 0 | Q95: =IF(M95>0,P95*$Q$8,0) -> 0 | R95: =VLOOKUP(F95,'3-Productie normen'!A:P,16,FALSE) -> B | U95: =K95*I95 -> 3560
A96: 96 | B96: Apeldoornseweg 210, Arnhem | C96: BG | D96: 0.26 | E96: lokaal | F96: Leslokaal | G96: Linoleum | H96: Linoleum | I96: 44.4 | K96: =SUM(L96:M96) -> 200 | L96: 200 | N96: =IF(L96="nio",0,IF(L96>0,L96*I96/P96,0))*VLOOKUP(B96,'2-Kosten per locatie'!$A$14:$C$31,3,FALSE) -> #DIV/0! | O96: =IF(M96>0,M96*I96/Q96,0)*VLOOKUP(B96,'2-Kosten per locatie'!$A$14:$C$31,3,FALSE) -> 0 | P96: =IF(L96="nio",0,IF(L96>0,VLOOKUP(F96,'3-Productie normen'!A:O,VLOOKUP(L96,'3-Productie normen'!$B$38:$C$48,2,FALSE),FALSE)))*J96 -> 0 | Q96: =IF(M96>0,P96*$Q$8,0) -> 0 | R96: =VLOOKUP(F96,'3-Productie normen'!A:P,16,FALSE) -> L | U96: =K96*I96 -> 8880
A97: 97 | B97: Apeldoornseweg 210, Arnhem | C97: BG | D97: 0.27 | E97: gang | F97: Gang, hal | G97: Steen | H97: Harde vloeren zonder waslaag (overige ruimten) | I97: 45 | K97: =SUM(L97:M97) -> 200 | L97: 200 | N97: =IF(L97="nio",0,IF(L97>0,L97*I97/P97,0))*VLOOKUP(B97,'2-Kosten per locatie'!$A$14:$C$31,3,FALSE) -> #DIV/0! | O97: =IF(M97>0,M97*I97/Q97,0)*VLOOKUP(B97,'2-Kosten per locatie'!$A$14:$C$31,3,FALSE) -> 0 | P97: =IF(L97="nio",0,IF(L97>0,VLOOKUP(F97,'3-Productie normen'!A:O,VLOOKUP(L97,'3-Productie normen'!$B$38:$C$48,2,FALSE),FALSE)))*J97 -> 0 | Q97: =IF(M97>0,P97*$Q$8,0) -> 0 | R97: =VLOOKUP(F97,'3-Productie normen'!A:P,16,FALSE) -> V | U97: =K97*I97 -> 9000
A98: 98 | B98: Apeldoornseweg 210, Arnhem | C98: BG | D98: 0.28 | E98: theorielokaal | F98: Leslokaal | G98: Linoleum | H98: Linoleum | I98: 45.3 | K98: =SUM(L98:M98) -> 200 | L98: 200 | N98: =IF(L98="nio",0,IF(L98>0,L98*I98/P98,0))*VLOOKUP(B98,'2-Kosten per locatie'!$A$14:$C$31,3,FALSE) -> #DIV/0! | O98: =IF(M98>0,M98*I98/Q98,0)*VLOOKUP(B98,'2-Kosten per locatie'!$A$14:$C$31,3,FALSE) -> 0 | P98: =IF(L98="nio",0,IF(L98>0,VLOOKUP(F98,'3-Productie normen'!A:O,VLOOKUP(L98,'3-Productie normen'!$B$38:$C$48,2,FALSE),FALSE)))*J98 -> 0 | Q98: =IF(M98>0,P98*$Q$8,0) -> 0 | R98: =VLOOKUP(F98,'3-Productie normen'!A:P,16,FALSE) -> L | U98: =K98*I98 -> 9060
A99: 99 | B99: Apeldoornseweg 210, Arnhem | C99: BG | D99: 0.29 | E99: theorielokaal | F99: Leslokaal | G99: Linoleum | H99: Linoleum | I99: 45 | K99: =SUM(L99:M99) -> 200 | L99: 200 | N99: =IF(L99="nio",0,IF(L99>0,L99*I99/P99,0))*VLOOKUP(B99,'2-Kosten per locatie'!$A$14:$C$31,3,FALSE) -> #DIV/0! | O99: =IF(M99>0,M99*I99/Q99,0)*VLOOKUP(B99,'2-Kosten per locatie'!$A$14:$C$31,3,FALSE) -> 0 | P99: =IF(L99="nio",0,IF(L99>0,VLOOKUP(F99,'3-Productie normen'!A:O,VLOOKUP(L99,'3-Productie normen'!$B$38:$C$48,2,FALSE),FALSE)))*J99 -> 0 | Q99: =IF(M99>0,P99*$Q$8,0) -> 0 | R99: =VLOOKUP(F99,'3-Productie normen'!A:P,16,FALSE) -> L | U99: =K99*I99 -> 9000
A100: 100 | B100: Apeldoornseweg 210, Arnhem | C100: BG | D100: 0.30 | E100: theorielokaal | F100: Leslokaal | G100: Linoleum | H100: Linoleum | I100: 44.9 | K100: =SUM(L100:M100) -> 200 | L100: 200 | N100: =IF(L100="nio",0,IF(L100>0,L100*I100/P100,0))*VLOOKUP(B100,'2-Kosten per locatie'!$A$14:$C$31,3,FALSE) -> #DIV/0! | O100: =IF(M100>0,M100*I100/Q100,0)*VLOOKUP(B100,'2-Kosten per locatie'!$A$14:$C$31,3,FALSE) -> 0 | P100: =IF(L100="nio",0,IF(L100>0,VLOOKUP(F100,'3-Productie normen'!A:O,VLOOKUP(L100,'3-Productie normen'!$B$38:$C$48,2,FALSE),FALSE)))*J100 -> 0 | Q100: =IF(M100>0,P100*$Q$8,0) -> 0 | R100: =VLOOKUP(F100,'3-Productie normen'!A:P,16,FALSE) -> L | U100: =K100*I100 -> 8980
A101: 101 | B101: Apeldoornseweg 210, Arnhem | C101: BG | D101: 0.32 | E101: spreekkamer | F101: Vergaderruimten | G101: PVC | H101: Harde vloeren zonder waslaag (overige ruimten) | I101: 5.8 | K101: =SUM(L101:M101) -> 200 | L101: 200 | N101: =IF(L101="nio",0,IF(L101>0,L101*I101/P101,0))*VLOOKUP(B101,'2-Kosten per locatie'!$A$14:$C$31,3,FALSE) -> #DIV/0! | O101: =IF(M101>0,M101*I101/Q101,0)*VLOOKUP(B101,'2-Kosten per locatie'!$A$14:$C$31,3,FALSE) -> 0 | P101: =IF(L101="nio",0,IF(L101>0,VLOOKUP(F101,'3-Productie normen'!A:O,VLOOKUP(L101,'3-Productie normen'!$B$38:$C$48,2,FALSE),FALSE)))*J101 -> 0 | Q101: =IF(M101>0,P101*$Q$8,0) -> 0 | R101: =VLOOKUP(F101,'3-Productie normen'!A:P,16,FALSE) -> B | U101: =K101*I101 -> 1160
A102: 102 | B102: Apeldoornseweg 210, Arnhem | C102: BG | D102: 0.32a | E102: spreekkamer | F102: Vergaderruimten | G102: PVC | H102: Harde vloeren zonder waslaag (overige ruimten) | I102: 6.3 | K102: =SUM(L102:M102) -> 200 | L102: 200 | N102: =IF(L102="nio",0,IF(L102>0,L102*I102/P102,0))*VLOOKUP(B102,'2-Kosten per locatie'!$A$14:$C$31,3,FALSE) -> #DIV/0! | O102: =IF(M102>0,M102*I102/Q102,0)*VLOOKUP(B102,'2-Kosten per locatie'!$A$14:$C$31,3,FALSE) -> 0 | P102: =IF(L102="nio",0,IF(L102>0,VLOOKUP(F102,'3-Productie normen'!A:O,VLOOKUP(L102,'3-Productie normen'!$B$38:$C$48,2,FALSE),FALSE)))*J102 -> 0 | Q102: =IF(M102>0,P102*$Q$8,0) -> 0 | R102: =VLOOKUP(F102,'3-Productie normen'!A:P,16,FALSE) -> B | U102: =K102*I102 -> 1260
A103: 103 | B103: Apeldoornseweg 210, Arnhem | C103: BG | D103: 0.33 | E103: kantine | F103: Restauratieve ruimten | G103: PVC | H103: Harde vloeren zonder waslaag (overige ruimten) | I103: 281 | K103: =SUM(L103:M103) -> 200 | L103: 200 | N103: =IF(L103="nio",0,IF(L103>0,L103*I103/P103,0))*VLOOKUP(B103,'2-Kosten per locatie'!$A$14:$C$31,3,FALSE) -> #DIV/0! | O103: =IF(M103>0,M103*I103/Q103,0)*VLOOKUP(B103,'2-Kosten per locatie'!$A$14:$C$31,3,FALSE) -> 0 | P103: =IF(L103="nio",0,IF(L103>0,VLOOKUP(F103,'3-Productie normen'!A:O,VLOOKUP(L103,'3-Productie normen'!$B$38:$C$48,2,FALSE),FALSE)))*J103 -> 0 | Q103: =IF(M103>0,P103*$Q$8,0) -> 0 | R103: =VLOOKUP(F103,'3-Productie normen'!A:P,16,FALSE) -> V | U103: =K103*I103 -> 56200
A104: 104 | B104: Apeldoornseweg 210, Arnhem | C104: BG | D104: 0.34 | E104: spreekkamer | F104: Vergaderruimten | G104: PVC | H104: Harde vloeren zonder waslaag (overige ruimten) | I104: 5.8 | K104: =SUM(L104:M104) -> 200 | L104: 200 | N104: =IF(L104="nio",0,IF(L104>0,L104*I104/P104,0))*VLOOKUP(B104,'2-Kosten per locatie'!$A$14:$C$31,3,FALSE) -> #DIV/0! | O104: =IF(M104>0,M104*I104/Q104,0)*VLOOKUP(B104,'2-Kosten per locatie'!$A$14:$C$31,3,FALSE) -> 0 | P104: =IF(L104="nio",0,IF(L104>0,VLOOKUP(F104,'3-Productie normen'!A:O,VLOOKUP(L104,'3-Productie normen'!$B$38:$C$48,2,FALSE),FALSE)))*J104 -> 0 | Q104: =IF(M104>0,P104*$Q$8,0) -> 0 | R104: =VLOOKUP(F104,'3-Productie normen'!A:P,16,FALSE) -> B | U104: =K104*I104 -> 1160
...

Sheet 5-Premies en opslagen
A1: Invoervelden
A3: ='2-Kosten per locatie'!A3 -> Naam opdrachtgever | B3: ='2-Kosten per locatie'!B3 -> Rijn IJssel
A4: ='2-Kosten per locatie'!A4 -> Calculatie onderdeel | B4: =MID(CELL("bestandsnaam",$C$9),SEARCH("]",CELL("bestandsnaam",$C$9),1)+1,256) -> 5-Premies en opslagen
A5: ='2-Kosten per locatie'!A5 -> Gebouw/plaats | B5: ='2-Kosten per locatie'!B5 -> Divers
A6: ='2-Kosten per locatie'!A6 -> Referentie nummer | B6: ='2-Kosten per locatie'!B6 -> RIJSDVGB2026
A7: ='2-Kosten per locatie'!A7 -> Naam dienstverlener | B7: ='2-Kosten per locatie'!B7 -> 0
A8: ='2-Kosten per locatie'!A8 -> Prijspeil | B8: ='2-Kosten per locatie'!B8 -> 46388
A10: Sociale verzekeringen
C12: Bedrijfsgemiddelde
A13: WIA Basispremie
A14: WGA
A15: ZW-flex
A16: Totaal | C16: =SUM(C13:C15) -> 0
A18: WW premie- Algemeen Werkeloosheidsfonds (Awf)
A19: Transitievergoeding
A20: Zorgverzekeringswet (Zvw)
A21: OP/NP | C21: =C34 -> #DIV/0!
A22: Kinderopvang
A23: RAS premie
A24: Totaal opslag sociale lasten | C24: =SUM(C16:C23) -> #DIV/0!
A26: Sociale verzekeringen - Ouderdomspensioen (OP/NP)
C28: werkgeversdeel
A29: SV uurloon inclusief toeslagen | C29: ='6-Opbouw uurtarief productie'!E20 -> 0
A30: Franchise OP-premie per uur | B30: Let op -/- bedrag
A31: Grondslag loon voor berekening OP premie | C31: =C29+C30 -> 0
A32: Premie Ouderdomspensioen (OP)
A34: Effectieve OP premie | C34: =(C31/C29)*C32 -> #DIV/0!
A36: Berekening werkbare dagen
B38: Schoonmaak
A39: Aantal kalenderdagen | B39: 365
A40: Weekenddagen | B40: 104
A41: Werkdagen per jaar | B41: =B39-B40 -> 261
A43: Nat. feestdagen, kort verzuim, bijz. CAO
A44: Vakantiedagen
A45: Ziektedagen
A46: Vorstverlet
A47: Werkbare dagen per jaar | B47: =B41-SUM(B43:B46) -> 261
A49: Nat. feestdagen, kort verzuim, bijz CAO | B49: =IF(B43=0,0,B43/$B$47) -> 0
A50: Vakantiedagen | B50: =IF(B44=0,0,B44/$B$47) -> 0
A51: Ziektedagen | B51: =IF(B45=0,0,B45/$B$47) -> 0
A52: Vorstverlet | B52: =IF(B46=0,0,B46/$B$47) -> 0
A53: Totaal % opslag werkbare dagen | B53: =SUM(B49:B52) -> 0
A55: Het aantal werkbare dagen per jaar is een gemiddelde over 5 jaar. Er vindt geen periodieke verrekening plaats in verband met schrikkeljaren.

Sheet 6-Opbouw uurtarief productie
A1: Invoervelden
A3: ='2-Kosten per locatie'!A3 -> Naam opdrachtgever | B3: ='2-Kosten per locatie'!B3 -> Rijn IJssel
A4: ='2-Kosten per locatie'!A4 -> Calculatie onderdeel | B4: =MID(CELL("bestandsnaam",$C$9),SEARCH("]",CELL("bestandsnaam",$C$9),1)+1,256) -> 6-Opbouw uurtarief productie
A5: ='2-Kosten per locatie'!A5 -> Gebouw/plaats | B5: ='2-Kosten per locatie'!B5 -> Divers
A6: ='2-Kosten per locatie'!A6 -> Referentie nummer | B6: ='2-Kosten per locatie'!B6 -> RIJSDVGB2026
A7: ='2-Kosten per locatie'!A7 -> Naam dienstverlener | B7: ='2-Kosten per locatie'!B7 -> 0
A8: ='2-Kosten per locatie'!A8 -> Prijspeil | B8: ='2-Kosten per locatie'!B8 -> 46388
A10: Tariefopbouw schoonmaak | E10: Gemiddeld tarief ma t/m vr | H10: Medewerker | I10: Uurlonen 1 januari 2027
I11: 1 | J11: 2 | K11: 3 | L11: 4 | M11: 5 | N11: 6
A12: Basisuurloon | B12: CAO gebonden kosten | E12: =SUM(I41:N41) -> 0 | H12: 17 jaar en jonger
A13: Specialistentoeslag | B13: CAO gebonden kosten | H13: 18 jaar
A14: Bruto uurloon | E14: =SUM(E12:E13) -> 0 | H14: 19 jaar
H15: Vakvolwassen 1 dienstjaar
A16: Vakantietoeslag | B16: CAO gebonden kosten | E16: =$C16*E14 -> 0 | H16: Vakvolwassen 2 dienstjaren
A17: Structurele eindejaarsuitkering | B17: CAO gebonden kosten | E17: =$C17*E14 -> 0 | H17: Vakvolwassen 3 dienstjaren
A18: Bruto uurloon inclusief toeslagen | E18: =SUM(E14:E17) -> 0 | F18: =IF(E18=0,0,E18/E$47) -> 0 | H18: Vakvolwassen 4 dienstjaren
A20: SV-loon grondslag voor berekening sociale verzekeringen | E20: =E18*0.96 -> 0 | H20: Medewerker | I20: Percentage per loongroep voor gemiddeld tarief
A21: Premies Sociale Verzekeringen | C21: [zie premies en opslagen] | E21: =E20*'5-Premies en opslagen'!$C24 -> #DIV/0! | I21: 1 | J21: 2 | K21: 3 | L21: 4 | M21: 5 | N21: 6
A22: Subtotaal loonkosten per uur inclusief sociale verzekeringen | E22: =E21+E18 -> #DIV/0! | F22: =IF(E22=0,0,E22/E$47) -> #DIV/0! | H22: 17 jaar en jonger
H23: 18 jaar
A24: Opslag niet werkbare dagen | C24: [zie premies en opslagen] | E24: =E22*'5-Premies en opslagen'!$B53 -> #DIV/0! | H24: 19 jaar
A25: Totaal loonkosten per uur | E25: =SUM(E22:E24) -> #DIV/0! | F25: =IF(E25=0,0,E25/E$47) -> #DIV/0! | H25: Vakvolwassen 1 dienstjaar
H26: Vakvolwassen 2 dienstjaren
A27: Materiaal/- en middelen | C27: Projectgebonden! | F27: 0 | H27: Vakvolwassen 3 dienstjaren
A28: Werkkleding en uitrusting | C28: Projectgebonden! | F28: 0 | H28: Vakvolwassen 4 dienstjaren
A29: Machinekosten | H29: Totaal per loongroepen | I29: =SUM(I22:I28) -> 0 | J29: =SUM(J22:J28) -> 0 | K29: =SUM(K22:K28) -> 0 | L29: =SUM(L22:L28) -> 0 | M29: =SUM(M22:M28) -> 0 | N29: =SUM(N22:N28) -> 0 | O29: =SUM(I29:N29) -> 0
A30: Overige cao-gerelateerde verplichtingen (reiskosten) | C30: Projectgebonden!
A32: Totaal directe kosten | E32: =SUM(E25:E31) -> #DIV/0! | F32: =IF(E32=0,0,E32/E$47) -> #DIV/0! | H32: Medewerker | I32: Opbouw gemiddeld tarief
I33: 1 | J33: 2 | K33: 3 | L33: 4 | M33: 5 | N33: 6
A34: Indirect toezicht | F34: =E34/$E$47 -> #DIV/0! | H34: 17 jaar en jonger | I34: =I22*I12 -> 0 | J34: =J22*J12 -> 0 | K34: =K22*K12 -> 0 | L34: =L22*L12 -> 0 | M34: =M22*M12 -> 0 | N34: =N22*N12 -> 0
A35: Managementkosten | F35: =E35/$E$47 -> #DIV/0! | H35: 18 jaar | I35: =I23*I13 -> 0 | J35: =J23*J13 -> 0 | K35: =K23*K13 -> 0 | L35: =L23*L13 -> 0 | M35: =M23*M13 -> 0 | N35: =N23*N13 -> 0
A36: P.Z. kosten | F36: =E36/$E$47 -> #DIV/0! | H36: 19 jaar | I36: =I24*I14 -> 0 | J36: =J24*J14 -> 0 | K36: =K24*K14 -> 0 | L36: =L24*L14 -> 0 | M36: =M24*M14 -> 0 | N36: =N24*N14 -> 0
A37: Opleiding | F37: =E37/$E$47 -> #DIV/0! | H37: Vakvolwassen 1 dienstjaar | I37: =I25*I15 -> 0 | J37: =J25*J15 -> 0 | K37: =K25*K15 -> 0 | L37: =L25*L15 -> 0 | M37: =M25*M15 -> 0 | N37: =N25*N15 -> 0
A38: Administratiekosten | F38: =E38/$E$47 -> #DIV/0! | H38: Vakvolwassen 2 dienstjaren | I38: =I26*I16 -> 0 | J38: =J26*J16 -> 0 | K38: =K26*K16 -> 0 | L38: =L26*L16 -> 0 | M38: =M26*M16 -> 0 | N38: =N26*N16 -> 0
A39: Huisvestingskosten | F39: =E39/$E$47 -> #DIV/0! | H39: Vakvolwassen 3 dienstjaren | I39: =I27*I17 -> 0 | J39: =J27*J17 -> 0 | K39: =K27*K17 -> 0 | L39: =L27*L17 -> 0 | M39: =M27*M17 -> 0 | N39: =N27*N17 -> 0
A40: Reiskosten/autokosten | C40: Projectgebonden! | F40: =E40/$E$47 -> #DIV/0! | H40: Vakvolwassen 4 dienstjaren | I40: =I28*I18 -> 0 | J40: =J28*J18 -> 0 | K40: =K28*K18 -> 0 | L40: =L28*L18 -> 0 | M40: =M28*M18 -> 0 | N40: =N28*N18 -> 0
A41: Kosten verzuimbegeleiding en re-integratie | F41: =E41/$E$47 -> #DIV/0! | H41: Totaal per loongroepen | I41: =SUM(I34:I40) -> 0 | J41: =SUM(J34:J40) -> 0 | K41: =SUM(K34:K40) -> 0 | L41: =SUM(L34:L40) -> 0 | M41: =SUM(M34:M40) -> 0 | N41: =SUM(N34:N40) -> 0
A43: Totaal indirecte kosten | E43: =SUM(E32:E42) -> #DIV/0! | F43: =IF(E43=0,0,E43/E$47) -> #DIV/0!
H44: Tarief componenten samenvatting | K44: Gemiddeld tarief ma t/m vr
A45: Risico en winst | F45: =(IF(E45=0,0,E45/E$47)) -> 0
H46: Bruto uurloon | K46: =E14 -> 0
A47: Totaal eindtarief normale werktijden [06.00-21.30 uur] | E47: =SUM(E43:E46) -> #DIV/0! | F47: =SUM(F43:F46) -> #DIV/0! | H47: Vakantietoeslag | K47: =E16 -> 0
H48: Structurele eindejaarsuitkering | K48: =E17 -> 0
A49: Totaal eindtarief [incl. 30% toeslag] | E49: =(E$25*1.3)+($E$47-$E$25) -> #DIV/0! | H49: Premies Sociale Verzekeringen | K49: =E21 -> #DIV/0!
H50: Opslag niet werkbare dagen | K50: =E24 -> #DIV/0!
A51: Totaal eindtarief weekenden [incl. 50% toeslag] | E51: =(E$25*1.5)+($E$47-$E$25) -> #DIV/0! | H51: Materiaal/- en middelen | K51: =E27 -> 0
H52: Werkkleding en uitrusting | K52: =E28 -> 0
A53: Totaal eindtarief feestdagen [incl. 150% toeslag] | E53: =(E$25*2.5)+($E$47-$E$25) -> #DIV/0! | H53: Machinekosten | K53: =E29 -> 0
H54: Indirect toezicht | K54: =E34 -> 0
H55: Managementkosten | K55: =E35 -> 0
H56: P.Z. kosten | K56: =E36 -> 0
H57: Opleiding | K57: =E37 -> 0
H58: Administratiekosten | K58: =E38 -> 0
H59: Huisvestingskosten | K59: =E39 -> 0
H60: Reiskosten/autokosten | K60: =E40 -> 0
H61: Kosten verzuimbegeleiding | K61: =E41 -> 0
H62: Risico en winst | K62: =E45 -> 0
H64: Totaal eindtarief normale werktijden [06.00-21.30 uur] | K64: =SUM(K46:K63) -> #DIV/0!
H66: Totaal eindtarief [incl. 30% toeslag] | K66: =E49 -> #DIV/0!
H68: Totaal eindtarief weekenden [incl. 50% toeslag] | K68: =E51 -> #DIV/0!
H70: Totaal eindtarief feestdagen [incl. 150% toeslag] | K70: =E53 -> #DIV/0!

Sheet 7-Opbouw uurtarief toezicht
A1: Invoervelden
A3: ='2-Kosten per locatie'!A3 -> Naam opdrachtgever | B3: ='2-Kosten per locatie'!B3 -> Rijn IJssel
A4: ='2-Kosten per locatie'!A4 -> Calculatie onderdeel | B4: =MID(CELL("bestandsnaam",$C$9),SEARCH("]",CELL("bestandsnaam",$C$9),1)+1,256) -> 7-Opbouw uurtarief toezicht
A5: ='2-Kosten per locatie'!A5 -> Gebouw/plaats | B5: ='2-Kosten per locatie'!B5 -> Divers
A6: ='2-Kosten per locatie'!A6 -> Referentie nummer | B6: ='2-Kosten per locatie'!B6 -> RIJSDVGB2026
A7: ='2-Kosten per locatie'!A7 -> Naam dienstverlener | B7: ='2-Kosten per locatie'!B7 -> 0
A8: ='2-Kosten per locatie'!A8 -> Prijspeil | B8: ='2-Kosten per locatie'!B8 -> 46388
A10: Tariefopbouw toezicht | E10: Gemiddeld tarief ma t/m vr | H10: Medewerker | I10: Uurlonen 1 januari 2027
I11: 1 | J11: 2 | K11: 3 | L11: 4 | M11: 5 | N11: 6
A12: Basisuurloon | B12: CAO gebonden kosten | E12: =SUM(I31:N31) -> 0 | H12: Vakvolwassen 1 dienstjaar
A13: Specialistentoeslag | B13: CAO gebonden kosten | H13: Vakvolwassen 2 dienstjaren
A14: Bruto uurloon | E14: =SUM(E12:E13) -> 0 | H14: Vakvolwassen 3 dienstjaren
H15: Vakvolwassen 4 dienstjaren
A16: Vakantietoeslag | B16: CAO gebonden kosten | E16: =$C16*E14 -> 0
A17: Structurele eindejaarsuitkering | B17: CAO gebonden kosten | E17: =$C17*E14 -> 0 | H17: Medewerker | I17: Percentage per loongroep voor gemiddeld tarief
A18: Bruto uurloon inclusief toeslagen | E18: =SUM(E14:E17) -> 0 | F18: =IF(E18=0,0,E18/E$46) -> 0 | I18: 1 | J18: 2 | K18: 3 | L18: 4 | M18: 5 | N18: 6
H19: Vakvolwassen 1 dienstjaar
A20: SV-loon grondslag voor berekening sociale verzekeringen | E20: =E18*0.96 -> 0 | H20: Vakvolwassen 2 dienstjaren
A21: Premies Sociale Verzekeringen | C21: [zie premies en opslagen] | E21: =E20*'5-Premies en opslagen'!$C24 -> #DIV/0! | H21: Vakvolwassen 3 dienstjaren
A22: Subtotaal loonkosten per uur inclusief sociale verzekeringen | E22: =E21+E18 -> #DIV/0! | F22: =IF(E22=0,0,E22/E$46) -> #DIV/0! | H22: Vakvolwassen 4 dienstjaren
H23: Totaal per loongroepen | I23: =SUM(I19:I22) -> 0 | J23: =SUM(J19:J22) -> 0 | K23: =SUM(K19:K22) -> 0 | L23: =SUM(L19:L22) -> 0 | M23: =SUM(M19:M22) -> 0 | N23: =SUM(N19:N22) -> 0 | O23: =SUM(I23:N23) -> 0
A24: Opslag niet werkbare dagen | C24: [zie premies en opslagen] | E24: =E22*'5-Premies en opslagen'!$B53 -> #DIV/0!
A25: Totaal loonkosten per uur | E25: =SUM(E22:E24) -> #DIV/0! | F25: =IF(E25=0,0,E25/E$46) -> #DIV/0! | H25: Medewerker | I25: Opbouw gemiddeld tarief
I26: 1 | J26: 2 | K26: 3 | L26: 4 | M26: 5 | N26: 6
A27: Materiaal/- en middelen | C27: Projectgebonden! | F27: 0 | H27: Vakvolwassen 1 dienstjaar | I27: =I19*I12 -> 0 | J27: =J19*J12 -> 0 | K27: =K19*K12 -> 0 | L27: =L19*L12 -> 0 | M27: =M19*M12 -> 0 | N27: =N19*N12 -> 0
A28: Werkkleding en uitrusting | C28: Projectgebonden! | F28: 0 | H28: Vakvolwassen 2 dienstjaren | I28: =I20*I13 -> 0 | J28: =J20*J13 -> 0 | K28: =K20*K13 -> 0 | L28: =L20*L13 -> 0 | M28: =M20*M13 -> 0 | N28: =N20*N13 -> 0
A29: Overige cao-gerelateerde verplichtingen | H29: Vakvolwassen 3 dienstjaren | I29: =I21*I14 -> 0 | J29: =J21*J14 -> 0 | K29: =K21*K14 -> 0 | L29: =L21*L14 -> 0 | M29: =M21*M14 -> 0 | N29: =N21*N14 -> 0
H30: Vakvolwassen 4 dienstjaren | I30: =I22*I15 -> 0 | J30: =J22*J15 -> 0 | K30: =K22*K15 -> 0 | L30: =L22*L15 -> 0 | M30: =M22*M15 -> 0 | N30: =N22*N15 -> 0
A31: Totaal directe kosten | E31: =SUM(E25:E30) -> #DIV/0! | F31: =IF(E31=0,0,E31/E$46) -> #DIV/0! | H31: Totaal per loongroepen | I31: =SUM(I27:I30) -> 0 | J31: =SUM(J27:J30) -> 0 | K31: =SUM(K27:K30) -> 0 | L31: =SUM(L27:L30) -> 0 | M31: =SUM(M27:M30) -> 0 | N31: =SUM(N27:N30) -> 0
A33: Indirect toezicht | F33: =E33/$E$46 -> #DIV/0!
A34: Managementkosten | F34: =E34/$E$46 -> #DIV/0!
A35: P.Z. kosten | F35: =E35/$E$46 -> #DIV/0!
A36: Opleiding | F36: =E36/$E$46 -> #DIV/0!
A37: Administratiekosten | F37: =E37/$E$46 -> #DIV/0!
A38: Huisvestingskosten | F38: =E38/$E$46 -> #DIV/0!
A39: Reiskosten/autokosten | C39: Projectgebonden! | F39: =E39/$E$46 -> #DIV/0!
A40: Kosten verzuimbegeleiding en re-integratie | F40: =E40/$E$46 -> #DIV/0!
A42: Totaal indirecte kosten | E42: =SUM(E31:E41) -> #DIV/0! | F42: =IF(E42=0,0,E42/E$46) -> #DIV/0!
H43: Tarief componenten samenvatting | K43: Gemiddeld tarief ma t/m vr
A44: Risico en winst | F44: =(IF(E44=0,0,E44/E$46)) -> 0
H45: Bruto uurloon | K45: =E14 -> 0
A46: Totaal eindtarief normale werktijden [06.00-21.30 uur] | E46: =SUM(E42:E45) -> #DIV/0! | F46: =SUM(F42:F45) -> #DIV/0! | H46: Vakantietoeslag | K46: =E16 -> 0
H47: Structurele eindejaarsuitkering | K47: =E17 -> 0
A48: Totaal eindtarief [incl. 30% toeslag] | E48: =(E$25*1.3)+($E$46-$E$25) -> #DIV/0! | H48: Premies Sociale Verzekeringen | K48: =E21 -> #DIV/0!
H49: Opslag niet werkbare dagen | K49: =E24 -> #DIV/0!
A50: Totaal eindtarief weekenden [incl. 50% toeslag] | E50: =(E$25*1.5)+($E$46-$E$25) -> #DIV/0! | H50: Materiaal/- en middelen | K50: =E27 -> 0
H51: Werkkleding en uitrusting | K51: =E28 -> 0
A52: Totaal eindtarief feestdagen [incl. 150% toeslag] | E52: =(E$25*2.5)+($E$46-$E$25) -> #DIV/0! | H52: Machinekosten | K52: =E29 -> 0
H53: Indirect toezicht | K53: =E33 -> 0
H54: Managementkosten | K54: =E34 -> 0
H55: P.Z. kosten | K55: =E35 -> 0
H56: Opleiding | K56: =E36 -> 0
H57: Administratiekosten | K57: =E37 -> 0
H58: Huisvestingskosten | K58: =E38 -> 0
H59: Reiskosten/autokosten | K59: =E39 -> 0
H60: Kosten verzuimbegeleiding | K60: =E40 -> 0
H61: Risico en winst | K61: =E44 -> 0
H63: Totaal eindtarief normale werktijden [06.00-21.30 uur] | K63: =SUM(K45:K62) -> #DIV/0!
H65: Totaal eindtarief [incl. 30% toeslag] | K65: =E48 -> #DIV/0!
H67: Totaal eindtarief weekenden [incl. 50% toeslag] | K67: =E50 -> #DIV/0!
H69: Totaal eindtarief feestdagen [incl. 150% toeslag] | K69: =E52 -> #DIV/0!

Sheet 8-Additionele kosten
A1: Invoervelden
A3: ='2-Kosten per locatie'!A3 -> Naam opdrachtgever | B3: ='2-Kosten per locatie'!B3 -> Rijn IJssel
A4: ='2-Kosten per locatie'!A4 -> Calculatie onderdeel | B4: =MID(CELL("bestandsnaam",$C$9),SEARCH("]",CELL("bestandsnaam",$C$9),1)+1,256) -> 8-Additionele kosten
A5: ='2-Kosten per locatie'!A5 -> Gebouw/plaats | B5: ='2-Kosten per locatie'!B5 -> Divers
A6: ='2-Kosten per locatie'!A6 -> Referentie nummer | B6: ='2-Kosten per locatie'!B6 -> RIJSDVGB2026
A7: ='2-Kosten per locatie'!A7 -> Naam dienstverlener | B7: ='2-Kosten per locatie'!B7 -> 0
A8: ='2-Kosten per locatie'!A8 -> Prijspeil | B8: ='2-Kosten per locatie'!B8 -> 46388
A10: Locatie | B10: Omschrijving werkzaamheden | C10: frequentie per jaar | D10: uren per m2/ beurt | E10: uren per jaar | F10: uurtarief | G10: kosten per jaar incl. toezicht
A11: Alexanderstraat 35, Arnhem | B11: Schoonmaak tijdens vakantiedag | C11: 4 | E11: =D11*C11 -> 0 | G11: =F11*E11 -> 0
A12: Apeldoornseweg 210, Arnhem | B12: Schoonmaak tijdens vakantiedag | C12: 4 | E12: =D12*C12 -> 0 | G12: =F12*E12 -> 0
A13: Beukenlaan 3, Arnhem | B13: Schoonmaak tijdens vakantiedag | C13: 4 | E13: =D13*C13 -> 0 | G13: =F13*E13 -> 0
A14: Industrieweg 26, Renkum | B14: Schoonmaak tijdens vakantiedag | C14: 4 | E14: =D14*C14 -> 0 | G14: =F14*E14 -> 0
A15: Kronenburgsingel 16, Arnhem | B15: Schoonmaak tijdens vakantiedag | C15: 4 | E15: =D15*C15 -> 0 | G15: =F15*E15 -> 0
A16: Loods, Tivolilaan 70, Arnhem | B16: Schoonmaak tijdens vakantiedag | C16: 4 | E16: =D16*C16 -> 0 | G16: =F16*E16 -> 0
A17: Marijkeweg 5, Wageningen | B17: Schoonmaak tijdens vakantiedag | C17: 4 | E17: =D17*C17 -> 0 | G17: =F17*E17 -> 0
A18: Middachtensingel 2, Arnhem | B18: Schoonmaak tijdens vakantiedag | C18: 4 | E18: =D18*C18 -> 0 | G18: =F18*E18 -> 0
A19: Paviljoen, Tivolilaan 30, Arnhem | B19: Schoonmaak tijdens vakantiedag | C19: 4 | E19: =D19*C19 -> 0 | G19: =F19*E19 -> 0
A20: Stationsplein 8, Zevenaar | B20: Schoonmaak tijdens vakantiedag | C20: 4 | E20: =D20*C20 -> 0 | G20: =F20*E20 -> 0
A21: Tech Plaza, Tivolilaan 40, Arnhem | B21: Schoonmaak tijdens vakantiedag | C21: 4 | E21: =D21*C21 -> 0 | G21: =F21*E21 -> 0
A22: Toren, Tivolilaan 10, Arnhem | B22: Schoonmaak tijdens vakantiedag | C22: 4 | E22: =D22*C22 -> 0 | G22: =F22*E22 -> 0
... A27: Witte Villa, Tivolilaan 10, Arnhem | B27: Afnemen buitenzijde watercoolers (18 stuks) | C27: 200 | E27: =D27*C27 -> 0 | G27: =F27*E27 -> 0
A28: Bovenbeekstraat, Arnhem | B28: Vloeren reinigen, sanitair schoonmaken, pantry schoonmaken en tafels en stoelen afnemen | C28: 120 | D28: 3 | E28: =D28*C28 -> 360 | G28: =F28*E28 -> 0
A29: Nijverheidstraat 1, Huissen | B29: Schoonmaak | C29: 40 | D29: 3 | E29: =D29*C29 -> 120 | G29: =F29*E29 -> 0
A31: Locatie | B31: Omschrijving kostenaspect | G31: kosten per jaar
A32: Algemeen | B32: Machinekosten | G32: ='12-Machinekosten'!Q30 -> 0
A34: Totaal | E34: =SUM(E11:E29) -> 480 | G34: =SUM(G11:G33) -> 0

Sheet 9-Afroepprijs
A1: Invoervelden
A3: ='2-Kosten per locatie'!A3 -> Naam opdrachtgever | B3: ='2-Kosten per locatie'!B3 -> Rijn IJssel
A4: ='2-Kosten per locatie'!A4 -> Calculatie onderdeel | B4: =MID(CELL("bestandsnaam",$C$9),SEARCH("]",CELL("bestandsnaam",$C$9),1)+1,256) -> 9-Afroepprijs
A5: ='2-Kosten per locatie'!A5 -> Gebouw/plaats | B5: ='2-Kosten per locatie'!B5 -> Divers
A6: ='2-Kosten per locatie'!A6 -> Referentie nummer | B6: ='2-Kosten per locatie'!B6 -> RIJSDVGB2026
A7: ='2-Kosten per locatie'!A7 -> Naam dienstverlener | B7: ='2-Kosten per locatie'!B7 -> 0
A8: ='2-Kosten per locatie'!A8 -> Prijspeil | B8: ='2-Kosten per locatie'!B8 -> 46388
A11: Vloerenonderhoud (inclusief uit-/inruimen van het meubilair)
C13: Prijs p/m² excl. btw
A14: Activiteit | B14: Toelichting | C14: 0-100m² | D14: 101-500m² | E14: 501-1000m² | F14: > 1000m²
A15: Lino-/marmoleum top-coaten | B15: 2 lagen
A16: Lino-/marmoleum re-coaten | B16: 2 lagen
A17: Lino-/marmoleum sprayen | B17: geheel
A18: Steen/PVC schrobben
A19: Tapijt sproeiextraheren
A22: Regietarieven
A24: Activiteit | B24: Toelichting | F24: Prijs p/uur excl. btw
A25: Schoonmaakonderhoud | B25: Maandag - Vrijdag
A26: Schoonmaakonderhoud | B26: Zaterdag - zondag (incl. 50% toeslag conform cao)
A27: Schoonmaakonderhoud | B27: Feestdagen (incl. 150% toeslag conform cao)
A28: Glazenwasserswerkzaamheden | B28: Maandag - Vrijdag
A31: Gladheid bestrijding
A32: Tijdstip van uitvoering | B32: Prijs p/uur excl. btw
A33: tarief ma-vr (06.00-21.30 uur)
A34: tarief ma-vr nacht (21.30-06.00 uur)
A36: Opmerking:
A37: Alle prijzen inclusief materialen en middelen, voorrijkosten en overige bijkomende kosten.
A38: Mits anders aangegeven is de uitvoering op reguliere werktijden: maandag t/m vrijdag [06.00 en 21.30 uur]

Sheet 10-Glasbewassing
A1: Invoervelden
E2: Glassoort | F2: M² prijs
A3: ='2-Kosten per locatie'!A3 -> Naam opdrachtgever | B3: ='2-Kosten per locatie'!B3 -> Rijn IJssel | E3: Buitenzijde
A4: ='2-Kosten per locatie'!A4 -> Calculatie onderdeel | B4: =MID(CELL("bestandsnaam",$C$9),SEARCH("]",CELL("bestandsnaam",$C$9),1)+1,256) -> 10-Glasbewassing | E4: Binnenzijde
A5: ='2-Kosten per locatie'!A5 -> Gebouw/plaats | B5: ='2-Kosten per locatie'!B5 -> Divers | E5: Separatieglas
A6: ='2-Kosten per locatie'!A6 -> Referentie nummer | B6: ='2-Kosten per locatie'!B6 -> RIJSDVGB2026 | E6: Gevel bi-bu en sep
A7: ='2-Kosten per locatie'!A7 -> Naam dienstverlener | B7: ='2-Kosten per locatie'!B7 -> 0 | E7: Dakglas
A8: ='2-Kosten per locatie'!A8 -> Prijspeil | B8: ='2-Kosten per locatie'!B8 -> 46388 | E8: Dakkoepel
E9: Liftglas
E10: Tourniquet
A12: Locatie | B12: Glassoort | C12: Aanvullende omschrijving | D12: Aantal m2 | E12: Kosten per m2 | F12: Kosten per beurt | G12: Frequentie per jaar | H12: Totaalkosten per jaar
A13: Alexanderstraat 35, Arnhem | B13: Gevel bi-bu en sep | D13: 880 | E13: =VLOOKUP(B13,$E$3:$F$10,2,FALSE) -> 0 | F13: =(D13*E13) -> 0 | G13: 2 | H13: =G13*F13 -> 0
A14: Apeldoornseweg 210, Arnhem | B14: Gevel bi-bu en sep | D14: 2181 | E14: =VLOOKUP(B14,$E$3:$F$10,2,FALSE) -> 0 | F14: =(D14*E14) -> 0 | G14: 2 | H14: =G14*F14 -> 0
A15: Beukenlaan 3, Arnhem | B15: Buitenzijde | D15: 1174.2 | E15: =VLOOKUP(B15,$E$3:$F$10,2,FALSE) -> 0 | F15: =(D15*E15) -> 0 | G15: 2 | H15: =G15*F15 -> 0
A16: Beukenlaan 3, Arnhem | B16: Binnenzijde | D16: 929.39 | E16: =VLOOKUP(B16,$E$3:$F$10,2,FALSE) -> 0 | F16: =(D16*E16) -> 0 | G16: 2 | H16: =G16*F16 -> 0
A17: Beukenlaan 3, Arnhem | B17: Separatieglas | C17: Dubbelzijdig gemeten en te bewassen | D17: 640 | E17: =VLOOKUP(B17,$E$3:$F$10,2,FALSE) -> 0 | F17: =(D17*E17) -> 0 | G17: 2 | H17: =G17*F17 -> 0
A18: Beukenlaan 3, Arnhem | B18: Bereikbaarheidsvoorzieningen | G18: 2 | H18: =G18*F18 -> 0
A19: Kronenburgsingel 16, Arnhem | B19: Buitenzijde | D19: 943.44 | E19: =VLOOKUP(B19,$E$3:$F$10,2,FALSE) -> 0 | F19: =(D19*E19) -> 0 | G19: 2 | H19: =G19*F19 -> 0
A20: Kronenburgsingel 16, Arnhem | B20: Binnenzijde | D20: 912.79 | E20: =VLOOKUP(B20,$E$3:$F$10,2,FALSE) -> 0 | F20: =(D20*E20) -> 0 | G20: 2 | H20: =G20*F20 -> 0
A21: Kronenburgsingel 16, Arnhem | B21: Separatieglas | C21: Dubbelzijdig gemeten en te bewassen | D21: =384.54+858.16+571.32 -> 1814.02 | E21: =VLOOKUP(B21,$E$3:$F$10,2,FALSE) -> 0 | F21: =(D21*E21) -> 0 | G21: 2 | H21: =G21*F21 -> 0
A22: Kronenburgsingel 16, Arnhem | B22: Bereikbaarheidsvoorzieningen | G22: 2 | H22: =G22*F22 -> 0
A23: Marijkeweg 5, Wageningen | B23: Buitenzijde | D23: 811.48 | E23: =VLOOKUP(B23,$E$3:$F$10,2,FALSE) -> 0 | F23: =(D23*E23) -> 0 | G23: 2 | H23: =G23*F23 -> 0
A24: Marijkeweg 5, Wageningen | B24: Binnenzijde | D24: 811.48 | E24: =VLOOKUP(B24,$E$3:$F$10,2,FALSE) -> 0 | F24: =(D24*E24) -> 0 | G24: 2 | H24: =G24*F24 -> 0
A25: Marijkeweg 5, Wageningen | B25: Separatieglas | C25: Dubbelzijdig gemeten en te bewassen | D25: 748.88 | E25: =VLOOKUP(B25,$E$3:$F$10,2,FALSE) -> 0 | F25: =(D25*E25) -> 0 | G25: 2 | H25: =G25*F25 -> 0
A26: Marijkeweg 5, Wageningen | B26: Buitenzijde | C26: Hoteldeel | D26: 145.98 | E26: =VLOOKUP(B26,$E$3:$F$10,2,FALSE) -> 0 | F26: =(D26*E26) -> 0 | G26: 2 | H26: =G26*F26 -> 0
A27: Marijkeweg 5, Wageningen | B27: Binnenzijde | C27: Hoteldeel | D27: 145.98 | E27: =VLOOKUP(B27,$E$3:$F$10,2,FALSE) -> 0 | F27: =(D27*E27) -> 0 | G27: 2 | H27: =G27*F27 -> 0
A28: Marijkeweg 5, Wageningen | B28: Separatieglas | C28: Hoteldeel, dubbelzijdig gemeten en te bewassen | D28: 18.24 | E28: =VLOOKUP(B28,$E$3:$F$10,2,FALSE) -> 0 | F28: =(D28*E28) -> 0 | G28: 2 | H28: =G28*F28 -> 0
A29: Middachtensingel 2, Arnhem | B29: Binnenzijde | C29: Begane grond | D29: 1053 | E29: =VLOOKUP(B29,$E$3:$F$10,2,FALSE) -> 0 | F29: =(D29*E29) -> 0 | G29: 12 | H29: =G29*F29 -> 0
A30: Middachtensingel 2, Arnhem | B30: Buitenzijde | C30: Begane grond | D30: 1053 | E30: =VLOOKUP(B30,$E$3:$F$10,2,FALSE) -> 0 | F30: =(D30*E30) -> 0 | G30: 12 | H30: =G30*F30 -> 0
A31: Middachtensingel 2, Arnhem | B31: Binnenzijde | C31: 1e verdieping en hoger | D31: 2884 | E31: =VLOOKUP(B31,$E$3:$F$10,2,FALSE) -> 0 | F31: =(D31*E31) -> 0 | G31: 4 | H31: =G31*F31 -> 0
A32: Middachtensingel 2, Arnhem | B32: Buitenzijde | C32: 1e verdieping en hoger | D32: 2884 | E32: =VLOOKUP(B32,$E$3:$F$10,2,FALSE) -> 0 | F32: =(D32*E32) -> 0 | G32: 4 | H32: =G32*F32 -> 0
A33: Middachtensingel 2, Arnhem | B33: Separatieglas | C33: Dubbelzijdig gemeten en te bewassen | D33: 2296.24 | E33: =VLOOKUP(B33,$E$3:$F$10,2,FALSE) -> 0 | F33: =(D33*E33) -> 0 | G33: 4 | H33: =G33*F33 -> 0
A34: Middachtensingel 2, Arnhem | B34: Separatieglas | C34: Dubbelzijdig gemeten en te bewassen | D34: 121.94 | E34: =VLOOKUP(B34,$E$3:$F$10,2,FALSE) -> 0 | F34: =(D34*E34) -> 0 | G34: 2 | H34: =G34*F34 -> 0
A35: Middachtensingel 2, Arnhem | B35: Dakglas | D35: 340 | E35: =VLOOKUP(B35,$E$3:$F$10,2,FALSE) -> 0 | F35: =(D35*E35) -> 0 | G35: 2 | H35: =G35*F35 -> 0
A36: Middachtensingel 2, Arnhem | B36: Bereikbaarheidsvoorzieningen | C36: Binnenzijde vanaf 1e verd. | G36: 4 | H36: =G36*F36 -> 0
A37: Middachtensingel 2, Arnhem | B37: Bereikbaarheidsvoorzieningen | C37: Buitenzijde vanaf 1e verd. | G37: 4 | H37: =G37*F37 -> 0
A38: Middachtensingel 2, Arnhem | B38: Bereikbaarheidsvoorzieningen | C38: Dakglas | G38: 2 | H38: =G38*F38 -> 0
A39: Stationsplein 8, Zevenaar | B39: Gevel bi-bu en sep | D39: 186.15 | E39: =VLOOKUP(B39,$E$3:$F$10,2,FALSE) -> 0 | F39: =(D39*E39) -> 0 | G39: 2 | H39: =G39*F39 -> 0
A40: Stationsplein 8, Zevenaar | B40: Tralies | G40: 2 | H40: =G40*F40 -> 0
A41: Velperweg 39/43, Arnhem | B41: Buitenzijde | D41: 781.47 | E41: =VLOOKUP(B41,$E$3:$F$10,2,FALSE) -> 0 | F41: =(D41*E41) -> 0 | G41: 2 | H41: =G41*F41 -> 0
A42: Velperweg 39/43, Arnhem | B42: Binnenzijde | D42: 763.59 | E42: =VLOOKUP(B42,$E$3:$F$10,2,FALSE) -> 0 | F42: =(D42*E42) -> 0 | G42: 2 | H42: =G42*F42 -> 0
A43: Velperweg 39/43, Arnhem | B43: Buitenzijde | C43: Schuifpui | D43: 149 | E43: =VLOOKUP(B43,$E$3:$F$10,2,FALSE) -> 0 | F43: =(D43*E43) -> 0 | G43: 2 | H43: =G43*F43 -> 0
A44: Velperweg 39/43, Arnhem | B44: Binnenzijde | C44: Schuifpui | D44: 149 | E44: =VLOOKUP(B44,$E$3:$F$10,2,FALSE) -> 0 | F44: =(D44*E44) -> 0 | G44: 2 | H44: =G44*F44 -> 0
A45: Velperweg 39/43, Arnhem | B45: Separatieglas | C45: Dubbelzijdig gemeten en te bewassen | D45: 937.68 | E45: =VLOOKUP(B45,$E$3:$F$10,2,FALSE) -> 0 | F45: =(D45*E45) -> 0 | G45: 2 | H45: =G45*F45 -> 0
A46: Velperweg 39/43, Arnhem | B46: Dakkoepel | C46: Buitenzijde | D46: 27.25 | E46: =VLOOKUP(B46,$E$3:$F$10,2,FALSE) -> 0 | F46: =(D46*E46) -> 0 | G46: 2 | H46: =G46*F46 -> 0
A47: Velperweg 39/43, Arnhem | B47: Dakkoepel | C47: Binnenzijde | D47: 27.25 | E47: =VLOOKUP(B47,$E$3:$F$10,2,FALSE) -> 0 | F47: =(D47*E47) -> 0 | G47: 2 | H47: =G47*F47 -> 0
A48: Veluwestraat 120, Arnhem | B48: Gevel bi-bu en sep | D48: 1252 | E48: =VLOOKUP(B48,$E$3:$F$10,2,FALSE) -> 0 | F48: =(D48*E48) -> 0 | G48: 2 | H48: =G48*F48 -> 0
A49: Veluwestraat 120, Arnhem | B49: Gevel bi-bu en sep | C49: Barak | D49: 134 | E49: =VLOOKUP(B49,$E$3:$F$10,2,FALSE) -> 0 | F49: =(D49*E49) -> 0 | G49: 2 | H49: =G49*F49 -> 0
A50: Industrieweg 26, Renkum | B50: Buitenzijde | D50: 58.12 | E50: =VLOOKUP(B50,$E$3:$F$10,2,FALSE) -> 0 | F50: =(D50*E50) -> 0 | G50: 2 | H50: =G50*F50 -> 0
A51: Industrieweg 26, Renkum | B51: Binnenzijde | D51: 58.12 | E51: =VLOOKUP(B51,$E$3:$F$10,2,FALSE) -> 0 | F51: =(D51*E51) -> 0 | G51: 2 | H51: =G51*F51 -> 0
A52: Industrieweg 26, Renkum | B52: Separatieglas | C52: Dubbelzijdig gemeten en te bewassen | D52: 9.3 | E52: =VLOOKUP(B52,$E$3:$F$10,2,FALSE) -> 0 | F52: =(D52*E52) -> 0 | G52: 2 | H52: =G52*F52 -> 0
A53: Paviljoen, Tivolilaan 30, Arnhem | B53: Buitenzijde | D53: 228.73 | E53: =VLOOKUP(B53,$E$3:$F$10,2,FALSE) -> 0 | F53: =(D53*E53) -> 0 | G53: 2 | H53: =G53*F53 -> 0
A54: Paviljoen, Tivolilaan 30, Arnhem | B54: Binnenzijde | D54: 227.86 | E54: =VLOOKUP(B54,$E$3:$F$10,2,FALSE) -> 0 | F54: =(D54*E54) -> 0 | G54: 2 | H54: =G54*F54 -> 0
A55: Paviljoen, Tivolilaan 30, Arnhem | B55: Separatieglas | C55: Dubbelzijdig gemeten en te bewassen | D55: 52.62 | E55: =VLOOKUP(B55,$E$3:$F$10,2,FALSE) -> 0 | F55: =(D55*E55) -> 0 | G55: 2 | H55: =G55*F55 -> 0
A56: Witte Villa, Tivolilaan 10, Arnhem | B56: Buitenzijde | D56: 1972.16 | E56: =VLOOKUP(B56,$E$3:$F$10,2,FALSE) -> 0 | F56: =(D56*E56) -> 0 | G56: 2 | H56: =G56*F56 -> 0
A57: Witte Villa, Tivolilaan 10, Arnhem | B57: Binnenzijde | D57: 1691.58 | E57: =VLOOKUP(B57,$E$3:$F$10,2,FALSE) -> 0 | F57: =(D57*E57) -> 0 | G57: 2 | H57: =G57*F57 -> 0
A58: Witte Villa, Tivolilaan 10, Arnhem | B58: Dakglas | C58: Buitenzijde | D58: 111.36 | E58: =VLOOKUP(B58,$E$3:$F$10,2,FALSE) -> 0 | F58: =(D58*E58) -> 0 | G58: 2 | H58: =G58*F58 -> 0
A59: Witte Villa, Tivolilaan 10, Arnhem | B59: Dakglas | C59: Binnenzijde | D59: 111.36 | E59: =VLOOKUP(B59,$E$3:$F$10,2,FALSE) -> 0 | F59: =(D59*E59) -> 0 | G59: 2 | H59: =G59*F59 -> 0
A60: Witte Villa, Tivolilaan 10, Arnhem | B60: Separatieglas | C60: Dubbelzijdig gemeten en te bewassen | D60: 1507.18 | E60: =VLOOKUP(B60,$E$3:$F$10,2,FALSE) -> 0 | F60: =(D60*E60) -> 0 | G60: 2 | H60: =G60*F60 -> 0
A61: Witte Villa, Tivolilaan 10, Arnhem | B61: Binnenzijde | C61: Enkel glas | D61: 29.82 | E61: =VLOOKUP(B61,$E$3:$F$10,2,FALSE) -> 0 | F61: =(D61*E61) -> 0 | G61: 2 | H61: =G61*F61 -> 0
A62: Witte Villa, Tivolilaan 10, Arnhem | B62: Separatieglas | C62: Loopbrug, dubbelzijdig gemeten en te bewassen | D62: 47 | E62: =VLOOKUP(B62,$E$3:$F$10,2,FALSE) -> 0 | F62: =(D62*E62) -> 0 | G62: 2 | H62: =G62*F62 -> 0
A63: Tech Plaza, Tivolilaan 40, Arnhem | B63: Buitenzijde | D63: 1958.77 | E63: =VLOOKUP(B63,$E$3:$F$10,2,FALSE) -> 0 | F63: =(D63*E63) -> 0 | G63: 2 | H63: =G63*F63 -> 0
A64: Tech Plaza, Tivolilaan 40, Arnhem | B64: Binnenzijde | D64: 1894.25 | E64: =VLOOKUP(B64,$E$3:$F$10,2,FALSE) -> 0 | F64: =(D64*E64) -> 0 | G64: 2 | H64: =G64*F64 -> 0
A65: Tech Plaza, Tivolilaan 40, Arnhem | B65: Buitenzijde | C65: Glasblokken | D65: 11.04 | E65: =VLOOKUP(B65,$E$3:$F$10,2,FALSE) -> 0 | F65: =(D65*E65) -> 0 | G65: 2 | H65: =G65*F65 -> 0
A66: Tech Plaza, Tivolilaan 40, Arnhem | B66: Binnenzijde | C66: Glasblokken | D66: 11.04 | E66: =VLOOKUP(B66,$E$3:$F$10,2,FALSE) -> 0 | F66: =(D66*E66) -> 0 | G66: 2 | H66: =G66*F66 -> 0
A67: Tech Plaza, Tivolilaan 40, Arnhem | B67: Tourniquet | C67: Buitenzijde | D67: 55.83 | E67: =VLOOKUP(B67,$E$3:$F$10,2,FALSE) -> 0 | F67: =(D67*E67) -> 0 | G67: 12 | H67: =G67*F67 -> 0
A68: Tech Plaza, Tivolilaan 40, Arnhem | B68: Tourniquet | C68: Binnenzijde | D68: 55.83 | E68: =VLOOKUP(B68,$E$3:$F$10,2,FALSE) -> 0 | F68: =(D68*E68) -> 0 | G68: 12 | H68: =G68*F68 -> 0
A69: Tech Plaza, Tivolilaan 40, Arnhem | B69: Separatieglas | C69: Dubbelzijdig gemeten en te bewassen | D69: 1301.1 | E69: =VLOOKUP(B69,$E$3:$F$10,2,FALSE) -> 0 | F69: =(D69*E69) -> 0 | G69: 2 | H69: =G69*F69 -> 0
A70: Tech Plaza, Tivolilaan 40, Arnhem | B70: Liftglas | C70: Dubbelzijdig | D70: 208.08 | E70: =VLOOKUP(B70,$E$3:$F$10,2,FALSE) -> 0 | F70: =(D70*E70) -> 0 | G70: 2 | H70: =G70*F70 -> 0
A71: Tech Plaza, Tivolilaan 40, Arnhem | B71: Bereikbaarheidsvoorzieningen | G71: 2 | H71: =G71*F71 -> 0
A72: Kazerneplein 6, Arnhem | B72: Buitenzijde | D72: 370 | E72: =VLOOKUP(B72,$E$3:$F$10,2,FALSE) -> 0 | F72: =(D72*E72) -> 0 | G72: 2 | H72: =G72*F72 -> 0
A73: Kazerneplein 6, Arnhem | B73: Binnenzijde | D73: 370 | E73: =VLOOKUP(B73,$E$3:$F$10,2,FALSE) -> 0 | F73: =(D73*E73) -> 0 | G73: 2 | H73: =G73*F73 -> 0
A74: Kazerneplein 6, Arnhem | B74: Separatieglas | C74: Dubbelzijdig gemeten en te bewassen | D74: 300 | E74: =VLOOKUP(B74,$E$3:$F$10,2,FALSE) -> 0 | F74: =(D74*E74) -> 0 | G74: 2 | H74: =G74*F74 -> 0
A76: Totaal | D76: =SUM(D13:D74) -> 39837.6 | H76: =SUM(H13:H74) -> 0

Sheet 11-Sanitaire voorzieningen
A1: Invoervelden
A3: ='2-Kosten per locatie'!A3 -> Naam opdrachtgever | B3: ='2-Kosten per locatie'!B3 -> Rijn IJssel
A4: ='2-Kosten per locatie'!A4 -> Calculatie onderdeel | B4: =MID(CELL("bestandsnaam",$C$9),SEARCH("]",CELL("bestandsnaam",$C$9),1)+1,256) -> 11-Sanitaire voorzieningen
A5: ='2-Kosten per locatie'!A5 -> Gebouw/plaats | B5: ='2-Kosten per locatie'!B5 -> Divers
A6: ='2-Kosten per locatie'!A6 -> Referentie nummer | B6: ='2-Kosten per locatie'!B6 -> RIJSDVGB2026
A7: ='2-Kosten per locatie'!A7 -> Naam dienstverlener | B7: ='2-Kosten per locatie'!B7 -> 0
A8: ='2-Kosten per locatie'!A8 -> Prijspeil | B8: ='2-Kosten per locatie'!B8 -> 46388
A10: Locatie | B10: Omschrijving automaat /artikel | C10: Aanvullende omschrijving | D10: Aantal colli's (afname 2025) / Aantal stuks | E10: Kosten per maand per stuk | F10: Kosten per jaar | H10: Artikel | I10: Kosten per maand per stuk | J10: Merk en productlijn | K10: Omschrijving verbruiksartikelen
A11: Algemeen | B11: luchtverfrisser | D11: 33 | E11: =VLOOKUP(B11,$H$11:$I$21,2,FALSE) -> 0 | F11: =E11*D11*12 -> 0 | H11: luchtverfrisser
A12: Algemeen | B12: mini jumborollen | C12: 2 laags 12x180 meter | D12: 746 | E12: =VLOOKUP(B12,$H$11:$I$21,2,FALSE) -> 0 | F12: =E12*D12*12 -> 0 | H12: mini jumborollen
A13: Algemeen | B13: toiletpapier | C13: 2 laags 40x212 vel | D13: 57 | E13: =VLOOKUP(B13,$H$11:$I$21,2,FALSE) -> 0 | F13: =E13*D13*12 -> 0 | H13: toiletpapier
A14: Algemeen | B14: poetsrollen | C14: 1 laags 6x300 meter | D14: 134 | E14: =VLOOKUP(B14,$H$11:$I$21,2,FALSE) -> 0 | F14: =E14*D14*12 -> 0 | H14: poetsrollen
A15: Algemeen | B15: jumborollen cellulose | C15: 2 laags 6x360 meter | D15: 170 | E15: =VLOOKUP(B15,$H$11:$I$21,2,FALSE) -> 0 | F15: =E15*D15*12 -> 0 | H15: jumborollen cellulose
A16: Algemeen | B16: handdoekrollen | C16: 2 laags 6x140 meter | D16: 5 | E16: =VLOOKUP(B16,$H$11:$I$21,2,FALSE) -> 0 | F16: =E16*D16*12 -> 0 | H16: handdoekrollen
A17: Algemeen | B17: midi poetsrollen | C17: 2 laags 6x160 meter | D17: 86 | E17: =VLOOKUP(B17,$H$11:$I$21,2,FALSE) -> 0 | F17: =E17*D17*12 -> 0 | H17: midi poetsrollen
A18: Algemeen | B18: maxirollen | C18: 3 laags 2x180 meter | D18: 30 | E18: =VLOOKUP(B18,$H$11:$I$21,2,FALSE) -> 0 | F18: =E18*D18*12 -> 0 | H18: maxirollen
A19: Algemeen | B19: handdoek papier | C19: z-vouw, 20x160 stuks | D19: 1053 | E19: =VLOOKUP(B19,$H$11:$I$21,2,FALSE) -> 0 | F19: =E19*D19*12 -> 0 | H19: handdoek papier
A20: Algemeen | B20: zeep | C20: 6x1 liter | D20: 79 | E20: =VLOOKUP(B20,$H$11:$I$21,2,FALSE) -> 0 | F20: =E20*D20*12 -> 0 | H20: zeep
A21: Algemeen | B21: mat sprakling grey 85x150 2-wekelijks wissel | D21: 5 | F21: =E21*D21*12 -> 0
A22: Algemeen | B22: mat sprakling grey 115x200 2-wekelijks wissel | D22: 5 | F22: =E22*D22*12 -> 0
A23: Algemeen | B23: mat sprakling grey 150x250 2-wekelijks wissel | D23: 4 | F23: =E23*D23*12 -> 0 | H23: Staffel bij wijziging aantal gebruikers*
A24: Algemeen | B24: damesverbandcontainers 2-wekelijkse wissel | D24: 30 | F24: =E24*D24*12 -> 0 | H24: Percentage wijziging aantal gebruikers | I24: Wijzigings percentage prijs verbruiks artikelen
A25: Algemeen | B25: damesverbandcontainers 4-wekelijkse wissel | D25: 228 | F25: =E25*D25*12 -> 0
A26: Algemeen | B26: afvalbak | C26: 20 liter | D26: 238 | F26: =E26*D26*12 -> 0
H27: 0.05
H28: 5 - 10%
A29: Totaal | D29: =SUM(D11:D27) -> 2903 | F29: =SUM(F11:F27) -> 0 | H29: 10 - 15%
H30: 15 - 20%
A31: Aan de opgegeven indicatieve eenheden kunnen geen rechten worden ontleend. | H31: 20 - 25%
A32: Alle prijzen zijn all-in, inclusief loonkosten, materiaal-, reis- en verblijfskosten, sociale lasten, voorrijkosten, parkeerkosten, | H32: 25 - 30%
A33: reserveringskosten, (de)montagekosten, transportkosten, aflever- verpakkingen, milieubelastingen, administratie, andere belastingen dan btw, | H33: >30%
A34: verzekeringspremies e.d. | H34: *als referentiepunt wordt de ingangsdatum contract gehanteerd

Sheet 12-Machinekosten
A1: Invoervelden
A3: ='2-Kosten per locatie'!A3 -> Naam opdrachtgever | B3: ='2-Kosten per locatie'!B3 -> Rijn IJssel
A4: ='2-Kosten per locatie'!A4 -> Calculatie onderdeel | B4: =MID(CELL("bestandsnaam",$D$10),SEARCH("]",CELL("bestandsnaam",$D$10),1)+1,256) -> 12-Machinekosten
A5: ='2-Kosten per locatie'!A5 -> Gebouw/plaats | B5: ='2-Kosten per locatie'!B5 -> Divers
A6: ='2-Kosten per locatie'!A6 -> Referentie nummer | B6: ='2-Kosten per locatie'!B6 -> RIJSDVGB2026
A7: ='2-Kosten per locatie'!A7 -> Naam dienstverlener | B7: ='2-Kosten per locatie'!B7 -> 0
A8: ='2-Kosten per locatie'!A8 -> Prijspeil | B8: ='2-Kosten per locatie'!B8 -> 46388
A11: Locatie | B11: Machine | C11: Omschrijving | D11: Catalogus prijs | E11: Kortings% | F11: Netto aanschaf prijs | G11: Afschrijvings- termijn in jaren | H11: Restwaarde | I11: Afschrijvings- kosten per jaar | J11: Onderhouds- kosten per jaar | K11: Renteverlies per jaar | L11: Verzekerings- kosten per jaar | N11: Totaal kosten per jaar per machine | P11: Inzet van het aantal machines [stuks] | Q11: Totaal kosten per jaar
E13: =D13*$E$12 -> 0 | F13: =D13-E13 -> 0 | G13: 4 | I13: =IF(G13=0,0,(F13-H13)/G13) -> 0 | J13: =D13*$J$12 -> 0 | K13: =D13*$K$12 -> 0 | L13: =$L$12*D13 -> 0 | N13: =SUM(I13:L13) -> 0 | Q13: =N13*P13 -> 0
E14: =D14*$E$12 -> 0 | F14: =D14-E14 -> 0 | G14: 4 | I14: =IF(G14=0,0,(F14-H14)/G14) -> 0 | J14: =D14*$J$12 -> 0 | K14: =D14*$K$12 -> 0 | L14: =$L$12*D14 -> 0 | N14: =SUM(I14:L14) -> 0 | Q14: =N14*P14 -> 0
E15: =D15*$E$12 -> 0 | F15: =D15-E15 -> 0 | G15: 4 | I15: =IF(G15=0,0,(F15-H15)/G15) -> 0 | J15: =D15*$J$12 -> 0 | K15: =D15*$K$12 -> 0 | L15: =$L$12*D15 -> 0 | N15: =SUM(I15:L15) -> 0 | Q15: =N15*P15 -> 0
E16: =D16*$E$12 -> 0 | F16: =D16-E16 -> 0 | G16: 4 | I16: =IF(G16=0,0,(F16-H16)/G16) -> 0 | J16: =D16*$J$12 -> 0 | K16: =D16*$K$12 -> 0 | L16: =$L$12*D16 -> 0 | N16: =SUM(I16:L16) -> 0 | Q16: =N16*P16 -> 0
E17: =D17*$E$12 -> 0 | F17: =D17-E17 -> 0 | G17: 4 | I17: =IF(G17=0,0,(F17-H17)/G17) -> 0 | J17: =D17*$J$12 -> 0 | K17: =D17*$K$12 -> 0 | L17: =$L$12*D17 -> 0 | N17: =SUM(I17:L17) -> 0 | Q17: =N17*P17 -> 0
E18: =D18*$E$12 -> 0 | F18: =D18-E18 -> 0 | G18: 4 | I18: =IF(G18=0,0,(F18-H18)/G18) -> 0 | J18: =D18*$J$12 -> 0 | K18: =D18*$K$12 -> 0 | L18: =$L$12*D18 -> 0 | N18: =SUM(I18:L18) -> 0 | Q18: =N18*P18 -> 0
E19: =D19*$E$12 -> 0 | F19: =D19-E19 -> 0 | G19: 4 | I19: =IF(G19=0,0,(F19-H19)/G19) -> 0 | J19: =D19*$J$12 -> 0 | K19: =D19*$K$12 -> 0 | L19: =$L$12*D19 -> 0 | N19: =SUM(I19:L19) -> 0 | Q19: =N19*P19 -> 0
E20: =D20*$E$12 -> 0 | F20: =D20-E20 -> 0 | G20: 4 | I20: =IF(G20=0,0,(F20-H20)/G20) -> 0 | J20: =D20*$J$12 -> 0 | K20: =D20*$K$12 -> 0 | L20: =$L$12*D20 -> 0 | N20: =SUM(I20:L20) -> 0 | Q20: =N20*P20 -> 0
E21: =D21*$E$12 -> 0 | F21: =D21-E21 -> 0 | G21: 4 | I21: =IF(G21=0,0,(F21-H21)/G21) -> 0 | J21: =D21*$J$12 -> 0 | K21: =D21*$K$12 -> 0 | L21: =$L$12*D21 -> 0 | N21: =SUM(I21:L21) -> 0 | Q21: =N21*P21 -> 0
E22: =D22*$E$12 -> 0 | F22: =D22-E22 -> 0 | G22: 4 | I22: =IF(G22=0,0,(F22-H22)/G22) -> 0 | J22: =D22*$J$12 -> 0 | K22: =D22*$K$12 -> 0 | L22: =$L$12*D22 -> 0 | N22: =SUM(I22:L22) -> 0 | Q22: =N22*P22 -> 0
E23: =D23*$E$12 -> 0 | F23: =D23-E23 -> 0 | G23: 4 | I23: =IF(G23=0,0,(F23-H23)/G23) -> 0 | J23: =D23*$J$12 -> 0 | K23: =D23*$K$12 -> 0 | L23: =$L$12*D23 -> 0 | N23: =SUM(I23:L23) -> 0 | Q23: =N23*P23 -> 0
E24: =D24*$E$12 -> 0 | F24: =D24-E24 -> 0 | G24: 4 | I24: =IF(G24=0,0,(F24-H24)/G24) -> 0 | J24: =D24*$J$12 -> 0 | K24: =D24*$K$12 -> 0 | L24: =$L$12*D24 -> 0 | N24: =SUM(I24:L24) -> 0 | Q24: =N24*P24 -> 0
... E28: =D28*$E$12 -> 0 | F28: =D28-E28 -> 0 | G28: 4 | I28: =IF(G28=0,0,(F28-H28)/G28) -> 0 | J28: =D28*$J$12 -> 0 | K28: =D28*$K$12 -> 0 | L28: =$L$12*D28 -> 0 | N28: =SUM(I28:L28) -> 0 | Q28: =N28*P28 -> 0
B30: Totaal | P30: =SUM(P13:P28) -> 0 | Q30: =SUM(Q13:Q28) -> 0
