Workbook
Name Invullen: Prijzenblad!#REF!

Sheet Werkblad A
A1: OMVANG VAN LEVERING Gemeente Tilburg
B4: Totaal:
A5: Type 1: zwart-wit printer minimaal 40 PPM | B5: 40
A6: Type 2: full color en zwart-wit MFP A4 minimaal 30 PPM | B6: 4
A7: Type 3: full color en zwart-wit MFP A4 en A3 minimaal 40 PPM A4 | B7: 50
B8: =SUM(B5:B7) -> 94
B10: Volume Zwart-wit | C10: Volume full color
A11: 2020 | B11: 3175822 | C11: 905208
A12: 2021 | B12: 2156535 | C12: 826314
A13: 2022 | B13: 2053703 | C13: 938975
A14: 2023 | B14: 2208960 | C14: 1036899
A15: 2024 | B15: 1990594 | C15: 1040533
A16: Gemiddeld per jaar: | B16: =SUM(B11:B15)/5 -> 2317122.8 | C16: =SUM(C11:C15)/5 -> 949585.8

Sheet Prijzenblad
A1: Prijzenblad - alle lichtgroene cellen dient inschrijver in te vullen! VERSIE juni 2026
A2: 1. Eerste 60 maanden
A3: 1.1 Vaste kosten (hardware & dienstverlening per device per maand) | C3: Aangeboden type/ model: | D3: ='Werkblad A'!A5 -> Type 1: zwart-wit printer minimaal 40 PPM | E3: ='Werkblad A'!A6 -> Type 2: full color en zwart-wit MFP A4 minimaal 30 PPM | F3: ='Werkblad A'!A7 -> Type 3: full color en zwart-wit MFP A4 en A3 minimaal 40 PPM A4
A4: 1.1.1 apparatuur en maandvergoeding (all-in) Inclusief hardware, onderhoud, support, verbruiksmaterialen, updates)
A5: Aangeboden type: | D5: <<>> | E5: <<>> | F5: <<>>
A6: VERGOEDING per type per maand | D6: 0 | E6: 0 | F6: 0
A7: PRINTMANAGEMENT per type per maand | D7: NVT | E7: 0 | F7: 0
A9: 1.1.2 optionele uitbreidingen per machine | C9: <<>> | D9: 0 | E9: 0 | F9: 0
A10: Eis 30: ladeslot | B10: Prijs per machine | C10: <<>> | D10: NVT | E10: 0 | F10: 0
A11: Eis 65: uitbreiding van 2 naar 3 papierladen. | B11: Prijs per machine | C11: <<>> | D11: 0 | E11: NVT | F11: NVT
A12: Eis 65: uitbreiding van 2 naar 4 papierladen. | B12: Prijs per machine | C12: <<>> | D12: 0 | E12: NVT | F12: NVT
A13: Eis 65: uitbreiding van 2 naar 5 papierladen. | B13: Prijs per machine | C13: <<>> | D13: 0 | E13: NVT | F13: NVT
A14: Eis 100: uitbreiding van 2 naar 3 papierladen. | B14: Prijs per machine | C14: <<>> | D14: NVT | E14: 0 | F14: NVT
A15: Eis 100: uitbreiding van 2 naar 4 papierladen. | B15: Prijs per machine | C15: <<>> | D15: NVT | E15: 0 | F15: NVT
A16: Eis 101: onderzetkast. | B16: Prijs per machine | C16: <<>> | D16: NVT | E16: 0 | F16: NVT
A17: Eis 106: Inline niet-optie. | B17: Prijs per machine | C17: <<>> | D17: NVT | E17: 0 | F17: 0
A18: Totaal per type machine | D18: =SUM(D6:D17) -> 0 | E18: =SUM(E6:E17) -> 0 | F18: =SUM(F6:F17) -> 0
A20: Totaal aantal machines | D20: ='Werkblad A'!B5 -> 40 | E20: ='Werkblad A'!B6 -> 4 | F20: ='Werkblad A'!B7 -> 50
A22: Totaalkosten vergoeding/printmanagement/opties | D22: =D3 -> Type 1: zwart-wit printer minimaal 40 PPM | E22: =E3 -> Type 2: full color en zwart-wit MFP A4 minimaal 30 PPM | F22: =F3 -> Type 3: full color en zwart-wit MFP A4 en A3 minimaal 40 PPM A4
A23: TOTAALKOSTEN PER TYPE MACHINE | D23: =D20*D18 -> 0 | E23: =E20*E18 -> 0 | F23: =F20*F18 -> 0
A24: TOTAALKOSTEN PER TYPE MACHINE PER JAAR | D24: =D23*12 -> 0 | E24: =E23*12 -> 0 | F24: =F23*12 -> 0
A25: TOTAALKOSTEN PER TYPE MACHINE 60 maanden | D25: =SUM(D24:F24)*5 -> 0
A27: 1.2 Software & platform kosten (printmanagement) | C27: Opgave prijs | D27: Totaal 60 maanden
A28: 1,2.1 SaaS oplossing
A29: Eis 43: Kosten SaaS dienst ter ondersteuning van het printproces en beheer | B29: Per maand | C29: 0 | D29: =C29*60 -> 0
A30: 1.2.2 On Premise alternatief
A31: Eis 43: Kosten omzetten SaaS dienst naar On Premise oplossing (totaal ongeacht aantal machines) | B31: Eenmalige migratiekosten | C31: 0 | D31: =C31 -> 0
A32: Eis 43: Kosten On Premise oplossing (totaal ongeacht aantal machines) | B32: Per maand | C32: 0 | D32: =C32*12 -> 0
A33: 1.2.3 Koppelingen & Integraties
A34: Eis 124: Kosten koppeling printmanagement (totaal ongeacht aantal machines) | B34: Per maand | C34: 0 | D34: =C34*60 -> 0
D35: =SUM(D29:D34) -> 0
A37: 1.3 Afdrukkosten (tikprijzen)
A38: 1.3.1 Variabele kosten (prijs per afdruk) | C38: aantal eenheden | D38: opgave prijs per eenheid/tik | E38: totaal initiële looptijd
A39: zwart afdrukken | B39: prijs per tik | C39: ='Werkblad A'!B16 -> 2317122.8 | D39: 0 | E39: =(C39*D39)*5 -> 0
A40: full color afdrukken | B40: prijs per tik | C40: ='Werkblad A'!C16 -> 949585.8 | D40: 0 | E40: =(C40*D40)*5 -> 0
A41: TOTAALKOSTEN AFDRUKKEN eerste 60 maanden | B41: =SUM(E39+E40) -> 0
A43: 2. Eerste verlengingsoptie 12 maanden
A44: 2.1 Vaste kosten (hardware & dienstverlening per device per maand) | C44: Aangeboden type/ model: | D44: =$D$3 -> Type 1: zwart-wit printer minimaal 40 PPM | E44: =$E$3 -> Type 2: full color en zwart-wit MFP A4 minimaal 30 PPM | F44: =$F$3 -> Type 3: full color en zwart-wit MFP A4 en A3 minimaal 40 PPM A4
A45: 2.1.1 apparatuur en maandvergoeding (all-in) Inclusief hardware, onderhoud, support, verbruiksmaterialen, updates)
A46: =$A$5 -> Aangeboden type: | D46: =$D$5 -> <<>> | E46: =$E$5 -> <<>> | F46: =$F$5 -> <<>>
A47: =$A$6 -> VERGOEDING per type per maand | D47: 0 | E47: 0 | F47: 0
A48: =$A$7 -> PRINTMANAGEMENT per type per maand | D48: 0 | E48: 0 | F48: 0
A50: 2.1.2 optionele uitbreiding per machine | C50: <<>> | D50: 0 | E50: 0 | F50: 0
A51: =$A$10 -> Eis 30: ladeslot | B51: Prijs per machine | C51: =$C$10 -> <<>> | D51: NVT | E51: 0 | F51: 0
A52: =$A$11 -> Eis 65: uitbreiding van 2 naar 3 papierladen. | B52: Prijs per machine | C52: =$C$11 -> <<>> | D52: 0 | E52: NVT | F52: NVT
A53: =$A$12 -> Eis 65: uitbreiding van 2 naar 4 papierladen. | B53: Prijs per machine | C53: =$C$12 -> <<>> | D53: 0 | E53: NVT | F53: NVT
A54: =$A$13 -> Eis 65: uitbreiding van 2 naar 5 papierladen. | B54: Prijs per machine | C54: =$C$13 -> <<>> | D54: 0 | E54: NVT | F54: NVT
A55: =$A$14 -> Eis 100: uitbreiding van 2 naar 3 papierladen. | B55: Prijs per machine | C55: =$C$14 -> <<>> | D55: NVT | E55: 0 | F55: NVT
A56: =$A$15 -> Eis 100: uitbreiding van 2 naar 4 papierladen. | B56: Prijs per machine | C56: =$C$15 -> <<>> | D56: NVT | E56: 0 | F56: NVT
A57: =$A$16 -> Eis 101: onderzetkast. | B57: Prijs per machine | C57: =$C$16 -> <<>> | D57: NVT | E57: 0 | F57: NVT
A58: =$A$17 -> Eis 106: Inline niet-optie. | B58: Prijs per machine | C58: =$C$17 -> <<>> | D58: NVT | E58: 0 | F58: 0
A59: Totaal per type machine | D59: =SUM(D47:D58) -> 0 | E59: =SUM(E47:E58) -> 0 | F59: =SUM(F47:F58) -> 0
A61: Totaal aantal machines | D61: =$D$20 -> 40 | E61: =$E$20 -> 4 | F61: =$F$20 -> 50
A63: Totaalkosten vergoeding/printmanagement/opties | D63: =$D$3 -> Type 1: zwart-wit printer minimaal 40 PPM | E63: =$E$3 -> Type 2: full color en zwart-wit MFP A4 minimaal 30 PPM | F63: =$F$3 -> Type 3: full color en zwart-wit MFP A4 en A3 minimaal 40 PPM A4
A64: TOTAALKOSTEN PER TYPE MACHINE | D64: =D61*D59 -> 0 | E64: =E61*E59 -> 0 | F64: =F61*F59 -> 0
A65: TOTAALKOSTEN PER TYPE MACHINE VERLENGINGSOPTIE | D65: =D64*12 -> 0 | E65: =E64*12 -> 0 | F65: =F64*12 -> 0
A66: TOTAAL (alle machines) verlengingsoptie 1 | D66: =SUM(D65:F65) -> 0
A68: 2.2. Software & platform kosten (printmanagement) | C68: Opgave prijs per maand | D68: Totaal verlengingsoptie 1
A69: 2.2.1 SaaS oplossing
A70: =$A$29 -> Eis 43: Kosten SaaS dienst ter ondersteuning van het printproces en beheer | C70: 0 | D70: =C70*12 -> 0
A71: 2.2.2 On Premise alternatief
A72: =$A$32 -> Eis 43: Kosten On Premise oplossing (totaal ongeacht aantal machines) | C72: 0 | D72: =C72*12 -> 0
A73: 2.2.3 Koppelingen & Integraties
A74: =$A$34 -> Eis 124: Kosten koppeling printmanagement (totaal ongeacht aantal machines) | C74: 0 | D74: =C74*12 -> 0
D75: =SUM(D70:D74) -> 0
A77: 2.3 Afdrukkosten (tikprijzen)
A78: 2.3.1 Variabele kosten (prijs per afdruk) | C78: aantal eenheden | D78: opgave prijs per eenheid/tik | E78: totaal verlengingsoptie
A79: zwart afdrukken | B79: prijs per tik | C79: =$C$39 -> 2317122.8 | D79: =D39 -> 0 | E79: =(C79*D79) -> 0
A80: full color afdrukken | B80: prijs per tik | C80: =$C$40 -> 949585.8 | D80: =D40 -> 0 | E80: =(C80*D80) -> 0
A81: TOTAALKOSTEN AFDRUKKEN verlengingsoptie 1 | B81: =SUM(E79:E80) -> 0
A83: 3. Tweede verlengingsoptie 12 maanden
A84: 3.1 Vaste kosten (hardware & dienstverlening per device per maand) | C84: Aangeboden type/ model: | D84: =$D$3 -> Type 1: zwart-wit printer minimaal 40 PPM | E84: =$E$3 -> Type 2: full color en zwart-wit MFP A4 minimaal 30 PPM | F84: =$F$3 -> Type 3: full color en zwart-wit MFP A4 en A3 minimaal 40 PPM A4
A85: 3.1.1 apparatuur en maandvergoeding (all-in) Inclusief hardware, onderhoud, support, verbruiksmaterialen, updates)
A86: =$A$5 -> Aangeboden type: | D86: =$D$5 -> <<>> | E86: =$E$5 -> <<>> | F86: =$F$5 -> <<>>
A87: =$A$6 -> VERGOEDING per type per maand | D87: 0 | E87: 0 | F87: 0
A88: =$A$7 -> PRINTMANAGEMENT per type per maand | D88: 0 | E88: 0 | F88: 0
A90: 3.1.2 optionele uitbreiding per machine | C90: <<>> | D90: 0 | E90: 0 | F90: 0
A91: =$A$10 -> Eis 30: ladeslot | B91: Prijs per machine | C91: =$C$10 -> <<>> | D91: NVT | E91: 0 | F91: 0
A92: =$A$11 -> Eis 65: uitbreiding van 2 naar 3 papierladen. | B92: Prijs per machine | C92: =$C$11 -> <<>> | D92: 0 | E92: NVT | F92: NVT
A93: =$A$12 -> Eis 65: uitbreiding van 2 naar 4 papierladen. | B93: Prijs per machine | C93: =$C$12 -> <<>> | D93: 0 | E93: NVT | F93: NVT
A94: =$A$13 -> Eis 65: uitbreiding van 2 naar 5 papierladen. | B94: Prijs per machine | C94: =$C$13 -> <<>> | D94: 0 | E94: NVT | F94: NVT
A95: =$A$14 -> Eis 100: uitbreiding van 2 naar 3 papierladen. | B95: Prijs per machine | C95: =$C$14 -> <<>> | D95: NVT | E95: 0 | F95: NVT
A96: =$A$15 -> Eis 100: uitbreiding van 2 naar 4 papierladen. | B96: Prijs per machine | C96: =$C$15 -> <<>> | D96: NVT | E96: 0 | F96: NVT
A97: =$A$16 -> Eis 101: onderzetkast. | B97: Prijs per machine | C97: =$C$16 -> <<>> | D97: NVT | E97: 0 | F97: NVT
A98: =$A$17 -> Eis 106: Inline niet-optie. | B98: Prijs per machine | C98: =$C$17 -> <<>> | D98: NVT | E98: 0 | F98: 0
A99: Totaal per type machine | D99: =SUM(D87:D98) -> 0 | E99: =SUM(E87:E98) -> 0 | F99: =SUM(F87:F98) -> 0
A101: Totaal aantal machines | D101: =$D$20 -> 40 | E101: =$E$20 -> 4 | F101: =$F$20 -> 50
A103: Totaalkosten vergoeding/printmanagement/opties | D103: =$D$3 -> Type 1: zwart-wit printer minimaal 40 PPM | E103: =$E$3 -> Type 2: full color en zwart-wit MFP A4 minimaal 30 PPM | F103: =$F$3 -> Type 3: full color en zwart-wit MFP A4 en A3 minimaal 40 PPM A4
A104: TOTAALKOSTEN PER TYPE MACHINE | D104: =D101*D99 -> 0 | E104: =E101*E99 -> 0 | F104: =F101*F99 -> 0
A105: TOTAALKOSTEN PER TYPE MACHINE VERLENGINGSOPTIE | D105: =D104*12 -> 0 | E105: =E104*12 -> 0 | F105: =F104*12 -> 0
A106: TOTAAL (alle machines) verlengingsoptie 2 | D106: =SUM(D105:F105) -> 0
A108: 3.2. Software & platform kosten (printmanagement) | C108: Opgave prijs per maand | D108: Totaal verlengingsoptie 2
A109: 3.2.1 SaaS oplossing
A110: =$A$29 -> Eis 43: Kosten SaaS dienst ter ondersteuning van het printproces en beheer | C110: 0 | D110: =C110*12 -> 0
A111: 3.2.2 On Premise alternatief
A112: =$A$32 -> Eis 43: Kosten On Premise oplossing (totaal ongeacht aantal machines) | C112: 0 | D112: =C112*12 -> 0
A113: 3.2.3 Koppelingen & Integraties
A114: =$A$34 -> Eis 124: Kosten koppeling printmanagement (totaal ongeacht aantal machines) | C114: 0 | D114: =C114*12 -> 0
D115: =SUM(D110:D114) -> 0
A117: 3.3 Afdrukkosten (tikprijzen)
...
