Workbook
Name Invullen: Prijzenblad!#REF!

Sheet Werkblad A
A1: OMVANG VAN LEVERING Gemeente Tilburg
B4: Totaal:
A5: Type 1: zwart-wit printer minimaal 40 PPM | B5: 40
A6: Type 2: full color en zwart-wit MFP A4 minimaal 30 PPM | B6: 4
A7: Type 3: full color en zwart-wit MFP A4 en A3 minimaal 40 PPM A4 | B7: 50
B8: =SUM(B5:B7) -> 94
B10: Volume Zwart-wit | C10: Volume full color
A11: 2020 | B11: 3175822 | C11: 905208
A12: 2021 | B12: 2156535 | C12: 826314
A13: 2022 | B13: 2053703 | C13: 938975
A14: 2023 | B14: 2208960 | C14: 1036899
A15: 2024 | B15: 1990594 | C15: 1040533
A16: Gemiddeld per jaar: | B16: =SUM(B11:B15)/5 -> 2317122.8 | C16: =SUM(C11:C15)/5 -> 949585.8

Sheet Prijzenblad
A1: Prijzenblad - alle lichtgroene cellen dient inschrijver in te vullen! VERSIE juni 2026
A2: 1. Eerste 60 maanden
A3: 1.1 Vaste kosten (hardware & dienstverlening per device per maand) | C3: Aangeboden type/ model: | D3: ='Werkblad A'!A5 -> Type 1: zwart-wit printer minimaal 40 PPM | E3: ='Werkblad A'!A6 -> Type 2: full color en zwart-wit MFP A4 minimaal 30 PPM | F3: ='Werkblad A'!A7 -> Type 3: full color en zwart-wit MFP A4 en A3 minimaal 40 PPM A4
A4: 1.1.1 apparatuur en maandvergoeding (all-in) Inclusief hardware, onderhoud, support, verbruiksmaterialen, updates)
A5: Aangeboden type: | D5: <<>> | E5: <<>> | F5: <<>>
A6: VERGOEDING per type per maand | D6: 0 | E6: 0 | F6: 0
A7: PRINTMANAGEMENT per type per maand | D7: NVT | E7: 0 | F7: 0
A9: 1.1.2 optionele uitbreidingen per machine | C9: <<>> | D9: 0 | E9: 0 | F9: 0
A10: Eis 30: ladeslot | B10: Prijs per machine | C10: <<>> | D10: NVT | E10: 0 | F10: 0
A11: Eis 65: uitbreiding van 2 naar 3 papierladen. | B11: Prijs per machine | C11: <<>> | D11: 0 | E11: NVT | F11: NVT
A12: Eis 65: uitbreiding van 2 naar 4 papierladen. | B12: Prijs per machine | C12: <<>> | D12: 0 | E12: NVT | F12: NVT
A13: Eis 65: uitbreiding van 2 naar 5 papierladen. | B13: Prijs per machine | C13: <<>> | D13: 0 | E13: NVT | F13: NVT
A14: Eis 100: uitbreiding van 2 naar 3 papierladen. | B14: Prijs per machine | C14: <<>> | D14: NVT | E14: 0 | F14: NVT
A15: Eis 100: uitbreiding van 2 naar 4 papierladen. | B15: Prijs per machine | C15: <<>> | D15: NVT | E15: 0 | F15: NVT
A16: Eis 101: onderzetkast. | B16: Prijs per machine | C16: <<>> | D16: NVT | E16: 0 | F16: NVT
A17: Eis 106: Inline niet-optie. | B17: Prijs per machine | C17: <<>> | D17: NVT | E17: 0 | F17: 0
A18: Totaal per type machine | D18: =SUM(D6:D17) -> 0 | E18: =SUM(E6:E17) -> 0 | F18: =SUM(F6:F17) -> 0
A20: Totaal aantal machines | D20: ='Werkblad A'!B5 -> 40 | E20: ='Werkblad A'!B6 -> 4 | F20: ='Werkblad A'!B7 -> 50
A22: Totaalkosten vergoeding/printmanagement/opties | D22: =D3 -> Type 1: zwart-wit printer minimaal 40 PPM | E22: =E3 -> Type 2: full color en zwart-wit MFP A4 minimaal 30 PPM | F22: =F3 -> Type 3: full color en zwart-wit MFP A4 en A3 minimaal 40 PPM A4
A23: TOTAALKOSTEN PER TYPE MACHINE | D23: =D20*D18 -> 0 | E23: =E20*E18 -> 0 | F23: =F20*F18 -> 0
A24: TOTAALKOSTEN PER TYPE MACHINE PER JAAR | D24: =D23*12 -> 0 | E24: =E23*12 -> 0 | F24: =F23*12 -> 0
A25: TOTAALKOSTEN PER TYPE MACHINE 60 maanden | D25: =SUM(D24:F24)*5 -> 0
A27: 1.2 Software & platform kosten (printmanagement) | C27: Opgave prijs | D27: Totaal 60 maanden
A28: 1,2.1 SaaS oplossing
A29: Eis 43: Kosten SaaS dienst ter ondersteuning van het printproces en beheer | B29: Per maand | C29: 0 | D29: =C29*60 -> 0
A30: 1.2.2 On Premise alternatief
A31: Eis 43: Kosten omzetten SaaS dienst naar On Premise oplossing (totaal ongeacht aantal machines) | B31: Eenmalige migratiekosten | C31: 0 | D31: =C31 -> 0
A32: Eis 43: Kosten On Premise oplossing (totaal ongeacht aantal machines) | B32: Per maand | C32: 0 | D32: =C32*12 -> 0
A33: 1.2.3 Koppelingen & Integraties
A34: Eis 124: Kosten koppeling printmanagement (totaal ongeacht aantal machines) | B34: Per maand | C34: 0 | D34: =C34*60 -> 0
D35: =SUM(D29:D34) -> 0
A37: 1.3 Afdrukkosten (tikprijzen)
A38: 1.3.1 Variabele kosten (prijs per afdruk) | C38: aantal eenheden | D38: opgave prijs per eenheid/tik | E38: totaal initiële looptijd
A39: zwart afdrukken | B39: prijs per tik | C39: ='Werkblad A'!B16 -> 2317122.8 | D39: 0 | E39: =(C39*D39)*5 -> 0
A40: full color afdrukken | B40: prijs per tik | C40: ='Werkblad A'!C16 -> 949585.8 | D40: 0 | E40: =(C40*D40)*5 -> 0
A41: TOTAALKOSTEN AFDRUKKEN eerste 60 maanden | B41: =SUM(E39+E40) -> 0
A43: 2. Eerste verlengingsoptie 12 maanden
A44: 2.1 Vaste kosten (hardware & dienstverlening per device per maand) | C44: Aangeboden type/ model: | D44: =$D$3 -> Type 1: zwart-wit printer minimaal 40 PPM | E44: =$E$3 -> Type 2: full color en zwart-wit MFP A4 minimaal 30 PPM | F44: =$F$3 -> Type 3: full color en zwart-wit MFP A4 en A3 minimaal 40 PPM A4
A45: 2.1.1 apparatuur en maandvergoeding (all-in) Inclusief hardware, onderhoud, support, verbruiksmaterialen, updates)
A46: =$A$5 -> Aangeboden type: | D46: =$D$5 -> <<>> | E46: =$E$5 -> <<>> | F46: =$F$5 -> <<>>
...
