Workbook

Sheet Aanbod & kortingspercentages
A1: VOERTUIGEN & OPSLAG- KORTINGSPERCENTAGES (Perceel 1)
A3: Verplicht invulveld | C3: Toelichting: Inschrijver wordt gevraagd de licht blauwe velden in te vullen. Als een voertuig leverbaar is dient inschrijver het merk, model en uitvoering in te vullen. De ingevulde opslag-, kortingspercentages en het voertuigaanbod worden automatisch verrekend in het prijzenblad. Alleen de meest voorkomende voertuigen (groen gearceerd) dienen volledig conform de opgegeven specificaties (zie tabblad specificatie voertuig ..) uitgewerkt te worden door Inschrijver. De bruto cataloguswaarde van het voertuig, inclusief opties en accessoires en de kostprijs voor de op- en inbouw dienen voor deze voertuigen ingevuld te worden op het tabblad 'prijzenblad'.
A4: Indien leverbaar JA, velden invullen.
A5: Volledig uit te werken t.b.v. beoordeling
A8: Toegepast Opslagpercentage
A9: Opslagpercentage op- & inbouw | B9: Inschrijver wordt verzocht een opslagpercentage over de eigen kostprijs voor op- & inbouw te offreren, waarin alle kosten en winst voor Inschrijver verwerkt dienen te zijn. De kostprijs is de prijs die Opdrachtnemer ontvangt van de fabrikant of leverancier. Eventuele bekende en achteraf te verrekenen kortingen van fabrikant of leverancier dienen hierin ook te zijn verwerkt. Indien VRZHZ de juistheid van de aangeboden prijs wil verifiëren, dan biedt Opdrachtnemer inzage in haar administratie om zo aantoonbaar te maken dat de juiste opslagpercentages zijn toegepast. Indien VRZHZ twijfelt aan de calculatie van de prijzen en uw inzage in administratie of een onderbouwing naar mening van VRZHZ niet voldoende is, heeft VRZHZ de mogelijkheid om een marktconformiteitstoets uit te voeren. De marktconformiteitstoets vindt plaats op de volgende wijze: VRZHZ onderzoekt de tarieven en prijzen van andere marktpartijen die een zelfde, of zoveel mogelijk vergelijkbaar product leveren.
A10: Toegepast Kortingspercentage
A11: Kortingspercentage voertuig | B11: Als blijkt dat het aangeboden kortingspercentage over de bruto cataloguswaarde van het voertuig inclusief opties en accessoires (af fabriek en af dealer), exclusief opbouw en belastingen, naar oordeel van VRZHZ disproportioneel en niet marktconform is, heeft VRZHZ de mogelijkheid om een marktconformiteitstoets uit te voeren. De marktconformiteitstoets vindt plaats op de volgende wijze: VRZHZ onderzoekt de tarieven en prijzen van andere marktpartijen die een zelfde, of zoveel mogelijk vergelijkbaar product leveren. Indien er sprake is van disproportionaliteit, heeft VRZHZ het recht de aanschaf van het betreffende voertuig/de betreffende voertuigen, uit te besteden aan een derde.
A12: 100% elektrisch | B12: Toegepast kortingspercentage over de bruto cataloguswaarde van het voertuig inclusief opties en accessoires (af fabriek en af dealer), exclusief opbouw en belastingen. | G12: 0.1
A13: Plugin Hybride | B13: Toegepast kortingspercentage over de bruto cataloguswaarde van het voertuig inclusief opties en accessoires (af fabriek en af dealer), exclusief opbouw en belastingen. | G13: 0
A14: Fossiel | B14: Toegepast kortingspercentage over de bruto cataloguswaarde van het voertuig inclusief opties en accessoires (af fabriek en af dealer), exclusief opbouw en belastingen. | G14: 0
A15: Segment / voertuigtypen | B15: Aandrijving | C15: Verplicht te leveren aandrijving | D15: Leverbaar Ja/Nee | E15: Merk | F15: Model + uitvoering | G15: Toegepast kortingspercentage over de bruto cataloguswaarde van het voertuig inclusief opties en accessoires (af fabriek en af dealer), exclusief opbouw en belastingen.
A16: Voertuig 1 Standaard dienstvoertuigen - B/C-segment Compacte personenauto | B16: 100% elektrisch | C16: Verplicht | D16: Ja
B17: Plug-in Hybride | C17: 1 van de 2 verplicht
B18: Fossiel
A20: Voertuig 2 1e lijns piketvoertuigen - C/D of L segment Kleine middenklasse personenauto / SUV | B20: 100% elektrisch | C20: Verplicht | D20: Ja
B21: Plug-in Hybride | C21: Verplicht | D21: Ja
B22: Fossiel | C22: Optioneel
A24: Voertuig 3 MPV / Kleine bedrijfswagen ( 5 & 2 zitplaatsen) N-segment klein Ten minste in één van de genoemde aandrijvingen leverbaar | B24: 100% elektrisch | C24: 1 van de 3 verplicht
B25: Plug-in Hybride
B26: Fossiel
A28: Voertuig 4 Middelgrote bedrijfswagen (2 zits & 5 zits) N-segment middel Naast 100% elektrisch leverbaar in hybride of fossiele aandrijving | B28: 100% elektrisch | C28: Verplicht | D28: Ja
B29: Plug-in Hybride | C29: 1 van de 2 verplicht
B30: Fossiel
A32: Voertuig 5 Middelgrote personenbus (8 personen) N-segment middel Naast 100% elektrisch leverbaar in hybride of fossiele aandrijving | B32: 100% elektrisch | C32: Verplicht | D32: Ja
B33: Plugin Hybride | C33: 1 van de 2 verplicht
B34: Fossiel
A36: Voertuig 6 Grote bedrijfswagen, B-rijbewijs (2 zits & 5 zits) N-segment groot | B36: 100% elektrisch | C36: Optioneel
B37: Plug-in Hybride
B38: Fossiel | C38: Verplicht | D38: Ja
A40: Voertuig 7 Grote bedrijfswagen, B-rijbewijs (chassis cabine) N-segment groot | B40: 100% elektrisch | C40: Optioneel
B41: Plug-in Hybride
B42: Fossiel | C42: Verplicht | D42: Ja

Sheet Prijzenblad
A1: PRIJZENBLAD (Perceel 1)
A3: Verplicht invulveld
A5: Voertuig 1: Standaard dienstvoertuig, 100% elektrisch
A6: Prijscomponent
A7: Bruto catalogusprijs obv voertuig conform PVE | D7: 0
A8: Toegepast kortingspercentage over de bruto cataloguswaarde van het voertuig inclusief opties en accesoires (af fabriek en af dealer), exclusief opbouw en belastingen. | D8: ='Aanbod & kortingspercentages'!G16 -> 0
A9: Korting in Euro's | D9: =D7*D8 -> 0
A10: Bruto catalogusprijs minus korting | D10: =D7-D9 -> 0
A11: Accessoires | D11: 0
A12: Op- & inbouw | D12: 0
C13: Totaalprijs voertuig 1 | D13: =D10+D11+D12 -> 0
A14: Kwaliteitscomponent 1 Rijbereik
A15: Rijbereik (WLTLP - gecombineerd)
A16: Fictieve waarde Rijbereik (WLTLP - gecombineerd) | D16: =IF(D15='Hulpveld Rekenvelden'!A4,'Hulpveld Rekenvelden'!B4,(IF(D15='Hulpveld Rekenvelden'!A5,'Hulpveld Rekenvelden'!B5,(IF(D15='Hulpveld Rekenvelden'!A6,'Hulpveld Rekenvelden'!B6,(IF(D15='Hulpveld Rekenvelden'!A7,'Hulpveld Rekenvelden'!B7,(IF(D15='Hulpveld Rekenvelden'!A8,'Hulpveld Rekenvelden'!B8,(IF(D15='Hulpveld Rekenvelden'!A9,'Hulpveld Rekenvelden'!B9,(IF(D15='Hulpveld Rekenvelden'!A10,'Hulpveld Rekenvelden'!B10,(IF(D15='Hulpveld Rekenvelden'!A11,'Hulpveld Rekenvelden'!B11,(IF(D15='Hulpveld Rekenvelden'!A12,'Hulpveld Rekenvelden'!B12))))))))))))))))) -> FALSE
A17: Kwaliteitscomponent 2 Duurzaamheid
A18: Duurzaamheid
A19: Fictieve korting/waarde Duurzaamheid | D19: =IF(D18='Hulpveld Rekenvelden'!D4,'Hulpveld Rekenvelden'!E4,(IF(D18='Hulpveld Rekenvelden'!D5,'Hulpveld Rekenvelden'!E5,(IF(D18='Hulpveld Rekenvelden'!D6,'Hulpveld Rekenvelden'!E6,(IF(D18='Hulpveld Rekenvelden'!D7,'Hulpveld Rekenvelden'!E7,(IF(D18='Hulpveld Rekenvelden'!D8,'Hulpveld Rekenvelden'!E8))))))))) -> FALSE
A21: Voertuig 2: 1e lijns piketvoertuig, 100% elektrisch
A22: Prijscomponent
A23: Bruto Catalogusprijs voertuig conform PVE | D23: 0
A24: Toegepast kortingspercentage over de bruto cataloguswaarde van het voertuig inclusief opties en accesoires (af fabriek en af dealer), exclusief opbouw en belastingen. | D24: ='Aanbod & kortingspercentages'!G20 -> 0
A25: Korting in Euro's | D25: =D23*D24 -> 0
A26: Bruto Catalogusprijs minus korting | D26: =D23-D25 -> 0
A27: Accessoires | D27: 0
A28: Op- & inbouw | D28: 0
C29: Totaalprijs voertuig 2 | D29: =D26+D27+D28 -> 0
A30: Kwaliteitscomponent 1 Rijbereik
A31: Rijbereik (WLTLP - gecombineerd)
A32: Fictieve korting Rijbereik (WLTLP - gecombineerd) | D32: =IF(D31='Hulpveld Rekenvelden'!A17,'Hulpveld Rekenvelden'!B17,(IF(D31='Hulpveld Rekenvelden'!A18,'Hulpveld Rekenvelden'!B18,(IF(D31='Hulpveld Rekenvelden'!A19,'Hulpveld Rekenvelden'!B19,(IF(D31='Hulpveld Rekenvelden'!A20,'Hulpveld Rekenvelden'!B20,(IF(D31='Hulpveld Rekenvelden'!A21,'Hulpveld Rekenvelden'!B21,(IF(D31='Hulpveld Rekenvelden'!A22,'Hulpveld Rekenvelden'!B22,(IF(D31='Hulpveld Rekenvelden'!A23,'Hulpveld Rekenvelden'!B23,(IF(D31='Hulpveld Rekenvelden'!A24,'Hulpveld Rekenvelden'!B24,(IF(D31='Hulpveld Rekenvelden'!A25,'Hulpveld Rekenvelden'!B25))))))))))))))))) -> FALSE
A33: Kwaliteitscomponent 2 Duurzaamheid
A34: Duurzaamheid
A35: Fictieve korting Duurzaamheid | D35: =IF(D34='Hulpveld Rekenvelden'!D18,'Hulpveld Rekenvelden'!E18,(IF(D34='Hulpveld Rekenvelden'!D19,'Hulpveld Rekenvelden'!E19,(IF(D34='Hulpveld Rekenvelden'!D20,'Hulpveld Rekenvelden'!E20,(IF(D34='Hulpveld Rekenvelden'!D21,'Hulpveld Rekenvelden'!E21,(IF(D34='Hulpveld Rekenvelden'!D22,'Hulpveld Rekenvelden'!E22))))))))) -> FALSE
A37: Voertuig 5: Middelgrote personenbus (8 personen), 100% elektrisch
A38: Prijscomponent
A39: Bruto Catalogusprijs obv voertuig conform PVE | D39: 0
A40: Toegepast kortingspercentage over de bruto cataloguswaarde van het voertuig inclusief opties en accesoires (af fabriek en af dealer), exclusief opbouw en belastingen. | D40: ='Aanbod & kortingspercentages'!G32 -> 0
A41: Korting in Euro's | D41: =D39*D40 -> 0
A42: Bruto Catalogusprijs minus korting | D42: =D39-D41 -> 0
A43: Accessoires | D43: 0
A44: Op- & inbouw | D44: 0
...

Sheet Specificaties voertuig 1
A1: Voertuig 1: Standaard dienstvoertuig - B/C segement (100% elektrisch)
A3: Toelichting
A4: De inschrijfprijs voor een standaard dienstvoertuig (B/C - segment) dient gebaseerd te zijn op een volledig elektrisch voertuig dat voldoet aan de eisen uit het Programma van Eisen. Qua uitvoering dient bij de inschrijfprijs rekening gehouden met een operationele uitvoering en de in deze specificatie opgenomen optionele eisen / uitvoering.
A6: Omschrijving
A7: Standaard dienstvoertuig (B/C segment)
A8: Eis | B8: 100% elektrische uitvoering | C8: Alg.
A9: Eis | B9: Voldoen aan de eisen genoemde onder 'Algemeen' in het PvE | C9: Alg. PvE
A10: Eis | B10: Voldoen aan de eisen voor een operationeel voertuig genoemd onder 'Algemeen Op- & inbouw' in het PvE | C10: Alg. PvE
A11: Eis | B11: Voldoen aan de eisen genoemd onder 'Specifiek B-C' in het PvE | C11: Spec. PvE
A13: Verplicht te leveren opties aanvullend op de algemene en specifieke eisen
A14: Optie | B14: Kleur: Brandweerrood - RAL3000 | C14: Alg. 2.1
A15: Optie | B15: Striping conform geldende voorschriften met de volgende specificaties: | C15: Alg. 2.4
B16: regionaam: Zuid-Holland Zuid
B17: voertuignummer: 18-0000
B18: functienaam: NTB
A19: Optie | B19: Primaire verlichting: één vast op het dak gemonteerde rondom schijnende beacon in de kleuren blauw & amber (PVE, uitvoering 2) | C19: Opi 3.2
A20: Optie | B20: Inbouw van één aangeleverde carkit met portofoon, inclusief daarbij behorende voeding 12V, dak-antenne, ptt-schakelaar, microfoon en speaker. | C20: Opi 4.2 t/m 4.5
A21: Optie | B21: Inbouw van één aangeleverde handlamp in lader, inclusief 12V voeding | C21: Opi 5.2

Sheet Specificaties voertuig 2
A1: Voertuig 2: 1e lijns piketvoertuig - C/D of L-segement (100% elektrisch)
A3: Toelichting
A4: De inschrijfprijs voor een 1e lijns piketvoertuig (C/D of L - segment) dient gebaseerd te zijn op een volledig elektrisch voertuig dat voldoet aan de eisen uit het Programma van Eisen. Qua uitvoering dient bij de inschrijfprijs rekening gehouden met een operationele uitvoering en de in deze specificatie opgenomen optionele eisen / uitvoering.
A6: Omschrijving | C6: Verwijzing PvE
A7: 1e lijns piketvoertuig (C/D of L-segment)
A8: Eis | B8: 100% elektrische uitvoering | C8: Alg.
A9: Eis | B9: Voldoen aan de eisen genoemde onder 'Algemeen' in het PvE | C9: Alg. PvE
A10: Eis | B10: Voldoen aan de eisen voor een operationeel voertuig genoemd onder 'Algemeen Op- & inbouw' in het PvE | C10: Alg. PvE
A11: Eis | B11: Voldoen aan de eisen genoemd onder 'Specifiek C-D & L' in het PvE | C11: Spec. PvE
A13: Verplicht te leveren opties aanvullend op de algemene en specifieke eisen
A14: Optie | B14: Kleur: Brandweerrood - RAL3000 | C14: Alg. 2.1
A15: Optie | B15: Striping conform geldende voorschriften met de volgende specificaties: | C15: Alg. 2.4
B16: regionaam: Zuid-Holland Zuid
B17: voertuignummer: 18-0000
B18: functienaam: Algemeen commandant
A19: Optie | B19: Privacyglas vanaf de B-stijl naar achter incl. achterruit conform PvE | C19: Alg. 2.7
A20: Optie | B20: Achteruitrij-camera af fabriek die het terrein achter het voertuig middels een display op het dashboard voor de bestuurder in het zich brengt wanneer de achteruitrijversnelling is ingesteld. | C20: Alg. 2.15
A21: Optie | B21: Het voertuig is optioneel uitgerust met een voorziening, zodat bij vorst (tot -10 oC en neerslag) het voertuig binnen 2 minuten (zonder aanvullende hulpmiddelen) inzetbaar is. Met inzetbaar wordt bedoeld dat er voldoende zicht is om veilig met het voertuig te kunnen rijden. | C21: Alg. 3.18
A22: Optie | B22: Het voertuig wordt geleverd met een SCM klasse 3 gecertificeerd alarmsysteem of gelijkwaardig. Het certificaat dient overlegd te worden bij aflevering. | C22: Alg. 4.5
A23: Optie | B23: Het voertuig wordt door opdrachtnemer voorzien van een extra (onderhoudsarme) accessoire-accu. | C23: Opi. 2.2
A24: Optie | B24: Capaciteit van de extra accessoire-accu is tenminste 100Ah en dient alle elektrische apparatuur gedurende tenminste 4 uur van stroom te kunnen blijven voorzien bij een niet draaiende motor. | C24: Opi 2.3
A25: Optie | B25: Primaire verliching: één vaste module op het dak gemonteerd in de kleuren blauw & amber (PvE uitvoering 1) | C25: Opi 3.2
A26: Optie | B26: Secudaire verlichting in de kleuren blauw en amber die bij geopende achterklep zichtbaar is voor het verkeer. | C26: Opi 3.4
A27: Optie | B27: Secundaire verlichting: 2x grill-flitser kleur blauw & amber, 2x nummerplaatflitser in de kleur blauw aan elke kant 1 en spiegelflitsters in de kleur blauw of indien spiegelflitsers niet mogelijk zijn bumper flitser in de kleur blauw. | C27: Opi 3.7
A28: Optie | B28: Knipperende koplampen conform PvE | C28: Opi 3.11
A29: Optie | B29: Inbouw van één aangeleverde carkit, inclusief voeding voor een mobiele telefoon. | C29: Opi 4.1
A30: Optie | B30: Inbouw van twee aangeleverde carkits voor een C2000 portofoon, inclusief daarbij behorende voeding 12V, dak-antenne, ptt-schakelaar, microfoon en speaker. | C30: Opi 4.2 t/m 4.5
... A34: Optie | B34: Bagageruimte is voorzien van een rubber vloermat | C34: C/L-1.0

Sheet Specificaties voertuig 5
A1: Voertuig 5: Middelgrote personenbus (8 personen) - N-segment middel (100% elektrisch)
A3: Toelichting
A4: De inschrijfprijs voor een middelgrote personenbus (8 personen) dient gebaseerd te zijn op een volledig elektrisch voertuig dat voldoet aan de eisen uit het Programma van Eisen. Qua uitvoering dient bij de inschrijfprijs rekening gehouden met een operationele uitvoering en de in deze specificatie opgenomen optionele eisen / uitvoering.
A6: Omschrijving | C6: Verwijzing PvE
A7: Middelgrote personenbus (8 personen)
A8: Eis | B8: 100% elektrische uitvoering | C8: Alg.
A9: Eis | B9: Voldoen aan de eisen genoemde onder 'Algemeen' in het PvE | C9: Alg. PvE
A10: Eis | B10: Voldoen aan de eisen voor een operationeel voertuig genoemd onder 'Algemeen Op- & inbouw' in het PvE | C10: Alg. PvE
A11: Eis | B11: Voldoen aan de eisen genoemd onder 'Specifiek N-Middel' in het PvE | C11: Spec. PvE
A13: Verplicht te leveren opties aanvullend op de algemene en specifieke eisen
A14: Optie | B14: Kleur: Brandweerrood - RAL3000 | C14: Alg. 2.1
A15: Optie | B15: Striping conform geldende voorschriften met de volgende specificaties: | C15: Alg. 2.4
B16: regionaam: Zuid-Holland Zuid
B17: voertuignummer: 18-0000
B18: functienaam: DB
A19: Optie | B19: Privacyglas vanaf de B-stijl naar achter incl. achterruit conform PvE | C19: Alg. 2.7
A20: Optie | B20: Achteruitrij-camera af fabriek die het terrein achter het voertuig middels een display op het dashboard voor de bestuurder in het zich brengt wanneer de achteruitrijversnelling is ingesteld. | C20: Alg. 2.15
A21: Optie | B21: Primaire verliching: één vaste module op het dak gemonteerd in de kleuren blauw & amber (PvE uitvoering 1). | C21: Opi 3.2
A22: Optie | B22: Secundaire verlichting: 2x grill-flitser kleur blauw & amber. | C22: Opi 3.7
A23: Optie | B23: Extra werkverlichting t.b.v. bagage- / werkruimte | C23: Opi 5.1
A24: Optie | B24: Inbouw van één aangeleverde handlamp in lader, inclusief 12V voeding | C24: Opi 5.2
A25: Optie | B25: Het voertuig is leverbaar met een klep, met verwarmbare achterruit | C25: N-mid 1.15 / 1.16
A26: Optie | B26: Bagageruimte is voorzien van een rubber vloermat | C26: N-mid 1.26

Sheet Hulpveld Rekenvelden
A2: Score matrix - voertuig 1 | D2: Score matrix - voertuig 1
A3: rijbereik (km) | B3: Fictieve korting | D3: Energieverbruik | E3: Fictieve korting
A4: ≥350 | B4: 0 | D4: ≤13 Kwh/100km | E4: 8000
A5: ≥375 | B5: 0 | D5: ≤14 Kwh/100km | E5: 6000
A6: ≥400 | B6: 1000 | D6: ≤15 Kwh/100km | E6: 4000
A7: ≥425 | B7: 2000 | D7: ≤16 Kwh/100km | E7: 2000
A8: ≥450 | B8: 3000 | D8: >16 Kwh/100km | E8: 0
A9: ≥475 | B9: 4000
A10: ≥500 | B10: 5000
A11: ≥525 | B11: 6000
A12: >550 | B12: 7000
H14: OPZET VOOR PLUG-IN HYBRIDE
A15: Score matrix - voertuig 2 | H15: Score matrix - voertuig 2
A16: rijbereik (km) | B16: Fictieve korting | D16: Score matrix - voertuig 2 | H16: rijbereik (km) | I16: Fictieve korting | K16: Score matrix - voertuig 2
A17: ≥450 | B17: 0 | D17: Energieverbruik | E17: Fictieve korting | H17: ≥50 | I17: 0 | K17: Energieverbruik | L17: Fictieve korting
A18: ≥475 | B18: 0 | D18: ≤14 Kwh/100km | E18: 8000 | H18: ≥60 | I18: 0 | K18: ≤17 Kwh/100km | L18: 8000
A19: ≥500 | B19: 1000 | D19: ≤15 Kwh/100km | E19: 6000 | H19: ≥70 | I19: 1000 | K19: ≤18 Kwh/100km | L19: 6000
A20: ≥525 | B20: 2000 | D20: ≤16 Kwh/100km | E20: 4000 | H20: ≥80 | I20: 2000 | K20: ≤19 Kwh/100km | L20: 4000
A21: ≥550 | B21: 3000 | D21: ≤17 Kwh/100km | E21: 2000 | H21: ≥90 | I21: 3000 | K21: ≤20 Kwh/100km | L21: 2000
A22: ≥575 | B22: 4000 | D22: >17 Kwh/100km | E22: 0 | H22: ≥100 | I22: 4000 | K22: >20 Kwh/100km | L22: 0
A23: ≥600 | B23: 5000 | H23: ≥110 | I23: 5000
A24: ≥625 | B24: 6000 | H24: ≥120 | I24: 6000
A25: >650 | B25: 7000 | H25: >130 | I25: 7000
A30: Score matrix - voertuig 3
A31: rijbereik (km) | B31: Fictieve korting | D31: Score matrix - voertuig 3
A32: ≥300 | B32: 0 | D32: Energieverbruik | E32: Fictieve korting
A33: ≥310 | B33: 0 | D33: ≤23Kwh/100km | E33: 8000
A34: ≥320 | B34: 1000 | D34: ≤24 Kwh/100km | E34: 6000
A35: ≥330 | B35: 2000 | D35: ≤25 Kwh/100km | E35: 4000
A36: ≥340 | B36: 3000 | D36: ≤26 Kwh/100km | E36: 2000
A37: ≥350 | B37: 4000 | D37: >26Kwh/100km | E37: 0
A38: ≥360 | B38: 5000 | D38: Niet elektrisch leverbaar | E38: -5000
A39: ≥370 | B39: 6000
A40: >380 | B40: 7000
