Workbook

Sheet Winst en verlies rekening
B2: Standaardformulier W15 Financieel economische onderbouwing Waddenveren West | H2: Instructie
E3: Versie juli 2026 | H3: Vul de oranje cellen in
B4: Inschrijver
F7: 2029 | G7: 2030 | H7: 2031 | I7: 2032 | J7: 2033 | K7: 2034 | L7: 2035 | M7: 2036 | N7: 2037 | O7: 2038 | P7: 2039 | Q7: 2040 | R7: 2041 | S7: 2042 | T7: 2043
E8: Van | F8: 47127 | G8: 47484 | H8: 47849 | I8: 48214 | J8: 48580 | K8: 48945 | L8: 49310 | M8: 49675 | N8: 50041 | O8: 50406 | P8: 50771 | Q8: 51136 | R8: 51502 | S8: 51867 | T8: 52232
E9: tot en met | F9: 47483 | G9: 47848 | H9: 48213 | I9: 48579 | J9: 48944 | K9: 49309 | L9: 49674 | M9: 50040 | N9: 50405 | O9: 50770 | P9: 51135 | Q9: 51501 | R9: 51866 | S9: 52231 | T9: 52600
E10: Dagen | F10: =(DATEDIF(F8,F9,"D"))+1 -> 357 | G10: =(DATEDIF(G8,G9,"D"))+1 -> 365 | H10: =(DATEDIF(H8,H9,"D"))+1 -> 365 | I10: =(DATEDIF(I8,I9,"D"))+1 -> 366 | J10: =(DATEDIF(J8,J9,"D"))+1 -> 365 | K10: =(DATEDIF(K8,K9,"D"))+1 -> 365 | L10: =(DATEDIF(L8,L9,"D"))+1 -> 365 | M10: =(DATEDIF(M8,M9,"D"))+1 -> 366 | ... T10: =(DATEDIF(T8,T9,"D"))+1 -> 369
C11: Directe kosten
B13: A | C13: Loonkosten direct Personeel | F13: =SUM(F14:F15) -> 0 | G13: =SUM(G14:G15) -> 0 | H13: =SUM(H14:H15) -> 0 | I13: =SUM(I14:I15) -> 0 | J13: =SUM(J14:J15) -> 0 | K13: =SUM(K14:K15) -> 0 | L13: =SUM(L14:L15) -> 0 | M13: =SUM(M14:M15) -> 0 | ... T13: =SUM(T14:T15) -> 0
B14: A.01 | C14: Loonkosten direct Personeel | D14: A.01 | F14: =A.01!B7 -> 0 | G14: =A.01!C7 -> 0 | H14: =A.01!D7 -> 0 | I14: =A.01!E7 -> 0 | J14: =A.01!F7 -> 0 | K14: =A.01!G7 -> 0 | L14: =A.01!H7 -> 0 | M14: =A.01!I7 -> 0 | ... T14: =A.01!P7 -> 0
B15: A.02 | C15: Overige personeelskosten direct Pers. | F15: =SUM(F16:F17) -> 0 | G15: =SUM(G16:G17) -> 0 | H15: =SUM(H16:H17) -> 0 | I15: =SUM(I16:I17) -> 0 | J15: =SUM(J16:J17) -> 0 | K15: =SUM(K16:K17) -> 0 | L15: =SUM(L16:L17) -> 0 | M15: =SUM(M16:M17) -> 0 | ... T15: =SUM(T16:T17) -> 0
B16: A.02.1 | C16: … < specificeren > … | F16: 0 | G16: 0 | H16: 0 | I16: 0 | J16: 0 | K16: 0 | L16: 0 | M16: 0 | N16: 0 | O16: 0 | P16: 0 | Q16: 0 | R16: 0 | S16: 0 | T16: 0
B17: A.02.1 | C17: … < specificeren > … | F17: 0 | G17: 0 | H17: 0 | I17: 0 | J17: 0 | K17: 0 | L17: 0 | M17: 0 | N17: 0 | O17: 0 | P17: 0 | Q17: 0 | R17: 0 | S17: 0 | T17: 0
B19: B | C19: Kosten schepen | F19: =SUM(F20:F24) -> 0 | G19: =SUM(G20:G24) -> 0 | H19: =SUM(H20:H24) -> 0 | I19: =SUM(I20:I24) -> 0 | J19: =SUM(J20:J24) -> 0 | K19: =SUM(K20:K24) -> 0 | L19: =SUM(L20:L24) -> 0 | M19: =SUM(M20:M24) -> 0 | ... T19: =SUM(T20:T24) -> 0
B20: B.01 | C20: Afschrijvingskosten Schepen | D20: B.01 | F20: =B.01!N23 -> 0 | G20: =B.01!N24 -> 0 | H20: =B.01!N25 -> 0 | I20: =B.01!N26 -> 0 | J20: =B.01!N27 -> 0 | K20: =B.01!N28 -> 0 | L20: =B.01!N29 -> 0 | M20: =B.01!N30 -> 0 | N20: =B.01!N31 -> 0 | O20: =B.01!N32 -> 0 | P20: =B.01!N33 -> 0 | Q20: =B.01!N34 -> 0 | R20: =B.01!N35 -> 0 | S20: =B.01!N36 -> 0 | T20: =B.01!N37 -> 0
B21: B.02 | C21: Kosten Operational lease/inhuur Schepen | F21: 0 | G21: 0 | H21: 0 | I21: 0 | J21: 0 | K21: 0 | L21: 0 | M21: 0 | N21: 0 | O21: 0 | P21: 0 | Q21: 0 | R21: 0 | S21: 0 | T21: 0
B22: B.03 | C22: Onderhoudskosten Schepen | D22: B.03 | F22: =B.03!$J$9 -> 0 | G22: =B.03!$J$10 -> 0 | H22: =B.03!$J$11 -> 0 | I22: =B.03!$J$12 -> 0 | J22: =B.03!$J$13 -> 0 | K22: =B.03!$J$14 -> 0 | L22: =B.03!$J$15 -> 0 | M22: =B.03!$J$16 -> 0 | N22: =B.03!$J$17 -> 0 | O22: =B.03!$J$18 -> 0 | P22: =B.03!$J$19 -> 0 | Q22: =B.03!$J$920 -> 0 | R22: =B.03!$J$21 -> 0 | S22: =B.03!$J$22 -> 0 | T22: =B.03!$J$23 -> 0
B23: B.04 | C23: Brandstof Schepen | D23: B.04 | F23: =B.04!B28 -> 0 | G23: =B.04!C28 -> 0 | H23: =B.04!D28 -> 0 | I23: =B.04!E28 -> 0 | J23: =B.04!F28 -> 0 | K23: =B.04!G28 -> 0 | L23: =B.04!H28 -> 0 | M23: =B.04!I28 -> 0 | ... T23: =B.04!P28 -> 0
B24: B.05 | C24: Overige kosten Schepen | F24: =SUM(F25:F26) -> 0 | G24: =SUM(G25:G26) -> 0 | H24: =SUM(H25:H26) -> 0 | I24: =SUM(I25:I26) -> 0 | J24: =SUM(J25:J26) -> 0 | K24: =SUM(K25:K26) -> 0 | L24: =SUM(L25:L26) -> 0 | M24: =SUM(M25:M26) -> 0 | ... T24: =SUM(T25:T26) -> 0
B25: B.05.01 | C25: … < specificeren > … | F25: 0 | G25: 0 | H25: 0 | I25: 0 | J25: 0 | K25: 0 | L25: 0 | M25: 0 | N25: 0 | O25: 0 | P25: 0 | Q25: 0 | R25: 0 | S25: 0 | T25: 0
B26: B.05.02 | C26: … < specificeren > … | F26: 0 | G26: 0 | H26: 0 | I26: 0 | J26: 0 | K26: 0 | L26: 0 | M26: 0 | N26: 0 | O26: 0 | P26: 0 | Q26: 0 | R26: 0 | S26: 0 | T26: 0
B29: C | C29: Kosten Productiemiddelen | F29: =SUM(F30:F34) -> 0 | G29: =SUM(G30:G34) -> 0 | H29: =SUM(H30:H34) -> 0 | I29: =SUM(I30:I34) -> 0 | J29: =SUM(J30:J34) -> 0 | K29: =SUM(K30:K34) -> 0 | L29: =SUM(L30:L34) -> 0 | M29: =SUM(M30:M34) -> 0 | ... T29: =SUM(T30:T34) -> 0
B30: C.01 | C30: Vergoeding Productiemiddelen Vastgoedovereenkomst | F30: =0.0685*(F57+F82) -> 0 | G30: =0.0685*(G57+G82) -> 0 | H30: =0.0685*(H57+H82) -> 0 | I30: =0.0685*(I57+I82) -> 0 | J30: =0.0685*(J57+J82) -> 0 | K30: =0.0685*(K57+K82) -> 0 | L30: =0.0685*(L57+L82) -> 0 | M30: =0.0685*(M57+M82) -> 0 | ... T30: =0.0685*(T57+T82) -> 0
B31: C.02 | C31: Kosten opstalrecht Terminalgebouwen | F31: 0 | G31: 0 | H31: 0 | I31: 0 | J31: 0 | K31: 0 | L31: 0 | M31: 0 | N31: 0 | O31: 0 | P31: 0 | Q31: 0 | R31: 0 | S31: 0 | T31: 0
B32: C.03 | C32: Onderhoudskosten Productiemiddelen | D32: C.03 | F32: ='C.03'!$J$9 -> 0 | G32: ='C.03'!$J$10 -> 0 | H32: ='C.03'!$J$11 -> 0 | I32: ='C.03'!$J$12 -> 0 | J32: ='C.03'!$J$13 -> 0 | K32: ='C.03'!$J$14 -> 0 | L32: ='C.03'!$J$15 -> 0 | M32: ='C.03'!$J$16 -> 0 | N32: ='C.03'!$J$17 -> 0 | O32: ='C.03'!$J$18 -> 0 | P32: ='C.03'!$J$19 -> 0 | Q32: ='C.03'!$J$20 -> 0 | R32: ='C.03'!$J$21 -> 0 | S32: ='C.03'!$J$22 -> 0 | T32: ='C.03'!$J$23 -> 0
B33: C.04 | C33: Afschrijvingskosten overige roerende zaken | F33: 0 | G33: 0 | H33: 0 | I33: 0 | J33: 0 | K33: 0 | L33: 0 | M33: 0 | N33: 0 | O33: 0 | P33: 0 | Q33: 0 | R33: 0 | S33: 0 | T33: 0
B34: C.05 | C34: Onderhoudskosten overige roerende zaken | F34: 0 | G34: 0 | H34: 0 | I34: 0 | J34: 0 | K34: 0 | L34: 0 | M34: 0 | N34: 0 | O34: 0 | P34: 0 | Q34: 0 | R34: 0 | S34: 0 | T34: 0
C36: Indirecte kosten
B38: D | C38: Loonkosten indirect personeel | F38: =SUM(F39:F40) -> 0 | G38: =SUM(G39:G40) -> 0 | H38: =SUM(H39:H40) -> 0 | I38: =SUM(I39:I40) -> 0 | J38: =SUM(J39:J40) -> 0 | K38: =SUM(K39:K40) -> 0 | L38: =SUM(L39:L40) -> 0 | M38: =SUM(M39:M40) -> 0 | ... T38: =SUM(T39:T40) -> 0
B39: D.01 | C39: Loonkosten indirect Personeel | D39: D.01 | F39: =D.01!B7 -> 0 | G39: =D.01!C7 -> 0 | H39: =D.01!D7 -> 0 | I39: =D.01!E7 -> 0 | J39: =D.01!F7 -> 0 | K39: =D.01!G7 -> 0 | L39: =D.01!H7 -> 0 | M39: =D.01!I7 -> 0 | ... T39: =D.01!P7 -> 0
B40: D.02 | C40: Overige personeelkst indirect Pers. | F40: =F41+F42 -> 0 | G40: =G41+G42 -> 0 | H40: =H41+H42 -> 0 | I40: =I41+I42 -> 0 | J40: =J41+J42 -> 0 | K40: =K41+K42 -> 0 | L40: =L41+L42 -> 0 | M40: =M41+M42 -> 0 | ... T40: =T41+T42 -> 0
B41: D.02.1 | C41: … < specificeren > … | F41: 0 | G41: 0 | H41: 0 | I41: 0 | J41: 0 | K41: 0 | L41: 0 | M41: 0 | N41: 0 | O41: 0 | P41: 0 | Q41: 0 | R41: 0 | S41: 0 | T41: 0
B42: D.02.2 | C42: … < specificeren > … | F42: 0 | G42: 0 | H42: 0 | I42: 0 | J42: 0 | K42: 0 | L42: 0 | M42: 0 | N42: 0 | O42: 0 | P42: 0 | Q42: 0 | R42: 0 | S42: 0 | T42: 0
B44: E | C44: Overige indirecte kosten | F44: =SUM(F45:F47) -> 0 | G44: =SUM(G45:G47) -> 0 | H44: =SUM(H45:H47) -> 0 | I44: =SUM(I45:I47) -> 0 | J44: =SUM(J45:J47) -> 0 | K44: =SUM(K45:K47) -> 0 | L44: =SUM(L45:L47) -> 0 | M44: =SUM(M45:M47) -> 0 | ... T44: =SUM(T45:T47) -> 0
B45: E.01 | C45: Huisvestingskosten (hoofd)kantoor | F45: 0 | G45: 0 | H45: 0 | I45: 0 | J45: 0 | K45: 0 | L45: 0 | M45: 0 | N45: 0 | O45: 0 | P45: 0 | Q45: 0 | R45: 0 | S45: 0 | T45: 0
B46: E.02 | C46: Implementatie en overdracht | D46: E.02 | F46: =E.02!J36 -> 0 | G46: =E.02!J37 -> 0 | H46: =E.02!J38 -> 0 | I46: =E.02!J39 -> 0 | J46: =E.02!J40 -> 0 | K46: =E.02!J41 -> 0 | L46: =E.02!J42 -> 0 | M46: =E.02!J43 -> 0 | N46: =E.02!J44 -> 0 | O46: =E.02!J45 -> 0 | P46: =E.02!J46 -> 0 | Q46: =E.02!J47 -> 0 | R46: =E.02!J48 -> 0 | S46: =E.02!J49 -> 0 | T46: =E.02!J50 -> 0
B47: E.03 | C47: Overige kosten | F47: =SUM(F48:F49) -> 0 | G47: =SUM(G48:G49) -> 0 | H47: =SUM(H48:H49) -> 0 | I47: =SUM(I48:I49) -> 0 | J47: =SUM(J48:J49) -> 0 | K47: =SUM(K48:K49) -> 0 | L47: =SUM(L48:L49) -> 0 | M47: =SUM(M48:M49) -> 0 | ... T47: =SUM(T48:T49) -> 0
B48: E.03.1 | C48: … < specificeren > … | F48: 0 | G48: 0 | H48: 0 | I48: 0 | J48: 0 | K48: 0 | L48: 0 | M48: 0 | N48: 0 | O48: 0 | P48: 0 | Q48: 0 | R48: 0 | S48: 0 | T48: 0
B49: E.03.2 | C49: … < specificeren > … | F49: 0 | G49: 0 | H49: 0 | I49: 0 | J49: 0 | K49: 0 | L49: 0 | M49: 0 | N49: 0 | O49: 0 | P49: 0 | Q49: 0 | R49: 0 | S49: 0 | T49: 0
B51: F | C51: Totale kosten (A+B+C+D+E) | F51: =F13+F19+F29+F38+F44 -> 0 | G51: =G13+G19+G29+G38+G44 -> 0 | H51: =H13+H19+H29+H38+H44 -> 0 | I51: =I13+I19+I29+I38+I44 -> 0 | J51: =J13+J19+J29+J38+J44 -> 0 | K51: =K13+K19+K29+K38+K44 -> 0 | L51: =L13+L19+L29+L38+L44 -> 0 | M51: =M13+M19+M29+M38+M44 -> 0 | ... T51: =T13+T19+T29+T38+T44 -> 0
...

Sheet A.01
A1: A.01 Loonkosten direct Personeel | F1: Instructie | G1: Vul de oranje cellen in
A2: terug
A4: Jaar | B4: 2029 | C4: =B4+1 -> 2030 | D4: =C4+1 -> 2031 | E4: =D4+1 -> 2032 | F4: =E4+1 -> 2033 | G4: =F4+1 -> 2034 | H4: =G4+1 -> 2035 | I4: =H4+1 -> 2036 | J4: =I4+1 -> 2037 | ... P4: =O4+1 -> 2043
A5: Gemiddelde jaarloonsom per fte
A6: Aantal fte
A7: Totale loonsom | B7: =B5*B6 -> 0 | C7: =C5*C6 -> 0 | D7: =D5*D6 -> 0 | E7: =E5*E6 -> 0 | F7: =F5*F6 -> 0 | G7: =G5*G6 -> 0 | H7: =H5*H6 -> 0 | I7: =I5*I6 -> 0 | ... P7: =P5*P6 -> 0

Sheet B.01
A1: B.01 Afschrijvingskosten Schepen | F1: Instructie | G1: Vul de oranje cellen in
A2: terug
A5: Omschrijving type schip | B5: Ms Willem Barentsz | C5: Ms Willem de Vlamingh | D5: Ms Friesland | E5: Ms Vlieland | F5: Ms Koegelwieck | G5: Ms Tiger | H5: <Nieuw Schip>
A6: Nieuw/Overname | B6: Overname | C6: Overname | D6: Overname | E6: Overname | F6: Overname | G6: Overname | H6: Nieuw | I6: Nieuw | J6: Nieuw | K6: Nieuw | L6: Nieuw | M6: Nieuw
A7: Component | B7: Totale Schip | C7: Totale Schip | D7: Totale Schip | E7: Totale Schip | F7: Totale Schip | G7: Totale Schip | H7: Casco (hull) | I7: Motoren | J7: Voorstuwing | K7: Hulpsystemen | L7: Elektrische & Nautische installaties | M7: Interieur & passagiers-voorzieningen | N7: Totaal aanschafprijs 1 jan 2029
A8: Aanschafprijs Component | N8: =SUM(B8:M8) -> 0
A9: Bouwjaar
A10: Leeftijd (Lc)
A11: Afschrijvingstermijn (Tc)
A12: Effectieve afschrijvingstermijn (T*c) | B12: =IF(B10="","",MAX(B10+B14,B11)) | C12: =IF(C10="","",MAX(C10+C14,C11)) | D12: =IF(D10="","",MAX(D10+D14,D11)) | E12: =IF(E10="","",MAX(E10+E14,E11)) | F12: =IF(F10="","",MAX(F10+F14,F11)) | G12: =IF(G10="","",MAX(G10+G14,G11)) | H12: =IF(H10="","",MAX(H10+H14,H11)) | I12: =IF(I10="","",MAX(I10+I14,I11)) | ... M12: =IF(M10="","",MAX(M10+M14,M11))
A13: Resterende levensduur (RL*c) | B13: =IF(B10="","",MAX(B11-B10,B14)) | C13: =IF(C10="","",MAX(C11-C10,C14)) | D13: =IF(D10="","",MAX(D11-D10,D14)) | E13: =IF(E10="","",MAX(E11-E10,E14)) | F13: =IF(F10="","",MAX(F11-F10,F14)) | G13: =IF(G10="","",MAX(G11-G10,G14)) | H13: =IF(H10="","",MAX(H11-H10,H14)) | I13: =IF(I10="","",MAX(I11-I10,I14)) | ... M13: =IF(M10="","",MAX(M11-M10,M14))
A14: Effectieve resterende levernsduur (ERLc)
A15: Minimale restwaarde % (r) | H15: 0.05 | I15: 0.05 | J15: 0.05 | K15: 0.05 | L15: 0.05 | M15: 0.05
A16: Minimale restwaarde (RLc) | B16: =IF(B8="","",B15*B8) | C16: =IF(C8="","",C15*C8) | D16: =IF(D8="","",D15*D8) | E16: =IF(E8="","",E15*E8) | F16: =IF(F8="","",F15*F8) | G16: =IF(G8="","",G15*G8) | H16: =IF(H8="","",H15*H8) | I16: =IF(I8="","",I15*I8) | ... M16: =IF(M8="","",M15*M8)
A17: Datum Instroom Concessie
A18: Datum Uitstroom Concessie
A19: Afschrijvingstermijn in dagen totaal Component | B19: =DATEDIF(B17,B18,"D")+1 -> 1 | C19: =DATEDIF(C17,C18,"D")+1 -> 1 | D19: =DATEDIF(D17,D18,"D")+1 -> 1 | E19: =DATEDIF(E17,E18,"D")+1 -> 1 | F19: =DATEDIF(F17,F18,"D")+1 -> 1 | G19: =DATEDIF(G17,G18,"D")+1 -> 1 | H19: =DATEDIF(H17,H18,"D")+1 -> 1 | I19: =DATEDIF(I17,I18,"D")+1 -> 1 | ... M19: =DATEDIF(M17,M18,"D")+1 -> 1
A20: Afschrijving per dag per Component | B20: =IF(OR(B8="",B16="",B12=""),0,(SLN(B8,B16,B12))/365) -> 0 | C20: =IF(OR(C8="",C16="",C12=""),0,(SLN(C8,C16,C12))/365) -> 0 | D20: =IF(OR(D8="",D16="",D12=""),0,(SLN(D8,D16,D12))/365) -> 0 | E20: =IF(OR(E8="",E16="",E12=""),0,(SLN(E8,E16,E12))/365) -> 0 | F20: =IF(OR(F8="",F16="",F12=""),0,(SLN(F8,F16,F12))/365) -> 0 | G20: =IF(OR(G8="",G16="",G12=""),0,(SLN(G8,G16,G12))/365) -> 0 | H20: =IF(OR(H8="",H16="",H12=""),0,(SLN(H8,H16,H12))/365) -> 0 | I20: =IF(OR(I8="",I16="",I12=""),0,(SLN(I8,I16,I12))/365) -> 0 | ... M20: =IF(OR(M8="",M16="",M12=""),0,(SLN(M8,M16,M12))/365) -> 0
A22: Jaarlijkse Afschrijving Component | N22: Totale afschrijving per jaar
A23: 2029 | B23: =IF(AND($A23>YEAR(B$17),$A23<YEAR(B$18)),(DATE($A23,12,31)-DATE($A23,1,0))*B$20,IF(AND($A23=YEAR(B$17),$A23=YEAR(B$18)),(B$18-B$17+1)*B$20,IF($A23=YEAR(B$17),(DATE(YEAR(B$17),12,31)-B$17+1)*B$20,IF($A23=YEAR(B$18),(B$18-DATE(YEAR(B$18),1,1))*B$20,0)))) -> 0 | C23: =IF(AND($A23>YEAR(C$17),$A23<YEAR(C$18)),(DATE($A23,12,31)-DATE($A23,1,0))*C$20,IF(AND($A23=YEAR(C$17),$A23=YEAR(C$18)),(C$18-C$17+1)*C$20,IF($A23=YEAR(C$17),(DATE(YEAR(C$17),12,31)-C$17+1)*C$20,IF($A23=YEAR(C$18),(C$18-DATE(YEAR(C$18),1,1))*C$20,0)))) -> 0 | D23: =IF(AND($A23>YEAR(D$17),$A23<YEAR(D$18)),(DATE($A23,12,31)-DATE($A23,1,0))*D$20,IF(AND($A23=YEAR(D$17),$A23=YEAR(D$18)),(D$18-D$17+1)*D$20,IF($A23=YEAR(D$17),(DATE(YEAR(D$17),12,31)-D$17+1)*D$20,IF($A23=YEAR(D$18),(D$18-DATE(YEAR(D$18),1,1))*D$20,0)))) -> 0 | E23: =IF(AND($A23>YEAR(E$17),$A23<YEAR(E$18)),(DATE($A23,12,31)-DATE($A23,1,0))*E$20,IF(AND($A23=YEAR(E$17),$A23=YEAR(E$18)),(E$18-E$17+1)*E$20,IF($A23=YEAR(E$17),(DATE(YEAR(E$17),12,31)-E$17+1)*E$20,IF($A23=YEAR(E$18),(E$18-DATE(YEAR(E$18),1,1))*E$20,0)))) -> 0 | F23: =IF(AND($A23>YEAR(F$17),$A23<YEAR(F$18)),(DATE($A23,12,31)-DATE($A23,1,0))*F$20,IF(AND($A23=YEAR(F$17),$A23=YEAR(F$18)),(F$18-F$17+1)*F$20,IF($A23=YEAR(F$17),(DATE(YEAR(F$17),12,31)-F$17+1)*F$20,IF($A23=YEAR(F$18),(F$18-DATE(YEAR(F$18),1,1))*F$20,0)))) -> 0 | G23: =IF(AND($A23>YEAR(G$17),$A23<YEAR(G$18)),(DATE($A23,12,31)-DATE($A23,1,0))*G$20,IF(AND($A23=YEAR(G$17),$A23=YEAR(G$18)),(G$18-G$17+1)*G$20,IF($A23=YEAR(G$17),(DATE(YEAR(G$17),12,31)-G$17+1)*G$20,IF($A23=YEAR(G$18),(G$18-DATE(YEAR(G$18),1,1))*G$20,0)))) -> 0 | H23: =IF(AND($A23>YEAR(H$17),$A23<YEAR(H$18)),(DATE($A23,12,31)-DATE($A23,1,0))*H$20,IF(AND($A23=YEAR(H$17),$A23=YEAR(H$18)),(H$18-H$17+1)*H$20,IF($A23=YEAR(H$17),(DATE(YEAR(H$17),12,31)-H$17+1)*H$20,IF($A23=YEAR(H$18),(H$18-DATE(YEAR(H$18),1,1))*H$20,0)))) -> 0 | I23: =IF(AND($A23>YEAR(I$17),$A23<YEAR(I$18)),(DATE($A23,12,31)-DATE($A23,1,0))*I$20,IF(AND($A23=YEAR(I$17),$A23=YEAR(I$18)),(I$18-I$17+1)*I$20,IF($A23=YEAR(I$17),(DATE(YEAR(I$17),12,31)-I$17+1)*I$20,IF($A23=YEAR(I$18),(I$18-DATE(YEAR(I$18),1,1))*I$20,0)))) -> 0 | ... M23: =IF(AND($A23>YEAR(M$17),$A23<YEAR(M$18)),(DATE($A23,12,31)-DATE($A23,1,0))*M$20,IF(AND($A23=YEAR(M$17),$A23=YEAR(M$18)),(M$18-M$17+1)*M$20,IF($A23=YEAR(M$17),(DATE(YEAR(M$17),12,31)-M$17+1)*M$20,IF($A23=YEAR(M$18),(M$18-DATE(YEAR(M$18),1,1))*M$20,0)))) -> 0 | N23: =SUM(B23:J23) -> 0
A24: =A23+1 -> 2030 | B24: =IF(AND($A24>YEAR(B$17),$A24<YEAR(B$18)),(DATE($A24,12,31)-DATE($A24,1,0))*B$20,IF(AND($A24=YEAR(B$17),$A24=YEAR(B$18)),(B$18-B$17+1)*B$20,IF($A24=YEAR(B$17),(DATE(YEAR(B$17),12,31)-B$17+1)*B$20,IF($A24=YEAR(B$18),(B$18-DATE(YEAR(B$18),1,1))*B$20,0)))) -> 0 | C24: =IF(AND($A24>YEAR(C$17),$A24<YEAR(C$18)),(DATE($A24,12,31)-DATE($A24,1,0))*C$20,IF(AND($A24=YEAR(C$17),$A24=YEAR(C$18)),(C$18-C$17+1)*C$20,IF($A24=YEAR(C$17),(DATE(YEAR(C$17),12,31)-C$17+1)*C$20,IF($A24=YEAR(C$18),(C$18-DATE(YEAR(C$18),1,1))*C$20,0)))) -> 0 | D24: =IF(AND($A24>YEAR(D$17),$A24<YEAR(D$18)),(DATE($A24,12,31)-DATE($A24,1,0))*D$20,IF(AND($A24=YEAR(D$17),$A24=YEAR(D$18)),(D$18-D$17+1)*D$20,IF($A24=YEAR(D$17),(DATE(YEAR(D$17),12,31)-D$17+1)*D$20,IF($A24=YEAR(D$18),(D$18-DATE(YEAR(D$18),1,1))*D$20,0)))) -> 0 | E24: =IF(AND($A24>YEAR(E$17),$A24<YEAR(E$18)),(DATE($A24,12,31)-DATE($A24,1,0))*E$20,IF(AND($A24=YEAR(E$17),$A24=YEAR(E$18)),(E$18-E$17+1)*E$20,IF($A24=YEAR(E$17),(DATE(YEAR(E$17),12,31)-E$17+1)*E$20,IF($A24=YEAR(E$18),(E$18-DATE(YEAR(E$18),1,1))*E$20,0)))) -> 0 | F24: =IF(AND($A24>YEAR(F$17),$A24<YEAR(F$18)),(DATE($A24,12,31)-DATE($A24,1,0))*F$20,IF(AND($A24=YEAR(F$17),$A24=YEAR(F$18)),(F$18-F$17+1)*F$20,IF($A24=YEAR(F$17),(DATE(YEAR(F$17),12,31)-F$17+1)*F$20,IF($A24=YEAR(F$18),(F$18-DATE(YEAR(F$18),1,1))*F$20,0)))) -> 0 | G24: =IF(AND($A24>YEAR(G$17),$A24<YEAR(G$18)),(DATE($A24,12,31)-DATE($A24,1,0))*G$20,IF(AND($A24=YEAR(G$17),$A24=YEAR(G$18)),(G$18-G$17+1)*G$20,IF($A24=YEAR(G$17),(DATE(YEAR(G$17),12,31)-G$17+1)*G$20,IF($A24=YEAR(G$18),(G$18-DATE(YEAR(G$18),1,1))*G$20,0)))) -> 0 | H24: =IF(AND($A24>YEAR(H$17),$A24<YEAR(H$18)),(DATE($A24,12,31)-DATE($A24,1,0))*H$20,IF(AND($A24=YEAR(H$17),$A24=YEAR(H$18)),(H$18-H$17+1)*H$20,IF($A24=YEAR(H$17),(DATE(YEAR(H$17),12,31)-H$17+1)*H$20,IF($A24=YEAR(H$18),(H$18-DATE(YEAR(H$18),1,1))*H$20,0)))) -> 0 | I24: =IF(AND($A24>YEAR(I$17),$A24<YEAR(I$18)),(DATE($A24,12,31)-DATE($A24,1,0))*I$20,IF(AND($A24=YEAR(I$17),$A24=YEAR(I$18)),(I$18-I$17+1)*I$20,IF($A24=YEAR(I$17),(DATE(YEAR(I$17),12,31)-I$17+1)*I$20,IF($A24=YEAR(I$18),(I$18-DATE(YEAR(I$18),1,1))*I$20,0)))) -> 0 | ... M24: =IF(AND($A24>YEAR(M$17),$A24<YEAR(M$18)),(DATE($A24,12,31)-DATE($A24,1,0))*M$20,IF(AND($A24=YEAR(M$17),$A24=YEAR(M$18)),(M$18-M$17+1)*M$20,IF($A24=YEAR(M$17),(DATE(YEAR(M$17),12,31)-M$17+1)*M$20,IF($A24=YEAR(M$18),(M$18-DATE(YEAR(M$18),1,1))*M$20,0)))) -> 0 | N24: =SUM(B24:J24) -> 0
A25: =A24+1 -> 2031 | B25: =IF(AND($A25>YEAR(B$17),$A25<YEAR(B$18)),(DATE($A25,12,31)-DATE($A25,1,0))*B$20,IF(AND($A25=YEAR(B$17),$A25=YEAR(B$18)),(B$18-B$17+1)*B$20,IF($A25=YEAR(B$17),(DATE(YEAR(B$17),12,31)-B$17+1)*B$20,IF($A25=YEAR(B$18),(B$18-DATE(YEAR(B$18),1,1))*B$20,0)))) -> 0 | C25: =IF(AND($A25>YEAR(C$17),$A25<YEAR(C$18)),(DATE($A25,12,31)-DATE($A25,1,0))*C$20,IF(AND($A25=YEAR(C$17),$A25=YEAR(C$18)),(C$18-C$17+1)*C$20,IF($A25=YEAR(C$17),(DATE(YEAR(C$17),12,31)-C$17+1)*C$20,IF($A25=YEAR(C$18),(C$18-DATE(YEAR(C$18),1,1))*C$20,0)))) -> 0 | D25: =IF(AND($A25>YEAR(D$17),$A25<YEAR(D$18)),(DATE($A25,12,31)-DATE($A25,1,0))*D$20,IF(AND($A25=YEAR(D$17),$A25=YEAR(D$18)),(D$18-D$17+1)*D$20,IF($A25=YEAR(D$17),(DATE(YEAR(D$17),12,31)-D$17+1)*D$20,IF($A25=YEAR(D$18),(D$18-DATE(YEAR(D$18),1,1))*D$20,0)))) -> 0 | E25: =IF(AND($A25>YEAR(E$17),$A25<YEAR(E$18)),(DATE($A25,12,31)-DATE($A25,1,0))*E$20,IF(AND($A25=YEAR(E$17),$A25=YEAR(E$18)),(E$18-E$17+1)*E$20,IF($A25=YEAR(E$17),(DATE(YEAR(E$17),12,31)-E$17+1)*E$20,IF($A25=YEAR(E$18),(E$18-DATE(YEAR(E$18),1,1))*E$20,0)))) -> 0 | F25: =IF(AND($A25>YEAR(F$17),$A25<YEAR(F$18)),(DATE($A25,12,31)-DATE($A25,1,0))*F$20,IF(AND($A25=YEAR(F$17),$A25=YEAR(F$18)),(F$18-F$17+1)*F$20,IF($A25=YEAR(F$17),(DATE(YEAR(F$17),12,31)-F$17+1)*F$20,IF($A25=YEAR(F$18),(F$18-DATE(YEAR(F$18),1,1))*F$20,0)))) -> 0 | G25: =IF(AND($A25>YEAR(G$17),$A25<YEAR(G$18)),(DATE($A25,12,31)-DATE($A25,1,0))*G$20,IF(AND($A25=YEAR(G$17),$A25=YEAR(G$18)),(G$18-G$17+1)*G$20,IF($A25=YEAR(G$17),(DATE(YEAR(G$17),12,31)-G$17+1)*G$20,IF($A25=YEAR(G$18),(G$18-DATE(YEAR(G$18),1,1))*G$20,0)))) -> 0 | H25: =IF(AND($A25>YEAR(H$17),$A25<YEAR(H$18)),(DATE($A25,12,31)-DATE($A25,1,0))*H$20,IF(AND($A25=YEAR(H$17),$A25=YEAR(H$18)),(H$18-H$17+1)*H$20,IF($A25=YEAR(H$17),(DATE(YEAR(H$17),12,31)-H$17+1)*H$20,IF($A25=YEAR(H$18),(H$18-DATE(YEAR(H$18),1,1))*H$20,0)))) -> 0 | I25: =IF(AND($A25>YEAR(I$17),$A25<YEAR(I$18)),(DATE($A25,12,31)-DATE($A25,1,0))*I$20,IF(AND($A25=YEAR(I$17),$A25=YEAR(I$18)),(I$18-I$17+1)*I$20,IF($A25=YEAR(I$17),(DATE(YEAR(I$17),12,31)-I$17+1)*I$20,IF($A25=YEAR(I$18),(I$18-DATE(YEAR(I$18),1,1))*I$20,0)))) -> 0 | ... M25: =IF(AND($A25>YEAR(M$17),$A25<YEAR(M$18)),(DATE($A25,12,31)-DATE($A25,1,0))*M$20,IF(AND($A25=YEAR(M$17),$A25=YEAR(M$18)),(M$18-M$17+1)*M$20,IF($A25=YEAR(M$17),(DATE(YEAR(M$17),12,31)-M$17+1)*M$20,IF($A25=YEAR(M$18),(M$18-DATE(YEAR(M$18),1,1))*M$20,0)))) -> 0 | N25: =SUM(B25:J25) -> 0
A26: =A25+1 -> 2032 | B26: =IF(AND($A26>YEAR(B$17),$A26<YEAR(B$18)),(DATE($A26,12,31)-DATE($A26,1,0))*B$20,IF(AND($A26=YEAR(B$17),$A26=YEAR(B$18)),(B$18-B$17+1)*B$20,IF($A26=YEAR(B$17),(DATE(YEAR(B$17),12,31)-B$17+1)*B$20,IF($A26=YEAR(B$18),(B$18-DATE(YEAR(B$18),1,1))*B$20,0)))) -> 0 | C26: =IF(AND($A26>YEAR(C$17),$A26<YEAR(C$18)),(DATE($A26,12,31)-DATE($A26,1,0))*C$20,IF(AND($A26=YEAR(C$17),$A26=YEAR(C$18)),(C$18-C$17+1)*C$20,IF($A26=YEAR(C$17),(DATE(YEAR(C$17),12,31)-C$17+1)*C$20,IF($A26=YEAR(C$18),(C$18-DATE(YEAR(C$18),1,1))*C$20,0)))) -> 0 | D26: =IF(AND($A26>YEAR(D$17),$A26<YEAR(D$18)),(DATE($A26,12,31)-DATE($A26,1,0))*D$20,IF(AND($A26=YEAR(D$17),$A26=YEAR(D$18)),(D$18-D$17+1)*D$20,IF($A26=YEAR(D$17),(DATE(YEAR(D$17),12,31)-D$17+1)*D$20,IF($A26=YEAR(D$18),(D$18-DATE(YEAR(D$18),1,1))*D$20,0)))) -> 0 | E26: =IF(AND($A26>YEAR(E$17),$A26<YEAR(E$18)),(DATE($A26,12,31)-DATE($A26,1,0))*E$20,IF(AND($A26=YEAR(E$17),$A26=YEAR(E$18)),(E$18-E$17+1)*E$20,IF($A26=YEAR(E$17),(DATE(YEAR(E$17),12,31)-E$17+1)*E$20,IF($A26=YEAR(E$18),(E$18-DATE(YEAR(E$18),1,1))*E$20,0)))) -> 0 | F26: =IF(AND($A26>YEAR(F$17),$A26<YEAR(F$18)),(DATE($A26,12,31)-DATE($A26,1,0))*F$20,IF(AND($A26=YEAR(F$17),$A26=YEAR(F$18)),(F$18-F$17+1)*F$20,IF($A26=YEAR(F$17),(DATE(YEAR(F$17),12,31)-F$17+1)*F$20,IF($A26=YEAR(F$18),(F$18-DATE(YEAR(F$18),1,1))*F$20,0)))) -> 0 | G26: =IF(AND($A26>YEAR(G$17),$A26<YEAR(G$18)),(DATE($A26,12,31)-DATE($A26,1,0))*G$20,IF(AND($A26=YEAR(G$17),$A26=YEAR(G$18)),(G$18-G$17+1)*G$20,IF($A26=YEAR(G$17),(DATE(YEAR(G$17),12,31)-G$17+1)*G$20,IF($A26=YEAR(G$18),(G$18-DATE(YEAR(G$18),1,1))*G$20,0)))) -> 0 | H26: =IF(AND($A26>YEAR(H$17),$A26<YEAR(H$18)),(DATE($A26,12,31)-DATE($A26,1,0))*H$20,IF(AND($A26=YEAR(H$17),$A26=YEAR(H$18)),(H$18-H$17+1)*H$20,IF($A26=YEAR(H$17),(DATE(YEAR(H$17),12,31)-H$17+1)*H$20,IF($A26=YEAR(H$18),(H$18-DATE(YEAR(H$18),1,1))*H$20,0)))) -> 0 | I26: =IF(AND($A26>YEAR(I$17),$A26<YEAR(I$18)),(DATE($A26,12,31)-DATE($A26,1,0))*I$20,IF(AND($A26=YEAR(I$17),$A26=YEAR(I$18)),(I$18-I$17+1)*I$20,IF($A26=YEAR(I$17),(DATE(YEAR(I$17),12,31)-I$17+1)*I$20,IF($A26=YEAR(I$18),(I$18-DATE(YEAR(I$18),1,1))*I$20,0)))) -> 0 | ... M26: =IF(AND($A26>YEAR(M$17),$A26<YEAR(M$18)),(DATE($A26,12,31)-DATE($A26,1,0))*M$20,IF(AND($A26=YEAR(M$17),$A26=YEAR(M$18)),(M$18-M$17+1)*M$20,IF($A26=YEAR(M$17),(DATE(YEAR(M$17),12,31)-M$17+1)*M$20,IF($A26=YEAR(M$18),(M$18-DATE(YEAR(M$18),1,1))*M$20,0)))) -> 0 | N26: =SUM(B26:J26) -> 0
A27: =A26+1 -> 2033 | B27: =IF(AND($A27>YEAR(B$17),$A27<YEAR(B$18)),(DATE($A27,12,31)-DATE($A27,1,0))*B$20,IF(AND($A27=YEAR(B$17),$A27=YEAR(B$18)),(B$18-B$17+1)*B$20,IF($A27=YEAR(B$17),(DATE(YEAR(B$17),12,31)-B$17+1)*B$20,IF($A27=YEAR(B$18),(B$18-DATE(YEAR(B$18),1,1))*B$20,0)))) -> 0 | C27: =IF(AND($A27>YEAR(C$17),$A27<YEAR(C$18)),(DATE($A27,12,31)-DATE($A27,1,0))*C$20,IF(AND($A27=YEAR(C$17),$A27=YEAR(C$18)),(C$18-C$17+1)*C$20,IF($A27=YEAR(C$17),(DATE(YEAR(C$17),12,31)-C$17+1)*C$20,IF($A27=YEAR(C$18),(C$18-DATE(YEAR(C$18),1,1))*C$20,0)))) -> 0 | D27: =IF(AND($A27>YEAR(D$17),$A27<YEAR(D$18)),(DATE($A27,12,31)-DATE($A27,1,0))*D$20,IF(AND($A27=YEAR(D$17),$A27=YEAR(D$18)),(D$18-D$17+1)*D$20,IF($A27=YEAR(D$17),(DATE(YEAR(D$17),12,31)-D$17+1)*D$20,IF($A27=YEAR(D$18),(D$18-DATE(YEAR(D$18),1,1))*D$20,0)))) -> 0 | E27: =IF(AND($A27>YEAR(E$17),$A27<YEAR(E$18)),(DATE($A27,12,31)-DATE($A27,1,0))*E$20,IF(AND($A27=YEAR(E$17),$A27=YEAR(E$18)),(E$18-E$17+1)*E$20,IF($A27=YEAR(E$17),(DATE(YEAR(E$17),12,31)-E$17+1)*E$20,IF($A27=YEAR(E$18),(E$18-DATE(YEAR(E$18),1,1))*E$20,0)))) -> 0 | F27: =IF(AND($A27>YEAR(F$17),$A27<YEAR(F$18)),(DATE($A27,12,31)-DATE($A27,1,0))*F$20,IF(AND($A27=YEAR(F$17),$A27=YEAR(F$18)),(F$18-F$17+1)*F$20,IF($A27=YEAR(F$17),(DATE(YEAR(F$17),12,31)-F$17+1)*F$20,IF($A27=YEAR(F$18),(F$18-DATE(YEAR(F$18),1,1))*F$20,0)))) -> 0 | G27: =IF(AND($A27>YEAR(G$17),$A27<YEAR(G$18)),(DATE($A27,12,31)-DATE($A27,1,0))*G$20,IF(AND($A27=YEAR(G$17),$A27=YEAR(G$18)),(G$18-G$17+1)*G$20,IF($A27=YEAR(G$17),(DATE(YEAR(G$17),12,31)-G$17+1)*G$20,IF($A27=YEAR(G$18),(G$18-DATE(YEAR(G$18),1,1))*G$20,0)))) -> 0 | H27: =IF(AND($A27>YEAR(H$17),$A27<YEAR(H$18)),(DATE($A27,12,31)-DATE($A27,1,0))*H$20,IF(AND($A27=YEAR(H$17),$A27=YEAR(H$18)),(H$18-H$17+1)*H$20,IF($A27=YEAR(H$17),(DATE(YEAR(H$17),12,31)-H$17+1)*H$20,IF($A27=YEAR(H$18),(H$18-DATE(YEAR(H$18),1,1))*H$20,0)))) -> 0 | I27: =IF(AND($A27>YEAR(I$17),$A27<YEAR(I$18)),(DATE($A27,12,31)-DATE($A27,1,0))*I$20,IF(AND($A27=YEAR(I$17),$A27=YEAR(I$18)),(I$18-I$17+1)*I$20,IF($A27=YEAR(I$17),(DATE(YEAR(I$17),12,31)-I$17+1)*I$20,IF($A27=YEAR(I$18),(I$18-DATE(YEAR(I$18),1,1))*I$20,0)))) -> 0 | ... M27: =IF(AND($A27>YEAR(M$17),$A27<YEAR(M$18)),(DATE($A27,12,31)-DATE($A27,1,0))*M$20,IF(AND($A27=YEAR(M$17),$A27=YEAR(M$18)),(M$18-M$17+1)*M$20,IF($A27=YEAR(M$17),(DATE(YEAR(M$17),12,31)-M$17+1)*M$20,IF($A27=YEAR(M$18),(M$18-DATE(YEAR(M$18),1,1))*M$20,0)))) -> 0 | N27: =SUM(B27:J27) -> 0
A28: =A27+1 -> 2034 | B28: =IF(AND($A28>YEAR(B$17),$A28<YEAR(B$18)),(DATE($A28,12,31)-DATE($A28,1,0))*B$20,IF(AND($A28=YEAR(B$17),$A28=YEAR(B$18)),(B$18-B$17+1)*B$20,IF($A28=YEAR(B$17),(DATE(YEAR(B$17),12,31)-B$17+1)*B$20,IF($A28=YEAR(B$18),(B$18-DATE(YEAR(B$18),1,1))*B$20,0)))) -> 0 | C28: =IF(AND($A28>YEAR(C$17),$A28<YEAR(C$18)),(DATE($A28,12,31)-DATE($A28,1,0))*C$20,IF(AND($A28=YEAR(C$17),$A28=YEAR(C$18)),(C$18-C$17+1)*C$20,IF($A28=YEAR(C$17),(DATE(YEAR(C$17),12,31)-C$17+1)*C$20,IF($A28=YEAR(C$18),(C$18-DATE(YEAR(C$18),1,1))*C$20,0)))) -> 0 | D28: =IF(AND($A28>YEAR(D$17),$A28<YEAR(D$18)),(DATE($A28,12,31)-DATE($A28,1,0))*D$20,IF(AND($A28=YEAR(D$17),$A28=YEAR(D$18)),(D$18-D$17+1)*D$20,IF($A28=YEAR(D$17),(DATE(YEAR(D$17),12,31)-D$17+1)*D$20,IF($A28=YEAR(D$18),(D$18-DATE(YEAR(D$18),1,1))*D$20,0)))) -> 0 | E28: =IF(AND($A28>YEAR(E$17),$A28<YEAR(E$18)),(DATE($A28,12,31)-DATE($A28,1,0))*E$20,IF(AND($A28=YEAR(E$17),$A28=YEAR(E$18)),(E$18-E$17+1)*E$20,IF($A28=YEAR(E$17),(DATE(YEAR(E$17),12,31)-E$17+1)*E$20,IF($A28=YEAR(E$18),(E$18-DATE(YEAR(E$18),1,1))*E$20,0)))) -> 0 | F28: =IF(AND($A28>YEAR(F$17),$A28<YEAR(F$18)),(DATE($A28,12,31)-DATE($A28,1,0))*F$20,IF(AND($A28=YEAR(F$17),$A28=YEAR(F$18)),(F$18-F$17+1)*F$20,IF($A28=YEAR(F$17),(DATE(YEAR(F$17),12,31)-F$17+1)*F$20,IF($A28=YEAR(F$18),(F$18-DATE(YEAR(F$18),1,1))*F$20,0)))) -> 0 | G28: =IF(AND($A28>YEAR(G$17),$A28<YEAR(G$18)),(DATE($A28,12,31)-DATE($A28,1,0))*G$20,IF(AND($A28=YEAR(G$17),$A28=YEAR(G$18)),(G$18-G$17+1)*G$20,IF($A28=YEAR(G$17),(DATE(YEAR(G$17),12,31)-G$17+1)*G$20,IF($A28=YEAR(G$18),(G$18-DATE(YEAR(G$18),1,1))*G$20,0)))) -> 0 | H28: =IF(AND($A28>YEAR(H$17),$A28<YEAR(H$18)),(DATE($A28,12,31)-DATE($A28,1,0))*H$20,IF(AND($A28=YEAR(H$17),$A28=YEAR(H$18)),(H$18-H$17+1)*H$20,IF($A28=YEAR(H$17),(DATE(YEAR(H$17),12,31)-H$17+1)*H$20,IF($A28=YEAR(H$18),(H$18-DATE(YEAR(H$18),1,1))*H$20,0)))) -> 0 | I28: =IF(AND($A28>YEAR(I$17),$A28<YEAR(I$18)),(DATE($A28,12,31)-DATE($A28,1,0))*I$20,IF(AND($A28=YEAR(I$17),$A28=YEAR(I$18)),(I$18-I$17+1)*I$20,IF($A28=YEAR(I$17),(DATE(YEAR(I$17),12,31)-I$17+1)*I$20,IF($A28=YEAR(I$18),(I$18-DATE(YEAR(I$18),1,1))*I$20,0)))) -> 0 | ... M28: =IF(AND($A28>YEAR(M$17),$A28<YEAR(M$18)),(DATE($A28,12,31)-DATE($A28,1,0))*M$20,IF(AND($A28=YEAR(M$17),$A28=YEAR(M$18)),(M$18-M$17+1)*M$20,IF($A28=YEAR(M$17),(DATE(YEAR(M$17),12,31)-M$17+1)*M$20,IF($A28=YEAR(M$18),(M$18-DATE(YEAR(M$18),1,1))*M$20,0)))) -> 0 | N28: =SUM(B28:J28) -> 0
A29: =A28+1 -> 2035 | B29: =IF(AND($A29>YEAR(B$17),$A29<YEAR(B$18)),(DATE($A29,12,31)-DATE($A29,1,0))*B$20,IF(AND($A29=YEAR(B$17),$A29=YEAR(B$18)),(B$18-B$17+1)*B$20,IF($A29=YEAR(B$17),(DATE(YEAR(B$17),12,31)-B$17+1)*B$20,IF($A29=YEAR(B$18),(B$18-DATE(YEAR(B$18),1,1))*B$20,0)))) -> 0 | C29: =IF(AND($A29>YEAR(C$17),$A29<YEAR(C$18)),(DATE($A29,12,31)-DATE($A29,1,0))*C$20,IF(AND($A29=YEAR(C$17),$A29=YEAR(C$18)),(C$18-C$17+1)*C$20,IF($A29=YEAR(C$17),(DATE(YEAR(C$17),12,31)-C$17+1)*C$20,IF($A29=YEAR(C$18),(C$18-DATE(YEAR(C$18),1,1))*C$20,0)))) -> 0 | D29: =IF(AND($A29>YEAR(D$17),$A29<YEAR(D$18)),(DATE($A29,12,31)-DATE($A29,1,0))*D$20,IF(AND($A29=YEAR(D$17),$A29=YEAR(D$18)),(D$18-D$17+1)*D$20,IF($A29=YEAR(D$17),(DATE(YEAR(D$17),12,31)-D$17+1)*D$20,IF($A29=YEAR(D$18),(D$18-DATE(YEAR(D$18),1,1))*D$20,0)))) -> 0 | E29: =IF(AND($A29>YEAR(E$17),$A29<YEAR(E$18)),(DATE($A29,12,31)-DATE($A29,1,0))*E$20,IF(AND($A29=YEAR(E$17),$A29=YEAR(E$18)),(E$18-E$17+1)*E$20,IF($A29=YEAR(E$17),(DATE(YEAR(E$17),12,31)-E$17+1)*E$20,IF($A29=YEAR(E$18),(E$18-DATE(YEAR(E$18),1,1))*E$20,0)))) -> 0 | F29: =IF(AND($A29>YEAR(F$17),$A29<YEAR(F$18)),(DATE($A29,12,31)-DATE($A29,1,0))*F$20,IF(AND($A29=YEAR(F$17),$A29=YEAR(F$18)),(F$18-F$17+1)*F$20,IF($A29=YEAR(F$17),(DATE(YEAR(F$17),12,31)-F$17+1)*F$20,IF($A29=YEAR(F$18),(F$18-DATE(YEAR(F$18),1,1))*F$20,0)))) -> 0 | G29: =IF(AND($A29>YEAR(G$17),$A29<YEAR(G$18)),(DATE($A29,12,31)-DATE($A29,1,0))*G$20,IF(AND($A29=YEAR(G$17),$A29=YEAR(G$18)),(G$18-G$17+1)*G$20,IF($A29=YEAR(G$17),(DATE(YEAR(G$17),12,31)-G$17+1)*G$20,IF($A29=YEAR(G$18),(G$18-DATE(YEAR(G$18),1,1))*G$20,0)))) -> 0 | H29: =IF(AND($A29>YEAR(H$17),$A29<YEAR(H$18)),(DATE($A29,12,31)-DATE($A29,1,0))*H$20,IF(AND($A29=YEAR(H$17),$A29=YEAR(H$18)),(H$18-H$17+1)*H$20,IF($A29=YEAR(H$17),(DATE(YEAR(H$17),12,31)-H$17+1)*H$20,IF($A29=YEAR(H$18),(H$18-DATE(YEAR(H$18),1,1))*H$20,0)))) -> 0 | I29: =IF(AND($A29>YEAR(I$17),$A29<YEAR(I$18)),(DATE($A29,12,31)-DATE($A29,1,0))*I$20,IF(AND($A29=YEAR(I$17),$A29=YEAR(I$18)),(I$18-I$17+1)*I$20,IF($A29=YEAR(I$17),(DATE(YEAR(I$17),12,31)-I$17+1)*I$20,IF($A29=YEAR(I$18),(I$18-DATE(YEAR(I$18),1,1))*I$20,0)))) -> 0 | ... M29: =IF(AND($A29>YEAR(M$17),$A29<YEAR(M$18)),(DATE($A29,12,31)-DATE($A29,1,0))*M$20,IF(AND($A29=YEAR(M$17),$A29=YEAR(M$18)),(M$18-M$17+1)*M$20,IF($A29=YEAR(M$17),(DATE(YEAR(M$17),12,31)-M$17+1)*M$20,IF($A29=YEAR(M$18),(M$18-DATE(YEAR(M$18),1,1))*M$20,0)))) -> 0 | N29: =SUM(B29:J29) -> 0
A30: =A29+1 -> 2036 | B30: =IF(AND($A30>YEAR(B$17),$A30<YEAR(B$18)),(DATE($A30,12,31)-DATE($A30,1,0))*B$20,IF(AND($A30=YEAR(B$17),$A30=YEAR(B$18)),(B$18-B$17+1)*B$20,IF($A30=YEAR(B$17),(DATE(YEAR(B$17),12,31)-B$17+1)*B$20,IF($A30=YEAR(B$18),(B$18-DATE(YEAR(B$18),1,1))*B$20,0)))) -> 0 | C30: =IF(AND($A30>YEAR(C$17),$A30<YEAR(C$18)),(DATE($A30,12,31)-DATE($A30,1,0))*C$20,IF(AND($A30=YEAR(C$17),$A30=YEAR(C$18)),(C$18-C$17+1)*C$20,IF($A30=YEAR(C$17),(DATE(YEAR(C$17),12,31)-C$17+1)*C$20,IF($A30=YEAR(C$18),(C$18-DATE(YEAR(C$18),1,1))*C$20,0)))) -> 0 | D30: =IF(AND($A30>YEAR(D$17),$A30<YEAR(D$18)),(DATE($A30,12,31)-DATE($A30,1,0))*D$20,IF(AND($A30=YEAR(D$17),$A30=YEAR(D$18)),(D$18-D$17+1)*D$20,IF($A30=YEAR(D$17),(DATE(YEAR(D$17),12,31)-D$17+1)*D$20,IF($A30=YEAR(D$18),(D$18-DATE(YEAR(D$18),1,1))*D$20,0)))) -> 0 | E30: =IF(AND($A30>YEAR(E$17),$A30<YEAR(E$18)),(DATE($A30,12,31)-DATE($A30,1,0))*E$20,IF(AND($A30=YEAR(E$17),$A30=YEAR(E$18)),(E$18-E$17+1)*E$20,IF($A30=YEAR(E$17),(DATE(YEAR(E$17),12,31)-E$17+1)*E$20,IF($A30=YEAR(E$18),(E$18-DATE(YEAR(E$18),1,1))*E$20,0)))) -> 0 | F30: =IF(AND($A30>YEAR(F$17),$A30<YEAR(F$18)),(DATE($A30,12,31)-DATE($A30,1,0))*F$20,IF(AND($A30=YEAR(F$17),$A30=YEAR(F$18)),(F$18-F$17+1)*F$20,IF($A30=YEAR(F$17),(DATE(YEAR(F$17),12,31)-F$17+1)*F$20,IF($A30=YEAR(F$18),(F$18-DATE(YEAR(F$18),1,1))*F$20,0)))) -> 0 | G30: =IF(AND($A30>YEAR(G$17),$A30<YEAR(G$18)),(DATE($A30,12,31)-DATE($A30,1,0))*G$20,IF(AND($A30=YEAR(G$17),$A30=YEAR(G$18)),(G$18-G$17+1)*G$20,IF($A30=YEAR(G$17),(DATE(YEAR(G$17),12,31)-G$17+1)*G$20,IF($A30=YEAR(G$18),(G$18-DATE(YEAR(G$18),1,1))*G$20,0)))) -> 0 | H30: =IF(AND($A30>YEAR(H$17),$A30<YEAR(H$18)),(DATE($A30,12,31)-DATE($A30,1,0))*H$20,IF(AND($A30=YEAR(H$17),$A30=YEAR(H$18)),(H$18-H$17+1)*H$20,IF($A30=YEAR(H$17),(DATE(YEAR(H$17),12,31)-H$17+1)*H$20,IF($A30=YEAR(H$18),(H$18-DATE(YEAR(H$18),1,1))*H$20,0)))) -> 0 | I30: =IF(AND($A30>YEAR(I$17),$A30<YEAR(I$18)),(DATE($A30,12,31)-DATE($A30,1,0))*I$20,IF(AND($A30=YEAR(I$17),$A30=YEAR(I$18)),(I$18-I$17+1)*I$20,IF($A30=YEAR(I$17),(DATE(YEAR(I$17),12,31)-I$17+1)*I$20,IF($A30=YEAR(I$18),(I$18-DATE(YEAR(I$18),1,1))*I$20,0)))) -> 0 | ... M30: =IF(AND($A30>YEAR(M$17),$A30<YEAR(M$18)),(DATE($A30,12,31)-DATE($A30,1,0))*M$20,IF(AND($A30=YEAR(M$17),$A30=YEAR(M$18)),(M$18-M$17+1)*M$20,IF($A30=YEAR(M$17),(DATE(YEAR(M$17),12,31)-M$17+1)*M$20,IF($A30=YEAR(M$18),(M$18-DATE(YEAR(M$18),1,1))*M$20,0)))) -> 0 | N30: =SUM(B30:J30) -> 0
A31: =A30+1 -> 2037 | B31: =IF(AND($A31>YEAR(B$17),$A31<YEAR(B$18)),(DATE($A31,12,31)-DATE($A31,1,0))*B$20,IF(AND($A31=YEAR(B$17),$A31=YEAR(B$18)),(B$18-B$17+1)*B$20,IF($A31=YEAR(B$17),(DATE(YEAR(B$17),12,31)-B$17+1)*B$20,IF($A31=YEAR(B$18),(B$18-DATE(YEAR(B$18),1,1))*B$20,0)))) -> 0 | C31: =IF(AND($A31>YEAR(C$17),$A31<YEAR(C$18)),(DATE($A31,12,31)-DATE($A31,1,0))*C$20,IF(AND($A31=YEAR(C$17),$A31=YEAR(C$18)),(C$18-C$17+1)*C$20,IF($A31=YEAR(C$17),(DATE(YEAR(C$17),12,31)-C$17+1)*C$20,IF($A31=YEAR(C$18),(C$18-DATE(YEAR(C$18),1,1))*C$20,0)))) -> 0 | D31: =IF(AND($A31>YEAR(D$17),$A31<YEAR(D$18)),(DATE($A31,12,31)-DATE($A31,1,0))*D$20,IF(AND($A31=YEAR(D$17),$A31=YEAR(D$18)),(D$18-D$17+1)*D$20,IF($A31=YEAR(D$17),(DATE(YEAR(D$17),12,31)-D$17+1)*D$20,IF($A31=YEAR(D$18),(D$18-DATE(YEAR(D$18),1,1))*D$20,0)))) -> 0 | E31: =IF(AND($A31>YEAR(E$17),$A31<YEAR(E$18)),(DATE($A31,12,31)-DATE($A31,1,0))*E$20,IF(AND($A31=YEAR(E$17),$A31=YEAR(E$18)),(E$18-E$17+1)*E$20,IF($A31=YEAR(E$17),(DATE(YEAR(E$17),12,31)-E$17+1)*E$20,IF($A31=YEAR(E$18),(E$18-DATE(YEAR(E$18),1,1))*E$20,0)))) -> 0 | F31: =IF(AND($A31>YEAR(F$17),$A31<YEAR(F$18)),(DATE($A31,12,31)-DATE($A31,1,0))*F$20,IF(AND($A31=YEAR(F$17),$A31=YEAR(F$18)),(F$18-F$17+1)*F$20,IF($A31=YEAR(F$17),(DATE(YEAR(F$17),12,31)-F$17+1)*F$20,IF($A31=YEAR(F$18),(F$18-DATE(YEAR(F$18),1,1))*F$20,0)))) -> 0 | G31: =IF(AND($A31>YEAR(G$17),$A31<YEAR(G$18)),(DATE($A31,12,31)-DATE($A31,1,0))*G$20,IF(AND($A31=YEAR(G$17),$A31=YEAR(G$18)),(G$18-G$17+1)*G$20,IF($A31=YEAR(G$17),(DATE(YEAR(G$17),12,31)-G$17+1)*G$20,IF($A31=YEAR(G$18),(G$18-DATE(YEAR(G$18),1,1))*G$20,0)))) -> 0 | H31: =IF(AND($A31>YEAR(H$17),$A31<YEAR(H$18)),(DATE($A31,12,31)-DATE($A31,1,0))*H$20,IF(AND($A31=YEAR(H$17),$A31=YEAR(H$18)),(H$18-H$17+1)*H$20,IF($A31=YEAR(H$17),(DATE(YEAR(H$17),12,31)-H$17+1)*H$20,IF($A31=YEAR(H$18),(H$18-DATE(YEAR(H$18),1,1))*H$20,0)))) -> 0 | I31: =IF(AND($A31>YEAR(I$17),$A31<YEAR(I$18)),(DATE($A31,12,31)-DATE($A31,1,0))*I$20,IF(AND($A31=YEAR(I$17),$A31=YEAR(I$18)),(I$18-I$17+1)*I$20,IF($A31=YEAR(I$17),(DATE(YEAR(I$17),12,31)-I$17+1)*I$20,IF($A31=YEAR(I$18),(I$18-DATE(YEAR(I$18),1,1))*I$20,0)))) -> 0 | ... M31: =IF(AND($A31>YEAR(M$17),$A31<YEAR(M$18)),(DATE($A31,12,31)-DATE($A31,1,0))*M$20,IF(AND($A31=YEAR(M$17),$A31=YEAR(M$18)),(M$18-M$17+1)*M$20,IF($A31=YEAR(M$17),(DATE(YEAR(M$17),12,31)-M$17+1)*M$20,IF($A31=YEAR(M$18),(M$18-DATE(YEAR(M$18),1,1))*M$20,0)))) -> 0 | N31: =SUM(B31:J31) -> 0
A32: =A31+1 -> 2038 | B32: =IF(AND($A32>YEAR(B$17),$A32<YEAR(B$18)),(DATE($A32,12,31)-DATE($A32,1,0))*B$20,IF(AND($A32=YEAR(B$17),$A32=YEAR(B$18)),(B$18-B$17+1)*B$20,IF($A32=YEAR(B$17),(DATE(YEAR(B$17),12,31)-B$17+1)*B$20,IF($A32=YEAR(B$18),(B$18-DATE(YEAR(B$18),1,1))*B$20,0)))) -> 0 | C32: =IF(AND($A32>YEAR(C$17),$A32<YEAR(C$18)),(DATE($A32,12,31)-DATE($A32,1,0))*C$20,IF(AND($A32=YEAR(C$17),$A32=YEAR(C$18)),(C$18-C$17+1)*C$20,IF($A32=YEAR(C$17),(DATE(YEAR(C$17),12,31)-C$17+1)*C$20,IF($A32=YEAR(C$18),(C$18-DATE(YEAR(C$18),1,1))*C$20,0)))) -> 0 | D32: =IF(AND($A32>YEAR(D$17),$A32<YEAR(D$18)),(DATE($A32,12,31)-DATE($A32,1,0))*D$20,IF(AND($A32=YEAR(D$17),$A32=YEAR(D$18)),(D$18-D$17+1)*D$20,IF($A32=YEAR(D$17),(DATE(YEAR(D$17),12,31)-D$17+1)*D$20,IF($A32=YEAR(D$18),(D$18-DATE(YEAR(D$18),1,1))*D$20,0)))) -> 0 | E32: =IF(AND($A32>YEAR(E$17),$A32<YEAR(E$18)),(DATE($A32,12,31)-DATE($A32,1,0))*E$20,IF(AND($A32=YEAR(E$17),$A32=YEAR(E$18)),(E$18-E$17+1)*E$20,IF($A32=YEAR(E$17),(DATE(YEAR(E$17),12,31)-E$17+1)*E$20,IF($A32=YEAR(E$18),(E$18-DATE(YEAR(E$18),1,1))*E$20,0)))) -> 0 | F32: =IF(AND($A32>YEAR(F$17),$A32<YEAR(F$18)),(DATE($A32,12,31)-DATE($A32,1,0))*F$20,IF(AND($A32=YEAR(F$17),$A32=YEAR(F$18)),(F$18-F$17+1)*F$20,IF($A32=YEAR(F$17),(DATE(YEAR(F$17),12,31)-F$17+1)*F$20,IF($A32=YEAR(F$18),(F$18-DATE(YEAR(F$18),1,1))*F$20,0)))) -> 0 | G32: =IF(AND($A32>YEAR(G$17),$A32<YEAR(G$18)),(DATE($A32,12,31)-DATE($A32,1,0))*G$20,IF(AND($A32=YEAR(G$17),$A32=YEAR(G$18)),(G$18-G$17+1)*G$20,IF($A32=YEAR(G$17),(DATE(YEAR(G$17),12,31)-G$17+1)*G$20,IF($A32=YEAR(G$18),(G$18-DATE(YEAR(G$18),1,1))*G$20,0)))) -> 0 | H32: =IF(AND($A32>YEAR(H$17),$A32<YEAR(H$18)),(DATE($A32,12,31)-DATE($A32,1,0))*H$20,IF(AND($A32=YEAR(H$17),$A32=YEAR(H$18)),(H$18-H$17+1)*H$20,IF($A32=YEAR(H$17),(DATE(YEAR(H$17),12,31)-H$17+1)*H$20,IF($A32=YEAR(H$18),(H$18-DATE(YEAR(H$18),1,1))*H$20,0)))) -> 0 | I32: =IF(AND($A32>YEAR(I$17),$A32<YEAR(I$18)),(DATE($A32,12,31)-DATE($A32,1,0))*I$20,IF(AND($A32=YEAR(I$17),$A32=YEAR(I$18)),(I$18-I$17+1)*I$20,IF($A32=YEAR(I$17),(DATE(YEAR(I$17),12,31)-I$17+1)*I$20,IF($A32=YEAR(I$18),(I$18-DATE(YEAR(I$18),1,1))*I$20,0)))) -> 0 | ... M32: =IF(AND($A32>YEAR(M$17),$A32<YEAR(M$18)),(DATE($A32,12,31)-DATE($A32,1,0))*M$20,IF(AND($A32=YEAR(M$17),$A32=YEAR(M$18)),(M$18-M$17+1)*M$20,IF($A32=YEAR(M$17),(DATE(YEAR(M$17),12,31)-M$17+1)*M$20,IF($A32=YEAR(M$18),(M$18-DATE(YEAR(M$18),1,1))*M$20,0)))) -> 0 | N32: =SUM(B32:J32) -> 0
A33: =A32+1 -> 2039 | B33: =IF(AND($A33>YEAR(B$17),$A33<YEAR(B$18)),(DATE($A33,12,31)-DATE($A33,1,0))*B$20,IF(AND($A33=YEAR(B$17),$A33=YEAR(B$18)),(B$18-B$17+1)*B$20,IF($A33=YEAR(B$17),(DATE(YEAR(B$17),12,31)-B$17+1)*B$20,IF($A33=YEAR(B$18),(B$18-DATE(YEAR(B$18),1,1))*B$20,0)))) -> 0 | C33: =IF(AND($A33>YEAR(C$17),$A33<YEAR(C$18)),(DATE($A33,12,31)-DATE($A33,1,0))*C$20,IF(AND($A33=YEAR(C$17),$A33=YEAR(C$18)),(C$18-C$17+1)*C$20,IF($A33=YEAR(C$17),(DATE(YEAR(C$17),12,31)-C$17+1)*C$20,IF($A33=YEAR(C$18),(C$18-DATE(YEAR(C$18),1,1))*C$20,0)))) -> 0 | D33: =IF(AND($A33>YEAR(D$17),$A33<YEAR(D$18)),(DATE($A33,12,31)-DATE($A33,1,0))*D$20,IF(AND($A33=YEAR(D$17),$A33=YEAR(D$18)),(D$18-D$17+1)*D$20,IF($A33=YEAR(D$17),(DATE(YEAR(D$17),12,31)-D$17+1)*D$20,IF($A33=YEAR(D$18),(D$18-DATE(YEAR(D$18),1,1))*D$20,0)))) -> 0 | E33: =IF(AND($A33>YEAR(E$17),$A33<YEAR(E$18)),(DATE($A33,12,31)-DATE($A33,1,0))*E$20,IF(AND($A33=YEAR(E$17),$A33=YEAR(E$18)),(E$18-E$17+1)*E$20,IF($A33=YEAR(E$17),(DATE(YEAR(E$17),12,31)-E$17+1)*E$20,IF($A33=YEAR(E$18),(E$18-DATE(YEAR(E$18),1,1))*E$20,0)))) -> 0 | F33: =IF(AND($A33>YEAR(F$17),$A33<YEAR(F$18)),(DATE($A33,12,31)-DATE($A33,1,0))*F$20,IF(AND($A33=YEAR(F$17),$A33=YEAR(F$18)),(F$18-F$17+1)*F$20,IF($A33=YEAR(F$17),(DATE(YEAR(F$17),12,31)-F$17+1)*F$20,IF($A33=YEAR(F$18),(F$18-DATE(YEAR(F$18),1,1))*F$20,0)))) -> 0 | G33: =IF(AND($A33>YEAR(G$17),$A33<YEAR(G$18)),(DATE($A33,12,31)-DATE($A33,1,0))*G$20,IF(AND($A33=YEAR(G$17),$A33=YEAR(G$18)),(G$18-G$17+1)*G$20,IF($A33=YEAR(G$17),(DATE(YEAR(G$17),12,31)-G$17+1)*G$20,IF($A33=YEAR(G$18),(G$18-DATE(YEAR(G$18),1,1))*G$20,0)))) -> 0 | H33: =IF(AND($A33>YEAR(H$17),$A33<YEAR(H$18)),(DATE($A33,12,31)-DATE($A33,1,0))*H$20,IF(AND($A33=YEAR(H$17),$A33=YEAR(H$18)),(H$18-H$17+1)*H$20,IF($A33=YEAR(H$17),(DATE(YEAR(H$17),12,31)-H$17+1)*H$20,IF($A33=YEAR(H$18),(H$18-DATE(YEAR(H$18),1,1))*H$20,0)))) -> 0 | I33: =IF(AND($A33>YEAR(I$17),$A33<YEAR(I$18)),(DATE($A33,12,31)-DATE($A33,1,0))*I$20,IF(AND($A33=YEAR(I$17),$A33=YEAR(I$18)),(I$18-I$17+1)*I$20,IF($A33=YEAR(I$17),(DATE(YEAR(I$17),12,31)-I$17+1)*I$20,IF($A33=YEAR(I$18),(I$18-DATE(YEAR(I$18),1,1))*I$20,0)))) -> 0 | ... M33: =IF(AND($A33>YEAR(M$17),$A33<YEAR(M$18)),(DATE($A33,12,31)-DATE($A33,1,0))*M$20,IF(AND($A33=YEAR(M$17),$A33=YEAR(M$18)),(M$18-M$17+1)*M$20,IF($A33=YEAR(M$17),(DATE(YEAR(M$17),12,31)-M$17+1)*M$20,IF($A33=YEAR(M$18),(M$18-DATE(YEAR(M$18),1,1))*M$20,0)))) -> 0 | N33: =SUM(B33:J33) -> 0
A34: =A33+1 -> 2040 | B34: =IF(AND($A34>YEAR(B$17),$A34<YEAR(B$18)),(DATE($A34,12,31)-DATE($A34,1,0))*B$20,IF(AND($A34=YEAR(B$17),$A34=YEAR(B$18)),(B$18-B$17+1)*B$20,IF($A34=YEAR(B$17),(DATE(YEAR(B$17),12,31)-B$17+1)*B$20,IF($A34=YEAR(B$18),(B$18-DATE(YEAR(B$18),1,1))*B$20,0)))) -> 0 | C34: =IF(AND($A34>YEAR(C$17),$A34<YEAR(C$18)),(DATE($A34,12,31)-DATE($A34,1,0))*C$20,IF(AND($A34=YEAR(C$17),$A34=YEAR(C$18)),(C$18-C$17+1)*C$20,IF($A34=YEAR(C$17),(DATE(YEAR(C$17),12,31)-C$17+1)*C$20,IF($A34=YEAR(C$18),(C$18-DATE(YEAR(C$18),1,1))*C$20,0)))) -> 0 | D34: =IF(AND($A34>YEAR(D$17),$A34<YEAR(D$18)),(DATE($A34,12,31)-DATE($A34,1,0))*D$20,IF(AND($A34=YEAR(D$17),$A34=YEAR(D$18)),(D$18-D$17+1)*D$20,IF($A34=YEAR(D$17),(DATE(YEAR(D$17),12,31)-D$17+1)*D$20,IF($A34=YEAR(D$18),(D$18-DATE(YEAR(D$18),1,1))*D$20,0)))) -> 0 | E34: =IF(AND($A34>YEAR(E$17),$A34<YEAR(E$18)),(DATE($A34,12,31)-DATE($A34,1,0))*E$20,IF(AND($A34=YEAR(E$17),$A34=YEAR(E$18)),(E$18-E$17+1)*E$20,IF($A34=YEAR(E$17),(DATE(YEAR(E$17),12,31)-E$17+1)*E$20,IF($A34=YEAR(E$18),(E$18-DATE(YEAR(E$18),1,1))*E$20,0)))) -> 0 | F34: =IF(AND($A34>YEAR(F$17),$A34<YEAR(F$18)),(DATE($A34,12,31)-DATE($A34,1,0))*F$20,IF(AND($A34=YEAR(F$17),$A34=YEAR(F$18)),(F$18-F$17+1)*F$20,IF($A34=YEAR(F$17),(DATE(YEAR(F$17),12,31)-F$17+1)*F$20,IF($A34=YEAR(F$18),(F$18-DATE(YEAR(F$18),1,1))*F$20,0)))) -> 0 | G34: =IF(AND($A34>YEAR(G$17),$A34<YEAR(G$18)),(DATE($A34,12,31)-DATE($A34,1,0))*G$20,IF(AND($A34=YEAR(G$17),$A34=YEAR(G$18)),(G$18-G$17+1)*G$20,IF($A34=YEAR(G$17),(DATE(YEAR(G$17),12,31)-G$17+1)*G$20,IF($A34=YEAR(G$18),(G$18-DATE(YEAR(G$18),1,1))*G$20,0)))) -> 0 | H34: =IF(AND($A34>YEAR(H$17),$A34<YEAR(H$18)),(DATE($A34,12,31)-DATE($A34,1,0))*H$20,IF(AND($A34=YEAR(H$17),$A34=YEAR(H$18)),(H$18-H$17+1)*H$20,IF($A34=YEAR(H$17),(DATE(YEAR(H$17),12,31)-H$17+1)*H$20,IF($A34=YEAR(H$18),(H$18-DATE(YEAR(H$18),1,1))*H$20,0)))) -> 0 | I34: =IF(AND($A34>YEAR(I$17),$A34<YEAR(I$18)),(DATE($A34,12,31)-DATE($A34,1,0))*I$20,IF(AND($A34=YEAR(I$17),$A34=YEAR(I$18)),(I$18-I$17+1)*I$20,IF($A34=YEAR(I$17),(DATE(YEAR(I$17),12,31)-I$17+1)*I$20,IF($A34=YEAR(I$18),(I$18-DATE(YEAR(I$18),1,1))*I$20,0)))) -> 0 | ... M34: =IF(AND($A34>YEAR(M$17),$A34<YEAR(M$18)),(DATE($A34,12,31)-DATE($A34,1,0))*M$20,IF(AND($A34=YEAR(M$17),$A34=YEAR(M$18)),(M$18-M$17+1)*M$20,IF($A34=YEAR(M$17),(DATE(YEAR(M$17),12,31)-M$17+1)*M$20,IF($A34=YEAR(M$18),(M$18-DATE(YEAR(M$18),1,1))*M$20,0)))) -> 0 | N34: =SUM(B34:J34) -> 0
A35: =A34+1 -> 2041 | B35: =IF(AND($A35>YEAR(B$17),$A35<YEAR(B$18)),(DATE($A35,12,31)-DATE($A35,1,0))*B$20,IF(AND($A35=YEAR(B$17),$A35=YEAR(B$18)),(B$18-B$17+1)*B$20,IF($A35=YEAR(B$17),(DATE(YEAR(B$17),12,31)-B$17+1)*B$20,IF($A35=YEAR(B$18),(B$18-DATE(YEAR(B$18),1,1))*B$20,0)))) -> 0 | C35: =IF(AND($A35>YEAR(C$17),$A35<YEAR(C$18)),(DATE($A35,12,31)-DATE($A35,1,0))*C$20,IF(AND($A35=YEAR(C$17),$A35=YEAR(C$18)),(C$18-C$17+1)*C$20,IF($A35=YEAR(C$17),(DATE(YEAR(C$17),12,31)-C$17+1)*C$20,IF($A35=YEAR(C$18),(C$18-DATE(YEAR(C$18),1,1))*C$20,0)))) -> 0 | D35: =IF(AND($A35>YEAR(D$17),$A35<YEAR(D$18)),(DATE($A35,12,31)-DATE($A35,1,0))*D$20,IF(AND($A35=YEAR(D$17),$A35=YEAR(D$18)),(D$18-D$17+1)*D$20,IF($A35=YEAR(D$17),(DATE(YEAR(D$17),12,31)-D$17+1)*D$20,IF($A35=YEAR(D$18),(D$18-DATE(YEAR(D$18),1,1))*D$20,0)))) -> 0 | E35: =IF(AND($A35>YEAR(E$17),$A35<YEAR(E$18)),(DATE($A35,12,31)-DATE($A35,1,0))*E$20,IF(AND($A35=YEAR(E$17),$A35=YEAR(E$18)),(E$18-E$17+1)*E$20,IF($A35=YEAR(E$17),(DATE(YEAR(E$17),12,31)-E$17+1)*E$20,IF($A35=YEAR(E$18),(E$18-DATE(YEAR(E$18),1,1))*E$20,0)))) -> 0 | F35: =IF(AND($A35>YEAR(F$17),$A35<YEAR(F$18)),(DATE($A35,12,31)-DATE($A35,1,0))*F$20,IF(AND($A35=YEAR(F$17),$A35=YEAR(F$18)),(F$18-F$17+1)*F$20,IF($A35=YEAR(F$17),(DATE(YEAR(F$17),12,31)-F$17+1)*F$20,IF($A35=YEAR(F$18),(F$18-DATE(YEAR(F$18),1,1))*F$20,0)))) -> 0 | G35: =IF(AND($A35>YEAR(G$17),$A35<YEAR(G$18)),(DATE($A35,12,31)-DATE($A35,1,0))*G$20,IF(AND($A35=YEAR(G$17),$A35=YEAR(G$18)),(G$18-G$17+1)*G$20,IF($A35=YEAR(G$17),(DATE(YEAR(G$17),12,31)-G$17+1)*G$20,IF($A35=YEAR(G$18),(G$18-DATE(YEAR(G$18),1,1))*G$20,0)))) -> 0 | H35: =IF(AND($A35>YEAR(H$17),$A35<YEAR(H$18)),(DATE($A35,12,31)-DATE($A35,1,0))*H$20,IF(AND($A35=YEAR(H$17),$A35=YEAR(H$18)),(H$18-H$17+1)*H$20,IF($A35=YEAR(H$17),(DATE(YEAR(H$17),12,31)-H$17+1)*H$20,IF($A35=YEAR(H$18),(H$18-DATE(YEAR(H$18),1,1))*H$20,0)))) -> 0 | I35: =IF(AND($A35>YEAR(I$17),$A35<YEAR(I$18)),(DATE($A35,12,31)-DATE($A35,1,0))*I$20,IF(AND($A35=YEAR(I$17),$A35=YEAR(I$18)),(I$18-I$17+1)*I$20,IF($A35=YEAR(I$17),(DATE(YEAR(I$17),12,31)-I$17+1)*I$20,IF($A35=YEAR(I$18),(I$18-DATE(YEAR(I$18),1,1))*I$20,0)))) -> 0 | ... M35: =IF(AND($A35>YEAR(M$17),$A35<YEAR(M$18)),(DATE($A35,12,31)-DATE($A35,1,0))*M$20,IF(AND($A35=YEAR(M$17),$A35=YEAR(M$18)),(M$18-M$17+1)*M$20,IF($A35=YEAR(M$17),(DATE(YEAR(M$17),12,31)-M$17+1)*M$20,IF($A35=YEAR(M$18),(M$18-DATE(YEAR(M$18),1,1))*M$20,0)))) -> 0 | N35: =SUM(B35:J35) -> 0
... A37: =A36+1 -> 2043 | B37: =IF(AND($A37>YEAR(B$17),$A37<YEAR(B$18)),(DATE($A37,12,31)-DATE($A37,1,0))*B$20,IF(AND($A37=YEAR(B$17),$A37=YEAR(B$18)),(B$18-B$17+1)*B$20,IF($A37=YEAR(B$17),(DATE(YEAR(B$17),12,31)-B$17+1)*B$20,IF($A37=YEAR(B$18),(B$18-DATE(YEAR(B$18),1,1))*B$20,0)))) -> 0 | C37: =IF(AND($A37>YEAR(C$17),$A37<YEAR(C$18)),(DATE($A37,12,31)-DATE($A37,1,0))*C$20,IF(AND($A37=YEAR(C$17),$A37=YEAR(C$18)),(C$18-C$17+1)*C$20,IF($A37=YEAR(C$17),(DATE(YEAR(C$17),12,31)-C$17+1)*C$20,IF($A37=YEAR(C$18),(C$18-DATE(YEAR(C$18),1,1))*C$20,0)))) -> 0 | D37: =IF(AND($A37>YEAR(D$17),$A37<YEAR(D$18)),(DATE($A37,12,31)-DATE($A37,1,0))*D$20,IF(AND($A37=YEAR(D$17),$A37=YEAR(D$18)),(D$18-D$17+1)*D$20,IF($A37=YEAR(D$17),(DATE(YEAR(D$17),12,31)-D$17+1)*D$20,IF($A37=YEAR(D$18),(D$18-DATE(YEAR(D$18),1,1))*D$20,0)))) -> 0 | E37: =IF(AND($A37>YEAR(E$17),$A37<YEAR(E$18)),(DATE($A37,12,31)-DATE($A37,1,0))*E$20,IF(AND($A37=YEAR(E$17),$A37=YEAR(E$18)),(E$18-E$17+1)*E$20,IF($A37=YEAR(E$17),(DATE(YEAR(E$17),12,31)-E$17+1)*E$20,IF($A37=YEAR(E$18),(E$18-DATE(YEAR(E$18),1,1))*E$20,0)))) -> 0 | F37: =IF(AND($A37>YEAR(F$17),$A37<YEAR(F$18)),(DATE($A37,12,31)-DATE($A37,1,0))*F$20,IF(AND($A37=YEAR(F$17),$A37=YEAR(F$18)),(F$18-F$17+1)*F$20,IF($A37=YEAR(F$17),(DATE(YEAR(F$17),12,31)-F$17+1)*F$20,IF($A37=YEAR(F$18),(F$18-DATE(YEAR(F$18),1,1))*F$20,0)))) -> 0 | G37: =IF(AND($A37>YEAR(G$17),$A37<YEAR(G$18)),(DATE($A37,12,31)-DATE($A37,1,0))*G$20,IF(AND($A37=YEAR(G$17),$A37=YEAR(G$18)),(G$18-G$17+1)*G$20,IF($A37=YEAR(G$17),(DATE(YEAR(G$17),12,31)-G$17+1)*G$20,IF($A37=YEAR(G$18),(G$18-DATE(YEAR(G$18),1,1))*G$20,0)))) -> 0 | H37: =IF(AND($A37>YEAR(H$17),$A37<YEAR(H$18)),(DATE($A37,12,31)-DATE($A37,1,0))*H$20,IF(AND($A37=YEAR(H$17),$A37=YEAR(H$18)),(H$18-H$17+1)*H$20,IF($A37=YEAR(H$17),(DATE(YEAR(H$17),12,31)-H$17+1)*H$20,IF($A37=YEAR(H$18),(H$18-DATE(YEAR(H$18),1,1))*H$20,0)))) -> 0 | I37: =IF(AND($A37>YEAR(I$17),$A37<YEAR(I$18)),(DATE($A37,12,31)-DATE($A37,1,0))*I$20,IF(AND($A37=YEAR(I$17),$A37=YEAR(I$18)),(I$18-I$17+1)*I$20,IF($A37=YEAR(I$17),(DATE(YEAR(I$17),12,31)-I$17+1)*I$20,IF($A37=YEAR(I$18),(I$18-DATE(YEAR(I$18),1,1))*I$20,0)))) -> 0 | ... M37: =IF(AND($A37>YEAR(M$17),$A37<YEAR(M$18)),(DATE($A37,12,31)-DATE($A37,1,0))*M$20,IF(AND($A37=YEAR(M$17),$A37=YEAR(M$18)),(M$18-M$17+1)*M$20,IF($A37=YEAR(M$17),(DATE(YEAR(M$17),12,31)-M$17+1)*M$20,IF($A37=YEAR(M$18),(M$18-DATE(YEAR(M$18),1,1))*M$20,0)))) -> 0 | N37: =SUM(B37:J37) -> 0
A39: Totaal per Component | B39: =SUM(B23:B37) -> 0 | C39: =SUM(C23:C37) -> 0 | D39: =SUM(D23:D37) -> 0 | E39: =SUM(E23:E37) -> 0 | F39: =SUM(F23:F37) -> 0 | G39: =SUM(G23:G37) -> 0 | H39: =SUM(H23:H37) -> 0 | I39: =SUM(I23:I37) -> 0 | ... M39: =SUM(M23:M37) -> 0
A43: Boekwaarde 31-12 Componenten | N43: Totaal
A44: 2029 | B44: =IF(OR(B$8="",B$10=""),0,MAX(B23*B13+B$16,B$16)) -> 0 | C44: =IF(OR(C$8="",C$10=""),0,MAX(C23*C13+C$16,C$16)) -> 0 | D44: =IF(OR(D$8="",D$10=""),0,MAX(D23*D13+D$16,D$16)) -> 0 | E44: =IF(OR(E$8="",E$10=""),0,MAX(E23*E13+E$16,E$16)) -> 0 | F44: =IF(OR(F$8="",F$10=""),0,MAX(F23*F13+F$16,F$16)) -> 0 | G44: =IF(OR(G$8="",G$10=""),0,MAX(G23*G13+G$16,G$16)) -> 0 | H44: =IF(OR(H$8="",H$10=""),0,MAX(H23*H13+H$16,H$16)) -> 0 | I44: =IF(OR(I$8="",I$10=""),0,MAX(I23*I13+I$16,I$16)) -> 0 | ... M44: =IF(OR(M$8="",M$10=""),0,MAX(M23*M13+M$16,M$16)) -> 0 | N44: =SUM(B44:J44) -> 0
A45: =A44+1 -> 2030 | B45: =IF(OR(B$8="",B$10=""),0,MAX(B44-B24,B$16)) -> 0 | C45: =IF(OR(C$8="",C$10=""),0,MAX(C44-C24,C$16)) -> 0 | D45: =IF(OR(D$8="",D$10=""),0,MAX(D44-D24,D$16)) -> 0 | E45: =IF(OR(E$8="",E$10=""),0,MAX(E44-E24,E$16)) -> 0 | F45: =IF(OR(F$8="",F$10=""),0,MAX(F44-F24,F$16)) -> 0 | G45: =IF(OR(G$8="",G$10=""),0,MAX(G24*G14+G$16,G$16)) -> 0 | H45: =IF(OR(H$8="",H$10=""),0,MAX(H24*H14+H$16,H$16)) -> 0 | I45: =IF(OR(I$8="",I$10=""),0,MAX(I24*I14+I$16,I$16)) -> 0 | J45: =IF(OR(J$8="",J$10=""),0,MAX(J24*J14+J$16,J$16)) -> 0 | K45: =IF(OR(K$8="",K$10=""),0,MAX(K24*K14+K$16,K$16)) -> 0 | L45: =IF(OR(L$8="",L$10=""),0,MAX(L24*L14+L$16,L$16)) -> 0 | M45: =IF(OR(M$8="",M$10=""),0,MAX(M24*M14+M$16,M$16)) -> 0 | N45: =SUM(B45:J45) -> 0
A46: =A45+1 -> 2031 | B46: =IF(OR(B$8="",B$10=""),0,MAX(B45-B25,B$16)) -> 0 | C46: =IF(OR(C$8="",C$10=""),0,MAX(C45-C25,C$16)) -> 0 | D46: =IF(OR(D$8="",D$10=""),0,MAX(D45-D25,D$16)) -> 0 | E46: =IF(OR(E$8="",E$10=""),0,MAX(E45-E25,E$16)) -> 0 | F46: =IF(OR(F$8="",F$10=""),0,MAX(F45-F25,F$16)) -> 0 | G46: =IF(OR(G$8="",G$10=""),0,MAX(G25*G15+G$16,G$16)) -> 0 | H46: =IF(OR(H$8="",H$10=""),0,MAX(H25*H15+H$16,H$16)) -> 0 | I46: =IF(OR(I$8="",I$10=""),0,MAX(I25*I15+I$16,I$16)) -> 0 | J46: =IF(OR(J$8="",J$10=""),0,MAX(J25*J15+J$16,J$16)) -> 0 | K46: =IF(OR(K$8="",K$10=""),0,MAX(K25*K15+K$16,K$16)) -> 0 | L46: =IF(OR(L$8="",L$10=""),0,MAX(L25*L15+L$16,L$16)) -> 0 | M46: =IF(OR(M$8="",M$10=""),0,MAX(M25*M15+M$16,M$16)) -> 0 | N46: =SUM(B46:J46) -> 0
A47: =A46+1 -> 2032 | B47: =IF(OR(B$8="",B$10=""),0,MAX(B46-B26,B$16)) -> 0 | C47: =IF(OR(C$8="",C$10=""),0,MAX(C46-C26,C$16)) -> 0 | D47: =IF(OR(D$8="",D$10=""),0,MAX(D46-D26,D$16)) -> 0 | E47: =IF(OR(E$8="",E$10=""),0,MAX(E46-E26,E$16)) -> 0 | F47: =IF(OR(F$8="",F$10=""),0,MAX(F46-F26,F$16)) -> 0 | G47: =IF(OR(G$8="",G$10=""),0,MAX(G26*G16+G$16,G$16)) -> 0 | H47: =IF(OR(H$8="",H$10=""),0,MAX(H26*H16+H$16,H$16)) -> 0 | I47: =IF(OR(I$8="",I$10=""),0,MAX(I26*I16+I$16,I$16)) -> 0 | J47: =IF(OR(J$8="",J$10=""),0,MAX(J26*J16+J$16,J$16)) -> 0 | K47: =IF(OR(K$8="",K$10=""),0,MAX(K26*K16+K$16,K$16)) -> 0 | L47: =IF(OR(L$8="",L$10=""),0,MAX(L26*L16+L$16,L$16)) -> 0 | M47: =IF(OR(M$8="",M$10=""),0,MAX(M26*M16+M$16,M$16)) -> 0 | N47: =SUM(B47:J47) -> 0
A48: =A47+1 -> 2033 | B48: =IF(OR(B$8="",B$10=""),0,MAX(B47-B27,B$16)) -> 0 | C48: =IF(OR(C$8="",C$10=""),0,MAX(C47-C27,C$16)) -> 0 | D48: =IF(OR(D$8="",D$10=""),0,MAX(D47-D27,D$16)) -> 0 | E48: =IF(OR(E$8="",E$10=""),0,MAX(E47-E27,E$16)) -> 0 | F48: =IF(OR(F$8="",F$10=""),0,MAX(F47-F27,F$16)) -> 0 | G48: =IF(OR(G$8="",G$10=""),0,MAX(G27*G17+G$16,G$16)) -> 0 | H48: =IF(OR(H$8="",H$10=""),0,MAX(H27*H17+H$16,H$16)) -> 0 | I48: =IF(OR(I$8="",I$10=""),0,MAX(I27*I17+I$16,I$16)) -> 0 | J48: =IF(OR(J$8="",J$10=""),0,MAX(J27*J17+J$16,J$16)) -> 0 | K48: =IF(OR(K$8="",K$10=""),0,MAX(K27*K17+K$16,K$16)) -> 0 | L48: =IF(OR(L$8="",L$10=""),0,MAX(L27*L17+L$16,L$16)) -> 0 | M48: =IF(OR(M$8="",M$10=""),0,MAX(M27*M17+M$16,M$16)) -> 0 | N48: =SUM(B48:J48) -> 0
...

Sheet B.03
A1: B.03 Reguliere onderhoudskosten Schepen | F1: Instructie | G1: Vul de oranje cellen in
A2: terug
B4: Omschrijving type schip | C4: … | D4: … | E4: … | F4: … | G4: … | H4: … | I4: …
A6: Totaal Onderhoudskosten op jaarbasis
A8: Nr | B8: Kalenderjaar | C8: =C4 -> … | D8: =D4 -> … | E8: =E4 -> … | F8: =F4 -> … | G8: =G4 -> … | H8: =H4 -> … | I8: =I4 -> … | J8: Totaal
A9: 1 | B9: 2029 | J9: =SUM(C9:I9) -> 0
A10: =A9+1 -> 2 | B10: =B9+1 -> 2030 | J10: =SUM(C10:I10) -> 0
A11: =A10+1 -> 3 | B11: =B10+1 -> 2031 | J11: =SUM(C11:I11) -> 0
A12: =A11+1 -> 4 | B12: =B11+1 -> 2032 | J12: =SUM(C12:I12) -> 0
A13: =A12+1 -> 5 | B13: =B12+1 -> 2033 | J13: =SUM(C13:I13) -> 0
A14: =A13+1 -> 6 | B14: =B13+1 -> 2034 | J14: =SUM(C14:I14) -> 0
A15: =A14+1 -> 7 | B15: =B14+1 -> 2035 | J15: =SUM(C15:I15) -> 0
A16: =A15+1 -> 8 | B16: =B15+1 -> 2036 | J16: =SUM(C16:I16) -> 0
A17: =A16+1 -> 9 | B17: =B16+1 -> 2037 | J17: =SUM(C17:I17) -> 0
A18: =A17+1 -> 10 | B18: =B17+1 -> 2038 | J18: =SUM(C18:I18) -> 0
A19: =A18+1 -> 11 | B19: =B18+1 -> 2039 | J19: =SUM(C19:I19) -> 0
A20: =A19+1 -> 12 | B20: =B19+1 -> 2040 | J20: =SUM(C20:I20) -> 0
A21: =A20+1 -> 13 | B21: =B20+1 -> 2041 | J21: =SUM(C21:I21) -> 0
... A23: =A22+1 -> 15 | B23: =B22+1 -> 2043 | J23: =SUM(C23:I23) -> 0
A25: Totaal | C25: =SUM(C9:C23) -> 0 | D25: =SUM(D9:D23) -> 0 | E25: =SUM(E9:E23) -> 0 | F25: =SUM(F9:F23) -> 0 | G25: =SUM(G9:G23) -> 0 | H25: =SUM(H9:H23) -> 0 | I25: =SUM(I9:I23) -> 0 | J25: =SUM(J9:J23) -> 0
A28: Totaal aantal draaiuren op jaarbasis
A30: Nr | B30: Kalenderjaar | C30: =C4 -> … | D30: =D4 -> … | E30: =E4 -> … | F30: =F4 -> … | G30: =G4 -> … | H30: =H4 -> … | I30: =I4 -> … | J30: Totaal
A31: 1 | B31: 2029 | J31: =SUM(C31:I31) -> 0
A32: =A31+1 -> 2 | B32: =B31+1 -> 2030 | J32: =SUM(C32:I32) -> 0
A33: =A32+1 -> 3 | B33: =B32+1 -> 2031 | J33: =SUM(C33:I33) -> 0
A34: =A33+1 -> 4 | B34: =B33+1 -> 2032 | J34: =SUM(C34:I34) -> 0
A35: =A34+1 -> 5 | B35: =B34+1 -> 2033 | J35: =SUM(C35:I35) -> 0
A36: =A35+1 -> 6 | B36: =B35+1 -> 2034 | J36: =SUM(C36:I36) -> 0
A37: =A36+1 -> 7 | B37: =B36+1 -> 2035 | J37: =SUM(C37:I37) -> 0
A38: =A37+1 -> 8 | B38: =B37+1 -> 2036 | J38: =SUM(C38:I38) -> 0
A39: =A38+1 -> 9 | B39: =B38+1 -> 2037 | J39: =SUM(C39:I39) -> 0
A40: =A39+1 -> 10 | B40: =B39+1 -> 2038 | J40: =SUM(C40:I40) -> 0
A41: =A40+1 -> 11 | B41: =B40+1 -> 2039 | J41: =SUM(C41:I41) -> 0
A42: =A41+1 -> 12 | B42: =B41+1 -> 2040 | J42: =SUM(C42:I42) -> 0
A43: =A42+1 -> 13 | B43: =B42+1 -> 2041 | J43: =SUM(C43:I43) -> 0
... A45: =A44+1 -> 15 | B45: =B44+1 -> 2043 | J45: =SUM(C45:I45) -> 0
J46: =SUM(C46:I46) -> 0
A47: Totaal | C47: =SUM(C31:C45) -> 0 | D47: =SUM(D31:D45) -> 0 | E47: =SUM(E31:E45) -> 0 | F47: =SUM(F31:F45) -> 0 | G47: =SUM(G31:G45) -> 0 | H47: =SUM(H31:H45) -> 0 | I47: =SUM(I31:I45) -> 0 | J47: =SUM(C47:I47) -> 0
A49: Gemiddeld onderhoudstarief per draaiuur per jaar
A50: Nr | B50: Kalenderjaar | C50: =C4 -> … | D50: =D4 -> … | E50: =E4 -> … | F50: =F4 -> … | G50: =G4 -> … | H50: =H4 -> … | I50: =I4 -> … | J50: Totaal
...

Sheet B.04
A1: B.04 Brandstof Schepen | F1: Instructie | G1: Vul de oranje cellen in
A2: terug
A4: Brandstof
A5: Verwacht verbruik in liters | B5: 2029 | C5: =B5+1 -> 2030 | D5: =C5+1 -> 2031 | E5: =D5+1 -> 2032 | F5: =E5+1 -> 2033 | G5: =F5+1 -> 2034 | H5: =G5+1 -> 2035 | I5: =H5+1 -> 2036 | J5: =I5+1 -> 2037 | ... P5: =O5+1 -> 2043
A6: <type schip>
A7: <type schip>
A8: <type schip>
A9: <type schip>
A10: <type schip>
A11: <type schip>
A12: Totaal liters | B12: =SUM(B6:B11) -> 0 | C12: =SUM(C6:C11) -> 0 | D12: =SUM(D6:D11) -> 0 | E12: =SUM(E6:E11) -> 0 | F12: =SUM(F6:F11) -> 0 | G12: =SUM(G6:G11) -> 0 | H12: =SUM(H6:H11) -> 0 | I12: =SUM(I6:I11) -> 0 | ... P12: =SUM(P6:P11) -> 0
A14: Brandstofprijf per liter | B14: 0 | C14: 0 | D14: 0 | E14: 0 | F14: 0 | G14: 0 | H14: 0 | I14: 0 | J14: 0 | K14: 0 | L14: 0 | M14: 0 | N14: 0 | O14: 0 | P14: 0
A15: Kosten brandstofverbruik | B15: =B14*B12 -> 0 | C15: =C14*C12 -> 0 | D15: =D14*D12 -> 0 | E15: =E14*E12 -> 0 | F15: =F14*F12 -> 0 | G15: =G14*G12 -> 0 | H15: =H14*H12 -> 0 | I15: =I14*I12 -> 0 | ... P15: =P14*P12 -> 0
A17: Brandstof
A18: Verwacht verbruik in liters | B18: 2029 | C18: =B18+1 -> 2030 | D18: =C18+1 -> 2031 | E18: =D18+1 -> 2032 | F18: =E18+1 -> 2033 | G18: =F18+1 -> 2034 | H18: =G18+1 -> 2035 | I18: =H18+1 -> 2036 | J18: =I18+1 -> 2037 | ... P18: =O18+1 -> 2043
A19: <type schip>
A20: <type schip>
A21: <type schip>
A22: Totaal liters | B22: =SUM(B19:B21) -> 0 | C22: =SUM(C19:C21) -> 0 | D22: =SUM(D19:D21) -> 0 | E22: =SUM(E19:E21) -> 0 | F22: =SUM(F19:F21) -> 0 | G22: =SUM(G19:G21) -> 0 | H22: =SUM(H19:H21) -> 0 | I22: =SUM(I19:I21) -> 0 | ... P22: =SUM(P19:P21) -> 0
A24: Brandstofprijf per liter | B24: 0 | C24: 0 | D24: 0 | E24: 0 | F24: 0 | G24: 0 | H24: 0 | I24: 0 | J24: 0 | K24: 0 | L24: 0 | M24: 0 | N24: 0 | O24: 0 | P24: 0
A25: Kosten brandstofverbruik | B25: =B24*B22 -> 0 | C25: =C24*C22 -> 0 | D25: =D24*D22 -> 0 | E25: =E24*E22 -> 0 | F25: =F24*F22 -> 0 | G25: =G24*G22 -> 0 | H25: =H24*H22 -> 0 | I25: =I24*I22 -> 0 | ... P25: =P24*P22 -> 0
A28: Totaal | B28: =B15+B25 -> 0 | C28: =C15+C25 -> 0 | D28: =D15+D25 -> 0 | E28: =E15+E25 -> 0 | F28: =F15+F25 -> 0 | G28: =G15+G25 -> 0 | H28: =H15+H25 -> 0 | I28: =I15+I25 -> 0 | ... P28: =P15+P25 -> 0

Sheet C.03
A1: C.03 Onderhoudskosten Productiemiddelen | F1: Instructie | G1: Vul de oranje cellen in
A2: terug
B4: Omschrijving productiemiddel | C4: Productiemiddel X | D4: Productiemiddel X | E4: Productiemiddel X | F4: Productiemiddel X | G4: Productiemiddel X | H4: Productiemiddel X | I4: Productiemiddel X
A6: Totaal Onderhoudskosten op jaarbasis
A8: Nr | B8: Kalenderjaar | C8: =C4 -> Productiemiddel X | D8: =D4 -> Productiemiddel X | E8: =E4 -> Productiemiddel X | F8: =F4 -> Productiemiddel X | G8: =G4 -> Productiemiddel X | H8: =H4 -> Productiemiddel X | I8: =I4 -> Productiemiddel X | J8: Totaal
A9: 1 | B9: 2029 | J9: =SUM(C9:I9) -> 0
A10: =A9+1 -> 2 | B10: =B9+1 -> 2030 | J10: =SUM(C10:I10) -> 0
A11: =A10+1 -> 3 | B11: =B10+1 -> 2031 | J11: =SUM(C11:I11) -> 0
A12: =A11+1 -> 4 | B12: =B11+1 -> 2032 | J12: =SUM(C12:I12) -> 0
A13: =A12+1 -> 5 | B13: =B12+1 -> 2033 | J13: =SUM(C13:I13) -> 0
A14: =A13+1 -> 6 | B14: =B13+1 -> 2034 | J14: =SUM(C14:I14) -> 0
A15: =A14+1 -> 7 | B15: =B14+1 -> 2035 | J15: =SUM(C15:I15) -> 0
A16: =A15+1 -> 8 | B16: =B15+1 -> 2036 | J16: =SUM(C16:I16) -> 0
A17: =A16+1 -> 9 | B17: =B16+1 -> 2037 | J17: =SUM(C17:I17) -> 0
A18: =A17+1 -> 10 | B18: =B17+1 -> 2038 | J18: =SUM(C18:I18) -> 0
A19: =A18+1 -> 11 | B19: =B18+1 -> 2039 | J19: =SUM(C19:I19) -> 0
A20: =A19+1 -> 12 | B20: =B19+1 -> 2040 | J20: =SUM(C20:I20) -> 0
A21: =A20+1 -> 13 | B21: =B20+1 -> 2041 | J21: =SUM(C21:I21) -> 0
... A23: =A22+1 -> 15 | B23: =B22+1 -> 2043 | J23: =SUM(C23:I23) -> 0
A25: Totaal | C25: =SUM(C9:C23) -> 0 | D25: =SUM(D9:D23) -> 0 | E25: =SUM(E9:E23) -> 0 | F25: =SUM(F9:F23) -> 0 | G25: =SUM(G9:G23) -> 0 | H25: =SUM(H9:H23) -> 0 | I25: =SUM(I9:I23) -> 0 | J25: =SUM(J9:J23) -> 0

Sheet D.01
A1: D.01 Loonkosten indirect Personeel | F1: Instructie | G1: Vul de oranje cellen in
A2: terug
A4: Jaar | B4: 2029 | C4: =B4+1 -> 2030 | D4: =C4+1 -> 2031 | E4: =D4+1 -> 2032 | F4: =E4+1 -> 2033 | G4: =F4+1 -> 2034 | H4: =G4+1 -> 2035 | I4: =H4+1 -> 2036 | J4: =I4+1 -> 2037 | ... P4: =O4+1 -> 2043
A5: Gemiddelde jaarloonsom per fte
A6: Aantal fte
A7: Totale loonsom | B7: =B5*B6 -> 0 | C7: =C5*C6 -> 0 | D7: =D5*D6 -> 0 | E7: =E5*E6 -> 0 | F7: =F5*F6 -> 0 | G7: =G5*G6 -> 0 | H7: =H5*H6 -> 0 | I7: =I5*I6 -> 0 | ... P7: =P5*P6 -> 0

Sheet E.02
A1: E.02 Implementatie- en overdracht | F1: Instructie | G1: Vul de oranje cellen in
A2: terug
A4: Omschrijving
A5: Type kosten
A6: …
A7: …
A8: …
A9: …
A10: …
A11: …
A12: …
A13: …
A14: …
... A28: Restwaarde
A29: Totaal investeringen | B29: =(SUM(B6:B27)-B28) -> 0 | C29: =(SUM(C6:C27)-C28) -> 0 | D29: =(SUM(C6:C27)-C28) -> 0 | E29: =(SUM(D6:D27)-D28) -> 0 | F29: =(SUM(E6:E27)-E28) -> 0 | G29: =(SUM(F6:F27)-F28) -> 0 | H29: =(SUM(G6:G27)-G28) -> 0 | I29: =(SUM(H6:H27)-H28) -> 0
A30: Datum start afschrijving
A31: Datum laatste termijn afschrijving
A32: Afschrijvingstermijn in dagen (dagen in concessie) | B32: =DATEDIF(B30,B31,"D") -> 0 | C32: =DATEDIF(C30,C31,"D") -> 0 | D32: =DATEDIF(D30,D31,"D") -> 0 | E32: =DATEDIF(E30,E31,"D") -> 0 | F32: =DATEDIF(F30,F31,"D") -> 0 | G32: =DATEDIF(G30,G31,"D") -> 0 | H32: =DATEDIF(H30,H31,"D") -> 0 | I32: =DATEDIF(I30,I31,"D") -> 0
A33: Afschrijving per dag | B33: =IFERROR(B29/B32,0) -> 0 | C33: =IFERROR(C29/C32,0) -> 0 | D33: =IFERROR(D29/D32,0) -> 0 | E33: =IFERROR(E29/E32,0) -> 0 | F33: =IFERROR(F29/F32,0) -> 0 | G33: =IFERROR(G29/G32,0) -> 0 | H33: =IFERROR(H29/H32,0) -> 0 | I33: =IFERROR(I29/I32,0) -> 0
A35: Jaren | J35: Totaal
