Workbook

Sheet Winst en verlies rekening
B2: Standaardformulier O15 Financieel economische onderbouwing Waddenveren Oost | H2: Instructie
E3: Versie juli 2026 | H3: Vul de oranje cellen in
B4: Inschrijver
F7: 2029 | G7: 2030 | H7: 2031 | I7: 2032 | J7: 2033 | K7: 2034 | L7: 2035 | M7: 2036
E8: Van | F8: 47127 | G8: 47484 | H8: 47849 | I8: 48214 | J8: 48580 | K8: 48945 | L8: 49310 | M8: 49675
E9: tot en met | F9: 47483 | G9: 47848 | H9: 48213 | I9: 48579 | J9: 48944 | K9: 49309 | L9: 49674 | M9: 49679
E10: Dagen | F10: =(DATEDIF(F8,F9,"D"))+1 -> 357 | G10: =(DATEDIF(G8,G9,"D"))+1 -> 365 | H10: =(DATEDIF(H8,H9,"D"))+1 -> 365 | I10: =(DATEDIF(I8,I9,"D"))+1 -> 366 | J10: =(DATEDIF(J8,J9,"D"))+1 -> 365 | K10: =(DATEDIF(K8,K9,"D"))+1 -> 365 | L10: =(DATEDIF(L8,L9,"D"))+1 -> 365 | M10: =(DATEDIF(M8,M9,"D"))+1 -> 5
C11: Directe kosten
B13: A | C13: Loonkosten direct Personeel | F13: =SUM(F14:F15) -> 0 | G13: =SUM(G14:G15) -> 0 | H13: =SUM(H14:H15) -> 0 | I13: =SUM(I14:I15) -> 0 | J13: =SUM(J14:J15) -> 0 | K13: =SUM(K14:K15) -> 0 | L13: =SUM(L14:L15) -> 0 | M13: =SUM(M14:M15) -> 0
B14: A.01 | C14: Loonkosten direct Personeel | D14: A.01 | F14: =A.01!B7 -> 0 | G14: =A.01!C7 -> 0 | H14: =A.01!D7 -> 0 | I14: =A.01!E7 -> 0 | J14: =A.01!F7 -> 0 | K14: =A.01!G7 -> 0 | L14: =A.01!H7 -> 0 | M14: =A.01!I7 -> 0
B15: A.02 | C15: Overige personeelskosten direct Pers. | F15: =SUM(F16:F17) -> 0 | G15: =SUM(G16:G17) -> 0 | H15: =SUM(H16:H17) -> 0 | I15: =SUM(I16:I17) -> 0 | J15: =SUM(J16:J17) -> 0 | K15: =SUM(K16:K17) -> 0 | L15: =SUM(L16:L17) -> 0 | M15: =SUM(M16:M17) -> 0
B16: A.02.1 | C16: … < specificeren > … | F16: 0 | G16: 0 | H16: 0 | I16: 0 | J16: 0 | K16: 0 | L16: 0 | M16: 0
B17: A.02.2 | C17: … < specificeren > … | F17: 0 | G17: 0 | H17: 0 | I17: 0 | J17: 0 | K17: 0 | L17: 0 | M17: 0
B19: B | C19: Kosten schepen | F19: =SUM(F20:F26) -> 0 | G19: =SUM(G20:G26) -> 0 | H19: =SUM(H20:H26) -> 0 | I19: =SUM(I20:I26) -> 0 | J19: =SUM(J20:J26) -> 0 | K19: =SUM(K20:K26) -> 0 | L19: =SUM(L20:L26) -> 0 | M19: =SUM(M20:M26) -> 0
B20: B.01 | C20: Afschrijvingskosten Schepen | D20: B.01 | F20: =B.01!O23 -> 0 | G20: =B.01!O24 -> 0 | H20: =B.01!O25 -> 0 | I20: =B.01!O26 -> 0 | J20: =B.01!O27 -> 0 | K20: =B.01!O28 -> 0 | L20: =B.01!O29 -> 0 | M20: =B.01!O30 -> 0
B21: B.02 | C21: Afschrijvingskosten Laadinfrastructuur | D21: B.02 | F21: =B.02!$S16 -> 0 | G21: =B.02!$S16 -> 0 | H21: =B.02!$S16 -> 0 | I21: =B.02!$S16 -> 0 | J21: =B.02!$S16 -> 0 | K21: =B.02!$S16 -> 0 | L21: =B.02!$S16 -> 0 | M21: =B.02!$S16 -> 0
B22: B.03 | C22: Onderhoudskosten Laadinfrastructuur | D22: B.03 | F22: =B.03!$J9 -> 0 | G22: =B.03!$J10 -> 0 | H22: =B.03!$J11 -> 0 | I22: =B.03!$J12 -> 0 | J22: =B.03!$J13 -> 0 | K22: =B.03!$J14 -> 0 | L22: =B.03!$J15 -> 0 | M22: =B.03!$J16 -> 0
B23: B.04 | C23: Kosten Operational lease/inhuur Schepen | F23: 0 | G23: 0 | H23: 0 | I23: 0 | J23: 0 | K23: 0 | L23: 0 | M23: 0
B24: B.05 | C24: Onderhoudskosten Schepen | D24: B.05 | F24: =B.05!$J$9 -> 0 | G24: =B.05!$J$10 -> 0 | H24: =B.05!$J$11 -> 0 | I24: =B.05!$J$12 -> 0 | J24: =B.05!$J$13 -> 0 | K24: =B.05!$J$14 -> 0 | L24: =B.05!$J$15 -> 0 | M24: =B.05!$J$16 -> 0
B25: B.06 | C25: Brandstof Schepen | D25: B.06 | F25: =B.06!B37 -> 0 | G25: =B.06!C37 -> 0 | H25: =B.06!D37 -> 0 | I25: =B.06!E37 -> 0 | J25: =B.06!F37 -> 0 | K25: =B.06!G37 -> 0 | L25: =B.06!H37 -> 0 | M25: =B.06!I37 -> 0
B26: B.07 | C26: Overige kosten Schepen | F26: =SUM(F27:F28) -> 0 | G26: =SUM(G27:G28) -> 0 | H26: =SUM(H27:H28) -> 0 | I26: =SUM(I27:I28) -> 0 | J26: =SUM(J27:J28) -> 0 | K26: =SUM(K27:K28) -> 0 | L26: =SUM(L27:L28) -> 0 | M26: =SUM(M27:M28) -> 0
B27: B.07.1 | C27: … < specificeren > … | F27: 0 | G27: 0 | H27: 0 | I27: 0 | J27: 0 | K27: 0 | L27: 0 | M27: 0
B28: B.07.2 | C28: … < specificeren > … | F28: 0 | G28: 0 | H28: 0 | I28: 0 | J28: 0 | K28: 0 | L28: 0 | M28: 0
B31: C | C31: Kosten Productiemiddelen | F31: =SUM(F32:F36) -> 0 | G31: =SUM(G32:G36) -> 0 | H31: =SUM(H32:H36) -> 0 | I31: =SUM(I32:I36) -> 0 | J31: =SUM(J32:J36) -> 0 | K31: =SUM(K32:K36) -> 0 | L31: =SUM(L32:L36) -> 0 | M31: =SUM(M32:M36) -> 0
B32: C.01 | C32: Vergoeding Productiemiddelen Vastgoedovereenkomst | F32: =0.066*(F59+F83) -> 0 | G32: =0.066*(G59+G83) -> 0 | H32: =0.066*(H59+H83) -> 0 | I32: =0.066*(I59+I83) -> 0 | J32: =0.066*(J59+J83) -> 0 | K32: =0.066*(K59+K83) -> 0 | L32: =0.066*(L59+L83) -> 0 | M32: =0.066*(M59+M83) -> 0
B33: C.02 | C33: Kosten opstalrecht Terminalgebouwen | F33: 0 | G33: 0 | H33: 0 | I33: 0 | J33: 0 | K33: 0 | L33: 0 | M33: 0
B34: C.03 | C34: Onderhoudskosten Productiemiddelen | D34: C.03 | F34: ='C.03'!$J$9 -> 0 | G34: ='C.03'!$J$10 -> 0 | H34: ='C.03'!$J$11 -> 0 | I34: ='C.03'!$J$12 -> 0 | J34: ='C.03'!$J$13 -> 0 | K34: ='C.03'!$J$14 -> 0 | L34: ='C.03'!$J$15 -> 0 | M34: ='C.03'!$J$16 -> 0
B35: C.04 | C35: Afschrijvingskosten overige roerende zaken | F35: 0 | G35: 0 | H35: 0 | I35: 0 | J35: 0 | K35: 0 | L35: 0 | M35: 0
B36: C.05 | C36: Onderhoudskosten overige roerende zaken | F36: 0 | G36: 0 | H36: 0 | I36: 0 | J36: 0 | K36: 0 | L36: 0 | M36: 0
C38: Indirecte kosten
B40: D | C40: Loonkosten indirect personeel | F40: =SUM(F41:F42) -> 0 | G40: =SUM(G41:G42) -> 0 | H40: =SUM(H41:H42) -> 0 | I40: =SUM(I41:I42) -> 0 | J40: =SUM(J41:J42) -> 0 | K40: =SUM(K41:K42) -> 0 | L40: =SUM(L41:L42) -> 0 | M40: =SUM(M41:M42) -> 0
B41: D.01 | C41: Loonkosten indirect Personeel | D41: D.01 | F41: =D.01!B7 -> 0 | G41: =D.01!C7 -> 0 | H41: =D.01!D7 -> 0 | I41: =D.01!E7 -> 0 | J41: =D.01!F7 -> 0 | K41: =D.01!G7 -> 0 | L41: =D.01!H7 -> 0 | M41: =D.01!I7 -> 0
B42: D.02 | C42: Overige personeelkst indirect Pers. | F42: =F43+F44 -> 0 | G42: =G43+G44 -> 0 | H42: =H43+H44 -> 0 | I42: =I43+I44 -> 0 | J42: =J43+J44 -> 0 | K42: =K43+K44 -> 0 | L42: =L43+L44 -> 0 | M42: =M43+M44 -> 0
B43: D.02.1 | C43: … < specificeren > … | F43: 0 | G43: 0 | H43: 0 | I43: 0 | J43: 0 | K43: 0 | L43: 0 | M43: 0
B44: D.02.2 | C44: … < specificeren > … | F44: 0 | G44: 0 | H44: 0 | I44: 0 | J44: 0 | K44: 0 | L44: 0 | M44: 0
B46: E | C46: Overige indirecte kosten | F46: =SUM(F47:F49) -> 0 | G46: =SUM(G47:G49) -> 0 | H46: =SUM(H47:H49) -> 0 | I46: =SUM(I47:I49) -> 0 | J46: =SUM(J47:J49) -> 0 | K46: =SUM(K47:K49) -> 0 | L46: =SUM(L47:L49) -> 0 | M46: =SUM(M47:M49) -> 0
B47: E.01 | C47: Huisvestingskosten (hoofd)kantoor | F47: 0 | G47: 0 | H47: 0 | I47: 0 | J47: 0 | K47: 0 | L47: 0 | M47: 0
B48: E.02 | C48: Implementatie en overdracht | D48: E.02 | F48: =E.02!J36 -> 0 | G48: =E.02!J37 -> 0 | H48: =E.02!J38 -> 0 | I48: =E.02!J39 -> 0 | J48: =E.02!J40 -> 0 | K48: =E.02!J41 -> 0 | L48: =E.02!J42 -> 0 | M48: =E.02!J43 -> 0
B49: E.03 | C49: Overige kosten | F49: =SUM(F50:F51) -> 0 | G49: =SUM(G50:G51) -> 0 | H49: =SUM(H50:H51) -> 0 | I49: =SUM(I50:I51) -> 0 | J49: =SUM(J50:J51) -> 0 | K49: =SUM(K50:K51) -> 0 | L49: =SUM(L50:L51) -> 0 | M49: =SUM(M50:M51) -> 0
B50: E.03.1 | C50: … < specificeren > … | F50: 0 | G50: 0 | H50: 0 | I50: 0 | J50: 0 | K50: 0 | L50: 0 | M50: 0
...

Sheet A.01
A1: A.01 Loonkosten direct Personeel | F1: Instructie | G1: Vul de oranje cellen in
A2: terug
A4: Jaar | B4: 2029 | C4: =B4+1 -> 2030 | D4: =C4+1 -> 2031 | E4: =D4+1 -> 2032 | F4: =E4+1 -> 2033 | G4: =F4+1 -> 2034 | H4: =G4+1 -> 2035 | I4: =H4+1 -> 2036
A5: Gemiddelde jaarloonsom per fte
A6: Aantal fte
A7: Totale loonsom | B7: =B5*B6 -> 0 | C7: =C5*C6 -> 0 | D7: =D5*D6 -> 0 | E7: =E5*E6 -> 0 | F7: =F5*F6 -> 0 | G7: =G5*G6 -> 0 | H7: =H5*H6 -> 0 | I7: =I5*I6 -> 0

Sheet B.01
A1: B.01 Afschrijvingskosten Schepen | F1: Instructie | H1: Vul de oranje cellen in
A2: terug
A5: Omschrijving type schip | B5: Ms Sier | C5: Ms Oerd | D5: Ms Rottum | E5: Ms Monnik | F5: Ms Esonborg | G5: Ms Fostaborg | H5: Ms Hiddeborg | I5: <Nieuw Schip>
A6: Nieuw/Overname | B6: Overname | C6: Overname | D6: Overname | E6: Overname | F6: Overname | G6: Overname | H6: Overname | I6: Nieuw | J6: Nieuw | K6: Nieuw | L6: Nieuw | M6: Nieuw | N6: Nieuw
A7: Component | B7: Totale Schip | C7: Totale Schip | D7: Totale Schip | E7: Totale Schip | F7: Totale Schip | G7: Totale Schip | H7: Totale Schip | I7: Casco (hull) | J7: Motoren | K7: Voorstuwing | L7: Hulpsystemen | M7: Elektrische & Nautische installaties | N7: Interieur & passagiers-voorzieningen | O7: Totaal aanschafprijs
A8: Aanschafprijs Component | O8: =SUM(B8:N8) -> 0
A9: Bouwjaar
A10: Leeftijd (Lc)
A11: Afschrijvingstermijn (Tc)
A12: Effectieve afschrijvingstermijn (T*c) | B12: =IF(B10="","",MAX(B10+B14,B11)) | C12: =IF(C10="","",MAX(C10+C14,C11)) | D12: =IF(D10="","",MAX(D10+D14,D11)) | E12: =IF(E10="","",MAX(E10+E14,E11)) | F12: =IF(F10="","",MAX(F10+F14,F11)) | H12: =IF(H10="","",MAX(H10+H14,H11)) | I12: =IF(I10="","",MAX(I10+I14,I11)) | J12: =IF(J10="","",MAX(J10+J14,J11)) | K12: =IF(K10="","",MAX(K10+K14,K11)) | L12: =IF(L10="","",MAX(L10+L14,L11)) | M12: =IF(M10="","",MAX(M10+M14,M11)) | N12: =IF(N10="","",MAX(N10+N14,N11))
A13: Resterende levensduur (RL*c) | B13: =IF(B10="","",MAX(B11-B10,B14)) | C13: =IF(C10="","",MAX(C11-C10,C14)) | D13: =IF(D10="","",MAX(D11-D10,D14)) | E13: =IF(E10="","",MAX(E11-E10,E14)) | F13: =IF(F10="","",MAX(F11-F10,F14)) | H13: =IF(H10="","",MAX(H11-H10,H14)) | I13: =IF(I10="","",MAX(I11-I10,I14)) | J13: =IF(J10="","",MAX(J11-J10,J14)) | K13: =IF(K10="","",MAX(K11-K10,K14)) | L13: =IF(L10="","",MAX(L11-L10,L14)) | M13: =IF(M10="","",MAX(M11-M10,M14)) | N13: =IF(N10="","",MAX(N11-N10,N14))
A14: Effectieve resterende levernsduur (ERLc)
A15: Minimale restwaarde % (r) | B15: % | C15: % | D15: % | E15: % | F15: % | G15: % | H15: % | I15: 0.05 | J15: 0.05 | K15: 0.05 | L15: 0.05 | M15: 0.05 | N15: 0.05
A16: Minimale restwaarde (RLc) | B16: =IF(B8="","",B15*B8) | C16: =IF(C8="","",C15*C8) | D16: =IF(D8="","",D15*D8) | E16: =IF(E8="","",E15*E8) | F16: =IF(F8="","",F15*F8) | H16: =IF(H8="","",H15*H8) | I16: =IF(I8="","",I15*I8) | J16: =IF(J8="","",J15*J8) | K16: =IF(K8="","",K15*K8) | L16: =IF(L8="","",L15*L8) | M16: =IF(M8="","",M15*M8) | N16: =IF(N8="","",N15*N8)
A17: Datum Instroom Concessie
A18: Datum Uitstroom Concessie
A19: Afschrijvingstermijn in dagen totaal Component | B19: =DATEDIF(B17,B18,"D")+1 -> 1 | C19: =DATEDIF(C17,C18,"D")+1 -> 1 | D19: =DATEDIF(D17,D18,"D")+1 -> 1 | E19: =DATEDIF(E17,E18,"D")+1 -> 1 | F19: =DATEDIF(F17,F18,"D")+1 -> 1 | G19: =DATEDIF(G17,G18,"D")+1 -> 1 | H19: =DATEDIF(H17,H18,"D")+1 -> 1 | I19: =DATEDIF(I17,I18,"D")+1 -> 1 | ... N19: =DATEDIF(N17,N18,"D")+1 -> 1
A20: Afschrijving per dag per Component | B20: =IF(OR(B8="",B16="",B12=""),0,(SLN(B8,B16,B12))/365) -> 0 | C20: =IF(OR(C8="",C16="",C12=""),0,(SLN(C8,C16,C12))/365) -> 0 | D20: =IF(OR(D8="",D16="",D12=""),0,(SLN(D8,D16,D12))/365) -> 0 | E20: =IF(OR(E8="",E16="",E12=""),0,(SLN(E8,E16,E12))/365) -> 0 | F20: =IF(OR(F8="",F16="",F12=""),0,(SLN(F8,F16,F12))/365) -> 0 | G20: =IF(OR(G8="",G16="",G12=""),0,(SLN(G8,G16,G12))/365) -> 0 | H20: =IF(OR(H8="",H16="",H12=""),0,(SLN(H8,H16,H12))/365) -> 0 | I20: =IF(OR(I8="",I16="",I12=""),0,(SLN(I8,I16,I12))/365) -> 0 | ... N20: =IF(OR(N8="",N16="",N12=""),0,(SLN(N8,N16,N12))/365) -> 0
A22: Jaarlijkse Afschrijving Component | O22: Totale afschrijving per jaar
A23: 2029 | B23: =IF(AND($A23>YEAR(B$17),$A23<YEAR(B$18)),(DATE($A23,12,31)-DATE($A23,1,0))*B$20,IF(AND($A23=YEAR(B$17),$A23=YEAR(B$18)),(B$18-B$17+1)*B$20,IF($A23=YEAR(B$17),(DATE(YEAR(B$17),12,31)-B$17+1)*B$20,IF($A23=YEAR(B$18),(B$18-DATE(YEAR(B$18),1,1))*B$20,0)))) -> 0 | C23: =IF(AND($A23>YEAR(C$17),$A23<YEAR(C$18)),(DATE($A23,12,31)-DATE($A23,1,0))*C$20,IF(AND($A23=YEAR(C$17),$A23=YEAR(C$18)),(C$18-C$17+1)*C$20,IF($A23=YEAR(C$17),(DATE(YEAR(C$17),12,31)-C$17+1)*C$20,IF($A23=YEAR(C$18),(C$18-DATE(YEAR(C$18),1,1))*C$20,0)))) -> 0 | D23: =IF(AND($A23>YEAR(D$17),$A23<YEAR(D$18)),(DATE($A23,12,31)-DATE($A23,1,0))*D$20,IF(AND($A23=YEAR(D$17),$A23=YEAR(D$18)),(D$18-D$17+1)*D$20,IF($A23=YEAR(D$17),(DATE(YEAR(D$17),12,31)-D$17+1)*D$20,IF($A23=YEAR(D$18),(D$18-DATE(YEAR(D$18),1,1))*D$20,0)))) -> 0 | E23: =IF(AND($A23>YEAR(E$17),$A23<YEAR(E$18)),(DATE($A23,12,31)-DATE($A23,1,0))*E$20,IF(AND($A23=YEAR(E$17),$A23=YEAR(E$18)),(E$18-E$17+1)*E$20,IF($A23=YEAR(E$17),(DATE(YEAR(E$17),12,31)-E$17+1)*E$20,IF($A23=YEAR(E$18),(E$18-DATE(YEAR(E$18),1,1))*E$20,0)))) -> 0 | F23: =IF(AND($A23>YEAR(F$17),$A23<YEAR(F$18)),(DATE($A23,12,31)-DATE($A23,1,0))*F$20,IF(AND($A23=YEAR(F$17),$A23=YEAR(F$18)),(F$18-F$17+1)*F$20,IF($A23=YEAR(F$17),(DATE(YEAR(F$17),12,31)-F$17+1)*F$20,IF($A23=YEAR(F$18),(F$18-DATE(YEAR(F$18),1,1))*F$20,0)))) -> 0 | G23: =IF(AND($A23>YEAR(G$17),$A23<YEAR(G$18)),(DATE($A23,12,31)-DATE($A23,1,0))*G$20,IF(AND($A23=YEAR(G$17),$A23=YEAR(G$18)),(G$18-G$17+1)*G$20,IF($A23=YEAR(G$17),(DATE(YEAR(G$17),12,31)-G$17+1)*G$20,IF($A23=YEAR(G$18),(G$18-DATE(YEAR(G$18),1,1))*G$20,0)))) -> 0 | H23: =IF(AND($A23>YEAR(H$17),$A23<YEAR(H$18)),(DATE($A23,12,31)-DATE($A23,1,0))*H$20,IF(AND($A23=YEAR(H$17),$A23=YEAR(H$18)),(H$18-H$17+1)*H$20,IF($A23=YEAR(H$17),(DATE(YEAR(H$17),12,31)-H$17+1)*H$20,IF($A23=YEAR(H$18),(H$18-DATE(YEAR(H$18),1,1))*H$20,0)))) -> 0 | I23: =IF(AND($A23>YEAR(I$17),$A23<YEAR(I$18)),(DATE($A23,12,31)-DATE($A23,1,0))*I$20,IF(AND($A23=YEAR(I$17),$A23=YEAR(I$18)),(I$18-I$17+1)*I$20,IF($A23=YEAR(I$17),(DATE(YEAR(I$17),12,31)-I$17+1)*I$20,IF($A23=YEAR(I$18),(I$18-DATE(YEAR(I$18),1,1))*I$20,0)))) -> 0 | ... N23: =IF(AND($A23>YEAR(N$17),$A23<YEAR(N$18)),(DATE($A23,12,31)-DATE($A23,1,0))*N$20,IF(AND($A23=YEAR(N$17),$A23=YEAR(N$18)),(N$18-N$17+1)*N$20,IF($A23=YEAR(N$17),(DATE(YEAR(N$17),12,31)-N$17+1)*N$20,IF($A23=YEAR(N$18),(N$18-DATE(YEAR(N$18),1,1))*N$20,0)))) -> 0 | O23: =SUM(B23:K23) -> 0
A24: =A23+1 -> 2030 | B24: =IF(AND($A24>YEAR(B$17),$A24<YEAR(B$18)),(DATE($A24,12,31)-DATE($A24,1,0))*B$20,IF(AND($A24=YEAR(B$17),$A24=YEAR(B$18)),(B$18-B$17+1)*B$20,IF($A24=YEAR(B$17),(DATE(YEAR(B$17),12,31)-B$17+1)*B$20,IF($A24=YEAR(B$18),(B$18-DATE(YEAR(B$18),1,1))*B$20,0)))) -> 0 | C24: =IF(AND($A24>YEAR(C$17),$A24<YEAR(C$18)),(DATE($A24,12,31)-DATE($A24,1,0))*C$20,IF(AND($A24=YEAR(C$17),$A24=YEAR(C$18)),(C$18-C$17+1)*C$20,IF($A24=YEAR(C$17),(DATE(YEAR(C$17),12,31)-C$17+1)*C$20,IF($A24=YEAR(C$18),(C$18-DATE(YEAR(C$18),1,1))*C$20,0)))) -> 0 | D24: =IF(AND($A24>YEAR(D$17),$A24<YEAR(D$18)),(DATE($A24,12,31)-DATE($A24,1,0))*D$20,IF(AND($A24=YEAR(D$17),$A24=YEAR(D$18)),(D$18-D$17+1)*D$20,IF($A24=YEAR(D$17),(DATE(YEAR(D$17),12,31)-D$17+1)*D$20,IF($A24=YEAR(D$18),(D$18-DATE(YEAR(D$18),1,1))*D$20,0)))) -> 0 | E24: =IF(AND($A24>YEAR(E$17),$A24<YEAR(E$18)),(DATE($A24,12,31)-DATE($A24,1,0))*E$20,IF(AND($A24=YEAR(E$17),$A24=YEAR(E$18)),(E$18-E$17+1)*E$20,IF($A24=YEAR(E$17),(DATE(YEAR(E$17),12,31)-E$17+1)*E$20,IF($A24=YEAR(E$18),(E$18-DATE(YEAR(E$18),1,1))*E$20,0)))) -> 0 | F24: =IF(AND($A24>YEAR(F$17),$A24<YEAR(F$18)),(DATE($A24,12,31)-DATE($A24,1,0))*F$20,IF(AND($A24=YEAR(F$17),$A24=YEAR(F$18)),(F$18-F$17+1)*F$20,IF($A24=YEAR(F$17),(DATE(YEAR(F$17),12,31)-F$17+1)*F$20,IF($A24=YEAR(F$18),(F$18-DATE(YEAR(F$18),1,1))*F$20,0)))) -> 0 | G24: =IF(AND($A24>YEAR(G$17),$A24<YEAR(G$18)),(DATE($A24,12,31)-DATE($A24,1,0))*G$20,IF(AND($A24=YEAR(G$17),$A24=YEAR(G$18)),(G$18-G$17+1)*G$20,IF($A24=YEAR(G$17),(DATE(YEAR(G$17),12,31)-G$17+1)*G$20,IF($A24=YEAR(G$18),(G$18-DATE(YEAR(G$18),1,1))*G$20,0)))) -> 0 | H24: =IF(AND($A24>YEAR(H$17),$A24<YEAR(H$18)),(DATE($A24,12,31)-DATE($A24,1,0))*H$20,IF(AND($A24=YEAR(H$17),$A24=YEAR(H$18)),(H$18-H$17+1)*H$20,IF($A24=YEAR(H$17),(DATE(YEAR(H$17),12,31)-H$17+1)*H$20,IF($A24=YEAR(H$18),(H$18-DATE(YEAR(H$18),1,1))*H$20,0)))) -> 0 | I24: =IF(AND($A24>YEAR(I$17),$A24<YEAR(I$18)),(DATE($A24,12,31)-DATE($A24,1,0))*I$20,IF(AND($A24=YEAR(I$17),$A24=YEAR(I$18)),(I$18-I$17+1)*I$20,IF($A24=YEAR(I$17),(DATE(YEAR(I$17),12,31)-I$17+1)*I$20,IF($A24=YEAR(I$18),(I$18-DATE(YEAR(I$18),1,1))*I$20,0)))) -> 0 | ... N24: =IF(AND($A24>YEAR(N$17),$A24<YEAR(N$18)),(DATE($A24,12,31)-DATE($A24,1,0))*N$20,IF(AND($A24=YEAR(N$17),$A24=YEAR(N$18)),(N$18-N$17+1)*N$20,IF($A24=YEAR(N$17),(DATE(YEAR(N$17),12,31)-N$17+1)*N$20,IF($A24=YEAR(N$18),(N$18-DATE(YEAR(N$18),1,1))*N$20,0)))) -> 0 | O24: =SUM(B24:K24) -> 0
A25: =A24+1 -> 2031 | B25: =IF(AND($A25>YEAR(B$17),$A25<YEAR(B$18)),(DATE($A25,12,31)-DATE($A25,1,0))*B$20,IF(AND($A25=YEAR(B$17),$A25=YEAR(B$18)),(B$18-B$17+1)*B$20,IF($A25=YEAR(B$17),(DATE(YEAR(B$17),12,31)-B$17+1)*B$20,IF($A25=YEAR(B$18),(B$18-DATE(YEAR(B$18),1,1))*B$20,0)))) -> 0 | C25: =IF(AND($A25>YEAR(C$17),$A25<YEAR(C$18)),(DATE($A25,12,31)-DATE($A25,1,0))*C$20,IF(AND($A25=YEAR(C$17),$A25=YEAR(C$18)),(C$18-C$17+1)*C$20,IF($A25=YEAR(C$17),(DATE(YEAR(C$17),12,31)-C$17+1)*C$20,IF($A25=YEAR(C$18),(C$18-DATE(YEAR(C$18),1,1))*C$20,0)))) -> 0 | D25: =IF(AND($A25>YEAR(D$17),$A25<YEAR(D$18)),(DATE($A25,12,31)-DATE($A25,1,0))*D$20,IF(AND($A25=YEAR(D$17),$A25=YEAR(D$18)),(D$18-D$17+1)*D$20,IF($A25=YEAR(D$17),(DATE(YEAR(D$17),12,31)-D$17+1)*D$20,IF($A25=YEAR(D$18),(D$18-DATE(YEAR(D$18),1,1))*D$20,0)))) -> 0 | E25: =IF(AND($A25>YEAR(E$17),$A25<YEAR(E$18)),(DATE($A25,12,31)-DATE($A25,1,0))*E$20,IF(AND($A25=YEAR(E$17),$A25=YEAR(E$18)),(E$18-E$17+1)*E$20,IF($A25=YEAR(E$17),(DATE(YEAR(E$17),12,31)-E$17+1)*E$20,IF($A25=YEAR(E$18),(E$18-DATE(YEAR(E$18),1,1))*E$20,0)))) -> 0 | F25: =IF(AND($A25>YEAR(F$17),$A25<YEAR(F$18)),(DATE($A25,12,31)-DATE($A25,1,0))*F$20,IF(AND($A25=YEAR(F$17),$A25=YEAR(F$18)),(F$18-F$17+1)*F$20,IF($A25=YEAR(F$17),(DATE(YEAR(F$17),12,31)-F$17+1)*F$20,IF($A25=YEAR(F$18),(F$18-DATE(YEAR(F$18),1,1))*F$20,0)))) -> 0 | G25: =IF(AND($A25>YEAR(G$17),$A25<YEAR(G$18)),(DATE($A25,12,31)-DATE($A25,1,0))*G$20,IF(AND($A25=YEAR(G$17),$A25=YEAR(G$18)),(G$18-G$17+1)*G$20,IF($A25=YEAR(G$17),(DATE(YEAR(G$17),12,31)-G$17+1)*G$20,IF($A25=YEAR(G$18),(G$18-DATE(YEAR(G$18),1,1))*G$20,0)))) -> 0 | H25: =IF(AND($A25>YEAR(H$17),$A25<YEAR(H$18)),(DATE($A25,12,31)-DATE($A25,1,0))*H$20,IF(AND($A25=YEAR(H$17),$A25=YEAR(H$18)),(H$18-H$17+1)*H$20,IF($A25=YEAR(H$17),(DATE(YEAR(H$17),12,31)-H$17+1)*H$20,IF($A25=YEAR(H$18),(H$18-DATE(YEAR(H$18),1,1))*H$20,0)))) -> 0 | I25: =IF(AND($A25>YEAR(I$17),$A25<YEAR(I$18)),(DATE($A25,12,31)-DATE($A25,1,0))*I$20,IF(AND($A25=YEAR(I$17),$A25=YEAR(I$18)),(I$18-I$17+1)*I$20,IF($A25=YEAR(I$17),(DATE(YEAR(I$17),12,31)-I$17+1)*I$20,IF($A25=YEAR(I$18),(I$18-DATE(YEAR(I$18),1,1))*I$20,0)))) -> 0 | ... N25: =IF(AND($A25>YEAR(N$17),$A25<YEAR(N$18)),(DATE($A25,12,31)-DATE($A25,1,0))*N$20,IF(AND($A25=YEAR(N$17),$A25=YEAR(N$18)),(N$18-N$17+1)*N$20,IF($A25=YEAR(N$17),(DATE(YEAR(N$17),12,31)-N$17+1)*N$20,IF($A25=YEAR(N$18),(N$18-DATE(YEAR(N$18),1,1))*N$20,0)))) -> 0 | O25: =SUM(B25:K25) -> 0
A26: =A25+1 -> 2032 | B26: =IF(AND($A26>YEAR(B$17),$A26<YEAR(B$18)),(DATE($A26,12,31)-DATE($A26,1,0))*B$20,IF(AND($A26=YEAR(B$17),$A26=YEAR(B$18)),(B$18-B$17+1)*B$20,IF($A26=YEAR(B$17),(DATE(YEAR(B$17),12,31)-B$17+1)*B$20,IF($A26=YEAR(B$18),(B$18-DATE(YEAR(B$18),1,1))*B$20,0)))) -> 0 | C26: =IF(AND($A26>YEAR(C$17),$A26<YEAR(C$18)),(DATE($A26,12,31)-DATE($A26,1,0))*C$20,IF(AND($A26=YEAR(C$17),$A26=YEAR(C$18)),(C$18-C$17+1)*C$20,IF($A26=YEAR(C$17),(DATE(YEAR(C$17),12,31)-C$17+1)*C$20,IF($A26=YEAR(C$18),(C$18-DATE(YEAR(C$18),1,1))*C$20,0)))) -> 0 | D26: =IF(AND($A26>YEAR(D$17),$A26<YEAR(D$18)),(DATE($A26,12,31)-DATE($A26,1,0))*D$20,IF(AND($A26=YEAR(D$17),$A26=YEAR(D$18)),(D$18-D$17+1)*D$20,IF($A26=YEAR(D$17),(DATE(YEAR(D$17),12,31)-D$17+1)*D$20,IF($A26=YEAR(D$18),(D$18-DATE(YEAR(D$18),1,1))*D$20,0)))) -> 0 | E26: =IF(AND($A26>YEAR(E$17),$A26<YEAR(E$18)),(DATE($A26,12,31)-DATE($A26,1,0))*E$20,IF(AND($A26=YEAR(E$17),$A26=YEAR(E$18)),(E$18-E$17+1)*E$20,IF($A26=YEAR(E$17),(DATE(YEAR(E$17),12,31)-E$17+1)*E$20,IF($A26=YEAR(E$18),(E$18-DATE(YEAR(E$18),1,1))*E$20,0)))) -> 0 | F26: =IF(AND($A26>YEAR(F$17),$A26<YEAR(F$18)),(DATE($A26,12,31)-DATE($A26,1,0))*F$20,IF(AND($A26=YEAR(F$17),$A26=YEAR(F$18)),(F$18-F$17+1)*F$20,IF($A26=YEAR(F$17),(DATE(YEAR(F$17),12,31)-F$17+1)*F$20,IF($A26=YEAR(F$18),(F$18-DATE(YEAR(F$18),1,1))*F$20,0)))) -> 0 | G26: =IF(AND($A26>YEAR(G$17),$A26<YEAR(G$18)),(DATE($A26,12,31)-DATE($A26,1,0))*G$20,IF(AND($A26=YEAR(G$17),$A26=YEAR(G$18)),(G$18-G$17+1)*G$20,IF($A26=YEAR(G$17),(DATE(YEAR(G$17),12,31)-G$17+1)*G$20,IF($A26=YEAR(G$18),(G$18-DATE(YEAR(G$18),1,1))*G$20,0)))) -> 0 | H26: =IF(AND($A26>YEAR(H$17),$A26<YEAR(H$18)),(DATE($A26,12,31)-DATE($A26,1,0))*H$20,IF(AND($A26=YEAR(H$17),$A26=YEAR(H$18)),(H$18-H$17+1)*H$20,IF($A26=YEAR(H$17),(DATE(YEAR(H$17),12,31)-H$17+1)*H$20,IF($A26=YEAR(H$18),(H$18-DATE(YEAR(H$18),1,1))*H$20,0)))) -> 0 | I26: =IF(AND($A26>YEAR(I$17),$A26<YEAR(I$18)),(DATE($A26,12,31)-DATE($A26,1,0))*I$20,IF(AND($A26=YEAR(I$17),$A26=YEAR(I$18)),(I$18-I$17+1)*I$20,IF($A26=YEAR(I$17),(DATE(YEAR(I$17),12,31)-I$17+1)*I$20,IF($A26=YEAR(I$18),(I$18-DATE(YEAR(I$18),1,1))*I$20,0)))) -> 0 | ... N26: =IF(AND($A26>YEAR(N$17),$A26<YEAR(N$18)),(DATE($A26,12,31)-DATE($A26,1,0))*N$20,IF(AND($A26=YEAR(N$17),$A26=YEAR(N$18)),(N$18-N$17+1)*N$20,IF($A26=YEAR(N$17),(DATE(YEAR(N$17),12,31)-N$17+1)*N$20,IF($A26=YEAR(N$18),(N$18-DATE(YEAR(N$18),1,1))*N$20,0)))) -> 0 | O26: =SUM(B26:K26) -> 0
A27: =A26+1 -> 2033 | B27: =IF(AND($A27>YEAR(B$17),$A27<YEAR(B$18)),(DATE($A27,12,31)-DATE($A27,1,0))*B$20,IF(AND($A27=YEAR(B$17),$A27=YEAR(B$18)),(B$18-B$17+1)*B$20,IF($A27=YEAR(B$17),(DATE(YEAR(B$17),12,31)-B$17+1)*B$20,IF($A27=YEAR(B$18),(B$18-DATE(YEAR(B$18),1,1))*B$20,0)))) -> 0 | C27: =IF(AND($A27>YEAR(C$17),$A27<YEAR(C$18)),(DATE($A27,12,31)-DATE($A27,1,0))*C$20,IF(AND($A27=YEAR(C$17),$A27=YEAR(C$18)),(C$18-C$17+1)*C$20,IF($A27=YEAR(C$17),(DATE(YEAR(C$17),12,31)-C$17+1)*C$20,IF($A27=YEAR(C$18),(C$18-DATE(YEAR(C$18),1,1))*C$20,0)))) -> 0 | D27: =IF(AND($A27>YEAR(D$17),$A27<YEAR(D$18)),(DATE($A27,12,31)-DATE($A27,1,0))*D$20,IF(AND($A27=YEAR(D$17),$A27=YEAR(D$18)),(D$18-D$17+1)*D$20,IF($A27=YEAR(D$17),(DATE(YEAR(D$17),12,31)-D$17+1)*D$20,IF($A27=YEAR(D$18),(D$18-DATE(YEAR(D$18),1,1))*D$20,0)))) -> 0 | E27: =IF(AND($A27>YEAR(E$17),$A27<YEAR(E$18)),(DATE($A27,12,31)-DATE($A27,1,0))*E$20,IF(AND($A27=YEAR(E$17),$A27=YEAR(E$18)),(E$18-E$17+1)*E$20,IF($A27=YEAR(E$17),(DATE(YEAR(E$17),12,31)-E$17+1)*E$20,IF($A27=YEAR(E$18),(E$18-DATE(YEAR(E$18),1,1))*E$20,0)))) -> 0 | F27: =IF(AND($A27>YEAR(F$17),$A27<YEAR(F$18)),(DATE($A27,12,31)-DATE($A27,1,0))*F$20,IF(AND($A27=YEAR(F$17),$A27=YEAR(F$18)),(F$18-F$17+1)*F$20,IF($A27=YEAR(F$17),(DATE(YEAR(F$17),12,31)-F$17+1)*F$20,IF($A27=YEAR(F$18),(F$18-DATE(YEAR(F$18),1,1))*F$20,0)))) -> 0 | G27: =IF(AND($A27>YEAR(G$17),$A27<YEAR(G$18)),(DATE($A27,12,31)-DATE($A27,1,0))*G$20,IF(AND($A27=YEAR(G$17),$A27=YEAR(G$18)),(G$18-G$17+1)*G$20,IF($A27=YEAR(G$17),(DATE(YEAR(G$17),12,31)-G$17+1)*G$20,IF($A27=YEAR(G$18),(G$18-DATE(YEAR(G$18),1,1))*G$20,0)))) -> 0 | H27: =IF(AND($A27>YEAR(H$17),$A27<YEAR(H$18)),(DATE($A27,12,31)-DATE($A27,1,0))*H$20,IF(AND($A27=YEAR(H$17),$A27=YEAR(H$18)),(H$18-H$17+1)*H$20,IF($A27=YEAR(H$17),(DATE(YEAR(H$17),12,31)-H$17+1)*H$20,IF($A27=YEAR(H$18),(H$18-DATE(YEAR(H$18),1,1))*H$20,0)))) -> 0 | I27: =IF(AND($A27>YEAR(I$17),$A27<YEAR(I$18)),(DATE($A27,12,31)-DATE($A27,1,0))*I$20,IF(AND($A27=YEAR(I$17),$A27=YEAR(I$18)),(I$18-I$17+1)*I$20,IF($A27=YEAR(I$17),(DATE(YEAR(I$17),12,31)-I$17+1)*I$20,IF($A27=YEAR(I$18),(I$18-DATE(YEAR(I$18),1,1))*I$20,0)))) -> 0 | ... N27: =IF(AND($A27>YEAR(N$17),$A27<YEAR(N$18)),(DATE($A27,12,31)-DATE($A27,1,0))*N$20,IF(AND($A27=YEAR(N$17),$A27=YEAR(N$18)),(N$18-N$17+1)*N$20,IF($A27=YEAR(N$17),(DATE(YEAR(N$17),12,31)-N$17+1)*N$20,IF($A27=YEAR(N$18),(N$18-DATE(YEAR(N$18),1,1))*N$20,0)))) -> 0 | O27: =SUM(B27:K27) -> 0
A28: =A27+1 -> 2034 | B28: =IF(AND($A28>YEAR(B$17),$A28<YEAR(B$18)),(DATE($A28,12,31)-DATE($A28,1,0))*B$20,IF(AND($A28=YEAR(B$17),$A28=YEAR(B$18)),(B$18-B$17+1)*B$20,IF($A28=YEAR(B$17),(DATE(YEAR(B$17),12,31)-B$17+1)*B$20,IF($A28=YEAR(B$18),(B$18-DATE(YEAR(B$18),1,1))*B$20,0)))) -> 0 | C28: =IF(AND($A28>YEAR(C$17),$A28<YEAR(C$18)),(DATE($A28,12,31)-DATE($A28,1,0))*C$20,IF(AND($A28=YEAR(C$17),$A28=YEAR(C$18)),(C$18-C$17+1)*C$20,IF($A28=YEAR(C$17),(DATE(YEAR(C$17),12,31)-C$17+1)*C$20,IF($A28=YEAR(C$18),(C$18-DATE(YEAR(C$18),1,1))*C$20,0)))) -> 0 | D28: =IF(AND($A28>YEAR(D$17),$A28<YEAR(D$18)),(DATE($A28,12,31)-DATE($A28,1,0))*D$20,IF(AND($A28=YEAR(D$17),$A28=YEAR(D$18)),(D$18-D$17+1)*D$20,IF($A28=YEAR(D$17),(DATE(YEAR(D$17),12,31)-D$17+1)*D$20,IF($A28=YEAR(D$18),(D$18-DATE(YEAR(D$18),1,1))*D$20,0)))) -> 0 | E28: =IF(AND($A28>YEAR(E$17),$A28<YEAR(E$18)),(DATE($A28,12,31)-DATE($A28,1,0))*E$20,IF(AND($A28=YEAR(E$17),$A28=YEAR(E$18)),(E$18-E$17+1)*E$20,IF($A28=YEAR(E$17),(DATE(YEAR(E$17),12,31)-E$17+1)*E$20,IF($A28=YEAR(E$18),(E$18-DATE(YEAR(E$18),1,1))*E$20,0)))) -> 0 | F28: =IF(AND($A28>YEAR(F$17),$A28<YEAR(F$18)),(DATE($A28,12,31)-DATE($A28,1,0))*F$20,IF(AND($A28=YEAR(F$17),$A28=YEAR(F$18)),(F$18-F$17+1)*F$20,IF($A28=YEAR(F$17),(DATE(YEAR(F$17),12,31)-F$17+1)*F$20,IF($A28=YEAR(F$18),(F$18-DATE(YEAR(F$18),1,1))*F$20,0)))) -> 0 | G28: =IF(AND($A28>YEAR(G$17),$A28<YEAR(G$18)),(DATE($A28,12,31)-DATE($A28,1,0))*G$20,IF(AND($A28=YEAR(G$17),$A28=YEAR(G$18)),(G$18-G$17+1)*G$20,IF($A28=YEAR(G$17),(DATE(YEAR(G$17),12,31)-G$17+1)*G$20,IF($A28=YEAR(G$18),(G$18-DATE(YEAR(G$18),1,1))*G$20,0)))) -> 0 | H28: =IF(AND($A28>YEAR(H$17),$A28<YEAR(H$18)),(DATE($A28,12,31)-DATE($A28,1,0))*H$20,IF(AND($A28=YEAR(H$17),$A28=YEAR(H$18)),(H$18-H$17+1)*H$20,IF($A28=YEAR(H$17),(DATE(YEAR(H$17),12,31)-H$17+1)*H$20,IF($A28=YEAR(H$18),(H$18-DATE(YEAR(H$18),1,1))*H$20,0)))) -> 0 | I28: =IF(AND($A28>YEAR(I$17),$A28<YEAR(I$18)),(DATE($A28,12,31)-DATE($A28,1,0))*I$20,IF(AND($A28=YEAR(I$17),$A28=YEAR(I$18)),(I$18-I$17+1)*I$20,IF($A28=YEAR(I$17),(DATE(YEAR(I$17),12,31)-I$17+1)*I$20,IF($A28=YEAR(I$18),(I$18-DATE(YEAR(I$18),1,1))*I$20,0)))) -> 0 | ... N28: =IF(AND($A28>YEAR(N$17),$A28<YEAR(N$18)),(DATE($A28,12,31)-DATE($A28,1,0))*N$20,IF(AND($A28=YEAR(N$17),$A28=YEAR(N$18)),(N$18-N$17+1)*N$20,IF($A28=YEAR(N$17),(DATE(YEAR(N$17),12,31)-N$17+1)*N$20,IF($A28=YEAR(N$18),(N$18-DATE(YEAR(N$18),1,1))*N$20,0)))) -> 0 | O28: =SUM(B28:K28) -> 0
A29: =A28+1 -> 2035 | B29: =IF(AND($A29>YEAR(B$17),$A29<YEAR(B$18)),(DATE($A29,12,31)-DATE($A29,1,0))*B$20,IF(AND($A29=YEAR(B$17),$A29=YEAR(B$18)),(B$18-B$17+1)*B$20,IF($A29=YEAR(B$17),(DATE(YEAR(B$17),12,31)-B$17+1)*B$20,IF($A29=YEAR(B$18),(B$18-DATE(YEAR(B$18),1,1))*B$20,0)))) -> 0 | C29: =IF(AND($A29>YEAR(C$17),$A29<YEAR(C$18)),(DATE($A29,12,31)-DATE($A29,1,0))*C$20,IF(AND($A29=YEAR(C$17),$A29=YEAR(C$18)),(C$18-C$17+1)*C$20,IF($A29=YEAR(C$17),(DATE(YEAR(C$17),12,31)-C$17+1)*C$20,IF($A29=YEAR(C$18),(C$18-DATE(YEAR(C$18),1,1))*C$20,0)))) -> 0 | D29: =IF(AND($A29>YEAR(D$17),$A29<YEAR(D$18)),(DATE($A29,12,31)-DATE($A29,1,0))*D$20,IF(AND($A29=YEAR(D$17),$A29=YEAR(D$18)),(D$18-D$17+1)*D$20,IF($A29=YEAR(D$17),(DATE(YEAR(D$17),12,31)-D$17+1)*D$20,IF($A29=YEAR(D$18),(D$18-DATE(YEAR(D$18),1,1))*D$20,0)))) -> 0 | E29: =IF(AND($A29>YEAR(E$17),$A29<YEAR(E$18)),(DATE($A29,12,31)-DATE($A29,1,0))*E$20,IF(AND($A29=YEAR(E$17),$A29=YEAR(E$18)),(E$18-E$17+1)*E$20,IF($A29=YEAR(E$17),(DATE(YEAR(E$17),12,31)-E$17+1)*E$20,IF($A29=YEAR(E$18),(E$18-DATE(YEAR(E$18),1,1))*E$20,0)))) -> 0 | F29: =IF(AND($A29>YEAR(F$17),$A29<YEAR(F$18)),(DATE($A29,12,31)-DATE($A29,1,0))*F$20,IF(AND($A29=YEAR(F$17),$A29=YEAR(F$18)),(F$18-F$17+1)*F$20,IF($A29=YEAR(F$17),(DATE(YEAR(F$17),12,31)-F$17+1)*F$20,IF($A29=YEAR(F$18),(F$18-DATE(YEAR(F$18),1,1))*F$20,0)))) -> 0 | G29: =IF(AND($A29>YEAR(G$17),$A29<YEAR(G$18)),(DATE($A29,12,31)-DATE($A29,1,0))*G$20,IF(AND($A29=YEAR(G$17),$A29=YEAR(G$18)),(G$18-G$17+1)*G$20,IF($A29=YEAR(G$17),(DATE(YEAR(G$17),12,31)-G$17+1)*G$20,IF($A29=YEAR(G$18),(G$18-DATE(YEAR(G$18),1,1))*G$20,0)))) -> 0 | H29: =IF(AND($A29>YEAR(H$17),$A29<YEAR(H$18)),(DATE($A29,12,31)-DATE($A29,1,0))*H$20,IF(AND($A29=YEAR(H$17),$A29=YEAR(H$18)),(H$18-H$17+1)*H$20,IF($A29=YEAR(H$17),(DATE(YEAR(H$17),12,31)-H$17+1)*H$20,IF($A29=YEAR(H$18),(H$18-DATE(YEAR(H$18),1,1))*H$20,0)))) -> 0 | I29: =IF(AND($A29>YEAR(I$17),$A29<YEAR(I$18)),(DATE($A29,12,31)-DATE($A29,1,0))*I$20,IF(AND($A29=YEAR(I$17),$A29=YEAR(I$18)),(I$18-I$17+1)*I$20,IF($A29=YEAR(I$17),(DATE(YEAR(I$17),12,31)-I$17+1)*I$20,IF($A29=YEAR(I$18),(I$18-DATE(YEAR(I$18),1,1))*I$20,0)))) -> 0 | ... N29: =IF(AND($A29>YEAR(N$17),$A29<YEAR(N$18)),(DATE($A29,12,31)-DATE($A29,1,0))*N$20,IF(AND($A29=YEAR(N$17),$A29=YEAR(N$18)),(N$18-N$17+1)*N$20,IF($A29=YEAR(N$17),(DATE(YEAR(N$17),12,31)-N$17+1)*N$20,IF($A29=YEAR(N$18),(N$18-DATE(YEAR(N$18),1,1))*N$20,0)))) -> 0 | O29: =SUM(B29:K29) -> 0
A30: =A29+1 -> 2036 | B30: =IF(AND($A30>YEAR(B$17),$A30<YEAR(B$18)),(DATE($A30,12,31)-DATE($A30,1,0))*B$20,IF(AND($A30=YEAR(B$17),$A30=YEAR(B$18)),(B$18-B$17+1)*B$20,IF($A30=YEAR(B$17),(DATE(YEAR(B$17),12,31)-B$17+1)*B$20,IF($A30=YEAR(B$18),(B$18-DATE(YEAR(B$18),1,1))*B$20,0)))) -> 0 | C30: =IF(AND($A30>YEAR(C$17),$A30<YEAR(C$18)),(DATE($A30,12,31)-DATE($A30,1,0))*C$20,IF(AND($A30=YEAR(C$17),$A30=YEAR(C$18)),(C$18-C$17+1)*C$20,IF($A30=YEAR(C$17),(DATE(YEAR(C$17),12,31)-C$17+1)*C$20,IF($A30=YEAR(C$18),(C$18-DATE(YEAR(C$18),1,1))*C$20,0)))) -> 0 | D30: =IF(AND($A30>YEAR(D$17),$A30<YEAR(D$18)),(DATE($A30,12,31)-DATE($A30,1,0))*D$20,IF(AND($A30=YEAR(D$17),$A30=YEAR(D$18)),(D$18-D$17+1)*D$20,IF($A30=YEAR(D$17),(DATE(YEAR(D$17),12,31)-D$17+1)*D$20,IF($A30=YEAR(D$18),(D$18-DATE(YEAR(D$18),1,1))*D$20,0)))) -> 0 | E30: =IF(AND($A30>YEAR(E$17),$A30<YEAR(E$18)),(DATE($A30,12,31)-DATE($A30,1,0))*E$20,IF(AND($A30=YEAR(E$17),$A30=YEAR(E$18)),(E$18-E$17+1)*E$20,IF($A30=YEAR(E$17),(DATE(YEAR(E$17),12,31)-E$17+1)*E$20,IF($A30=YEAR(E$18),(E$18-DATE(YEAR(E$18),1,1))*E$20,0)))) -> 0 | F30: =IF(AND($A30>YEAR(F$17),$A30<YEAR(F$18)),(DATE($A30,12,31)-DATE($A30,1,0))*F$20,IF(AND($A30=YEAR(F$17),$A30=YEAR(F$18)),(F$18-F$17+1)*F$20,IF($A30=YEAR(F$17),(DATE(YEAR(F$17),12,31)-F$17+1)*F$20,IF($A30=YEAR(F$18),(F$18-DATE(YEAR(F$18),1,1))*F$20,0)))) -> 0 | G30: =IF(AND($A30>YEAR(G$17),$A30<YEAR(G$18)),(DATE($A30,12,31)-DATE($A30,1,0))*G$20,IF(AND($A30=YEAR(G$17),$A30=YEAR(G$18)),(G$18-G$17+1)*G$20,IF($A30=YEAR(G$17),(DATE(YEAR(G$17),12,31)-G$17+1)*G$20,IF($A30=YEAR(G$18),(G$18-DATE(YEAR(G$18),1,1))*G$20,0)))) -> 0 | H30: =IF(AND($A30>YEAR(H$17),$A30<YEAR(H$18)),(DATE($A30,12,31)-DATE($A30,1,0))*H$20,IF(AND($A30=YEAR(H$17),$A30=YEAR(H$18)),(H$18-H$17+1)*H$20,IF($A30=YEAR(H$17),(DATE(YEAR(H$17),12,31)-H$17+1)*H$20,IF($A30=YEAR(H$18),(H$18-DATE(YEAR(H$18),1,1))*H$20,0)))) -> 0 | I30: =IF(AND($A30>YEAR(I$17),$A30<YEAR(I$18)),(DATE($A30,12,31)-DATE($A30,1,0))*I$20,IF(AND($A30=YEAR(I$17),$A30=YEAR(I$18)),(I$18-I$17+1)*I$20,IF($A30=YEAR(I$17),(DATE(YEAR(I$17),12,31)-I$17+1)*I$20,IF($A30=YEAR(I$18),(I$18-DATE(YEAR(I$18),1,1))*I$20,0)))) -> 0 | ... N30: =IF(AND($A30>YEAR(N$17),$A30<YEAR(N$18)),(DATE($A30,12,31)-DATE($A30,1,0))*N$20,IF(AND($A30=YEAR(N$17),$A30=YEAR(N$18)),(N$18-N$17+1)*N$20,IF($A30=YEAR(N$17),(DATE(YEAR(N$17),12,31)-N$17+1)*N$20,IF($A30=YEAR(N$18),(N$18-DATE(YEAR(N$18),1,1))*N$20,0)))) -> 0 | O30: =SUM(B30:K30) -> 0
A32: Totaal per Component | B32: =SUM(B23:B30) -> 0 | C32: =SUM(C23:C30) -> 0 | D32: =SUM(D23:D30) -> 0 | E32: =SUM(E23:E30) -> 0 | F32: =SUM(F23:F30) -> 0 | G32: =SUM(G23:G30) -> 0 | H32: =SUM(H23:H30) -> 0 | I32: =SUM(I23:I30) -> 0 | ... N32: =SUM(N23:N30) -> 0
A36: Boekwaarde 31-12 Componenten | O36: Totaal
A37: 2029 | B37: =IF(OR(B$8="",B$10=""),0,MAX(B23*B13+B$16,B$16)) -> 0 | C37: =IF(OR(C$8="",C$10=""),0,MAX(C23*C13+C$16,C$16)) -> 0 | D37: =IF(OR(D$8="",D$10=""),0,MAX(D23*D13+D$16,D$16)) -> 0 | E37: =IF(OR(E$8="",E$10=""),0,MAX(E23*E13+E$16,E$16)) -> 0 | F37: =IF(OR(F$8="",F$10=""),0,MAX(F23*F13+F$16,F$16)) -> 0 | G37: =IF(OR(G$8="",G$10=""),0,MAX(G23*G13+G$16,G$16)) -> 0 | H37: =IF(OR(H$8="",H$10=""),0,MAX(H23*H13+H$16,H$16)) -> 0 | I37: =IF(OR(I$8="",I$10=""),0,MAX(I23*I13+I$16,I$16)) -> 0 | ... N37: =IF(OR(N$8="",N$10=""),0,MAX(N23*N13+N$16,N$16)) -> 0 | O37: =SUM(B37:K37) -> 0
A38: =A37+1 -> 2030 | B38: =IF(OR(B$8="",B$10=""),0,MAX(B37-B24,B$16)) -> 0 | C38: =IF(OR(C$8="",C$10=""),0,MAX(C37-C24,C$16)) -> 0 | D38: =IF(OR(D$8="",D$10=""),0,MAX(D37-D24,D$16)) -> 0 | E38: =IF(OR(E$8="",E$10=""),0,MAX(E37-E24,E$16)) -> 0 | F38: =IF(OR(F$8="",F$10=""),0,MAX(F37-F24,F$16)) -> 0 | G38: =IF(OR(G$8="",G$10=""),0,MAX(G37-G24,G$16)) -> 0 | H38: =IF(OR(H$8="",H$10=""),0,MAX(H24*H14+H$16,H$16)) -> 0 | I38: =IF(OR(I$8="",I$10=""),0,MAX(I24*I14+I$16,I$16)) -> 0 | J38: =IF(OR(J$8="",J$10=""),0,MAX(J24*J14+J$16,J$16)) -> 0 | K38: =IF(OR(K$8="",K$10=""),0,MAX(K24*K14+K$16,K$16)) -> 0 | L38: =IF(OR(L$8="",L$10=""),0,MAX(L24*L14+L$16,L$16)) -> 0 | M38: =IF(OR(M$8="",M$10=""),0,MAX(M24*M14+M$16,M$16)) -> 0 | N38: =IF(OR(N$8="",N$10=""),0,MAX(N24*N14+N$16,N$16)) -> 0 | O38: =SUM(B38:K38) -> 0
A39: =A38+1 -> 2031 | B39: =IF(OR(B$8="",B$10=""),0,MAX(B38-B25,B$16)) -> 0 | C39: =IF(OR(C$8="",C$10=""),0,MAX(C38-C25,C$16)) -> 0 | D39: =IF(OR(D$8="",D$10=""),0,MAX(D38-D25,D$16)) -> 0 | E39: =IF(OR(E$8="",E$10=""),0,MAX(E38-E25,E$16)) -> 0 | F39: =IF(OR(F$8="",F$10=""),0,MAX(F38-F25,F$16)) -> 0 | G39: =IF(OR(G$8="",G$10=""),0,MAX(G38-G25,G$16)) -> 0 | H39: =IF(OR(H$8="",H$10=""),0,MAX(H25*H15+H$16,H$16)) -> 0 | I39: =IF(OR(I$8="",I$10=""),0,MAX(I25*I15+I$16,I$16)) -> 0 | J39: =IF(OR(J$8="",J$10=""),0,MAX(J25*J15+J$16,J$16)) -> 0 | K39: =IF(OR(K$8="",K$10=""),0,MAX(K25*K15+K$16,K$16)) -> 0 | L39: =IF(OR(L$8="",L$10=""),0,MAX(L25*L15+L$16,L$16)) -> 0 | M39: =IF(OR(M$8="",M$10=""),0,MAX(M25*M15+M$16,M$16)) -> 0 | N39: =IF(OR(N$8="",N$10=""),0,MAX(N25*N15+N$16,N$16)) -> 0 | O39: =SUM(B39:K39) -> 0
A40: =A39+1 -> 2032 | B40: =IF(OR(B$8="",B$10=""),0,MAX(B39-B26,B$16)) -> 0 | C40: =IF(OR(C$8="",C$10=""),0,MAX(C39-C26,C$16)) -> 0 | D40: =IF(OR(D$8="",D$10=""),0,MAX(D39-D26,D$16)) -> 0 | E40: =IF(OR(E$8="",E$10=""),0,MAX(E39-E26,E$16)) -> 0 | F40: =IF(OR(F$8="",F$10=""),0,MAX(F39-F26,F$16)) -> 0 | G40: =IF(OR(G$8="",G$10=""),0,MAX(G39-G26,G$16)) -> 0 | H40: =IF(OR(H$8="",H$10=""),0,MAX(H26*H16+H$16,H$16)) -> 0 | I40: =IF(OR(I$8="",I$10=""),0,MAX(I26*I16+I$16,I$16)) -> 0 | J40: =IF(OR(J$8="",J$10=""),0,MAX(J26*J16+J$16,J$16)) -> 0 | K40: =IF(OR(K$8="",K$10=""),0,MAX(K26*K16+K$16,K$16)) -> 0 | L40: =IF(OR(L$8="",L$10=""),0,MAX(L26*L16+L$16,L$16)) -> 0 | M40: =IF(OR(M$8="",M$10=""),0,MAX(M26*M16+M$16,M$16)) -> 0 | N40: =IF(OR(N$8="",N$10=""),0,MAX(N26*N16+N$16,N$16)) -> 0 | O40: =SUM(B40:K40) -> 0
A41: =A40+1 -> 2033 | B41: =IF(OR(B$8="",B$10=""),0,MAX(B40-B27,B$16)) -> 0 | C41: =IF(OR(C$8="",C$10=""),0,MAX(C40-C27,C$16)) -> 0 | D41: =IF(OR(D$8="",D$10=""),0,MAX(D40-D27,D$16)) -> 0 | E41: =IF(OR(E$8="",E$10=""),0,MAX(E40-E27,E$16)) -> 0 | F41: =IF(OR(F$8="",F$10=""),0,MAX(F40-F27,F$16)) -> 0 | G41: =IF(OR(G$8="",G$10=""),0,MAX(G40-G27,G$16)) -> 0 | H41: =IF(OR(H$8="",H$10=""),0,MAX(H27*H17+H$16,H$16)) -> 0 | I41: =IF(OR(I$8="",I$10=""),0,MAX(I27*I17+I$16,I$16)) -> 0 | J41: =IF(OR(J$8="",J$10=""),0,MAX(J27*J17+J$16,J$16)) -> 0 | K41: =IF(OR(K$8="",K$10=""),0,MAX(K27*K17+K$16,K$16)) -> 0 | L41: =IF(OR(L$8="",L$10=""),0,MAX(L27*L17+L$16,L$16)) -> 0 | M41: =IF(OR(M$8="",M$10=""),0,MAX(M27*M17+M$16,M$16)) -> 0 | N41: =IF(OR(N$8="",N$10=""),0,MAX(N27*N17+N$16,N$16)) -> 0 | O41: =SUM(B41:K41) -> 0
A42: =A41+1 -> 2034 | B42: =IF(OR(B$8="",B$10=""),0,MAX(B41-B28,B$16)) -> 0 | C42: =IF(OR(C$8="",C$10=""),0,MAX(C41-C28,C$16)) -> 0 | D42: =IF(OR(D$8="",D$10=""),0,MAX(D41-D28,D$16)) -> 0 | E42: =IF(OR(E$8="",E$10=""),0,MAX(E41-E28,E$16)) -> 0 | F42: =IF(OR(F$8="",F$10=""),0,MAX(F41-F28,F$16)) -> 0 | G42: =IF(OR(G$8="",G$10=""),0,MAX(G41-G28,G$16)) -> 0 | H42: =IF(OR(H$8="",H$10=""),0,MAX(H28*H18+H$16,H$16)) -> 0 | I42: =IF(OR(I$8="",I$10=""),0,MAX(I28*I18+I$16,I$16)) -> 0 | J42: =IF(OR(J$8="",J$10=""),0,MAX(J28*J18+J$16,J$16)) -> 0 | K42: =IF(OR(K$8="",K$10=""),0,MAX(K28*K18+K$16,K$16)) -> 0 | L42: =IF(OR(L$8="",L$10=""),0,MAX(L28*L18+L$16,L$16)) -> 0 | M42: =IF(OR(M$8="",M$10=""),0,MAX(M28*M18+M$16,M$16)) -> 0 | N42: =IF(OR(N$8="",N$10=""),0,MAX(N28*N18+N$16,N$16)) -> 0 | O42: =SUM(B42:K42) -> 0
A43: =A42+1 -> 2035 | B43: =IF(OR(B$8="",B$10=""),0,MAX(B42-B29,B$16)) -> 0 | C43: =IF(OR(C$8="",C$10=""),0,MAX(C42-C29,C$16)) -> 0 | D43: =IF(OR(D$8="",D$10=""),0,MAX(D42-D29,D$16)) -> 0 | E43: =IF(OR(E$8="",E$10=""),0,MAX(E42-E29,E$16)) -> 0 | F43: =IF(OR(F$8="",F$10=""),0,MAX(F42-F29,F$16)) -> 0 | G43: =IF(OR(G$8="",G$10=""),0,MAX(G42-G29,G$16)) -> 0 | H43: =IF(OR(H$8="",H$10=""),0,MAX(H29*H19+H$16,H$16)) -> 0 | I43: =IF(OR(I$8="",I$10=""),0,MAX(I29*I19+I$16,I$16)) -> 0 | J43: =IF(OR(J$8="",J$10=""),0,MAX(J29*J19+J$16,J$16)) -> 0 | K43: =IF(OR(K$8="",K$10=""),0,MAX(K29*K19+K$16,K$16)) -> 0 | L43: =IF(OR(L$8="",L$10=""),0,MAX(L29*L19+L$16,L$16)) -> 0 | M43: =IF(OR(M$8="",M$10=""),0,MAX(M29*M19+M$16,M$16)) -> 0 | N43: =IF(OR(N$8="",N$10=""),0,MAX(N29*N19+N$16,N$16)) -> 0 | O43: =SUM(B43:K43) -> 0
A44: =A43+1 -> 2036 | B44: =IF(OR(B$8="",B$10=""),0,MAX(B43-B30,B$16)) -> 0 | C44: =IF(OR(C$8="",C$10=""),0,MAX(C43-C30,C$16)) -> 0 | D44: =IF(OR(D$8="",D$10=""),0,MAX(D43-D30,D$16)) -> 0 | E44: =IF(OR(E$8="",E$10=""),0,MAX(E43-E30,E$16)) -> 0 | F44: =IF(OR(F$8="",F$10=""),0,MAX(F43-F30,F$16)) -> 0 | G44: =IF(OR(G$8="",G$10=""),0,MAX(G43-G30,G$16)) -> 0 | H44: =IF(OR(H$8="",H$10=""),0,MAX(H30*H20+H$16,H$16)) -> 0 | I44: =IF(OR(I$8="",I$10=""),0,MAX(I30*I20+I$16,I$16)) -> 0 | J44: =IF(OR(J$8="",J$10=""),0,MAX(J30*J20+J$16,J$16)) -> 0 | K44: =IF(OR(K$8="",K$10=""),0,MAX(K30*K20+K$16,K$16)) -> 0 | L44: =IF(OR(L$8="",L$10=""),0,MAX(L30*L20+L$16,L$16)) -> 0 | M44: =IF(OR(M$8="",M$10=""),0,MAX(M30*M20+M$16,M$16)) -> 0 | N44: =IF(OR(N$8="",N$10=""),0,MAX(N30*N20+N$16,N$16)) -> 0 | O44: =SUM(B44:K44) -> 0

Sheet B.02
A1: B.02 Afschrijvingskosten Laadinfrastructuur | O1: Instructie | P1: Vul de oranje cellen in
A2: terug
A4: Omschrijving Laadinfrastructuur | B4: <tekst> | C4: <tekst> | D4: <tekst> | E4: <tekst> | F4: <tekst> | G4: <tekst> | H4: <tekst> | I4: <tekst> | J4: <tekst> | K4: <tekst> | L4: <tekst> | M4: <tekst> | N4: <tekst> | O4: <tekst> | P4: <tekst> | Q4: <tekst> | R4: <tekst>
A5: Afschrijvingstermijn in jaren
A6: Aanschafprijs
A7: Subsidie
A8: Totaal Aanschafprijs | B8: =B6-B7 -> 0 | C8: =C6-C7 -> 0 | D8: =D6-D7 -> 0 | E8: =E6-E7 -> 0 | F8: =F6-F7 -> 0 | G8: =G6-G7 -> 0 | H8: =H6-H7 -> 0 | I8: =I6-I7 -> 0 | ... R8: =R6-R7 -> 0
A9: Datum Instroom concessie
A10: Datum Uitstroom concessie
A11: Afschrijvingstermijn in dagen totaal | B11: =B5*365.25 -> 0 | C11: =C5*365.25 -> 0 | D11: =D5*365.25 -> 0 | E11: =E5*365.25 -> 0 | F11: =F5*365.25 -> 0 | G11: =G5*365.25 -> 0 | H11: =H5*365.25 -> 0 | I11: =I5*365.25 -> 0 | ... R11: =R5*365.25 -> 0
A12: Afschrijvingstermijn in dagen concessie | B12: =DATEDIF(B9,B10,"D")+1 -> 1 | C12: =DATEDIF(C9,C10,"D")+1 -> 1 | D12: =DATEDIF(D9,D10,"D")+1 -> 1 | E12: =DATEDIF(E9,E10,"D")+1 -> 1 | F12: =DATEDIF(F9,F10,"D")+1 -> 1 | G12: =DATEDIF(G9,G10,"D")+1 -> 1 | H12: =DATEDIF(H9,H10,"D")+1 -> 1 | I12: =DATEDIF(I9,I10,"D")+1 -> 1 | ... R12: =DATEDIF(R9,R10,"D")+1 -> 1
A13: Afschrijving per dag | B13: =IFERROR(B8/B11,0) -> 0 | C13: =IFERROR(C8/C11,0) -> 0 | D13: =IFERROR(D8/D11,0) -> 0 | E13: =IFERROR(E8/E11,0) -> 0 | F13: =IFERROR(F8/F11,0) -> 0 | G13: =IFERROR(G8/G11,0) -> 0 | H13: =IFERROR(H8/H11,0) -> 0 | I13: =IFERROR(I8/I11,0) -> 0 | ... R13: =IFERROR(R8/R11,0) -> 0
A15: Jaren | S15: Totale Afschrijving per jaar
A16: 2029 | B16: =IF(AND($A16>YEAR(B$9),$A16<YEAR(B$10)),(DATE($A16,12,31)-DATE($A16,1,0))*B$13,IF(AND($A16=YEAR(B$9),$A16=YEAR(B$10)),(B$10-B$9)*B$13,IF($A16=YEAR(B$9),(DATE(YEAR(B$9),12,31)-B$9)*B$13,IF($A16=YEAR(B$10),(B$10-DATE(YEAR(B$10),1,0))*B$13,0)))) -> 0 | C16: =IF(AND($A16>YEAR(C$9),$A16<YEAR(C$10)),(DATE($A16,12,31)-DATE($A16,1,0))*C$13,IF(AND($A16=YEAR(C$9),$A16=YEAR(C$10)),(C$10-C$9)*C$13,IF($A16=YEAR(C$9),(DATE(YEAR(C$9),12,31)-C$9)*C$13,IF($A16=YEAR(C$10),(C$10-DATE(YEAR(C$10),1,0))*C$13,0)))) -> 0 | D16: =IF(AND($A16>YEAR(D$9),$A16<YEAR(D$10)),(DATE($A16,12,31)-DATE($A16,1,0))*D$13,IF(AND($A16=YEAR(D$9),$A16=YEAR(D$10)),(D$10-D$9)*D$13,IF($A16=YEAR(D$9),(DATE(YEAR(D$9),12,31)-D$9)*D$13,IF($A16=YEAR(D$10),(D$10-DATE(YEAR(D$10),1,0))*D$13,0)))) -> 0 | E16: =IF(AND($A16>YEAR(E$9),$A16<YEAR(E$10)),(DATE($A16,12,31)-DATE($A16,1,0))*E$13,IF(AND($A16=YEAR(E$9),$A16=YEAR(E$10)),(E$10-E$9)*E$13,IF($A16=YEAR(E$9),(DATE(YEAR(E$9),12,31)-E$9)*E$13,IF($A16=YEAR(E$10),(E$10-DATE(YEAR(E$10),1,0))*E$13,0)))) -> 0 | F16: =IF(AND($A16>YEAR(F$9),$A16<YEAR(F$10)),(DATE($A16,12,31)-DATE($A16,1,0))*F$13,IF(AND($A16=YEAR(F$9),$A16=YEAR(F$10)),(F$10-F$9)*F$13,IF($A16=YEAR(F$9),(DATE(YEAR(F$9),12,31)-F$9)*F$13,IF($A16=YEAR(F$10),(F$10-DATE(YEAR(F$10),1,0))*F$13,0)))) -> 0 | G16: =IF(AND($A16>YEAR(G$9),$A16<YEAR(G$10)),(DATE($A16,12,31)-DATE($A16,1,0))*G$13,IF(AND($A16=YEAR(G$9),$A16=YEAR(G$10)),(G$10-G$9)*G$13,IF($A16=YEAR(G$9),(DATE(YEAR(G$9),12,31)-G$9)*G$13,IF($A16=YEAR(G$10),(G$10-DATE(YEAR(G$10),1,0))*G$13,0)))) -> 0 | H16: =IF(AND($A16>YEAR(H$9),$A16<YEAR(H$10)),(DATE($A16,12,31)-DATE($A16,1,0))*H$13,IF(AND($A16=YEAR(H$9),$A16=YEAR(H$10)),(H$10-H$9)*H$13,IF($A16=YEAR(H$9),(DATE(YEAR(H$9),12,31)-H$9)*H$13,IF($A16=YEAR(H$10),(H$10-DATE(YEAR(H$10),1,0))*H$13,0)))) -> 0 | I16: =IF(AND($A16>YEAR(I$9),$A16<YEAR(I$10)),(DATE($A16,12,31)-DATE($A16,1,0))*I$13,IF(AND($A16=YEAR(I$9),$A16=YEAR(I$10)),(I$10-I$9)*I$13,IF($A16=YEAR(I$9),(DATE(YEAR(I$9),12,31)-I$9)*I$13,IF($A16=YEAR(I$10),(I$10-DATE(YEAR(I$10),1,0))*I$13,0)))) -> 0 | ... R16: =IF(AND($A16>YEAR(R$9),$A16<YEAR(R$10)),(DATE($A16,12,31)-DATE($A16,1,0))*R$13,IF(AND($A16=YEAR(R$9),$A16=YEAR(R$10)),(R$10-R$9)*R$13,IF($A16=YEAR(R$9),(DATE(YEAR(R$9),12,31)-R$9)*R$13,IF($A16=YEAR(R$10),(R$10-DATE(YEAR(R$10),1,0))*R$13,0)))) -> 0 | S16: =SUM(B16:R16) -> 0
A17: 2030 | B17: =IF(AND($A17>YEAR(B$9),$A17<YEAR(B$10)),(DATE($A17,12,31)-DATE($A17,1,0))*B$13,IF(AND($A17=YEAR(B$9),$A17=YEAR(B$10)),(B$10-B$9)*B$13,IF($A17=YEAR(B$9),(DATE(YEAR(B$9),12,31)-B$9)*B$13,IF($A17=YEAR(B$10),(B$10-DATE(YEAR(B$10),1,0))*B$13,0)))) -> 0 | C17: =IF(AND($A17>YEAR(C$9),$A17<YEAR(C$10)),(DATE($A17,12,31)-DATE($A17,1,0))*C$13,IF(AND($A17=YEAR(C$9),$A17=YEAR(C$10)),(C$10-C$9)*C$13,IF($A17=YEAR(C$9),(DATE(YEAR(C$9),12,31)-C$9)*C$13,IF($A17=YEAR(C$10),(C$10-DATE(YEAR(C$10),1,0))*C$13,0)))) -> 0 | D17: =IF(AND($A17>YEAR(D$9),$A17<YEAR(D$10)),(DATE($A17,12,31)-DATE($A17,1,0))*D$13,IF(AND($A17=YEAR(D$9),$A17=YEAR(D$10)),(D$10-D$9)*D$13,IF($A17=YEAR(D$9),(DATE(YEAR(D$9),12,31)-D$9)*D$13,IF($A17=YEAR(D$10),(D$10-DATE(YEAR(D$10),1,0))*D$13,0)))) -> 0 | E17: =IF(AND($A17>YEAR(E$9),$A17<YEAR(E$10)),(DATE($A17,12,31)-DATE($A17,1,0))*E$13,IF(AND($A17=YEAR(E$9),$A17=YEAR(E$10)),(E$10-E$9)*E$13,IF($A17=YEAR(E$9),(DATE(YEAR(E$9),12,31)-E$9)*E$13,IF($A17=YEAR(E$10),(E$10-DATE(YEAR(E$10),1,0))*E$13,0)))) -> 0 | F17: =IF(AND($A17>YEAR(F$9),$A17<YEAR(F$10)),(DATE($A17,12,31)-DATE($A17,1,0))*F$13,IF(AND($A17=YEAR(F$9),$A17=YEAR(F$10)),(F$10-F$9)*F$13,IF($A17=YEAR(F$9),(DATE(YEAR(F$9),12,31)-F$9)*F$13,IF($A17=YEAR(F$10),(F$10-DATE(YEAR(F$10),1,0))*F$13,0)))) -> 0 | G17: =IF(AND($A17>YEAR(G$9),$A17<YEAR(G$10)),(DATE($A17,12,31)-DATE($A17,1,0))*G$13,IF(AND($A17=YEAR(G$9),$A17=YEAR(G$10)),(G$10-G$9)*G$13,IF($A17=YEAR(G$9),(DATE(YEAR(G$9),12,31)-G$9)*G$13,IF($A17=YEAR(G$10),(G$10-DATE(YEAR(G$10),1,0))*G$13,0)))) -> 0 | H17: =IF(AND($A17>YEAR(H$9),$A17<YEAR(H$10)),(DATE($A17,12,31)-DATE($A17,1,0))*H$13,IF(AND($A17=YEAR(H$9),$A17=YEAR(H$10)),(H$10-H$9)*H$13,IF($A17=YEAR(H$9),(DATE(YEAR(H$9),12,31)-H$9)*H$13,IF($A17=YEAR(H$10),(H$10-DATE(YEAR(H$10),1,0))*H$13,0)))) -> 0 | I17: =IF(AND($A17>YEAR(I$9),$A17<YEAR(I$10)),(DATE($A17,12,31)-DATE($A17,1,0))*I$13,IF(AND($A17=YEAR(I$9),$A17=YEAR(I$10)),(I$10-I$9)*I$13,IF($A17=YEAR(I$9),(DATE(YEAR(I$9),12,31)-I$9)*I$13,IF($A17=YEAR(I$10),(I$10-DATE(YEAR(I$10),1,0))*I$13,0)))) -> 0 | ... R17: =IF(AND($A17>YEAR(R$9),$A17<YEAR(R$10)),(DATE($A17,12,31)-DATE($A17,1,0))*R$13,IF(AND($A17=YEAR(R$9),$A17=YEAR(R$10)),(R$10-R$9)*R$13,IF($A17=YEAR(R$9),(DATE(YEAR(R$9),12,31)-R$9)*R$13,IF($A17=YEAR(R$10),(R$10-DATE(YEAR(R$10),1,0))*R$13,0)))) -> 0 | S17: =SUM(B17:R17) -> 0
A18: 2031 | B18: =IF(AND($A18>YEAR(B$9),$A18<YEAR(B$10)),(DATE($A18,12,31)-DATE($A18,1,0))*B$13,IF(AND($A18=YEAR(B$9),$A18=YEAR(B$10)),(B$10-B$9)*B$13,IF($A18=YEAR(B$9),(DATE(YEAR(B$9),12,31)-B$9)*B$13,IF($A18=YEAR(B$10),(B$10-DATE(YEAR(B$10),1,0))*B$13,0)))) -> 0 | C18: =IF(AND($A18>YEAR(C$9),$A18<YEAR(C$10)),(DATE($A18,12,31)-DATE($A18,1,0))*C$13,IF(AND($A18=YEAR(C$9),$A18=YEAR(C$10)),(C$10-C$9)*C$13,IF($A18=YEAR(C$9),(DATE(YEAR(C$9),12,31)-C$9)*C$13,IF($A18=YEAR(C$10),(C$10-DATE(YEAR(C$10),1,0))*C$13,0)))) -> 0 | D18: =IF(AND($A18>YEAR(D$9),$A18<YEAR(D$10)),(DATE($A18,12,31)-DATE($A18,1,0))*D$13,IF(AND($A18=YEAR(D$9),$A18=YEAR(D$10)),(D$10-D$9)*D$13,IF($A18=YEAR(D$9),(DATE(YEAR(D$9),12,31)-D$9)*D$13,IF($A18=YEAR(D$10),(D$10-DATE(YEAR(D$10),1,0))*D$13,0)))) -> 0 | E18: =IF(AND($A18>YEAR(E$9),$A18<YEAR(E$10)),(DATE($A18,12,31)-DATE($A18,1,0))*E$13,IF(AND($A18=YEAR(E$9),$A18=YEAR(E$10)),(E$10-E$9)*E$13,IF($A18=YEAR(E$9),(DATE(YEAR(E$9),12,31)-E$9)*E$13,IF($A18=YEAR(E$10),(E$10-DATE(YEAR(E$10),1,0))*E$13,0)))) -> 0 | F18: =IF(AND($A18>YEAR(F$9),$A18<YEAR(F$10)),(DATE($A18,12,31)-DATE($A18,1,0))*F$13,IF(AND($A18=YEAR(F$9),$A18=YEAR(F$10)),(F$10-F$9)*F$13,IF($A18=YEAR(F$9),(DATE(YEAR(F$9),12,31)-F$9)*F$13,IF($A18=YEAR(F$10),(F$10-DATE(YEAR(F$10),1,0))*F$13,0)))) -> 0 | G18: =IF(AND($A18>YEAR(G$9),$A18<YEAR(G$10)),(DATE($A18,12,31)-DATE($A18,1,0))*G$13,IF(AND($A18=YEAR(G$9),$A18=YEAR(G$10)),(G$10-G$9)*G$13,IF($A18=YEAR(G$9),(DATE(YEAR(G$9),12,31)-G$9)*G$13,IF($A18=YEAR(G$10),(G$10-DATE(YEAR(G$10),1,0))*G$13,0)))) -> 0 | H18: =IF(AND($A18>YEAR(H$9),$A18<YEAR(H$10)),(DATE($A18,12,31)-DATE($A18,1,0))*H$13,IF(AND($A18=YEAR(H$9),$A18=YEAR(H$10)),(H$10-H$9)*H$13,IF($A18=YEAR(H$9),(DATE(YEAR(H$9),12,31)-H$9)*H$13,IF($A18=YEAR(H$10),(H$10-DATE(YEAR(H$10),1,0))*H$13,0)))) -> 0 | I18: =IF(AND($A18>YEAR(I$9),$A18<YEAR(I$10)),(DATE($A18,12,31)-DATE($A18,1,0))*I$13,IF(AND($A18=YEAR(I$9),$A18=YEAR(I$10)),(I$10-I$9)*I$13,IF($A18=YEAR(I$9),(DATE(YEAR(I$9),12,31)-I$9)*I$13,IF($A18=YEAR(I$10),(I$10-DATE(YEAR(I$10),1,0))*I$13,0)))) -> 0 | ... R18: =IF(AND($A18>YEAR(R$9),$A18<YEAR(R$10)),(DATE($A18,12,31)-DATE($A18,1,0))*R$13,IF(AND($A18=YEAR(R$9),$A18=YEAR(R$10)),(R$10-R$9)*R$13,IF($A18=YEAR(R$9),(DATE(YEAR(R$9),12,31)-R$9)*R$13,IF($A18=YEAR(R$10),(R$10-DATE(YEAR(R$10),1,0))*R$13,0)))) -> 0 | S18: =SUM(B18:R18) -> 0
A19: 2032 | B19: =IF(AND($A19>YEAR(B$9),$A19<YEAR(B$10)),(DATE($A19,12,31)-DATE($A19,1,0))*B$13,IF(AND($A19=YEAR(B$9),$A19=YEAR(B$10)),(B$10-B$9)*B$13,IF($A19=YEAR(B$9),(DATE(YEAR(B$9),12,31)-B$9)*B$13,IF($A19=YEAR(B$10),(B$10-DATE(YEAR(B$10),1,0))*B$13,0)))) -> 0 | C19: =IF(AND($A19>YEAR(C$9),$A19<YEAR(C$10)),(DATE($A19,12,31)-DATE($A19,1,0))*C$13,IF(AND($A19=YEAR(C$9),$A19=YEAR(C$10)),(C$10-C$9)*C$13,IF($A19=YEAR(C$9),(DATE(YEAR(C$9),12,31)-C$9)*C$13,IF($A19=YEAR(C$10),(C$10-DATE(YEAR(C$10),1,0))*C$13,0)))) -> 0 | D19: =IF(AND($A19>YEAR(D$9),$A19<YEAR(D$10)),(DATE($A19,12,31)-DATE($A19,1,0))*D$13,IF(AND($A19=YEAR(D$9),$A19=YEAR(D$10)),(D$10-D$9)*D$13,IF($A19=YEAR(D$9),(DATE(YEAR(D$9),12,31)-D$9)*D$13,IF($A19=YEAR(D$10),(D$10-DATE(YEAR(D$10),1,0))*D$13,0)))) -> 0 | E19: =IF(AND($A19>YEAR(E$9),$A19<YEAR(E$10)),(DATE($A19,12,31)-DATE($A19,1,0))*E$13,IF(AND($A19=YEAR(E$9),$A19=YEAR(E$10)),(E$10-E$9)*E$13,IF($A19=YEAR(E$9),(DATE(YEAR(E$9),12,31)-E$9)*E$13,IF($A19=YEAR(E$10),(E$10-DATE(YEAR(E$10),1,0))*E$13,0)))) -> 0 | F19: =IF(AND($A19>YEAR(F$9),$A19<YEAR(F$10)),(DATE($A19,12,31)-DATE($A19,1,0))*F$13,IF(AND($A19=YEAR(F$9),$A19=YEAR(F$10)),(F$10-F$9)*F$13,IF($A19=YEAR(F$9),(DATE(YEAR(F$9),12,31)-F$9)*F$13,IF($A19=YEAR(F$10),(F$10-DATE(YEAR(F$10),1,0))*F$13,0)))) -> 0 | G19: =IF(AND($A19>YEAR(G$9),$A19<YEAR(G$10)),(DATE($A19,12,31)-DATE($A19,1,0))*G$13,IF(AND($A19=YEAR(G$9),$A19=YEAR(G$10)),(G$10-G$9)*G$13,IF($A19=YEAR(G$9),(DATE(YEAR(G$9),12,31)-G$9)*G$13,IF($A19=YEAR(G$10),(G$10-DATE(YEAR(G$10),1,0))*G$13,0)))) -> 0 | H19: =IF(AND($A19>YEAR(H$9),$A19<YEAR(H$10)),(DATE($A19,12,31)-DATE($A19,1,0))*H$13,IF(AND($A19=YEAR(H$9),$A19=YEAR(H$10)),(H$10-H$9)*H$13,IF($A19=YEAR(H$9),(DATE(YEAR(H$9),12,31)-H$9)*H$13,IF($A19=YEAR(H$10),(H$10-DATE(YEAR(H$10),1,0))*H$13,0)))) -> 0 | I19: =IF(AND($A19>YEAR(I$9),$A19<YEAR(I$10)),(DATE($A19,12,31)-DATE($A19,1,0))*I$13,IF(AND($A19=YEAR(I$9),$A19=YEAR(I$10)),(I$10-I$9)*I$13,IF($A19=YEAR(I$9),(DATE(YEAR(I$9),12,31)-I$9)*I$13,IF($A19=YEAR(I$10),(I$10-DATE(YEAR(I$10),1,0))*I$13,0)))) -> 0 | ... R19: =IF(AND($A19>YEAR(R$9),$A19<YEAR(R$10)),(DATE($A19,12,31)-DATE($A19,1,0))*R$13,IF(AND($A19=YEAR(R$9),$A19=YEAR(R$10)),(R$10-R$9)*R$13,IF($A19=YEAR(R$9),(DATE(YEAR(R$9),12,31)-R$9)*R$13,IF($A19=YEAR(R$10),(R$10-DATE(YEAR(R$10),1,0))*R$13,0)))) -> 0 | S19: =SUM(B19:R19) -> 0
A20: 2033 | B20: =IF(AND($A20>YEAR(B$9),$A20<YEAR(B$10)),(DATE($A20,12,31)-DATE($A20,1,0))*B$13,IF(AND($A20=YEAR(B$9),$A20=YEAR(B$10)),(B$10-B$9)*B$13,IF($A20=YEAR(B$9),(DATE(YEAR(B$9),12,31)-B$9)*B$13,IF($A20=YEAR(B$10),(B$10-DATE(YEAR(B$10),1,0))*B$13,0)))) -> 0 | C20: =IF(AND($A20>YEAR(C$9),$A20<YEAR(C$10)),(DATE($A20,12,31)-DATE($A20,1,0))*C$13,IF(AND($A20=YEAR(C$9),$A20=YEAR(C$10)),(C$10-C$9)*C$13,IF($A20=YEAR(C$9),(DATE(YEAR(C$9),12,31)-C$9)*C$13,IF($A20=YEAR(C$10),(C$10-DATE(YEAR(C$10),1,0))*C$13,0)))) -> 0 | D20: =IF(AND($A20>YEAR(D$9),$A20<YEAR(D$10)),(DATE($A20,12,31)-DATE($A20,1,0))*D$13,IF(AND($A20=YEAR(D$9),$A20=YEAR(D$10)),(D$10-D$9)*D$13,IF($A20=YEAR(D$9),(DATE(YEAR(D$9),12,31)-D$9)*D$13,IF($A20=YEAR(D$10),(D$10-DATE(YEAR(D$10),1,0))*D$13,0)))) -> 0 | E20: =IF(AND($A20>YEAR(E$9),$A20<YEAR(E$10)),(DATE($A20,12,31)-DATE($A20,1,0))*E$13,IF(AND($A20=YEAR(E$9),$A20=YEAR(E$10)),(E$10-E$9)*E$13,IF($A20=YEAR(E$9),(DATE(YEAR(E$9),12,31)-E$9)*E$13,IF($A20=YEAR(E$10),(E$10-DATE(YEAR(E$10),1,0))*E$13,0)))) -> 0 | F20: =IF(AND($A20>YEAR(F$9),$A20<YEAR(F$10)),(DATE($A20,12,31)-DATE($A20,1,0))*F$13,IF(AND($A20=YEAR(F$9),$A20=YEAR(F$10)),(F$10-F$9)*F$13,IF($A20=YEAR(F$9),(DATE(YEAR(F$9),12,31)-F$9)*F$13,IF($A20=YEAR(F$10),(F$10-DATE(YEAR(F$10),1,0))*F$13,0)))) -> 0 | G20: =IF(AND($A20>YEAR(G$9),$A20<YEAR(G$10)),(DATE($A20,12,31)-DATE($A20,1,0))*G$13,IF(AND($A20=YEAR(G$9),$A20=YEAR(G$10)),(G$10-G$9)*G$13,IF($A20=YEAR(G$9),(DATE(YEAR(G$9),12,31)-G$9)*G$13,IF($A20=YEAR(G$10),(G$10-DATE(YEAR(G$10),1,0))*G$13,0)))) -> 0 | H20: =IF(AND($A20>YEAR(H$9),$A20<YEAR(H$10)),(DATE($A20,12,31)-DATE($A20,1,0))*H$13,IF(AND($A20=YEAR(H$9),$A20=YEAR(H$10)),(H$10-H$9)*H$13,IF($A20=YEAR(H$9),(DATE(YEAR(H$9),12,31)-H$9)*H$13,IF($A20=YEAR(H$10),(H$10-DATE(YEAR(H$10),1,0))*H$13,0)))) -> 0 | I20: =IF(AND($A20>YEAR(I$9),$A20<YEAR(I$10)),(DATE($A20,12,31)-DATE($A20,1,0))*I$13,IF(AND($A20=YEAR(I$9),$A20=YEAR(I$10)),(I$10-I$9)*I$13,IF($A20=YEAR(I$9),(DATE(YEAR(I$9),12,31)-I$9)*I$13,IF($A20=YEAR(I$10),(I$10-DATE(YEAR(I$10),1,0))*I$13,0)))) -> 0 | ... R20: =IF(AND($A20>YEAR(R$9),$A20<YEAR(R$10)),(DATE($A20,12,31)-DATE($A20,1,0))*R$13,IF(AND($A20=YEAR(R$9),$A20=YEAR(R$10)),(R$10-R$9)*R$13,IF($A20=YEAR(R$9),(DATE(YEAR(R$9),12,31)-R$9)*R$13,IF($A20=YEAR(R$10),(R$10-DATE(YEAR(R$10),1,0))*R$13,0)))) -> 0 | S20: =SUM(B20:R20) -> 0
A21: 2034 | B21: =IF(AND($A21>YEAR(B$9),$A21<YEAR(B$10)),(DATE($A21,12,31)-DATE($A21,1,0))*B$13,IF(AND($A21=YEAR(B$9),$A21=YEAR(B$10)),(B$10-B$9)*B$13,IF($A21=YEAR(B$9),(DATE(YEAR(B$9),12,31)-B$9)*B$13,IF($A21=YEAR(B$10),(B$10-DATE(YEAR(B$10),1,0))*B$13,0)))) -> 0 | C21: =IF(AND($A21>YEAR(C$9),$A21<YEAR(C$10)),(DATE($A21,12,31)-DATE($A21,1,0))*C$13,IF(AND($A21=YEAR(C$9),$A21=YEAR(C$10)),(C$10-C$9)*C$13,IF($A21=YEAR(C$9),(DATE(YEAR(C$9),12,31)-C$9)*C$13,IF($A21=YEAR(C$10),(C$10-DATE(YEAR(C$10),1,0))*C$13,0)))) -> 0 | D21: =IF(AND($A21>YEAR(D$9),$A21<YEAR(D$10)),(DATE($A21,12,31)-DATE($A21,1,0))*D$13,IF(AND($A21=YEAR(D$9),$A21=YEAR(D$10)),(D$10-D$9)*D$13,IF($A21=YEAR(D$9),(DATE(YEAR(D$9),12,31)-D$9)*D$13,IF($A21=YEAR(D$10),(D$10-DATE(YEAR(D$10),1,0))*D$13,0)))) -> 0 | E21: =IF(AND($A21>YEAR(E$9),$A21<YEAR(E$10)),(DATE($A21,12,31)-DATE($A21,1,0))*E$13,IF(AND($A21=YEAR(E$9),$A21=YEAR(E$10)),(E$10-E$9)*E$13,IF($A21=YEAR(E$9),(DATE(YEAR(E$9),12,31)-E$9)*E$13,IF($A21=YEAR(E$10),(E$10-DATE(YEAR(E$10),1,0))*E$13,0)))) -> 0 | F21: =IF(AND($A21>YEAR(F$9),$A21<YEAR(F$10)),(DATE($A21,12,31)-DATE($A21,1,0))*F$13,IF(AND($A21=YEAR(F$9),$A21=YEAR(F$10)),(F$10-F$9)*F$13,IF($A21=YEAR(F$9),(DATE(YEAR(F$9),12,31)-F$9)*F$13,IF($A21=YEAR(F$10),(F$10-DATE(YEAR(F$10),1,0))*F$13,0)))) -> 0 | G21: =IF(AND($A21>YEAR(G$9),$A21<YEAR(G$10)),(DATE($A21,12,31)-DATE($A21,1,0))*G$13,IF(AND($A21=YEAR(G$9),$A21=YEAR(G$10)),(G$10-G$9)*G$13,IF($A21=YEAR(G$9),(DATE(YEAR(G$9),12,31)-G$9)*G$13,IF($A21=YEAR(G$10),(G$10-DATE(YEAR(G$10),1,0))*G$13,0)))) -> 0 | H21: =IF(AND($A21>YEAR(H$9),$A21<YEAR(H$10)),(DATE($A21,12,31)-DATE($A21,1,0))*H$13,IF(AND($A21=YEAR(H$9),$A21=YEAR(H$10)),(H$10-H$9)*H$13,IF($A21=YEAR(H$9),(DATE(YEAR(H$9),12,31)-H$9)*H$13,IF($A21=YEAR(H$10),(H$10-DATE(YEAR(H$10),1,0))*H$13,0)))) -> 0 | I21: =IF(AND($A21>YEAR(I$9),$A21<YEAR(I$10)),(DATE($A21,12,31)-DATE($A21,1,0))*I$13,IF(AND($A21=YEAR(I$9),$A21=YEAR(I$10)),(I$10-I$9)*I$13,IF($A21=YEAR(I$9),(DATE(YEAR(I$9),12,31)-I$9)*I$13,IF($A21=YEAR(I$10),(I$10-DATE(YEAR(I$10),1,0))*I$13,0)))) -> 0 | ... R21: =IF(AND($A21>YEAR(R$9),$A21<YEAR(R$10)),(DATE($A21,12,31)-DATE($A21,1,0))*R$13,IF(AND($A21=YEAR(R$9),$A21=YEAR(R$10)),(R$10-R$9)*R$13,IF($A21=YEAR(R$9),(DATE(YEAR(R$9),12,31)-R$9)*R$13,IF($A21=YEAR(R$10),(R$10-DATE(YEAR(R$10),1,0))*R$13,0)))) -> 0 | S21: =SUM(B21:R21) -> 0
A22: 2035 | B22: =IF(AND($A22>YEAR(B$9),$A22<YEAR(B$10)),(DATE($A22,12,31)-DATE($A22,1,0))*B$13,IF(AND($A22=YEAR(B$9),$A22=YEAR(B$10)),(B$10-B$9)*B$13,IF($A22=YEAR(B$9),(DATE(YEAR(B$9),12,31)-B$9)*B$13,IF($A22=YEAR(B$10),(B$10-DATE(YEAR(B$10),1,0))*B$13,0)))) -> 0 | C22: =IF(AND($A22>YEAR(C$9),$A22<YEAR(C$10)),(DATE($A22,12,31)-DATE($A22,1,0))*C$13,IF(AND($A22=YEAR(C$9),$A22=YEAR(C$10)),(C$10-C$9)*C$13,IF($A22=YEAR(C$9),(DATE(YEAR(C$9),12,31)-C$9)*C$13,IF($A22=YEAR(C$10),(C$10-DATE(YEAR(C$10),1,0))*C$13,0)))) -> 0 | D22: =IF(AND($A22>YEAR(D$9),$A22<YEAR(D$10)),(DATE($A22,12,31)-DATE($A22,1,0))*D$13,IF(AND($A22=YEAR(D$9),$A22=YEAR(D$10)),(D$10-D$9)*D$13,IF($A22=YEAR(D$9),(DATE(YEAR(D$9),12,31)-D$9)*D$13,IF($A22=YEAR(D$10),(D$10-DATE(YEAR(D$10),1,0))*D$13,0)))) -> 0 | E22: =IF(AND($A22>YEAR(E$9),$A22<YEAR(E$10)),(DATE($A22,12,31)-DATE($A22,1,0))*E$13,IF(AND($A22=YEAR(E$9),$A22=YEAR(E$10)),(E$10-E$9)*E$13,IF($A22=YEAR(E$9),(DATE(YEAR(E$9),12,31)-E$9)*E$13,IF($A22=YEAR(E$10),(E$10-DATE(YEAR(E$10),1,0))*E$13,0)))) -> 0 | F22: =IF(AND($A22>YEAR(F$9),$A22<YEAR(F$10)),(DATE($A22,12,31)-DATE($A22,1,0))*F$13,IF(AND($A22=YEAR(F$9),$A22=YEAR(F$10)),(F$10-F$9)*F$13,IF($A22=YEAR(F$9),(DATE(YEAR(F$9),12,31)-F$9)*F$13,IF($A22=YEAR(F$10),(F$10-DATE(YEAR(F$10),1,0))*F$13,0)))) -> 0 | G22: =IF(AND($A22>YEAR(G$9),$A22<YEAR(G$10)),(DATE($A22,12,31)-DATE($A22,1,0))*G$13,IF(AND($A22=YEAR(G$9),$A22=YEAR(G$10)),(G$10-G$9)*G$13,IF($A22=YEAR(G$9),(DATE(YEAR(G$9),12,31)-G$9)*G$13,IF($A22=YEAR(G$10),(G$10-DATE(YEAR(G$10),1,0))*G$13,0)))) -> 0 | H22: =IF(AND($A22>YEAR(H$9),$A22<YEAR(H$10)),(DATE($A22,12,31)-DATE($A22,1,0))*H$13,IF(AND($A22=YEAR(H$9),$A22=YEAR(H$10)),(H$10-H$9)*H$13,IF($A22=YEAR(H$9),(DATE(YEAR(H$9),12,31)-H$9)*H$13,IF($A22=YEAR(H$10),(H$10-DATE(YEAR(H$10),1,0))*H$13,0)))) -> 0 | I22: =IF(AND($A22>YEAR(I$9),$A22<YEAR(I$10)),(DATE($A22,12,31)-DATE($A22,1,0))*I$13,IF(AND($A22=YEAR(I$9),$A22=YEAR(I$10)),(I$10-I$9)*I$13,IF($A22=YEAR(I$9),(DATE(YEAR(I$9),12,31)-I$9)*I$13,IF($A22=YEAR(I$10),(I$10-DATE(YEAR(I$10),1,0))*I$13,0)))) -> 0 | ... R22: =IF(AND($A22>YEAR(R$9),$A22<YEAR(R$10)),(DATE($A22,12,31)-DATE($A22,1,0))*R$13,IF(AND($A22=YEAR(R$9),$A22=YEAR(R$10)),(R$10-R$9)*R$13,IF($A22=YEAR(R$9),(DATE(YEAR(R$9),12,31)-R$9)*R$13,IF($A22=YEAR(R$10),(R$10-DATE(YEAR(R$10),1,0))*R$13,0)))) -> 0 | S22: =SUM(B22:R22) -> 0
A23: 2036 | B23: =IF(AND($A23>YEAR(B$9),$A23<YEAR(B$10)),(DATE($A23,12,31)-DATE($A23,1,0))*B$13,IF(AND($A23=YEAR(B$9),$A23=YEAR(B$10)),(B$10-B$9)*B$13,IF($A23=YEAR(B$9),(DATE(YEAR(B$9),12,31)-B$9)*B$13,IF($A23=YEAR(B$10),(B$10-DATE(YEAR(B$10),1,0))*B$13,0)))) -> 0 | C23: =IF(AND($A23>YEAR(C$9),$A23<YEAR(C$10)),(DATE($A23,12,31)-DATE($A23,1,0))*C$13,IF(AND($A23=YEAR(C$9),$A23=YEAR(C$10)),(C$10-C$9)*C$13,IF($A23=YEAR(C$9),(DATE(YEAR(C$9),12,31)-C$9)*C$13,IF($A23=YEAR(C$10),(C$10-DATE(YEAR(C$10),1,0))*C$13,0)))) -> 0 | D23: =IF(AND($A23>YEAR(D$9),$A23<YEAR(D$10)),(DATE($A23,12,31)-DATE($A23,1,0))*D$13,IF(AND($A23=YEAR(D$9),$A23=YEAR(D$10)),(D$10-D$9)*D$13,IF($A23=YEAR(D$9),(DATE(YEAR(D$9),12,31)-D$9)*D$13,IF($A23=YEAR(D$10),(D$10-DATE(YEAR(D$10),1,0))*D$13,0)))) -> 0 | E23: =IF(AND($A23>YEAR(E$9),$A23<YEAR(E$10)),(DATE($A23,12,31)-DATE($A23,1,0))*E$13,IF(AND($A23=YEAR(E$9),$A23=YEAR(E$10)),(E$10-E$9)*E$13,IF($A23=YEAR(E$9),(DATE(YEAR(E$9),12,31)-E$9)*E$13,IF($A23=YEAR(E$10),(E$10-DATE(YEAR(E$10),1,0))*E$13,0)))) -> 0 | F23: =IF(AND($A23>YEAR(F$9),$A23<YEAR(F$10)),(DATE($A23,12,31)-DATE($A23,1,0))*F$13,IF(AND($A23=YEAR(F$9),$A23=YEAR(F$10)),(F$10-F$9)*F$13,IF($A23=YEAR(F$9),(DATE(YEAR(F$9),12,31)-F$9)*F$13,IF($A23=YEAR(F$10),(F$10-DATE(YEAR(F$10),1,0))*F$13,0)))) -> 0 | G23: =IF(AND($A23>YEAR(G$9),$A23<YEAR(G$10)),(DATE($A23,12,31)-DATE($A23,1,0))*G$13,IF(AND($A23=YEAR(G$9),$A23=YEAR(G$10)),(G$10-G$9)*G$13,IF($A23=YEAR(G$9),(DATE(YEAR(G$9),12,31)-G$9)*G$13,IF($A23=YEAR(G$10),(G$10-DATE(YEAR(G$10),1,0))*G$13,0)))) -> 0 | H23: =IF(AND($A23>YEAR(H$9),$A23<YEAR(H$10)),(DATE($A23,12,31)-DATE($A23,1,0))*H$13,IF(AND($A23=YEAR(H$9),$A23=YEAR(H$10)),(H$10-H$9)*H$13,IF($A23=YEAR(H$9),(DATE(YEAR(H$9),12,31)-H$9)*H$13,IF($A23=YEAR(H$10),(H$10-DATE(YEAR(H$10),1,0))*H$13,0)))) -> 0 | I23: =IF(AND($A23>YEAR(I$9),$A23<YEAR(I$10)),(DATE($A23,12,31)-DATE($A23,1,0))*I$13,IF(AND($A23=YEAR(I$9),$A23=YEAR(I$10)),(I$10-I$9)*I$13,IF($A23=YEAR(I$9),(DATE(YEAR(I$9),12,31)-I$9)*I$13,IF($A23=YEAR(I$10),(I$10-DATE(YEAR(I$10),1,0))*I$13,0)))) -> 0 | ... R23: =IF(AND($A23>YEAR(R$9),$A23<YEAR(R$10)),(DATE($A23,12,31)-DATE($A23,1,0))*R$13,IF(AND($A23=YEAR(R$9),$A23=YEAR(R$10)),(R$10-R$9)*R$13,IF($A23=YEAR(R$9),(DATE(YEAR(R$9),12,31)-R$9)*R$13,IF($A23=YEAR(R$10),(R$10-DATE(YEAR(R$10),1,0))*R$13,0)))) -> 0 | S23: =SUM(B23:R23) -> 0
A25: Totaal | B25: =SUM(B16:B23) -> 0 | C25: =SUM(C16:C23) -> 0 | D25: =SUM(D16:D23) -> 0 | E25: =SUM(E16:E23) -> 0 | F25: =SUM(F16:F23) -> 0 | G25: =SUM(G16:G23) -> 0 | H25: =SUM(H16:H23) -> 0 | I25: =SUM(I16:I23) -> 0 | ... R25: =SUM(R16:R23) -> 0
A27: VERWACHTE OVERNAMEWAARDE | B27: =B8-B25 -> 0 | C27: =C8-C25 -> 0 | D27: =D8-D25 -> 0 | E27: =E8-E25 -> 0 | F27: =F8-F25 -> 0 | G27: =G8-G25 -> 0 | H27: =H8-H25 -> 0 | I27: =I8-I25 -> 0 | ... R27: =R8-R25 -> 0
A28: Controle | B28: =(B11-B12)*B13-B27 -> 0 | C28: =(C11-C12)*C13-C27 -> 0 | D28: =(D11-D12)*D13-D27 -> 0 | E28: =(E11-E12)*E13-E27 -> 0 | F28: =(F11-F12)*F13-F27 -> 0 | G28: =(G11-G12)*G13-G27 -> 0 | H28: =(H11-H12)*H13-H27 -> 0 | I28: =(I11-I12)*I13-I27 -> 0 | ... R28: =(R11-R12)*R13-R27 -> 0

Sheet B.03
A1: B.03 Onderhoudskosten Laadinfrastructuur | F1: Instructie | G1: Vul de oranje cellen in
A2: terug
B4: Omschrijving Laadinfrastructuur | C4: … | D4: … | E4: … | F4: … | G4: … | H4: … | I4: …
A6: Totaal Onderhoudskosten op jaarbasis
A8: Nr | B8: Kalenderjaar | C8: =C4 -> … | D8: =D4 -> … | E8: =E4 -> … | F8: =F4 -> … | G8: =G4 -> … | H8: =H4 -> … | I8: =I4 -> … | J8: Totaal
A9: 1 | B9: 2029 | J9: =SUM(C9:I9) -> 0
A10: =A9+1 -> 2 | B10: =B9+1 -> 2030 | J10: =SUM(C10:I10) -> 0
A11: =A10+1 -> 3 | B11: =B10+1 -> 2031 | J11: =SUM(C11:I11) -> 0
A12: =A11+1 -> 4 | B12: =B11+1 -> 2032 | J12: =SUM(C12:I12) -> 0
A13: =A12+1 -> 5 | B13: =B12+1 -> 2033 | J13: =SUM(C13:I13) -> 0
A14: =A13+1 -> 6 | B14: =B13+1 -> 2034 | J14: =SUM(C14:I14) -> 0
A15: =A14+1 -> 7 | B15: =B14+1 -> 2035 | J15: =SUM(C15:I15) -> 0
A16: =A15+1 -> 8 | B16: =B15+1 -> 2036 | J16: =SUM(C16:I16) -> 0
A18: Totaal | C18: =SUM(C9:C16) -> 0 | D18: =SUM(D9:D16) -> 0 | E18: =SUM(E9:E16) -> 0 | F18: =SUM(F9:F16) -> 0 | G18: =SUM(G9:G16) -> 0 | H18: =SUM(H9:H16) -> 0 | I18: =SUM(I9:I16) -> 0 | J18: =SUM(J9:J16) -> 0

Sheet B.05
A1: B.05 Reguliere onderhoudskosten Schepen | F1: Instructie | G1: Vul de oranje cellen in
A2: terug
B4: Omschrijving type schip | C4: … | D4: … | E4: … | F4: … | G4: … | H4: … | I4: …
A6: Totaal Onderhoudskosten op jaarbasis
A8: Nr | B8: Kalenderjaar | C8: =C4 -> … | D8: =D4 -> … | E8: =E4 -> … | F8: =F4 -> … | G8: =G4 -> … | H8: =H4 -> … | I8: =I4 -> … | J8: Totaal
A9: 1 | B9: 2029 | J9: =SUM(C9:I9) -> 0
A10: =A9+1 -> 2 | B10: =B9+1 -> 2030 | J10: =SUM(C10:I10) -> 0
A11: =A10+1 -> 3 | B11: =B10+1 -> 2031 | J11: =SUM(C11:I11) -> 0
A12: =A11+1 -> 4 | B12: =B11+1 -> 2032 | J12: =SUM(C12:I12) -> 0
